{"text_format":"1","workbook":"xlsx","n_sheets":7,"sheets":["Identification","Results","Actions","PICG Comments","Control Chart","Version","Calculations"],"not_rendered":{"charts":2,"images":8,"macros":1,"external_links":0,"defined_names":10,"comments":0,"pivot_tables":0},"unopened":[],"bounds":{"document_bytes":16777216,"sheet_cells":100000,"rows_first":2000,"rows_last":500,"rows_between":2000,"halvings":0,"cell_chars":16384,"cell_head_chars":4096},"cells_cut":0,"cells_raw":0,"read":"whole","date_system":"1900"}

{"sheet":"Identification","index":0,"n_rows":26,"n_cols":5,"rows_kept":26,"cut":false,"hidden":false,"merged":[[1,1,1,3],[3,1,3,3],[25,1,26,1],[4,1,4,3],[12,1,12,3],[2,1,2,3],[8,2,9,2],[8,3,9,3]]}
["Department or Team",null,"Indicator Manager"]
["Title of Indicator"]
["Instructions","Make sure the title is a statement about the indicator. The title will appear on the graph, and it should make sense in comparison with the data. Make sure the file name also reflects the title and department."]
["Description:",null,null,null,"Text\nwill\nwrap"]
["Filename",{"$f":"MID(CELL(\"filename\"),FIND(\"[\",CELL(\"filename\"),1)+1,(FIND(\"]\",CELL(\"filename\"),1)-FIND(\"[\",CELL(\"filename\"),1)-1))","v":"Copy of Blank Indicator File Version 3.5.xlsm"},null,null,"This field will be automatically populated with the name of the file when you save it"]
["Data collection frequency",null,"Reporting frequency:"]
["Type",null,"Prioritization"]
["Benchmarking data available?",null,"Reasons for monitoring",null,"Text\nwill\nwrap"]
["What is the population to be studied? [denominator]",null,"Source of data",null,"Text\nwill\nwrap"]
["What is the expected sample size in each monitoring period?"]
["What constitutes an exclusion from the population?",null,"Source of data",null,"Text\nwill\nwrap"]
["What constitutes a result of interest? [numerator]",null,"Source of data",null,"Text\nwill\nwrap"]
["Comments",null,null,null,"Text\nwill\nwrap"]
[false,false,null,"© Phelps Memorial Hospital Center 2001-2019 (Ver 3.5)"]
[false,false]
[true,false]
[false,false]
[false,false]
[true]
[false]
[false]
[false]
[false]
[false]
[false]
[false]

{"sheet":"Results","index":1,"n_rows":61,"n_cols":9,"rows_kept":61,"cut":false,"hidden":false,"merged":[]}
[{"$f":"IF(ISBLANK(Title),\"\",Title)","v":""}]
[{"$f":"IF(ISBLANK(Department),\"\",Department)","v":""},null,null,null,null,"Upper threshold comparison:",1]
["Enter conclusions, corrective actions and plans on Actions worksheet.",null,null,null,null,"Lower threshold comparison:",0.95]
["Last month of period of study","Sample size (after removing exclusions)","Number meeting criteria of interest","% meeting\ncriteria"]
["Date as mm / 01 / yy","Number entry","Number entry","Automatic"]
[null,null,null,{"$f":"IF(ISBLANK(C6),\"\",C6/B6)","v":""}]
[null,null,null,{"$f":"IF(ISBLANK(C7),\"\",C7/B7)","v":""}]
[null,null,null,{"$f":"IF(ISBLANK(C8),\"\",C8/B8)","v":""}]
[null,null,null,{"$f":"IF(ISBLANK(C9),\"\",C9/B9)","v":""}]
[null,null,null,{"$f":"IF(ISBLANK(C10),\"\",C10/B10)","v":""}]
[null,null,null,""]
[null,null,null,""]
[null,null,null,""]
[null,null,null,""]
[null,null,null,""]
[null,null,null,""]
[null,null,null,""]
[null,null,null,""]
[null,null,null,""]
[null,null,null,""]
[null,null,null,""]
[null,null,null,"",null,"Upper limit of graph (%): ",1]
[null,null,null,"",null,"Lower limit of graph (%): ",0]
[null,null,null,"",null,null,"Press enter after changing limit,  then Update."]
[null,null,null,""]
[null,null,null,{"$f":"IF(ISBLANK(C26),\"\",C26/B26)","v":""},null,"                        X-axis interval:",1,null,"Use these controls to change the appearance of the graph. Make it look nice!"]
[null,null,null,""]
[null,null,null,""]
[null,null,null,"",null,"                        Y-axis decimals:",0]
[null,null,null,""]
[null,null,null,""]
[null,null,null,"",null,null,null,"© Phelps Memorial Hospital Center 2001-2004"]
[null,null,null,""]
[null,null,null,""]
[null,null,null,""]
[null,null,null,{"$f":"IF(ISBLANK(C36),\"\",C36/B36)","v":""}]
[null,null,null,""]
[null,null,null,""]
[null,null,null,""]
[null,null,null,""]
[null,null,null,""]
[null,null,null,""]
[null,null,null,""]
[null,null,null,""]
[null,null,null,""]
[null,null,null,{"$f":"IF(ISBLANK(C46),\"\",C46/B46)","v":""}]
[null,null,null,""]
[null,null,null,""]
[null,null,null,""]
[null,null,null,""]
[null,null,null,""]
[null,null,null,""]
[null,null,null,""]
[null,null,null,""]
[null,null,null,""]
[null,null,null,""]
[null,null,null,""]
[null,null,null,""]
[null,null,null,""]
[null,null,null,""]
["If you need more space, contact Dr. Faltz!"]

{"sheet":"Actions","index":2,"n_rows":59,"n_cols":2,"rows_kept":59,"cut":false,"hidden":false,"merged":[]}
[{"$f":"IF(ISBLANK(Title),\"\",Title)","v":""}]
[{"$f":"IF(ISBLANK(Department),\"\",Department)","v":""}]
[null,"The entries in this section will word wrap and the box will expand. Make a paragraph with Alt-Enter."]
["Period of study (dates)","Conclusions/Plans/Corrective Actions"]
[{"$f":"IF(ISBLANK(Results!A6),\"\",Results!A6)","v":""}]
[{"$f":"IF(ISBLANK(Results!A7),\"\",Results!A7)","v":""}]
[{"$f":"IF(ISBLANK(Results!A8),\"\",Results!A8)","v":""}]
[{"$f":"IF(ISBLANK(Results!A9),\"\",Results!A9)","v":""}]
[{"$f":"IF(ISBLANK(Results!A10),\"\",Results!A10)","v":""}]
[{"$f":"IF(ISBLANK(Results!A11),\"\",Results!A11)","v":""}]
[{"$f":"IF(ISBLANK(Results!A12),\"\",Results!A12)","v":""}]
[{"$f":"IF(ISBLANK(Results!A13),\"\",Results!A13)","v":""}]
[{"$f":"IF(ISBLANK(Results!A14),\"\",Results!A14)","v":""}]
[{"$f":"IF(ISBLANK(Results!A15),\"\",Results!A15)","v":""}]
[{"$f":"IF(ISBLANK(Results!A16),\"\",Results!A16)","v":""}]
[{"$f":"IF(ISBLANK(Results!A17),\"\",Results!A17)","v":""}]
[{"$f":"IF(ISBLANK(Results!A18),\"\",Results!A18)","v":""}]
[{"$f":"IF(ISBLANK(Results!A19),\"\",Results!A19)","v":""}]
[{"$f":"IF(ISBLANK(Results!A20),\"\",Results!A20)","v":""}]
[{"$f":"IF(ISBLANK(Results!A21),\"\",Results!A21)","v":""}]
[{"$f":"IF(ISBLANK(Results!A22),\"\",Results!A22)","v":""}]
[{"$f":"IF(ISBLANK(Results!A23),\"\",Results!A23)","v":""}]
[{"$f":"IF(ISBLANK(Results!A24),\"\",Results!A24)","v":""}]
[{"$f":"IF(ISBLANK(Results!A25),\"\",Results!A25)","v":""}]
[{"$f":"IF(ISBLANK(Results!A26),\"\",Results!A26)","v":""}]
[{"$f":"IF(ISBLANK(Results!A27),\"\",Results!A27)","v":""}]
[{"$f":"IF(ISBLANK(Results!A28),\"\",Results!A28)","v":""}]
[{"$f":"IF(ISBLANK(Results!A29),\"\",Results!A29)","v":""}]
[{"$f":"IF(ISBLANK(Results!A30),\"\",Results!A30)","v":""}]
[{"$f":"IF(ISBLANK(Results!A31),\"\",Results!A31)","v":""}]
[{"$f":"IF(ISBLANK(Results!A32),\"\",Results!A32)","v":""}]
[{"$f":"IF(ISBLANK(Results!A33),\"\",Results!A33)","v":""}]
[{"$f":"IF(ISBLANK(Results!A34),\"\",Results!A34)","v":""}]
[{"$f":"IF(ISBLANK(Results!A35),\"\",Results!A35)","v":""}]
[{"$f":"IF(ISBLANK(Results!A36),\"\",Results!A36)","v":""}]
[{"$f":"IF(ISBLANK(Results!A37),\"\",Results!A37)","v":""}]
[{"$f":"IF(ISBLANK(Results!A38),\"\",Results!A38)","v":""}]
[{"$f":"IF(ISBLANK(Results!A39),\"\",Results!A39)","v":""}]
[{"$f":"IF(ISBLANK(Results!A40),\"\",Results!A40)","v":""}]
[{"$f":"IF(ISBLANK(Results!A41),\"\",Results!A41)","v":""}]
[{"$f":"IF(ISBLANK(Results!A42),\"\",Results!A42)","v":""}]
[{"$f":"IF(ISBLANK(Results!A43),\"\",Results!A43)","v":""}]
[{"$f":"IF(ISBLANK(Results!A44),\"\",Results!A44)","v":""}]
[{"$f":"IF(ISBLANK(Results!A45),\"\",Results!A45)","v":""}]
[{"$f":"IF(ISBLANK(Results!A46),\"\",Results!A46)","v":""}]
[{"$f":"IF(ISBLANK(Results!A47),\"\",Results!A47)","v":""}]
[{"$f":"IF(ISBLANK(Results!A48),\"\",Results!A48)","v":""}]
[{"$f":"IF(ISBLANK(Results!A49),\"\",Results!A49)","v":""}]
[{"$f":"IF(ISBLANK(Results!A50),\"\",Results!A50)","v":""}]
[{"$f":"IF(ISBLANK(Results!A51),\"\",Results!A51)","v":""}]
[{"$f":"IF(ISBLANK(Results!A52),\"\",Results!A52)","v":""}]
[{"$f":"IF(ISBLANK(Results!A53),\"\",Results!A53)","v":""}]
[{"$f":"IF(ISBLANK(Results!A54),\"\",Results!A54)","v":""}]
[{"$f":"IF(ISBLANK(Results!A55),\"\",Results!A55)","v":""}]
[{"$f":"IF(ISBLANK(Results!A56),\"\",Results!A56)","v":""}]
[{"$f":"IF(ISBLANK(Results!A57),\"\",Results!A57)","v":""}]
[{"$f":"IF(ISBLANK(Results!A58),\"\",Results!A58)","v":""}]
[{"$f":"IF(ISBLANK(Results!A59),\"\",Results!A59)","v":""}]
[{"$f":"IF(ISBLANK(Results!A60),\"\",Results!A60)","v":""}]

{"sheet":"PICG Comments","index":3,"n_rows":61,"n_cols":2,"rows_kept":61,"cut":false,"hidden":false,"merged":[]}
["This section for use by PICG only. Unprotect it with the appropriate password."]
[]
[{"$f":"IF(ISBLANK(Title),\"\",Title)","v":""}]
[{"$f":"IF(ISBLANK(Department),\"\",Department)","v":""}]
[null,"The entries in this section will word wrap and the box will expand. Make a paragraph with Alt-Enter."]
["Period of study (dates)","Conclusions/Plans/Corrective Actions"]
[{"$f":"IF(ISBLANK(Results!A6),\"\",Results!A6)","v":""}]
[{"$f":"IF(ISBLANK(Results!A7),\"\",Results!A7)","v":""}]
[{"$f":"IF(ISBLANK(Results!A8),\"\",Results!A8)","v":""}]
[{"$f":"IF(ISBLANK(Results!A9),\"\",Results!A9)","v":""}]
[{"$f":"IF(ISBLANK(Results!A10),\"\",Results!A10)","v":""}]
[{"$f":"IF(ISBLANK(Results!A11),\"\",Results!A11)","v":""}]
[{"$f":"IF(ISBLANK(Results!A12),\"\",Results!A12)","v":""}]
[{"$f":"IF(ISBLANK(Results!A13),\"\",Results!A13)","v":""}]
[{"$f":"IF(ISBLANK(Results!A14),\"\",Results!A14)","v":""}]
[{"$f":"IF(ISBLANK(Results!A15),\"\",Results!A15)","v":""}]
[{"$f":"IF(ISBLANK(Results!A16),\"\",Results!A16)","v":""}]
[{"$f":"IF(ISBLANK(Results!A17),\"\",Results!A17)","v":""}]
[{"$f":"IF(ISBLANK(Results!A18),\"\",Results!A18)","v":""}]
[{"$f":"IF(ISBLANK(Results!A19),\"\",Results!A19)","v":""}]
[{"$f":"IF(ISBLANK(Results!A20),\"\",Results!A20)","v":""}]
[{"$f":"IF(ISBLANK(Results!A21),\"\",Results!A21)","v":""}]
[{"$f":"IF(ISBLANK(Results!A22),\"\",Results!A22)","v":""}]
[{"$f":"IF(ISBLANK(Results!A23),\"\",Results!A23)","v":""}]
[{"$f":"IF(ISBLANK(Results!A24),\"\",Results!A24)","v":""}]
[{"$f":"IF(ISBLANK(Results!A25),\"\",Results!A25)","v":""}]
[{"$f":"IF(ISBLANK(Results!A26),\"\",Results!A26)","v":""}]
[{"$f":"IF(ISBLANK(Results!A27),\"\",Results!A27)","v":""}]
[{"$f":"IF(ISBLANK(Results!A28),\"\",Results!A28)","v":""}]
[{"$f":"IF(ISBLANK(Results!A29),\"\",Results!A29)","v":""}]
[{"$f":"IF(ISBLANK(Results!A30),\"\",Results!A30)","v":""}]
[{"$f":"IF(ISBLANK(Results!A31),\"\",Results!A31)","v":""}]
[{"$f":"IF(ISBLANK(Results!A32),\"\",Results!A32)","v":""}]
[{"$f":"IF(ISBLANK(Results!A33),\"\",Results!A33)","v":""}]
[{"$f":"IF(ISBLANK(Results!A34),\"\",Results!A34)","v":""}]
[{"$f":"IF(ISBLANK(Results!A35),\"\",Results!A35)","v":""}]
[{"$f":"IF(ISBLANK(Results!A36),\"\",Results!A36)","v":""}]
[{"$f":"IF(ISBLANK(Results!A37),\"\",Results!A37)","v":""}]
[{"$f":"IF(ISBLANK(Results!A38),\"\",Results!A38)","v":""}]
[{"$f":"IF(ISBLANK(Results!A39),\"\",Results!A39)","v":""}]
[{"$f":"IF(ISBLANK(Results!A40),\"\",Results!A40)","v":""}]
[{"$f":"IF(ISBLANK(Results!A41),\"\",Results!A41)","v":""}]
[{"$f":"IF(ISBLANK(Results!A42),\"\",Results!A42)","v":""}]
[{"$f":"IF(ISBLANK(Results!A43),\"\",Results!A43)","v":""}]
[{"$f":"IF(ISBLANK(Results!A44),\"\",Results!A44)","v":""}]
[{"$f":"IF(ISBLANK(Results!A45),\"\",Results!A45)","v":""}]
[{"$f":"IF(ISBLANK(Results!A46),\"\",Results!A46)","v":""}]
[{"$f":"IF(ISBLANK(Results!A47),\"\",Results!A47)","v":""}]
[{"$f":"IF(ISBLANK(Results!A48),\"\",Results!A48)","v":""}]
[{"$f":"IF(ISBLANK(Results!A49),\"\",Results!A49)","v":""}]
[{"$f":"IF(ISBLANK(Results!A50),\"\",Results!A50)","v":""}]
[{"$f":"IF(ISBLANK(Results!A51),\"\",Results!A51)","v":""}]
[{"$f":"IF(ISBLANK(Results!A52),\"\",Results!A52)","v":""}]
[{"$f":"IF(ISBLANK(Results!A53),\"\",Results!A53)","v":""}]
[{"$f":"IF(ISBLANK(Results!A54),\"\",Results!A54)","v":""}]
[{"$f":"IF(ISBLANK(Results!A55),\"\",Results!A55)","v":""}]
[{"$f":"IF(ISBLANK(Results!A56),\"\",Results!A56)","v":""}]
[{"$f":"IF(ISBLANK(Results!A57),\"\",Results!A57)","v":""}]
[{"$f":"IF(ISBLANK(Results!A58),\"\",Results!A58)","v":""}]
[{"$f":"IF(ISBLANK(Results!A59),\"\",Results!A59)","v":""}]
[{"$f":"IF(ISBLANK(Results!A60),\"\",Results!A60)","v":""}]

{"sheet":"Control Chart","index":4,"n_rows":25,"n_cols":10,"rows_kept":25,"cut":false,"hidden":false,"merged":[[24,0,24,7]]}
[null,null,null,null,null,null,null,null,"Upper limit of graph (%): "]
[null,null,null,null,null,null,null,null,"Lower limit of graph (%): "]
[null,null,null,null,null,null,null,null,null,"Press enter after changing limit,  then Update."]
[]
[]
[]
[null,null,null,null,null,null,null,null,"          X-axis interval:",6]
[]
[]
[]
[null,null,null,null,null,null,null,null,"       Y-axis decimals:",0]
[]
[]
[]
[]
[]
[]
[]
[]
[null,null,null,null,null,null,null,"© Phelps Memorial Hospital Center 2001-2004"]
[]
[]
[]
[]
["Control charts should only be used when there are a sufficient number of data points, generally 20 or more."]

{"sheet":"Version","index":5,"n_rows":9,"n_cols":3,"rows_kept":9,"cut":false,"hidden":false,"merged":[]}
["Version","Date","Programming Change"]
[1.8,"2001-01-04","Made Action graph ordinate 1 decimal place. Also on limit cells."]
[1.9,"2001-07-19","More data points. Selectable abcissa range for charts. Redid the Control chart per JCAHO requirements."]
[1.91,"2002-03-27","Corrected date problem, added comments section."]
["2.0","2002-04-15","Corrected calculation sheet.Changed version number to be sure latest version will be used."]
["3.0","2004-07-21","Revised for JCAHO 2004 standards. Added department label, print macro."]
["3.2","2017-04-19","Added filename, removed instruction sheet"]
["3.3","2018-06-06","Housekeeping only"]
["3.4","2019-01-09","Modified Identification worksheet, changed PIPS to PICG (per W. Reifer)."]

{"sheet":"Calculations","index":6,"n_rows":57,"n_cols":10,"rows_kept":57,"cut":false,"hidden":false,"merged":[]}
["Results Comparison Data",null,null,null,"Control Comparison Data"]
["Date","Upper","Lower",null,"Number","Rate","Center","Std. Error","Upper Ctrl","Lower Ctrl"]
[{"$f":"IF(ISBLANK(Results!B6),\"\",Results!A6)","v":""},{"$f":"IF(ISBLANK(Results!A6),\"\",Results!$G$2)","v":""},{"$f":"IF(ISBLANK(Results!A6),\"\",Results!$G$3)","v":""},null,{"$f":"IF(ISBLANK(Results!A6),\"\",Results!B6)","v":""},{"$f":"Results!D6","v":""},{"$f":"IF(ISBLANK(Results!B6),\"\",SUM(Results!$C$6:$C$45)/SUM(Results!$B$6:$B$45))","v":""},{"$f":"IF(ISBLANK(Results!A6),\"\",IF(E3=0,\"\",SQRT((F3*(1-F3))/E3)))","v":""},{"$f":"IF(ISBLANK(Results!A6),\"\",IF(E3=0,\"\",G3+H3*3))","v":""},{"$f":"IF(ISBLANK(Results!A6),\"\",IF(E3=0,\"\",G3-H3*3))","v":""}]
[{"$f":"IF(ISBLANK(Results!B7),\"\",Results!A7)","v":""},{"$f":"IF(ISBLANK(Results!A7),\"\",Results!$G$2)","v":""},{"$f":"IF(ISBLANK(Results!A7),\"\",Results!$G$3)","v":""},null,{"$f":"IF(ISBLANK(Results!A7),\"\",Results!B7)","v":""},{"$f":"Results!D7","v":""},{"$f":"IF(ISBLANK(Results!B7),\"\",SUM(Results!$C$6:$C$45)/SUM(Results!$B$6:$B$45))","v":""},{"$f":"IF(ISBLANK(Results!A7),\"\",IF(E4=0,\"\",SQRT((F4*(1-F4))/E4)))","v":""},{"$f":"IF(ISBLANK(Results!A7),\"\",IF(E4=0,\"\",G4+H4*3))","v":""},{"$f":"IF(ISBLANK(Results!A7),\"\",IF(E4=0,\"\",G4-H4*3))","v":""}]
[{"$f":"IF(ISBLANK(Results!B8),\"\",Results!A8)","v":""},{"$f":"IF(ISBLANK(Results!A8),\"\",Results!$G$2)","v":""},{"$f":"IF(ISBLANK(Results!A8),\"\",Results!$G$3)","v":""},null,{"$f":"IF(ISBLANK(Results!A8),\"\",Results!B8)","v":""},{"$f":"Results!D8","v":""},{"$f":"IF(ISBLANK(Results!B8),\"\",SUM(Results!$C$6:$C$45)/SUM(Results!$B$6:$B$45))","v":""},{"$f":"IF(ISBLANK(Results!A8),\"\",IF(E5=0,\"\",SQRT((F5*(1-F5))/E5)))","v":""},{"$f":"IF(ISBLANK(Results!A8),\"\",IF(E5=0,\"\",G5+H5*3))","v":""},{"$f":"IF(ISBLANK(Results!A8),\"\",IF(E5=0,\"\",G5-H5*3))","v":""}]
[{"$f":"IF(ISBLANK(Results!B9),\"\",Results!A9)","v":""},{"$f":"IF(ISBLANK(Results!A9),\"\",Results!$G$2)","v":""},{"$f":"IF(ISBLANK(Results!A9),\"\",Results!$G$3)","v":""},null,{"$f":"IF(ISBLANK(Results!A9),\"\",Results!B9)","v":""},{"$f":"Results!D9","v":""},{"$f":"IF(ISBLANK(Results!B9),\"\",SUM(Results!$C$6:$C$45)/SUM(Results!$B$6:$B$45))","v":""},{"$f":"IF(ISBLANK(Results!A9),\"\",IF(E6=0,\"\",SQRT((F6*(1-F6))/E6)))","v":""},{"$f":"IF(ISBLANK(Results!A9),\"\",IF(E6=0,\"\",G6+H6*3))","v":""},{"$f":"IF(ISBLANK(Results!A9),\"\",IF(E6=0,\"\",G6-H6*3))","v":""}]
[{"$f":"IF(ISBLANK(Results!B10),\"\",Results!A10)","v":""},{"$f":"IF(ISBLANK(Results!A10),\"\",Results!$G$2)","v":""},{"$f":"IF(ISBLANK(Results!A10),\"\",Results!$G$3)","v":""},null,{"$f":"IF(ISBLANK(Results!A10),\"\",Results!B10)","v":""},{"$f":"Results!D10","v":""},{"$f":"IF(ISBLANK(Results!B10),\"\",SUM(Results!$C$6:$C$45)/SUM(Results!$B$6:$B$45))","v":""},{"$f":"IF(ISBLANK(Results!A10),\"\",IF(E7=0,\"\",SQRT((F7*(1-F7))/E7)))","v":""},{"$f":"IF(ISBLANK(Results!A10),\"\",IF(E7=0,\"\",G7+H7*3))","v":""},{"$f":"IF(ISBLANK(Results!A10),\"\",IF(E7=0,\"\",G7-H7*3))","v":""}]
[{"$f":"IF(ISBLANK(Results!B11),\"\",Results!A11)","v":""},{"$f":"IF(ISBLANK(Results!A11),\"\",Results!$G$2)","v":""},{"$f":"IF(ISBLANK(Results!A11),\"\",Results!$G$3)","v":""},null,{"$f":"IF(ISBLANK(Results!A11),\"\",Results!B11)","v":""},{"$f":"Results!D11","v":""},{"$f":"IF(ISBLANK(Results!B11),\"\",SUM(Results!$C$6:$C$45)/SUM(Results!$B$6:$B$45))","v":""},{"$f":"IF(ISBLANK(Results!A11),\"\",IF(E8=0,\"\",SQRT((F8*(1-F8))/E8)))","v":""},{"$f":"IF(ISBLANK(Results!A11),\"\",IF(E8=0,\"\",G8+H8*3))","v":""},{"$f":"IF(ISBLANK(Results!A11),\"\",IF(E8=0,\"\",G8-H8*3))","v":""}]
[{"$f":"IF(ISBLANK(Results!B12),\"\",Results!A12)","v":""},{"$f":"IF(ISBLANK(Results!A12),\"\",Results!$G$2)","v":""},{"$f":"IF(ISBLANK(Results!A12),\"\",Results!$G$3)","v":""},null,{"$f":"IF(ISBLANK(Results!A12),\"\",Results!B12)","v":""},{"$f":"Results!D12","v":""},{"$f":"IF(ISBLANK(Results!B12),\"\",SUM(Results!$C$6:$C$45)/SUM(Results!$B$6:$B$45))","v":""},{"$f":"IF(ISBLANK(Results!A12),\"\",IF(E9=0,\"\",SQRT((F9*(1-F9))/E9)))","v":""},{"$f":"IF(ISBLANK(Results!A12),\"\",IF(E9=0,\"\",G9+H9*3))","v":""},{"$f":"IF(ISBLANK(Results!A12),\"\",IF(E9=0,\"\",G9-H9*3))","v":""}]
[{"$f":"IF(ISBLANK(Results!B13),\"\",Results!A13)","v":""},{"$f":"IF(ISBLANK(Results!A13),\"\",Results!$G$2)","v":""},{"$f":"IF(ISBLANK(Results!A13),\"\",Results!$G$3)","v":""},null,{"$f":"IF(ISBLANK(Results!A13),\"\",Results!B13)","v":""},{"$f":"Results!D13","v":""},{"$f":"IF(ISBLANK(Results!B13),\"\",SUM(Results!$C$6:$C$45)/SUM(Results!$B$6:$B$45))","v":""},{"$f":"IF(ISBLANK(Results!A13),\"\",IF(E10=0,\"\",SQRT((F10*(1-F10))/E10)))","v":""},{"$f":"IF(ISBLANK(Results!A13),\"\",IF(E10=0,\"\",G10+H10*3))","v":""},{"$f":"IF(ISBLANK(Results!A13),\"\",IF(E10=0,\"\",G10-H10*3))","v":""}]
[{"$f":"IF(ISBLANK(Results!B14),\"\",Results!A14)","v":""},{"$f":"IF(ISBLANK(Results!A14),\"\",Results!$G$2)","v":""},{"$f":"IF(ISBLANK(Results!A14),\"\",Results!$G$3)","v":""},null,{"$f":"IF(ISBLANK(Results!A14),\"\",Results!B14)","v":""},{"$f":"Results!D14","v":""},{"$f":"IF(ISBLANK(Results!B14),\"\",SUM(Results!$C$6:$C$45)/SUM(Results!$B$6:$B$45))","v":""},{"$f":"IF(ISBLANK(Results!A14),\"\",IF(E11=0,\"\",SQRT((F11*(1-F11))/E11)))","v":""},{"$f":"IF(ISBLANK(Results!A14),\"\",IF(E11=0,\"\",G11+H11*3))","v":""},{"$f":"IF(ISBLANK(Results!A14),\"\",IF(E11=0,\"\",G11-H11*3))","v":""}]
[{"$f":"IF(ISBLANK(Results!B15),\"\",Results!A15)","v":""},{"$f":"IF(ISBLANK(Results!A15),\"\",Results!$G$2)","v":""},{"$f":"IF(ISBLANK(Results!A15),\"\",Results!$G$3)","v":""},null,{"$f":"IF(ISBLANK(Results!A15),\"\",Results!B15)","v":""},{"$f":"Results!D15","v":""},{"$f":"IF(ISBLANK(Results!B15),\"\",SUM(Results!$C$6:$C$45)/SUM(Results!$B$6:$B$45))","v":""},{"$f":"IF(ISBLANK(Results!A15),\"\",IF(E12=0,\"\",SQRT((F12*(1-F12))/E12)))","v":""},{"$f":"IF(ISBLANK(Results!A15),\"\",IF(E12=0,\"\",G12+H12*3))","v":""},{"$f":"IF(ISBLANK(Results!A15),\"\",IF(E12=0,\"\",G12-H12*3))","v":""}]
[{"$f":"IF(ISBLANK(Results!B16),\"\",Results!A16)","v":""},{"$f":"IF(ISBLANK(Results!A16),\"\",Results!$G$2)","v":""},{"$f":"IF(ISBLANK(Results!A16),\"\",Results!$G$3)","v":""},null,{"$f":"IF(ISBLANK(Results!A16),\"\",Results!B16)","v":""},{"$f":"Results!D16","v":""},{"$f":"IF(ISBLANK(Results!B16),\"\",SUM(Results!$C$6:$C$45)/SUM(Results!$B$6:$B$45))","v":""},{"$f":"IF(ISBLANK(Results!A16),\"\",IF(E13=0,\"\",SQRT((F13*(1-F13))/E13)))","v":""},{"$f":"IF(ISBLANK(Results!A16),\"\",IF(E13=0,\"\",G13+H13*3))","v":""},{"$f":"IF(ISBLANK(Results!A16),\"\",IF(E13=0,\"\",G13-H13*3))","v":""}]
[{"$f":"IF(ISBLANK(Results!B17),\"\",Results!A17)","v":""},{"$f":"IF(ISBLANK(Results!A17),\"\",Results!$G$2)","v":""},{"$f":"IF(ISBLANK(Results!A17),\"\",Results!$G$3)","v":""},null,{"$f":"IF(ISBLANK(Results!A17),\"\",Results!B17)","v":""},{"$f":"Results!D17","v":""},{"$f":"IF(ISBLANK(Results!B17),\"\",SUM(Results!$C$6:$C$45)/SUM(Results!$B$6:$B$45))","v":""},{"$f":"IF(ISBLANK(Results!A17),\"\",IF(E14=0,\"\",SQRT((F14*(1-F14))/E14)))","v":""},{"$f":"IF(ISBLANK(Results!A17),\"\",IF(E14=0,\"\",G14+H14*3))","v":""},{"$f":"IF(ISBLANK(Results!A17),\"\",IF(E14=0,\"\",G14-H14*3))","v":""}]
[{"$f":"IF(ISBLANK(Results!B18),\"\",Results!A18)","v":""},{"$f":"IF(ISBLANK(Results!A18),\"\",Results!$G$2)","v":""},{"$f":"IF(ISBLANK(Results!A18),\"\",Results!$G$3)","v":""},null,{"$f":"IF(ISBLANK(Results!A18),\"\",Results!B18)","v":""},{"$f":"Results!D18","v":""},{"$f":"IF(ISBLANK(Results!B18),\"\",SUM(Results!$C$6:$C$45)/SUM(Results!$B$6:$B$45))","v":""},{"$f":"IF(ISBLANK(Results!A18),\"\",IF(E15=0,\"\",SQRT((F15*(1-F15))/E15)))","v":""},{"$f":"IF(ISBLANK(Results!A18),\"\",IF(E15=0,\"\",G15+H15*3))","v":""},{"$f":"IF(ISBLANK(Results!A18),\"\",IF(E15=0,\"\",G15-H15*3))","v":""}]
[{"$f":"IF(ISBLANK(Results!B19),\"\",Results!A19)","v":""},{"$f":"IF(ISBLANK(Results!A19),\"\",Results!$G$2)","v":""},{"$f":"IF(ISBLANK(Results!A19),\"\",Results!$G$3)","v":""},null,{"$f":"IF(ISBLANK(Results!A19),\"\",Results!B19)","v":""},{"$f":"Results!D19","v":""},{"$f":"IF(ISBLANK(Results!B19),\"\",SUM(Results!$C$6:$C$45)/SUM(Results!$B$6:$B$45))","v":""},{"$f":"IF(ISBLANK(Results!A19),\"\",IF(E16=0,\"\",SQRT((F16*(1-F16))/E16)))","v":""},{"$f":"IF(ISBLANK(Results!A19),\"\",IF(E16=0,\"\",G16+H16*3))","v":""},{"$f":"IF(ISBLANK(Results!A19),\"\",IF(E16=0,\"\",G16-H16*3))","v":""}]
[{"$f":"IF(ISBLANK(Results!B20),\"\",Results!A20)","v":""},{"$f":"IF(ISBLANK(Results!A20),\"\",Results!$G$2)","v":""},{"$f":"IF(ISBLANK(Results!A20),\"\",Results!$G$3)","v":""},null,{"$f":"IF(ISBLANK(Results!A20),\"\",Results!B20)","v":""},{"$f":"Results!D20","v":""},{"$f":"IF(ISBLANK(Results!B20),\"\",SUM(Results!$C$6:$C$45)/SUM(Results!$B$6:$B$45))","v":""},{"$f":"IF(ISBLANK(Results!A20),\"\",IF(E17=0,\"\",SQRT((F17*(1-F17))/E17)))","v":""},{"$f":"IF(ISBLANK(Results!A20),\"\",IF(E17=0,\"\",G17+H17*3))","v":""},{"$f":"IF(ISBLANK(Results!A20),\"\",IF(E17=0,\"\",G17-H17*3))","v":""}]
[{"$f":"IF(ISBLANK(Results!B21),\"\",Results!A21)","v":""},{"$f":"IF(ISBLANK(Results!A21),\"\",Results!$G$2)","v":""},{"$f":"IF(ISBLANK(Results!A21),\"\",Results!$G$3)","v":""},null,{"$f":"IF(ISBLANK(Results!A21),\"\",Results!B21)","v":""},{"$f":"Results!D21","v":""},{"$f":"IF(ISBLANK(Results!B21),\"\",SUM(Results!$C$6:$C$45)/SUM(Results!$B$6:$B$45))","v":""},{"$f":"IF(ISBLANK(Results!A21),\"\",IF(E18=0,\"\",SQRT((F18*(1-F18))/E18)))","v":""},{"$f":"IF(ISBLANK(Results!A21),\"\",IF(E18=0,\"\",G18+H18*3))","v":""},{"$f":"IF(ISBLANK(Results!A21),\"\",IF(E18=0,\"\",G18-H18*3))","v":""}]
[{"$f":"IF(ISBLANK(Results!B22),\"\",Results!A22)","v":""},{"$f":"IF(ISBLANK(Results!A22),\"\",Results!$G$2)","v":""},{"$f":"IF(ISBLANK(Results!A22),\"\",Results!$G$3)","v":""},null,{"$f":"IF(ISBLANK(Results!A22),\"\",Results!B22)","v":""},{"$f":"Results!D22","v":""},{"$f":"IF(ISBLANK(Results!B22),\"\",SUM(Results!$C$6:$C$45)/SUM(Results!$B$6:$B$45))","v":""},{"$f":"IF(ISBLANK(Results!A22),\"\",IF(E19=0,\"\",SQRT((F19*(1-F19))/E19)))","v":""},{"$f":"IF(ISBLANK(Results!A22),\"\",IF(E19=0,\"\",G19+H19*3))","v":""},{"$f":"IF(ISBLANK(Results!A22),\"\",IF(E19=0,\"\",G19-H19*3))","v":""}]
[{"$f":"IF(ISBLANK(Results!B23),\"\",Results!A23)","v":""},{"$f":"IF(ISBLANK(Results!A23),\"\",Results!$G$2)","v":""},{"$f":"IF(ISBLANK(Results!A23),\"\",Results!$G$3)","v":""},null,{"$f":"IF(ISBLANK(Results!A23),\"\",Results!B23)","v":""},{"$f":"Results!D23","v":""},{"$f":"IF(ISBLANK(Results!B23),\"\",SUM(Results!$C$6:$C$45)/SUM(Results!$B$6:$B$45))","v":""},{"$f":"IF(ISBLANK(Results!A23),\"\",IF(E20=0,\"\",SQRT((F20*(1-F20))/E20)))","v":""},{"$f":"IF(ISBLANK(Results!A23),\"\",IF(E20=0,\"\",G20+H20*3))","v":""},{"$f":"IF(ISBLANK(Results!A23),\"\",IF(E20=0,\"\",G20-H20*3))","v":""}]
[{"$f":"IF(ISBLANK(Results!B24),\"\",Results!A24)","v":""},{"$f":"IF(ISBLANK(Results!A24),\"\",Results!$G$2)","v":""},{"$f":"IF(ISBLANK(Results!A24),\"\",Results!$G$3)","v":""},null,{"$f":"IF(ISBLANK(Results!A24),\"\",Results!B24)","v":""},{"$f":"Results!D24","v":""},{"$f":"IF(ISBLANK(Results!B24),\"\",SUM(Results!$C$6:$C$45)/SUM(Results!$B$6:$B$45))","v":""},{"$f":"IF(ISBLANK(Results!A24),\"\",IF(E21=0,\"\",SQRT((F21*(1-F21))/E21)))","v":""},{"$f":"IF(ISBLANK(Results!A24),\"\",IF(E21=0,\"\",G21+H21*3))","v":""},{"$f":"IF(ISBLANK(Results!A24),\"\",IF(E21=0,\"\",G21-H21*3))","v":""}]
[{"$f":"IF(ISBLANK(Results!B25),\"\",Results!A25)","v":""},{"$f":"IF(ISBLANK(Results!A25),\"\",Results!$G$2)","v":""},{"$f":"IF(ISBLANK(Results!A25),\"\",Results!$G$3)","v":""},null,{"$f":"IF(ISBLANK(Results!A25),\"\",Results!B25)","v":""},{"$f":"Results!D25","v":""},{"$f":"IF(ISBLANK(Results!B25),\"\",SUM(Results!$C$6:$C$45)/SUM(Results!$B$6:$B$45))","v":""},{"$f":"IF(ISBLANK(Results!A25),\"\",IF(E22=0,\"\",SQRT((F22*(1-F22))/E22)))","v":""},{"$f":"IF(ISBLANK(Results!A25),\"\",IF(E22=0,\"\",G22+H22*3))","v":""},{"$f":"IF(ISBLANK(Results!A25),\"\",IF(E22=0,\"\",G22-H22*3))","v":""}]
[{"$f":"IF(ISBLANK(Results!B26),\"\",Results!A26)","v":""},{"$f":"IF(ISBLANK(Results!A26),\"\",Results!$G$2)","v":""},{"$f":"IF(ISBLANK(Results!A26),\"\",Results!$G$3)","v":""},null,{"$f":"IF(ISBLANK(Results!A26),\"\",Results!B26)","v":""},{"$f":"Results!D26","v":""},{"$f":"IF(ISBLANK(Results!B26),\"\",SUM(Results!$C$6:$C$45)/SUM(Results!$B$6:$B$45))","v":""},{"$f":"IF(ISBLANK(Results!A26),\"\",IF(E23=0,\"\",SQRT((F23*(1-F23))/E23)))","v":""},{"$f":"IF(ISBLANK(Results!A26),\"\",IF(E23=0,\"\",G23+H23*3))","v":""},{"$f":"IF(ISBLANK(Results!A26),\"\",IF(E23=0,\"\",G23-H23*3))","v":""}]
[{"$f":"IF(ISBLANK(Results!B27),\"\",Results!A27)","v":""},{"$f":"IF(ISBLANK(Results!A27),\"\",Results!$G$2)","v":""},{"$f":"IF(ISBLANK(Results!A27),\"\",Results!$G$3)","v":""},null,{"$f":"IF(ISBLANK(Results!A27),\"\",Results!B27)","v":""},{"$f":"Results!D27","v":""},{"$f":"IF(ISBLANK(Results!B27),\"\",SUM(Results!$C$6:$C$45)/SUM(Results!$B$6:$B$45))","v":""},{"$f":"IF(ISBLANK(Results!A27),\"\",IF(E24=0,\"\",SQRT((F24*(1-F24))/E24)))","v":""},{"$f":"IF(ISBLANK(Results!A27),\"\",IF(E24=0,\"\",G24+H24*3))","v":""},{"$f":"IF(ISBLANK(Results!A27),\"\",IF(E24=0,\"\",G24-H24*3))","v":""}]
[{"$f":"IF(ISBLANK(Results!B28),\"\",Results!A28)","v":""},{"$f":"IF(ISBLANK(Results!A28),\"\",Results!$G$2)","v":""},{"$f":"IF(ISBLANK(Results!A28),\"\",Results!$G$3)","v":""},null,{"$f":"IF(ISBLANK(Results!A28),\"\",Results!B28)","v":""},{"$f":"Results!D28","v":""},{"$f":"IF(ISBLANK(Results!B28),\"\",SUM(Results!$C$6:$C$45)/SUM(Results!$B$6:$B$45))","v":""},{"$f":"IF(ISBLANK(Results!A28),\"\",IF(E25=0,\"\",SQRT((F25*(1-F25))/E25)))","v":""},{"$f":"IF(ISBLANK(Results!A28),\"\",IF(E25=0,\"\",G25+H25*3))","v":""},{"$f":"IF(ISBLANK(Results!A28),\"\",IF(E25=0,\"\",G25-H25*3))","v":""}]
[{"$f":"IF(ISBLANK(Results!B29),\"\",Results!A29)","v":""},{"$f":"IF(ISBLANK(Results!A29),\"\",Results!$G$2)","v":""},{"$f":"IF(ISBLANK(Results!A29),\"\",Results!$G$3)","v":""},null,{"$f":"IF(ISBLANK(Results!A29),\"\",Results!B29)","v":""},{"$f":"Results!D29","v":""},{"$f":"IF(ISBLANK(Results!B29),\"\",SUM(Results!$C$6:$C$45)/SUM(Results!$B$6:$B$45))","v":""},{"$f":"IF(ISBLANK(Results!A29),\"\",IF(E26=0,\"\",SQRT((F26*(1-F26))/E26)))","v":""},{"$f":"IF(ISBLANK(Results!A29),\"\",IF(E26=0,\"\",G26+H26*3))","v":""},{"$f":"IF(ISBLANK(Results!A29),\"\",IF(E26=0,\"\",G26-H26*3))","v":""}]
[{"$f":"IF(ISBLANK(Results!B30),\"\",Results!A30)","v":""},{"$f":"IF(ISBLANK(Results!A30),\"\",Results!$G$2)","v":""},{"$f":"IF(ISBLANK(Results!A30),\"\",Results!$G$3)","v":""},null,{"$f":"IF(ISBLANK(Results!A30),\"\",Results!B30)","v":""},{"$f":"Results!D30","v":""},{"$f":"IF(ISBLANK(Results!B30),\"\",SUM(Results!$C$6:$C$45)/SUM(Results!$B$6:$B$45))","v":""},{"$f":"IF(ISBLANK(Results!A30),\"\",IF(E27=0,\"\",SQRT((F27*(1-F27))/E27)))","v":""},{"$f":"IF(ISBLANK(Results!A30),\"\",IF(E27=0,\"\",G27+H27*3))","v":""},{"$f":"IF(ISBLANK(Results!A30),\"\",IF(E27=0,\"\",G27-H27*3))","v":""}]
[{"$f":"IF(ISBLANK(Results!B31),\"\",Results!A31)","v":""},{"$f":"IF(ISBLANK(Results!A31),\"\",Results!$G$2)","v":""},{"$f":"IF(ISBLANK(Results!A31),\"\",Results!$G$3)","v":""},null,{"$f":"IF(ISBLANK(Results!A31),\"\",Results!B31)","v":""},{"$f":"Results!D31","v":""},{"$f":"IF(ISBLANK(Results!B31),\"\",SUM(Results!$C$6:$C$45)/SUM(Results!$B$6:$B$45))","v":""},{"$f":"IF(ISBLANK(Results!A31),\"\",IF(E28=0,\"\",SQRT((F28*(1-F28))/E28)))","v":""},{"$f":"IF(ISBLANK(Results!A31),\"\",IF(E28=0,\"\",G28+H28*3))","v":""},{"$f":"IF(ISBLANK(Results!A31),\"\",IF(E28=0,\"\",G28-H28*3))","v":""}]
[{"$f":"IF(ISBLANK(Results!B32),\"\",Results!A32)","v":""},{"$f":"IF(ISBLANK(Results!A32),\"\",Results!$G$2)","v":""},{"$f":"IF(ISBLANK(Results!A32),\"\",Results!$G$3)","v":""},null,{"$f":"IF(ISBLANK(Results!A32),\"\",Results!B32)","v":""},{"$f":"Results!D32","v":""},{"$f":"IF(ISBLANK(Results!B32),\"\",SUM(Results!$C$6:$C$45)/SUM(Results!$B$6:$B$45))","v":""},{"$f":"IF(ISBLANK(Results!A32),\"\",IF(E29=0,\"\",SQRT((F29*(1-F29))/E29)))","v":""},{"$f":"IF(ISBLANK(Results!A32),\"\",IF(E29=0,\"\",G29+H29*3))","v":""},{"$f":"IF(ISBLANK(Results!A32),\"\",IF(E29=0,\"\",G29-H29*3))","v":""}]
[{"$f":"IF(ISBLANK(Results!B33),\"\",Results!A33)","v":""},{"$f":"IF(ISBLANK(Results!A33),\"\",Results!$G$2)","v":""},{"$f":"IF(ISBLANK(Results!A33),\"\",Results!$G$3)","v":""},null,{"$f":"IF(ISBLANK(Results!A33),\"\",Results!B33)","v":""},{"$f":"Results!D33","v":""},{"$f":"IF(ISBLANK(Results!B33),\"\",SUM(Results!$C$6:$C$45)/SUM(Results!$B$6:$B$45))","v":""},{"$f":"IF(ISBLANK(Results!A33),\"\",IF(E30=0,\"\",SQRT((F30*(1-F30))/E30)))","v":""},{"$f":"IF(ISBLANK(Results!A33),\"\",IF(E30=0,\"\",G30+H30*3))","v":""},{"$f":"IF(ISBLANK(Results!A33),\"\",IF(E30=0,\"\",G30-H30*3))","v":""}]
[{"$f":"IF(ISBLANK(Results!B34),\"\",Results!A34)","v":""},{"$f":"IF(ISBLANK(Results!A34),\"\",Results!$G$2)","v":""},{"$f":"IF(ISBLANK(Results!A34),\"\",Results!$G$3)","v":""},null,{"$f":"IF(ISBLANK(Results!A34),\"\",Results!B34)","v":""},{"$f":"Results!D34","v":""},{"$f":"IF(ISBLANK(Results!B34),\"\",SUM(Results!$C$6:$C$45)/SUM(Results!$B$6:$B$45))","v":""},{"$f":"IF(ISBLANK(Results!A34),\"\",IF(E31=0,\"\",SQRT((F31*(1-F31))/E31)))","v":""},{"$f":"IF(ISBLANK(Results!A34),\"\",IF(E31=0,\"\",G31+H31*3))","v":""},{"$f":"IF(ISBLANK(Results!A34),\"\",IF(E31=0,\"\",G31-H31*3))","v":""}]
[{"$f":"IF(ISBLANK(Results!B35),\"\",Results!A35)","v":""},{"$f":"IF(ISBLANK(Results!A35),\"\",Results!$G$2)","v":""},{"$f":"IF(ISBLANK(Results!A35),\"\",Results!$G$3)","v":""},null,{"$f":"IF(ISBLANK(Results!A35),\"\",Results!B35)","v":""},{"$f":"Results!D35","v":""},{"$f":"IF(ISBLANK(Results!B35),\"\",SUM(Results!$C$6:$C$45)/SUM(Results!$B$6:$B$45))","v":""},{"$f":"IF(ISBLANK(Results!A35),\"\",IF(E32=0,\"\",SQRT((F32*(1-F32))/E32)))","v":""},{"$f":"IF(ISBLANK(Results!A35),\"\",IF(E32=0,\"\",G32+H32*3))","v":""},{"$f":"IF(ISBLANK(Results!A35),\"\",IF(E32=0,\"\",G32-H32*3))","v":""}]
[{"$f":"IF(ISBLANK(Results!B36),\"\",Results!A36)","v":""},{"$f":"IF(ISBLANK(Results!A36),\"\",Results!$G$2)","v":""},{"$f":"IF(ISBLANK(Results!A36),\"\",Results!$G$3)","v":""},null,{"$f":"IF(ISBLANK(Results!A36),\"\",Results!B36)","v":""},{"$f":"Results!D36","v":""},{"$f":"IF(ISBLANK(Results!B36),\"\",SUM(Results!$C$6:$C$45)/SUM(Results!$B$6:$B$45))","v":""},{"$f":"IF(ISBLANK(Results!A36),\"\",IF(E33=0,\"\",SQRT((F33*(1-F33))/E33)))","v":""},{"$f":"IF(ISBLANK(Results!A36),\"\",IF(E33=0,\"\",G33+H33*3))","v":""},{"$f":"IF(ISBLANK(Results!A36),\"\",IF(E33=0,\"\",G33-H33*3))","v":""}]
[{"$f":"IF(ISBLANK(Results!B37),\"\",Results!A37)","v":""},{"$f":"IF(ISBLANK(Results!A37),\"\",Results!$G$2)","v":""},{"$f":"IF(ISBLANK(Results!A37),\"\",Results!$G$3)","v":""},null,{"$f":"IF(ISBLANK(Results!A37),\"\",Results!B37)","v":""},{"$f":"Results!D37","v":""},{"$f":"IF(ISBLANK(Results!B37),\"\",SUM(Results!$C$6:$C$45)/SUM(Results!$B$6:$B$45))","v":""},{"$f":"IF(ISBLANK(Results!A37),\"\",IF(E34=0,\"\",SQRT((F34*(1-F34))/E34)))","v":""},{"$f":"IF(ISBLANK(Results!A37),\"\",IF(E34=0,\"\",G34+H34*3))","v":""},{"$f":"IF(ISBLANK(Results!A37),\"\",IF(E34=0,\"\",G34-H34*3))","v":""}]
[{"$f":"IF(ISBLANK(Results!B38),\"\",Results!A38)","v":""},{"$f":"IF(ISBLANK(Results!A38),\"\",Results!$G$2)","v":""},{"$f":"IF(ISBLANK(Results!A38),\"\",Results!$G$3)","v":""},null,{"$f":"IF(ISBLANK(Results!A38),\"\",Results!B38)","v":""},{"$f":"Results!D38","v":""},{"$f":"IF(ISBLANK(Results!B38),\"\",SUM(Results!$C$6:$C$45)/SUM(Results!$B$6:$B$45))","v":""},{"$f":"IF(ISBLANK(Results!A38),\"\",IF(E35=0,\"\",SQRT((F35*(1-F35))/E35)))","v":""},{"$f":"IF(ISBLANK(Results!A38),\"\",IF(E35=0,\"\",G35+H35*3))","v":""},{"$f":"IF(ISBLANK(Results!A38),\"\",IF(E35=0,\"\",G35-H35*3))","v":""}]
[{"$f":"IF(ISBLANK(Results!B39),\"\",Results!A39)","v":""},{"$f":"IF(ISBLANK(Results!A39),\"\",Results!$G$2)","v":""},{"$f":"IF(ISBLANK(Results!A39),\"\",Results!$G$3)","v":""},null,{"$f":"IF(ISBLANK(Results!A39),\"\",Results!B39)","v":""},{"$f":"Results!D39","v":""},{"$f":"IF(ISBLANK(Results!B39),\"\",SUM(Results!$C$6:$C$45)/SUM(Results!$B$6:$B$45))","v":""},{"$f":"IF(ISBLANK(Results!A39),\"\",IF(E36=0,\"\",SQRT((F36*(1-F36))/E36)))","v":""},{"$f":"IF(ISBLANK(Results!A39),\"\",IF(E36=0,\"\",G36+H36*3))","v":""},{"$f":"IF(ISBLANK(Results!A39),\"\",IF(E36=0,\"\",G36-H36*3))","v":""}]
[{"$f":"IF(ISBLANK(Results!B40),\"\",Results!A40)","v":""},{"$f":"IF(ISBLANK(Results!A40),\"\",Results!$G$2)","v":""},{"$f":"IF(ISBLANK(Results!A40),\"\",Results!$G$3)","v":""},null,{"$f":"IF(ISBLANK(Results!A40),\"\",Results!B40)","v":""},{"$f":"Results!D40","v":""},{"$f":"IF(ISBLANK(Results!B40),\"\",SUM(Results!$C$6:$C$45)/SUM(Results!$B$6:$B$45))","v":""},{"$f":"IF(ISBLANK(Results!A40),\"\",IF(E37=0,\"\",SQRT((F37*(1-F37))/E37)))","v":""},{"$f":"IF(ISBLANK(Results!A40),\"\",IF(E37=0,\"\",G37+H37*3))","v":""},{"$f":"IF(ISBLANK(Results!A40),\"\",IF(E37=0,\"\",G37-H37*3))","v":""}]
[{"$f":"IF(ISBLANK(Results!B41),\"\",Results!A41)","v":""},{"$f":"IF(ISBLANK(Results!A41),\"\",Results!$G$2)","v":""},{"$f":"IF(ISBLANK(Results!A41),\"\",Results!$G$3)","v":""},null,{"$f":"IF(ISBLANK(Results!A41),\"\",Results!B41)","v":""},{"$f":"Results!D41","v":""},{"$f":"IF(ISBLANK(Results!B41),\"\",SUM(Results!$C$6:$C$45)/SUM(Results!$B$6:$B$45))","v":""},{"$f":"IF(ISBLANK(Results!A41),\"\",IF(E38=0,\"\",SQRT((F38*(1-F38))/E38)))","v":""},{"$f":"IF(ISBLANK(Results!A41),\"\",IF(E38=0,\"\",G38+H38*3))","v":""},{"$f":"IF(ISBLANK(Results!A41),\"\",IF(E38=0,\"\",G38-H38*3))","v":""}]
[{"$f":"IF(ISBLANK(Results!B42),\"\",Results!A42)","v":""},{"$f":"IF(ISBLANK(Results!A42),\"\",Results!$G$2)","v":""},{"$f":"IF(ISBLANK(Results!A42),\"\",Results!$G$3)","v":""},null,{"$f":"IF(ISBLANK(Results!A42),\"\",Results!B42)","v":""},{"$f":"Results!D42","v":""},{"$f":"IF(ISBLANK(Results!B42),\"\",SUM(Results!$C$6:$C$45)/SUM(Results!$B$6:$B$45))","v":""},{"$f":"IF(ISBLANK(Results!A42),\"\",IF(E39=0,\"\",SQRT((F39*(1-F39))/E39)))","v":""},{"$f":"IF(ISBLANK(Results!A42),\"\",IF(E39=0,\"\",G39+H39*3))","v":""},{"$f":"IF(ISBLANK(Results!A42),\"\",IF(E39=0,\"\",G39-H39*3))","v":""}]
[{"$f":"IF(ISBLANK(Results!B43),\"\",Results!A43)","v":""},{"$f":"IF(ISBLANK(Results!A43),\"\",Results!$G$2)","v":""},{"$f":"IF(ISBLANK(Results!A43),\"\",Results!$G$3)","v":""},null,{"$f":"IF(ISBLANK(Results!A43),\"\",Results!B43)","v":""},{"$f":"Results!D43","v":""},{"$f":"IF(ISBLANK(Results!B43),\"\",SUM(Results!$C$6:$C$45)/SUM(Results!$B$6:$B$45))","v":""},{"$f":"IF(ISBLANK(Results!A43),\"\",IF(E40=0,\"\",SQRT((F40*(1-F40))/E40)))","v":""},{"$f":"IF(ISBLANK(Results!A43),\"\",IF(E40=0,\"\",G40+H40*3))","v":""},{"$f":"IF(ISBLANK(Results!A43),\"\",IF(E40=0,\"\",G40-H40*3))","v":""}]
[{"$f":"IF(ISBLANK(Results!B44),\"\",Results!A44)","v":""},{"$f":"IF(ISBLANK(Results!A44),\"\",Results!$G$2)","v":""},{"$f":"IF(ISBLANK(Results!A44),\"\",Results!$G$3)","v":""},null,{"$f":"IF(ISBLANK(Results!A44),\"\",Results!B44)","v":""},{"$f":"Results!D44","v":""},{"$f":"IF(ISBLANK(Results!B44),\"\",SUM(Results!$C$6:$C$45)/SUM(Results!$B$6:$B$45))","v":""},{"$f":"IF(ISBLANK(Results!A44),\"\",IF(E41=0,\"\",SQRT((F41*(1-F41))/E41)))","v":""},{"$f":"IF(ISBLANK(Results!A44),\"\",IF(E41=0,\"\",G41+H41*3))","v":""},{"$f":"IF(ISBLANK(Results!A44),\"\",IF(E41=0,\"\",G41-H41*3))","v":""}]
[{"$f":"IF(ISBLANK(Results!B45),\"\",Results!A45)","v":""},{"$f":"IF(ISBLANK(Results!A45),\"\",Results!$G$2)","v":""},{"$f":"IF(ISBLANK(Results!A45),\"\",Results!$G$3)","v":""},null,{"$f":"IF(ISBLANK(Results!A45),\"\",Results!B45)","v":""},{"$f":"Results!D45","v":""},{"$f":"IF(ISBLANK(Results!B45),\"\",SUM(Results!$C$6:$C$45)/SUM(Results!$B$6:$B$45))","v":""},{"$f":"IF(ISBLANK(Results!A45),\"\",IF(E42=0,\"\",SQRT((F42*(1-F42))/E42)))","v":""},{"$f":"IF(ISBLANK(Results!A45),\"\",IF(E42=0,\"\",G42+H42*3))","v":""},{"$f":"IF(ISBLANK(Results!A45),\"\",IF(E42=0,\"\",G42-H42*3))","v":""}]
[{"$f":"IF(ISBLANK(Results!B46),\"\",Results!A46)","v":""},{"$f":"IF(ISBLANK(Results!A46),\"\",Results!$G$2)","v":""},{"$f":"IF(ISBLANK(Results!A46),\"\",Results!$G$3)","v":""},null,{"$f":"IF(ISBLANK(Results!A46),\"\",Results!B46)","v":""},{"$f":"Results!D46","v":""},{"$f":"IF(ISBLANK(Results!B46),\"\",SUM(Results!$C$6:$C$45)/SUM(Results!$B$6:$B$45))","v":""},{"$f":"IF(ISBLANK(Results!A46),\"\",IF(E43=0,\"\",SQRT((F43*(1-F43))/E43)))","v":""},{"$f":"IF(ISBLANK(Results!A46),\"\",IF(E43=0,\"\",G43+H43*3))","v":""},{"$f":"IF(ISBLANK(Results!A46),\"\",IF(E43=0,\"\",G43-H43*3))","v":""}]
[{"$f":"IF(ISBLANK(Results!B47),\"\",Results!A47)","v":""},{"$f":"IF(ISBLANK(Results!A47),\"\",Results!$G$2)","v":""},{"$f":"IF(ISBLANK(Results!A47),\"\",Results!$G$3)","v":""},null,{"$f":"IF(ISBLANK(Results!A47),\"\",Results!B47)","v":""},{"$f":"Results!D47","v":""},{"$f":"IF(ISBLANK(Results!B47),\"\",SUM(Results!$C$6:$C$45)/SUM(Results!$B$6:$B$45))","v":""},{"$f":"IF(ISBLANK(Results!A47),\"\",IF(E44=0,\"\",SQRT((F44*(1-F44))/E44)))","v":""},{"$f":"IF(ISBLANK(Results!A47),\"\",IF(E44=0,\"\",G44+H44*3))","v":""},{"$f":"IF(ISBLANK(Results!A47),\"\",IF(E44=0,\"\",G44-H44*3))","v":""}]
[{"$f":"IF(ISBLANK(Results!B48),\"\",Results!A48)","v":""},{"$f":"IF(ISBLANK(Results!A48),\"\",Results!$G$2)","v":""},{"$f":"IF(ISBLANK(Results!A48),\"\",Results!$G$3)","v":""},null,{"$f":"IF(ISBLANK(Results!A48),\"\",Results!B48)","v":""},{"$f":"Results!D48","v":""},{"$f":"IF(ISBLANK(Results!B48),\"\",SUM(Results!$C$6:$C$45)/SUM(Results!$B$6:$B$45))","v":""},{"$f":"IF(ISBLANK(Results!A48),\"\",IF(E45=0,\"\",SQRT((F45*(1-F45))/E45)))","v":""},{"$f":"IF(ISBLANK(Results!A48),\"\",IF(E45=0,\"\",G45+H45*3))","v":""},{"$f":"IF(ISBLANK(Results!A48),\"\",IF(E45=0,\"\",G45-H45*3))","v":""}]
[{"$f":"IF(ISBLANK(Results!B49),\"\",Results!A49)","v":""},{"$f":"IF(ISBLANK(Results!A49),\"\",Results!$G$2)","v":""},{"$f":"IF(ISBLANK(Results!A49),\"\",Results!$G$3)","v":""},null,{"$f":"IF(ISBLANK(Results!A49),\"\",Results!B49)","v":""},{"$f":"Results!D49","v":""},{"$f":"IF(ISBLANK(Results!B49),\"\",SUM(Results!$C$6:$C$45)/SUM(Results!$B$6:$B$45))","v":""},{"$f":"IF(ISBLANK(Results!A49),\"\",IF(E46=0,\"\",SQRT((F46*(1-F46))/E46)))","v":""},{"$f":"IF(ISBLANK(Results!A49),\"\",IF(E46=0,\"\",G46+H46*3))","v":""},{"$f":"IF(ISBLANK(Results!A49),\"\",IF(E46=0,\"\",G46-H46*3))","v":""}]
[{"$f":"IF(ISBLANK(Results!B50),\"\",Results!A50)","v":""},{"$f":"IF(ISBLANK(Results!A50),\"\",Results!$G$2)","v":""},{"$f":"IF(ISBLANK(Results!A50),\"\",Results!$G$3)","v":""},null,{"$f":"IF(ISBLANK(Results!A50),\"\",Results!B50)","v":""},{"$f":"Results!D50","v":""},{"$f":"IF(ISBLANK(Results!B50),\"\",SUM(Results!$C$6:$C$45)/SUM(Results!$B$6:$B$45))","v":""},{"$f":"IF(ISBLANK(Results!A50),\"\",IF(E47=0,\"\",SQRT((F47*(1-F47))/E47)))","v":""},{"$f":"IF(ISBLANK(Results!A50),\"\",IF(E47=0,\"\",G47+H47*3))","v":""},{"$f":"IF(ISBLANK(Results!A50),\"\",IF(E47=0,\"\",G47-H47*3))","v":""}]
[{"$f":"IF(ISBLANK(Results!B51),\"\",Results!A51)","v":""},{"$f":"IF(ISBLANK(Results!A51),\"\",Results!$G$2)","v":""},{"$f":"IF(ISBLANK(Results!A51),\"\",Results!$G$3)","v":""},null,{"$f":"IF(ISBLANK(Results!A51),\"\",Results!B51)","v":""},{"$f":"Results!D51","v":""},{"$f":"IF(ISBLANK(Results!B51),\"\",SUM(Results!$C$6:$C$45)/SUM(Results!$B$6:$B$45))","v":""},{"$f":"IF(ISBLANK(Results!A51),\"\",IF(E48=0,\"\",SQRT((F48*(1-F48))/E48)))","v":""},{"$f":"IF(ISBLANK(Results!A51),\"\",IF(E48=0,\"\",G48+H48*3))","v":""},{"$f":"IF(ISBLANK(Results!A51),\"\",IF(E48=0,\"\",G48-H48*3))","v":""}]
[{"$f":"IF(ISBLANK(Results!B52),\"\",Results!A52)","v":""},{"$f":"IF(ISBLANK(Results!A52),\"\",Results!$G$2)","v":""},{"$f":"IF(ISBLANK(Results!A52),\"\",Results!$G$3)","v":""},null,{"$f":"IF(ISBLANK(Results!A52),\"\",Results!B52)","v":""},{"$f":"Results!D52","v":""},{"$f":"IF(ISBLANK(Results!B52),\"\",SUM(Results!$C$6:$C$45)/SUM(Results!$B$6:$B$45))","v":""},{"$f":"IF(ISBLANK(Results!A52),\"\",IF(E49=0,\"\",SQRT((F49*(1-F49))/E49)))","v":""},{"$f":"IF(ISBLANK(Results!A52),\"\",IF(E49=0,\"\",G49+H49*3))","v":""},{"$f":"IF(ISBLANK(Results!A52),\"\",IF(E49=0,\"\",G49-H49*3))","v":""}]
[{"$f":"IF(ISBLANK(Results!B53),\"\",Results!A53)","v":""},{"$f":"IF(ISBLANK(Results!A53),\"\",Results!$G$2)","v":""},{"$f":"IF(ISBLANK(Results!A53),\"\",Results!$G$3)","v":""},null,{"$f":"IF(ISBLANK(Results!A53),\"\",Results!B53)","v":""},{"$f":"Results!D53","v":""},{"$f":"IF(ISBLANK(Results!B53),\"\",SUM(Results!$C$6:$C$45)/SUM(Results!$B$6:$B$45))","v":""},{"$f":"IF(ISBLANK(Results!A53),\"\",IF(E50=0,\"\",SQRT((F50*(1-F50))/E50)))","v":""},{"$f":"IF(ISBLANK(Results!A53),\"\",IF(E50=0,\"\",G50+H50*3))","v":""},{"$f":"IF(ISBLANK(Results!A53),\"\",IF(E50=0,\"\",G50-H50*3))","v":""}]
[{"$f":"IF(ISBLANK(Results!B54),\"\",Results!A54)","v":""},{"$f":"IF(ISBLANK(Results!A54),\"\",Results!$G$2)","v":""},{"$f":"IF(ISBLANK(Results!A54),\"\",Results!$G$3)","v":""},null,{"$f":"IF(ISBLANK(Results!A54),\"\",Results!B54)","v":""},{"$f":"Results!D54","v":""},{"$f":"IF(ISBLANK(Results!B54),\"\",SUM(Results!$C$6:$C$45)/SUM(Results!$B$6:$B$45))","v":""},{"$f":"IF(ISBLANK(Results!A54),\"\",IF(E51=0,\"\",SQRT((F51*(1-F51))/E51)))","v":""},{"$f":"IF(ISBLANK(Results!A54),\"\",IF(E51=0,\"\",G51+H51*3))","v":""},{"$f":"IF(ISBLANK(Results!A54),\"\",IF(E51=0,\"\",G51-H51*3))","v":""}]
[{"$f":"IF(ISBLANK(Results!B55),\"\",Results!A55)","v":""},{"$f":"IF(ISBLANK(Results!A55),\"\",Results!$G$2)","v":""},{"$f":"IF(ISBLANK(Results!A55),\"\",Results!$G$3)","v":""},null,{"$f":"IF(ISBLANK(Results!A55),\"\",Results!B55)","v":""},{"$f":"Results!D55","v":""},{"$f":"IF(ISBLANK(Results!B55),\"\",SUM(Results!$C$6:$C$45)/SUM(Results!$B$6:$B$45))","v":""},{"$f":"IF(ISBLANK(Results!A55),\"\",IF(E52=0,\"\",SQRT((F52*(1-F52))/E52)))","v":""},{"$f":"IF(ISBLANK(Results!A55),\"\",IF(E52=0,\"\",G52+H52*3))","v":""},{"$f":"IF(ISBLANK(Results!A55),\"\",IF(E52=0,\"\",G52-H52*3))","v":""}]
[{"$f":"IF(ISBLANK(Results!B56),\"\",Results!A56)","v":""},{"$f":"IF(ISBLANK(Results!A56),\"\",Results!$G$2)","v":""},{"$f":"IF(ISBLANK(Results!A56),\"\",Results!$G$3)","v":""},null,{"$f":"IF(ISBLANK(Results!A56),\"\",Results!B56)","v":""},{"$f":"Results!D56","v":""},{"$f":"IF(ISBLANK(Results!B56),\"\",SUM(Results!$C$6:$C$45)/SUM(Results!$B$6:$B$45))","v":""},{"$f":"IF(ISBLANK(Results!A56),\"\",IF(E53=0,\"\",SQRT((F53*(1-F53))/E53)))","v":""},{"$f":"IF(ISBLANK(Results!A56),\"\",IF(E53=0,\"\",G53+H53*3))","v":""},{"$f":"IF(ISBLANK(Results!A56),\"\",IF(E53=0,\"\",G53-H53*3))","v":""}]
[{"$f":"IF(ISBLANK(Results!B57),\"\",Results!A57)","v":""},{"$f":"IF(ISBLANK(Results!A57),\"\",Results!$G$2)","v":""},{"$f":"IF(ISBLANK(Results!A57),\"\",Results!$G$3)","v":""},null,{"$f":"IF(ISBLANK(Results!A57),\"\",Results!B57)","v":""},{"$f":"Results!D57","v":""},{"$f":"IF(ISBLANK(Results!B57),\"\",SUM(Results!$C$6:$C$45)/SUM(Results!$B$6:$B$45))","v":""},{"$f":"IF(ISBLANK(Results!A57),\"\",IF(E54=0,\"\",SQRT((F54*(1-F54))/E54)))","v":""},{"$f":"IF(ISBLANK(Results!A57),\"\",IF(E54=0,\"\",G54+H54*3))","v":""},{"$f":"IF(ISBLANK(Results!A57),\"\",IF(E54=0,\"\",G54-H54*3))","v":""}]
[{"$f":"IF(ISBLANK(Results!B58),\"\",Results!A58)","v":""},{"$f":"IF(ISBLANK(Results!A58),\"\",Results!$G$2)","v":""},{"$f":"IF(ISBLANK(Results!A58),\"\",Results!$G$3)","v":""},null,{"$f":"IF(ISBLANK(Results!A58),\"\",Results!B58)","v":""},{"$f":"Results!D58","v":""},{"$f":"IF(ISBLANK(Results!B58),\"\",SUM(Results!$C$6:$C$45)/SUM(Results!$B$6:$B$45))","v":""},{"$f":"IF(ISBLANK(Results!A58),\"\",IF(E55=0,\"\",SQRT((F55*(1-F55))/E55)))","v":""},{"$f":"IF(ISBLANK(Results!A58),\"\",IF(E55=0,\"\",G55+H55*3))","v":""},{"$f":"IF(ISBLANK(Results!A58),\"\",IF(E55=0,\"\",G55-H55*3))","v":""}]
[{"$f":"IF(ISBLANK(Results!B59),\"\",Results!A59)","v":""},{"$f":"IF(ISBLANK(Results!A59),\"\",Results!$G$2)","v":""},{"$f":"IF(ISBLANK(Results!A59),\"\",Results!$G$3)","v":""},null,{"$f":"IF(ISBLANK(Results!A59),\"\",Results!B59)","v":""},{"$f":"Results!D59","v":""},{"$f":"IF(ISBLANK(Results!B59),\"\",SUM(Results!$C$6:$C$45)/SUM(Results!$B$6:$B$45))","v":""},{"$f":"IF(ISBLANK(Results!A59),\"\",IF(E56=0,\"\",SQRT((F56*(1-F56))/E56)))","v":""},{"$f":"IF(ISBLANK(Results!A59),\"\",IF(E56=0,\"\",G56+H56*3))","v":""},{"$f":"IF(ISBLANK(Results!A59),\"\",IF(E56=0,\"\",G56-H56*3))","v":""}]
[{"$f":"IF(ISBLANK(Results!B60),\"\",Results!A60)","v":""},{"$f":"IF(ISBLANK(Results!A60),\"\",Results!$G$2)","v":""},{"$f":"IF(ISBLANK(Results!A60),\"\",Results!$G$3)","v":""},null,{"$f":"IF(ISBLANK(Results!A60),\"\",Results!B60)","v":""},{"$f":"Results!D60","v":""},{"$f":"IF(ISBLANK(Results!B60),\"\",SUM(Results!$C$6:$C$45)/SUM(Results!$B$6:$B$45))","v":""},{"$f":"IF(ISBLANK(Results!A60),\"\",IF(E57=0,\"\",SQRT((F57*(1-F57))/E57)))","v":""},{"$f":"IF(ISBLANK(Results!A60),\"\",IF(E57=0,\"\",G57+H57*3))","v":""},{"$f":"IF(ISBLANK(Results!A60),\"\",IF(E57=0,\"\",G57-H57*3))","v":""}]