{"text_format":"1","workbook":"xlsx","n_sheets":10,"sheets":["Bulten","Veri1","Veri","CLAUS","ANALIZANDSI","ANDSIPRO","Analiz","KAYIT","Data","İstatistik"],"not_rendered":{"charts":0,"images":14,"macros":1,"external_links":1,"defined_names":97,"comments":0,"pivot_tables":0},"unopened":[],"bounds":{"document_bytes":16777216,"sheet_cells":100000,"rows_first":2000,"rows_last":500,"rows_between":2000,"halvings":0,"cell_chars":16384,"cell_head_chars":4096},"cells_cut":0,"cells_raw":0,"read":"whole","date_system":"1900"}

{"sheet":"Bulten","index":0,"n_rows":2026,"n_cols":36,"rows_kept":2026,"cut":false,"hidden":false,"merged":[[227,0,228,0],[227,1,228,1],[227,2,228,2],[227,10,228,10],[227,11,228,11],[229,0,230,0],[229,1,230,1],[229,2,230,2],[229,10,230,10],[229,11,230,11],[233,0,234,0],[233,1,234,1],[233,2,234,2],[233,10,234,10],[233,11,234,11],[235,2,236,2],[235,10,236,10],[235,11,236,11],[237,0,238,0],[237,1,238,1],[237,2,238,2],[237,10,238,10],[237,11,238,11],[235,0,236,0],[235,1,236,1],[225,0,226,0],[225,1,226,1],[225,2,226,2],[225,10,226,10],[225,11,226,11],[223,0,224,0],[223,1,224,1],[223,2,224,2],[223,10,224,10],[223,11,224,11],[221,0,222,0],[221,1,222,1],[221,2,222,2],[221,10,222,10],[221,11,222,11],[219,0,220,0],[219,1,220,1],[219,2,220,2],[219,10,220,10],[219,11,220,11],[217,0,218,0],[217,1,218,1],[217,2,218,2],[217,10,218,10],[217,11,218,11],[215,0,216,0],[215,1,216,1],[215,2,216,2],[215,10,216,10],[215,11,216,11],[213,0,214,0],[213,1,214,1],[213,2,214,2],[213,10,214,10],[213,11,214,11],[211,0,212,0],[211,1,212,1],[211,2,212,2],[211,10,212,10],[211,11,212,11],[209,0,210,0],[209,1,210,1],[209,2,210,2],[209,10,210,10],[209,11,210,11],[207,0,208,0],[207,1,208,1],[207,2,208,2],[207,10,208,10],[207,11,208,11],[205,0,206,0],[205,1,206,1],[205,2,206,2],[205,10,206,10],[205,11,206,11],[203,0,204,0],[203,1,204,1],[203,2,204,2],[203,10,204,10],[203,11,204,11],[201,0,202,0],[201,1,202,1],[201,2,202,2],[201,10,202,10],[201,11,202,11],[199,0,200,0],[199,1,200,1],[199,2,200,2],[199,10,200,10],[199,11,200,11],[197,0,198,0],[197,1,198,1],[197,2,198,2],[197,10,198,10],[197,11,198,11],[195,0,196,0],[195,1,196,1],[195,2,196,2],[195,10,196,10],[195,11,196,11],[193,0,194,0],[193,1,194,1],[193,2,194,2],[193,10,194,10],[193,11,194,11],[191,0,192,0],[191,1,192,1],[191,2,192,2],[191,10,192,10],[191,11,192,11],[189,0,190,0],[189,1,190,1],[189,2,190,2],[189,10,190,10],[189,11,190,11],[187,0,188,0],[187,1,188,1],[187,2,188,2],[187,10,188,10],[187,11,188,11],[185,0,186,0],[185,1,186,1],[185,2,186,2],[185,10,186,10],[185,11,186,11],[183,0,184,0],[183,1,184,1],[183,2,184,2],[183,10,184,10],[183,11,184,11],[181,0,182,0],[181,1,182,1],[181,2,182,2],[181,10,182,10],[181,11,182,11],[179,0,180,0],[179,1,180,1],[179,2,180,2],[179,10,180,10],[179,11,180,11],[177,0,178,0],[177,1,178,1],[177,2,178,2],[177,10,178,10],[177,11,178,11],[175,0,176,0],[175,1,176,1],[175,2,176,2],[175,10,176,10],[175,11,176,11],[173,0,174,0],[173,1,174,1],[173,2,174,2],[173,10,174,10],[173,11,174,11],[171,0,172,0],[171,1,172,1],[171,2,172,2],[171,10,172,10],[171,11,172,11],[169,0,170,0],[169,1,170,1],[169,2,170,2],[169,10,170,10],[169,11,170,11],[167,0,168,0],[167,1,168,1],[167,2,168,2],[167,10,168,10],[167,11,168,11],[165,0,166,0],[165,1,166,1],[165,2,166,2],[165,10,166,10],[165,11,166,11],[163,0,164,0],[163,1,164,1],[163,2,164,2],[163,10,164,10],[163,11,164,11],[161,0,162,0],[161,1,162,1],[161,2,162,2],[161,10,162,10],[161,11,162,11],[159,0,160,0],[159,1,160,1],[159,2,160,2],[159,10,160,10],[159,11,160,11],[157,0,158,0],[157,1,158,1],[157,2,158,2],[157,10,158,10],[157,11,158,11],[155,0,156,0],[155,1,156,1],[155,2,156,2],[155,10,156,10],[155,11,156,11],[153,0,154,0],[153,1,154,1],[153,2,154,2],[153,10,154,10],[153,11,154,11],[151,0,152,0],[151,1,152,1],[151,2,152,2],[151,10,152,10],[151,11,152,11],[149,0,150,0],[149,1,150,1],[149,2,150,2],[149,10,150,10],[149,11,150,11],[147,0,148,0],[147,1,148,1],[147,2,148,2],[147,10,148,10],[147,11,148,11],[145,0,146,0],[145,1,146,1],[145,2,146,2],[145,10,146,10],[145,11,146,11],[143,0,144,0],[143,1,144,1],[143,2,144,2],[143,10,144,10],[143,11,144,11],[141,0,142,0],[141,1,142,1],[141,2,142,2],[141,10,142,10],[141,11,142,11],[139,0,140,0],[139,1,140,1],[139,2,140,2],[139,10,140,10],[139,11,140,11],[137,0,138,0],[137,1,138,1],[137,2,138,2],[137,10,138,10],[137,11,138,11],[135,0,136,0],[135,1,136,1],[135,2,136,2],[135,10,136,10],[135,11,136,11],[133,0,134,0],[133,1,134,1],[133,2,134,2],[133,10,134,10],[133,11,134,11],[131,0,132,0],[131,1,132,1],[131,2,132,2],[131,10,132,10],[131,11,132,11],[129,0,130,0],[129,1,130,1],[129,2,130,2],[129,10,130,10],[129,11,130,11],[127,0,128,0],[127,1,128,1],[127,2,128,2],[127,10,128,10],[127,11,128,11],[125,0,126,0],[125,1,126,1],[125,2,126,2],[125,10,126,10],[125,11,126,11],[123,0,124,0],[123,1,124,1],[123,2,124,2],[123,10,124,10],[123,11,124,11],[121,0,122,0],[121,1,122,1],[121,2,122,2],[121,10,122,10],[121,11,122,11],[119,0,120,0],[119,1,120,1],[119,2,120,2],[119,10,120,10],[119,11,120,11],[117,0,118,0],[117,1,118,1],[117,2,118,2],[117,10,118,10],[117,11,118,11],[115,0,116,0],[115,1,116,1],[115,2,116,2],[115,10,116,10],[115,11,116,11],[113,0,114,0],[113,1,114,1],[113,2,114,2],[113,10,114,10],[113,11,114,11],[111,0,112,0],[111,1,112,1],[111,2,112,2],[111,10,112,10],[111,11,112,11],[109,0,110,0],[109,1,110,1],[109,2,110,2],[109,10,110,10],[109,11,110,11],[107,0,108,0],[107,1,108,1],[107,2,108,2],[107,10,108,10],[107,11,108,11],[105,0,106,0],[105,1,106,1],[105,2,106,2],[105,10,106,10],[105,11,106,11],[103,0,104,0],[103,1,104,1],[103,2,104,2],[103,10,104,10],[103,11,104,11],[101,0,102,0],[101,1,102,1],[101,2,102,2],[101,10,102,10],[101,11,102,11],[99,0,100,0],[99,1,100,1],[99,2,100,2],[99,10,100,10],[99,11,100,11],[97,0,98,0],[97,1,98,1],[97,2,98,2],[97,10,98,10],[97,11,98,11],[95,0,96,0],[95,1,96,1],[95,2,96,2],[95,10,96,10],[95,11,96,11],[93,0,94,0],[93,1,94,1],[93,2,94,2],[93,10,94,10],[93,11,94,11],[91,0,92,0],[91,1,92,1],[91,2,92,2],[91,10,92,10],[91,11,92,11],[89,0,90,0],[89,1,90,1],[89,2,90,2],[89,10,90,10],[89,11,90,11],[87,0,88,0],[87,1,88,1],[87,2,88,2],[87,10,88,10],[87,11,88,11],[85,0,86,0],[85,1,86,1],[85,2,86,2],[85,10,86,10],[85,11,86,11],[83,0,84,0],[83,1,84,1],[83,2,84,2],[83,10,84,10],[83,11,84,11],[81,0,82,0],[81,1,82,1],[81,2,82,2],[81,10,82,10],[81,11,82,11],[79,0,80,0],[79,1,80,1],[79,2,80,2],[79,10,80,10],[79,11,80,11],[77,0,78,0],[77,1,78,1],[77,2,78,2],[77,10,78,10],[77,11,78,11],[75,0,76,0],[75,1,76,1],[75,2,76,2],[75,10,76,10],[75,11,76,11],[73,0,74,0],[73,1,74,1],[73,2,74,2],[73,10,74,10],[73,11,74,11],[71,0,72,0],[71,1,72,1],[71,2,72,2],[71,10,72,10],[71,11,72,11],[69,0,70,0],[69,1,70,1],[69,2,70,2],[69,10,70,10],[69,11,70,11],[67,0,68,0],[67,1,68,1],[67,2,68,2],[67,10,68,10],[67,11,68,11],[65,0,66,0],[65,1,66,1],[65,2,66,2],[65,10,66,10],[65,11,66,11],[63,0,64,0],[63,1,64,1],[63,2,64,2],[63,10,64,10],[63,11,64,11],[61,0,62,0],[61,1,62,1],[61,2,62,2],[61,10,62,10],[61,11,62,11],[59,0,60,0],[59,1,60,1],[59,2,60,2],[59,10,60,10],[59,11,60,11],[57,0,58,0],[57,1,58,1],[57,2,58,2],[57,10,58,10],[57,11,58,11],[55,0,56,0],[55,1,56,1],[55,2,56,2],[55,10,56,10],[55,11,56,11],[53,0,54,0],[53,1,54,1],[53,2,54,2],[53,10,54,10],[53,11,54,11],[51,0,52,0],[51,1,52,1],[51,2,52,2],[51,10,52,10],[51,11,52,11],[49,0,50,0],[49,1,50,1],[49,2,50,2],[49,10,50,10],[49,11,50,11],[47,0,48,0],[47,1,48,1],[47,2,48,2],[47,10,48,10],[47,11,48,11],[45,0,46,0],[45,1,46,1],[45,2,46,2],[45,10,46,10],[45,11,46,11],[43,0,44,0],[43,1,44,1],[43,2,44,2],[43,10,44,10],[43,11,44,11],[37,0,38,0],[37,1,38,1],[37,2,38,2],[37,10,38,10],[37,11,38,11],[35,0,36,0],[35,1,36,1],[35,2,36,2],[35,10,36,10],[35,11,36,11],[41,0,42,0],[41,1,42,1],[41,2,42,2],[41,10,42,10],[41,11,42,11],[39,0,40,0],[39,1,40,1],[39,2,40,2],[39,10,40,10],[39,11,40,11],[29,11,30,11],[27,0,28,0],[27,1,28,1],[27,2,28,2],[17,2,18,2],[23,1,24,1],[23,2,24,2],[23,10,24,10],[23,11,24,11],[21,0,22,0],[21,1,22,1],[21,2,22,2],[21,10,22,10],[21,11,22,11],[27,10,28,10],[27,11,28,11],[3,0,4,0],[3,1,4,1],[3,2,4,2],[3,10,4,10],[3,11,4,11],[1,0,2,0],[1,1,2,1],[1,2,2,2],[1,10,2,10],[1,11,2,11],[23,0,24,0],[5,0,6,0],[5,1,6,1],[5,2,6,2],[5,10,6,10],[5,11,6,11],[19,0,20,0],[19,1,20,1],[19,2,20,2],[19,10,20,10],[19,11,20,11],[17,0,18,0],[15,10,16,10],[15,11,16,11],[13,0,14,0],[11,0,12,0],[11,1,12,1],[11,2,12,2],[11,10,12,10],[11,11,12,11],[9,2,10,2],[9,10,10,10],[9,11,10,11],[7,0,8,0],[231,0,232,0],[231,1,232,1],[231,2,232,2],[231,10,232,10],[231,11,232,11],[25,0,26,0],[25,1,26,1],[25,2,26,2],[25,10,26,10],[25,11,26,11],[33,0,34,0],[33,1,34,1],[33,2,34,2],[33,10,34,10],[33,11,34,11],[31,0,32,0],[31,1,32,1],[31,2,32,2],[31,10,32,10],[31,11,32,11],[29,0,30,0],[29,1,30,1],[29,2,30,2],[29,10,30,10],[7,1,8,1],[7,2,8,2],[7,10,8,10],[7,11,8,11],[17,11,18,11],[15,0,16,0],[15,1,16,1],[9,0,10,0],[9,1,10,1],[17,10,18,10],[17,1,18,1],[15,2,16,2],[13,1,14,1],[13,2,14,2],[13,10,14,10],[13,11,14,11],[239,0,240,0],[239,1,240,1],[239,2,240,2],[239,10,240,10],[239,11,240,11],[241,0,242,0],[241,1,242,1],[241,2,242,2],[241,10,242,10],[241,11,242,11],[243,0,244,0],[243,1,244,1],[243,2,244,2],[243,10,244,10],[243,11,244,11],[245,0,246,0],[245,1,246,1],[245,2,246,2],[245,10,246,10],[245,11,246,11],[247,0,248,0],[247,1,248,1],[247,2,248,2],[247,10,248,10],[247,11,248,11],[249,0,250,0],[249,1,250,1],[249,2,250,2],[249,10,250,10],[249,11,250,11],[251,0,252,0],[251,1,252,1],[251,2,252,2],[251,10,252,10],[251,11,252,11],[253,0,254,0],[253,1,254,1],[253,2,254,2],[253,10,254,10],[253,11,254,11],[255,0,256,0],[255,1,256,1],[255,2,256,2],[255,10,256,10],[255,11,256,11],[257,0,258,0],[257,1,258,1],[257,2,258,2],[257,10,258,10],[257,11,258,11],[259,0,260,0],[259,1,260,1],[259,2,260,2],[259,10,260,10],[259,11,260,11],[261,0,262,0],[261,1,262,1],[261,2,262,2],[261,10,262,10],[261,11,262,11],[263,0,264,0],[263,1,264,1],[263,2,264,2],[263,10,264,10],[263,11,264,11],[265,0,266,0],[265,1,266,1],[265,2,266,2],[265,10,266,10],[265,11,266,11],[267,0,268,0],[267,1,268,1],[267,2,268,2],[267,10,268,10],[267,11,268,11],[269,0,270,0],[269,1,270,1],[269,2,270,2],[269,10,270,10],[269,11,270,11],[271,0,272,0],[271,1,272,1],[271,2,272,2],[271,10,272,10],[271,11,272,11],[273,0,274,0],[273,1,274,1],[273,2,274,2],[273,10,274,10],[273,11,274,11],[275,0,276,0],[275,1,276,1],[275,2,276,2],[275,10,276,10],[275,11,276,11],[277,0,278,0],[277,1,278,1],[277,2,278,2],[277,10,278,10],[277,11,278,11],[279,0,280,0],[279,1,280,1],[279,2,280,2],[279,10,280,10],[279,11,280,11],[281,0,282,0],[281,1,282,1],[281,2,282,2],[281,10,282,10],[281,11,282,11],[283,0,284,0],[283,1,284,1],[283,2,284,2],[283,10,284,10],[283,11,284,11],[285,0,286,0],[285,1,286,1],[285,2,286,2],[285,10,286,10],[285,11,286,11],[287,0,288,0],[287,1,288,1],[287,2,288,2],[287,10,288,10],[287,11,288,11],[289,0,290,0],[289,1,290,1],[289,2,290,2],[289,10,290,10],[289,11,290,11],[291,0,292,0],[291,1,292,1],[291,2,292,2],[291,10,292,10],[291,11,292,11],[293,0,294,0],[293,1,294,1],[293,2,294,2],[293,10,294,10],[293,11,294,11],[295,0,296,0],[295,1,296,1],[295,2,296,2],[295,10,296,10],[295,11,296,11],[297,0,298,0],[297,1,298,1],[297,2,298,2],[297,10,298,10],[297,11,298,11],[299,0,300,0],[299,1,300,1],[299,2,300,2],[299,10,300,10],[299,11,300,11],[301,0,302,0],[301,1,302,1],[301,2,302,2],[301,10,302,10],[301,11,302,11],[303,0,304,0],[303,1,304,1],[303,2,304,2],[303,10,304,10],[303,11,304,11],[305,0,306,0],[305,1,306,1],[305,2,306,2],[305,10,306,10],[305,11,306,11],[307,0,308,0],[307,1,308,1],[307,2,308,2],[307,10,308,10],[307,11,308,11],[309,0,310,0],[309,1,310,1],[309,2,310,2],[309,10,310,10],[309,11,310,11],[311,0,312,0],[311,1,312,1],[311,2,312,2],[311,10,312,10],[311,11,312,11],[313,0,314,0],[313,1,314,1],[313,2,314,2],[313,10,314,10],[313,11,314,11],[315,0,316,0],[315,1,316,1],[315,2,316,2],[315,10,316,10],[315,11,316,11],[317,0,318,0],[317,1,318,1],[317,2,318,2],[317,10,318,10],[317,11,318,11],[319,0,320,0],[319,1,320,1],[319,2,320,2],[319,10,320,10],[319,11,320,11],[321,0,322,0],[321,1,322,1],[321,2,322,2],[321,10,322,10],[321,11,322,11]]}
["League","Time","Home","HW","D","AW","HWR","DR","AWR","Return","Away","Compare",null,null,null,null,null,null,null,null,null,null,null,null,null,null,null,null,null,null,null,null,null,"ANALİZ YAPILACAK TAKIM","BET365",{"$f":"VLOOKUP(AI1,AI2:AJ15,2,FALSE)","v":8}]
["COL D1",null,"Patriotas FC",2.27,3.12,2.92,0.39910000000000001,0.29039999999999999,0.31040000000000001,0.90529999999999999,"Deportiva Once Caldas","View(115)",null,{"$f":"IF(A2<>\"\",TEXT(A2,\"\"),\"\")","v":"COL D1"},{"$f":"IF(N2=\"\",\"\",CONCATENATE(IF(C2<>\"\",TEXT(C2,\"\"),\"\"),\" - \",IF(K2<>\"\",TEXT(K2,\"\"),\"\")))","v":"Patriotas FC - Deportiva Once Caldas"},{"$f":"SUBSTITUTE(SUBSTITUTE(SUBSTITUTE(SUBSTITUTE(IF(L2<>\"\",HLink(L2),\"\"),\"htm\",\"html\"),\"1x2\",\"analysis\"),\"www\",\"www\"),\"com\",\"vip\")","v":"http://www.nowgoal.vip/analysis/1659012.html"},{"$f":"IF(D2<>\"\",D2,\"\")","v":2.27},{"$f":"IF(E2<>\"\",E2,\"\")","v":3.12},{"$f":"IF(F2<>\"\",F2,\"\")","v":2.92},{"$f":"IF(N2<>\"\",IF(D3<>\"\",D3,D2),\"\")","v":2.0099999999999998},{"$f":"IF(N2<>\"\",IF(E3<>\"\",E3,E2),\"\")","v":3.07},{"$f":"IF(N2<>\"\",IF(F3<>\"\",F3,F2),\"\")","v":3.69},null,"COL D1","Patriotas FC - Deportiva Once Caldas","http://www.nowgoal.vip/analysis/1659012.html",2.27,3.12,2.92,2.0099999999999998,3.07,3.69,null,"Thun - Lugano","12BET",24]
[null,null,null,2.0099999999999998,3.07,3.69,0.4541,0.29799999999999999,0.24779999999999999,0.91469999999999996,null,null,null,null,null,{"$f":"SUBSTITUTE(SUBSTITUTE(SUBSTITUTE(SUBSTITUTE(IF(L3<>\"\",HLink(L3),\"\"),\"htm\",\"html\"),\"1x2\",\"analysis\"),\"www\",\"www\"),\"com\",\"vip\")","v":""},null,null,null,null,null,null,null,"NIC CUP","Niquinohomo FC - UNAN Managua","http://www.nowgoal.vip/analysis/1677239.html",5.5,4.5,1.4,5.5,4.5,1.4,null,{"$f":"VLOOKUP(AH2,Y:AA,2,FALSE)","v":"http://www.nowgoal.vip/analysis/1671539.html"},"188BET",23]
["NIC CUP",null,"Niquinohomo FC",5.5,4.5,1.4,0.16259999999999999,0.19869999999999999,0.63870000000000005,0.89429999999999998,"UNAN Managua","View(1)",null,{"$f":"IF(A4<>\"\",TEXT(A4,\"\"),\"\")","v":"NIC CUP"},{"$f":"IF(N4=\"\",\"\",CONCATENATE(IF(C4<>\"\",TEXT(C4,\"\"),\"\"),\" - \",IF(K4<>\"\",TEXT(K4,\"\"),\"\")))","v":"Niquinohomo FC - UNAN Managua"},"http://www.nowgoal.vip/analysis/1677239.html",{"$f":"IF(D4<>\"\",D4,\"\")","v":5.5},{"$f":"IF(E4<>\"\",E4,\"\")","v":4.5},{"$f":"IF(F4<>\"\",F4,\"\")","v":1.4},{"$f":"IF(N4<>\"\",IF(D5<>\"\",D5,D4),\"\")","v":5.5},{"$f":"IF(N4<>\"\",IF(E5<>\"\",E5,E4),\"\")","v":4.5},{"$f":"IF(N4<>\"\",IF(F5<>\"\",F5,F4),\"\")","v":1.4},null,"INT FRL","England (w)(N) - Brazil (w)","http://www.nowgoal.vip/analysis/1674856.html",1.97,3.36,3.43,1.75,3.48,4.07,null,{"$f":"VLOOKUP(AH2,Y:AA,2,FALSE)","v":"http://www.nowgoal.vip/analysis/1671539.html"},"18BET",42]
[null,null,null,null,null,null,null,null,null,null,null,null,null,null,null,"",null,null,null,null,null,null,null,"PAR D1","Sportivo Luqueno - Sol de America","http://www.nowgoal.vip/analysis/1650701.html",2.4700000000000002,3.28,2.62,3.04,3.26,2.15,null,{"$f":"VLOOKUP(AH2,Y:AA,2,FALSE)","v":"http://www.nowgoal.vip/analysis/1671539.html"},"BET365",8]
["INT FRL",null,"England (w)(N)",1.97,3.36,3.43,0.46279999999999999,0.27110000000000001,0.2661,0.91239999999999999,"Brazil (w)","View(61)",null,{"$f":"IF(A6<>\"\",TEXT(A6,\"\"),\"\")","v":"INT FRL"},{"$f":"IF(N6=\"\",\"\",CONCATENATE(IF(C6<>\"\",TEXT(C6,\"\"),\"\"),\" - \",IF(K6<>\"\",TEXT(K6,\"\"),\"\")))","v":"England (w)(N) - Brazil (w)"},"http://www.nowgoal.vip/analysis/1674856.html",{"$f":"IF(D6<>\"\",D6,\"\")","v":1.97},{"$f":"IF(E6<>\"\",E6,\"\")","v":3.36},{"$f":"IF(F6<>\"\",F6,\"\")","v":3.43},{"$f":"IF(N6<>\"\",IF(D7<>\"\",D7,D6),\"\")","v":1.75},{"$f":"IF(N6<>\"\",IF(E7<>\"\",E7,E6),\"\")","v":3.48},{"$f":"IF(N6<>\"\",IF(F7<>\"\",F7,F6),\"\")","v":4.07},null,"PRL","Sporting San Miguelito Reserves - Tauro Reserves","http://www.nowgoal.vip/analysis/1676753.html",2.39,3.59,2.44,2.39,3.59,2.44,null,null,"CROWN",3]
[null,null,null,1.75,3.48,4.07,0.51739999999999997,0.26019999999999999,0.22239999999999999,0.90529999999999999,null,null,null,null,null,"",null,null,null,null,null,null,null,"Brazil DDL","Igrejinha - Tres Passos RS","http://www.nowgoal.vip/analysis/1676587.html",2.88,2.95,2.36,2.86,2.97,2.39,null,null,"EASYBET",12]
["PAR D1",null,"Sportivo Luqueno",2.4700000000000002,3.28,2.62,0.37090000000000001,0.2792,0.34989999999999999,0.91639999999999999,"Sol de America","View(100)",null,{"$f":"IF(A8<>\"\",TEXT(A8,\"\"),\"\")","v":"PAR D1"},{"$f":"IF(N8=\"\",\"\",CONCATENATE(IF(C8<>\"\",TEXT(C8,\"\"),\"\"),\" - \",IF(K8<>\"\",TEXT(K8,\"\"),\"\")))","v":"Sportivo Luqueno - Sol de America"},"http://www.nowgoal.vip/analysis/1650701.html",{"$f":"IF(D8<>\"\",D8,\"\")","v":2.4700000000000002},{"$f":"IF(E8<>\"\",E8,\"\")","v":3.28},{"$f":"IF(F8<>\"\",F8,\"\")","v":2.62},{"$f":"IF(N8<>\"\",IF(D9<>\"\",D9,D8),\"\")","v":3.04},{"$f":"IF(N8<>\"\",IF(E9<>\"\",E9,E8),\"\")","v":3.26},{"$f":"IF(N8<>\"\",IF(F9<>\"\",F9,F8),\"\")","v":2.15},null,"BRA D4","Fast Clube AM - Princesa AM","http://www.nowgoal.vip/analysis/1676712.html",2.23,3.25,2.74,2.31,3.25,2.65,null,null,"INTERWETTEN",19]
[null,null,null,3.04,3.26,2.15,0.29859999999999998,0.2787,0.42270000000000002,0.90910000000000002,null,null,null,null,null,"",null,null,null,null,null,null,null,"CON CLA","Palestino(N) - Talleres Cordoba","http://www.nowgoal.vip/analysis/1672284.html",2.62,2.85,2.8,2.65,2.86,2.78,null,null,"LADBROKES",4]
["PRL",null,"Sporting San Miguelito Reserves",2.39,3.59,2.44,0.37809999999999999,0.25159999999999999,0.37030000000000002,0.90269999999999995,"Tauro Reserves","View(4)",null,{"$f":"IF(A10<>\"\",TEXT(A10,\"\"),\"\")","v":"PRL"},{"$f":"IF(N10=\"\",\"\",CONCATENATE(IF(C10<>\"\",TEXT(C10,\"\"),\"\"),\" - \",IF(K10<>\"\",TEXT(K10,\"\"),\"\")))","v":"Sporting San Miguelito Reserves - Tauro Reserves"},"http://www.nowgoal.vip/analysis/1676753.html",{"$f":"IF(D10<>\"\",D10,\"\")","v":2.39},{"$f":"IF(E10<>\"\",E10,\"\")","v":3.59},{"$f":"IF(F10<>\"\",F10,\"\")","v":2.44},{"$f":"IF(N10<>\"\",IF(D11<>\"\",D11,D10),\"\")","v":2.39},{"$f":"IF(N10<>\"\",IF(E11<>\"\",E11,E10),\"\")","v":3.59},{"$f":"IF(N10<>\"\",IF(F11<>\"\",F11,F10),\"\")","v":2.44},null,"CON CSA","Monagas SC - Royal Pari FC","http://www.nowgoal.vip/analysis/1674846.html",1.79,3.45,4.13,1.76,3.45,4.33,null,null,"M88",17]
[null,null,null,null,null,null,null,null,null,null,null,null,null,null,null,"",null,null,null,null,null,null,null,"BOL D1","Jorge Wilstermann - Destroyers","http://www.nowgoal.vip/analysis/1656420.html",1.33,5.03,6.49,1.25,5.41,9.25,null,{"$f":"VLOOKUP(AH2,O:S,3,FALSE)","v":1.91},"MACAUSLOT",1]
["Brazil DDL",null,"Igrejinha",2.88,2.95,2.36,0.31340000000000001,0.30520000000000003,0.38140000000000002,0.90149999999999997,"Tres Passos RS","View(23)",null,{"$f":"IF(A12<>\"\",TEXT(A12,\"\"),\"\")","v":"Brazil DDL"},{"$f":"IF(N12=\"\",\"\",CONCATENATE(IF(C12<>\"\",TEXT(C12,\"\"),\"\"),\" - \",IF(K12<>\"\",TEXT(K12,\"\"),\"\")))","v":"Igrejinha - Tres Passos RS"},"http://www.nowgoal.vip/analysis/1676587.html",{"$f":"IF(D12<>\"\",D12,\"\")","v":2.88},{"$f":"IF(E12<>\"\",E12,\"\")","v":2.95},{"$f":"IF(F12<>\"\",F12,\"\")","v":2.36},{"$f":"IF(N12<>\"\",IF(D13<>\"\",D13,D12),\"\")","v":2.86},{"$f":"IF(N12<>\"\",IF(E13<>\"\",E13,E12),\"\")","v":2.97},{"$f":"IF(N12<>\"\",IF(F13<>\"\",F13,F12),\"\")","v":2.39},null,"BRA CUP","Foz do Iguacu PR - Ceara","http://www.nowgoal.vip/analysis/1672834.html",5.36,3.58,1.59,6.38,3.63,1.51,null,{"$f":"VLOOKUP(AH2,O:S,4,FALSE)","v":3.44},"SBOBET",31]
[null,null,null,2.86,2.97,2.39,0.31669999999999998,0.30430000000000001,0.379,0.90439999999999998,null,null,null,null,null,"",null,null,null,null,null,null,null,"COL D1","Deportes Tolima - Atletico Bucaramanga","http://www.nowgoal.vip/analysis/1659013.html",1.79,3.35,4.1399999999999997,1.68,3.44,4.74,null,{"$f":"VLOOKUP(AH2,O:S,5,FALSE)","v":3.47},"SNAI",7]
["BRA D4",null,"Fast Clube AM",2.23,3.25,2.74,0.4002,0.27439999999999998,0.32540000000000002,0.89290000000000003,"Princesa AM","View(24)",null,{"$f":"IF(A14<>\"\",TEXT(A14,\"\"),\"\")","v":"BRA D4"},{"$f":"IF(N14=\"\",\"\",CONCATENATE(IF(C14<>\"\",TEXT(C14,\"\"),\"\"),\" - \",IF(K14<>\"\",TEXT(K14,\"\"),\"\")))","v":"Fast Clube AM - Princesa AM"},"http://www.nowgoal.vip/analysis/1676712.html",{"$f":"IF(D14<>\"\",D14,\"\")","v":2.23},{"$f":"IF(E14<>\"\",E14,\"\")","v":3.25},{"$f":"IF(F14<>\"\",F14,\"\")","v":2.74},{"$f":"IF(N14<>\"\",IF(D15<>\"\",D15,D14),\"\")","v":2.31},{"$f":"IF(N14<>\"\",IF(E15<>\"\",E15,E14),\"\")","v":3.25},{"$f":"IF(N14<>\"\",IF(F15<>\"\",F15,F14),\"\")","v":2.65},null,"BRA CCD1","Avai FC SC - Chapecoense SC","http://www.nowgoal.vip/analysis/1652970.html",2.09,3.3,3.13,2.31,3.17,2.84,null,{"$f":"VLOOKUP(AH2,O:V,6,FALSE)","v":1.91},"VCBET",14]
[null,null,null,2.31,3.25,2.65,0.38729999999999998,0.2752,0.33750000000000002,0.89549999999999996,null,null,null,null,null,"",null,null,null,null,null,null,null,"BRA CCD1","Criciuma - Hercilio Luz SC","http://www.nowgoal.vip/analysis/1652972.html",1.53,3.68,5.76,1.44,3.8,6.79,null,{"$f":"VLOOKUP(AH2,O:V,7,FALSE)","v":3.49},"WİLLHİLL",9]
["CON CLA",null,"Palestino(N)",2.62,2.85,2.8,0.35060000000000002,0.32190000000000002,0.32750000000000001,0.91690000000000005,"Talleres Cordoba","View(159)",null,{"$f":"IF(A16<>\"\",TEXT(A16,\"\"),\"\")","v":"CON CLA"},{"$f":"IF(N16=\"\",\"\",CONCATENATE(IF(C16<>\"\",TEXT(C16,\"\"),\"\"),\" - \",IF(K16<>\"\",TEXT(K16,\"\"),\"\")))","v":"Palestino(N) - Talleres Cordoba"},"http://www.nowgoal.vip/analysis/1672284.html",{"$f":"IF(D16<>\"\",D16,\"\")","v":2.62},{"$f":"IF(E16<>\"\",E16,\"\")","v":2.85},{"$f":"IF(F16<>\"\",F16,\"\")","v":2.8},{"$f":"IF(N16<>\"\",IF(D17<>\"\",D17,D16),\"\")","v":2.65},{"$f":"IF(N16<>\"\",IF(E17<>\"\",E17,E16),\"\")","v":2.86},{"$f":"IF(N16<>\"\",IF(F17<>\"\",F17,F16),\"\")","v":2.78},null,"BRA PE","Petrolina PE - Flamengo de Arcoverde","http://www.nowgoal.vip/analysis/1652764.html",2.57,3.34,2.37,2.35,3.37,2.65,null,{"$f":"VLOOKUP(AH2,O:V,8,FALSE)","v":3.49}]
[null,null,null,2.65,2.86,2.78,0.34689999999999999,0.32229999999999998,0.33079999999999998,0.92079999999999995,null,null,null,null,null,"",null,null,null,null,null,null,null,"BRA CP","ASSU RN - Globo","http://www.nowgoal.vip/analysis/1675377.html",3.77,2.88,2,3.77,2.85,2.04]
["CON CSA",null,"Monagas SC",1.79,3.45,4.13,0.51259999999999994,0.26540000000000002,0.22189999999999999,0.9163,"Royal Pari FC","View(161)",null,{"$f":"IF(A18<>\"\",TEXT(A18,\"\"),\"\")","v":"CON CSA"},{"$f":"IF(N18=\"\",\"\",CONCATENATE(IF(C18<>\"\",TEXT(C18,\"\"),\"\"),\" - \",IF(K18<>\"\",TEXT(K18,\"\"),\"\")))","v":"Monagas SC - Royal Pari FC"},"http://www.nowgoal.vip/analysis/1674846.html",{"$f":"IF(D18<>\"\",D18,\"\")","v":1.79},{"$f":"IF(E18<>\"\",E18,\"\")","v":3.45},{"$f":"IF(F18<>\"\",F18,\"\")","v":4.13},{"$f":"IF(N18<>\"\",IF(D19<>\"\",D19,D18),\"\")","v":1.76},{"$f":"IF(N18<>\"\",IF(E19<>\"\",E19,E18),\"\")","v":3.45},{"$f":"IF(N18<>\"\",IF(F19<>\"\",F19,F18),\"\")","v":4.33},null,"BRA CP","Potiguar RN - America FC Natal RN","http://www.nowgoal.vip/analysis/1675378.html",3.28,3.25,2,3.01,3.22,2.14]
[null,null,null,1.76,3.45,4.33,0.52129999999999999,0.26650000000000001,0.2122,0.91890000000000005,null,null,null,null,null,"",null,null,null,null,null,null,null,"Bra SD","EC Flamengo PI - River PI","http://www.nowgoal.vip/analysis/1676603.html",3.28,3.11,2.08,3.29,3.05,2.13]
["BOL D1",null,"Jorge Wilstermann",1.33,5.03,6.49,0.68030000000000002,0.1802,0.1396,0.90600000000000003,"Destroyers","View(94)",null,{"$f":"IF(A20<>\"\",TEXT(A20,\"\"),\"\")","v":"BOL D1"},{"$f":"IF(N20=\"\",\"\",CONCATENATE(IF(C20<>\"\",TEXT(C20,\"\"),\"\"),\" - \",IF(K20<>\"\",TEXT(K20,\"\"),\"\")))","v":"Jorge Wilstermann - Destroyers"},"http://www.nowgoal.vip/analysis/1656420.html",{"$f":"IF(D20<>\"\",D20,\"\")","v":1.33},{"$f":"IF(E20<>\"\",E20,\"\")","v":5.03},{"$f":"IF(F20<>\"\",F20,\"\")","v":6.49},{"$f":"IF(N20<>\"\",IF(D21<>\"\",D21,D20),\"\")","v":1.25},{"$f":"IF(N20<>\"\",IF(E21<>\"\",E21,E20),\"\")","v":5.41},{"$f":"IF(N20<>\"\",IF(F21<>\"\",F21,F20),\"\")","v":9.25},null,"Bra SD","4 de Julho - Parnahyba PI","http://www.nowgoal.vip/analysis/1677141.html",1.8,3.04,3.91,1.83,3.11,4,null,"Crown"]
[null,null,null,1.25,5.41,9.25,0.73229999999999995,0.16889999999999999,9.8799999999999999E-2,0.91379999999999995,null,null,null,null,null,"",null,null,null,null,null,null,null,"Brazil DDL","CS Esportivo AL - Tupi RS","http://www.nowgoal.vip/analysis/1676704.html",1.75,3.17,4.43,1.75,3.22,4.45]
["BRA CUP",null,"Foz do Iguacu PR",5.36,3.58,1.59,0.1706,0.25530000000000003,0.57410000000000005,0.91459999999999997,"Ceara","View(96)",null,{"$f":"IF(A22<>\"\",TEXT(A22,\"\"),\"\")","v":"BRA CUP"},{"$f":"IF(N22=\"\",\"\",CONCATENATE(IF(C22<>\"\",TEXT(C22,\"\"),\"\"),\" - \",IF(K22<>\"\",TEXT(K22,\"\"),\"\")))","v":"Foz do Iguacu PR - Ceara"},"http://www.nowgoal.vip/analysis/1672834.html",{"$f":"IF(D22<>\"\",D22,\"\")","v":5.36},{"$f":"IF(E22<>\"\",E22,\"\")","v":3.58},{"$f":"IF(F22<>\"\",F22,\"\")","v":1.59},{"$f":"IF(N22<>\"\",IF(D23<>\"\",D23,D22),\"\")","v":6.38},{"$f":"IF(N22<>\"\",IF(E23<>\"\",E23,E22),\"\")","v":3.63},{"$f":"IF(N22<>\"\",IF(F23<>\"\",F23,F22),\"\")","v":1.51},null,"Brazil DDL","CE Lajeadense - GA Farroupilha/RS","http://www.nowgoal.vip/analysis/1676588.html",1.73,3.53,4.1100000000000003,1.73,3.46,4.24,null,"12BET"]
[null,null,null,6.38,3.63,1.51,0.1431,0.25180000000000002,0.60519999999999996,0.91320000000000001,null,null,null,null,null,"",null,null,null,null,null,null,null,"Brazil DDL","Sao Paulo RS - GE Bage","http://www.nowgoal.vip/analysis/1676589.html",1.95,3.46,3.28,1.93,3.48,3.37]
["COL D1",null,"Deportes Tolima",1.79,3.35,4.1399999999999997,0.50900000000000001,0.27139999999999997,0.21959999999999999,0.90890000000000004,"Atletico Bucaramanga","View(113)",null,{"$f":"IF(A24<>\"\",TEXT(A24,\"\"),\"\")","v":"COL D1"},{"$f":"IF(N24=\"\",\"\",CONCATENATE(IF(C24<>\"\",TEXT(C24,\"\"),\"\"),\" - \",IF(K24<>\"\",TEXT(K24,\"\"),\"\")))","v":"Deportes Tolima - Atletico Bucaramanga"},"http://www.nowgoal.vip/analysis/1659013.html",{"$f":"IF(D24<>\"\",D24,\"\")","v":1.79},{"$f":"IF(E24<>\"\",E24,\"\")","v":3.35},{"$f":"IF(F24<>\"\",F24,\"\")","v":4.1399999999999997},{"$f":"IF(N24<>\"\",IF(D25<>\"\",D25,D24),\"\")","v":1.68},{"$f":"IF(N24<>\"\",IF(E25<>\"\",E25,E24),\"\")","v":3.44},{"$f":"IF(N24<>\"\",IF(F25<>\"\",F25,F24),\"\")","v":4.74},null,"Brazil DDL","Ypiranga(RS) - Uniao Frederiquense RS","http://www.nowgoal.vip/analysis/1676590.html",1.55,3.51,5.49,1.51,3.63,5.85,null,"Sbobet"]
[null,null,null,1.68,3.44,4.74,0.54300000000000004,0.2646,0.1923,0.91139999999999999,null,null,null,null,null,"",null,null,null,null,null,null,null,"BRA SE","Confianca SE - Lagarto","http://www.nowgoal.vip/analysis/1676677.html",1.6,3.73,4.68,1.61,3.7,4.74]
["BRA CCD1",null,"Avai FC SC",2.09,3.3,3.13,0.43469999999999998,0.27539999999999998,0.28989999999999999,0.9083,"Chapecoense SC","View(91)",null,{"$f":"IF(A26<>\"\",TEXT(A26,\"\"),\"\")","v":"BRA CCD1"},{"$f":"IF(N26=\"\",\"\",CONCATENATE(IF(C26<>\"\",TEXT(C26,\"\"),\"\"),\" - \",IF(K26<>\"\",TEXT(K26,\"\"),\"\")))","v":"Avai FC SC - Chapecoense SC"},"http://www.nowgoal.vip/analysis/1652970.html",{"$f":"IF(D26<>\"\",D26,\"\")","v":2.09},{"$f":"IF(E26<>\"\",E26,\"\")","v":3.3},{"$f":"IF(F26<>\"\",F26,\"\")","v":3.13},{"$f":"IF(N26<>\"\",IF(D27<>\"\",D27,D26),\"\")","v":2.31},{"$f":"IF(N26<>\"\",IF(E27<>\"\",E27,E26),\"\")","v":3.17},{"$f":"IF(N26<>\"\",IF(F27<>\"\",F27,F26),\"\")","v":2.84},null,"BRA CCX","Desportiva Capixaba (ES) - Real Noroeste","http://www.nowgoal.vip/analysis/1676591.html",2.5,3,2.71,2.41,2.99,2.81,null,"Macauslot"]
[null,null,null,2.31,3.17,2.84,0.39369999999999999,0.28649999999999998,0.31979999999999997,0.90880000000000005,null,null,null,null,null,"",null,null,null,null,null,null,null,"BRA CBD","Juazeirense - Jacobina EC","http://www.nowgoal.vip/analysis/1658263.html",1.83,3.54,3.68,1.99,3.52,3.17]
["BRA CCD1",null,"Criciuma",1.53,3.68,5.76,0.59519999999999995,0.24690000000000001,0.1578,0.90910000000000002,"Hercilio Luz SC","View(87)",null,{"$f":"IF(A28<>\"\",TEXT(A28,\"\"),\"\")","v":"BRA CCD1"},{"$f":"IF(N28=\"\",\"\",CONCATENATE(IF(C28<>\"\",TEXT(C28,\"\"),\"\"),\" - \",IF(K28<>\"\",TEXT(K28,\"\"),\"\")))","v":"Criciuma - Hercilio Luz SC"},"http://www.nowgoal.vip/analysis/1652972.html",{"$f":"IF(D28<>\"\",D28,\"\")","v":1.53},{"$f":"IF(E28<>\"\",E28,\"\")","v":3.68},{"$f":"IF(F28<>\"\",F28,\"\")","v":5.76},{"$f":"IF(N28<>\"\",IF(D29<>\"\",D29,D28),\"\")","v":1.44},{"$f":"IF(N28<>\"\",IF(E29<>\"\",E29,E28),\"\")","v":3.8},{"$f":"IF(N28<>\"\",IF(F29<>\"\",F29,F28),\"\")","v":6.79},null,"BRA CBD","Vitoria BA - Alagoinhas Atletico BA","http://www.nowgoal.vip/analysis/1658264.html",1.28,4.99,8.32,1.27,5.3,8.16,null,"Ladbrokes"]
[null,null,null,1.44,3.8,6.79,0.628,0.23849999999999999,0.13339999999999999,0.90659999999999996,null,null,null,null,null,"",null,null,null,null,null,null,null,"BRA CP","ABC RN - Palmeira RN","http://www.nowgoal.vip/analysis/1675379.html",1.24,5.16,9.9600000000000009,1.32,4.62,8.11]
["BRA PE",null,"Petrolina PE",2.57,3.34,2.37,0.35039999999999999,0.27010000000000001,0.37940000000000002,0.90090000000000003,"Flamengo de Arcoverde","View(17)",null,{"$f":"IF(A30<>\"\",TEXT(A30,\"\"),\"\")","v":"BRA PE"},{"$f":"IF(N30=\"\",\"\",CONCATENATE(IF(C30<>\"\",TEXT(C30,\"\"),\"\"),\" - \",IF(K30<>\"\",TEXT(K30,\"\"),\"\")))","v":"Petrolina PE - Flamengo de Arcoverde"},"http://www.nowgoal.vip/analysis/1652764.html",{"$f":"IF(D30<>\"\",D30,\"\")","v":2.57},{"$f":"IF(E30<>\"\",E30,\"\")","v":3.34},{"$f":"IF(F30<>\"\",F30,\"\")","v":2.37},{"$f":"IF(N30<>\"\",IF(D31<>\"\",D31,D30),\"\")","v":2.35},{"$f":"IF(N30<>\"\",IF(E31<>\"\",E31,E30),\"\")","v":3.37},{"$f":"IF(N30<>\"\",IF(F31<>\"\",F31,F30),\"\")","v":2.65},null,"BRA PB","Perilima PB - Nacional de Patos PB","http://www.nowgoal.vip/analysis/1654852.html",1.66,3.7,4.55,1.61,3.66,4.9000000000000004,null,"Bet365"]
[null,null,null,2.35,3.37,2.65,0.38719999999999999,0.27,0.34279999999999999,0.90949999999999998,null,null,null,null,null,"",null,null,null,null,null,null,null,"PAR D1","Olimpia Asuncion - Deportivo Capiata","http://www.nowgoal.vip/analysis/1650700.html",1.37,4.5,6.67,1.39,4.4000000000000004,6.33]
["BRA CP",null,"ASSU RN",3.77,2.88,2,0.23849999999999999,0.31209999999999999,0.44940000000000002,0.89990000000000003,"Globo","View(24)",null,{"$f":"IF(A32<>\"\",TEXT(A32,\"\"),\"\")","v":"BRA CP"},{"$f":"IF(N32=\"\",\"\",CONCATENATE(IF(C32<>\"\",TEXT(C32,\"\"),\"\"),\" - \",IF(K32<>\"\",TEXT(K32,\"\"),\"\")))","v":"ASSU RN - Globo"},"http://www.nowgoal.vip/analysis/1675377.html",{"$f":"IF(D32<>\"\",D32,\"\")","v":3.77},{"$f":"IF(E32<>\"\",E32,\"\")","v":2.88},{"$f":"IF(F32<>\"\",F32,\"\")","v":2},{"$f":"IF(N32<>\"\",IF(D33<>\"\",D33,D32),\"\")","v":3.77},{"$f":"IF(N32<>\"\",IF(E33<>\"\",E33,E32),\"\")","v":2.85},{"$f":"IF(N32<>\"\",IF(F33<>\"\",F33,F32),\"\")","v":2.04},null,"INT FRL","USA (w) - Japan (w)","http://www.nowgoal.vip/analysis/1675077.html",1.34,4.67,7.03,1.35,4.63,6.87,null,"Easybet"]
[null,null,null,3.77,2.85,2.04,0.23960000000000001,0.31719999999999998,0.44309999999999999,0.90410000000000001,null,null,null,null,null,"",null,null,null,null,null,null,null,"CON CLA","Atletico Mineiro - Defensor Sporting Montevideo","http://www.nowgoal.vip/analysis/1672285.html",1.24,5.48,10.39,1.25,5.4,9.9700000000000006]
["BRA CP",null,"Potiguar RN",3.28,3.25,2,0.27379999999999999,0.27650000000000002,0.44969999999999999,0.89770000000000005,"America FC Natal RN","View(16)",null,{"$f":"IF(A34<>\"\",TEXT(A34,\"\"),\"\")","v":"BRA CP"},{"$f":"IF(N34=\"\",\"\",CONCATENATE(IF(C34<>\"\",TEXT(C34,\"\"),\"\"),\" - \",IF(K34<>\"\",TEXT(K34,\"\"),\"\")))","v":"Potiguar RN - America FC Natal RN"},"http://www.nowgoal.vip/analysis/1675378.html",{"$f":"IF(D34<>\"\",D34,\"\")","v":3.28},{"$f":"IF(E34<>\"\",E34,\"\")","v":3.25},{"$f":"IF(F34<>\"\",F34,\"\")","v":2},{"$f":"IF(N34<>\"\",IF(D35<>\"\",D35,D34),\"\")","v":3.01},{"$f":"IF(N34<>\"\",IF(E35<>\"\",E35,E34),\"\")","v":3.22},{"$f":"IF(N34<>\"\",IF(F35<>\"\",F35,F34),\"\")","v":2.14},null,"CON CSA","Racing Club - Corinthians Paulista (SP)","http://www.nowgoal.vip/analysis/1650951.html",1.78,3.06,4.95,2.19,2.92,3.48,null,"Vcbet"]
[null,null,null,3.01,3.22,2.14,0.29970000000000002,0.27989999999999998,0.4204,0.90059999999999996,null,null,null,null,null,"",null,null,null,null,null,null,null,"BOL D1","Real Potosi - Bolivar","http://www.nowgoal.vip/analysis/1656418.html",4.51,3.95,1.6,3.97,3.95,1.69]
["Bra SD",null,"EC Flamengo PI",3.28,3.11,2.08,0.27510000000000001,0.29020000000000001,0.43469999999999998,0.90239999999999998,"River PI","View(58)",null,{"$f":"IF(A36<>\"\",TEXT(A36,\"\"),\"\")","v":"Bra SD"},{"$f":"IF(N36=\"\",\"\",CONCATENATE(IF(C36<>\"\",TEXT(C36,\"\"),\"\"),\" - \",IF(K36<>\"\",TEXT(K36,\"\"),\"\")))","v":"EC Flamengo PI - River PI"},"http://www.nowgoal.vip/analysis/1676603.html",{"$f":"IF(D36<>\"\",D36,\"\")","v":3.28},{"$f":"IF(E36<>\"\",E36,\"\")","v":3.11},{"$f":"IF(F36<>\"\",F36,\"\")","v":2.08},{"$f":"IF(N36<>\"\",IF(D37<>\"\",D37,D36),\"\")","v":3.29},{"$f":"IF(N36<>\"\",IF(E37<>\"\",E37,E36),\"\")","v":3.05},{"$f":"IF(N36<>\"\",IF(F37<>\"\",F37,F36),\"\")","v":2.13},null,"BRA CUP","Uniao Recreativa dos Trabalhadores MG/URT - Vila Nova","http://www.nowgoal.vip/analysis/1672835.html",3.21,3.17,2.15,2.93,3.14,2.2999999999999998,null,"M88"]
[null,null,null,3.29,3.05,2.13,0.27589999999999998,0.29770000000000002,0.4264,0.90649999999999997,null,null,null,null,null,"",null,null,null,null,null,null,null,"BRA CUP","Botafogo RJ - Cuiaba","http://www.nowgoal.vip/analysis/1672836.html",1.46,3.87,6.56,1.4,4.09,7.39]
["Bra SD",null,"4 de Julho",1.8,3.04,3.91,0.48720000000000002,0.2883,0.22439999999999999,0.877,"Parnahyba PI","View(6)",null,{"$f":"IF(A38<>\"\",TEXT(A38,\"\"),\"\")","v":"Bra SD"},{"$f":"IF(N38=\"\",\"\",CONCATENATE(IF(C38<>\"\",TEXT(C38,\"\"),\"\"),\" - \",IF(K38<>\"\",TEXT(K38,\"\"),\"\")))","v":"4 de Julho - Parnahyba PI"},"http://www.nowgoal.vip/analysis/1677141.html",{"$f":"IF(D38<>\"\",D38,\"\")","v":1.8},{"$f":"IF(E38<>\"\",E38,\"\")","v":3.04},{"$f":"IF(F38<>\"\",F38,\"\")","v":3.91},{"$f":"IF(N38<>\"\",IF(D39<>\"\",D39,D38),\"\")","v":1.83},{"$f":"IF(N38<>\"\",IF(E39<>\"\",E39,E38),\"\")","v":3.11},{"$f":"IF(N38<>\"\",IF(F39<>\"\",F39,F38),\"\")","v":4},null,"BRA SP","Palmeiras - Ituano SP","http://www.nowgoal.vip/analysis/1653577.html",1.24,5.15,10.82,1.31,4.6100000000000003,9.11,null,"188bet"]
[null,null,null,1.83,3.11,4,0.48930000000000001,0.2873,0.22339999999999999,0.89300000000000002,null,null,null,null,null,"",null,null,null,null,null,null,null,"BRA CE","Horizonte CE - Fortaleza","http://www.nowgoal.vip/analysis/1667423.html",5.52,3.87,1.46,5.89,3.79,1.47]
["Brazil DDL",null,"CS Esportivo AL",1.75,3.17,4.43,0.51439999999999997,0.28299999999999997,0.2026,0.89810000000000001,"Tupi RS","View(20)",null,{"$f":"IF(A40<>\"\",TEXT(A40,\"\"),\"\")","v":"Brazil DDL"},{"$f":"IF(N40=\"\",\"\",CONCATENATE(IF(C40<>\"\",TEXT(C40,\"\"),\"\"),\" - \",IF(K40<>\"\",TEXT(K40,\"\"),\"\")))","v":"CS Esportivo AL - Tupi RS"},"http://www.nowgoal.vip/analysis/1676704.html",{"$f":"IF(D40<>\"\",D40,\"\")","v":1.75},{"$f":"IF(E40<>\"\",E40,\"\")","v":3.17},{"$f":"IF(F40<>\"\",F40,\"\")","v":4.43},{"$f":"IF(N40<>\"\",IF(D41<>\"\",D41,D40),\"\")","v":1.75},{"$f":"IF(N40<>\"\",IF(E41<>\"\",E41,E40),\"\")","v":3.22},{"$f":"IF(N40<>\"\",IF(F41<>\"\",F41,F40),\"\")","v":4.45},null,"BRA PE","Nautico (PE) - Salgueiros AC","http://www.nowgoal.vip/analysis/1652765.html",1.85,3.39,3.72,1.8,3.42,3.95,null,"Willhill"]
[null,null,null,1.75,3.22,4.45,0.51659999999999995,0.28060000000000002,0.20280000000000001,0.90249999999999997,null,null,null,null,null,"",null,null,null,null,null,null,null,"BRA CBD","EC Jacuipense - Bahia BA","http://www.nowgoal.vip/analysis/1658265.html",3.54,3.5,1.88,2.75,3.44,2.2599999999999998]
["Brazil DDL",null,"CE Lajeadense",1.73,3.53,4.1100000000000003,0.52400000000000002,0.25629999999999997,0.2198,0.90429999999999999,"GA Farroupilha/RS","View(7)",null,{"$f":"IF(A42<>\"\",TEXT(A42,\"\"),\"\")","v":"Brazil DDL"},{"$f":"IF(N42=\"\",\"\",CONCATENATE(IF(C42<>\"\",TEXT(C42,\"\"),\"\"),\" - \",IF(K42<>\"\",TEXT(K42,\"\"),\"\")))","v":"CE Lajeadense - GA Farroupilha/RS"},"http://www.nowgoal.vip/analysis/1676588.html",{"$f":"IF(D42<>\"\",D42,\"\")","v":1.73},{"$f":"IF(E42<>\"\",E42,\"\")","v":3.53},{"$f":"IF(F42<>\"\",F42,\"\")","v":4.1100000000000003},{"$f":"IF(N42<>\"\",IF(D43<>\"\",D43,D42),\"\")","v":1.73},{"$f":"IF(N42<>\"\",IF(E43<>\"\",E43,E42),\"\")","v":3.46},{"$f":"IF(N42<>\"\",IF(F43<>\"\",F43,F42),\"\")","v":4.24},null,"Bra SD","Uniao ABC - EC Aguia Negra","http://www.nowgoal.vip/analysis/1677238.html",2.75,3.3,2.25,2.75,3.3,2.25,null,"SNAI"]
[null,null,null,1.73,3.46,4.24,0.52459999999999996,0.26190000000000002,0.2135,0.90610000000000002,null,null,null,null,null,"",null,null,null,null,null,null,null,"CNCF CHL","Santos Laguna - Marathon","http://www.nowgoal.vip/analysis/1671760.html",1.1299999999999999,7.07,15.06,1.1200000000000001,7.4,17.12]
["Brazil DDL",null,"Sao Paulo RS",1.95,3.46,3.28,0.46279999999999999,0.26169999999999999,0.27560000000000001,0.90429999999999999,"GE Bage","View(25)",null,{"$f":"IF(A44<>\"\",TEXT(A44,\"\"),\"\")","v":"Brazil DDL"},{"$f":"IF(N44=\"\",\"\",CONCATENATE(IF(C44<>\"\",TEXT(C44,\"\"),\"\"),\" - \",IF(K44<>\"\",TEXT(K44,\"\"),\"\")))","v":"Sao Paulo RS - GE Bage"},"http://www.nowgoal.vip/analysis/1676589.html",{"$f":"IF(D44<>\"\",D44,\"\")","v":1.95},{"$f":"IF(E44<>\"\",E44,\"\")","v":3.46},{"$f":"IF(F44<>\"\",F44,\"\")","v":3.28},{"$f":"IF(N44<>\"\",IF(D45<>\"\",D45,D44),\"\")","v":1.93},{"$f":"IF(N44<>\"\",IF(E45<>\"\",E45,E44),\"\")","v":3.48},{"$f":"IF(N44<>\"\",IF(F45<>\"\",F45,F44),\"\")","v":3.37},null,"CNCF CHL","New York Red Bulls - Atletico Pantoja","http://www.nowgoal.vip/analysis/1671761.html",1.07,9.58,22.02,1.04,11.74,33.28,null,"Interwetten"]
[null,null,null,1.93,3.48,3.37,0.4698,0.26090000000000002,0.26929999999999998,0.90880000000000005,null,null,null,null,null,"",null,null,null,null,null,null,null,"MEX IL","Pumas U.N.A.M. - Zacatepec","http://www.nowgoal.vip/analysis/1674830.html",1.44,3.98,6.56,1.58,3.64,5.46]
["Brazil DDL",null,"Ypiranga(RS)",1.55,3.51,5.49,0.57999999999999996,0.25619999999999998,0.1638,0.8992,"Uniao Frederiquense RS","View(28)",null,{"$f":"IF(A46<>\"\",TEXT(A46,\"\"),\"\")","v":"Brazil DDL"},{"$f":"IF(N46=\"\",\"\",CONCATENATE(IF(C46<>\"\",TEXT(C46,\"\"),\"\"),\" - \",IF(K46<>\"\",TEXT(K46,\"\"),\"\")))","v":"Ypiranga(RS) - Uniao Frederiquense RS"},"http://www.nowgoal.vip/analysis/1676590.html",{"$f":"IF(D46<>\"\",D46,\"\")","v":1.55},{"$f":"IF(E46<>\"\",E46,\"\")","v":3.51},{"$f":"IF(F46<>\"\",F46,\"\")","v":5.49},{"$f":"IF(N46<>\"\",IF(D47<>\"\",D47,D46),\"\")","v":1.51},{"$f":"IF(N46<>\"\",IF(E47<>\"\",E47,E46),\"\")","v":3.63},{"$f":"IF(N46<>\"\",IF(F47<>\"\",F47,F46),\"\")","v":5.85},null,"MEX IL","Veracruz - Mineros de Zacatecas","http://www.nowgoal.vip/analysis/1674831.html",2.35,3.06,2.9,2.42,2.98,2.91,null,"18Bet"]
[null,null,null,1.51,3.63,5.85,0.59699999999999998,0.24879999999999999,0.15429999999999999,0.90229999999999999,null,null,null,null,null,"",null,null,null,null,null,null,null,"COL D1","Atletico Junior Barranquilla - Envigado FC","http://www.nowgoal.vip/analysis/1659011.html",1.53,3.67,5.74,1.44,3.97,6.63]
["BRA SE",null,"Confianca SE",1.6,3.73,4.68,0.56459999999999999,0.2422,0.19320000000000001,0.90380000000000005,"Lagarto","View(64)",null,{"$f":"IF(A48<>\"\",TEXT(A48,\"\"),\"\")","v":"BRA SE"},{"$f":"IF(N48=\"\",\"\",CONCATENATE(IF(C48<>\"\",TEXT(C48,\"\"),\"\"),\" - \",IF(K48<>\"\",TEXT(K48,\"\"),\"\")))","v":"Confianca SE - Lagarto"},"http://www.nowgoal.vip/analysis/1676677.html",{"$f":"IF(D48<>\"\",D48,\"\")","v":1.6},{"$f":"IF(E48<>\"\",E48,\"\")","v":3.73},{"$f":"IF(F48<>\"\",F48,\"\")","v":4.68},{"$f":"IF(N48<>\"\",IF(D49<>\"\",D49,D48),\"\")","v":1.61},{"$f":"IF(N48<>\"\",IF(E49<>\"\",E49,E48),\"\")","v":3.7},{"$f":"IF(N48<>\"\",IF(F49<>\"\",F49,F48),\"\")","v":4.74},null,"SLV D1","CD Sonsonate - CD Audaz","http://www.nowgoal.vip/analysis/1654738.html",2.5,3.14,2.56,2.33,3.03,2.9]
[null,null,null,1.61,3.7,4.74,0.56379999999999997,0.24510000000000001,0.19109999999999999,0.90669999999999995,null,null,null,null,null,"",null,null,null,null,null,null,null,"BRA AP","CD Universitario - Plaza Amador","http://www.nowgoal.vip/analysis/1677208.html",3.25,2.95,2.1,3.25,2.95,2.1]
["BRA CCX",null,"Desportiva Capixaba (ES)",2.5,3,2.71,0.36320000000000002,0.3024,0.33439999999999998,0.90710000000000002,"Real Noroeste","View(4)",null,{"$f":"IF(A50<>\"\",TEXT(A50,\"\"),\"\")","v":"BRA CCX"},{"$f":"IF(N50=\"\",\"\",CONCATENATE(IF(C50<>\"\",TEXT(C50,\"\"),\"\"),\" - \",IF(K50<>\"\",TEXT(K50,\"\"),\"\")))","v":"Desportiva Capixaba (ES) - Real Noroeste"},"http://www.nowgoal.vip/analysis/1676591.html",{"$f":"IF(D50<>\"\",D50,\"\")","v":2.5},{"$f":"IF(E50<>\"\",E50,\"\")","v":3},{"$f":"IF(F50<>\"\",F50,\"\")","v":2.71},{"$f":"IF(N50<>\"\",IF(D51<>\"\",D51,D50),\"\")","v":2.41},{"$f":"IF(N50<>\"\",IF(E51<>\"\",E51,E50),\"\")","v":2.99},{"$f":"IF(N50<>\"\",IF(F51<>\"\",F51,F50),\"\")","v":2.81},null,"BRA AP","Sporting San Miguelito - Tauro FC","http://www.nowgoal.vip/analysis/1677209.html",3.03,3.28,2.1,3.13,3.25,2.08]
[null,null,null,2.41,2.99,2.81,0.37540000000000001,0.3029,0.32169999999999999,0.90469999999999995,null,null,null,null,null,"",null,null,null,null,null,null,null,"SLV D1","A.D. Isidro Metapan - Municipal Limeno","http://www.nowgoal.vip/analysis/1654735.html",1.82,3.29,3.86,1.95,3.23,3.51]
["BRA CBD",null,"Juazeirense",1.83,3.54,3.68,0.4965,0.25650000000000001,0.247,0.90920000000000001,"Jacobina EC","View(89)",null,{"$f":"IF(A52<>\"\",TEXT(A52,\"\"),\"\")","v":"BRA CBD"},{"$f":"IF(N52=\"\",\"\",CONCATENATE(IF(C52<>\"\",TEXT(C52,\"\"),\"\"),\" - \",IF(K52<>\"\",TEXT(K52,\"\"),\"\")))","v":"Juazeirense - Jacobina EC"},"http://www.nowgoal.vip/analysis/1658263.html",{"$f":"IF(D52<>\"\",D52,\"\")","v":1.83},{"$f":"IF(E52<>\"\",E52,\"\")","v":3.54},{"$f":"IF(F52<>\"\",F52,\"\")","v":3.68},{"$f":"IF(N52<>\"\",IF(D53<>\"\",D53,D52),\"\")","v":1.99},{"$f":"IF(N52<>\"\",IF(E53<>\"\",E53,E52),\"\")","v":3.52},{"$f":"IF(N52<>\"\",IF(F53<>\"\",F53,F52),\"\")","v":3.17},null,"CRC D1","Cartagines Deportiva SA - Alajuelense","http://www.nowgoal.vip/analysis/1654572.html",2.39,3.35,2.62,2.4700000000000002,3.32,2.54]
[null,null,null,1.99,3.52,3.17,0.45540000000000003,0.25829999999999997,0.28639999999999999,0.90820000000000001,null,null,null,null,null,"",null,null,null,null,null,null,null,"CNCF CHL","Monterrey - Alianza San Salvador","http://www.nowgoal.vip/analysis/1671762.html",1.1200000000000001,6.69,15.27,1.1000000000000001,6.95,16.43]
["BRA CBD",null,"Vitoria BA",1.28,4.99,8.32,0.7087,0.18210000000000001,0.10920000000000001,0.90880000000000005,"Alagoinhas Atletico BA","View(86)",null,{"$f":"IF(A54<>\"\",TEXT(A54,\"\"),\"\")","v":"BRA CBD"},{"$f":"IF(N54=\"\",\"\",CONCATENATE(IF(C54<>\"\",TEXT(C54,\"\"),\"\"),\" - \",IF(K54<>\"\",TEXT(K54,\"\"),\"\")))","v":"Vitoria BA - Alagoinhas Atletico BA"},"http://www.nowgoal.vip/analysis/1658264.html",{"$f":"IF(D54<>\"\",D54,\"\")","v":1.28},{"$f":"IF(E54<>\"\",E54,\"\")","v":4.99},{"$f":"IF(F54<>\"\",F54,\"\")","v":8.32},{"$f":"IF(N54<>\"\",IF(D55<>\"\",D55,D54),\"\")","v":1.27},{"$f":"IF(N54<>\"\",IF(E55<>\"\",E55,E54),\"\")","v":5.3},{"$f":"IF(N54<>\"\",IF(F55<>\"\",F55,F54),\"\")","v":8.16},null,"MEX IL","Chivas Guadalajara - Atletico San Luis","http://www.nowgoal.vip/analysis/1674832.html",1.54,3.66,5.71,1.64,3.52,5.08]
[null,null,null,1.27,5.3,8.16,0.71719999999999995,0.1714,0.1113,0.90820000000000001,null,null,null,null,null,"",null,null,null,null,null,null,null,"MEX IL","FC Juarez - Club Leon","http://www.nowgoal.vip/analysis/1674833.html",3.62,3.29,1.93,3.65,3.33,1.93]
["BRA CP",null,"ABC RN",1.24,5.16,9.9600000000000009,0.73240000000000005,0.17630000000000001,9.1300000000000006E-2,0.90910000000000002,"Palmeira RN","View(64)",null,{"$f":"IF(A56<>\"\",TEXT(A56,\"\"),\"\")","v":"BRA CP"},{"$f":"IF(N56=\"\",\"\",CONCATENATE(IF(C56<>\"\",TEXT(C56,\"\"),\"\"),\" - \",IF(K56<>\"\",TEXT(K56,\"\"),\"\")))","v":"ABC RN - Palmeira RN"},"http://www.nowgoal.vip/analysis/1675379.html",{"$f":"IF(D56<>\"\",D56,\"\")","v":1.24},{"$f":"IF(E56<>\"\",E56,\"\")","v":5.16},{"$f":"IF(F56<>\"\",F56,\"\")","v":9.9600000000000009},{"$f":"IF(N56<>\"\",IF(D57<>\"\",D57,D56),\"\")","v":1.32},{"$f":"IF(N56<>\"\",IF(E57<>\"\",E57,E56),\"\")","v":4.62},{"$f":"IF(N56<>\"\",IF(F57<>\"\",F57,F56),\"\")","v":8.11},null,"INT FRL","Argentina (w)(N) - Korea Rep (w)","http://www.nowgoal.vip/analysis/1674849.html",8.36,4.91,1.28,8.4,4.91,1.28]
[null,null,null,1.32,4.62,8.11,0.69099999999999995,0.19700000000000001,0.112,0.90910000000000002,null,null,null,null,null,"",null,null,null,null,null,null,null,"VIE U19","Khatoco Khanh Hoa U19 - Lam Dong U19","http://www.nowgoal.vip/analysis/1674248.html",4.8,3.8,1.57,4.8,3.8,1.57]
["BRA PB",null,"Perilima PB",1.66,3.7,4.55,0.55079999999999996,0.24779999999999999,0.20130000000000001,0.91649999999999998,"Nacional de Patos PB","View(40)",null,{"$f":"IF(A58<>\"\",TEXT(A58,\"\"),\"\")","v":"BRA PB"},{"$f":"IF(N58=\"\",\"\",CONCATENATE(IF(C58<>\"\",TEXT(C58,\"\"),\"\"),\" - \",IF(K58<>\"\",TEXT(K58,\"\"),\"\")))","v":"Perilima PB - Nacional de Patos PB"},"http://www.nowgoal.vip/analysis/1654852.html",{"$f":"IF(D58<>\"\",D58,\"\")","v":1.66},{"$f":"IF(E58<>\"\",E58,\"\")","v":3.7},{"$f":"IF(F58<>\"\",F58,\"\")","v":4.55},{"$f":"IF(N58<>\"\",IF(D59<>\"\",D59,D58),\"\")","v":1.61},{"$f":"IF(N58<>\"\",IF(E59<>\"\",E59,E58),\"\")","v":3.66},{"$f":"IF(N58<>\"\",IF(F59<>\"\",F59,F58),\"\")","v":4.9000000000000004},null,"VIE U19","Song Lam Nghe An U19 - Ha Tinh U19","http://www.nowgoal.vip/analysis/1674266.html",1.44,4.2,5.5,1.44,4.2,5.5]
[null,null,null,1.61,3.66,4.9000000000000004,0.56559999999999999,0.24859999999999999,0.18579999999999999,0.90990000000000004,null,null,null,null,null,"",null,null,null,null,null,null,null,"INT FRL","Lithuania (w)(N) - Estonia (w)","http://www.nowgoal.vip/analysis/1676660.html",3.06,3.35,2.11,3.06,3.35,2.11]
["PAR D1",null,"Olimpia Asuncion",1.37,4.5,6.67,0.6623,0.2016,0.1361,0.90680000000000005,"Deportivo Capiata","View(58)",null,{"$f":"IF(A60<>\"\",TEXT(A60,\"\"),\"\")","v":"PAR D1"},{"$f":"IF(N60=\"\",\"\",CONCATENATE(IF(C60<>\"\",TEXT(C60,\"\"),\"\"),\" - \",IF(K60<>\"\",TEXT(K60,\"\"),\"\")))","v":"Olimpia Asuncion - Deportivo Capiata"},"http://www.nowgoal.vip/analysis/1650700.html",{"$f":"IF(D60<>\"\",D60,\"\")","v":1.37},{"$f":"IF(E60<>\"\",E60,\"\")","v":4.5},{"$f":"IF(F60<>\"\",F60,\"\")","v":6.67},{"$f":"IF(N60<>\"\",IF(D61<>\"\",D61,D60),\"\")","v":1.39},{"$f":"IF(N60<>\"\",IF(E61<>\"\",E61,E60),\"\")","v":4.4000000000000004},{"$f":"IF(N60<>\"\",IF(F61<>\"\",F61,F60),\"\")","v":6.33},null,"VIE U19","Dong Nai U19 - Hoang Anh Gia Lai U19","http://www.nowgoal.vip/analysis/1674249.html",9,7,1.1599999999999999,9,7,1.1599999999999999]
[null,null,null,1.39,4.4000000000000004,6.33,0.65110000000000001,0.20580000000000001,0.14299999999999999,0.90600000000000003,null,null,null,null,null,"",null,null,null,null,null,null,null,"VIE U19","Nam Dinh U19 - Than Quang Ninh U19","http://www.nowgoal.vip/analysis/1674259.html",3,3.6,2,3,3.6,2]
["INT FRL",null,"USA (w)",1.34,4.67,7.03,0.67700000000000005,0.19409999999999999,0.12889999999999999,0.90639999999999998,"Japan (w)","View(64)",null,{"$f":"IF(A62<>\"\",TEXT(A62,\"\"),\"\")","v":"INT FRL"},{"$f":"IF(N62=\"\",\"\",CONCATENATE(IF(C62<>\"\",TEXT(C62,\"\"),\"\"),\" - \",IF(K62<>\"\",TEXT(K62,\"\"),\"\")))","v":"USA (w) - Japan (w)"},"http://www.nowgoal.vip/analysis/1675077.html",{"$f":"IF(D62<>\"\",D62,\"\")","v":1.34},{"$f":"IF(E62<>\"\",E62,\"\")","v":4.67},{"$f":"IF(F62<>\"\",F62,\"\")","v":7.03},{"$f":"IF(N62<>\"\",IF(D63<>\"\",D63,D62),\"\")","v":1.35},{"$f":"IF(N62<>\"\",IF(E63<>\"\",E63,E62),\"\")","v":4.63},{"$f":"IF(N62<>\"\",IF(F63<>\"\",F63,F62),\"\")","v":6.87},null,"VIE U19","Dong Tam Long An U19 - Tay Ninh U19","http://www.nowgoal.vip/analysis/1674276.html",6,4.8,1.36,6,4.8,1.36]
[null,null,null,1.35,4.63,6.87,0.6724,0.1958,0.13189999999999999,0.90610000000000002,null,null,null,null,null,"",null,null,null,null,null,null,null,"INT FRL","Australia (w) - New Zealand (w)","http://www.nowgoal.vip/analysis/1674850.html",1.44,3.87,6.42,1.42,3.9,6.56]
["CON CLA",null,"Atletico Mineiro",1.24,5.48,10.39,0.74390000000000001,0.16769999999999999,8.8499999999999995E-2,0.91930000000000001,"Defensor Sporting Montevideo","View(154)",null,{"$f":"IF(A64<>\"\",TEXT(A64,\"\"),\"\")","v":"CON CLA"},{"$f":"IF(N64=\"\",\"\",CONCATENATE(IF(C64<>\"\",TEXT(C64,\"\"),\"\"),\" - \",IF(K64<>\"\",TEXT(K64,\"\"),\"\")))","v":"Atletico Mineiro - Defensor Sporting Montevideo"},"http://www.nowgoal.vip/analysis/1672285.html",{"$f":"IF(D64<>\"\",D64,\"\")","v":1.24},{"$f":"IF(E64<>\"\",E64,\"\")","v":5.48},{"$f":"IF(F64<>\"\",F64,\"\")","v":10.39},{"$f":"IF(N64<>\"\",IF(D65<>\"\",D65,D64),\"\")","v":1.25},{"$f":"IF(N64<>\"\",IF(E65<>\"\",E65,E64),\"\")","v":5.4},{"$f":"IF(N64<>\"\",IF(F65<>\"\",F65,F64),\"\")","v":9.9700000000000006},null,"VIE U19","Phu Yen U19 - Binh Dinh U19","http://www.nowgoal.vip/analysis/1674250.html",1.28,5.5,6.5,1.28,5.5,6.5]
[null,null,null,1.25,5.4,9.9700000000000006,0.73680000000000001,0.17080000000000001,9.2499999999999999E-2,0.92149999999999999,null,null,null,null,null,"",null,null,null,null,null,null,null,"INT CF","SC Weiz - Rapid Vienna (Youth)","http://www.nowgoal.vip/analysis/1677149.html",2.6,4,2.1,2.6,4,2.1]
["CON CSA",null,"Racing Club",1.78,3.06,4.95,0.51470000000000005,0.2999,0.18540000000000001,0.91700000000000004,"Corinthians Paulista (SP)","View(161)",null,{"$f":"IF(A66<>\"\",TEXT(A66,\"\"),\"\")","v":"CON CSA"},{"$f":"IF(N66=\"\",\"\",CONCATENATE(IF(C66<>\"\",TEXT(C66,\"\"),\"\"),\" - \",IF(K66<>\"\",TEXT(K66,\"\"),\"\")))","v":"Racing Club - Corinthians Paulista (SP)"},"http://www.nowgoal.vip/analysis/1650951.html",{"$f":"IF(D66<>\"\",D66,\"\")","v":1.78},{"$f":"IF(E66<>\"\",E66,\"\")","v":3.06},{"$f":"IF(F66<>\"\",F66,\"\")","v":4.95},{"$f":"IF(N66<>\"\",IF(D67<>\"\",D67,D66),\"\")","v":2.19},{"$f":"IF(N66<>\"\",IF(E67<>\"\",E67,E66),\"\")","v":2.92},{"$f":"IF(N66<>\"\",IF(F67<>\"\",F67,F66),\"\")","v":3.48},null,"VIE U19","Huda Hue U19 - Thanh Hoa U19","http://www.nowgoal.vip/analysis/1674267.html",1.72,4,3.5,1.72,4,3.5]
[null,null,null,2.19,2.92,3.48,0.41980000000000001,0.31569999999999998,0.26440000000000002,0.92049999999999998,null,null,null,null,null,{"$f":"SUBSTITUTE(SUBSTITUTE(SUBSTITUTE(SUBSTITUTE(IF(L67<>\"\",HLink(L67),\"\"),\"htm\",\"html\"),\"1x2\",\"analysis\"),\"www\",\"www\"),\"com\",\"vip\")","v":""},null,null,null,null,null,null,null,"IND D1","Gokulam Kerala FC - Aizawal FC","http://www.nowgoal.vip/analysis/1635616.html",2.2799999999999998,3.28,2.84,2.25,3.3,2.9]
["BOL D1",null,"Real Potosi",4.51,3.95,1.6,0.20180000000000001,0.2306,0.56759999999999999,0.90980000000000005,"Bolivar","View(75)",null,{"$f":"IF(A68<>\"\",TEXT(A68,\"\"),\"\")","v":"BOL D1"},{"$f":"IF(N68=\"\",\"\",CONCATENATE(IF(C68<>\"\",TEXT(C68,\"\"),\"\"),\" - \",IF(K68<>\"\",TEXT(K68,\"\"),\"\")))","v":"Real Potosi - Bolivar"},"http://www.nowgoal.vip/analysis/1656418.html",{"$f":"IF(D68<>\"\",D68,\"\")","v":4.51},{"$f":"IF(E68<>\"\",E68,\"\")","v":3.95},{"$f":"IF(F68<>\"\",F68,\"\")","v":1.6},{"$f":"IF(N68<>\"\",IF(D69<>\"\",D69,D68),\"\")","v":3.97},{"$f":"IF(N68<>\"\",IF(E69<>\"\",E69,E68),\"\")","v":3.95},{"$f":"IF(N68<>\"\",IF(F69<>\"\",F69,F68),\"\")","v":1.69},null,"RUS YthC","FK Orenburg Youth - FK Anzhi Youth","http://www.nowgoal.vip/analysis/1580346.html",2.09,3.63,3.55,2.09,3.63,3.61]
[null,null,null,3.97,3.95,1.69,0.22989999999999999,0.23100000000000001,0.53910000000000002,0.91279999999999994,null,null,null,null,null,"",null,null,null,null,null,null,null,"INT FRL","Croatia (w) - Slovenia (w)","http://www.nowgoal.vip/analysis/1676184.html",2.2400000000000002,3.43,2.66,2.25,3.42,2.65]
["BRA CUP",null,"Uniao Recreativa dos Trabalhadores MG/URT",3.21,3.17,2.15,0.28520000000000001,0.28889999999999999,0.4259,0.91569999999999996,"Vila Nova","View(142)",null,{"$f":"IF(A70<>\"\",TEXT(A70,\"\"),\"\")","v":"BRA CUP"},{"$f":"IF(N70=\"\",\"\",CONCATENATE(IF(C70<>\"\",TEXT(C70,\"\"),\"\"),\" - \",IF(K70<>\"\",TEXT(K70,\"\"),\"\")))","v":"Uniao Recreativa dos Trabalhadores MG/URT - Vila Nova"},"http://www.nowgoal.vip/analysis/1672835.html",{"$f":"IF(D70<>\"\",D70,\"\")","v":3.21},{"$f":"IF(E70<>\"\",E70,\"\")","v":3.17},{"$f":"IF(F70<>\"\",F70,\"\")","v":2.15},{"$f":"IF(N70<>\"\",IF(D71<>\"\",D71,D70),\"\")","v":2.93},{"$f":"IF(N70<>\"\",IF(E71<>\"\",E71,E70),\"\")","v":3.14},{"$f":"IF(N70<>\"\",IF(F71<>\"\",F71,F70),\"\")","v":2.2999999999999998},null,"VIE U19","An Giang U19 - Ben Tre U19","http://www.nowgoal.vip/analysis/1674278.html",1.2,6.5,8,1.2,6.5,8]
[null,null,null,2.93,3.14,2.2999999999999998,0.31209999999999999,0.29120000000000001,0.3967,0.91369999999999996,null,null,null,null,null,"",null,null,null,null,null,null,null,"INT FRL","Cyprus (w) - malta (w)","http://www.nowgoal.vip/analysis/1676661.html",2.5099999999999998,3.21,2.5499999999999998,2.5299999999999998,3.26,2.5299999999999998]
["BRA CUP",null,"Botafogo RJ",1.46,3.87,6.56,0.62439999999999996,0.23630000000000001,0.13930000000000001,0.91420000000000001,"Cuiaba","View(140)",null,{"$f":"IF(A72<>\"\",TEXT(A72,\"\"),\"\")","v":"BRA CUP"},{"$f":"IF(N72=\"\",\"\",CONCATENATE(IF(C72<>\"\",TEXT(C72,\"\"),\"\"),\" - \",IF(K72<>\"\",TEXT(K72,\"\"),\"\")))","v":"Botafogo RJ - Cuiaba"},"http://www.nowgoal.vip/analysis/1672836.html",{"$f":"IF(D72<>\"\",D72,\"\")","v":1.46},{"$f":"IF(E72<>\"\",E72,\"\")","v":3.87},{"$f":"IF(F72<>\"\",F72,\"\")","v":6.56},{"$f":"IF(N72<>\"\",IF(D73<>\"\",D73,D72),\"\")","v":1.4},{"$f":"IF(N72<>\"\",IF(E73<>\"\",E73,E72),\"\")","v":4.09},{"$f":"IF(N72<>\"\",IF(F73<>\"\",F73,F72),\"\")","v":7.39},null,"Spain D4","Cordoba B - Xerez Deportivo FC","http://www.nowgoal.vip/analysis/1677176.html",2.27,3.2,2.79,2.27,3.2,2.79]
[null,null,null,1.4,4.09,7.39,0.65329999999999999,0.22320000000000001,0.1235,0.91239999999999999,null,null,null,null,null,"",null,null,null,null,null,null,null,"SPA LU19","Sevilla U19 - Recreativo Huelva U19","http://www.nowgoal.vip/analysis/1677177.html",1.21,6.15,11.03,1.21,6.15,11.03]
["BRA SP",null,"Palmeiras",1.24,5.15,10.82,0.73809999999999998,0.1774,8.4400000000000003E-2,0.91359999999999997,"Ituano SP","View(153)",null,{"$f":"IF(A74<>\"\",TEXT(A74,\"\"),\"\")","v":"BRA SP"},{"$f":"IF(N74=\"\",\"\",CONCATENATE(IF(C74<>\"\",TEXT(C74,\"\"),\"\"),\" - \",IF(K74<>\"\",TEXT(K74,\"\"),\"\")))","v":"Palmeiras - Ituano SP"},"http://www.nowgoal.vip/analysis/1653577.html",{"$f":"IF(D74<>\"\",D74,\"\")","v":1.24},{"$f":"IF(E74<>\"\",E74,\"\")","v":5.15},{"$f":"IF(F74<>\"\",F74,\"\")","v":10.82},{"$f":"IF(N74<>\"\",IF(D75<>\"\",D75,D74),\"\")","v":1.31},{"$f":"IF(N74<>\"\",IF(E75<>\"\",E75,E74),\"\")","v":4.6100000000000003},{"$f":"IF(N74<>\"\",IF(F75<>\"\",F75,F74),\"\")","v":9.11},null,"Spain D4","Algeciras - Guadalcacin CD","http://www.nowgoal.vip/analysis/1677178.html",1.24,5.97,9.7899999999999991,1.1499999999999999,7.32,12.8]
[null,null,null,1.31,4.6100000000000003,9.11,0.70079999999999998,0.19869999999999999,0.10050000000000001,0.9153,null,null,null,null,null,"",null,null,null,null,null,null,null,"Spain D4","Atletico Espeleno - Sevilla C","http://www.nowgoal.vip/analysis/1677179.html",2.75,3.19,2.3199999999999998,2.75,3.19,2.3199999999999998]
["BRA CE",null,"Horizonte CE",5.52,3.87,1.46,0.16109999999999999,0.2298,0.60909999999999997,0.88870000000000005,"Fortaleza","View(9)",null,{"$f":"IF(A76<>\"\",TEXT(A76,\"\"),\"\")","v":"BRA CE"},{"$f":"IF(N76=\"\",\"\",CONCATENATE(IF(C76<>\"\",TEXT(C76,\"\"),\"\"),\" - \",IF(K76<>\"\",TEXT(K76,\"\"),\"\")))","v":"Horizonte CE - Fortaleza"},"http://www.nowgoal.vip/analysis/1667423.html",{"$f":"IF(D76<>\"\",D76,\"\")","v":5.52},{"$f":"IF(E76<>\"\",E76,\"\")","v":3.87},{"$f":"IF(F76<>\"\",F76,\"\")","v":1.46},{"$f":"IF(N76<>\"\",IF(D77<>\"\",D77,D76),\"\")","v":5.89},{"$f":"IF(N76<>\"\",IF(E77<>\"\",E77,E76),\"\")","v":3.79},{"$f":"IF(N76<>\"\",IF(F77<>\"\",F77,F76),\"\")","v":1.47},null,"Spain D4","Coria CF - CD Cabecense","http://www.nowgoal.vip/analysis/1677216.html",1.61,3.6,4.5,1.62,3.5,4.5]
[null,null,null,5.89,3.79,1.47,0.15229999999999999,0.2364,0.61119999999999997,0.89690000000000003,null,null,null,null,null,"",null,null,null,null,null,null,null,"Spain D4","Xerez Deportivo - CD Gerena","http://www.nowgoal.vip/analysis/1677217.html",2,3.3,3.2,2,3.3,3.25]
["BRA PE",null,"Nautico (PE)",1.85,3.39,3.72,0.48949999999999999,0.26740000000000003,0.24310000000000001,0.90559999999999996,"Salgueiros AC","View(69)",null,{"$f":"IF(A78<>\"\",TEXT(A78,\"\"),\"\")","v":"BRA PE"},{"$f":"IF(N78=\"\",\"\",CONCATENATE(IF(C78<>\"\",TEXT(C78,\"\"),\"\"),\" - \",IF(K78<>\"\",TEXT(K78,\"\"),\"\")))","v":"Nautico (PE) - Salgueiros AC"},"http://www.nowgoal.vip/analysis/1652765.html",{"$f":"IF(D78<>\"\",D78,\"\")","v":1.85},{"$f":"IF(E78<>\"\",E78,\"\")","v":3.39},{"$f":"IF(F78<>\"\",F78,\"\")","v":3.72},{"$f":"IF(N78<>\"\",IF(D79<>\"\",D79,D78),\"\")","v":1.8},{"$f":"IF(N78<>\"\",IF(E79<>\"\",E79,E78),\"\")","v":3.42},{"$f":"IF(N78<>\"\",IF(F79<>\"\",F79,F78),\"\")","v":3.95},null,"Spain D4","CD Huetor Vega - CD Alhaurino","http://www.nowgoal.vip/analysis/1677219.html",1.8,3.4,3.8,1.8,3.4,3.8]
[null,null,null,1.8,3.42,3.95,0.50429999999999997,0.26569999999999999,0.23,0.90880000000000005,null,null,null,null,null,"",null,null,null,null,null,null,null,"Spain D4","Juventud Torremolinos CF - Motril","http://www.nowgoal.vip/analysis/1677221.html",2.5,3.3,2.4,2.5,3.3,2.4]
["BRA CBD",null,"EC Jacuipense",3.54,3.5,1.88,0.25629999999999997,0.25969999999999999,0.48399999999999999,0.90790000000000004,"Bahia BA","View(84)",null,{"$f":"IF(A80<>\"\",TEXT(A80,\"\"),\"\")","v":"BRA CBD"},{"$f":"IF(N80=\"\",\"\",CONCATENATE(IF(C80<>\"\",TEXT(C80,\"\"),\"\"),\" - \",IF(K80<>\"\",TEXT(K80,\"\"),\"\")))","v":"EC Jacuipense - Bahia BA"},"http://www.nowgoal.vip/analysis/1658265.html",{"$f":"IF(D80<>\"\",D80,\"\")","v":3.54},{"$f":"IF(E80<>\"\",E80,\"\")","v":3.5},{"$f":"IF(F80<>\"\",F80,\"\")","v":1.88},{"$f":"IF(N80<>\"\",IF(D81<>\"\",D81,D80),\"\")","v":2.75},{"$f":"IF(N80<>\"\",IF(E81<>\"\",E81,E80),\"\")","v":3.44},{"$f":"IF(N80<>\"\",IF(F81<>\"\",F81,F80),\"\")","v":2.2599999999999998},null,"INT FRL","Serbia U19 - Slovenia U19","http://www.nowgoal.vip/analysis/1677157.html",2.1800000000000002,3.33,2.95,2.1800000000000002,3.35,2.93]
[null,null,null,2.75,3.44,2.2599999999999998,0.33169999999999999,0.2646,0.4037,0.91080000000000005,null,null,null,null,null,"",null,null,null,null,null,null,null,"IND D1","Mohun Bagan(Ind) - AIFF XI","http://www.nowgoal.vip/analysis/1635629.html",1.59,3.67,5.01,1.6,3.64,4.95]
["Bra SD",null,"Uniao ABC",2.75,3.3,2.25,0.32729999999999998,0.2727,0.4,0.90010000000000001,"EC Aguia Negra","View(1)",null,{"$f":"IF(A82<>\"\",TEXT(A82,\"\"),\"\")","v":"Bra SD"},{"$f":"IF(N82=\"\",\"\",CONCATENATE(IF(C82<>\"\",TEXT(C82,\"\"),\"\"),\" - \",IF(K82<>\"\",TEXT(K82,\"\"),\"\")))","v":"Uniao ABC - EC Aguia Negra"},"http://www.nowgoal.vip/analysis/1677238.html",{"$f":"IF(D82<>\"\",D82,\"\")","v":2.75},{"$f":"IF(E82<>\"\",E82,\"\")","v":3.3},{"$f":"IF(F82<>\"\",F82,\"\")","v":2.25},{"$f":"IF(N82<>\"\",IF(D83<>\"\",D83,D82),\"\")","v":2.75},{"$f":"IF(N82<>\"\",IF(E83<>\"\",E83,E82),\"\")","v":3.3},{"$f":"IF(N82<>\"\",IF(F83<>\"\",F83,F82),\"\")","v":2.25},null,"IRN PR","Pars Jonoubi Jam - Saipa","http://www.nowgoal.vip/analysis/1665190.html",2.02,2.79,4.04,2.02,2.79,4.03]
[null,null,null,null,null,null,null,null,null,null,null,null,null,null,null,"",null,null,null,null,null,null,null,"IRN PR","Foolad Khozestan - Esteghlal Tehran","http://www.nowgoal.vip/analysis/1665189.html",3.06,2.81,2.4,3.12,2.81,2.36]
["CNCF CHL",null,"Santos Laguna",1.1299999999999999,7.07,15.06,0.80930000000000002,0.12970000000000001,6.0900000000000003E-2,0.91720000000000002,"Marathon","View(75)",null,{"$f":"IF(A84<>\"\",TEXT(A84,\"\"),\"\")","v":"CNCF CHL"},{"$f":"IF(N84=\"\",\"\",CONCATENATE(IF(C84<>\"\",TEXT(C84,\"\"),\"\"),\" - \",IF(K84<>\"\",TEXT(K84,\"\"),\"\")))","v":"Santos Laguna - Marathon"},"http://www.nowgoal.vip/analysis/1671760.html",{"$f":"IF(D84<>\"\",D84,\"\")","v":1.1299999999999999},{"$f":"IF(E84<>\"\",E84,\"\")","v":7.07},{"$f":"IF(F84<>\"\",F84,\"\")","v":15.06},{"$f":"IF(N84<>\"\",IF(D85<>\"\",D85,D84),\"\")","v":1.1200000000000001},{"$f":"IF(N84<>\"\",IF(E85<>\"\",E85,E84),\"\")","v":7.4},{"$f":"IF(N84<>\"\",IF(F85<>\"\",F85,F84),\"\")","v":17.12},null,"JOR D2","Dar Al-Dawa - Blama","http://www.nowgoal.vip/analysis/1677224.html",2.25,3.3,2.75,2.25,3.3,2.75]
[null,null,null,1.1200000000000001,7.4,17.12,0.82189999999999996,0.12429999999999999,5.3699999999999998E-2,0.91969999999999996,null,null,null,null,null,"",null,null,null,null,null,null,null,"EGY D2","Al Nasr Cairo - Al Zarka","http://www.nowgoal.vip/analysis/1677180.html",1.93,3.24,3.48,1.93,3.24,3.48]
["CNCF CHL",null,"New York Red Bulls",1.07,9.58,22.02,0.8619,9.6199999999999994E-2,4.19E-2,0.92220000000000002,"Atletico Pantoja","View(40)",null,{"$f":"IF(A86<>\"\",TEXT(A86,\"\"),\"\")","v":"CNCF CHL"},{"$f":"IF(N86=\"\",\"\",CONCATENATE(IF(C86<>\"\",TEXT(C86,\"\"),\"\"),\" - \",IF(K86<>\"\",TEXT(K86,\"\"),\"\")))","v":"New York Red Bulls - Atletico Pantoja"},"http://www.nowgoal.vip/analysis/1671761.html",{"$f":"IF(D86<>\"\",D86,\"\")","v":1.07},{"$f":"IF(E86<>\"\",E86,\"\")","v":9.58},{"$f":"IF(F86<>\"\",F86,\"\")","v":22.02},{"$f":"IF(N86<>\"\",IF(D87<>\"\",D87,D86),\"\")","v":1.04},{"$f":"IF(N86<>\"\",IF(E87<>\"\",E87,E86),\"\")","v":11.74},{"$f":"IF(N86<>\"\",IF(F87<>\"\",F87,F86),\"\")","v":33.28},null,"EGY D2","El Hammam - MS Tla","http://www.nowgoal.vip/analysis/1677181.html",1.5,3.8,5.5,1.5,3.8,5.5]
[null,null,null,1.04,11.74,33.28,0.89290000000000003,7.9100000000000004E-2,2.7900000000000001E-2,0.92930000000000001,null,null,null,null,null,"",null,null,null,null,null,null,null,"EGY D2","FC Porto Suez - Suez Montakhab","http://www.nowgoal.vip/analysis/1677182.html",2.1,3.25,3,2.1,3.25,3]
["MEX IL",null,"Pumas U.N.A.M.",1.44,3.98,6.56,0.63180000000000003,0.22919999999999999,0.13900000000000001,0.9113,"Zacatepec","View(145)",null,{"$f":"IF(A88<>\"\",TEXT(A88,\"\"),\"\")","v":"MEX IL"},{"$f":"IF(N88=\"\",\"\",CONCATENATE(IF(C88<>\"\",TEXT(C88,\"\"),\"\"),\" - \",IF(K88<>\"\",TEXT(K88,\"\"),\"\")))","v":"Pumas U.N.A.M. - Zacatepec"},"http://www.nowgoal.vip/analysis/1674830.html",{"$f":"IF(D88<>\"\",D88,\"\")","v":1.44},{"$f":"IF(E88<>\"\",E88,\"\")","v":3.98},{"$f":"IF(F88<>\"\",F88,\"\")","v":6.56},{"$f":"IF(N88<>\"\",IF(D89<>\"\",D89,D88),\"\")","v":1.58},{"$f":"IF(N88<>\"\",IF(E89<>\"\",E89,E88),\"\")","v":3.64},{"$f":"IF(N88<>\"\",IF(F89<>\"\",F89,F88),\"\")","v":5.46},null,"EGY D2","Ghomhoreyet Shebin - FC Masr","http://www.nowgoal.vip/analysis/1677183.html",2.79,2.91,2.5499999999999998,2.79,2.91,2.5499999999999998]
[null,null,null,1.58,3.64,5.46,0.58020000000000005,0.252,0.1678,0.91639999999999999,null,null,null,null,null,"",null,null,null,null,null,null,null,"EGY D2","Pharco - El Olympi","http://www.nowgoal.vip/analysis/1677184.html",2.41,2.92,2.92,2.41,2.92,2.92]
["MEX IL",null,"Veracruz",2.35,3.06,2.9,0.38769999999999999,0.29820000000000002,0.31409999999999999,0.91169999999999995,"Mineros de Zacatecas","View(151)",null,{"$f":"IF(A90<>\"\",TEXT(A90,\"\"),\"\")","v":"MEX IL"},{"$f":"IF(N90=\"\",\"\",CONCATENATE(IF(C90<>\"\",TEXT(C90,\"\"),\"\"),\" - \",IF(K90<>\"\",TEXT(K90,\"\"),\"\")))","v":"Veracruz - Mineros de Zacatecas"},"http://www.nowgoal.vip/analysis/1674831.html",{"$f":"IF(D90<>\"\",D90,\"\")","v":2.35},{"$f":"IF(E90<>\"\",E90,\"\")","v":3.06},{"$f":"IF(F90<>\"\",F90,\"\")","v":2.9},{"$f":"IF(N90<>\"\",IF(D91<>\"\",D91,D90),\"\")","v":2.42},{"$f":"IF(N90<>\"\",IF(E91<>\"\",E91,E90),\"\")","v":2.98},{"$f":"IF(N90<>\"\",IF(F91<>\"\",F91,F90),\"\")","v":2.91},null,"EGY D2","Serameka - Coca Cola FC","http://www.nowgoal.vip/analysis/1677185.html",1.83,3.05,4.5599999999999996,1.83,3.05,4.5599999999999996]
[null,null,null,2.42,2.98,2.91,0.37790000000000001,0.30740000000000001,0.31469999999999998,0.91500000000000004,null,null,null,null,null,"",null,null,null,null,null,null,null,"EGY D2","Fayoum - Nasr Taadeen","http://www.nowgoal.vip/analysis/1677194.html",2.2999999999999998,2.93,3.17,2.2999999999999998,2.93,3.17]
["COL D1",null,"Atletico Junior Barranquilla",1.53,3.67,5.74,0.59440000000000004,0.24740000000000001,0.15820000000000001,0.90800000000000003,"Envigado FC","View(105)",null,{"$f":"IF(A92<>\"\",TEXT(A92,\"\"),\"\")","v":"COL D1"},{"$f":"IF(N92=\"\",\"\",CONCATENATE(IF(C92<>\"\",TEXT(C92,\"\"),\"\"),\" - \",IF(K92<>\"\",TEXT(K92,\"\"),\"\")))","v":"Atletico Junior Barranquilla - Envigado FC"},"http://www.nowgoal.vip/analysis/1659011.html",{"$f":"IF(D92<>\"\",D92,\"\")","v":1.53},{"$f":"IF(E92<>\"\",E92,\"\")","v":3.67},{"$f":"IF(F92<>\"\",F92,\"\")","v":5.74},{"$f":"IF(N92<>\"\",IF(D93<>\"\",D93,D92),\"\")","v":1.44},{"$f":"IF(N92<>\"\",IF(E93<>\"\",E93,E92),\"\")","v":3.97},{"$f":"IF(N92<>\"\",IF(F93<>\"\",F93,F92),\"\")","v":6.63},null,"EGY D2","Tanta - EI Raja Marsa Matruh","http://www.nowgoal.vip/analysis/1677196.html",2.2000000000000002,2.85,3.25,2.2000000000000002,2.85,3.25]
[null,null,null,1.44,3.97,6.63,0.63200000000000001,0.23019999999999999,0.13780000000000001,0.91300000000000003,null,null,null,null,null,"",null,null,null,null,null,null,null,"KSA PR","Al-Taawon - Al-Ettifaq","http://www.nowgoal.vip/analysis/1612801.html",1.67,3.83,4.01,1.67,3.84,4.03]
["SLV D1",null,"CD Sonsonate",2.5,3.14,2.56,0.36070000000000002,0.28699999999999998,0.3523,0.90159999999999996,"CD Audaz","View(70)",null,{"$f":"IF(A94<>\"\",TEXT(A94,\"\"),\"\")","v":"SLV D1"},{"$f":"IF(N94=\"\",\"\",CONCATENATE(IF(C94<>\"\",TEXT(C94,\"\"),\"\"),\" - \",IF(K94<>\"\",TEXT(K94,\"\"),\"\")))","v":"CD Sonsonate - CD Audaz"},"http://www.nowgoal.vip/analysis/1654738.html",{"$f":"IF(D94<>\"\",D94,\"\")","v":2.5},{"$f":"IF(E94<>\"\",E94,\"\")","v":3.14},{"$f":"IF(F94<>\"\",F94,\"\")","v":2.56},{"$f":"IF(N94<>\"\",IF(D95<>\"\",D95,D94),\"\")","v":2.33},{"$f":"IF(N94<>\"\",IF(E95<>\"\",E95,E94),\"\")","v":3.03},{"$f":"IF(N94<>\"\",IF(F95<>\"\",F95,F94),\"\")","v":2.9},null,"ENG U23LC","Nottingham Forest U23 - Leicester City U23","http://www.nowgoal.vip/analysis/1629881.html",2.4900000000000002,3.74,2.27,2.4900000000000002,3.74,2.27]
[null,null,null,2.33,3.03,2.9,0.38929999999999998,0.29849999999999999,0.31219999999999998,0.90510000000000002,null,null,null,null,null,"",null,null,null,null,null,null,null,"Uganda D 2","Entebbe FC - Bukedea TC FC","http://www.nowgoal.vip/analysis/1677186.html",2.46,2.82,3.09,2.46,2.82,3.09]
["BRA AP",null,"CD Universitario",3.25,2.95,2.1,0.27400000000000002,0.3019,0.42409999999999998,0.89049999999999996,"Plaza Amador","View(1)",null,{"$f":"IF(A96<>\"\",TEXT(A96,\"\"),\"\")","v":"BRA AP"},{"$f":"IF(N96=\"\",\"\",CONCATENATE(IF(C96<>\"\",TEXT(C96,\"\"),\"\"),\" - \",IF(K96<>\"\",TEXT(K96,\"\"),\"\")))","v":"CD Universitario - Plaza Amador"},"http://www.nowgoal.vip/analysis/1677208.html",{"$f":"IF(D96<>\"\",D96,\"\")","v":3.25},{"$f":"IF(E96<>\"\",E96,\"\")","v":2.95},{"$f":"IF(F96<>\"\",F96,\"\")","v":2.1},{"$f":"IF(N96<>\"\",IF(D97<>\"\",D97,D96),\"\")","v":3.25},{"$f":"IF(N96<>\"\",IF(E97<>\"\",E97,E96),\"\")","v":2.95},{"$f":"IF(N96<>\"\",IF(F97<>\"\",F97,F96),\"\")","v":2.1},null,"Uganda D 2","Kabale Sharp FC - Bumate United FC","http://www.nowgoal.vip/analysis/1677187.html",1.1200000000000001,7,12,1.1200000000000001,7,12]
[null,null,null,null,null,null,null,null,null,null,null,null,null,null,null,"",null,null,null,null,null,null,null,"Uganda D 2","Kireka United - Dove FC","http://www.nowgoal.vip/analysis/1677188.html",2.4900000000000002,2.86,3.13,2.4900000000000002,2.86,3.13]
["BRA AP",null,"Sporting San Miguelito",3.03,3.28,2.1,0.29730000000000001,0.27460000000000001,0.42820000000000003,0.89929999999999999,"Tauro FC","View(2)",null,{"$f":"IF(A98<>\"\",TEXT(A98,\"\"),\"\")","v":"BRA AP"},{"$f":"IF(N98=\"\",\"\",CONCATENATE(IF(C98<>\"\",TEXT(C98,\"\"),\"\"),\" - \",IF(K98<>\"\",TEXT(K98,\"\"),\"\")))","v":"Sporting San Miguelito - Tauro FC"},"http://www.nowgoal.vip/analysis/1677209.html",{"$f":"IF(D98<>\"\",D98,\"\")","v":3.03},{"$f":"IF(E98<>\"\",E98,\"\")","v":3.28},{"$f":"IF(F98<>\"\",F98,\"\")","v":2.1},{"$f":"IF(N98<>\"\",IF(D99<>\"\",D99,D98),\"\")","v":3.13},{"$f":"IF(N98<>\"\",IF(E99<>\"\",E99,E98),\"\")","v":3.25},{"$f":"IF(N98<>\"\",IF(F99<>\"\",F99,F98),\"\")","v":2.08},null,"Uganda D 2","Kyetume FC - Kataka FC","http://www.nowgoal.vip/analysis/1677189.html",1.69,2.96,6.27,1.69,2.96,6.27]
[null,null,null,3.13,3.25,2.08,0.28839999999999999,0.27729999999999999,0.43430000000000002,0.9012,null,null,null,null,null,"",null,null,null,null,null,null,null,"Uganda D 2","Ntinda United FC - Kira United","http://www.nowgoal.vip/analysis/1677191.html",2.14,2.87,3.7,2.14,2.87,3.7]
["SLV D1",null,"A.D. Isidro Metapan",1.82,3.29,3.86,0.49320000000000003,0.27360000000000001,0.23330000000000001,0.89970000000000006,"Municipal Limeno","View(68)",null,{"$f":"IF(A100<>\"\",TEXT(A100,\"\"),\"\")","v":"SLV D1"},{"$f":"IF(N100=\"\",\"\",CONCATENATE(IF(C100<>\"\",TEXT(C100,\"\"),\"\"),\" - \",IF(K100<>\"\",TEXT(K100,\"\"),\"\")))","v":"A.D. Isidro Metapan - Municipal Limeno"},"http://www.nowgoal.vip/analysis/1654735.html",{"$f":"IF(D100<>\"\",D100,\"\")","v":1.82},{"$f":"IF(E100<>\"\",E100,\"\")","v":3.29},{"$f":"IF(F100<>\"\",F100,\"\")","v":3.86},{"$f":"IF(N100<>\"\",IF(D101<>\"\",D101,D100),\"\")","v":1.95},{"$f":"IF(N100<>\"\",IF(E101<>\"\",E101,E100),\"\")","v":3.23},{"$f":"IF(N100<>\"\",IF(F101<>\"\",F101,F100),\"\")","v":3.51},null,"Uganda D 2","defense forces - JMC","http://www.nowgoal.vip/analysis/1677192.html",1.84,2.95,4.9400000000000004,1.84,2.95,4.9400000000000004]
[null,null,null,1.95,3.23,3.51,0.46379999999999999,0.2792,0.25700000000000001,0.90280000000000005,null,null,null,null,null,"",null,null,null,null,null,null,null,"MAC D1","Windsor Arch Ka I - Sporting de Macau","http://www.nowgoal.vip/analysis/1670548.html",1.7,4.25,3.2,1.7,4.25,3.2]
["CRC D1",null,"Cartagines Deportiva SA",2.39,3.35,2.62,0.38109999999999999,0.27139999999999997,0.34739999999999999,0.90959999999999996,"Alajuelense","View(66)",null,{"$f":"IF(A102<>\"\",TEXT(A102,\"\"),\"\")","v":"CRC D1"},{"$f":"IF(N102=\"\",\"\",CONCATENATE(IF(C102<>\"\",TEXT(C102,\"\"),\"\"),\" - \",IF(K102<>\"\",TEXT(K102,\"\"),\"\")))","v":"Cartagines Deportiva SA - Alajuelense"},"http://www.nowgoal.vip/analysis/1654572.html",{"$f":"IF(D102<>\"\",D102,\"\")","v":2.39},{"$f":"IF(E102<>\"\",E102,\"\")","v":3.35},{"$f":"IF(F102<>\"\",F102,\"\")","v":2.62},{"$f":"IF(N102<>\"\",IF(D103<>\"\",D103,D102),\"\")","v":2.4700000000000002},{"$f":"IF(N102<>\"\",IF(E103<>\"\",E103,E102),\"\")","v":3.32},{"$f":"IF(N102<>\"\",IF(F103<>\"\",F103,F102),\"\")","v":2.54},null,"Spain D4","CD Rincon - Velez CF","http://www.nowgoal.vip/analysis/1677225.html",2.5,3.3,2.4,2.5,3.3,2.4]
[null,null,null,2.4700000000000002,3.32,2.54,0.36809999999999998,0.27410000000000001,0.35780000000000001,0.91,null,null,null,null,null,"",null,null,null,null,null,null,null,"ISR D3","Beitar Kfar Saba Shlomi - Maccabi Yavne","http://www.nowgoal.vip/analysis/1619514.html",4.79,3.57,1.63,4.79,3.57,1.63]
["CNCF CHL",null,"Monterrey",1.1200000000000001,6.69,15.27,0.80620000000000003,0.13469999999999999,5.8999999999999997E-2,0.90090000000000003,"Alianza San Salvador","View(36)",null,{"$f":"IF(A104<>\"\",TEXT(A104,\"\"),\"\")","v":"CNCF CHL"},{"$f":"IF(N104=\"\",\"\",CONCATENATE(IF(C104<>\"\",TEXT(C104,\"\"),\"\"),\" - \",IF(K104<>\"\",TEXT(K104,\"\"),\"\")))","v":"Monterrey - Alianza San Salvador"},"http://www.nowgoal.vip/analysis/1671762.html",{"$f":"IF(D104<>\"\",D104,\"\")","v":1.1200000000000001},{"$f":"IF(E104<>\"\",E104,\"\")","v":6.69},{"$f":"IF(F104<>\"\",F104,\"\")","v":15.27},{"$f":"IF(N104<>\"\",IF(D105<>\"\",D105,D104),\"\")","v":1.1000000000000001},{"$f":"IF(N104<>\"\",IF(E105<>\"\",E105,E104),\"\")","v":6.95},{"$f":"IF(N104<>\"\",IF(F105<>\"\",F105,F104),\"\")","v":16.43},null,"RWA D1","Kiyovu FC - Etincelles","http://www.nowgoal.vip/analysis/1677226.html",1.8,3.25,4,1.8,3.25,4]
[null,null,null,1.1000000000000001,6.95,16.43,0.81589999999999996,0.1293,5.4699999999999999E-2,0.89929999999999999,null,null,null,null,null,"",null,null,null,null,null,null,null,"EGY D1","El Gounah - Petrojet","http://www.nowgoal.vip/analysis/1664145.html",2.4300000000000002,3.05,2.8,2.44,3.04,2.8]
["MEX IL",null,"Chivas Guadalajara",1.54,3.66,5.71,0.59089999999999998,0.24929999999999999,0.1598,0.91210000000000002,"Atletico San Luis","View(148)",null,{"$f":"IF(A106<>\"\",TEXT(A106,\"\"),\"\")","v":"MEX IL"},{"$f":"IF(N106=\"\",\"\",CONCATENATE(IF(C106<>\"\",TEXT(C106,\"\"),\"\"),\" - \",IF(K106<>\"\",TEXT(K106,\"\"),\"\")))","v":"Chivas Guadalajara - Atletico San Luis"},"http://www.nowgoal.vip/analysis/1674832.html",{"$f":"IF(D106<>\"\",D106,\"\")","v":1.54},{"$f":"IF(E106<>\"\",E106,\"\")","v":3.66},{"$f":"IF(F106<>\"\",F106,\"\")","v":5.71},{"$f":"IF(N106<>\"\",IF(D107<>\"\",D107,D106),\"\")","v":1.64},{"$f":"IF(N106<>\"\",IF(E107<>\"\",E107,E106),\"\")","v":3.52},{"$f":"IF(N106<>\"\",IF(F107<>\"\",F107,F106),\"\")","v":5.08},null,"MAR D1","Maghrib Association Tetouan - Olympique de Safi","http://www.nowgoal.vip/analysis/1582625.html",2.37,2.75,3.02,2.37,2.75,3.02]
[null,null,null,1.64,3.52,5.08,0.55979999999999996,0.25979999999999998,0.1804,0.91559999999999997,null,null,null,null,null,"",null,null,null,null,null,null,null,"PALL","Shabab Althahrea - Thagafi Tulkarem","http://www.nowgoal.vip/analysis/1677227.html",2.75,3.4,2.2000000000000002,2.75,3.4,2.2000000000000002]
["MEX IL",null,"FC Juarez",3.62,3.29,1.93,0.25180000000000002,0.27729999999999999,0.47089999999999999,0.91120000000000001,"Club Leon","View(150)",null,{"$f":"IF(A108<>\"\",TEXT(A108,\"\"),\"\")","v":"MEX IL"},{"$f":"IF(N108=\"\",\"\",CONCATENATE(IF(C108<>\"\",TEXT(C108,\"\"),\"\"),\" - \",IF(K108<>\"\",TEXT(K108,\"\"),\"\")))","v":"FC Juarez - Club Leon"},"http://www.nowgoal.vip/analysis/1674833.html",{"$f":"IF(D108<>\"\",D108,\"\")","v":3.62},{"$f":"IF(E108<>\"\",E108,\"\")","v":3.29},{"$f":"IF(F108<>\"\",F108,\"\")","v":1.93},{"$f":"IF(N108<>\"\",IF(D109<>\"\",D109,D108),\"\")","v":3.65},{"$f":"IF(N108<>\"\",IF(E109<>\"\",E109,E108),\"\")","v":3.33},{"$f":"IF(N108<>\"\",IF(F109<>\"\",F109,F108),\"\")","v":1.93},null,"ISL","FC Goa - Chennai Titans","http://www.nowgoal.vip/analysis/1660407.html",1.34,4.5,7.8,1.34,4.5,7.79]
[null,null,null,3.65,3.33,1.93,0.25069999999999998,0.27510000000000001,0.47420000000000001,0.91520000000000001,null,null,null,null,null,"",null,null,null,null,null,null,null,"INT FRL","Bosnia and Herzegovina (w) - Montenegro (w)","http://www.nowgoal.vip/analysis/1676185.html",1.4,4.62,5.81,1.4,4.62,5.82]
["INT FRL",null,"Argentina (w)(N)",8.36,4.91,1.28,0.108,0.18410000000000001,0.70799999999999996,0.90329999999999999,"Korea Rep (w)","View(7)",null,{"$f":"IF(A110<>\"\",TEXT(A110,\"\"),\"\")","v":"INT FRL"},{"$f":"IF(N110=\"\",\"\",CONCATENATE(IF(C110<>\"\",TEXT(C110,\"\"),\"\"),\" - \",IF(K110<>\"\",TEXT(K110,\"\"),\"\")))","v":"Argentina (w)(N) - Korea Rep (w)"},"http://www.nowgoal.vip/analysis/1674849.html",{"$f":"IF(D110<>\"\",D110,\"\")","v":8.36},{"$f":"IF(E110<>\"\",E110,\"\")","v":4.91},{"$f":"IF(F110<>\"\",F110,\"\")","v":1.28},{"$f":"IF(N110<>\"\",IF(D111<>\"\",D111,D110),\"\")","v":8.4},{"$f":"IF(N110<>\"\",IF(E111<>\"\",E111,E110),\"\")","v":4.91},{"$f":"IF(N110<>\"\",IF(F111<>\"\",F111,F110),\"\")","v":1.28},null,"IRN PR","Zob Ahan - Mashin Sazi","http://www.nowgoal.vip/analysis/1665191.html",2.12,2.78,3.64,2.13,2.8,3.67]
[null,null,null,8.4,4.91,1.28,0.1076,0.18410000000000001,0.70830000000000004,0.90380000000000005,null,null,null,null,null,"",null,null,null,null,null,null,null,"IRN PR","Persepolis - Sanat-Naft","http://www.nowgoal.vip/analysis/1665192.html",1.36,3.82,8.9700000000000006,1.36,3.86,9.09]
["VIE U19",null,"Khatoco Khanh Hoa U19",4.8,3.8,1.57,0.188,0.2374,0.5746,0.90239999999999998,"Lam Dong U19","View(1)",null,{"$f":"IF(A112<>\"\",TEXT(A112,\"\"),\"\")","v":"VIE U19"},{"$f":"IF(N112=\"\",\"\",CONCATENATE(IF(C112<>\"\",TEXT(C112,\"\"),\"\"),\" - \",IF(K112<>\"\",TEXT(K112,\"\"),\"\")))","v":"Khatoco Khanh Hoa U19 - Lam Dong U19"},"http://www.nowgoal.vip/analysis/1674248.html",{"$f":"IF(D112<>\"\",D112,\"\")","v":4.8},{"$f":"IF(E112<>\"\",E112,\"\")","v":3.8},{"$f":"IF(F112<>\"\",F112,\"\")","v":1.57},{"$f":"IF(N112<>\"\",IF(D113<>\"\",D113,D112),\"\")","v":4.8},{"$f":"IF(N112<>\"\",IF(E113<>\"\",E113,E112),\"\")","v":3.8},{"$f":"IF(N112<>\"\",IF(F113<>\"\",F113,F112),\"\")","v":1.57},null,"QAT D1","Al Duhail - Al-Ahli Doha","http://www.nowgoal.vip/analysis/1671091.html",1.4,5.09,5,1.4,5.09,5]
[null,null,null,null,null,null,null,null,null,null,null,null,null,null,null,"",null,null,null,null,null,null,null,"Spain D4","Cadiz B - Ecija Balompie","http://www.nowgoal.vip/analysis/1677228.html",1.25,4.8,10,1.25,4.5999999999999996,10]
["VIE U19",null,"Song Lam Nghe An U19",1.44,4.2,5.5,0.62319999999999998,0.2137,0.16320000000000001,0.89739999999999998,"Ha Tinh U19","View(1)",null,{"$f":"IF(A114<>\"\",TEXT(A114,\"\"),\"\")","v":"VIE U19"},{"$f":"IF(N114=\"\",\"\",CONCATENATE(IF(C114<>\"\",TEXT(C114,\"\"),\"\"),\" - \",IF(K114<>\"\",TEXT(K114,\"\"),\"\")))","v":"Song Lam Nghe An U19 - Ha Tinh U19"},"http://www.nowgoal.vip/analysis/1674266.html",{"$f":"IF(D114<>\"\",D114,\"\")","v":1.44},{"$f":"IF(E114<>\"\",E114,\"\")","v":4.2},{"$f":"IF(F114<>\"\",F114,\"\")","v":5.5},{"$f":"IF(N114<>\"\",IF(D115<>\"\",D115,D114),\"\")","v":1.44},{"$f":"IF(N114<>\"\",IF(E115<>\"\",E115,E114),\"\")","v":4.2},{"$f":"IF(N114<>\"\",IF(F115<>\"\",F115,F114),\"\")","v":5.5},null,"KUW D2","Al-Sahel - Khaitan","http://www.nowgoal.vip/analysis/1674139.html",1.53,3.8,5,1.53,3.8,5]
[null,null,null,null,null,null,null,null,null,null,null,null,null,null,null,"",null,null,null,null,null,null,null,"KUW D2","Burgan SC - Al-Salibikhaet","http://www.nowgoal.vip/analysis/1674140.html",1.83,3.6,3.4,1.83,3.6,3.4]
["INT FRL",null,"Lithuania (w)(N)",3.06,3.35,2.11,0.29749999999999999,0.27179999999999999,0.43070000000000003,0.90980000000000005,"Estonia (w)","View(27)",null,{"$f":"IF(A116<>\"\",TEXT(A116,\"\"),\"\")","v":"INT FRL"},{"$f":"IF(N116=\"\",\"\",CONCATENATE(IF(C116<>\"\",TEXT(C116,\"\"),\"\"),\" - \",IF(K116<>\"\",TEXT(K116,\"\"),\"\")))","v":"Lithuania (w)(N) - Estonia (w)"},"http://www.nowgoal.vip/analysis/1676660.html",{"$f":"IF(D116<>\"\",D116,\"\")","v":3.06},{"$f":"IF(E116<>\"\",E116,\"\")","v":3.35},{"$f":"IF(F116<>\"\",F116,\"\")","v":2.11},{"$f":"IF(N116<>\"\",IF(D117<>\"\",D117,D116),\"\")","v":3.06},{"$f":"IF(N116<>\"\",IF(E117<>\"\",E117,E116),\"\")","v":3.35},{"$f":"IF(N116<>\"\",IF(F117<>\"\",F117,F116),\"\")","v":2.11},null,"INT CF","FK Ventspils - Jerv","http://www.nowgoal.vip/analysis/1677151.html",1.57,4.3,4,1.57,4.3,4]
[null,null,null,3.06,3.35,2.11,0.29770000000000002,0.27179999999999999,0.43059999999999998,0.91,null,null,null,null,null,"",null,null,null,null,null,null,null,"INT CF","Ranheim IL - Rosenborg","http://www.nowgoal.vip/analysis/1674141.html",3.25,4,1.8,3.25,4,1.8]
["VIE U19",null,"Dong Nai U19",9,7,1.1599999999999999,9.9599999999999994E-2,0.128,0.77239999999999998,0.89639999999999997,"Hoang Anh Gia Lai U19","View(1)",null,{"$f":"IF(A118<>\"\",TEXT(A118,\"\"),\"\")","v":"VIE U19"},{"$f":"IF(N118=\"\",\"\",CONCATENATE(IF(C118<>\"\",TEXT(C118,\"\"),\"\"),\" - \",IF(K118<>\"\",TEXT(K118,\"\"),\"\")))","v":"Dong Nai U19 - Hoang Anh Gia Lai U19"},"http://www.nowgoal.vip/analysis/1674249.html",{"$f":"IF(D118<>\"\",D118,\"\")","v":9},{"$f":"IF(E118<>\"\",E118,\"\")","v":7},{"$f":"IF(F118<>\"\",F118,\"\")","v":1.1599999999999999},{"$f":"IF(N118<>\"\",IF(D119<>\"\",D119,D118),\"\")","v":9},{"$f":"IF(N118<>\"\",IF(E119<>\"\",E119,E118),\"\")","v":7},{"$f":"IF(N118<>\"\",IF(F119<>\"\",F119,F118),\"\")","v":1.1599999999999999},null,"Spain D4","Antequera CF - Polideportivo Almeria","http://www.nowgoal.vip/analysis/1677229.html",1.5,3.8,5.5,1.5,3.8,5.5]
[null,null,null,null,null,null,null,null,null,null,null,null,null,null,null,"",null,null,null,null,null,null,null,"KSA PR","Uhud - Al-Fateh","http://www.nowgoal.vip/analysis/1612898.html",2.65,3.36,2.33,2.66,3.35,2.33]
["VIE U19",null,"Nam Dinh U19",3,3.6,2,0.3,0.25,0.45,0.9,"Than Quang Ninh U19","View(1)",null,{"$f":"IF(A120<>\"\",TEXT(A120,\"\"),\"\")","v":"VIE U19"},{"$f":"IF(N120=\"\",\"\",CONCATENATE(IF(C120<>\"\",TEXT(C120,\"\"),\"\"),\" - \",IF(K120<>\"\",TEXT(K120,\"\"),\"\")))","v":"Nam Dinh U19 - Than Quang Ninh U19"},"http://www.nowgoal.vip/analysis/1674259.html",{"$f":"IF(D120<>\"\",D120,\"\")","v":3},{"$f":"IF(E120<>\"\",E120,\"\")","v":3.6},{"$f":"IF(F120<>\"\",F120,\"\")","v":2},{"$f":"IF(N120<>\"\",IF(D121<>\"\",D121,D120),\"\")","v":3},{"$f":"IF(N120<>\"\",IF(E121<>\"\",E121,E120),\"\")","v":3.6},{"$f":"IF(N120<>\"\",IF(F121<>\"\",F121,F120),\"\")","v":2},null,"UAE LP","Al Ahli(UAE) - Al Ain","http://www.nowgoal.vip/analysis/1614173.html",2.81,3.63,2.11,2.81,3.63,2.11]
[null,null,null,null,null,null,null,null,null,null,null,null,null,null,null,"",null,null,null,null,null,null,null,"FIN CUP","RoPS Rovaniemi - KPV","http://www.nowgoal.vip/analysis/1657537.html",2.42,3.09,2.78,2.4,3.13,2.78]
["VIE U19",null,"Dong Tam Long An U19",6,4.8,1.36,0.15010000000000001,0.18759999999999999,0.6623,0.90059999999999996,"Tay Ninh U19","View(1)",null,{"$f":"IF(A122<>\"\",TEXT(A122,\"\"),\"\")","v":"VIE U19"},{"$f":"IF(N122=\"\",\"\",CONCATENATE(IF(C122<>\"\",TEXT(C122,\"\"),\"\"),\" - \",IF(K122<>\"\",TEXT(K122,\"\"),\"\")))","v":"Dong Tam Long An U19 - Tay Ninh U19"},"http://www.nowgoal.vip/analysis/1674276.html",{"$f":"IF(D122<>\"\",D122,\"\")","v":6},{"$f":"IF(E122<>\"\",E122,\"\")","v":4.8},{"$f":"IF(F122<>\"\",F122,\"\")","v":1.36},{"$f":"IF(N122<>\"\",IF(D123<>\"\",D123,D122),\"\")","v":6},{"$f":"IF(N122<>\"\",IF(E123<>\"\",E123,E122),\"\")","v":4.8},{"$f":"IF(N122<>\"\",IF(F123<>\"\",F123,F122),\"\")","v":1.36},null,"JOR D1","Ramtha Club - Al-Ahly","http://www.nowgoal.vip/analysis/1611311.html",2.2000000000000002,2.77,3.43,2.2000000000000002,2.77,3.44]
[null,null,null,null,null,null,null,null,null,null,null,null,null,null,null,"",null,null,null,null,null,null,null,"TUR Cup","Kasimpasa - Akhisar Bld.Geng","http://www.nowgoal.vip/analysis/1666383.html",2.0299999999999998,3.4,3.19,2.0499999999999998,3.39,3.22]
["INT FRL",null,"Australia (w)",1.44,3.87,6.42,0.626,0.23330000000000001,0.14069999999999999,0.90280000000000005,"New Zealand (w)","View(9)",null,{"$f":"IF(A124<>\"\",TEXT(A124,\"\"),\"\")","v":"INT FRL"},{"$f":"IF(N124=\"\",\"\",CONCATENATE(IF(C124<>\"\",TEXT(C124,\"\"),\"\"),\" - \",IF(K124<>\"\",TEXT(K124,\"\"),\"\")))","v":"Australia (w) - New Zealand (w)"},"http://www.nowgoal.vip/analysis/1674850.html",{"$f":"IF(D124<>\"\",D124,\"\")","v":1.44},{"$f":"IF(E124<>\"\",E124,\"\")","v":3.87},{"$f":"IF(F124<>\"\",F124,\"\")","v":6.42},{"$f":"IF(N124<>\"\",IF(D125<>\"\",D125,D124),\"\")","v":1.42},{"$f":"IF(N124<>\"\",IF(E125<>\"\",E125,E124),\"\")","v":3.9},{"$f":"IF(N124<>\"\",IF(F125<>\"\",F125,F124),\"\")","v":6.56},null,"Spain D4","Loja CD - Atletico Mancha real","http://www.nowgoal.vip/analysis/1677230.html",2.12,3.32,3.04,2.12,3.32,3.04]
[null,null,null,1.42,3.9,6.56,0.63180000000000003,0.23089999999999999,0.13730000000000001,0.9,null,null,null,null,null,"",null,null,null,null,null,null,null,"Spain D4","Real Jaen CF - Torredonjimeno","http://www.nowgoal.vip/analysis/1677231.html",1.22,5,11,1.22,5,11]
["VIE U19",null,"Phu Yen U19",1.28,5.5,6.5,0.69950000000000001,0.1628,0.13769999999999999,0.89539999999999997,"Binh Dinh U19","View(1)",null,{"$f":"IF(A126<>\"\",TEXT(A126,\"\"),\"\")","v":"VIE U19"},{"$f":"IF(N126=\"\",\"\",CONCATENATE(IF(C126<>\"\",TEXT(C126,\"\"),\"\"),\" - \",IF(K126<>\"\",TEXT(K126,\"\"),\"\")))","v":"Phu Yen U19 - Binh Dinh U19"},"http://www.nowgoal.vip/analysis/1674250.html",{"$f":"IF(D126<>\"\",D126,\"\")","v":1.28},{"$f":"IF(E126<>\"\",E126,\"\")","v":5.5},{"$f":"IF(F126<>\"\",F126,\"\")","v":6.5},{"$f":"IF(N126<>\"\",IF(D127<>\"\",D127,D126),\"\")","v":1.28},{"$f":"IF(N126<>\"\",IF(E127<>\"\",E127,E126),\"\")","v":5.5},{"$f":"IF(N126<>\"\",IF(F127<>\"\",F127,F126),\"\")","v":6.5},null,"QAT D1","Al-Sadd - Qatar SC","http://www.nowgoal.vip/analysis/1671092.html",1.17,7,9,1.1599999999999999,7.25,9.3800000000000008]
[null,null,null,null,null,null,null,null,null,null,null,null,null,null,null,"",null,null,null,null,null,null,null,"ISR W1","AS Tel Aviv University (w) - Maccabi Hadera (w)","http://www.nowgoal.vip/analysis/1638028.html",1.5,3.78,5.25,1.5,3.78,5.25]
["INT CF",null,"SC Weiz",2.6,4,2.1,0.34620000000000001,0.22509999999999999,0.42870000000000003,0.90010000000000001,"Rapid Vienna (Youth)","View(2)",null,{"$f":"IF(A128<>\"\",TEXT(A128,\"\"),\"\")","v":"INT CF"},{"$f":"IF(N128=\"\",\"\",CONCATENATE(IF(C128<>\"\",TEXT(C128,\"\"),\"\"),\" - \",IF(K128<>\"\",TEXT(K128,\"\"),\"\")))","v":"SC Weiz - Rapid Vienna (Youth)"},"http://www.nowgoal.vip/analysis/1677149.html",{"$f":"IF(D128<>\"\",D128,\"\")","v":2.6},{"$f":"IF(E128<>\"\",E128,\"\")","v":4},{"$f":"IF(F128<>\"\",F128,\"\")","v":2.1},{"$f":"IF(N128<>\"\",IF(D129<>\"\",D129,D128),\"\")","v":2.6},{"$f":"IF(N128<>\"\",IF(E129<>\"\",E129,E128),\"\")","v":4},{"$f":"IF(N128<>\"\",IF(F129<>\"\",F129,F128),\"\")","v":2.1},null,"GRE Cup","Olympiakos Piraeus - Lamia","http://www.nowgoal.vip/analysis/1665473.html",1.1200000000000001,6.58,18.02,1.1299999999999999,6.64,17.16]
[null,null,null,null,null,null,null,null,null,null,null,null,null,null,null,"",null,null,null,null,null,null,null,"KSA PR","Al-Shabab(KSA) - Al-Nasr(KSA)","http://www.nowgoal.vip/analysis/1612899.html",2.74,3.6,2.19,2.74,3.62,2.17]
["VIE U19",null,"Huda Hue U19",1.72,4,3.5,0.52039999999999997,0.2238,0.25580000000000003,0.89510000000000001,"Thanh Hoa U19","View(1)",null,{"$f":"IF(A130<>\"\",TEXT(A130,\"\"),\"\")","v":"VIE U19"},{"$f":"IF(N130=\"\",\"\",CONCATENATE(IF(C130<>\"\",TEXT(C130,\"\"),\"\"),\" - \",IF(K130<>\"\",TEXT(K130,\"\"),\"\")))","v":"Huda Hue U19 - Thanh Hoa U19"},"http://www.nowgoal.vip/analysis/1674267.html",{"$f":"IF(D130<>\"\",D130,\"\")","v":1.72},{"$f":"IF(E130<>\"\",E130,\"\")","v":4},{"$f":"IF(F130<>\"\",F130,\"\")","v":3.5},{"$f":"IF(N130<>\"\",IF(D131<>\"\",D131,D130),\"\")","v":1.72},{"$f":"IF(N130<>\"\",IF(E131<>\"\",E131,E130),\"\")","v":4},{"$f":"IF(N130<>\"\",IF(F131<>\"\",F131,F130),\"\")","v":3.5},null,"ROMC","FK Csikszereda Miercurea Ciuc - CS Universitatea Craiova","http://www.nowgoal.vip/analysis/1671412.html",13.08,6.27,1.1599999999999999,11.88,6.17,1.18]
[null,null,null,null,null,null,null,null,null,null,null,null,null,null,null,{"$f":"SUBSTITUTE(SUBSTITUTE(SUBSTITUTE(SUBSTITUTE(IF(L131<>\"\",HLink(L131),\"\"),\"htm\",\"html\"),\"1x2\",\"analysis\"),\"www\",\"www\"),\"com\",\"vip\")","v":""},null,null,null,null,null,null,null,"DAN Cup","Vendsyssel - Brondby IF","http://www.nowgoal.vip/analysis/1649315.html",4.57,3.79,1.64,5,4.04,1.56]
["IND D1",null,"Gokulam Kerala FC",2.2799999999999998,3.28,2.84,0.4007,0.27779999999999999,0.32150000000000001,0.91169999999999995,"Aizawal FC","View(27)",null,{"$f":"IF(A132<>\"\",TEXT(A132,\"\"),\"\")","v":"IND D1"},{"$f":"IF(N132=\"\",\"\",CONCATENATE(IF(C132<>\"\",TEXT(C132,\"\"),\"\"),\" - \",IF(K132<>\"\",TEXT(K132,\"\"),\"\")))","v":"Gokulam Kerala FC - Aizawal FC"},"http://www.nowgoal.vip/analysis/1635616.html",{"$f":"IF(D132<>\"\",D132,\"\")","v":2.2799999999999998},{"$f":"IF(E132<>\"\",E132,\"\")","v":3.28},{"$f":"IF(F132<>\"\",F132,\"\")","v":2.84},{"$f":"IF(N132<>\"\",IF(D133<>\"\",D133,D132),\"\")","v":2.25},{"$f":"IF(N132<>\"\",IF(E133<>\"\",E133,E132),\"\")","v":3.3},{"$f":"IF(N132<>\"\",IF(F133<>\"\",F133,F132),\"\")","v":2.9},null,"Spain D4","Beauty Leila River team - Atarfe Industrial CF","http://www.nowgoal.vip/analysis/1677233.html",2.8,3.4,2.15,2.8,3.4,2.15]
[null,null,null,2.25,3.3,2.9,0.40720000000000001,0.27729999999999999,0.3155,0.91449999999999998,null,null,null,null,null,"",null,null,null,null,null,null,null,"SUI Cup","Thun - Lugano","http://www.nowgoal.vip/analysis/1671539.html",1.91,3.44,3.47,1.91,3.49,3.49]
["RUS YthC",null,"FK Orenburg Youth",2.09,3.63,3.55,0.46250000000000002,0.26579999999999998,0.27179999999999999,0.96479999999999999,"FK Anzhi Youth","View(5)",null,{"$f":"IF(A134<>\"\",TEXT(A134,\"\"),\"\")","v":"RUS YthC"},{"$f":"IF(N134=\"\",\"\",CONCATENATE(IF(C134<>\"\",TEXT(C134,\"\"),\"\"),\" - \",IF(K134<>\"\",TEXT(K134,\"\"),\"\")))","v":"FK Orenburg Youth - FK Anzhi Youth"},"http://www.nowgoal.vip/analysis/1580346.html",{"$f":"IF(D134<>\"\",D134,\"\")","v":2.09},{"$f":"IF(E134<>\"\",E134,\"\")","v":3.63},{"$f":"IF(F134<>\"\",F134,\"\")","v":3.55},{"$f":"IF(N134<>\"\",IF(D135<>\"\",D135,D134),\"\")","v":2.09},{"$f":"IF(N134<>\"\",IF(E135<>\"\",E135,E134),\"\")","v":3.63},{"$f":"IF(N134<>\"\",IF(F135<>\"\",F135,F134),\"\")","v":3.61},null,"ICE LC","UMF Njardvik - KR Reykjavik","http://www.nowgoal.vip/analysis/1667968.html",9.1999999999999993,7.06,1.17,9.2799999999999994,7.1,1.17]
[null,null,null,2.09,3.63,3.61,0.46460000000000001,0.26700000000000002,0.26850000000000002,0.96919999999999995,null,null,null,null,null,"",null,null,null,null,null,null,null,"BRA PE","Sport Club Recife PE - Afogados da Ingazeira FC","http://www.nowgoal.vip/analysis/1652766.html",1.34,4.57,7.06,1.34,4.58,7.08]
["INT FRL",null,"Croatia (w)",2.2400000000000002,3.43,2.66,0.40089999999999998,0.26179999999999998,0.33729999999999999,0.89800000000000002,"Slovenia (w)","View(5)",null,{"$f":"IF(A136<>\"\",TEXT(A136,\"\"),\"\")","v":"INT FRL"},{"$f":"IF(N136=\"\",\"\",CONCATENATE(IF(C136<>\"\",TEXT(C136,\"\"),\"\"),\" - \",IF(K136<>\"\",TEXT(K136,\"\"),\"\")))","v":"Croatia (w) - Slovenia (w)"},"http://www.nowgoal.vip/analysis/1676184.html",{"$f":"IF(D136<>\"\",D136,\"\")","v":2.2400000000000002},{"$f":"IF(E136<>\"\",E136,\"\")","v":3.43},{"$f":"IF(F136<>\"\",F136,\"\")","v":2.66},{"$f":"IF(N136<>\"\",IF(D137<>\"\",D137,D136),\"\")","v":2.25},{"$f":"IF(N136<>\"\",IF(E137<>\"\",E137,E136),\"\")","v":3.42},{"$f":"IF(N136<>\"\",IF(F137<>\"\",F137,F136),\"\")","v":2.65},null,"BOL D1","Sport Boys Warnes - San Jose","http://www.nowgoal.vip/analysis/1656424.html",2.4,3.3,2.65,2.2000000000000002,3.55,2.75]
[null,null,null,2.25,3.42,2.65,0.39910000000000001,0.2626,0.33829999999999999,0.89800000000000002,null,null,null,null,null,"",null,null,null,null,null,null,null,"SUI Cup","FC Zurich - Kriens","http://www.nowgoal.vip/analysis/1671540.html",1.23,5.55,9.7200000000000006,1.23,5.58,9.69]
["VIE U19",null,"An Giang U19",1.2,6.5,8,0.74929999999999997,0.13830000000000001,0.1124,0.8992,"Ben Tre U19","View(1)",null,{"$f":"IF(A138<>\"\",TEXT(A138,\"\"),\"\")","v":"VIE U19"},{"$f":"IF(N138=\"\",\"\",CONCATENATE(IF(C138<>\"\",TEXT(C138,\"\"),\"\"),\" - \",IF(K138<>\"\",TEXT(K138,\"\"),\"\")))","v":"An Giang U19 - Ben Tre U19"},"http://www.nowgoal.vip/analysis/1674278.html",{"$f":"IF(D138<>\"\",D138,\"\")","v":1.2},{"$f":"IF(E138<>\"\",E138,\"\")","v":6.5},{"$f":"IF(F138<>\"\",F138,\"\")","v":8},{"$f":"IF(N138<>\"\",IF(D139<>\"\",D139,D138),\"\")","v":1.2},{"$f":"IF(N138<>\"\",IF(E139<>\"\",E139,E138),\"\")","v":6.5},{"$f":"IF(N138<>\"\",IF(F139<>\"\",F139,F138),\"\")","v":8},null,"ITA PRO LC","Trapani - Potenza","http://www.nowgoal.vip/analysis/1675410.html",1.81,3.15,4.25,1.78,3.2,4.41]
[null,null,null,null,null,null,null,null,null,null,null,null,null,null,null,"",null,null,null,null,null,null,null,"INT CF","Stjordals Blink - Steinkjer FK","http://www.nowgoal.vip/analysis/1676186.html",1.4,4.33,6,1.4,4.33,6]
["INT FRL",null,"Cyprus (w)",2.5099999999999998,3.21,2.5499999999999998,0.3619,0.28260000000000002,0.35549999999999998,0.90720000000000001,"malta (w)","View(27)",null,{"$f":"IF(A140<>\"\",TEXT(A140,\"\"),\"\")","v":"INT FRL"},{"$f":"IF(N140=\"\",\"\",CONCATENATE(IF(C140<>\"\",TEXT(C140,\"\"),\"\"),\" - \",IF(K140<>\"\",TEXT(K140,\"\"),\"\")))","v":"Cyprus (w) - malta (w)"},"http://www.nowgoal.vip/analysis/1676661.html",{"$f":"IF(D140<>\"\",D140,\"\")","v":2.5099999999999998},{"$f":"IF(E140<>\"\",E140,\"\")","v":3.21},{"$f":"IF(F140<>\"\",F140,\"\")","v":2.5499999999999998},{"$f":"IF(N140<>\"\",IF(D141<>\"\",D141,D140),\"\")","v":2.5299999999999998},{"$f":"IF(N140<>\"\",IF(E141<>\"\",E141,E140),\"\")","v":3.26},{"$f":"IF(N140<>\"\",IF(F141<>\"\",F141,F140),\"\")","v":2.5299999999999998},null,"Brazil DDL","Cruzeiro RS - Guarani RS","http://www.nowgoal.vip/analysis/1676713.html",1.72,3,5,1.72,3,5]
[null,null,null,2.5299999999999998,3.26,2.5299999999999998,0.3604,0.27979999999999999,0.35980000000000001,0.91139999999999999,null,null,null,null,null,"",null,null,null,null,null,null,null,"HOLC","Willem II - AZ Alkmaar","http://www.nowgoal.vip/analysis/1671544.html",4.01,3.85,1.74,4.43,3.92,1.67]
["Spain D4",null,"Cordoba B",2.27,3.2,2.79,0.39639999999999997,0.28120000000000001,0.32250000000000001,0.89980000000000004,"Xerez Deportivo FC","View(2)",null,{"$f":"IF(A142<>\"\",TEXT(A142,\"\"),\"\")","v":"Spain D4"},{"$f":"IF(N142=\"\",\"\",CONCATENATE(IF(C142<>\"\",TEXT(C142,\"\"),\"\"),\" - \",IF(K142<>\"\",TEXT(K142,\"\"),\"\")))","v":"Cordoba B - Xerez Deportivo FC"},"http://www.nowgoal.vip/analysis/1677176.html",{"$f":"IF(D142<>\"\",D142,\"\")","v":2.27},{"$f":"IF(E142<>\"\",E142,\"\")","v":3.2},{"$f":"IF(F142<>\"\",F142,\"\")","v":2.79},{"$f":"IF(N142<>\"\",IF(D143<>\"\",D143,D142),\"\")","v":2.27},{"$f":"IF(N142<>\"\",IF(E143<>\"\",E143,E142),\"\")","v":3.2},{"$f":"IF(N142<>\"\",IF(F143<>\"\",F143,F142),\"\")","v":2.79},null,"SPA CUP","Valencia - Real Betis","http://www.nowgoal.vip/analysis/1666770.html",1.75,3.65,4.42,1.74,3.68,4.58]
[null,null,null,null,null,null,null,null,null,null,null,null,null,null,null,"",null,null,null,null,null,null,null,"FRAC","Vitre - Nantes","http://www.nowgoal.vip/analysis/1671537.html",8.6199999999999992,4.79,1.32,8.59,4.7699999999999996,1.33]
["SPA LU19",null,"Sevilla U19",1.21,6.15,11.03,0.76529999999999998,0.1507,8.4000000000000005E-2,0.92600000000000005,"Recreativo Huelva U19","View(4)",null,{"$f":"IF(A144<>\"\",TEXT(A144,\"\"),\"\")","v":"SPA LU19"},{"$f":"IF(N144=\"\",\"\",CONCATENATE(IF(C144<>\"\",TEXT(C144,\"\"),\"\"),\" - \",IF(K144<>\"\",TEXT(K144,\"\"),\"\")))","v":"Sevilla U19 - Recreativo Huelva U19"},"http://www.nowgoal.vip/analysis/1677177.html",{"$f":"IF(D144<>\"\",D144,\"\")","v":1.21},{"$f":"IF(E144<>\"\",E144,\"\")","v":6.15},{"$f":"IF(F144<>\"\",F144,\"\")","v":11.03},{"$f":"IF(N144<>\"\",IF(D145<>\"\",D145,D144),\"\")","v":1.21},{"$f":"IF(N144<>\"\",IF(E145<>\"\",E145,E144),\"\")","v":6.15},{"$f":"IF(N144<>\"\",IF(F145<>\"\",F145,F144),\"\")","v":11.03},null,"INT FRL","France (w) - Germany (w)","http://www.nowgoal.vip/analysis/1674142.html",2.27,3.33,2.7,2.27,3.33,2.69]
[null,null,null,null,null,null,null,null,null,null,null,null,null,null,null,"",null,null,null,null,null,null,null,"COL D1","Aguilas Doradas - Dep.Independiente Medellin","http://www.nowgoal.vip/analysis/1659009.html",2.56,2.99,2.64,2.9,3.01,2.36]
["Spain D4",null,"Algeciras",1.24,5.97,9.7899999999999991,0.74919999999999998,0.15579999999999999,9.5000000000000001E-2,0.93049999999999999,"Guadalcacin CD","View(5)",null,{"$f":"IF(A146<>\"\",TEXT(A146,\"\"),\"\")","v":"Spain D4"},{"$f":"IF(N146=\"\",\"\",CONCATENATE(IF(C146<>\"\",TEXT(C146,\"\"),\"\"),\" - \",IF(K146<>\"\",TEXT(K146,\"\"),\"\")))","v":"Algeciras - Guadalcacin CD"},"http://www.nowgoal.vip/analysis/1677178.html",{"$f":"IF(D146<>\"\",D146,\"\")","v":1.24},{"$f":"IF(E146<>\"\",E146,\"\")","v":5.97},{"$f":"IF(F146<>\"\",F146,\"\")","v":9.7899999999999991},{"$f":"IF(N146<>\"\",IF(D147<>\"\",D147,D146),\"\")","v":1.1499999999999999},{"$f":"IF(N146<>\"\",IF(E147<>\"\",E147,E146),\"\")","v":7.32},{"$f":"IF(N146<>\"\",IF(F147<>\"\",F147,F146),\"\")","v":12.8},null,"SLV D1","CD Pasaquina - CD FAS","http://www.nowgoal.vip/analysis/1654734.html",2.5,3.18,2.5299999999999998,2.5,3.17,2.5299999999999998]
[null,null,null,1.1499999999999999,7.32,12.8,0.80230000000000001,0.1258,7.1999999999999995E-2,0.92100000000000004,null,null,null,null,null,"",null,null,null,null,null,null,null,"PAR D1","Deportivo Santani - Guarani CA","http://www.nowgoal.vip/analysis/1650703.html",3.32,3.27,2.0099999999999998,3.32,3.27,2.0099999999999998]
["Spain D4",null,"Atletico Espeleno",2.75,3.19,2.3199999999999998,0.3286,0.28270000000000001,0.38869999999999999,0.90269999999999995,"Sevilla C","View(17)",null,{"$f":"IF(A148<>\"\",TEXT(A148,\"\"),\"\")","v":"Spain D4"},{"$f":"IF(N148=\"\",\"\",CONCATENATE(IF(C148<>\"\",TEXT(C148,\"\"),\"\"),\" - \",IF(K148<>\"\",TEXT(K148,\"\"),\"\")))","v":"Atletico Espeleno - Sevilla C"},"http://www.nowgoal.vip/analysis/1677179.html",{"$f":"IF(D148<>\"\",D148,\"\")","v":2.75},{"$f":"IF(E148<>\"\",E148,\"\")","v":3.19},{"$f":"IF(F148<>\"\",F148,\"\")","v":2.3199999999999998},{"$f":"IF(N148<>\"\",IF(D149<>\"\",D149,D148),\"\")","v":2.75},{"$f":"IF(N148<>\"\",IF(E149<>\"\",E149,E148),\"\")","v":3.19},{"$f":"IF(N148<>\"\",IF(F149<>\"\",F149,F148),\"\")","v":2.3199999999999998},null,"BRA CUP","Tombense - Botafogo PB","http://www.nowgoal.vip/analysis/1672837.html",2.12,3.13,3.21,2.17,3.13,3.13]
[null,null,null,null,null,null,null,null,null,null,null,null,null,null,null,"",null,null,null,null,null,null,null,"BRB MG","Ipatinga - CAP Uberlandia","http://www.nowgoal.vip/analysis/1677155.html",2.2000000000000002,3.25,2.86,2.2000000000000002,3.25,2.86]
["Spain D4",null,"Coria CF",1.61,3.6,4.5,0.55400000000000005,0.24779999999999999,0.19819999999999999,0.89190000000000003,"CD Cabecense","View(1)",null,{"$f":"IF(A150<>\"\",TEXT(A150,\"\"),\"\")","v":"Spain D4"},{"$f":"IF(N150=\"\",\"\",CONCATENATE(IF(C150<>\"\",TEXT(C150,\"\"),\"\"),\" - \",IF(K150<>\"\",TEXT(K150,\"\"),\"\")))","v":"Coria CF - CD Cabecense"},"http://www.nowgoal.vip/analysis/1677216.html",{"$f":"IF(D150<>\"\",D150,\"\")","v":1.61},{"$f":"IF(E150<>\"\",E150,\"\")","v":3.6},{"$f":"IF(F150<>\"\",F150,\"\")","v":4.5},{"$f":"IF(N150<>\"\",IF(D151<>\"\",D151,D150),\"\")","v":1.62},{"$f":"IF(N150<>\"\",IF(E151<>\"\",E151,E150),\"\")","v":3.5},{"$f":"IF(N150<>\"\",IF(F151<>\"\",F151,F150),\"\")","v":4.5},null,"BRA PE","America PE - Central SC","http://www.nowgoal.vip/analysis/1652763.html",4.2300000000000004,3.44,1.73,4.2300000000000004,3.44,1.73]
[null,null,null,1.62,3.5,4.5,0.54859999999999998,0.25390000000000001,0.19750000000000001,0.88870000000000005,null,null,null,null,null,"",null,null,null,null,null,null,null,"Brazil DDL","Inter Santa Maria(RS) - Sao Gabriel RS","http://www.nowgoal.vip/analysis/1677156.html",1.5,3.6,6,1.5,3.6,6]
["Spain D4",null,"Xerez Deportivo",2,3.3,3.2,0.44819999999999999,0.27160000000000001,0.28010000000000002,0.89639999999999997,"CD Gerena","View(1)",null,{"$f":"IF(A152<>\"\",TEXT(A152,\"\"),\"\")","v":"Spain D4"},{"$f":"IF(N152=\"\",\"\",CONCATENATE(IF(C152<>\"\",TEXT(C152,\"\"),\"\"),\" - \",IF(K152<>\"\",TEXT(K152,\"\"),\"\")))","v":"Xerez Deportivo - CD Gerena"},"http://www.nowgoal.vip/analysis/1677217.html",{"$f":"IF(D152<>\"\",D152,\"\")","v":2},{"$f":"IF(E152<>\"\",E152,\"\")","v":3.3},{"$f":"IF(F152<>\"\",F152,\"\")","v":3.2},{"$f":"IF(N152<>\"\",IF(D153<>\"\",D153,D152),\"\")","v":2},{"$f":"IF(N152<>\"\",IF(E153<>\"\",E153,E152),\"\")","v":3.3},{"$f":"IF(N152<>\"\",IF(F153<>\"\",F153,F152),\"\")","v":3.25},null,"BRA SPC2","Barretos SP - EC Sao Bernardo/SP","http://www.nowgoal.vip/analysis/1676571.html",2.1,3.25,3,2.1,3.25,3]
[null,null,null,2,3.3,3.25,0.45019999999999999,0.27279999999999999,0.27700000000000002,0.90039999999999998,null,null,null,null,null,"",null,null,null,null,null,null,null,"COL D1","America de Cali - Independiente Santa Fe","http://www.nowgoal.vip/analysis/1659010.html",1.93,3.09,3.82,2.1,2.89,3.57]
["Spain D4",null,"CD Huetor Vega",1.8,3.4,3.8,0.49919999999999998,0.26429999999999998,0.23649999999999999,0.89859999999999995,"CD Alhaurino","View(1)",null,{"$f":"IF(A154<>\"\",TEXT(A154,\"\"),\"\")","v":"Spain D4"},{"$f":"IF(N154=\"\",\"\",CONCATENATE(IF(C154<>\"\",TEXT(C154,\"\"),\"\"),\" - \",IF(K154<>\"\",TEXT(K154,\"\"),\"\")))","v":"CD Huetor Vega - CD Alhaurino"},"http://www.nowgoal.vip/analysis/1677219.html",{"$f":"IF(D154<>\"\",D154,\"\")","v":1.8},{"$f":"IF(E154<>\"\",E154,\"\")","v":3.4},{"$f":"IF(F154<>\"\",F154,\"\")","v":3.8},{"$f":"IF(N154<>\"\",IF(D155<>\"\",D155,D154),\"\")","v":1.8},{"$f":"IF(N154<>\"\",IF(E155<>\"\",E155,E154),\"\")","v":3.4},{"$f":"IF(N154<>\"\",IF(F155<>\"\",F155,F154),\"\")","v":3.8},null,"BRA RJ","Portuguesa RJ - Flamengo","http://www.nowgoal.vip/analysis/1674396.html",3.5,3.85,2.1,3.5,3.85,2.1]
[null,null,null,null,null,null,null,null,null,null,null,null,null,null,null,"",null,null,null,null,null,null,null,"CON CLA","Atletico Nacional Medellin - Libertad","http://www.nowgoal.vip/analysis/1672283.html",1.52,3.75,5.92,1.49,3.78,6.47]
["Spain D4",null,"Juventud Torremolinos CF",2.5,3.3,2.4,0.35720000000000002,0.27060000000000001,0.37209999999999999,0.89300000000000002,"Motril","View(1)",null,{"$f":"IF(A156<>\"\",TEXT(A156,\"\"),\"\")","v":"Spain D4"},{"$f":"IF(N156=\"\",\"\",CONCATENATE(IF(C156<>\"\",TEXT(C156,\"\"),\"\"),\" - \",IF(K156<>\"\",TEXT(K156,\"\"),\"\")))","v":"Juventud Torremolinos CF - Motril"},"http://www.nowgoal.vip/analysis/1677221.html",{"$f":"IF(D156<>\"\",D156,\"\")","v":2.5},{"$f":"IF(E156<>\"\",E156,\"\")","v":3.3},{"$f":"IF(F156<>\"\",F156,\"\")","v":2.4},{"$f":"IF(N156<>\"\",IF(D157<>\"\",D157,D156),\"\")","v":2.5},{"$f":"IF(N156<>\"\",IF(E157<>\"\",E157,E156),\"\")","v":3.3},{"$f":"IF(N156<>\"\",IF(F157<>\"\",F157,F156),\"\")","v":2.4},null,"CON CSA","Club Guabira - Macara","http://www.nowgoal.vip/analysis/1650940.html",2.69,3.16,2.4900000000000002,2.4900000000000002,3.16,2.68]
[null,null,null,null,null,null,null,null,null,null,null,null,null,null,null,"",null,null,null,null,null,null,null,"BRA CUP","Juventude - America MG","http://www.nowgoal.vip/analysis/1672838.html",3.19,3.08,2.13,3.21,3.02,2.17]
["INT FRL",null,"Serbia U19",2.1800000000000002,3.33,2.95,0.41820000000000002,0.27350000000000002,0.30830000000000002,0.90959999999999996,"Slovenia U19","View(2)",null,{"$f":"IF(A158<>\"\",TEXT(A158,\"\"),\"\")","v":"INT FRL"},{"$f":"IF(N158=\"\",\"\",CONCATENATE(IF(C158<>\"\",TEXT(C158,\"\"),\"\"),\" - \",IF(K158<>\"\",TEXT(K158,\"\"),\"\")))","v":"Serbia U19 - Slovenia U19"},"http://www.nowgoal.vip/analysis/1677157.html",{"$f":"IF(D158<>\"\",D158,\"\")","v":2.1800000000000002},{"$f":"IF(E158<>\"\",E158,\"\")","v":3.33},{"$f":"IF(F158<>\"\",F158,\"\")","v":2.95},{"$f":"IF(N158<>\"\",IF(D159<>\"\",D159,D158),\"\")","v":2.1800000000000002},{"$f":"IF(N158<>\"\",IF(E159<>\"\",E159,E158),\"\")","v":3.35},{"$f":"IF(N158<>\"\",IF(F159<>\"\",F159,F158),\"\")","v":2.93},null,"CNCF CHL","Atlanta United - Herediano","http://www.nowgoal.vip/analysis/1671763.html",1.32,4.82,7.54,1.32,4.8600000000000003,7.54]
[null,null,null,2.1800000000000002,3.35,2.93,0.41789999999999999,0.27129999999999999,0.31080000000000002,0.90890000000000004,null,null,null,null,null,"",null,null,null,null,null,null,null,"SLV D1","Luis Angel Firpo - CD Chalatenango","http://www.nowgoal.vip/analysis/1654736.html",2.5,3.18,2.52,2.5,3.19,2.5299999999999998]
["IND D1",null,"Mohun Bagan(Ind)",1.59,3.67,5.01,0.57179999999999997,0.2472,0.18099999999999999,0.90710000000000002,"AIFF XI","View(84)",null,{"$f":"IF(A160<>\"\",TEXT(A160,\"\"),\"\")","v":"IND D1"},{"$f":"IF(N160=\"\",\"\",CONCATENATE(IF(C160<>\"\",TEXT(C160,\"\"),\"\"),\" - \",IF(K160<>\"\",TEXT(K160,\"\"),\"\")))","v":"Mohun Bagan(Ind) - AIFF XI"},"http://www.nowgoal.vip/analysis/1635629.html",{"$f":"IF(D160<>\"\",D160,\"\")","v":1.59},{"$f":"IF(E160<>\"\",E160,\"\")","v":3.67},{"$f":"IF(F160<>\"\",F160,\"\")","v":5.01},{"$f":"IF(N160<>\"\",IF(D161<>\"\",D161,D160),\"\")","v":1.6},{"$f":"IF(N160<>\"\",IF(E161<>\"\",E161,E160),\"\")","v":3.64},{"$f":"IF(N160<>\"\",IF(F161<>\"\",F161,F160),\"\")","v":4.95},null,"COL D1","Millonarios - Union Magdalena","http://www.nowgoal.vip/analysis/1659017.html",1.7,3.42,4.4800000000000004,1.51,3.71,5.89]
[null,null,null,1.6,3.64,4.95,0.56779999999999997,0.249,0.1832,0.90680000000000005,null,null,null,null,null,"",null,null,null,null,null,null,null,"SLV D1","Santa Tecla - Aguila","http://www.nowgoal.vip/analysis/1654737.html",2.27,3.24,2.77,2.27,3.24,2.78]
["IRN PR",null,"Pars Jonoubi Jam",2.02,2.79,4.04,0.4501,0.3251,0.2248,0.9073,"Saipa","View(44)",null,{"$f":"IF(A162<>\"\",TEXT(A162,\"\"),\"\")","v":"IRN PR"},{"$f":"IF(N162=\"\",\"\",CONCATENATE(IF(C162<>\"\",TEXT(C162,\"\"),\"\"),\" - \",IF(K162<>\"\",TEXT(K162,\"\"),\"\")))","v":"Pars Jonoubi Jam - Saipa"},"http://www.nowgoal.vip/analysis/1665190.html",{"$f":"IF(D162<>\"\",D162,\"\")","v":2.02},{"$f":"IF(E162<>\"\",E162,\"\")","v":2.79},{"$f":"IF(F162<>\"\",F162,\"\")","v":4.04},{"$f":"IF(N162<>\"\",IF(D163<>\"\",D163,D162),\"\")","v":2.02},{"$f":"IF(N162<>\"\",IF(E163<>\"\",E163,E162),\"\")","v":2.79},{"$f":"IF(N162<>\"\",IF(F163<>\"\",F163,F162),\"\")","v":4.03},null,"CNCF CHL","Toluca - FC Kansas City","http://www.nowgoal.vip/analysis/1671764.html",1.55,3.92,5,1.56,3.9,5.03]
[null,null,null,2.02,2.79,4.03,0.44979999999999998,0.32529999999999998,0.22489999999999999,0.9073,null,null,null,null,null,""]
["IRN PR",null,"Foolad Khozestan",3.06,2.81,2.4,0.29709999999999998,0.32379999999999998,0.37909999999999999,0.90839999999999999,"Esteghlal Tehran","View(36)",null,{"$f":"IF(A164<>\"\",TEXT(A164,\"\"),\"\")","v":"IRN PR"},{"$f":"IF(N164=\"\",\"\",CONCATENATE(IF(C164<>\"\",TEXT(C164,\"\"),\"\"),\" - \",IF(K164<>\"\",TEXT(K164,\"\"),\"\")))","v":"Foolad Khozestan - Esteghlal Tehran"},"http://www.nowgoal.vip/analysis/1665189.html",{"$f":"IF(D164<>\"\",D164,\"\")","v":3.06},{"$f":"IF(E164<>\"\",E164,\"\")","v":2.81},{"$f":"IF(F164<>\"\",F164,\"\")","v":2.4},{"$f":"IF(N164<>\"\",IF(D165<>\"\",D165,D164),\"\")","v":3.12},{"$f":"IF(N164<>\"\",IF(E165<>\"\",E165,E164),\"\")","v":2.81},{"$f":"IF(N164<>\"\",IF(F165<>\"\",F165,F164),\"\")","v":2.36}]
[null,null,null,3.12,2.81,2.36,0.29139999999999999,0.32350000000000001,0.3851,0.90880000000000005,null,null,null,null,null,""]
["JOR D2",null,"Dar Al-Dawa",2.25,3.3,2.75,0.4,0.2727,0.32729999999999998,0.9,"Blama","View(1)",null,{"$f":"IF(A166<>\"\",TEXT(A166,\"\"),\"\")","v":"JOR D2"},{"$f":"IF(N166=\"\",\"\",CONCATENATE(IF(C166<>\"\",TEXT(C166,\"\"),\"\"),\" - \",IF(K166<>\"\",TEXT(K166,\"\"),\"\")))","v":"Dar Al-Dawa - Blama"},"http://www.nowgoal.vip/analysis/1677224.html",{"$f":"IF(D166<>\"\",D166,\"\")","v":2.25},{"$f":"IF(E166<>\"\",E166,\"\")","v":3.3},{"$f":"IF(F166<>\"\",F166,\"\")","v":2.75},{"$f":"IF(N166<>\"\",IF(D167<>\"\",D167,D166),\"\")","v":2.25},{"$f":"IF(N166<>\"\",IF(E167<>\"\",E167,E166),\"\")","v":3.3},{"$f":"IF(N166<>\"\",IF(F167<>\"\",F167,F166),\"\")","v":2.75}]
[null,null,null,null,null,null,null,null,null,null,null,null,null,null,null,""]
["EGY D2",null,"Al Nasr Cairo",1.93,3.24,3.48,0.46510000000000001,0.27700000000000002,0.25790000000000002,0.89759999999999995,"Al Zarka","View(2)",null,{"$f":"IF(A168<>\"\",TEXT(A168,\"\"),\"\")","v":"EGY D2"},{"$f":"IF(N168=\"\",\"\",CONCATENATE(IF(C168<>\"\",TEXT(C168,\"\"),\"\"),\" - \",IF(K168<>\"\",TEXT(K168,\"\"),\"\")))","v":"Al Nasr Cairo - Al Zarka"},"http://www.nowgoal.vip/analysis/1677180.html",{"$f":"IF(D168<>\"\",D168,\"\")","v":1.93},{"$f":"IF(E168<>\"\",E168,\"\")","v":3.24},{"$f":"IF(F168<>\"\",F168,\"\")","v":3.48},{"$f":"IF(N168<>\"\",IF(D169<>\"\",D169,D168),\"\")","v":1.93},{"$f":"IF(N168<>\"\",IF(E169<>\"\",E169,E168),\"\")","v":3.24},{"$f":"IF(N168<>\"\",IF(F169<>\"\",F169,F168),\"\")","v":3.48}]
[null,null,null,null,null,null,null,null,null,null,null,null,null,null,null,""]
["EGY D2",null,"El Hammam",1.5,3.8,5.5,0.59970000000000001,0.23669999999999999,0.1636,0.89959999999999996,"MS Tla","View(1)",null,{"$f":"IF(A170<>\"\",TEXT(A170,\"\"),\"\")","v":"EGY D2"},{"$f":"IF(N170=\"\",\"\",CONCATENATE(IF(C170<>\"\",TEXT(C170,\"\"),\"\"),\" - \",IF(K170<>\"\",TEXT(K170,\"\"),\"\")))","v":"El Hammam - MS Tla"},"http://www.nowgoal.vip/analysis/1677181.html",{"$f":"IF(D170<>\"\",D170,\"\")","v":1.5},{"$f":"IF(E170<>\"\",E170,\"\")","v":3.8},{"$f":"IF(F170<>\"\",F170,\"\")","v":5.5},{"$f":"IF(N170<>\"\",IF(D171<>\"\",D171,D170),\"\")","v":1.5},{"$f":"IF(N170<>\"\",IF(E171<>\"\",E171,E170),\"\")","v":3.8},{"$f":"IF(N170<>\"\",IF(F171<>\"\",F171,F170),\"\")","v":5.5}]
[null,null,null,null,null,null,null,null,null,null,null,null,null,null,null,""]
["EGY D2",null,"FC Porto Suez",2.1,3.25,3,0.42620000000000002,0.27539999999999998,0.2984,0.89500000000000002,"Suez Montakhab","View(1)",null,{"$f":"IF(A172<>\"\",TEXT(A172,\"\"),\"\")","v":"EGY D2"},{"$f":"IF(N172=\"\",\"\",CONCATENATE(IF(C172<>\"\",TEXT(C172,\"\"),\"\"),\" - \",IF(K172<>\"\",TEXT(K172,\"\"),\"\")))","v":"FC Porto Suez - Suez Montakhab"},"http://www.nowgoal.vip/analysis/1677182.html",{"$f":"IF(D172<>\"\",D172,\"\")","v":2.1},{"$f":"IF(E172<>\"\",E172,\"\")","v":3.25},{"$f":"IF(F172<>\"\",F172,\"\")","v":3},{"$f":"IF(N172<>\"\",IF(D173<>\"\",D173,D172),\"\")","v":2.1},{"$f":"IF(N172<>\"\",IF(E173<>\"\",E173,E172),\"\")","v":3.25},{"$f":"IF(N172<>\"\",IF(F173<>\"\",F173,F172),\"\")","v":3}]
[null,null,null,null,null,null,null,null,null,null,null,null,null,null,null,""]
["EGY D2",null,"Ghomhoreyet Shebin",2.79,2.91,2.5499999999999998,0.3276,0.31369999999999998,0.35870000000000002,0.9133,"FC Masr","View(5)",null,{"$f":"IF(A174<>\"\",TEXT(A174,\"\"),\"\")","v":"EGY D2"},{"$f":"IF(N174=\"\",\"\",CONCATENATE(IF(C174<>\"\",TEXT(C174,\"\"),\"\"),\" - \",IF(K174<>\"\",TEXT(K174,\"\"),\"\")))","v":"Ghomhoreyet Shebin - FC Masr"},"http://www.nowgoal.vip/analysis/1677183.html",{"$f":"IF(D174<>\"\",D174,\"\")","v":2.79},{"$f":"IF(E174<>\"\",E174,\"\")","v":2.91},{"$f":"IF(F174<>\"\",F174,\"\")","v":2.5499999999999998},{"$f":"IF(N174<>\"\",IF(D175<>\"\",D175,D174),\"\")","v":2.79},{"$f":"IF(N174<>\"\",IF(E175<>\"\",E175,E174),\"\")","v":2.91},{"$f":"IF(N174<>\"\",IF(F175<>\"\",F175,F174),\"\")","v":2.5499999999999998}]
[null,null,null,null,null,null,null,null,null,null,null,null,null,null,null,""]
["EGY D2",null,"Pharco",2.41,2.92,2.92,0.37690000000000001,0.31159999999999999,0.31159999999999999,0.90980000000000005,"El Olympi","View(5)",null,{"$f":"IF(A176<>\"\",TEXT(A176,\"\"),\"\")","v":"EGY D2"},{"$f":"IF(N176=\"\",\"\",CONCATENATE(IF(C176<>\"\",TEXT(C176,\"\"),\"\"),\" - \",IF(K176<>\"\",TEXT(K176,\"\"),\"\")))","v":"Pharco - El Olympi"},"http://www.nowgoal.vip/analysis/1677184.html",{"$f":"IF(D176<>\"\",D176,\"\")","v":2.41},{"$f":"IF(E176<>\"\",E176,\"\")","v":2.92},{"$f":"IF(F176<>\"\",F176,\"\")","v":2.92},{"$f":"IF(N176<>\"\",IF(D177<>\"\",D177,D176),\"\")","v":2.41},{"$f":"IF(N176<>\"\",IF(E177<>\"\",E177,E176),\"\")","v":2.92},{"$f":"IF(N176<>\"\",IF(F177<>\"\",F177,F176),\"\")","v":2.92}]
[null,null,null,null,null,null,null,null,null,null,null,null,null,null,null,""]
["EGY D2",null,"Serameka",1.83,3.05,4.5599999999999996,0.49990000000000001,0.29959999999999998,0.20039999999999999,0.91379999999999995,"Coca Cola FC","View(5)",null,{"$f":"IF(A178<>\"\",TEXT(A178,\"\"),\"\")","v":"EGY D2"},{"$f":"IF(N178=\"\",\"\",CONCATENATE(IF(C178<>\"\",TEXT(C178,\"\"),\"\"),\" - \",IF(K178<>\"\",TEXT(K178,\"\"),\"\")))","v":"Serameka - Coca Cola FC"},"http://www.nowgoal.vip/analysis/1677185.html",{"$f":"IF(D178<>\"\",D178,\"\")","v":1.83},{"$f":"IF(E178<>\"\",E178,\"\")","v":3.05},{"$f":"IF(F178<>\"\",F178,\"\")","v":4.5599999999999996},{"$f":"IF(N178<>\"\",IF(D179<>\"\",D179,D178),\"\")","v":1.83},{"$f":"IF(N178<>\"\",IF(E179<>\"\",E179,E178),\"\")","v":3.05},{"$f":"IF(N178<>\"\",IF(F179<>\"\",F179,F178),\"\")","v":4.5599999999999996}]
[null,null,null,null,null,null,null,null,null,null,null,null,null,null,null,""]
["EGY D2",null,"Fayoum",2.2999999999999998,2.93,3.17,0.39800000000000002,0.3125,0.28949999999999998,0.91639999999999999,"Nasr Taadeen","View(4)",null,{"$f":"IF(A180<>\"\",TEXT(A180,\"\"),\"\")","v":"EGY D2"},{"$f":"IF(N180=\"\",\"\",CONCATENATE(IF(C180<>\"\",TEXT(C180,\"\"),\"\"),\" - \",IF(K180<>\"\",TEXT(K180,\"\"),\"\")))","v":"Fayoum - Nasr Taadeen"},"http://www.nowgoal.vip/analysis/1677194.html",{"$f":"IF(D180<>\"\",D180,\"\")","v":2.2999999999999998},{"$f":"IF(E180<>\"\",E180,\"\")","v":2.93},{"$f":"IF(F180<>\"\",F180,\"\")","v":3.17},{"$f":"IF(N180<>\"\",IF(D181<>\"\",D181,D180),\"\")","v":2.2999999999999998},{"$f":"IF(N180<>\"\",IF(E181<>\"\",E181,E180),\"\")","v":2.93},{"$f":"IF(N180<>\"\",IF(F181<>\"\",F181,F180),\"\")","v":3.17}]
[null,null,null,null,null,null,null,null,null,null,null,null,null,null,null,""]
["EGY D2",null,"Tanta",2.2000000000000002,2.85,3.25,0.40839999999999999,0.31519999999999998,0.27639999999999998,0.89849999999999997,"EI Raja Marsa Matruh","View(1)",null,{"$f":"IF(A182<>\"\",TEXT(A182,\"\"),\"\")","v":"EGY D2"},{"$f":"IF(N182=\"\",\"\",CONCATENATE(IF(C182<>\"\",TEXT(C182,\"\"),\"\"),\" - \",IF(K182<>\"\",TEXT(K182,\"\"),\"\")))","v":"Tanta - EI Raja Marsa Matruh"},"http://www.nowgoal.vip/analysis/1677196.html",{"$f":"IF(D182<>\"\",D182,\"\")","v":2.2000000000000002},{"$f":"IF(E182<>\"\",E182,\"\")","v":2.85},{"$f":"IF(F182<>\"\",F182,\"\")","v":3.25},{"$f":"IF(N182<>\"\",IF(D183<>\"\",D183,D182),\"\")","v":2.2000000000000002},{"$f":"IF(N182<>\"\",IF(E183<>\"\",E183,E182),\"\")","v":2.85},{"$f":"IF(N182<>\"\",IF(F183<>\"\",F183,F182),\"\")","v":3.25}]
[null,null,null,null,null,null,null,null,null,null,null,null,null,null,null,""]
["KSA PR",null,"Al-Taawon",1.67,3.83,4.01,0.53949999999999998,0.2354,0.22509999999999999,0.90159999999999996,"Al-Ettifaq","View(16)",null,{"$f":"IF(A184<>\"\",TEXT(A184,\"\"),\"\")","v":"KSA PR"},{"$f":"IF(N184=\"\",\"\",CONCATENATE(IF(C184<>\"\",TEXT(C184,\"\"),\"\"),\" - \",IF(K184<>\"\",TEXT(K184,\"\"),\"\")))","v":"Al-Taawon - Al-Ettifaq"},"http://www.nowgoal.vip/analysis/1612801.html",{"$f":"IF(D184<>\"\",D184,\"\")","v":1.67},{"$f":"IF(E184<>\"\",E184,\"\")","v":3.83},{"$f":"IF(F184<>\"\",F184,\"\")","v":4.01},{"$f":"IF(N184<>\"\",IF(D185<>\"\",D185,D184),\"\")","v":1.67},{"$f":"IF(N184<>\"\",IF(E185<>\"\",E185,E184),\"\")","v":3.84},{"$f":"IF(N184<>\"\",IF(F185<>\"\",F185,F184),\"\")","v":4.03}]
[null,null,null,1.67,3.84,4.03,0.54049999999999998,0.23530000000000001,0.22420000000000001,0.90359999999999996,null,null,null,null,null,""]
["ENG U23LC",null,"Nottingham Forest U23",2.4900000000000002,3.74,2.27,0.36199999999999999,0.24099999999999999,0.39700000000000002,0.90139999999999998,"Leicester City U23","View(2)",null,{"$f":"IF(A186<>\"\",TEXT(A186,\"\"),\"\")","v":"ENG U23LC"},{"$f":"IF(N186=\"\",\"\",CONCATENATE(IF(C186<>\"\",TEXT(C186,\"\"),\"\"),\" - \",IF(K186<>\"\",TEXT(K186,\"\"),\"\")))","v":"Nottingham Forest U23 - Leicester City U23"},"http://www.nowgoal.vip/analysis/1629881.html",{"$f":"IF(D186<>\"\",D186,\"\")","v":2.4900000000000002},{"$f":"IF(E186<>\"\",E186,\"\")","v":3.74},{"$f":"IF(F186<>\"\",F186,\"\")","v":2.27},{"$f":"IF(N186<>\"\",IF(D187<>\"\",D187,D186),\"\")","v":2.4900000000000002},{"$f":"IF(N186<>\"\",IF(E187<>\"\",E187,E186),\"\")","v":3.74},{"$f":"IF(N186<>\"\",IF(F187<>\"\",F187,F186),\"\")","v":2.27}]
[null,null,null,null,null,null,null,null,null,null,null,null,null,null,null,""]
["Uganda D 2",null,"Entebbe FC",2.46,2.82,3.09,0.37480000000000002,0.32650000000000001,0.29870000000000002,0.92200000000000004,"Bukedea TC FC","View(3)",null,{"$f":"IF(A188<>\"\",TEXT(A188,\"\"),\"\")","v":"Uganda D 2"},{"$f":"IF(N188=\"\",\"\",CONCATENATE(IF(C188<>\"\",TEXT(C188,\"\"),\"\"),\" - \",IF(K188<>\"\",TEXT(K188,\"\"),\"\")))","v":"Entebbe FC - Bukedea TC FC"},"http://www.nowgoal.vip/analysis/1677186.html",{"$f":"IF(D188<>\"\",D188,\"\")","v":2.46},{"$f":"IF(E188<>\"\",E188,\"\")","v":2.82},{"$f":"IF(F188<>\"\",F188,\"\")","v":3.09},{"$f":"IF(N188<>\"\",IF(D189<>\"\",D189,D188),\"\")","v":2.46},{"$f":"IF(N188<>\"\",IF(E189<>\"\",E189,E188),\"\")","v":2.82},{"$f":"IF(N188<>\"\",IF(F189<>\"\",F189,F188),\"\")","v":3.09}]
[null,null,null,null,null,null,null,null,null,null,null,null,null,null,null,""]
["Uganda D 2",null,"Kabale Sharp FC",1.1200000000000001,7,12,0.79790000000000005,0.12770000000000001,7.4499999999999997E-2,0.89359999999999995,"Bumate United FC","View(1)",null,{"$f":"IF(A190<>\"\",TEXT(A190,\"\"),\"\")","v":"Uganda D 2"},{"$f":"IF(N190=\"\",\"\",CONCATENATE(IF(C190<>\"\",TEXT(C190,\"\"),\"\"),\" - \",IF(K190<>\"\",TEXT(K190,\"\"),\"\")))","v":"Kabale Sharp FC - Bumate United FC"},"http://www.nowgoal.vip/analysis/1677187.html",{"$f":"IF(D190<>\"\",D190,\"\")","v":1.1200000000000001},{"$f":"IF(E190<>\"\",E190,\"\")","v":7},{"$f":"IF(F190<>\"\",F190,\"\")","v":12},{"$f":"IF(N190<>\"\",IF(D191<>\"\",D191,D190),\"\")","v":1.1200000000000001},{"$f":"IF(N190<>\"\",IF(E191<>\"\",E191,E190),\"\")","v":7},{"$f":"IF(N190<>\"\",IF(F191<>\"\",F191,F190),\"\")","v":12}]
[null,null,null,null,null,null,null,null,null,null,null,null,null,null,null,""]
["Uganda D 2",null,"Kireka United",2.4900000000000002,2.86,3.13,0.37509999999999999,0.32650000000000001,0.2984,0.93400000000000005,"Dove FC","View(2)",null,{"$f":"IF(A192<>\"\",TEXT(A192,\"\"),\"\")","v":"Uganda D 2"},{"$f":"IF(N192=\"\",\"\",CONCATENATE(IF(C192<>\"\",TEXT(C192,\"\"),\"\"),\" - \",IF(K192<>\"\",TEXT(K192,\"\"),\"\")))","v":"Kireka United - Dove FC"},"http://www.nowgoal.vip/analysis/1677188.html",{"$f":"IF(D192<>\"\",D192,\"\")","v":2.4900000000000002},{"$f":"IF(E192<>\"\",E192,\"\")","v":2.86},{"$f":"IF(F192<>\"\",F192,\"\")","v":3.13},{"$f":"IF(N192<>\"\",IF(D193<>\"\",D193,D192),\"\")","v":2.4900000000000002},{"$f":"IF(N192<>\"\",IF(E193<>\"\",E193,E192),\"\")","v":2.86},{"$f":"IF(N192<>\"\",IF(F193<>\"\",F193,F192),\"\")","v":3.13}]
[null,null,null,null,null,null,null,null,null,null,null,null,null,null,null,""]
["Uganda D 2",null,"Kyetume FC",1.69,2.96,6.27,0.54300000000000004,0.31030000000000002,0.1467,0.91949999999999998,"Kataka FC","View(3)",null,{"$f":"IF(A194<>\"\",TEXT(A194,\"\"),\"\")","v":"Uganda D 2"},{"$f":"IF(N194=\"\",\"\",CONCATENATE(IF(C194<>\"\",TEXT(C194,\"\"),\"\"),\" - \",IF(K194<>\"\",TEXT(K194,\"\"),\"\")))","v":"Kyetume FC - Kataka FC"},"http://www.nowgoal.vip/analysis/1677189.html",{"$f":"IF(D194<>\"\",D194,\"\")","v":1.69},{"$f":"IF(E194<>\"\",E194,\"\")","v":2.96},{"$f":"IF(F194<>\"\",F194,\"\")","v":6.27},{"$f":"IF(N194<>\"\",IF(D195<>\"\",D195,D194),\"\")","v":1.69},{"$f":"IF(N194<>\"\",IF(E195<>\"\",E195,E194),\"\")","v":2.96},{"$f":"IF(N194<>\"\",IF(F195<>\"\",F195,F194),\"\")","v":6.27}]
[null,null,null,null,null,null,null,null,null,null,null,null,null,null,null,{"$f":"SUBSTITUTE(SUBSTITUTE(SUBSTITUTE(SUBSTITUTE(IF(L195<>\"\",HLink(L195),\"\"),\"htm\",\"html\"),\"1x2\",\"analysis\"),\"www\",\"www\"),\"com\",\"vip\")","v":""}]
["Uganda D 2",null,"Ntinda United FC",2.14,2.87,3.7,0.43020000000000003,0.32090000000000002,0.249,0.92210000000000003,"Kira United","View(3)",null,{"$f":"IF(A196<>\"\",TEXT(A196,\"\"),\"\")","v":"Uganda D 2"},{"$f":"IF(N196=\"\",\"\",CONCATENATE(IF(C196<>\"\",TEXT(C196,\"\"),\"\"),\" - \",IF(K196<>\"\",TEXT(K196,\"\"),\"\")))","v":"Ntinda United FC - Kira United"},"http://www.nowgoal.vip/analysis/1677191.html",{"$f":"IF(D196<>\"\",D196,\"\")","v":2.14},{"$f":"IF(E196<>\"\",E196,\"\")","v":2.87},{"$f":"IF(F196<>\"\",F196,\"\")","v":3.7},{"$f":"IF(N196<>\"\",IF(D197<>\"\",D197,D196),\"\")","v":2.14},{"$f":"IF(N196<>\"\",IF(E197<>\"\",E197,E196),\"\")","v":2.87},{"$f":"IF(N196<>\"\",IF(F197<>\"\",F197,F196),\"\")","v":3.7}]
[null,null,null,null,null,null,null,null,null,null,null,null,null,null,null,""]
["Uganda D 2",null,"defense forces",1.84,2.95,4.9400000000000004,0.50149999999999995,0.31219999999999998,0.18629999999999999,0.92110000000000003,"JMC","View(3)",null,{"$f":"IF(A198<>\"\",TEXT(A198,\"\"),\"\")","v":"Uganda D 2"},{"$f":"IF(N198=\"\",\"\",CONCATENATE(IF(C198<>\"\",TEXT(C198,\"\"),\"\"),\" - \",IF(K198<>\"\",TEXT(K198,\"\"),\"\")))","v":"defense forces - JMC"},"http://www.nowgoal.vip/analysis/1677192.html",{"$f":"IF(D198<>\"\",D198,\"\")","v":1.84},{"$f":"IF(E198<>\"\",E198,\"\")","v":2.95},{"$f":"IF(F198<>\"\",F198,\"\")","v":4.9400000000000004},{"$f":"IF(N198<>\"\",IF(D199<>\"\",D199,D198),\"\")","v":1.84},{"$f":"IF(N198<>\"\",IF(E199<>\"\",E199,E198),\"\")","v":2.95},{"$f":"IF(N198<>\"\",IF(F199<>\"\",F199,F198),\"\")","v":4.9400000000000004}]
[null,null,null,null,null,null,null,null,null,null,null,null,null,null,null,""]
["MAC D1",null,"Windsor Arch Ka I",1.7,4.25,3.2,0.51780000000000004,0.20710000000000001,0.27510000000000001,0.88029999999999997,"Sporting de Macau","View(1)",null,{"$f":"IF(A200<>\"\",TEXT(A200,\"\"),\"\")","v":"MAC D1"},{"$f":"IF(N200=\"\",\"\",CONCATENATE(IF(C200<>\"\",TEXT(C200,\"\"),\"\"),\" - \",IF(K200<>\"\",TEXT(K200,\"\"),\"\")))","v":"Windsor Arch Ka I - Sporting de Macau"},"http://www.nowgoal.vip/analysis/1670548.html",{"$f":"IF(D200<>\"\",D200,\"\")","v":1.7},{"$f":"IF(E200<>\"\",E200,\"\")","v":4.25},{"$f":"IF(F200<>\"\",F200,\"\")","v":3.2},{"$f":"IF(N200<>\"\",IF(D201<>\"\",D201,D200),\"\")","v":1.7},{"$f":"IF(N200<>\"\",IF(E201<>\"\",E201,E200),\"\")","v":4.25},{"$f":"IF(N200<>\"\",IF(F201<>\"\",F201,F200),\"\")","v":3.2}]
[null,null,null,null,null,null,null,null,null,null,null,null,null,null,null,""]
["Spain D4",null,"CD Rincon",2.5,3.3,2.4,0.35720000000000002,0.27060000000000001,0.37209999999999999,0.89300000000000002,"Velez CF","View(1)",null,{"$f":"IF(A202<>\"\",TEXT(A202,\"\"),\"\")","v":"Spain D4"},{"$f":"IF(N202=\"\",\"\",CONCATENATE(IF(C202<>\"\",TEXT(C202,\"\"),\"\"),\" - \",IF(K202<>\"\",TEXT(K202,\"\"),\"\")))","v":"CD Rincon - Velez CF"},"http://www.nowgoal.vip/analysis/1677225.html",{"$f":"IF(D202<>\"\",D202,\"\")","v":2.5},{"$f":"IF(E202<>\"\",E202,\"\")","v":3.3},{"$f":"IF(F202<>\"\",F202,\"\")","v":2.4},{"$f":"IF(N202<>\"\",IF(D203<>\"\",D203,D202),\"\")","v":2.5},{"$f":"IF(N202<>\"\",IF(E203<>\"\",E203,E202),\"\")","v":3.3},{"$f":"IF(N202<>\"\",IF(F203<>\"\",F203,F202),\"\")","v":2.4}]
[null,null,null,null,null,null,null,null,null,null,null,null,null,null,null,""]
["ISR D3",null,"Beitar Kfar Saba Shlomi",4.79,3.57,1.63,0.18940000000000001,0.25419999999999998,0.55630000000000002,0.90659999999999996,"Maccabi Yavne","View(6)",null,{"$f":"IF(A204<>\"\",TEXT(A204,\"\"),\"\")","v":"ISR D3"},{"$f":"IF(N204=\"\",\"\",CONCATENATE(IF(C204<>\"\",TEXT(C204,\"\"),\"\"),\" - \",IF(K204<>\"\",TEXT(K204,\"\"),\"\")))","v":"Beitar Kfar Saba Shlomi - Maccabi Yavne"},"http://www.nowgoal.vip/analysis/1619514.html",{"$f":"IF(D204<>\"\",D204,\"\")","v":4.79},{"$f":"IF(E204<>\"\",E204,\"\")","v":3.57},{"$f":"IF(F204<>\"\",F204,\"\")","v":1.63},{"$f":"IF(N204<>\"\",IF(D205<>\"\",D205,D204),\"\")","v":4.79},{"$f":"IF(N204<>\"\",IF(E205<>\"\",E205,E204),\"\")","v":3.57},{"$f":"IF(N204<>\"\",IF(F205<>\"\",F205,F204),\"\")","v":1.63}]
[null,null,null,null,null,null,null,null,null,null,null,null,null,null,null,""]
["RWA D1",null,"Kiyovu FC",1.8,3.25,4,0.499,0.27639999999999998,0.22459999999999999,0.8982,"Etincelles","View(1)",null,{"$f":"IF(A206<>\"\",TEXT(A206,\"\"),\"\")","v":"RWA D1"},{"$f":"IF(N206=\"\",\"\",CONCATENATE(IF(C206<>\"\",TEXT(C206,\"\"),\"\"),\" - \",IF(K206<>\"\",TEXT(K206,\"\"),\"\")))","v":"Kiyovu FC - Etincelles"},"http://www.nowgoal.vip/analysis/1677226.html",{"$f":"IF(D206<>\"\",D206,\"\")","v":1.8},{"$f":"IF(E206<>\"\",E206,\"\")","v":3.25},{"$f":"IF(F206<>\"\",F206,\"\")","v":4},{"$f":"IF(N206<>\"\",IF(D207<>\"\",D207,D206),\"\")","v":1.8},{"$f":"IF(N206<>\"\",IF(E207<>\"\",E207,E206),\"\")","v":3.25},{"$f":"IF(N206<>\"\",IF(F207<>\"\",F207,F206),\"\")","v":4}]
[null,null,null,null,null,null,null,null,null,null,null,null,null,null,null,""]
["EGY D1",null,"El Gounah",2.4300000000000002,3.05,2.8,0.37530000000000002,0.29920000000000002,0.32550000000000001,0.91300000000000003,"Petrojet","View(36)",null,{"$f":"IF(A208<>\"\",TEXT(A208,\"\"),\"\")","v":"EGY D1"},{"$f":"IF(N208=\"\",\"\",CONCATENATE(IF(C208<>\"\",TEXT(C208,\"\"),\"\"),\" - \",IF(K208<>\"\",TEXT(K208,\"\"),\"\")))","v":"El Gounah - Petrojet"},"http://www.nowgoal.vip/analysis/1664145.html",{"$f":"IF(D208<>\"\",D208,\"\")","v":2.4300000000000002},{"$f":"IF(E208<>\"\",E208,\"\")","v":3.05},{"$f":"IF(F208<>\"\",F208,\"\")","v":2.8},{"$f":"IF(N208<>\"\",IF(D209<>\"\",D209,D208),\"\")","v":2.44},{"$f":"IF(N208<>\"\",IF(E209<>\"\",E209,E208),\"\")","v":3.04},{"$f":"IF(N208<>\"\",IF(F209<>\"\",F209,F208),\"\")","v":2.8}]
[null,null,null,2.44,3.04,2.8,0.37390000000000001,0.30009999999999998,0.3261,0.91269999999999996,null,null,null,null,null,""]
["MAR D1",null,"Maghrib Association Tetouan",2.37,2.75,3.02,0.37769999999999998,0.32579999999999998,0.29649999999999999,0.89649999999999996,"Olympique de Safi","View(55)",null,{"$f":"IF(A210<>\"\",TEXT(A210,\"\"),\"\")","v":"MAR D1"},{"$f":"IF(N210=\"\",\"\",CONCATENATE(IF(C210<>\"\",TEXT(C210,\"\"),\"\"),\" - \",IF(K210<>\"\",TEXT(K210,\"\"),\"\")))","v":"Maghrib Association Tetouan - Olympique de Safi"},"http://www.nowgoal.vip/analysis/1582625.html",{"$f":"IF(D210<>\"\",D210,\"\")","v":2.37},{"$f":"IF(E210<>\"\",E210,\"\")","v":2.75},{"$f":"IF(F210<>\"\",F210,\"\")","v":3.02},{"$f":"IF(N210<>\"\",IF(D211<>\"\",D211,D210),\"\")","v":2.37},{"$f":"IF(N210<>\"\",IF(E211<>\"\",E211,E210),\"\")","v":2.75},{"$f":"IF(N210<>\"\",IF(F211<>\"\",F211,F210),\"\")","v":3.02}]
[null,null,null,2.37,2.75,3.02,0.37769999999999998,0.32579999999999998,0.29659999999999997,0.89690000000000003,null,null,null,null,null,""]
["PALL",null,"Shabab Althahrea",2.75,3.4,2.2000000000000002,0.32690000000000002,0.26440000000000002,0.40870000000000001,0.89900000000000002,"Thagafi Tulkarem","View(1)",null,{"$f":"IF(A212<>\"\",TEXT(A212,\"\"),\"\")","v":"PALL"},{"$f":"IF(N212=\"\",\"\",CONCATENATE(IF(C212<>\"\",TEXT(C212,\"\"),\"\"),\" - \",IF(K212<>\"\",TEXT(K212,\"\"),\"\")))","v":"Shabab Althahrea - Thagafi Tulkarem"},"http://www.nowgoal.vip/analysis/1677227.html",{"$f":"IF(D212<>\"\",D212,\"\")","v":2.75},{"$f":"IF(E212<>\"\",E212,\"\")","v":3.4},{"$f":"IF(F212<>\"\",F212,\"\")","v":2.2000000000000002},{"$f":"IF(N212<>\"\",IF(D213<>\"\",D213,D212),\"\")","v":2.75},{"$f":"IF(N212<>\"\",IF(E213<>\"\",E213,E212),\"\")","v":3.4},{"$f":"IF(N212<>\"\",IF(F213<>\"\",F213,F212),\"\")","v":2.2000000000000002}]
[null,null,null,null,null,null,null,null,null,null,null,null,null,null,null,""]
["ISL",null,"FC Goa",1.34,4.5,7.8,0.68020000000000003,0.20280000000000001,0.11700000000000001,0.91220000000000001,"Chennai Titans","View(64)",null,{"$f":"IF(A214<>\"\",TEXT(A214,\"\"),\"\")","v":"ISL"},{"$f":"IF(N214=\"\",\"\",CONCATENATE(IF(C214<>\"\",TEXT(C214,\"\"),\"\"),\" - \",IF(K214<>\"\",TEXT(K214,\"\"),\"\")))","v":"FC Goa - Chennai Titans"},"http://www.nowgoal.vip/analysis/1660407.html",{"$f":"IF(D214<>\"\",D214,\"\")","v":1.34},{"$f":"IF(E214<>\"\",E214,\"\")","v":4.5},{"$f":"IF(F214<>\"\",F214,\"\")","v":7.8},{"$f":"IF(N214<>\"\",IF(D215<>\"\",D215,D214),\"\")","v":1.34},{"$f":"IF(N214<>\"\",IF(E215<>\"\",E215,E214),\"\")","v":4.5},{"$f":"IF(N214<>\"\",IF(F215<>\"\",F215,F214),\"\")","v":7.79}]
[null,null,null,1.34,4.5,7.79,0.67979999999999996,0.20300000000000001,0.1172,0.91320000000000001,null,null,null,null,null,""]
["INT FRL",null,"Bosnia and Herzegovina (w)",1.4,4.62,5.81,0.64829999999999999,0.19589999999999999,0.15579999999999999,0.90529999999999999,"Montenegro (w)","View(33)",null,{"$f":"IF(A216<>\"\",TEXT(A216,\"\"),\"\")","v":"INT FRL"},{"$f":"IF(N216=\"\",\"\",CONCATENATE(IF(C216<>\"\",TEXT(C216,\"\"),\"\"),\" - \",IF(K216<>\"\",TEXT(K216,\"\"),\"\")))","v":"Bosnia and Herzegovina (w) - Montenegro (w)"},"http://www.nowgoal.vip/analysis/1676185.html",{"$f":"IF(D216<>\"\",D216,\"\")","v":1.4},{"$f":"IF(E216<>\"\",E216,\"\")","v":4.62},{"$f":"IF(F216<>\"\",F216,\"\")","v":5.81},{"$f":"IF(N216<>\"\",IF(D217<>\"\",D217,D216),\"\")","v":1.4},{"$f":"IF(N216<>\"\",IF(E217<>\"\",E217,E216),\"\")","v":4.62},{"$f":"IF(N216<>\"\",IF(F217<>\"\",F217,F216),\"\")","v":5.82}]
[null,null,null,1.4,4.62,5.82,0.64849999999999997,0.19589999999999999,0.1555,0.90500000000000003,null,null,null,null,null,""]
["IRN PR",null,"Zob Ahan",2.12,2.78,3.64,0.42620000000000002,0.32519999999999999,0.24859999999999999,0.9042,"Mashin Sazi","View(31)",null,{"$f":"IF(A218<>\"\",TEXT(A218,\"\"),\"\")","v":"IRN PR"},{"$f":"IF(N218=\"\",\"\",CONCATENATE(IF(C218<>\"\",TEXT(C218,\"\"),\"\"),\" - \",IF(K218<>\"\",TEXT(K218,\"\"),\"\")))","v":"Zob Ahan - Mashin Sazi"},"http://www.nowgoal.vip/analysis/1665191.html",{"$f":"IF(D218<>\"\",D218,\"\")","v":2.12},{"$f":"IF(E218<>\"\",E218,\"\")","v":2.78},{"$f":"IF(F218<>\"\",F218,\"\")","v":3.64},{"$f":"IF(N218<>\"\",IF(D219<>\"\",D219,D218),\"\")","v":2.13},{"$f":"IF(N218<>\"\",IF(E219<>\"\",E219,E218),\"\")","v":2.8},{"$f":"IF(N218<>\"\",IF(F219<>\"\",F219,F218),\"\")","v":3.67}]
[null,null,null,2.13,2.8,3.67,0.42709999999999998,0.3246,0.24829999999999999,0.91010000000000002,null,null,null,null,null,""]
["IRN PR",null,"Persepolis",1.36,3.82,8.9700000000000006,0.6633,0.23599999999999999,0.10059999999999999,0.90239999999999998,"Sanat-Naft","View(40)",null,{"$f":"IF(A220<>\"\",TEXT(A220,\"\"),\"\")","v":"IRN PR"},{"$f":"IF(N220=\"\",\"\",CONCATENATE(IF(C220<>\"\",TEXT(C220,\"\"),\"\"),\" - \",IF(K220<>\"\",TEXT(K220,\"\"),\"\")))","v":"Persepolis - Sanat-Naft"},"http://www.nowgoal.vip/analysis/1665192.html",{"$f":"IF(D220<>\"\",D220,\"\")","v":1.36},{"$f":"IF(E220<>\"\",E220,\"\")","v":3.82},{"$f":"IF(F220<>\"\",F220,\"\")","v":8.9700000000000006},{"$f":"IF(N220<>\"\",IF(D221<>\"\",D221,D220),\"\")","v":1.36},{"$f":"IF(N220<>\"\",IF(E221<>\"\",E221,E220),\"\")","v":3.86},{"$f":"IF(N220<>\"\",IF(F221<>\"\",F221,F220),\"\")","v":9.09}]
[null,null,null,1.36,3.86,9.09,0.66510000000000002,0.2351,9.98E-2,0.90690000000000004,null,null,null,null,null,""]
["QAT D1",null,"Al Duhail",1.4,5.09,5,0.64270000000000005,0.17710000000000001,0.1802,0.90139999999999998,"Al-Ahli Doha","View(8)",null,{"$f":"IF(A222<>\"\",TEXT(A222,\"\"),\"\")","v":"QAT D1"},{"$f":"IF(N222=\"\",\"\",CONCATENATE(IF(C222<>\"\",TEXT(C222,\"\"),\"\"),\" - \",IF(K222<>\"\",TEXT(K222,\"\"),\"\")))","v":"Al Duhail - Al-Ahli Doha"},"http://www.nowgoal.vip/analysis/1671091.html",{"$f":"IF(D222<>\"\",D222,\"\")","v":1.4},{"$f":"IF(E222<>\"\",E222,\"\")","v":5.09},{"$f":"IF(F222<>\"\",F222,\"\")","v":5},{"$f":"IF(N222<>\"\",IF(D223<>\"\",D223,D222),\"\")","v":1.4},{"$f":"IF(N222<>\"\",IF(E223<>\"\",E223,E222),\"\")","v":5.09},{"$f":"IF(N222<>\"\",IF(F223<>\"\",F223,F222),\"\")","v":5}]
[null,null,null,null,null,null,null,null,null,null,null,null,null,null,null,""]
["Spain D4",null,"Cadiz B",1.25,4.8,10,0.7218,0.188,9.0200000000000002E-2,0.9022,"Ecija Balompie","View(1)",null,{"$f":"IF(A224<>\"\",TEXT(A224,\"\"),\"\")","v":"Spain D4"},{"$f":"IF(N224=\"\",\"\",CONCATENATE(IF(C224<>\"\",TEXT(C224,\"\"),\"\"),\" - \",IF(K224<>\"\",TEXT(K224,\"\"),\"\")))","v":"Cadiz B - Ecija Balompie"},"http://www.nowgoal.vip/analysis/1677228.html",{"$f":"IF(D224<>\"\",D224,\"\")","v":1.25},{"$f":"IF(E224<>\"\",E224,\"\")","v":4.8},{"$f":"IF(F224<>\"\",F224,\"\")","v":10},{"$f":"IF(N224<>\"\",IF(D225<>\"\",D225,D224),\"\")","v":1.25},{"$f":"IF(N224<>\"\",IF(E225<>\"\",E225,E224),\"\")","v":4.5999999999999996},{"$f":"IF(N224<>\"\",IF(F225<>\"\",F225,F224),\"\")","v":10}]
[null,null,null,1.25,4.5999999999999996,10,0.71599999999999997,0.1946,8.9499999999999996E-2,0.89500000000000002,null,null,null,null,null,""]
["KUW D2",null,"Al-Sahel",1.53,3.8,5,0.58530000000000004,0.2356,0.17910000000000001,0.89549999999999996,"Khaitan","View(1)",null,{"$f":"IF(A226<>\"\",TEXT(A226,\"\"),\"\")","v":"KUW D2"},{"$f":"IF(N226=\"\",\"\",CONCATENATE(IF(C226<>\"\",TEXT(C226,\"\"),\"\"),\" - \",IF(K226<>\"\",TEXT(K226,\"\"),\"\")))","v":"Al-Sahel - Khaitan"},"http://www.nowgoal.vip/analysis/1674139.html",{"$f":"IF(D226<>\"\",D226,\"\")","v":1.53},{"$f":"IF(E226<>\"\",E226,\"\")","v":3.8},{"$f":"IF(F226<>\"\",F226,\"\")","v":5},{"$f":"IF(N226<>\"\",IF(D227<>\"\",D227,D226),\"\")","v":1.53},{"$f":"IF(N226<>\"\",IF(E227<>\"\",E227,E226),\"\")","v":3.8},{"$f":"IF(N226<>\"\",IF(F227<>\"\",F227,F226),\"\")","v":5}]
[null,null,null,null,null,null,null,null,null,null,null,null,null,null,null,""]
["KUW D2",null,"Burgan SC",1.83,3.6,3.4,0.48859999999999998,0.24840000000000001,0.26300000000000001,0.89410000000000001,"Al-Salibikhaet","View(1)",null,{"$f":"IF(A228<>\"\",TEXT(A228,\"\"),\"\")","v":"KUW D2"},{"$f":"IF(N228=\"\",\"\",CONCATENATE(IF(C228<>\"\",TEXT(C228,\"\"),\"\"),\" - \",IF(K228<>\"\",TEXT(K228,\"\"),\"\")))","v":"Burgan SC - Al-Salibikhaet"},"http://www.nowgoal.vip/analysis/1674140.html",{"$f":"IF(D228<>\"\",D228,\"\")","v":1.83},{"$f":"IF(E228<>\"\",E228,\"\")","v":3.6},{"$f":"IF(F228<>\"\",F228,\"\")","v":3.4},{"$f":"IF(N228<>\"\",IF(D229<>\"\",D229,D228),\"\")","v":1.83},{"$f":"IF(N228<>\"\",IF(E229<>\"\",E229,E228),\"\")","v":3.6},{"$f":"IF(N228<>\"\",IF(F229<>\"\",F229,F228),\"\")","v":3.4}]
[null,null,null,null,null,null,null,null,null,null,null,null,null,null,null,""]
["INT CF",null,"FK Ventspils",1.57,4.3,4,0.56899999999999995,0.2077,0.2233,0.89329999999999998,"Jerv","View(1)",null,{"$f":"IF(A230<>\"\",TEXT(A230,\"\"),\"\")","v":"INT CF"},{"$f":"IF(N230=\"\",\"\",CONCATENATE(IF(C230<>\"\",TEXT(C230,\"\"),\"\"),\" - \",IF(K230<>\"\",TEXT(K230,\"\"),\"\")))","v":"FK Ventspils - Jerv"},"http://www.nowgoal.vip/analysis/1677151.html",{"$f":"IF(D230<>\"\",D230,\"\")","v":1.57},{"$f":"IF(E230<>\"\",E230,\"\")","v":4.3},{"$f":"IF(F230<>\"\",F230,\"\")","v":4},{"$f":"IF(N230<>\"\",IF(D231<>\"\",D231,D230),\"\")","v":1.57},{"$f":"IF(N230<>\"\",IF(E231<>\"\",E231,E230),\"\")","v":4.3},{"$f":"IF(N230<>\"\",IF(F231<>\"\",F231,F230),\"\")","v":4}]
[null,null,null,null,null,null,null,null,null,null,null,null,null,null,null,""]
["INT CF",null,"Ranheim IL",3.25,4,1.8,0.27639999999999998,0.22459999999999999,0.499,0.89829999999999999,"Rosenborg","View(1)",null,{"$f":"IF(A232<>\"\",TEXT(A232,\"\"),\"\")","v":"INT CF"},{"$f":"IF(N232=\"\",\"\",CONCATENATE(IF(C232<>\"\",TEXT(C232,\"\"),\"\"),\" - \",IF(K232<>\"\",TEXT(K232,\"\"),\"\")))","v":"Ranheim IL - Rosenborg"},"http://www.nowgoal.vip/analysis/1674141.html",{"$f":"IF(D232<>\"\",D232,\"\")","v":3.25},{"$f":"IF(E232<>\"\",E232,\"\")","v":4},{"$f":"IF(F232<>\"\",F232,\"\")","v":1.8},{"$f":"IF(N232<>\"\",IF(D233<>\"\",D233,D232),\"\")","v":3.25},{"$f":"IF(N232<>\"\",IF(E233<>\"\",E233,E232),\"\")","v":4},{"$f":"IF(N232<>\"\",IF(F233<>\"\",F233,F232),\"\")","v":1.8}]
[null,null,null,null,null,null,null,null,null,null,null,null,null,null,null,""]
["Spain D4",null,"Antequera CF",1.5,3.8,5.5,0.59970000000000001,0.23669999999999999,0.1636,0.89959999999999996,"Polideportivo Almeria","View(1)",null,{"$f":"IF(A234<>\"\",TEXT(A234,\"\"),\"\")","v":"Spain D4"},{"$f":"IF(N234=\"\",\"\",CONCATENATE(IF(C234<>\"\",TEXT(C234,\"\"),\"\"),\" - \",IF(K234<>\"\",TEXT(K234,\"\"),\"\")))","v":"Antequera CF - Polideportivo Almeria"},"http://www.nowgoal.vip/analysis/1677229.html",{"$f":"IF(D234<>\"\",D234,\"\")","v":1.5},{"$f":"IF(E234<>\"\",E234,\"\")","v":3.8},{"$f":"IF(F234<>\"\",F234,\"\")","v":5.5},{"$f":"IF(N234<>\"\",IF(D235<>\"\",D235,D234),\"\")","v":1.5},{"$f":"IF(N234<>\"\",IF(E235<>\"\",E235,E234),\"\")","v":3.8},{"$f":"IF(N234<>\"\",IF(F235<>\"\",F235,F234),\"\")","v":5.5}]
[null,null,null,null,null,null,null,null,null,null,null,null,null,null,null,""]
["KSA PR",null,"Uhud",2.65,3.36,2.33,0.34160000000000001,0.27,0.38840000000000002,0.90649999999999997,"Al-Fateh","View(53)",null,{"$f":"IF(A236<>\"\",TEXT(A236,\"\"),\"\")","v":"KSA PR"},{"$f":"IF(N236=\"\",\"\",CONCATENATE(IF(C236<>\"\",TEXT(C236,\"\"),\"\"),\" - \",IF(K236<>\"\",TEXT(K236,\"\"),\"\")))","v":"Uhud - Al-Fateh"},"http://www.nowgoal.vip/analysis/1612898.html",{"$f":"IF(D236<>\"\",D236,\"\")","v":2.65},{"$f":"IF(E236<>\"\",E236,\"\")","v":3.36},{"$f":"IF(F236<>\"\",F236,\"\")","v":2.33},{"$f":"IF(N236<>\"\",IF(D237<>\"\",D237,D236),\"\")","v":2.66},{"$f":"IF(N236<>\"\",IF(E237<>\"\",E237,E236),\"\")","v":3.35},{"$f":"IF(N236<>\"\",IF(F237<>\"\",F237,F236),\"\")","v":2.33}]
[null,null,null,2.66,3.35,2.33,0.34089999999999998,0.27050000000000002,0.38850000000000001,0.90649999999999997,null,null,null,null,null,""]
["UAE LP",null,"Al Ahli(UAE)",2.81,3.63,2.11,0.32169999999999999,0.24940000000000001,0.4289,0.90429999999999999,"Al Ain","View(26)",null,{"$f":"IF(A238<>\"\",TEXT(A238,\"\"),\"\")","v":"UAE LP"},{"$f":"IF(N238=\"\",\"\",CONCATENATE(IF(C238<>\"\",TEXT(C238,\"\"),\"\"),\" - \",IF(K238<>\"\",TEXT(K238,\"\"),\"\")))","v":"Al Ahli(UAE) - Al Ain"},"http://www.nowgoal.vip/analysis/1614173.html",{"$f":"IF(D238<>\"\",D238,\"\")","v":2.81},{"$f":"IF(E238<>\"\",E238,\"\")","v":3.63},{"$f":"IF(F238<>\"\",F238,\"\")","v":2.11},{"$f":"IF(N238<>\"\",IF(D239<>\"\",D239,D238),\"\")","v":2.81},{"$f":"IF(N238<>\"\",IF(E239<>\"\",E239,E238),\"\")","v":3.63},{"$f":"IF(N238<>\"\",IF(F239<>\"\",F239,F238),\"\")","v":2.11}]
[null,null,null,2.81,3.63,2.11,0.32140000000000002,0.24940000000000001,0.42920000000000003,0.90439999999999998,null,null,null,null,null,""]
["FIN CUP",null,"RoPS Rovaniemi",2.42,3.09,2.78,0.37669999999999998,0.29509999999999997,0.32819999999999999,0.9113,"KPV","View(101)",null,{"$f":"IF(A240<>\"\",TEXT(A240,\"\"),\"\")","v":"FIN CUP"},{"$f":"IF(N240=\"\",\"\",CONCATENATE(IF(C240<>\"\",TEXT(C240,\"\"),\"\"),\" - \",IF(K240<>\"\",TEXT(K240,\"\"),\"\")))","v":"RoPS Rovaniemi - KPV"},"http://www.nowgoal.vip/analysis/1657537.html",{"$f":"IF(D240<>\"\",D240,\"\")","v":2.42},{"$f":"IF(E240<>\"\",E240,\"\")","v":3.09},{"$f":"IF(F240<>\"\",F240,\"\")","v":2.78},{"$f":"IF(N240<>\"\",IF(D241<>\"\",D241,D240),\"\")","v":2.4},{"$f":"IF(N240<>\"\",IF(E241<>\"\",E241,E240),\"\")","v":3.13},{"$f":"IF(N240<>\"\",IF(F241<>\"\",F241,F240),\"\")","v":2.78}]
[null,null,null,2.4,3.13,2.78,0.38009999999999999,0.29160000000000003,0.32840000000000003,0.91159999999999997,null,null,null,null,null,""]
["JOR D1",null,"Ramtha Club",2.2000000000000002,2.77,3.43,0.41049999999999998,0.32600000000000001,0.26350000000000001,0.90310000000000001,"Al-Ahly","View(44)",null,{"$f":"IF(A242<>\"\",TEXT(A242,\"\"),\"\")","v":"JOR D1"},{"$f":"IF(N242=\"\",\"\",CONCATENATE(IF(C242<>\"\",TEXT(C242,\"\"),\"\"),\" - \",IF(K242<>\"\",TEXT(K242,\"\"),\"\")))","v":"Ramtha Club - Al-Ahly"},"http://www.nowgoal.vip/analysis/1611311.html",{"$f":"IF(D242<>\"\",D242,\"\")","v":2.2000000000000002},{"$f":"IF(E242<>\"\",E242,\"\")","v":2.77},{"$f":"IF(F242<>\"\",F242,\"\")","v":3.43},{"$f":"IF(N242<>\"\",IF(D243<>\"\",D243,D242),\"\")","v":2.2000000000000002},{"$f":"IF(N242<>\"\",IF(E243<>\"\",E243,E242),\"\")","v":2.77},{"$f":"IF(N242<>\"\",IF(F243<>\"\",F243,F242),\"\")","v":3.44}]
[null,null,null,2.2000000000000002,2.77,3.44,0.4103,0.32669999999999999,0.26300000000000001,0.9042,null,null,null,null,null,""]
["TUR Cup",null,"Kasimpasa",2.0299999999999998,3.4,3.19,0.44729999999999998,0.26729999999999998,0.28539999999999999,0.90959999999999996,"Akhisar Bld.Geng","View(149)",null,{"$f":"IF(A244<>\"\",TEXT(A244,\"\"),\"\")","v":"TUR Cup"},{"$f":"IF(N244=\"\",\"\",CONCATENATE(IF(C244<>\"\",TEXT(C244,\"\"),\"\"),\" - \",IF(K244<>\"\",TEXT(K244,\"\"),\"\")))","v":"Kasimpasa - Akhisar Bld.Geng"},"http://www.nowgoal.vip/analysis/1666383.html",{"$f":"IF(D244<>\"\",D244,\"\")","v":2.0299999999999998},{"$f":"IF(E244<>\"\",E244,\"\")","v":3.4},{"$f":"IF(F244<>\"\",F244,\"\")","v":3.19},{"$f":"IF(N244<>\"\",IF(D245<>\"\",D245,D244),\"\")","v":2.0499999999999998},{"$f":"IF(N244<>\"\",IF(E245<>\"\",E245,E244),\"\")","v":3.39},{"$f":"IF(N244<>\"\",IF(F245<>\"\",F245,F244),\"\")","v":3.22}]
[null,null,null,2.0499999999999998,3.39,3.22,0.44579999999999997,0.27010000000000001,0.28410000000000002,0.91420000000000001,null,null,null,null,null,""]
["Spain D4",null,"Loja CD",2.12,3.32,3.04,0.42780000000000001,0.2737,0.29859999999999998,0.90880000000000005,"Atletico Mancha real","View(14)",null,{"$f":"IF(A246<>\"\",TEXT(A246,\"\"),\"\")","v":"Spain D4"},{"$f":"IF(N246=\"\",\"\",CONCATENATE(IF(C246<>\"\",TEXT(C246,\"\"),\"\"),\" - \",IF(K246<>\"\",TEXT(K246,\"\"),\"\")))","v":"Loja CD - Atletico Mancha real"},"http://www.nowgoal.vip/analysis/1677230.html",{"$f":"IF(D246<>\"\",D246,\"\")","v":2.12},{"$f":"IF(E246<>\"\",E246,\"\")","v":3.32},{"$f":"IF(F246<>\"\",F246,\"\")","v":3.04},{"$f":"IF(N246<>\"\",IF(D247<>\"\",D247,D246),\"\")","v":2.12},{"$f":"IF(N246<>\"\",IF(E247<>\"\",E247,E246),\"\")","v":3.32},{"$f":"IF(N246<>\"\",IF(F247<>\"\",F247,F246),\"\")","v":3.04}]
[null,null,null,null,null,null,null,null,null,null,null,null,null,null,null,""]
["Spain D4",null,"Real Jaen CF",1.22,5,11,0.73809999999999998,0.18010000000000001,8.1900000000000001E-2,0.90049999999999997,"Torredonjimeno","View(1)",null,{"$f":"IF(A248<>\"\",TEXT(A248,\"\"),\"\")","v":"Spain D4"},{"$f":"IF(N248=\"\",\"\",CONCATENATE(IF(C248<>\"\",TEXT(C248,\"\"),\"\"),\" - \",IF(K248<>\"\",TEXT(K248,\"\"),\"\")))","v":"Real Jaen CF - Torredonjimeno"},"http://www.nowgoal.vip/analysis/1677231.html",{"$f":"IF(D248<>\"\",D248,\"\")","v":1.22},{"$f":"IF(E248<>\"\",E248,\"\")","v":5},{"$f":"IF(F248<>\"\",F248,\"\")","v":11},{"$f":"IF(N248<>\"\",IF(D249<>\"\",D249,D248),\"\")","v":1.22},{"$f":"IF(N248<>\"\",IF(E249<>\"\",E249,E248),\"\")","v":5},{"$f":"IF(N248<>\"\",IF(F249<>\"\",F249,F248),\"\")","v":11}]
[null,null,null,null,null,null,null,null,null,null,null,null,null,null,null,""]
["QAT D1",null,"Al-Sadd",1.17,7,9,0.77090000000000003,0.12889999999999999,0.1002,0.90200000000000002,"Qatar SC","View(2)",null,{"$f":"IF(A250<>\"\",TEXT(A250,\"\"),\"\")","v":"QAT D1"},{"$f":"IF(N250=\"\",\"\",CONCATENATE(IF(C250<>\"\",TEXT(C250,\"\"),\"\"),\" - \",IF(K250<>\"\",TEXT(K250,\"\"),\"\")))","v":"Al-Sadd - Qatar SC"},"http://www.nowgoal.vip/analysis/1671092.html",{"$f":"IF(D250<>\"\",D250,\"\")","v":1.17},{"$f":"IF(E250<>\"\",E250,\"\")","v":7},{"$f":"IF(F250<>\"\",F250,\"\")","v":9},{"$f":"IF(N250<>\"\",IF(D251<>\"\",D251,D250),\"\")","v":1.1599999999999999},{"$f":"IF(N250<>\"\",IF(E251<>\"\",E251,E250),\"\")","v":7.25},{"$f":"IF(N250<>\"\",IF(F251<>\"\",F251,F250),\"\")","v":9.3800000000000008}]
[null,null,null,1.1599999999999999,7.25,9.3800000000000008,0.77900000000000003,0.1246,9.64E-2,0.90359999999999996,null,null,null,null,null,""]
["ISR W1",null,"AS Tel Aviv University (w)",1.5,3.78,5.25,0.59419999999999995,0.2361,0.16980000000000001,0.89129999999999998,"Maccabi Hadera (w)","View(2)",null,{"$f":"IF(A252<>\"\",TEXT(A252,\"\"),\"\")","v":"ISR W1"},{"$f":"IF(N252=\"\",\"\",CONCATENATE(IF(C252<>\"\",TEXT(C252,\"\"),\"\"),\" - \",IF(K252<>\"\",TEXT(K252,\"\"),\"\")))","v":"AS Tel Aviv University (w) - Maccabi Hadera (w)"},"http://www.nowgoal.vip/analysis/1638028.html",{"$f":"IF(D252<>\"\",D252,\"\")","v":1.5},{"$f":"IF(E252<>\"\",E252,\"\")","v":3.78},{"$f":"IF(F252<>\"\",F252,\"\")","v":5.25},{"$f":"IF(N252<>\"\",IF(D253<>\"\",D253,D252),\"\")","v":1.5},{"$f":"IF(N252<>\"\",IF(E253<>\"\",E253,E252),\"\")","v":3.78},{"$f":"IF(N252<>\"\",IF(F253<>\"\",F253,F252),\"\")","v":5.25}]
[null,null,null,null,null,null,null,null,null,null,null,null,null,null,null,""]
["GRE Cup",null,"Olympiakos Piraeus",1.1200000000000001,6.58,18.02,0.81079999999999997,0.1386,5.0599999999999999E-2,0.91149999999999998,"Lamia","View(139)",null,{"$f":"IF(A254<>\"\",TEXT(A254,\"\"),\"\")","v":"GRE Cup"},{"$f":"IF(N254=\"\",\"\",CONCATENATE(IF(C254<>\"\",TEXT(C254,\"\"),\"\"),\" - \",IF(K254<>\"\",TEXT(K254,\"\"),\"\")))","v":"Olympiakos Piraeus - Lamia"},"http://www.nowgoal.vip/analysis/1665473.html",{"$f":"IF(D254<>\"\",D254,\"\")","v":1.1200000000000001},{"$f":"IF(E254<>\"\",E254,\"\")","v":6.58},{"$f":"IF(F254<>\"\",F254,\"\")","v":18.02},{"$f":"IF(N254<>\"\",IF(D255<>\"\",D255,D254),\"\")","v":1.1299999999999999},{"$f":"IF(N254<>\"\",IF(E255<>\"\",E255,E254),\"\")","v":6.64},{"$f":"IF(N254<>\"\",IF(F255<>\"\",F255,F254),\"\")","v":17.16}]
[null,null,null,1.1299999999999999,6.64,17.16,0.80920000000000003,0.13750000000000001,5.3199999999999997E-2,0.91290000000000004,null,null,null,null,null,""]
["KSA PR",null,"Al-Shabab(KSA)",2.74,3.6,2.19,0.33229999999999998,0.25269999999999998,0.41499999999999998,0.9093,"Al-Nasr(KSA)","View(54)",null,{"$f":"IF(A256<>\"\",TEXT(A256,\"\"),\"\")","v":"KSA PR"},{"$f":"IF(N256=\"\",\"\",CONCATENATE(IF(C256<>\"\",TEXT(C256,\"\"),\"\"),\" - \",IF(K256<>\"\",TEXT(K256,\"\"),\"\")))","v":"Al-Shabab(KSA) - Al-Nasr(KSA)"},"http://www.nowgoal.vip/analysis/1612899.html",{"$f":"IF(D256<>\"\",D256,\"\")","v":2.74},{"$f":"IF(E256<>\"\",E256,\"\")","v":3.6},{"$f":"IF(F256<>\"\",F256,\"\")","v":2.19},{"$f":"IF(N256<>\"\",IF(D257<>\"\",D257,D256),\"\")","v":2.74},{"$f":"IF(N256<>\"\",IF(E257<>\"\",E257,E256),\"\")","v":3.62},{"$f":"IF(N256<>\"\",IF(F257<>\"\",F257,F256),\"\")","v":2.17}]
[null,null,null,2.74,3.62,2.17,0.33100000000000002,0.25080000000000002,0.41820000000000002,0.90820000000000001,null,null,null,null,null,""]
["ROMC",null,"FK Csikszereda Miercurea Ciuc",13.08,6.27,1.1599999999999999,6.9599999999999995E-2,0.14499999999999999,0.78539999999999999,0.91010000000000002,"CS Universitatea Craiova","View(74)",null,{"$f":"IF(A258<>\"\",TEXT(A258,\"\"),\"\")","v":"ROMC"},{"$f":"IF(N258=\"\",\"\",CONCATENATE(IF(C258<>\"\",TEXT(C258,\"\"),\"\"),\" - \",IF(K258<>\"\",TEXT(K258,\"\"),\"\")))","v":"FK Csikszereda Miercurea Ciuc - CS Universitatea Craiova"},"http://www.nowgoal.vip/analysis/1671412.html",{"$f":"IF(D258<>\"\",D258,\"\")","v":13.08},{"$f":"IF(E258<>\"\",E258,\"\")","v":6.27},{"$f":"IF(F258<>\"\",F258,\"\")","v":1.1599999999999999},{"$f":"IF(N258<>\"\",IF(D259<>\"\",D259,D258),\"\")","v":11.88},{"$f":"IF(N258<>\"\",IF(E259<>\"\",E259,E258),\"\")","v":6.17},{"$f":"IF(N258<>\"\",IF(F259<>\"\",F259,F258),\"\")","v":1.18}]
[null,null,null,11.88,6.17,1.18,7.6700000000000004E-2,0.1477,0.77559999999999996,0.91110000000000002,null,null,null,null,null,{"$f":"SUBSTITUTE(SUBSTITUTE(SUBSTITUTE(SUBSTITUTE(IF(L259<>\"\",HLink(L259),\"\"),\"htm\",\"html\"),\"1x2\",\"analysis\"),\"www\",\"www\"),\"com\",\"vip\")","v":""}]
["DAN Cup",null,"Vendsyssel",4.57,3.79,1.64,0.20069999999999999,0.2419,0.55740000000000001,0.91639999999999999,"Brondby IF","View(135)",null,{"$f":"IF(A260<>\"\",TEXT(A260,\"\"),\"\")","v":"DAN Cup"},{"$f":"IF(N260=\"\",\"\",CONCATENATE(IF(C260<>\"\",TEXT(C260,\"\"),\"\"),\" - \",IF(K260<>\"\",TEXT(K260,\"\"),\"\")))","v":"Vendsyssel - Brondby IF"},"http://www.nowgoal.vip/analysis/1649315.html",{"$f":"IF(D260<>\"\",D260,\"\")","v":4.57},{"$f":"IF(E260<>\"\",E260,\"\")","v":3.79},{"$f":"IF(F260<>\"\",F260,\"\")","v":1.64},{"$f":"IF(N260<>\"\",IF(D261<>\"\",D261,D260),\"\")","v":5},{"$f":"IF(N260<>\"\",IF(E261<>\"\",E261,E260),\"\")","v":4.04},{"$f":"IF(N260<>\"\",IF(F261<>\"\",F261,F260),\"\")","v":1.56}]
[null,null,null,5,4.04,1.56,0.184,0.2276,0.58830000000000005,0.91979999999999995,null,null,null,null,null,""]
["Spain D4",null,"Beauty Leila River team",2.8,3.4,2.15,0.31990000000000002,0.26350000000000001,0.41660000000000003,0.89570000000000005,"Atarfe Industrial CF","View(1)",null,{"$f":"IF(A262<>\"\",TEXT(A262,\"\"),\"\")","v":"Spain D4"},{"$f":"IF(N262=\"\",\"\",CONCATENATE(IF(C262<>\"\",TEXT(C262,\"\"),\"\"),\" - \",IF(K262<>\"\",TEXT(K262,\"\"),\"\")))","v":"Beauty Leila River team - Atarfe Industrial CF"},"http://www.nowgoal.vip/analysis/1677233.html",{"$f":"IF(D262<>\"\",D262,\"\")","v":2.8},{"$f":"IF(E262<>\"\",E262,\"\")","v":3.4},{"$f":"IF(F262<>\"\",F262,\"\")","v":2.15},{"$f":"IF(N262<>\"\",IF(D263<>\"\",D263,D262),\"\")","v":2.8},{"$f":"IF(N262<>\"\",IF(E263<>\"\",E263,E262),\"\")","v":3.4},{"$f":"IF(N262<>\"\",IF(F263<>\"\",F263,F262),\"\")","v":2.15}]
[null,null,null,null,null,null,null,null,null,null,null,null,null,null,null,""]
["SUI Cup",null,"Thun",1.91,3.44,3.47,0.47470000000000001,0.2636,0.26169999999999999,0.90769999999999995,"Lugano","View(153)",null,{"$f":"IF(A264<>\"\",TEXT(A264,\"\"),\"\")","v":"SUI Cup"},{"$f":"IF(N264=\"\",\"\",CONCATENATE(IF(C264<>\"\",TEXT(C264,\"\"),\"\"),\" - \",IF(K264<>\"\",TEXT(K264,\"\"),\"\")))","v":"Thun - Lugano"},"http://www.nowgoal.vip/analysis/1671539.html",{"$f":"IF(D264<>\"\",D264,\"\")","v":1.91},{"$f":"IF(E264<>\"\",E264,\"\")","v":3.44},{"$f":"IF(F264<>\"\",F264,\"\")","v":3.47},{"$f":"IF(N264<>\"\",IF(D265<>\"\",D265,D264),\"\")","v":1.91},{"$f":"IF(N264<>\"\",IF(E265<>\"\",E265,E264),\"\")","v":3.49},{"$f":"IF(N264<>\"\",IF(F265<>\"\",F265,F264),\"\")","v":3.49}]
[null,null,null,1.91,3.49,3.49,0.47749999999999998,0.26140000000000002,0.26119999999999999,0.91220000000000001,null,null,null,null,null,""]
["ICE LC",null,"UMF Njardvik",9.1999999999999993,7.06,1.17,9.8199999999999996E-2,0.12790000000000001,0.77380000000000004,0.90339999999999998,"KR Reykjavik","View(10)",null,{"$f":"IF(A266<>\"\",TEXT(A266,\"\"),\"\")","v":"ICE LC"},{"$f":"IF(N266=\"\",\"\",CONCATENATE(IF(C266<>\"\",TEXT(C266,\"\"),\"\"),\" - \",IF(K266<>\"\",TEXT(K266,\"\"),\"\")))","v":"UMF Njardvik - KR Reykjavik"},"http://www.nowgoal.vip/analysis/1667968.html",{"$f":"IF(D266<>\"\",D266,\"\")","v":9.1999999999999993},{"$f":"IF(E266<>\"\",E266,\"\")","v":7.06},{"$f":"IF(F266<>\"\",F266,\"\")","v":1.17},{"$f":"IF(N266<>\"\",IF(D267<>\"\",D267,D266),\"\")","v":9.2799999999999994},{"$f":"IF(N266<>\"\",IF(E267<>\"\",E267,E266),\"\")","v":7.1},{"$f":"IF(N266<>\"\",IF(F267<>\"\",F267,F266),\"\")","v":1.17}]
[null,null,null,9.2799999999999994,7.1,1.17,9.7500000000000003E-2,0.12720000000000001,0.77529999999999999,0.90429999999999999,null,null,null,null,null,""]
["BRA PE",null,"Sport Club Recife PE",1.34,4.57,7.06,0.67449999999999999,0.19750000000000001,0.128,0.9032,"Afogados da Ingazeira FC","View(11)",null,{"$f":"IF(A268<>\"\",TEXT(A268,\"\"),\"\")","v":"BRA PE"},{"$f":"IF(N268=\"\",\"\",CONCATENATE(IF(C268<>\"\",TEXT(C268,\"\"),\"\"),\" - \",IF(K268<>\"\",TEXT(K268,\"\"),\"\")))","v":"Sport Club Recife PE - Afogados da Ingazeira FC"},"http://www.nowgoal.vip/analysis/1652766.html",{"$f":"IF(D268<>\"\",D268,\"\")","v":1.34},{"$f":"IF(E268<>\"\",E268,\"\")","v":4.57},{"$f":"IF(F268<>\"\",F268,\"\")","v":7.06},{"$f":"IF(N268<>\"\",IF(D269<>\"\",D269,D268),\"\")","v":1.34},{"$f":"IF(N268<>\"\",IF(E269<>\"\",E269,E268),\"\")","v":4.58},{"$f":"IF(N268<>\"\",IF(F269<>\"\",F269,F268),\"\")","v":7.08}]
[null,null,null,1.34,4.58,7.08,0.67469999999999997,0.1976,0.12770000000000001,0.90410000000000001,null,null,null,null,null,""]
["BOL D1",null,"Sport Boys Warnes",2.4,3.3,2.65,0.37980000000000003,0.2762,0.34399999999999997,0.91149999999999998,"San Jose","View(1)",null,{"$f":"IF(A270<>\"\",TEXT(A270,\"\"),\"\")","v":"BOL D1"},{"$f":"IF(N270=\"\",\"\",CONCATENATE(IF(C270<>\"\",TEXT(C270,\"\"),\"\"),\" - \",IF(K270<>\"\",TEXT(K270,\"\"),\"\")))","v":"Sport Boys Warnes - San Jose"},"http://www.nowgoal.vip/analysis/1656424.html",{"$f":"IF(D270<>\"\",D270,\"\")","v":2.4},{"$f":"IF(E270<>\"\",E270,\"\")","v":3.3},{"$f":"IF(F270<>\"\",F270,\"\")","v":2.65},{"$f":"IF(N270<>\"\",IF(D271<>\"\",D271,D270),\"\")","v":2.2000000000000002},{"$f":"IF(N270<>\"\",IF(E271<>\"\",E271,E270),\"\")","v":3.55},{"$f":"IF(N270<>\"\",IF(F271<>\"\",F271,F270),\"\")","v":2.75}]
[null,null,null,2.2000000000000002,3.55,2.75,0.4133,0.25609999999999999,0.3306,0.9093,null,null,null,null,null,""]
["SUI Cup",null,"FC Zurich",1.23,5.55,9.7200000000000006,0.74180000000000001,0.1643,9.3799999999999994E-2,0.91149999999999998,"Kriens","View(151)",null,{"$f":"IF(A272<>\"\",TEXT(A272,\"\"),\"\")","v":"SUI Cup"},{"$f":"IF(N272=\"\",\"\",CONCATENATE(IF(C272<>\"\",TEXT(C272,\"\"),\"\"),\" - \",IF(K272<>\"\",TEXT(K272,\"\"),\"\")))","v":"FC Zurich - Kriens"},"http://www.nowgoal.vip/analysis/1671540.html",{"$f":"IF(D272<>\"\",D272,\"\")","v":1.23},{"$f":"IF(E272<>\"\",E272,\"\")","v":5.55},{"$f":"IF(F272<>\"\",F272,\"\")","v":9.7200000000000006},{"$f":"IF(N272<>\"\",IF(D273<>\"\",D273,D272),\"\")","v":1.23},{"$f":"IF(N272<>\"\",IF(E273<>\"\",E273,E272),\"\")","v":5.58},{"$f":"IF(N272<>\"\",IF(F273<>\"\",F273,F272),\"\")","v":9.69}]
[null,null,null,1.23,5.58,9.69,0.74209999999999998,0.16370000000000001,9.4200000000000006E-2,0.91290000000000004,null,null,null,null,null,""]
["ITA PRO LC",null,"Trapani",1.81,3.15,4.25,0.49959999999999999,0.2873,0.21310000000000001,0.90649999999999997,"Potenza","View(67)",null,{"$f":"IF(A274<>\"\",TEXT(A274,\"\"),\"\")","v":"ITA PRO LC"},{"$f":"IF(N274=\"\",\"\",CONCATENATE(IF(C274<>\"\",TEXT(C274,\"\"),\"\"),\" - \",IF(K274<>\"\",TEXT(K274,\"\"),\"\")))","v":"Trapani - Potenza"},"http://www.nowgoal.vip/analysis/1675410.html",{"$f":"IF(D274<>\"\",D274,\"\")","v":1.81},{"$f":"IF(E274<>\"\",E274,\"\")","v":3.15},{"$f":"IF(F274<>\"\",F274,\"\")","v":4.25},{"$f":"IF(N274<>\"\",IF(D275<>\"\",D275,D274),\"\")","v":1.78},{"$f":"IF(N274<>\"\",IF(E275<>\"\",E275,E274),\"\")","v":3.2},{"$f":"IF(N274<>\"\",IF(F275<>\"\",F275,F274),\"\")","v":4.41}]
[null,null,null,1.78,3.2,4.41,0.51049999999999995,0.2838,0.20580000000000001,0.90759999999999996,null,null,null,null,null,""]
["INT CF",null,"Stjordals Blink",1.4,4.33,6,0.64239999999999997,0.2077,0.14990000000000001,0.89939999999999998,"Steinkjer FK","View(1)",null,{"$f":"IF(A276<>\"\",TEXT(A276,\"\"),\"\")","v":"INT CF"},{"$f":"IF(N276=\"\",\"\",CONCATENATE(IF(C276<>\"\",TEXT(C276,\"\"),\"\"),\" - \",IF(K276<>\"\",TEXT(K276,\"\"),\"\")))","v":"Stjordals Blink - Steinkjer FK"},"http://www.nowgoal.vip/analysis/1676186.html",{"$f":"IF(D276<>\"\",D276,\"\")","v":1.4},{"$f":"IF(E276<>\"\",E276,\"\")","v":4.33},{"$f":"IF(F276<>\"\",F276,\"\")","v":6},{"$f":"IF(N276<>\"\",IF(D277<>\"\",D277,D276),\"\")","v":1.4},{"$f":"IF(N276<>\"\",IF(E277<>\"\",E277,E276),\"\")","v":4.33},{"$f":"IF(N276<>\"\",IF(F277<>\"\",F277,F276),\"\")","v":6}]
[null,null,null,null,null,null,null,null,null,null,null,null,null,null,null,""]
["Brazil DDL",null,"Cruzeiro RS",1.72,3,5,0.52159999999999995,0.29899999999999999,0.1794,0.8972,"Guarani RS","View(1)",null,{"$f":"IF(A278<>\"\",TEXT(A278,\"\"),\"\")","v":"Brazil DDL"},{"$f":"IF(N278=\"\",\"\",CONCATENATE(IF(C278<>\"\",TEXT(C278,\"\"),\"\"),\" - \",IF(K278<>\"\",TEXT(K278,\"\"),\"\")))","v":"Cruzeiro RS - Guarani RS"},"http://www.nowgoal.vip/analysis/1676713.html",{"$f":"IF(D278<>\"\",D278,\"\")","v":1.72},{"$f":"IF(E278<>\"\",E278,\"\")","v":3},{"$f":"IF(F278<>\"\",F278,\"\")","v":5},{"$f":"IF(N278<>\"\",IF(D279<>\"\",D279,D278),\"\")","v":1.72},{"$f":"IF(N278<>\"\",IF(E279<>\"\",E279,E278),\"\")","v":3},{"$f":"IF(N278<>\"\",IF(F279<>\"\",F279,F278),\"\")","v":5}]
[null,null,null,null,null,null,null,null,null,null,null,null,null,null,null,""]
["HOLC",null,"Willem II",4.01,3.85,1.74,0.2298,0.23960000000000001,0.53059999999999996,0.92259999999999998,"AZ Alkmaar","View(165)",null,{"$f":"IF(A280<>\"\",TEXT(A280,\"\"),\"\")","v":"HOLC"},{"$f":"IF(N280=\"\",\"\",CONCATENATE(IF(C280<>\"\",TEXT(C280,\"\"),\"\"),\" - \",IF(K280<>\"\",TEXT(K280,\"\"),\"\")))","v":"Willem II - AZ Alkmaar"},"http://www.nowgoal.vip/analysis/1671544.html",{"$f":"IF(D280<>\"\",D280,\"\")","v":4.01},{"$f":"IF(E280<>\"\",E280,\"\")","v":3.85},{"$f":"IF(F280<>\"\",F280,\"\")","v":1.74},{"$f":"IF(N280<>\"\",IF(D281<>\"\",D281,D280),\"\")","v":4.43},{"$f":"IF(N280<>\"\",IF(E281<>\"\",E281,E280),\"\")","v":3.92},{"$f":"IF(N280<>\"\",IF(F281<>\"\",F281,F280),\"\")","v":1.67}]
[null,null,null,4.43,3.92,1.67,0.2089,0.23599999999999999,0.55510000000000004,0.92510000000000003,null,null,null,null,null,""]
["SPA CUP",null,"Valencia",1.75,3.65,4.42,0.53349999999999997,0.2555,0.21099999999999999,0.93220000000000003,"Real Betis","View(180)",null,{"$f":"IF(A282<>\"\",TEXT(A282,\"\"),\"\")","v":"SPA CUP"},{"$f":"IF(N282=\"\",\"\",CONCATENATE(IF(C282<>\"\",TEXT(C282,\"\"),\"\"),\" - \",IF(K282<>\"\",TEXT(K282,\"\"),\"\")))","v":"Valencia - Real Betis"},"http://www.nowgoal.vip/analysis/1666770.html",{"$f":"IF(D282<>\"\",D282,\"\")","v":1.75},{"$f":"IF(E282<>\"\",E282,\"\")","v":3.65},{"$f":"IF(F282<>\"\",F282,\"\")","v":4.42},{"$f":"IF(N282<>\"\",IF(D283<>\"\",D283,D282),\"\")","v":1.74},{"$f":"IF(N282<>\"\",IF(E283<>\"\",E283,E282),\"\")","v":3.68},{"$f":"IF(N282<>\"\",IF(F283<>\"\",F283,F282),\"\")","v":4.58}]
[null,null,null,1.74,3.68,4.58,0.54,0.25490000000000002,0.2051,0.93869999999999998,null,null,null,null,null,""]
["FRAC",null,"Vitre",8.6199999999999992,4.79,1.32,0.1069,0.1925,0.70050000000000001,0.92179999999999995,"Nantes","View(46)",null,{"$f":"IF(A284<>\"\",TEXT(A284,\"\"),\"\")","v":"FRAC"},{"$f":"IF(N284=\"\",\"\",CONCATENATE(IF(C284<>\"\",TEXT(C284,\"\"),\"\"),\" - \",IF(K284<>\"\",TEXT(K284,\"\"),\"\")))","v":"Vitre - Nantes"},"http://www.nowgoal.vip/analysis/1671537.html",{"$f":"IF(D284<>\"\",D284,\"\")","v":8.6199999999999992},{"$f":"IF(E284<>\"\",E284,\"\")","v":4.79},{"$f":"IF(F284<>\"\",F284,\"\")","v":1.32},{"$f":"IF(N284<>\"\",IF(D285<>\"\",D285,D284),\"\")","v":8.59},{"$f":"IF(N284<>\"\",IF(E285<>\"\",E285,E284),\"\")","v":4.7699999999999996},{"$f":"IF(N284<>\"\",IF(F285<>\"\",F285,F284),\"\")","v":1.33}]
[null,null,null,8.59,4.7699999999999996,1.33,0.108,0.19450000000000001,0.69750000000000001,0.92749999999999999,null,null,null,null,null,""]
["INT FRL",null,"France (w)",2.27,3.33,2.7,0.39629999999999999,0.27050000000000002,0.3332,0.89959999999999996,"Germany (w)","View(8)",null,{"$f":"IF(A286<>\"\",TEXT(A286,\"\"),\"\")","v":"INT FRL"},{"$f":"IF(N286=\"\",\"\",CONCATENATE(IF(C286<>\"\",TEXT(C286,\"\"),\"\"),\" - \",IF(K286<>\"\",TEXT(K286,\"\"),\"\")))","v":"France (w) - Germany (w)"},"http://www.nowgoal.vip/analysis/1674142.html",{"$f":"IF(D286<>\"\",D286,\"\")","v":2.27},{"$f":"IF(E286<>\"\",E286,\"\")","v":3.33},{"$f":"IF(F286<>\"\",F286,\"\")","v":2.7},{"$f":"IF(N286<>\"\",IF(D287<>\"\",D287,D286),\"\")","v":2.27},{"$f":"IF(N286<>\"\",IF(E287<>\"\",E287,E286),\"\")","v":3.33},{"$f":"IF(N286<>\"\",IF(F287<>\"\",F287,F286),\"\")","v":2.69}]
[null,null,null,2.27,3.33,2.69,0.39610000000000001,0.27010000000000001,0.33389999999999997,0.8982,null,null,null,null,null,""]
["COL D1",null,"Aguilas Doradas",2.56,2.99,2.64,0.3543,0.3029,0.34279999999999999,0.90610000000000002,"Dep.Independiente Medellin","View(106)",null,{"$f":"IF(A288<>\"\",TEXT(A288,\"\"),\"\")","v":"COL D1"},{"$f":"IF(N288=\"\",\"\",CONCATENATE(IF(C288<>\"\",TEXT(C288,\"\"),\"\"),\" - \",IF(K288<>\"\",TEXT(K288,\"\"),\"\")))","v":"Aguilas Doradas - Dep.Independiente Medellin"},"http://www.nowgoal.vip/analysis/1659009.html",{"$f":"IF(D288<>\"\",D288,\"\")","v":2.56},{"$f":"IF(E288<>\"\",E288,\"\")","v":2.99},{"$f":"IF(F288<>\"\",F288,\"\")","v":2.64},{"$f":"IF(N288<>\"\",IF(D289<>\"\",D289,D288),\"\")","v":2.9},{"$f":"IF(N288<>\"\",IF(E289<>\"\",E289,E288),\"\")","v":3.01},{"$f":"IF(N288<>\"\",IF(F289<>\"\",F289,F288),\"\")","v":2.36}]
[null,null,null,2.9,3.01,2.36,0.31330000000000002,0.3019,0.38479999999999998,0.90769999999999995,null,null,null,null,null,""]
["SLV D1",null,"CD Pasaquina",2.5,3.18,2.5299999999999998,0.3599,0.28360000000000002,0.35649999999999998,0.90049999999999997,"CD FAS","View(51)",null,{"$f":"IF(A290<>\"\",TEXT(A290,\"\"),\"\")","v":"SLV D1"},{"$f":"IF(N290=\"\",\"\",CONCATENATE(IF(C290<>\"\",TEXT(C290,\"\"),\"\"),\" - \",IF(K290<>\"\",TEXT(K290,\"\"),\"\")))","v":"CD Pasaquina - CD FAS"},"http://www.nowgoal.vip/analysis/1654734.html",{"$f":"IF(D290<>\"\",D290,\"\")","v":2.5},{"$f":"IF(E290<>\"\",E290,\"\")","v":3.18},{"$f":"IF(F290<>\"\",F290,\"\")","v":2.5299999999999998},{"$f":"IF(N290<>\"\",IF(D291<>\"\",D291,D290),\"\")","v":2.5},{"$f":"IF(N290<>\"\",IF(E291<>\"\",E291,E290),\"\")","v":3.17},{"$f":"IF(N290<>\"\",IF(F291<>\"\",F291,F290),\"\")","v":2.5299999999999998}]
[null,null,null,2.5,3.17,2.5299999999999998,0.3599,0.28439999999999999,0.35570000000000002,0.90139999999999998,null,null,null,null,null,""]
["PAR D1",null,"Deportivo Santani",3.32,3.27,2.0099999999999998,0.27250000000000002,0.27679999999999999,0.45069999999999999,0.90429999999999999,"Guarani CA","View(21)",null,{"$f":"IF(A292<>\"\",TEXT(A292,\"\"),\"\")","v":"PAR D1"},{"$f":"IF(N292=\"\",\"\",CONCATENATE(IF(C292<>\"\",TEXT(C292,\"\"),\"\"),\" - \",IF(K292<>\"\",TEXT(K292,\"\"),\"\")))","v":"Deportivo Santani - Guarani CA"},"http://www.nowgoal.vip/analysis/1650703.html",{"$f":"IF(D292<>\"\",D292,\"\")","v":3.32},{"$f":"IF(E292<>\"\",E292,\"\")","v":3.27},{"$f":"IF(F292<>\"\",F292,\"\")","v":2.0099999999999998},{"$f":"IF(N292<>\"\",IF(D293<>\"\",D293,D292),\"\")","v":3.32},{"$f":"IF(N292<>\"\",IF(E293<>\"\",E293,E292),\"\")","v":3.27},{"$f":"IF(N292<>\"\",IF(F293<>\"\",F293,F292),\"\")","v":2.0099999999999998}]
[null,null,null,null,null,null,null,null,null,null,null,null,null,null,null,""]
["BRA CUP",null,"Tombense",2.12,3.13,3.21,0.42759999999999998,0.29010000000000002,0.2823,0.90700000000000003,"Botafogo PB","View(106)",null,{"$f":"IF(A294<>\"\",TEXT(A294,\"\"),\"\")","v":"BRA CUP"},{"$f":"IF(N294=\"\",\"\",CONCATENATE(IF(C294<>\"\",TEXT(C294,\"\"),\"\"),\" - \",IF(K294<>\"\",TEXT(K294,\"\"),\"\")))","v":"Tombense - Botafogo PB"},"http://www.nowgoal.vip/analysis/1672837.html",{"$f":"IF(D294<>\"\",D294,\"\")","v":2.12},{"$f":"IF(E294<>\"\",E294,\"\")","v":3.13},{"$f":"IF(F294<>\"\",F294,\"\")","v":3.21},{"$f":"IF(N294<>\"\",IF(D295<>\"\",D295,D294),\"\")","v":2.17},{"$f":"IF(N294<>\"\",IF(E295<>\"\",E295,E294),\"\")","v":3.13},{"$f":"IF(N294<>\"\",IF(F295<>\"\",F295,F294),\"\")","v":3.13}]
[null,null,null,2.17,3.13,3.13,0.41889999999999999,0.29039999999999999,0.29070000000000001,0.90890000000000004,null,null,null,null,null,""]
["BRB MG",null,"Ipatinga",2.2000000000000002,3.25,2.86,0.4088,0.2767,0.3145,0.89939999999999998,"CAP Uberlandia","View(2)",null,{"$f":"IF(A296<>\"\",TEXT(A296,\"\"),\"\")","v":"BRB MG"},{"$f":"IF(N296=\"\",\"\",CONCATENATE(IF(C296<>\"\",TEXT(C296,\"\"),\"\"),\" - \",IF(K296<>\"\",TEXT(K296,\"\"),\"\")))","v":"Ipatinga - CAP Uberlandia"},"http://www.nowgoal.vip/analysis/1677155.html",{"$f":"IF(D296<>\"\",D296,\"\")","v":2.2000000000000002},{"$f":"IF(E296<>\"\",E296,\"\")","v":3.25},{"$f":"IF(F296<>\"\",F296,\"\")","v":2.86},{"$f":"IF(N296<>\"\",IF(D297<>\"\",D297,D296),\"\")","v":2.2000000000000002},{"$f":"IF(N296<>\"\",IF(E297<>\"\",E297,E296),\"\")","v":3.25},{"$f":"IF(N296<>\"\",IF(F297<>\"\",F297,F296),\"\")","v":2.86}]
[null,null,null,null,null,null,null,null,null,null,null,null,null,null,null,""]
["BRA PE",null,"America PE",4.2300000000000004,3.44,1.73,0.21390000000000001,0.26269999999999999,0.52349999999999997,0.90480000000000005,"Central SC","View(10)",null,{"$f":"IF(A298<>\"\",TEXT(A298,\"\"),\"\")","v":"BRA PE"},{"$f":"IF(N298=\"\",\"\",CONCATENATE(IF(C298<>\"\",TEXT(C298,\"\"),\"\"),\" - \",IF(K298<>\"\",TEXT(K298,\"\"),\"\")))","v":"America PE - Central SC"},"http://www.nowgoal.vip/analysis/1652763.html",{"$f":"IF(D298<>\"\",D298,\"\")","v":4.2300000000000004},{"$f":"IF(E298<>\"\",E298,\"\")","v":3.44},{"$f":"IF(F298<>\"\",F298,\"\")","v":1.73},{"$f":"IF(N298<>\"\",IF(D299<>\"\",D299,D298),\"\")","v":4.2300000000000004},{"$f":"IF(N298<>\"\",IF(E299<>\"\",E299,E298),\"\")","v":3.44},{"$f":"IF(N298<>\"\",IF(F299<>\"\",F299,F298),\"\")","v":1.73}]
[null,null,null,null,null,null,null,null,null,null,null,null,null,null,null,""]
["Brazil DDL",null,"Inter Santa Maria(RS)",1.5,3.6,6,0.6,0.25,0.15,0.9,"Sao Gabriel RS","View(1)",null,{"$f":"IF(A300<>\"\",TEXT(A300,\"\"),\"\")","v":"Brazil DDL"},{"$f":"IF(N300=\"\",\"\",CONCATENATE(IF(C300<>\"\",TEXT(C300,\"\"),\"\"),\" - \",IF(K300<>\"\",TEXT(K300,\"\"),\"\")))","v":"Inter Santa Maria(RS) - Sao Gabriel RS"},"http://www.nowgoal.vip/analysis/1677156.html",{"$f":"IF(D300<>\"\",D300,\"\")","v":1.5},{"$f":"IF(E300<>\"\",E300,\"\")","v":3.6},{"$f":"IF(F300<>\"\",F300,\"\")","v":6},{"$f":"IF(N300<>\"\",IF(D301<>\"\",D301,D300),\"\")","v":1.5},{"$f":"IF(N300<>\"\",IF(E301<>\"\",E301,E300),\"\")","v":3.6},{"$f":"IF(N300<>\"\",IF(F301<>\"\",F301,F300),\"\")","v":6}]
[null,null,null,null,null,null,null,null,null,null,null,null,null,null,null,""]
["BRA SPC2",null,"Barretos SP",2.1,3.25,3,0.42620000000000002,0.27539999999999998,0.2984,0.89500000000000002,"EC Sao Bernardo/SP","View(1)",null,{"$f":"IF(A302<>\"\",TEXT(A302,\"\"),\"\")","v":"BRA SPC2"},{"$f":"IF(N302=\"\",\"\",CONCATENATE(IF(C302<>\"\",TEXT(C302,\"\"),\"\"),\" - \",IF(K302<>\"\",TEXT(K302,\"\"),\"\")))","v":"Barretos SP - EC Sao Bernardo/SP"},"http://www.nowgoal.vip/analysis/1676571.html",{"$f":"IF(D302<>\"\",D302,\"\")","v":2.1},{"$f":"IF(E302<>\"\",E302,\"\")","v":3.25},{"$f":"IF(F302<>\"\",F302,\"\")","v":3},{"$f":"IF(N302<>\"\",IF(D303<>\"\",D303,D302),\"\")","v":2.1},{"$f":"IF(N302<>\"\",IF(E303<>\"\",E303,E302),\"\")","v":3.25},{"$f":"IF(N302<>\"\",IF(F303<>\"\",F303,F302),\"\")","v":3}]
[null,null,null,null,null,null,null,null,null,null,null,null,null,null,null,""]
["COL D1",null,"America de Cali",1.93,3.09,3.82,0.46989999999999998,0.29310000000000003,0.23710000000000001,0.90590000000000004,"Independiente Santa Fe","View(106)",null,{"$f":"IF(A304<>\"\",TEXT(A304,\"\"),\"\")","v":"COL D1"},{"$f":"IF(N304=\"\",\"\",CONCATENATE(IF(C304<>\"\",TEXT(C304,\"\"),\"\"),\" - \",IF(K304<>\"\",TEXT(K304,\"\"),\"\")))","v":"America de Cali - Independiente Santa Fe"},"http://www.nowgoal.vip/analysis/1659010.html",{"$f":"IF(D304<>\"\",D304,\"\")","v":1.93},{"$f":"IF(E304<>\"\",E304,\"\")","v":3.09},{"$f":"IF(F304<>\"\",F304,\"\")","v":3.82},{"$f":"IF(N304<>\"\",IF(D305<>\"\",D305,D304),\"\")","v":2.1},{"$f":"IF(N304<>\"\",IF(E305<>\"\",E305,E304),\"\")","v":2.89},{"$f":"IF(N304<>\"\",IF(F305<>\"\",F305,F304),\"\")","v":3.57}]
[null,null,null,2.1,2.89,3.57,0.43219999999999997,0.31359999999999999,0.25409999999999999,0.90739999999999998,null,null,null,null,null,""]
["BRA RJ",null,"Portuguesa RJ",3.5,3.85,2.1,0.2797,0.25419999999999998,0.46610000000000001,0.97889999999999999,"Flamengo","View(1)",null,{"$f":"IF(A306<>\"\",TEXT(A306,\"\"),\"\")","v":"BRA RJ"},{"$f":"IF(N306=\"\",\"\",CONCATENATE(IF(C306<>\"\",TEXT(C306,\"\"),\"\"),\" - \",IF(K306<>\"\",TEXT(K306,\"\"),\"\")))","v":"Portuguesa RJ - Flamengo"},"http://www.nowgoal.vip/analysis/1674396.html",{"$f":"IF(D306<>\"\",D306,\"\")","v":3.5},{"$f":"IF(E306<>\"\",E306,\"\")","v":3.85},{"$f":"IF(F306<>\"\",F306,\"\")","v":2.1},{"$f":"IF(N306<>\"\",IF(D307<>\"\",D307,D306),\"\")","v":3.5},{"$f":"IF(N306<>\"\",IF(E307<>\"\",E307,E306),\"\")","v":3.85},{"$f":"IF(N306<>\"\",IF(F307<>\"\",F307,F306),\"\")","v":2.1}]
[null,null,null,null,null,null,null,null,null,null,null,null,null,null,null,""]
["CON CLA",null,"Atletico Nacional Medellin",1.52,3.75,5.92,0.60099999999999998,0.24429999999999999,0.1547,0.91549999999999998,"Libertad","View(117)",null,{"$f":"IF(A308<>\"\",TEXT(A308,\"\"),\"\")","v":"CON CLA"},{"$f":"IF(N308=\"\",\"\",CONCATENATE(IF(C308<>\"\",TEXT(C308,\"\"),\"\"),\" - \",IF(K308<>\"\",TEXT(K308,\"\"),\"\")))","v":"Atletico Nacional Medellin - Libertad"},"http://www.nowgoal.vip/analysis/1672283.html",{"$f":"IF(D308<>\"\",D308,\"\")","v":1.52},{"$f":"IF(E308<>\"\",E308,\"\")","v":3.75},{"$f":"IF(F308<>\"\",F308,\"\")","v":5.92},{"$f":"IF(N308<>\"\",IF(D309<>\"\",D309,D308),\"\")","v":1.49},{"$f":"IF(N308<>\"\",IF(E309<>\"\",E309,E308),\"\")","v":3.78},{"$f":"IF(N308<>\"\",IF(F309<>\"\",F309,F308),\"\")","v":6.47}]
[null,null,null,1.49,3.78,6.47,0.61499999999999999,0.2429,0.1421,0.91869999999999996,null,null,null,null,null,""]
["CON CSA",null,"Club Guabira",2.69,3.16,2.4900000000000002,0.34089999999999998,0.29039999999999999,0.36870000000000003,0.91710000000000003,"Macara","View(144)",null,{"$f":"IF(A310<>\"\",TEXT(A310,\"\"),\"\")","v":"CON CSA"},{"$f":"IF(N310=\"\",\"\",CONCATENATE(IF(C310<>\"\",TEXT(C310,\"\"),\"\"),\" - \",IF(K310<>\"\",TEXT(K310,\"\"),\"\")))","v":"Club Guabira - Macara"},"http://www.nowgoal.vip/analysis/1650940.html",{"$f":"IF(D310<>\"\",D310,\"\")","v":2.69},{"$f":"IF(E310<>\"\",E310,\"\")","v":3.16},{"$f":"IF(F310<>\"\",F310,\"\")","v":2.4900000000000002},{"$f":"IF(N310<>\"\",IF(D311<>\"\",D311,D310),\"\")","v":2.4900000000000002},{"$f":"IF(N310<>\"\",IF(E311<>\"\",E311,E310),\"\")","v":3.16},{"$f":"IF(N310<>\"\",IF(F311<>\"\",F311,F310),\"\")","v":2.68}]
[null,null,null,2.4900000000000002,3.16,2.68,0.36759999999999998,0.29020000000000001,0.3422,0.91559999999999997,null,null,null,null,null,""]
["BRA CUP",null,"Juventude",3.19,3.08,2.13,0.28270000000000001,0.29299999999999998,0.4244,0.90300000000000002,"America MG","View(56)",null,{"$f":"IF(A312<>\"\",TEXT(A312,\"\"),\"\")","v":"BRA CUP"},{"$f":"IF(N312=\"\",\"\",CONCATENATE(IF(C312<>\"\",TEXT(C312,\"\"),\"\"),\" - \",IF(K312<>\"\",TEXT(K312,\"\"),\"\")))","v":"Juventude - America MG"},"http://www.nowgoal.vip/analysis/1672838.html",{"$f":"IF(D312<>\"\",D312,\"\")","v":3.19},{"$f":"IF(E312<>\"\",E312,\"\")","v":3.08},{"$f":"IF(F312<>\"\",F312,\"\")","v":2.13},{"$f":"IF(N312<>\"\",IF(D313<>\"\",D313,D312),\"\")","v":3.21},{"$f":"IF(N312<>\"\",IF(E313<>\"\",E313,E312),\"\")","v":3.02},{"$f":"IF(N312<>\"\",IF(F313<>\"\",F313,F312),\"\")","v":2.17}]
[null,null,null,3.21,3.02,2.17,0.28270000000000001,0.3004,0.41699999999999998,0.90649999999999997,null,null,null,null,null,""]
["CNCF CHL",null,"Atlanta United",1.32,4.82,7.54,0.69040000000000001,0.1888,0.1208,0.91069999999999995,"Herediano","View(134)",null,{"$f":"IF(A314<>\"\",TEXT(A314,\"\"),\"\")","v":"CNCF CHL"},{"$f":"IF(N314=\"\",\"\",CONCATENATE(IF(C314<>\"\",TEXT(C314,\"\"),\"\"),\" - \",IF(K314<>\"\",TEXT(K314,\"\"),\"\")))","v":"Atlanta United - Herediano"},"http://www.nowgoal.vip/analysis/1671763.html",{"$f":"IF(D314<>\"\",D314,\"\")","v":1.32},{"$f":"IF(E314<>\"\",E314,\"\")","v":4.82},{"$f":"IF(F314<>\"\",F314,\"\")","v":7.54},{"$f":"IF(N314<>\"\",IF(D315<>\"\",D315,D314),\"\")","v":1.32},{"$f":"IF(N314<>\"\",IF(E315<>\"\",E315,E314),\"\")","v":4.8600000000000003},{"$f":"IF(N314<>\"\",IF(F315<>\"\",F315,F314),\"\")","v":7.54}]
[null,null,null,1.32,4.8600000000000003,7.54,0.69130000000000003,0.18779999999999999,0.12089999999999999,0.91180000000000005,null,null,null,null,null,""]
["SLV D1",null,"Luis Angel Firpo",2.5,3.18,2.52,0.36059999999999998,0.2828,0.35649999999999998,0.89990000000000003,"CD Chalatenango","View(47)",null,{"$f":"IF(A316<>\"\",TEXT(A316,\"\"),\"\")","v":"SLV D1"},{"$f":"IF(N316=\"\",\"\",CONCATENATE(IF(C316<>\"\",TEXT(C316,\"\"),\"\"),\" - \",IF(K316<>\"\",TEXT(K316,\"\"),\"\")))","v":"Luis Angel Firpo - CD Chalatenango"},"http://www.nowgoal.vip/analysis/1654736.html",{"$f":"IF(D316<>\"\",D316,\"\")","v":2.5},{"$f":"IF(E316<>\"\",E316,\"\")","v":3.18},{"$f":"IF(F316<>\"\",F316,\"\")","v":2.52},{"$f":"IF(N316<>\"\",IF(D317<>\"\",D317,D316),\"\")","v":2.5},{"$f":"IF(N316<>\"\",IF(E317<>\"\",E317,E316),\"\")","v":3.19},{"$f":"IF(N316<>\"\",IF(F317<>\"\",F317,F316),\"\")","v":2.5299999999999998}]
[null,null,null,2.5,3.19,2.5299999999999998,0.36099999999999999,0.2828,0.35620000000000002,0.90090000000000003,null,null,null,null,null,""]
["COL D1",null,"Millonarios",1.7,3.42,4.4800000000000004,0.53259999999999996,0.26500000000000001,0.20230000000000001,0.90710000000000002,"Union Magdalena","View(100)",null,{"$f":"IF(A318<>\"\",TEXT(A318,\"\"),\"\")","v":"COL D1"},{"$f":"IF(N318=\"\",\"\",CONCATENATE(IF(C318<>\"\",TEXT(C318,\"\"),\"\"),\" - \",IF(K318<>\"\",TEXT(K318,\"\"),\"\")))","v":"Millonarios - Union Magdalena"},"http://www.nowgoal.vip/analysis/1659017.html",{"$f":"IF(D318<>\"\",D318,\"\")","v":1.7},{"$f":"IF(E318<>\"\",E318,\"\")","v":3.42},{"$f":"IF(F318<>\"\",F318,\"\")","v":4.4800000000000004},{"$f":"IF(N318<>\"\",IF(D319<>\"\",D319,D318),\"\")","v":1.51},{"$f":"IF(N318<>\"\",IF(E319<>\"\",E319,E318),\"\")","v":3.71},{"$f":"IF(N318<>\"\",IF(F319<>\"\",F319,F318),\"\")","v":5.89}]
[null,null,null,1.51,3.71,5.89,0.60150000000000003,0.24440000000000001,0.15409999999999999,0.90710000000000002,null,null,null,null,null,""]
["SLV D1",null,"Santa Tecla",2.27,3.24,2.77,0.39660000000000001,0.27800000000000002,0.32540000000000002,0.90169999999999995,"Aguila","View(50)",null,{"$f":"IF(A320<>\"\",TEXT(A320,\"\"),\"\")","v":"SLV D1"},{"$f":"IF(N320=\"\",\"\",CONCATENATE(IF(C320<>\"\",TEXT(C320,\"\"),\"\"),\" - \",IF(K320<>\"\",TEXT(K320,\"\"),\"\")))","v":"Santa Tecla - Aguila"},"http://www.nowgoal.vip/analysis/1654737.html",{"$f":"IF(D320<>\"\",D320,\"\")","v":2.27},{"$f":"IF(E320<>\"\",E320,\"\")","v":3.24},{"$f":"IF(F320<>\"\",F320,\"\")","v":2.77},{"$f":"IF(N320<>\"\",IF(D321<>\"\",D321,D320),\"\")","v":2.27},{"$f":"IF(N320<>\"\",IF(E321<>\"\",E321,E320),\"\")","v":3.24},{"$f":"IF(N320<>\"\",IF(F321<>\"\",F321,F320),\"\")","v":2.78}]
[null,null,null,2.27,3.24,2.78,0.3967,0.2782,0.3251,0.90229999999999999,null,null,null,null,null,""]
["CNCF CHL",null,"Toluca",1.55,3.92,5,0.5857,0.2321,0.18210000000000001,0.90990000000000004,"FC Kansas City","View(136)",null,{"$f":"IF(A322<>\"\",TEXT(A322,\"\"),\"\")","v":"CNCF CHL"},{"$f":"IF(N322=\"\",\"\",CONCATENATE(IF(C322<>\"\",TEXT(C322,\"\"),\"\"),\" - \",IF(K322<>\"\",TEXT(K322,\"\"),\"\")))","v":"Toluca - FC Kansas City"},"http://www.nowgoal.vip/analysis/1671764.html",{"$f":"IF(D322<>\"\",D322,\"\")","v":1.55},{"$f":"IF(E322<>\"\",E322,\"\")","v":3.92},{"$f":"IF(F322<>\"\",F322,\"\")","v":5},{"$f":"IF(N322<>\"\",IF(D323<>\"\",D323,D322),\"\")","v":1.56},{"$f":"IF(N322<>\"\",IF(E323<>\"\",E323,E322),\"\")","v":3.9},{"$f":"IF(N322<>\"\",IF(F323<>\"\",F323,F322),\"\")","v":5.03}]
[null,null,null,1.56,3.9,5.03,0.58530000000000004,0.2336,0.18110000000000001,0.91100000000000003,null,null,null,null,null,{"$f":"SUBSTITUTE(SUBSTITUTE(SUBSTITUTE(SUBSTITUTE(IF(L323<>\"\",HLink(L323),\"\"),\"htm\",\"html\"),\"1x2\",\"analysis\"),\"www\",\"www\"),\"com\",\"vip\")","v":""}]
[null,null,null,null,null,null,null,null,null,null,null,null,null,{"$f":"IF(A324<>\"\",TEXT(A324,\"\"),\"\")","v":""},{"$f":"IF(N324=\"\",\"\",CONCATENATE(IF(C324<>\"\",TEXT(C324,\"\"),\"\"),\" - \",IF(K324<>\"\",TEXT(K324,\"\"),\"\")))","v":""},"",{"$f":"IF(D324<>\"\",D324,\"\")","v":""},{"$f":"IF(E324<>\"\",E324,\"\")","v":""},{"$f":"IF(F324<>\"\",F324,\"\")","v":""},{"$f":"IF(N324<>\"\",IF(D325<>\"\",D325,D324),\"\")","v":""},{"$f":"IF(N324<>\"\",IF(E325<>\"\",E325,E324),\"\")","v":""},{"$f":"IF(N324<>\"\",IF(F325<>\"\",F325,F324),\"\")","v":""}]
["League","Time","Home","HW","D","AW","HWR","DR","AWR","Return","Away","Compare",null,null,null,""]
[null,null,null,null,null,null,null,null,null,null,null,null,null,{"$f":"IF(A326<>\"\",TEXT(A326,\"\"),\"\")","v":""},{"$f":"IF(N326=\"\",\"\",CONCATENATE(IF(C326<>\"\",TEXT(C326,\"\"),\"\"),\" - \",IF(K326<>\"\",TEXT(K326,\"\"),\"\")))","v":""},"",{"$f":"IF(D326<>\"\",D326,\"\")","v":""},{"$f":"IF(E326<>\"\",E326,\"\")","v":""},{"$f":"IF(F326<>\"\",F326,\"\")","v":""},{"$f":"IF(N326<>\"\",IF(D327<>\"\",D327,D326),\"\")","v":""},{"$f":"IF(N326<>\"\",IF(E327<>\"\",E327,E326),\"\")","v":""},{"$f":"IF(N326<>\"\",IF(F327<>\"\",F327,F326),\"\")","v":""}]
[null,null,null,null,null,null,null,null,null,null,null,null,null,null,null,""]
[null,null,null,null,null,null,null,null,null,null,null,null,null,{"$f":"IF(A328<>\"\",TEXT(A328,\"\"),\"\")","v":""},{"$f":"IF(N328=\"\",\"\",CONCATENATE(IF(C328<>\"\",TEXT(C328,\"\"),\"\"),\" - \",IF(K328<>\"\",TEXT(K328,\"\"),\"\")))","v":""},"",{"$f":"IF(D328<>\"\",D328,\"\")","v":""},{"$f":"IF(E328<>\"\",E328,\"\")","v":""},{"$f":"IF(F328<>\"\",F328,\"\")","v":""},{"$f":"IF(N328<>\"\",IF(D329<>\"\",D329,D328),\"\")","v":""},{"$f":"IF(N328<>\"\",IF(E329<>\"\",E329,E328),\"\")","v":""},{"$f":"IF(N328<>\"\",IF(F329<>\"\",F329,F328),\"\")","v":""}]
[null,null,null,null,null,null,null,null,null,null,null,null,null,null,null,""]
[null,null,null,null,null,null,null,null,null,null,null,null,null,{"$f":"IF(A330<>\"\",TEXT(A330,\"\"),\"\")","v":""},{"$f":"IF(N330=\"\",\"\",CONCATENATE(IF(C330<>\"\",TEXT(C330,\"\"),\"\"),\" - \",IF(K330<>\"\",TEXT(K330,\"\"),\"\")))","v":""},"",{"$f":"IF(D330<>\"\",D330,\"\")","v":""},{"$f":"IF(E330<>\"\",E330,\"\")","v":""},{"$f":"IF(F330<>\"\",F330,\"\")","v":""},{"$f":"IF(N330<>\"\",IF(D331<>\"\",D331,D330),\"\")","v":""},{"$f":"IF(N330<>\"\",IF(E331<>\"\",E331,E330),\"\")","v":""},{"$f":"IF(N330<>\"\",IF(F331<>\"\",F331,F330),\"\")","v":""}]
[null,null,null,null,null,null,null,null,null,null,null,null,null,null,null,""]
[null,null,null,null,null,null,null,null,null,null,null,null,null,{"$f":"IF(A332<>\"\",TEXT(A332,\"\"),\"\")","v":""},{"$f":"IF(N332=\"\",\"\",CONCATENATE(IF(C332<>\"\",TEXT(C332,\"\"),\"\"),\" - \",IF(K332<>\"\",TEXT(K332,\"\"),\"\")))","v":""},"",{"$f":"IF(D332<>\"\",D332,\"\")","v":""},{"$f":"IF(E332<>\"\",E332,\"\")","v":""},{"$f":"IF(F332<>\"\",F332,\"\")","v":""},{"$f":"IF(N332<>\"\",IF(D333<>\"\",D333,D332),\"\")","v":""},{"$f":"IF(N332<>\"\",IF(E333<>\"\",E333,E332),\"\")","v":""},{"$f":"IF(N332<>\"\",IF(F333<>\"\",F333,F332),\"\")","v":""}]
[null,null,null,null,null,null,null,null,null,null,null,null,null,null,null,""]
[null,null,null,null,null,null,null,null,null,null,null,null,null,{"$f":"IF(A334<>\"\",TEXT(A334,\"\"),\"\")","v":""},{"$f":"IF(N334=\"\",\"\",CONCATENATE(IF(C334<>\"\",TEXT(C334,\"\"),\"\"),\" - \",IF(K334<>\"\",TEXT(K334,\"\"),\"\")))","v":""},"",{"$f":"IF(D334<>\"\",D334,\"\")","v":""},{"$f":"IF(E334<>\"\",E334,\"\")","v":""},{"$f":"IF(F334<>\"\",F334,\"\")","v":""},{"$f":"IF(N334<>\"\",IF(D335<>\"\",D335,D334),\"\")","v":""},{"$f":"IF(N334<>\"\",IF(E335<>\"\",E335,E334),\"\")","v":""},{"$f":"IF(N334<>\"\",IF(F335<>\"\",F335,F334),\"\")","v":""}]
[null,null,null,null,null,null,null,null,null,null,null,null,null,null,null,""]
[null,null,null,null,null,null,null,null,null,null,null,null,null,{"$f":"IF(A336<>\"\",TEXT(A336,\"\"),\"\")","v":""},{"$f":"IF(N336=\"\",\"\",CONCATENATE(IF(C336<>\"\",TEXT(C336,\"\"),\"\"),\" - \",IF(K336<>\"\",TEXT(K336,\"\"),\"\")))","v":""},"",{"$f":"IF(D336<>\"\",D336,\"\")","v":""},{"$f":"IF(E336<>\"\",E336,\"\")","v":""},{"$f":"IF(F336<>\"\",F336,\"\")","v":""},{"$f":"IF(N336<>\"\",IF(D337<>\"\",D337,D336),\"\")","v":""},{"$f":"IF(N336<>\"\",IF(E337<>\"\",E337,E336),\"\")","v":""},{"$f":"IF(N336<>\"\",IF(F337<>\"\",F337,F336),\"\")","v":""}]
[null,null,null,null,null,null,null,null,null,null,null,null,null,null,null,""]
[null,null,null,null,null,null,null,null,null,null,null,null,null,{"$f":"IF(A338<>\"\",TEXT(A338,\"\"),\"\")","v":""},{"$f":"IF(N338=\"\",\"\",CONCATENATE(IF(C338<>\"\",TEXT(C338,\"\"),\"\"),\" - \",IF(K338<>\"\",TEXT(K338,\"\"),\"\")))","v":""},"",{"$f":"IF(D338<>\"\",D338,\"\")","v":""},{"$f":"IF(E338<>\"\",E338,\"\")","v":""},{"$f":"IF(F338<>\"\",F338,\"\")","v":""},{"$f":"IF(N338<>\"\",IF(D339<>\"\",D339,D338),\"\")","v":""},{"$f":"IF(N338<>\"\",IF(E339<>\"\",E339,E338),\"\")","v":""},{"$f":"IF(N338<>\"\",IF(F339<>\"\",F339,F338),\"\")","v":""}]
[null,null,null,null,null,null,null,null,null,null,null,null,null,null,null,""]
[null,null,null,null,null,null,null,null,null,null,null,null,null,{"$f":"IF(A340<>\"\",TEXT(A340,\"\"),\"\")","v":""},{"$f":"IF(N340=\"\",\"\",CONCATENATE(IF(C340<>\"\",TEXT(C340,\"\"),\"\"),\" - \",IF(K340<>\"\",TEXT(K340,\"\"),\"\")))","v":""},"",{"$f":"IF(D340<>\"\",D340,\"\")","v":""},{"$f":"IF(E340<>\"\",E340,\"\")","v":""},{"$f":"IF(F340<>\"\",F340,\"\")","v":""},{"$f":"IF(N340<>\"\",IF(D341<>\"\",D341,D340),\"\")","v":""},{"$f":"IF(N340<>\"\",IF(E341<>\"\",E341,E340),\"\")","v":""},{"$f":"IF(N340<>\"\",IF(F341<>\"\",F341,F340),\"\")","v":""}]
[null,null,null,null,null,null,null,null,null,null,null,null,null,null,null,""]
[null,null,null,null,null,null,null,null,null,null,null,null,null,{"$f":"IF(A342<>\"\",TEXT(A342,\"\"),\"\")","v":""},{"$f":"IF(N342=\"\",\"\",CONCATENATE(IF(C342<>\"\",TEXT(C342,\"\"),\"\"),\" - \",IF(K342<>\"\",TEXT(K342,\"\"),\"\")))","v":""},"",{"$f":"IF(D342<>\"\",D342,\"\")","v":""},{"$f":"IF(E342<>\"\",E342,\"\")","v":""},{"$f":"IF(F342<>\"\",F342,\"\")","v":""},{"$f":"IF(N342<>\"\",IF(D343<>\"\",D343,D342),\"\")","v":""},{"$f":"IF(N342<>\"\",IF(E343<>\"\",E343,E342),\"\")","v":""},{"$f":"IF(N342<>\"\",IF(F343<>\"\",F343,F342),\"\")","v":""}]
[null,null,null,null,null,null,null,null,null,null,null,null,null,null,null,""]
[null,null,null,null,null,null,null,null,null,null,null,null,null,{"$f":"IF(A344<>\"\",TEXT(A344,\"\"),\"\")","v":""},{"$f":"IF(N344=\"\",\"\",CONCATENATE(IF(C344<>\"\",TEXT(C344,\"\"),\"\"),\" - \",IF(K344<>\"\",TEXT(K344,\"\"),\"\")))","v":""},"",{"$f":"IF(D344<>\"\",D344,\"\")","v":""},{"$f":"IF(E344<>\"\",E344,\"\")","v":""},{"$f":"IF(F344<>\"\",F344,\"\")","v":""},{"$f":"IF(N344<>\"\",IF(D345<>\"\",D345,D344),\"\")","v":""},{"$f":"IF(N344<>\"\",IF(E345<>\"\",E345,E344),\"\")","v":""},{"$f":"IF(N344<>\"\",IF(F345<>\"\",F345,F344),\"\")","v":""}]
[null,null,null,null,null,null,null,null,null,null,null,null,null,null,null,""]
[null,null,null,null,null,null,null,null,null,null,null,null,null,{"$f":"IF(A346<>\"\",TEXT(A346,\"\"),\"\")","v":""},{"$f":"IF(N346=\"\",\"\",CONCATENATE(IF(C346<>\"\",TEXT(C346,\"\"),\"\"),\" - \",IF(K346<>\"\",TEXT(K346,\"\"),\"\")))","v":""},"",{"$f":"IF(D346<>\"\",D346,\"\")","v":""},{"$f":"IF(E346<>\"\",E346,\"\")","v":""},{"$f":"IF(F346<>\"\",F346,\"\")","v":""},{"$f":"IF(N346<>\"\",IF(D347<>\"\",D347,D346),\"\")","v":""},{"$f":"IF(N346<>\"\",IF(E347<>\"\",E347,E346),\"\")","v":""},{"$f":"IF(N346<>\"\",IF(F347<>\"\",F347,F346),\"\")","v":""}]
[null,null,null,null,null,null,null,null,null,null,null,null,null,null,null,""]
[null,null,null,null,null,null,null,null,null,null,null,null,null,{"$f":"IF(A348<>\"\",TEXT(A348,\"\"),\"\")","v":""},{"$f":"IF(N348=\"\",\"\",CONCATENATE(IF(C348<>\"\",TEXT(C348,\"\"),\"\"),\" - \",IF(K348<>\"\",TEXT(K348,\"\"),\"\")))","v":""},"",{"$f":"IF(D348<>\"\",D348,\"\")","v":""},{"$f":"IF(E348<>\"\",E348,\"\")","v":""},{"$f":"IF(F348<>\"\",F348,\"\")","v":""},{"$f":"IF(N348<>\"\",IF(D349<>\"\",D349,D348),\"\")","v":""},{"$f":"IF(N348<>\"\",IF(E349<>\"\",E349,E348),\"\")","v":""},{"$f":"IF(N348<>\"\",IF(F349<>\"\",F349,F348),\"\")","v":""}]
[null,null,null,null,null,null,null,null,null,null,null,null,null,null,null,""]
[null,null,null,null,null,null,null,null,null,null,null,null,null,{"$f":"IF(A350<>\"\",TEXT(A350,\"\"),\"\")","v":""},{"$f":"IF(N350=\"\",\"\",CONCATENATE(IF(C350<>\"\",TEXT(C350,\"\"),\"\"),\" - \",IF(K350<>\"\",TEXT(K350,\"\"),\"\")))","v":""},"",{"$f":"IF(D350<>\"\",D350,\"\")","v":""},{"$f":"IF(E350<>\"\",E350,\"\")","v":""},{"$f":"IF(F350<>\"\",F350,\"\")","v":""},{"$f":"IF(N350<>\"\",IF(D351<>\"\",D351,D350),\"\")","v":""},{"$f":"IF(N350<>\"\",IF(E351<>\"\",E351,E350),\"\")","v":""},{"$f":"IF(N350<>\"\",IF(F351<>\"\",F351,F350),\"\")","v":""}]
[null,null,null,null,null,null,null,null,null,null,null,null,null,null,null,""]
[null,null,null,null,null,null,null,null,null,null,null,null,null,{"$f":"IF(A352<>\"\",TEXT(A352,\"\"),\"\")","v":""},{"$f":"IF(N352=\"\",\"\",CONCATENATE(IF(C352<>\"\",TEXT(C352,\"\"),\"\"),\" - \",IF(K352<>\"\",TEXT(K352,\"\"),\"\")))","v":""},"",{"$f":"IF(D352<>\"\",D352,\"\")","v":""},{"$f":"IF(E352<>\"\",E352,\"\")","v":""},{"$f":"IF(F352<>\"\",F352,\"\")","v":""},{"$f":"IF(N352<>\"\",IF(D353<>\"\",D353,D352),\"\")","v":""},{"$f":"IF(N352<>\"\",IF(E353<>\"\",E353,E352),\"\")","v":""},{"$f":"IF(N352<>\"\",IF(F353<>\"\",F353,F352),\"\")","v":""}]
[null,null,null,null,null,null,null,null,null,null,null,null,null,null,null,""]
[null,null,null,null,null,null,null,null,null,null,null,null,null,{"$f":"IF(A354<>\"\",TEXT(A354,\"\"),\"\")","v":""},{"$f":"IF(N354=\"\",\"\",CONCATENATE(IF(C354<>\"\",TEXT(C354,\"\"),\"\"),\" - \",IF(K354<>\"\",TEXT(K354,\"\"),\"\")))","v":""},"",{"$f":"IF(D354<>\"\",D354,\"\")","v":""},{"$f":"IF(E354<>\"\",E354,\"\")","v":""},{"$f":"IF(F354<>\"\",F354,\"\")","v":""},{"$f":"IF(N354<>\"\",IF(D355<>\"\",D355,D354),\"\")","v":""},{"$f":"IF(N354<>\"\",IF(E355<>\"\",E355,E354),\"\")","v":""},{"$f":"IF(N354<>\"\",IF(F355<>\"\",F355,F354),\"\")","v":""}]
[null,null,null,null,null,null,null,null,null,null,null,null,null,null,null,""]
[null,null,null,null,null,null,null,null,null,null,null,null,null,{"$f":"IF(A356<>\"\",TEXT(A356,\"\"),\"\")","v":""},{"$f":"IF(N356=\"\",\"\",CONCATENATE(IF(C356<>\"\",TEXT(C356,\"\"),\"\"),\" - \",IF(K356<>\"\",TEXT(K356,\"\"),\"\")))","v":""},"",{"$f":"IF(D356<>\"\",D356,\"\")","v":""},{"$f":"IF(E356<>\"\",E356,\"\")","v":""},{"$f":"IF(F356<>\"\",F356,\"\")","v":""},{"$f":"IF(N356<>\"\",IF(D357<>\"\",D357,D356),\"\")","v":""},{"$f":"IF(N356<>\"\",IF(E357<>\"\",E357,E356),\"\")","v":""},{"$f":"IF(N356<>\"\",IF(F357<>\"\",F357,F356),\"\")","v":""}]
[null,null,null,null,null,null,null,null,null,null,null,null,null,null,null,""]
[null,null,null,null,null,null,null,null,null,null,null,null,null,{"$f":"IF(A358<>\"\",TEXT(A358,\"\"),\"\")","v":""},{"$f":"IF(N358=\"\",\"\",CONCATENATE(IF(C358<>\"\",TEXT(C358,\"\"),\"\"),\" - \",IF(K358<>\"\",TEXT(K358,\"\"),\"\")))","v":""},"",{"$f":"IF(D358<>\"\",D358,\"\")","v":""},{"$f":"IF(E358<>\"\",E358,\"\")","v":""},{"$f":"IF(F358<>\"\",F358,\"\")","v":""},{"$f":"IF(N358<>\"\",IF(D359<>\"\",D359,D358),\"\")","v":""},{"$f":"IF(N358<>\"\",IF(E359<>\"\",E359,E358),\"\")","v":""},{"$f":"IF(N358<>\"\",IF(F359<>\"\",F359,F358),\"\")","v":""}]
[null,null,null,null,null,null,null,null,null,null,null,null,null,null,null,""]
[null,null,null,null,null,null,null,null,null,null,null,null,null,{"$f":"IF(A360<>\"\",TEXT(A360,\"\"),\"\")","v":""},{"$f":"IF(N360=\"\",\"\",CONCATENATE(IF(C360<>\"\",TEXT(C360,\"\"),\"\"),\" - \",IF(K360<>\"\",TEXT(K360,\"\"),\"\")))","v":""},"",{"$f":"IF(D360<>\"\",D360,\"\")","v":""},{"$f":"IF(E360<>\"\",E360,\"\")","v":""},{"$f":"IF(F360<>\"\",F360,\"\")","v":""},{"$f":"IF(N360<>\"\",IF(D361<>\"\",D361,D360),\"\")","v":""},{"$f":"IF(N360<>\"\",IF(E361<>\"\",E361,E360),\"\")","v":""},{"$f":"IF(N360<>\"\",IF(F361<>\"\",F361,F360),\"\")","v":""}]
[null,null,null,null,null,null,null,null,null,null,null,null,null,null,null,""]
[null,null,null,null,null,null,null,null,null,null,null,null,null,{"$f":"IF(A362<>\"\",TEXT(A362,\"\"),\"\")","v":""},{"$f":"IF(N362=\"\",\"\",CONCATENATE(IF(C362<>\"\",TEXT(C362,\"\"),\"\"),\" - \",IF(K362<>\"\",TEXT(K362,\"\"),\"\")))","v":""},"",{"$f":"IF(D362<>\"\",D362,\"\")","v":""},{"$f":"IF(E362<>\"\",E362,\"\")","v":""},{"$f":"IF(F362<>\"\",F362,\"\")","v":""},{"$f":"IF(N362<>\"\",IF(D363<>\"\",D363,D362),\"\")","v":""},{"$f":"IF(N362<>\"\",IF(E363<>\"\",E363,E362),\"\")","v":""},{"$f":"IF(N362<>\"\",IF(F363<>\"\",F363,F362),\"\")","v":""}]
[null,null,null,null,null,null,null,null,null,null,null,null,null,null,null,""]
[null,null,null,null,null,null,null,null,null,null,null,null,null,{"$f":"IF(A364<>\"\",TEXT(A364,\"\"),\"\")","v":""},{"$f":"IF(N364=\"\",\"\",CONCATENATE(IF(C364<>\"\",TEXT(C364,\"\"),\"\"),\" - \",IF(K364<>\"\",TEXT(K364,\"\"),\"\")))","v":""},"",{"$f":"IF(D364<>\"\",D364,\"\")","v":""},{"$f":"IF(E364<>\"\",E364,\"\")","v":""},{"$f":"IF(F364<>\"\",F364,\"\")","v":""},{"$f":"IF(N364<>\"\",IF(D365<>\"\",D365,D364),\"\")","v":""},{"$f":"IF(N364<>\"\",IF(E365<>\"\",E365,E364),\"\")","v":""},{"$f":"IF(N364<>\"\",IF(F365<>\"\",F365,F364),\"\")","v":""}]
[null,null,null,null,null,null,null,null,null,null,null,null,null,null,null,""]
[null,null,null,null,null,null,null,null,null,null,null,null,null,{"$f":"IF(A366<>\"\",TEXT(A366,\"\"),\"\")","v":""},{"$f":"IF(N366=\"\",\"\",CONCATENATE(IF(C366<>\"\",TEXT(C366,\"\"),\"\"),\" - \",IF(K366<>\"\",TEXT(K366,\"\"),\"\")))","v":""},"",{"$f":"IF(D366<>\"\",D366,\"\")","v":""},{"$f":"IF(E366<>\"\",E366,\"\")","v":""},{"$f":"IF(F366<>\"\",F366,\"\")","v":""},{"$f":"IF(N366<>\"\",IF(D367<>\"\",D367,D366),\"\")","v":""},{"$f":"IF(N366<>\"\",IF(E367<>\"\",E367,E366),\"\")","v":""},{"$f":"IF(N366<>\"\",IF(F367<>\"\",F367,F366),\"\")","v":""}]
[null,null,null,null,null,null,null,null,null,null,null,null,null,null,null,""]
[null,null,null,null,null,null,null,null,null,null,null,null,null,{"$f":"IF(A368<>\"\",TEXT(A368,\"\"),\"\")","v":""},{"$f":"IF(N368=\"\",\"\",CONCATENATE(IF(C368<>\"\",TEXT(C368,\"\"),\"\"),\" - \",IF(K368<>\"\",TEXT(K368,\"\"),\"\")))","v":""},"",{"$f":"IF(D368<>\"\",D368,\"\")","v":""},{"$f":"IF(E368<>\"\",E368,\"\")","v":""},{"$f":"IF(F368<>\"\",F368,\"\")","v":""},{"$f":"IF(N368<>\"\",IF(D369<>\"\",D369,D368),\"\")","v":""},{"$f":"IF(N368<>\"\",IF(E369<>\"\",E369,E368),\"\")","v":""},{"$f":"IF(N368<>\"\",IF(F369<>\"\",F369,F368),\"\")","v":""}]
[null,null,null,null,null,null,null,null,null,null,null,null,null,null,null,""]
[null,null,null,null,null,null,null,null,null,null,null,null,null,{"$f":"IF(A370<>\"\",TEXT(A370,\"\"),\"\")","v":""},{"$f":"IF(N370=\"\",\"\",CONCATENATE(IF(C370<>\"\",TEXT(C370,\"\"),\"\"),\" - \",IF(K370<>\"\",TEXT(K370,\"\"),\"\")))","v":""},"",{"$f":"IF(D370<>\"\",D370,\"\")","v":""},{"$f":"IF(E370<>\"\",E370,\"\")","v":""},{"$f":"IF(F370<>\"\",F370,\"\")","v":""},{"$f":"IF(N370<>\"\",IF(D371<>\"\",D371,D370),\"\")","v":""},{"$f":"IF(N370<>\"\",IF(E371<>\"\",E371,E370),\"\")","v":""},{"$f":"IF(N370<>\"\",IF(F371<>\"\",F371,F370),\"\")","v":""}]
[null,null,null,null,null,null,null,null,null,null,null,null,null,null,null,""]
[null,null,null,null,null,null,null,null,null,null,null,null,null,{"$f":"IF(A372<>\"\",TEXT(A372,\"\"),\"\")","v":""},{"$f":"IF(N372=\"\",\"\",CONCATENATE(IF(C372<>\"\",TEXT(C372,\"\"),\"\"),\" - \",IF(K372<>\"\",TEXT(K372,\"\"),\"\")))","v":""},"",{"$f":"IF(D372<>\"\",D372,\"\")","v":""},{"$f":"IF(E372<>\"\",E372,\"\")","v":""},{"$f":"IF(F372<>\"\",F372,\"\")","v":""},{"$f":"IF(N372<>\"\",IF(D373<>\"\",D373,D372),\"\")","v":""},{"$f":"IF(N372<>\"\",IF(E373<>\"\",E373,E372),\"\")","v":""},{"$f":"IF(N372<>\"\",IF(F373<>\"\",F373,F372),\"\")","v":""}]
[null,null,null,null,null,null,null,null,null,null,null,null,null,null,null,""]
[null,null,null,null,null,null,null,null,null,null,null,null,null,{"$f":"IF(A374<>\"\",TEXT(A374,\"\"),\"\")","v":""},{"$f":"IF(N374=\"\",\"\",CONCATENATE(IF(C374<>\"\",TEXT(C374,\"\"),\"\"),\" - \",IF(K374<>\"\",TEXT(K374,\"\"),\"\")))","v":""},"",{"$f":"IF(D374<>\"\",D374,\"\")","v":""},{"$f":"IF(E374<>\"\",E374,\"\")","v":""},{"$f":"IF(F374<>\"\",F374,\"\")","v":""},{"$f":"IF(N374<>\"\",IF(D375<>\"\",D375,D374),\"\")","v":""},{"$f":"IF(N374<>\"\",IF(E375<>\"\",E375,E374),\"\")","v":""},{"$f":"IF(N374<>\"\",IF(F375<>\"\",F375,F374),\"\")","v":""}]
[null,null,null,null,null,null,null,null,null,null,null,null,null,null,null,""]
[null,null,null,null,null,null,null,null,null,null,null,null,null,{"$f":"IF(A376<>\"\",TEXT(A376,\"\"),\"\")","v":""},{"$f":"IF(N376=\"\",\"\",CONCATENATE(IF(C376<>\"\",TEXT(C376,\"\"),\"\"),\" - \",IF(K376<>\"\",TEXT(K376,\"\"),\"\")))","v":""},"",{"$f":"IF(D376<>\"\",D376,\"\")","v":""},{"$f":"IF(E376<>\"\",E376,\"\")","v":""},{"$f":"IF(F376<>\"\",F376,\"\")","v":""},{"$f":"IF(N376<>\"\",IF(D377<>\"\",D377,D376),\"\")","v":""},{"$f":"IF(N376<>\"\",IF(E377<>\"\",E377,E376),\"\")","v":""},{"$f":"IF(N376<>\"\",IF(F377<>\"\",F377,F376),\"\")","v":""}]
[null,null,null,null,null,null,null,null,null,null,null,null,null,null,null,""]
[null,null,null,null,null,null,null,null,null,null,null,null,null,{"$f":"IF(A378<>\"\",TEXT(A378,\"\"),\"\")","v":""},{"$f":"IF(N378=\"\",\"\",CONCATENATE(IF(C378<>\"\",TEXT(C378,\"\"),\"\"),\" - \",IF(K378<>\"\",TEXT(K378,\"\"),\"\")))","v":""},"",{"$f":"IF(D378<>\"\",D378,\"\")","v":""},{"$f":"IF(E378<>\"\",E378,\"\")","v":""},{"$f":"IF(F378<>\"\",F378,\"\")","v":""},{"$f":"IF(N378<>\"\",IF(D379<>\"\",D379,D378),\"\")","v":""},{"$f":"IF(N378<>\"\",IF(E379<>\"\",E379,E378),\"\")","v":""},{"$f":"IF(N378<>\"\",IF(F379<>\"\",F379,F378),\"\")","v":""}]
[null,null,null,null,null,null,null,null,null,null,null,null,null,null,null,""]
[null,null,null,null,null,null,null,null,null,null,null,null,null,{"$f":"IF(A380<>\"\",TEXT(A380,\"\"),\"\")","v":""},{"$f":"IF(N380=\"\",\"\",CONCATENATE(IF(C380<>\"\",TEXT(C380,\"\"),\"\"),\" - \",IF(K380<>\"\",TEXT(K380,\"\"),\"\")))","v":""},"",{"$f":"IF(D380<>\"\",D380,\"\")","v":""},{"$f":"IF(E380<>\"\",E380,\"\")","v":""},{"$f":"IF(F380<>\"\",F380,\"\")","v":""},{"$f":"IF(N380<>\"\",IF(D381<>\"\",D381,D380),\"\")","v":""},{"$f":"IF(N380<>\"\",IF(E381<>\"\",E381,E380),\"\")","v":""},{"$f":"IF(N380<>\"\",IF(F381<>\"\",F381,F380),\"\")","v":""}]
[null,null,null,null,null,null,null,null,null,null,null,null,null,null,null,""]
[null,null,null,null,null,null,null,null,null,null,null,null,null,{"$f":"IF(A382<>\"\",TEXT(A382,\"\"),\"\")","v":""},{"$f":"IF(N382=\"\",\"\",CONCATENATE(IF(C382<>\"\",TEXT(C382,\"\"),\"\"),\" - \",IF(K382<>\"\",TEXT(K382,\"\"),\"\")))","v":""},"",{"$f":"IF(D382<>\"\",D382,\"\")","v":""},{"$f":"IF(E382<>\"\",E382,\"\")","v":""},{"$f":"IF(F382<>\"\",F382,\"\")","v":""},{"$f":"IF(N382<>\"\",IF(D383<>\"\",D383,D382),\"\")","v":""},{"$f":"IF(N382<>\"\",IF(E383<>\"\",E383,E382),\"\")","v":""},{"$f":"IF(N382<>\"\",IF(F383<>\"\",F383,F382),\"\")","v":""}]
[null,null,null,null,null,null,null,null,null,null,null,null,null,null,null,""]
[null,null,null,null,null,null,null,null,null,null,null,null,null,{"$f":"IF(A384<>\"\",TEXT(A384,\"\"),\"\")","v":""},{"$f":"IF(N384=\"\",\"\",CONCATENATE(IF(C384<>\"\",TEXT(C384,\"\"),\"\"),\" - \",IF(K384<>\"\",TEXT(K384,\"\"),\"\")))","v":""},"",{"$f":"IF(D384<>\"\",D384,\"\")","v":""},{"$f":"IF(E384<>\"\",E384,\"\")","v":""},{"$f":"IF(F384<>\"\",F384,\"\")","v":""},{"$f":"IF(N384<>\"\",IF(D385<>\"\",D385,D384),\"\")","v":""},{"$f":"IF(N384<>\"\",IF(E385<>\"\",E385,E384),\"\")","v":""},{"$f":"IF(N384<>\"\",IF(F385<>\"\",F385,F384),\"\")","v":""}]
[null,null,null,null,null,null,null,null,null,null,null,null,null,null,null,""]
[null,null,null,null,null,null,null,null,null,null,null,null,null,{"$f":"IF(A386<>\"\",TEXT(A386,\"\"),\"\")","v":""},{"$f":"IF(N386=\"\",\"\",CONCATENATE(IF(C386<>\"\",TEXT(C386,\"\"),\"\"),\" - \",IF(K386<>\"\",TEXT(K386,\"\"),\"\")))","v":""},"",{"$f":"IF(D386<>\"\",D386,\"\")","v":""},{"$f":"IF(E386<>\"\",E386,\"\")","v":""},{"$f":"IF(F386<>\"\",F386,\"\")","v":""},{"$f":"IF(N386<>\"\",IF(D387<>\"\",D387,D386),\"\")","v":""},{"$f":"IF(N386<>\"\",IF(E387<>\"\",E387,E386),\"\")","v":""},{"$f":"IF(N386<>\"\",IF(F387<>\"\",F387,F386),\"\")","v":""}]
[null,null,null,null,null,null,null,null,null,null,null,null,null,null,null,{"$f":"SUBSTITUTE(SUBSTITUTE(SUBSTITUTE(SUBSTITUTE(IF(L387<>\"\",HLink(L387),\"\"),\"htm\",\"html\"),\"1x2\",\"analysis\"),\"www\",\"www\"),\"com\",\"vip\")","v":""}]
[null,null,null,null,null,null,null,null,null,null,null,null,null,{"$f":"IF(A388<>\"\",TEXT(A388,\"\"),\"\")","v":""},{"$f":"IF(N388=\"\",\"\",CONCATENATE(IF(C388<>\"\",TEXT(C388,\"\"),\"\"),\" - \",IF(K388<>\"\",TEXT(K388,\"\"),\"\")))","v":""},"",{"$f":"IF(D388<>\"\",D388,\"\")","v":""},{"$f":"IF(E388<>\"\",E388,\"\")","v":""},{"$f":"IF(F388<>\"\",F388,\"\")","v":""},{"$f":"IF(N388<>\"\",IF(D389<>\"\",D389,D388),\"\")","v":""},{"$f":"IF(N388<>\"\",IF(E389<>\"\",E389,E388),\"\")","v":""},{"$f":"IF(N388<>\"\",IF(F389<>\"\",F389,F388),\"\")","v":""}]
[null,null,null,null,null,null,null,null,null,null,null,null,null,null,null,""]
[null,null,null,null,null,null,null,null,null,null,null,null,null,{"$f":"IF(A390<>\"\",TEXT(A390,\"\"),\"\")","v":""},{"$f":"IF(N390=\"\",\"\",CONCATENATE(IF(C390<>\"\",TEXT(C390,\"\"),\"\"),\" - \",IF(K390<>\"\",TEXT(K390,\"\"),\"\")))","v":""},"",{"$f":"IF(D390<>\"\",D390,\"\")","v":""},{"$f":"IF(E390<>\"\",E390,\"\")","v":""},{"$f":"IF(F390<>\"\",F390,\"\")","v":""},{"$f":"IF(N390<>\"\",IF(D391<>\"\",D391,D390),\"\")","v":""},{"$f":"IF(N390<>\"\",IF(E391<>\"\",E391,E390),\"\")","v":""},{"$f":"IF(N390<>\"\",IF(F391<>\"\",F391,F390),\"\")","v":""}]
[null,null,null,null,null,null,null,null,null,null,null,null,null,null,null,""]
[null,null,null,null,null,null,null,null,null,null,null,null,null,{"$f":"IF(A392<>\"\",TEXT(A392,\"\"),\"\")","v":""},{"$f":"IF(N392=\"\",\"\",CONCATENATE(IF(C392<>\"\",TEXT(C392,\"\"),\"\"),\" - \",IF(K392<>\"\",TEXT(K392,\"\"),\"\")))","v":""},"",{"$f":"IF(D392<>\"\",D392,\"\")","v":""},{"$f":"IF(E392<>\"\",E392,\"\")","v":""},{"$f":"IF(F392<>\"\",F392,\"\")","v":""},{"$f":"IF(N392<>\"\",IF(D393<>\"\",D393,D392),\"\")","v":""},{"$f":"IF(N392<>\"\",IF(E393<>\"\",E393,E392),\"\")","v":""},{"$f":"IF(N392<>\"\",IF(F393<>\"\",F393,F392),\"\")","v":""}]
[null,null,null,null,null,null,null,null,null,null,null,null,null,null,null,""]
[null,null,null,null,null,null,null,null,null,null,null,null,null,{"$f":"IF(A394<>\"\",TEXT(A394,\"\"),\"\")","v":""},{"$f":"IF(N394=\"\",\"\",CONCATENATE(IF(C394<>\"\",TEXT(C394,\"\"),\"\"),\" - \",IF(K394<>\"\",TEXT(K394,\"\"),\"\")))","v":""},"",{"$f":"IF(D394<>\"\",D394,\"\")","v":""},{"$f":"IF(E394<>\"\",E394,\"\")","v":""},{"$f":"IF(F394<>\"\",F394,\"\")","v":""},{"$f":"IF(N394<>\"\",IF(D395<>\"\",D395,D394),\"\")","v":""},{"$f":"IF(N394<>\"\",IF(E395<>\"\",E395,E394),\"\")","v":""},{"$f":"IF(N394<>\"\",IF(F395<>\"\",F395,F394),\"\")","v":""}]
[null,null,null,null,null,null,null,null,null,null,null,null,null,null,null,""]
[null,null,null,null,null,null,null,null,null,null,null,null,null,{"$f":"IF(A396<>\"\",TEXT(A396,\"\"),\"\")","v":""},{"$f":"IF(N396=\"\",\"\",CONCATENATE(IF(C396<>\"\",TEXT(C396,\"\"),\"\"),\" - \",IF(K396<>\"\",TEXT(K396,\"\"),\"\")))","v":""},"",{"$f":"IF(D396<>\"\",D396,\"\")","v":""},{"$f":"IF(E396<>\"\",E396,\"\")","v":""},{"$f":"IF(F396<>\"\",F396,\"\")","v":""},{"$f":"IF(N396<>\"\",IF(D397<>\"\",D397,D396),\"\")","v":""},{"$f":"IF(N396<>\"\",IF(E397<>\"\",E397,E396),\"\")","v":""},{"$f":"IF(N396<>\"\",IF(F397<>\"\",F397,F396),\"\")","v":""}]
[null,null,null,null,null,null,null,null,null,null,null,null,null,null,null,""]
[null,null,null,null,null,null,null,null,null,null,null,null,null,{"$f":"IF(A398<>\"\",TEXT(A398,\"\"),\"\")","v":""},{"$f":"IF(N398=\"\",\"\",CONCATENATE(IF(C398<>\"\",TEXT(C398,\"\"),\"\"),\" - \",IF(K398<>\"\",TEXT(K398,\"\"),\"\")))","v":""},"",{"$f":"IF(D398<>\"\",D398,\"\")","v":""},{"$f":"IF(E398<>\"\",E398,\"\")","v":""},{"$f":"IF(F398<>\"\",F398,\"\")","v":""},{"$f":"IF(N398<>\"\",IF(D399<>\"\",D399,D398),\"\")","v":""},{"$f":"IF(N398<>\"\",IF(E399<>\"\",E399,E398),\"\")","v":""},{"$f":"IF(N398<>\"\",IF(F399<>\"\",F399,F398),\"\")","v":""}]
[null,null,null,null,null,null,null,null,null,null,null,null,null,null,null,""]
[null,null,null,null,null,null,null,null,null,null,null,null,null,{"$f":"IF(A400<>\"\",TEXT(A400,\"\"),\"\")","v":""},{"$f":"IF(N400=\"\",\"\",CONCATENATE(IF(C400<>\"\",TEXT(C400,\"\"),\"\"),\" - \",IF(K400<>\"\",TEXT(K400,\"\"),\"\")))","v":""},"",{"$f":"IF(D400<>\"\",D400,\"\")","v":""},{"$f":"IF(E400<>\"\",E400,\"\")","v":""},{"$f":"IF(F400<>\"\",F400,\"\")","v":""},{"$f":"IF(N400<>\"\",IF(D401<>\"\",D401,D400),\"\")","v":""},{"$f":"IF(N400<>\"\",IF(E401<>\"\",E401,E400),\"\")","v":""},{"$f":"IF(N400<>\"\",IF(F401<>\"\",F401,F400),\"\")","v":""}]
[null,null,null,null,null,null,null,null,null,null,null,null,null,null,null,""]
[null,null,null,null,null,null,null,null,null,null,null,null,null,{"$f":"IF(A402<>\"\",TEXT(A402,\"\"),\"\")","v":""},{"$f":"IF(N402=\"\",\"\",CONCATENATE(IF(C402<>\"\",TEXT(C402,\"\"),\"\"),\" - \",IF(K402<>\"\",TEXT(K402,\"\"),\"\")))","v":""},"",{"$f":"IF(D402<>\"\",D402,\"\")","v":""},{"$f":"IF(E402<>\"\",E402,\"\")","v":""},{"$f":"IF(F402<>\"\",F402,\"\")","v":""},{"$f":"IF(N402<>\"\",IF(D403<>\"\",D403,D402),\"\")","v":""},{"$f":"IF(N402<>\"\",IF(E403<>\"\",E403,E402),\"\")","v":""},{"$f":"IF(N402<>\"\",IF(F403<>\"\",F403,F402),\"\")","v":""}]
[null,null,null,null,null,null,null,null,null,null,null,null,null,null,null,""]
[null,null,null,null,null,null,null,null,null,null,null,null,null,{"$f":"IF(A404<>\"\",TEXT(A404,\"\"),\"\")","v":""},{"$f":"IF(N404=\"\",\"\",CONCATENATE(IF(C404<>\"\",TEXT(C404,\"\"),\"\"),\" - \",IF(K404<>\"\",TEXT(K404,\"\"),\"\")))","v":""},"",{"$f":"IF(D404<>\"\",D404,\"\")","v":""},{"$f":"IF(E404<>\"\",E404,\"\")","v":""},{"$f":"IF(F404<>\"\",F404,\"\")","v":""},{"$f":"IF(N404<>\"\",IF(D405<>\"\",D405,D404),\"\")","v":""},{"$f":"IF(N404<>\"\",IF(E405<>\"\",E405,E404),\"\")","v":""},{"$f":"IF(N404<>\"\",IF(F405<>\"\",F405,F404),\"\")","v":""}]
[null,null,null,null,null,null,null,null,null,null,null,null,null,null,null,""]
[null,null,null,null,null,null,null,null,null,null,null,null,null,{"$f":"IF(A406<>\"\",TEXT(A406,\"\"),\"\")","v":""},{"$f":"IF(N406=\"\",\"\",CONCATENATE(IF(C406<>\"\",TEXT(C406,\"\"),\"\"),\" - \",IF(K406<>\"\",TEXT(K406,\"\"),\"\")))","v":""},"",{"$f":"IF(D406<>\"\",D406,\"\")","v":""},{"$f":"IF(E406<>\"\",E406,\"\")","v":""},{"$f":"IF(F406<>\"\",F406,\"\")","v":""},{"$f":"IF(N406<>\"\",IF(D407<>\"\",D407,D406),\"\")","v":""},{"$f":"IF(N406<>\"\",IF(E407<>\"\",E407,E406),\"\")","v":""},{"$f":"IF(N406<>\"\",IF(F407<>\"\",F407,F406),\"\")","v":""}]
[null,null,null,null,null,null,null,null,null,null,null,null,null,null,null,""]
[null,null,null,null,null,null,null,null,null,null,null,null,null,{"$f":"IF(A408<>\"\",TEXT(A408,\"\"),\"\")","v":""},{"$f":"IF(N408=\"\",\"\",CONCATENATE(IF(C408<>\"\",TEXT(C408,\"\"),\"\"),\" - \",IF(K408<>\"\",TEXT(K408,\"\"),\"\")))","v":""},"",{"$f":"IF(D408<>\"\",D408,\"\")","v":""},{"$f":"IF(E408<>\"\",E408,\"\")","v":""},{"$f":"IF(F408<>\"\",F408,\"\")","v":""},{"$f":"IF(N408<>\"\",IF(D409<>\"\",D409,D408),\"\")","v":""},{"$f":"IF(N408<>\"\",IF(E409<>\"\",E409,E408),\"\")","v":""},{"$f":"IF(N408<>\"\",IF(F409<>\"\",F409,F408),\"\")","v":""}]
[null,null,null,null,null,null,null,null,null,null,null,null,null,null,null,""]
[null,null,null,null,null,null,null,null,null,null,null,null,null,{"$f":"IF(A410<>\"\",TEXT(A410,\"\"),\"\")","v":""},{"$f":"IF(N410=\"\",\"\",CONCATENATE(IF(C410<>\"\",TEXT(C410,\"\"),\"\"),\" - \",IF(K410<>\"\",TEXT(K410,\"\"),\"\")))","v":""},"",{"$f":"IF(D410<>\"\",D410,\"\")","v":""},{"$f":"IF(E410<>\"\",E410,\"\")","v":""},{"$f":"IF(F410<>\"\",F410,\"\")","v":""},{"$f":"IF(N410<>\"\",IF(D411<>\"\",D411,D410),\"\")","v":""},{"$f":"IF(N410<>\"\",IF(E411<>\"\",E411,E410),\"\")","v":""},{"$f":"IF(N410<>\"\",IF(F411<>\"\",F411,F410),\"\")","v":""}]
[null,null,null,null,null,null,null,null,null,null,null,null,null,null,null,""]
[null,null,null,null,null,null,null,null,null,null,null,null,null,{"$f":"IF(A412<>\"\",TEXT(A412,\"\"),\"\")","v":""},{"$f":"IF(N412=\"\",\"\",CONCATENATE(IF(C412<>\"\",TEXT(C412,\"\"),\"\"),\" - \",IF(K412<>\"\",TEXT(K412,\"\"),\"\")))","v":""},"",{"$f":"IF(D412<>\"\",D412,\"\")","v":""},{"$f":"IF(E412<>\"\",E412,\"\")","v":""},{"$f":"IF(F412<>\"\",F412,\"\")","v":""},{"$f":"IF(N412<>\"\",IF(D413<>\"\",D413,D412),\"\")","v":""},{"$f":"IF(N412<>\"\",IF(E413<>\"\",E413,E412),\"\")","v":""},{"$f":"IF(N412<>\"\",IF(F413<>\"\",F413,F412),\"\")","v":""}]
[null,null,null,null,null,null,null,null,null,null,null,null,null,null,null,""]
[null,null,null,null,null,null,null,null,null,null,null,null,null,{"$f":"IF(A414<>\"\",TEXT(A414,\"\"),\"\")","v":""},{"$f":"IF(N414=\"\",\"\",CONCATENATE(IF(C414<>\"\",TEXT(C414,\"\"),\"\"),\" - \",IF(K414<>\"\",TEXT(K414,\"\"),\"\")))","v":""},"",{"$f":"IF(D414<>\"\",D414,\"\")","v":""},{"$f":"IF(E414<>\"\",E414,\"\")","v":""},{"$f":"IF(F414<>\"\",F414,\"\")","v":""},{"$f":"IF(N414<>\"\",IF(D415<>\"\",D415,D414),\"\")","v":""},{"$f":"IF(N414<>\"\",IF(E415<>\"\",E415,E414),\"\")","v":""},{"$f":"IF(N414<>\"\",IF(F415<>\"\",F415,F414),\"\")","v":""}]
[null,null,null,null,null,null,null,null,null,null,null,null,null,null,null,""]
[null,null,null,null,null,null,null,null,null,null,null,null,null,{"$f":"IF(A416<>\"\",TEXT(A416,\"\"),\"\")","v":""},{"$f":"IF(N416=\"\",\"\",CONCATENATE(IF(C416<>\"\",TEXT(C416,\"\"),\"\"),\" - \",IF(K416<>\"\",TEXT(K416,\"\"),\"\")))","v":""},"",{"$f":"IF(D416<>\"\",D416,\"\")","v":""},{"$f":"IF(E416<>\"\",E416,\"\")","v":""},{"$f":"IF(F416<>\"\",F416,\"\")","v":""},{"$f":"IF(N416<>\"\",IF(D417<>\"\",D417,D416),\"\")","v":""},{"$f":"IF(N416<>\"\",IF(E417<>\"\",E417,E416),\"\")","v":""},{"$f":"IF(N416<>\"\",IF(F417<>\"\",F417,F416),\"\")","v":""}]
[null,null,null,null,null,null,null,null,null,null,null,null,null,null,null,""]
[null,null,null,null,null,null,null,null,null,null,null,null,null,{"$f":"IF(A418<>\"\",TEXT(A418,\"\"),\"\")","v":""},{"$f":"IF(N418=\"\",\"\",CONCATENATE(IF(C418<>\"\",TEXT(C418,\"\"),\"\"),\" - \",IF(K418<>\"\",TEXT(K418,\"\"),\"\")))","v":""},"",{"$f":"IF(D418<>\"\",D418,\"\")","v":""},{"$f":"IF(E418<>\"\",E418,\"\")","v":""},{"$f":"IF(F418<>\"\",F418,\"\")","v":""},{"$f":"IF(N418<>\"\",IF(D419<>\"\",D419,D418),\"\")","v":""},{"$f":"IF(N418<>\"\",IF(E419<>\"\",E419,E418),\"\")","v":""},{"$f":"IF(N418<>\"\",IF(F419<>\"\",F419,F418),\"\")","v":""}]
[null,null,null,null,null,null,null,null,null,null,null,null,null,null,null,""]
[null,null,null,null,null,null,null,null,null,null,null,null,null,{"$f":"IF(A420<>\"\",TEXT(A420,\"\"),\"\")","v":""},{"$f":"IF(N420=\"\",\"\",CONCATENATE(IF(C420<>\"\",TEXT(C420,\"\"),\"\"),\" - \",IF(K420<>\"\",TEXT(K420,\"\"),\"\")))","v":""},"",{"$f":"IF(D420<>\"\",D420,\"\")","v":""},{"$f":"IF(E420<>\"\",E420,\"\")","v":""},{"$f":"IF(F420<>\"\",F420,\"\")","v":""},{"$f":"IF(N420<>\"\",IF(D421<>\"\",D421,D420),\"\")","v":""},{"$f":"IF(N420<>\"\",IF(E421<>\"\",E421,E420),\"\")","v":""},{"$f":"IF(N420<>\"\",IF(F421<>\"\",F421,F420),\"\")","v":""}]
[null,null,null,null,null,null,null,null,null,null,null,null,null,null,null,""]
[null,null,null,null,null,null,null,null,null,null,null,null,null,{"$f":"IF(A422<>\"\",TEXT(A422,\"\"),\"\")","v":""},{"$f":"IF(N422=\"\",\"\",CONCATENATE(IF(C422<>\"\",TEXT(C422,\"\"),\"\"),\" - \",IF(K422<>\"\",TEXT(K422,\"\"),\"\")))","v":""},"",{"$f":"IF(D422<>\"\",D422,\"\")","v":""},{"$f":"IF(E422<>\"\",E422,\"\")","v":""},{"$f":"IF(F422<>\"\",F422,\"\")","v":""},{"$f":"IF(N422<>\"\",IF(D423<>\"\",D423,D422),\"\")","v":""},{"$f":"IF(N422<>\"\",IF(E423<>\"\",E423,E422),\"\")","v":""},{"$f":"IF(N422<>\"\",IF(F423<>\"\",F423,F422),\"\")","v":""}]
[null,null,null,null,null,null,null,null,null,null,null,null,null,null,null,""]
[null,null,null,null,null,null,null,null,null,null,null,null,null,{"$f":"IF(A424<>\"\",TEXT(A424,\"\"),\"\")","v":""},{"$f":"IF(N424=\"\",\"\",CONCATENATE(IF(C424<>\"\",TEXT(C424,\"\"),\"\"),\" - \",IF(K424<>\"\",TEXT(K424,\"\"),\"\")))","v":""},"",{"$f":"IF(D424<>\"\",D424,\"\")","v":""},{"$f":"IF(E424<>\"\",E424,\"\")","v":""},{"$f":"IF(F424<>\"\",F424,\"\")","v":""},{"$f":"IF(N424<>\"\",IF(D425<>\"\",D425,D424),\"\")","v":""},{"$f":"IF(N424<>\"\",IF(E425<>\"\",E425,E424),\"\")","v":""},{"$f":"IF(N424<>\"\",IF(F425<>\"\",F425,F424),\"\")","v":""}]
[null,null,null,null,null,null,null,null,null,null,null,null,null,null,null,""]
[null,null,null,null,null,null,null,null,null,null,null,null,null,{"$f":"IF(A426<>\"\",TEXT(A426,\"\"),\"\")","v":""},{"$f":"IF(N426=\"\",\"\",CONCATENATE(IF(C426<>\"\",TEXT(C426,\"\"),\"\"),\" - \",IF(K426<>\"\",TEXT(K426,\"\"),\"\")))","v":""},"",{"$f":"IF(D426<>\"\",D426,\"\")","v":""},{"$f":"IF(E426<>\"\",E426,\"\")","v":""},{"$f":"IF(F426<>\"\",F426,\"\")","v":""},{"$f":"IF(N426<>\"\",IF(D427<>\"\",D427,D426),\"\")","v":""},{"$f":"IF(N426<>\"\",IF(E427<>\"\",E427,E426),\"\")","v":""},{"$f":"IF(N426<>\"\",IF(F427<>\"\",F427,F426),\"\")","v":""}]
[null,null,null,null,null,null,null,null,null,null,null,null,null,null,null,""]
[null,null,null,null,null,null,null,null,null,null,null,null,null,{"$f":"IF(A428<>\"\",TEXT(A428,\"\"),\"\")","v":""},{"$f":"IF(N428=\"\",\"\",CONCATENATE(IF(C428<>\"\",TEXT(C428,\"\"),\"\"),\" - \",IF(K428<>\"\",TEXT(K428,\"\"),\"\")))","v":""},"",{"$f":"IF(D428<>\"\",D428,\"\")","v":""},{"$f":"IF(E428<>\"\",E428,\"\")","v":""},{"$f":"IF(F428<>\"\",F428,\"\")","v":""},{"$f":"IF(N428<>\"\",IF(D429<>\"\",D429,D428),\"\")","v":""},{"$f":"IF(N428<>\"\",IF(E429<>\"\",E429,E428),\"\")","v":""},{"$f":"IF(N428<>\"\",IF(F429<>\"\",F429,F428),\"\")","v":""}]
[null,null,null,null,null,null,null,null,null,null,null,null,null,null,null,""]
[null,null,null,null,null,null,null,null,null,null,null,null,null,{"$f":"IF(A430<>\"\",TEXT(A430,\"\"),\"\")","v":""},{"$f":"IF(N430=\"\",\"\",CONCATENATE(IF(C430<>\"\",TEXT(C430,\"\"),\"\"),\" - \",IF(K430<>\"\",TEXT(K430,\"\"),\"\")))","v":""},"",{"$f":"IF(D430<>\"\",D430,\"\")","v":""},{"$f":"IF(E430<>\"\",E430,\"\")","v":""},{"$f":"IF(F430<>\"\",F430,\"\")","v":""},{"$f":"IF(N430<>\"\",IF(D431<>\"\",D431,D430),\"\")","v":""},{"$f":"IF(N430<>\"\",IF(E431<>\"\",E431,E430),\"\")","v":""},{"$f":"IF(N430<>\"\",IF(F431<>\"\",F431,F430),\"\")","v":""}]
[null,null,null,null,null,null,null,null,null,null,null,null,null,null,null,""]
[null,null,null,null,null,null,null,null,null,null,null,null,null,{"$f":"IF(A432<>\"\",TEXT(A432,\"\"),\"\")","v":""},{"$f":"IF(N432=\"\",\"\",CONCATENATE(IF(C432<>\"\",TEXT(C432,\"\"),\"\"),\" - \",IF(K432<>\"\",TEXT(K432,\"\"),\"\")))","v":""},"",{"$f":"IF(D432<>\"\",D432,\"\")","v":""},{"$f":"IF(E432<>\"\",E432,\"\")","v":""},{"$f":"IF(F432<>\"\",F432,\"\")","v":""},{"$f":"IF(N432<>\"\",IF(D433<>\"\",D433,D432),\"\")","v":""},{"$f":"IF(N432<>\"\",IF(E433<>\"\",E433,E432),\"\")","v":""},{"$f":"IF(N432<>\"\",IF(F433<>\"\",F433,F432),\"\")","v":""}]
[null,null,null,null,null,null,null,null,null,null,null,null,null,null,null,""]
[null,null,null,null,null,null,null,null,null,null,null,null,null,{"$f":"IF(A434<>\"\",TEXT(A434,\"\"),\"\")","v":""},{"$f":"IF(N434=\"\",\"\",CONCATENATE(IF(C434<>\"\",TEXT(C434,\"\"),\"\"),\" - \",IF(K434<>\"\",TEXT(K434,\"\"),\"\")))","v":""},"",{"$f":"IF(D434<>\"\",D434,\"\")","v":""},{"$f":"IF(E434<>\"\",E434,\"\")","v":""},{"$f":"IF(F434<>\"\",F434,\"\")","v":""},{"$f":"IF(N434<>\"\",IF(D435<>\"\",D435,D434),\"\")","v":""},{"$f":"IF(N434<>\"\",IF(E435<>\"\",E435,E434),\"\")","v":""},{"$f":"IF(N434<>\"\",IF(F435<>\"\",F435,F434),\"\")","v":""}]
[null,null,null,null,null,null,null,null,null,null,null,null,null,null,null,""]
[null,null,null,null,null,null,null,null,null,null,null,null,null,{"$f":"IF(A436<>\"\",TEXT(A436,\"\"),\"\")","v":""},{"$f":"IF(N436=\"\",\"\",CONCATENATE(IF(C436<>\"\",TEXT(C436,\"\"),\"\"),\" - \",IF(K436<>\"\",TEXT(K436,\"\"),\"\")))","v":""},"",{"$f":"IF(D436<>\"\",D436,\"\")","v":""},{"$f":"IF(E436<>\"\",E436,\"\")","v":""},{"$f":"IF(F436<>\"\",F436,\"\")","v":""},{"$f":"IF(N436<>\"\",IF(D437<>\"\",D437,D436),\"\")","v":""},{"$f":"IF(N436<>\"\",IF(E437<>\"\",E437,E436),\"\")","v":""},{"$f":"IF(N436<>\"\",IF(F437<>\"\",F437,F436),\"\")","v":""}]
[null,null,null,null,null,null,null,null,null,null,null,null,null,null,null,""]
[null,null,null,null,null,null,null,null,null,null,null,null,null,{"$f":"IF(A438<>\"\",TEXT(A438,\"\"),\"\")","v":""},{"$f":"IF(N438=\"\",\"\",CONCATENATE(IF(C438<>\"\",TEXT(C438,\"\"),\"\"),\" - \",IF(K438<>\"\",TEXT(K438,\"\"),\"\")))","v":""},"",{"$f":"IF(D438<>\"\",D438,\"\")","v":""},{"$f":"IF(E438<>\"\",E438,\"\")","v":""},{"$f":"IF(F438<>\"\",F438,\"\")","v":""},{"$f":"IF(N438<>\"\",IF(D439<>\"\",D439,D438),\"\")","v":""},{"$f":"IF(N438<>\"\",IF(E439<>\"\",E439,E438),\"\")","v":""},{"$f":"IF(N438<>\"\",IF(F439<>\"\",F439,F438),\"\")","v":""}]
[null,null,null,null,null,null,null,null,null,null,null,null,null,null,null,""]
[null,null,null,null,null,null,null,null,null,null,null,null,null,{"$f":"IF(A440<>\"\",TEXT(A440,\"\"),\"\")","v":""},{"$f":"IF(N440=\"\",\"\",CONCATENATE(IF(C440<>\"\",TEXT(C440,\"\"),\"\"),\" - \",IF(K440<>\"\",TEXT(K440,\"\"),\"\")))","v":""},"",{"$f":"IF(D440<>\"\",D440,\"\")","v":""},{"$f":"IF(E440<>\"\",E440,\"\")","v":""},{"$f":"IF(F440<>\"\",F440,\"\")","v":""},{"$f":"IF(N440<>\"\",IF(D441<>\"\",D441,D440),\"\")","v":""},{"$f":"IF(N440<>\"\",IF(E441<>\"\",E441,E440),\"\")","v":""},{"$f":"IF(N440<>\"\",IF(F441<>\"\",F441,F440),\"\")","v":""}]
[null,null,null,null,null,null,null,null,null,null,null,null,null,null,null,""]
[null,null,null,null,null,null,null,null,null,null,null,null,null,{"$f":"IF(A442<>\"\",TEXT(A442,\"\"),\"\")","v":""},{"$f":"IF(N442=\"\",\"\",CONCATENATE(IF(C442<>\"\",TEXT(C442,\"\"),\"\"),\" - \",IF(K442<>\"\",TEXT(K442,\"\"),\"\")))","v":""},"",{"$f":"IF(D442<>\"\",D442,\"\")","v":""},{"$f":"IF(E442<>\"\",E442,\"\")","v":""},{"$f":"IF(F442<>\"\",F442,\"\")","v":""},{"$f":"IF(N442<>\"\",IF(D443<>\"\",D443,D442),\"\")","v":""},{"$f":"IF(N442<>\"\",IF(E443<>\"\",E443,E442),\"\")","v":""},{"$f":"IF(N442<>\"\",IF(F443<>\"\",F443,F442),\"\")","v":""}]
[null,null,null,null,null,null,null,null,null,null,null,null,null,null,null,""]
[null,null,null,null,null,null,null,null,null,null,null,null,null,{"$f":"IF(A444<>\"\",TEXT(A444,\"\"),\"\")","v":""},{"$f":"IF(N444=\"\",\"\",CONCATENATE(IF(C444<>\"\",TEXT(C444,\"\"),\"\"),\" - \",IF(K444<>\"\",TEXT(K444,\"\"),\"\")))","v":""},"",{"$f":"IF(D444<>\"\",D444,\"\")","v":""},{"$f":"IF(E444<>\"\",E444,\"\")","v":""},{"$f":"IF(F444<>\"\",F444,\"\")","v":""},{"$f":"IF(N444<>\"\",IF(D445<>\"\",D445,D444),\"\")","v":""},{"$f":"IF(N444<>\"\",IF(E445<>\"\",E445,E444),\"\")","v":""},{"$f":"IF(N444<>\"\",IF(F445<>\"\",F445,F444),\"\")","v":""}]
[null,null,null,null,null,null,null,null,null,null,null,null,null,null,null,""]
[null,null,null,null,null,null,null,null,null,null,null,null,null,{"$f":"IF(A446<>\"\",TEXT(A446,\"\"),\"\")","v":""},{"$f":"IF(N446=\"\",\"\",CONCATENATE(IF(C446<>\"\",TEXT(C446,\"\"),\"\"),\" - \",IF(K446<>\"\",TEXT(K446,\"\"),\"\")))","v":""},"",{"$f":"IF(D446<>\"\",D446,\"\")","v":""},{"$f":"IF(E446<>\"\",E446,\"\")","v":""},{"$f":"IF(F446<>\"\",F446,\"\")","v":""},{"$f":"IF(N446<>\"\",IF(D447<>\"\",D447,D446),\"\")","v":""},{"$f":"IF(N446<>\"\",IF(E447<>\"\",E447,E446),\"\")","v":""},{"$f":"IF(N446<>\"\",IF(F447<>\"\",F447,F446),\"\")","v":""}]
[null,null,null,null,null,null,null,null,null,null,null,null,null,null,null,""]
[null,null,null,null,null,null,null,null,null,null,null,null,null,{"$f":"IF(A448<>\"\",TEXT(A448,\"\"),\"\")","v":""},{"$f":"IF(N448=\"\",\"\",CONCATENATE(IF(C448<>\"\",TEXT(C448,\"\"),\"\"),\" - \",IF(K448<>\"\",TEXT(K448,\"\"),\"\")))","v":""},"",{"$f":"IF(D448<>\"\",D448,\"\")","v":""},{"$f":"IF(E448<>\"\",E448,\"\")","v":""},{"$f":"IF(F448<>\"\",F448,\"\")","v":""},{"$f":"IF(N448<>\"\",IF(D449<>\"\",D449,D448),\"\")","v":""},{"$f":"IF(N448<>\"\",IF(E449<>\"\",E449,E448),\"\")","v":""},{"$f":"IF(N448<>\"\",IF(F449<>\"\",F449,F448),\"\")","v":""}]
[null,null,null,null,null,null,null,null,null,null,null,null,null,null,null,""]
[null,null,null,null,null,null,null,null,null,null,null,null,null,{"$f":"IF(A450<>\"\",TEXT(A450,\"\"),\"\")","v":""},{"$f":"IF(N450=\"\",\"\",CONCATENATE(IF(C450<>\"\",TEXT(C450,\"\"),\"\"),\" - \",IF(K450<>\"\",TEXT(K450,\"\"),\"\")))","v":""},"",{"$f":"IF(D450<>\"\",D450,\"\")","v":""},{"$f":"IF(E450<>\"\",E450,\"\")","v":""},{"$f":"IF(F450<>\"\",F450,\"\")","v":""},{"$f":"IF(N450<>\"\",IF(D451<>\"\",D451,D450),\"\")","v":""},{"$f":"IF(N450<>\"\",IF(E451<>\"\",E451,E450),\"\")","v":""},{"$f":"IF(N450<>\"\",IF(F451<>\"\",F451,F450),\"\")","v":""}]
[null,null,null,null,null,null,null,null,null,null,null,null,null,null,null,{"$f":"SUBSTITUTE(SUBSTITUTE(SUBSTITUTE(SUBSTITUTE(IF(L451<>\"\",HLink(L451),\"\"),\"htm\",\"html\"),\"1x2\",\"analysis\"),\"www\",\"www\"),\"com\",\"vip\")","v":""}]
[null,null,null,null,null,null,null,null,null,null,null,null,null,{"$f":"IF(A452<>\"\",TEXT(A452,\"\"),\"\")","v":""},{"$f":"IF(N452=\"\",\"\",CONCATENATE(IF(C452<>\"\",TEXT(C452,\"\"),\"\"),\" - \",IF(K452<>\"\",TEXT(K452,\"\"),\"\")))","v":""},"",{"$f":"IF(D452<>\"\",D452,\"\")","v":""},{"$f":"IF(E452<>\"\",E452,\"\")","v":""},{"$f":"IF(F452<>\"\",F452,\"\")","v":""},{"$f":"IF(N452<>\"\",IF(D453<>\"\",D453,D452),\"\")","v":""},{"$f":"IF(N452<>\"\",IF(E453<>\"\",E453,E452),\"\")","v":""},{"$f":"IF(N452<>\"\",IF(F453<>\"\",F453,F452),\"\")","v":""}]
[null,null,null,null,null,null,null,null,null,null,null,null,null,null,null,""]
[null,null,null,null,null,null,null,null,null,null,null,null,null,{"$f":"IF(A454<>\"\",TEXT(A454,\"\"),\"\")","v":""},{"$f":"IF(N454=\"\",\"\",CONCATENATE(IF(C454<>\"\",TEXT(C454,\"\"),\"\"),\" - \",IF(K454<>\"\",TEXT(K454,\"\"),\"\")))","v":""},"",{"$f":"IF(D454<>\"\",D454,\"\")","v":""},{"$f":"IF(E454<>\"\",E454,\"\")","v":""},{"$f":"IF(F454<>\"\",F454,\"\")","v":""},{"$f":"IF(N454<>\"\",IF(D455<>\"\",D455,D454),\"\")","v":""},{"$f":"IF(N454<>\"\",IF(E455<>\"\",E455,E454),\"\")","v":""},{"$f":"IF(N454<>\"\",IF(F455<>\"\",F455,F454),\"\")","v":""}]
[null,null,null,null,null,null,null,null,null,null,null,null,null,null,null,""]
[null,null,null,null,null,null,null,null,null,null,null,null,null,{"$f":"IF(A456<>\"\",TEXT(A456,\"\"),\"\")","v":""},{"$f":"IF(N456=\"\",\"\",CONCATENATE(IF(C456<>\"\",TEXT(C456,\"\"),\"\"),\" - \",IF(K456<>\"\",TEXT(K456,\"\"),\"\")))","v":""},"",{"$f":"IF(D456<>\"\",D456,\"\")","v":""},{"$f":"IF(E456<>\"\",E456,\"\")","v":""},{"$f":"IF(F456<>\"\",F456,\"\")","v":""},{"$f":"IF(N456<>\"\",IF(D457<>\"\",D457,D456),\"\")","v":""},{"$f":"IF(N456<>\"\",IF(E457<>\"\",E457,E456),\"\")","v":""},{"$f":"IF(N456<>\"\",IF(F457<>\"\",F457,F456),\"\")","v":""}]
[null,null,null,null,null,null,null,null,null,null,null,null,null,null,null,""]
[null,null,null,null,null,null,null,null,null,null,null,null,null,{"$f":"IF(A458<>\"\",TEXT(A458,\"\"),\"\")","v":""},{"$f":"IF(N458=\"\",\"\",CONCATENATE(IF(C458<>\"\",TEXT(C458,\"\"),\"\"),\" - \",IF(K458<>\"\",TEXT(K458,\"\"),\"\")))","v":""},"",{"$f":"IF(D458<>\"\",D458,\"\")","v":""},{"$f":"IF(E458<>\"\",E458,\"\")","v":""},{"$f":"IF(F458<>\"\",F458,\"\")","v":""},{"$f":"IF(N458<>\"\",IF(D459<>\"\",D459,D458),\"\")","v":""},{"$f":"IF(N458<>\"\",IF(E459<>\"\",E459,E458),\"\")","v":""},{"$f":"IF(N458<>\"\",IF(F459<>\"\",F459,F458),\"\")","v":""}]
[null,null,null,null,null,null,null,null,null,null,null,null,null,null,null,""]
[null,null,null,null,null,null,null,null,null,null,null,null,null,{"$f":"IF(A460<>\"\",TEXT(A460,\"\"),\"\")","v":""},{"$f":"IF(N460=\"\",\"\",CONCATENATE(IF(C460<>\"\",TEXT(C460,\"\"),\"\"),\" - \",IF(K460<>\"\",TEXT(K460,\"\"),\"\")))","v":""},"",{"$f":"IF(D460<>\"\",D460,\"\")","v":""},{"$f":"IF(E460<>\"\",E460,\"\")","v":""},{"$f":"IF(F460<>\"\",F460,\"\")","v":""},{"$f":"IF(N460<>\"\",IF(D461<>\"\",D461,D460),\"\")","v":""},{"$f":"IF(N460<>\"\",IF(E461<>\"\",E461,E460),\"\")","v":""},{"$f":"IF(N460<>\"\",IF(F461<>\"\",F461,F460),\"\")","v":""}]
[null,null,null,null,null,null,null,null,null,null,null,null,null,null,null,""]
[null,null,null,null,null,null,null,null,null,null,null,null,null,{"$f":"IF(A462<>\"\",TEXT(A462,\"\"),\"\")","v":""},{"$f":"IF(N462=\"\",\"\",CONCATENATE(IF(C462<>\"\",TEXT(C462,\"\"),\"\"),\" - \",IF(K462<>\"\",TEXT(K462,\"\"),\"\")))","v":""},"",{"$f":"IF(D462<>\"\",D462,\"\")","v":""},{"$f":"IF(E462<>\"\",E462,\"\")","v":""},{"$f":"IF(F462<>\"\",F462,\"\")","v":""},{"$f":"IF(N462<>\"\",IF(D463<>\"\",D463,D462),\"\")","v":""},{"$f":"IF(N462<>\"\",IF(E463<>\"\",E463,E462),\"\")","v":""},{"$f":"IF(N462<>\"\",IF(F463<>\"\",F463,F462),\"\")","v":""}]
[null,null,null,null,null,null,null,null,null,null,null,null,null,null,null,""]
[null,null,null,null,null,null,null,null,null,null,null,null,null,{"$f":"IF(A464<>\"\",TEXT(A464,\"\"),\"\")","v":""},{"$f":"IF(N464=\"\",\"\",CONCATENATE(IF(C464<>\"\",TEXT(C464,\"\"),\"\"),\" - \",IF(K464<>\"\",TEXT(K464,\"\"),\"\")))","v":""},"",{"$f":"IF(D464<>\"\",D464,\"\")","v":""},{"$f":"IF(E464<>\"\",E464,\"\")","v":""},{"$f":"IF(F464<>\"\",F464,\"\")","v":""},{"$f":"IF(N464<>\"\",IF(D465<>\"\",D465,D464),\"\")","v":""},{"$f":"IF(N464<>\"\",IF(E465<>\"\",E465,E464),\"\")","v":""},{"$f":"IF(N464<>\"\",IF(F465<>\"\",F465,F464),\"\")","v":""}]
[null,null,null,null,null,null,null,null,null,null,null,null,null,null,null,""]
[null,null,null,null,null,null,null,null,null,null,null,null,null,{"$f":"IF(A466<>\"\",TEXT(A466,\"\"),\"\")","v":""},{"$f":"IF(N466=\"\",\"\",CONCATENATE(IF(C466<>\"\",TEXT(C466,\"\"),\"\"),\" - \",IF(K466<>\"\",TEXT(K466,\"\"),\"\")))","v":""},"",{"$f":"IF(D466<>\"\",D466,\"\")","v":""},{"$f":"IF(E466<>\"\",E466,\"\")","v":""},{"$f":"IF(F466<>\"\",F466,\"\")","v":""},{"$f":"IF(N466<>\"\",IF(D467<>\"\",D467,D466),\"\")","v":""},{"$f":"IF(N466<>\"\",IF(E467<>\"\",E467,E466),\"\")","v":""},{"$f":"IF(N466<>\"\",IF(F467<>\"\",F467,F466),\"\")","v":""}]
[null,null,null,null,null,null,null,null,null,null,null,null,null,null,null,""]
[null,null,null,null,null,null,null,null,null,null,null,null,null,{"$f":"IF(A468<>\"\",TEXT(A468,\"\"),\"\")","v":""},{"$f":"IF(N468=\"\",\"\",CONCATENATE(IF(C468<>\"\",TEXT(C468,\"\"),\"\"),\" - \",IF(K468<>\"\",TEXT(K468,\"\"),\"\")))","v":""},"",{"$f":"IF(D468<>\"\",D468,\"\")","v":""},{"$f":"IF(E468<>\"\",E468,\"\")","v":""},{"$f":"IF(F468<>\"\",F468,\"\")","v":""},{"$f":"IF(N468<>\"\",IF(D469<>\"\",D469,D468),\"\")","v":""},{"$f":"IF(N468<>\"\",IF(E469<>\"\",E469,E468),\"\")","v":""},{"$f":"IF(N468<>\"\",IF(F469<>\"\",F469,F468),\"\")","v":""}]
[null,null,null,null,null,null,null,null,null,null,null,null,null,null,null,""]
[null,null,null,null,null,null,null,null,null,null,null,null,null,{"$f":"IF(A470<>\"\",TEXT(A470,\"\"),\"\")","v":""},{"$f":"IF(N470=\"\",\"\",CONCATENATE(IF(C470<>\"\",TEXT(C470,\"\"),\"\"),\" - \",IF(K470<>\"\",TEXT(K470,\"\"),\"\")))","v":""},"",{"$f":"IF(D470<>\"\",D470,\"\")","v":""},{"$f":"IF(E470<>\"\",E470,\"\")","v":""},{"$f":"IF(F470<>\"\",F470,\"\")","v":""},{"$f":"IF(N470<>\"\",IF(D471<>\"\",D471,D470),\"\")","v":""},{"$f":"IF(N470<>\"\",IF(E471<>\"\",E471,E470),\"\")","v":""},{"$f":"IF(N470<>\"\",IF(F471<>\"\",F471,F470),\"\")","v":""}]
[null,null,null,null,null,null,null,null,null,null,null,null,null,null,null,""]
[null,null,null,null,null,null,null,null,null,null,null,null,null,{"$f":"IF(A472<>\"\",TEXT(A472,\"\"),\"\")","v":""},{"$f":"IF(N472=\"\",\"\",CONCATENATE(IF(C472<>\"\",TEXT(C472,\"\"),\"\"),\" - \",IF(K472<>\"\",TEXT(K472,\"\"),\"\")))","v":""},"",{"$f":"IF(D472<>\"\",D472,\"\")","v":""},{"$f":"IF(E472<>\"\",E472,\"\")","v":""},{"$f":"IF(F472<>\"\",F472,\"\")","v":""},{"$f":"IF(N472<>\"\",IF(D473<>\"\",D473,D472),\"\")","v":""},{"$f":"IF(N472<>\"\",IF(E473<>\"\",E473,E472),\"\")","v":""},{"$f":"IF(N472<>\"\",IF(F473<>\"\",F473,F472),\"\")","v":""}]
[null,null,null,null,null,null,null,null,null,null,null,null,null,null,null,""]
[null,null,null,null,null,null,null,null,null,null,null,null,null,{"$f":"IF(A474<>\"\",TEXT(A474,\"\"),\"\")","v":""},{"$f":"IF(N474=\"\",\"\",CONCATENATE(IF(C474<>\"\",TEXT(C474,\"\"),\"\"),\" - \",IF(K474<>\"\",TEXT(K474,\"\"),\"\")))","v":""},"",{"$f":"IF(D474<>\"\",D474,\"\")","v":""},{"$f":"IF(E474<>\"\",E474,\"\")","v":""},{"$f":"IF(F474<>\"\",F474,\"\")","v":""},{"$f":"IF(N474<>\"\",IF(D475<>\"\",D475,D474),\"\")","v":""},{"$f":"IF(N474<>\"\",IF(E475<>\"\",E475,E474),\"\")","v":""},{"$f":"IF(N474<>\"\",IF(F475<>\"\",F475,F474),\"\")","v":""}]
[null,null,null,null,null,null,null,null,null,null,null,null,null,null,null,""]
[null,null,null,null,null,null,null,null,null,null,null,null,null,{"$f":"IF(A476<>\"\",TEXT(A476,\"\"),\"\")","v":""},{"$f":"IF(N476=\"\",\"\",CONCATENATE(IF(C476<>\"\",TEXT(C476,\"\"),\"\"),\" - \",IF(K476<>\"\",TEXT(K476,\"\"),\"\")))","v":""},"",{"$f":"IF(D476<>\"\",D476,\"\")","v":""},{"$f":"IF(E476<>\"\",E476,\"\")","v":""},{"$f":"IF(F476<>\"\",F476,\"\")","v":""},{"$f":"IF(N476<>\"\",IF(D477<>\"\",D477,D476),\"\")","v":""},{"$f":"IF(N476<>\"\",IF(E477<>\"\",E477,E476),\"\")","v":""},{"$f":"IF(N476<>\"\",IF(F477<>\"\",F477,F476),\"\")","v":""}]
[null,null,null,null,null,null,null,null,null,null,null,null,null,null,null,""]
[null,null,null,null,null,null,null,null,null,null,null,null,null,{"$f":"IF(A478<>\"\",TEXT(A478,\"\"),\"\")","v":""},{"$f":"IF(N478=\"\",\"\",CONCATENATE(IF(C478<>\"\",TEXT(C478,\"\"),\"\"),\" - \",IF(K478<>\"\",TEXT(K478,\"\"),\"\")))","v":""},"",{"$f":"IF(D478<>\"\",D478,\"\")","v":""},{"$f":"IF(E478<>\"\",E478,\"\")","v":""},{"$f":"IF(F478<>\"\",F478,\"\")","v":""},{"$f":"IF(N478<>\"\",IF(D479<>\"\",D479,D478),\"\")","v":""},{"$f":"IF(N478<>\"\",IF(E479<>\"\",E479,E478),\"\")","v":""},{"$f":"IF(N478<>\"\",IF(F479<>\"\",F479,F478),\"\")","v":""}]
[null,null,null,null,null,null,null,null,null,null,null,null,null,null,null,""]
[null,null,null,null,null,null,null,null,null,null,null,null,null,{"$f":"IF(A480<>\"\",TEXT(A480,\"\"),\"\")","v":""},{"$f":"IF(N480=\"\",\"\",CONCATENATE(IF(C480<>\"\",TEXT(C480,\"\"),\"\"),\" - \",IF(K480<>\"\",TEXT(K480,\"\"),\"\")))","v":""},"",{"$f":"IF(D480<>\"\",D480,\"\")","v":""},{"$f":"IF(E480<>\"\",E480,\"\")","v":""},{"$f":"IF(F480<>\"\",F480,\"\")","v":""},{"$f":"IF(N480<>\"\",IF(D481<>\"\",D481,D480),\"\")","v":""},{"$f":"IF(N480<>\"\",IF(E481<>\"\",E481,E480),\"\")","v":""},{"$f":"IF(N480<>\"\",IF(F481<>\"\",F481,F480),\"\")","v":""}]
[null,null,null,null,null,null,null,null,null,null,null,null,null,null,null,""]
[null,null,null,null,null,null,null,null,null,null,null,null,null,{"$f":"IF(A482<>\"\",TEXT(A482,\"\"),\"\")","v":""},{"$f":"IF(N482=\"\",\"\",CONCATENATE(IF(C482<>\"\",TEXT(C482,\"\"),\"\"),\" - \",IF(K482<>\"\",TEXT(K482,\"\"),\"\")))","v":""},"",{"$f":"IF(D482<>\"\",D482,\"\")","v":""},{"$f":"IF(E482<>\"\",E482,\"\")","v":""},{"$f":"IF(F482<>\"\",F482,\"\")","v":""},{"$f":"IF(N482<>\"\",IF(D483<>\"\",D483,D482),\"\")","v":""},{"$f":"IF(N482<>\"\",IF(E483<>\"\",E483,E482),\"\")","v":""},{"$f":"IF(N482<>\"\",IF(F483<>\"\",F483,F482),\"\")","v":""}]
[null,null,null,null,null,null,null,null,null,null,null,null,null,null,null,""]
[null,null,null,null,null,null,null,null,null,null,null,null,null,{"$f":"IF(A484<>\"\",TEXT(A484,\"\"),\"\")","v":""},{"$f":"IF(N484=\"\",\"\",CONCATENATE(IF(C484<>\"\",TEXT(C484,\"\"),\"\"),\" - \",IF(K484<>\"\",TEXT(K484,\"\"),\"\")))","v":""},"",{"$f":"IF(D484<>\"\",D484,\"\")","v":""},{"$f":"IF(E484<>\"\",E484,\"\")","v":""},{"$f":"IF(F484<>\"\",F484,\"\")","v":""},{"$f":"IF(N484<>\"\",IF(D485<>\"\",D485,D484),\"\")","v":""},{"$f":"IF(N484<>\"\",IF(E485<>\"\",E485,E484),\"\")","v":""},{"$f":"IF(N484<>\"\",IF(F485<>\"\",F485,F484),\"\")","v":""}]
[null,null,null,null,null,null,null,null,null,null,null,null,null,null,null,""]
[null,null,null,null,null,null,null,null,null,null,null,null,null,{"$f":"IF(A486<>\"\",TEXT(A486,\"\"),\"\")","v":""},{"$f":"IF(N486=\"\",\"\",CONCATENATE(IF(C486<>\"\",TEXT(C486,\"\"),\"\"),\" - \",IF(K486<>\"\",TEXT(K486,\"\"),\"\")))","v":""},"",{"$f":"IF(D486<>\"\",D486,\"\")","v":""},{"$f":"IF(E486<>\"\",E486,\"\")","v":""},{"$f":"IF(F486<>\"\",F486,\"\")","v":""},{"$f":"IF(N486<>\"\",IF(D487<>\"\",D487,D486),\"\")","v":""},{"$f":"IF(N486<>\"\",IF(E487<>\"\",E487,E486),\"\")","v":""},{"$f":"IF(N486<>\"\",IF(F487<>\"\",F487,F486),\"\")","v":""}]
[null,null,null,null,null,null,null,null,null,null,null,null,null,null,null,""]
[null,null,null,null,null,null,null,null,null,null,null,null,null,{"$f":"IF(A488<>\"\",TEXT(A488,\"\"),\"\")","v":""},{"$f":"IF(N488=\"\",\"\",CONCATENATE(IF(C488<>\"\",TEXT(C488,\"\"),\"\"),\" - \",IF(K488<>\"\",TEXT(K488,\"\"),\"\")))","v":""},"",{"$f":"IF(D488<>\"\",D488,\"\")","v":""},{"$f":"IF(E488<>\"\",E488,\"\")","v":""},{"$f":"IF(F488<>\"\",F488,\"\")","v":""},{"$f":"IF(N488<>\"\",IF(D489<>\"\",D489,D488),\"\")","v":""},{"$f":"IF(N488<>\"\",IF(E489<>\"\",E489,E488),\"\")","v":""},{"$f":"IF(N488<>\"\",IF(F489<>\"\",F489,F488),\"\")","v":""}]
[null,null,null,null,null,null,null,null,null,null,null,null,null,null,null,""]
[null,null,null,null,null,null,null,null,null,null,null,null,null,{"$f":"IF(A490<>\"\",TEXT(A490,\"\"),\"\")","v":""},{"$f":"IF(N490=\"\",\"\",CONCATENATE(IF(C490<>\"\",TEXT(C490,\"\"),\"\"),\" - \",IF(K490<>\"\",TEXT(K490,\"\"),\"\")))","v":""},"",{"$f":"IF(D490<>\"\",D490,\"\")","v":""},{"$f":"IF(E490<>\"\",E490,\"\")","v":""},{"$f":"IF(F490<>\"\",F490,\"\")","v":""},{"$f":"IF(N490<>\"\",IF(D491<>\"\",D491,D490),\"\")","v":""},{"$f":"IF(N490<>\"\",IF(E491<>\"\",E491,E490),\"\")","v":""},{"$f":"IF(N490<>\"\",IF(F491<>\"\",F491,F490),\"\")","v":""}]
[null,null,null,null,null,null,null,null,null,null,null,null,null,null,null,""]
[null,null,null,null,null,null,null,null,null,null,null,null,null,{"$f":"IF(A492<>\"\",TEXT(A492,\"\"),\"\")","v":""},{"$f":"IF(N492=\"\",\"\",CONCATENATE(IF(C492<>\"\",TEXT(C492,\"\"),\"\"),\" - \",IF(K492<>\"\",TEXT(K492,\"\"),\"\")))","v":""},"",{"$f":"IF(D492<>\"\",D492,\"\")","v":""},{"$f":"IF(E492<>\"\",E492,\"\")","v":""},{"$f":"IF(F492<>\"\",F492,\"\")","v":""},{"$f":"IF(N492<>\"\",IF(D493<>\"\",D493,D492),\"\")","v":""},{"$f":"IF(N492<>\"\",IF(E493<>\"\",E493,E492),\"\")","v":""},{"$f":"IF(N492<>\"\",IF(F493<>\"\",F493,F492),\"\")","v":""}]
[null,null,null,null,null,null,null,null,null,null,null,null,null,null,null,""]
[null,null,null,null,null,null,null,null,null,null,null,null,null,{"$f":"IF(A494<>\"\",TEXT(A494,\"\"),\"\")","v":""},{"$f":"IF(N494=\"\",\"\",CONCATENATE(IF(C494<>\"\",TEXT(C494,\"\"),\"\"),\" - \",IF(K494<>\"\",TEXT(K494,\"\"),\"\")))","v":""},"",{"$f":"IF(D494<>\"\",D494,\"\")","v":""},{"$f":"IF(E494<>\"\",E494,\"\")","v":""},{"$f":"IF(F494<>\"\",F494,\"\")","v":""},{"$f":"IF(N494<>\"\",IF(D495<>\"\",D495,D494),\"\")","v":""},{"$f":"IF(N494<>\"\",IF(E495<>\"\",E495,E494),\"\")","v":""},{"$f":"IF(N494<>\"\",IF(F495<>\"\",F495,F494),\"\")","v":""}]
[null,null,null,null,null,null,null,null,null,null,null,null,null,null,null,""]
[null,null,null,null,null,null,null,null,null,null,null,null,null,{"$f":"IF(A496<>\"\",TEXT(A496,\"\"),\"\")","v":""},{"$f":"IF(N496=\"\",\"\",CONCATENATE(IF(C496<>\"\",TEXT(C496,\"\"),\"\"),\" - \",IF(K496<>\"\",TEXT(K496,\"\"),\"\")))","v":""},"",{"$f":"IF(D496<>\"\",D496,\"\")","v":""},{"$f":"IF(E496<>\"\",E496,\"\")","v":""},{"$f":"IF(F496<>\"\",F496,\"\")","v":""},{"$f":"IF(N496<>\"\",IF(D497<>\"\",D497,D496),\"\")","v":""},{"$f":"IF(N496<>\"\",IF(E497<>\"\",E497,E496),\"\")","v":""},{"$f":"IF(N496<>\"\",IF(F497<>\"\",F497,F496),\"\")","v":""}]
[null,null,null,null,null,null,null,null,null,null,null,null,null,null,null,""]
[null,null,null,null,null,null,null,null,null,null,null,null,null,{"$f":"IF(A498<>\"\",TEXT(A498,\"\"),\"\")","v":""},{"$f":"IF(N498=\"\",\"\",CONCATENATE(IF(C498<>\"\",TEXT(C498,\"\"),\"\"),\" - \",IF(K498<>\"\",TEXT(K498,\"\"),\"\")))","v":""},"",{"$f":"IF(D498<>\"\",D498,\"\")","v":""},{"$f":"IF(E498<>\"\",E498,\"\")","v":""},{"$f":"IF(F498<>\"\",F498,\"\")","v":""},{"$f":"IF(N498<>\"\",IF(D499<>\"\",D499,D498),\"\")","v":""},{"$f":"IF(N498<>\"\",IF(E499<>\"\",E499,E498),\"\")","v":""},{"$f":"IF(N498<>\"\",IF(F499<>\"\",F499,F498),\"\")","v":""}]
[null,null,null,null,null,null,null,null,null,null,null,null,null,null,null,""]
[null,null,null,null,null,null,null,null,null,null,null,null,null,{"$f":"IF(A500<>\"\",TEXT(A500,\"\"),\"\")","v":""},{"$f":"IF(N500=\"\",\"\",CONCATENATE(IF(C500<>\"\",TEXT(C500,\"\"),\"\"),\" - \",IF(K500<>\"\",TEXT(K500,\"\"),\"\")))","v":""},"",{"$f":"IF(D500<>\"\",D500,\"\")","v":""},{"$f":"IF(E500<>\"\",E500,\"\")","v":""},{"$f":"IF(F500<>\"\",F500,\"\")","v":""},{"$f":"IF(N500<>\"\",IF(D501<>\"\",D501,D500),\"\")","v":""},{"$f":"IF(N500<>\"\",IF(E501<>\"\",E501,E500),\"\")","v":""},{"$f":"IF(N500<>\"\",IF(F501<>\"\",F501,F500),\"\")","v":""}]
[null,null,null,null,null,null,null,null,null,null,null,null,null,null,null,""]
[null,null,null,null,null,null,null,null,null,null,null,null,null,{"$f":"IF(A502<>\"\",TEXT(A502,\"\"),\"\")","v":""},{"$f":"IF(N502=\"\",\"\",CONCATENATE(IF(C502<>\"\",TEXT(C502,\"\"),\"\"),\" - \",IF(K502<>\"\",TEXT(K502,\"\"),\"\")))","v":""},"",{"$f":"IF(D502<>\"\",D502,\"\")","v":""},{"$f":"IF(E502<>\"\",E502,\"\")","v":""},{"$f":"IF(F502<>\"\",F502,\"\")","v":""},{"$f":"IF(N502<>\"\",IF(D503<>\"\",D503,D502),\"\")","v":""},{"$f":"IF(N502<>\"\",IF(E503<>\"\",E503,E502),\"\")","v":""},{"$f":"IF(N502<>\"\",IF(F503<>\"\",F503,F502),\"\")","v":""}]
[null,null,null,null,null,null,null,null,null,null,null,null,null,null,null,""]
[null,null,null,null,null,null,null,null,null,null,null,null,null,{"$f":"IF(A504<>\"\",TEXT(A504,\"\"),\"\")","v":""},{"$f":"IF(N504=\"\",\"\",CONCATENATE(IF(C504<>\"\",TEXT(C504,\"\"),\"\"),\" - \",IF(K504<>\"\",TEXT(K504,\"\"),\"\")))","v":""},"",{"$f":"IF(D504<>\"\",D504,\"\")","v":""},{"$f":"IF(E504<>\"\",E504,\"\")","v":""},{"$f":"IF(F504<>\"\",F504,\"\")","v":""},{"$f":"IF(N504<>\"\",IF(D505<>\"\",D505,D504),\"\")","v":""},{"$f":"IF(N504<>\"\",IF(E505<>\"\",E505,E504),\"\")","v":""},{"$f":"IF(N504<>\"\",IF(F505<>\"\",F505,F504),\"\")","v":""}]
[null,null,null,null,null,null,null,null,null,null,null,null,null,null,null,""]
[null,null,null,null,null,null,null,null,null,null,null,null,null,{"$f":"IF(A506<>\"\",TEXT(A506,\"\"),\"\")","v":""},{"$f":"IF(N506=\"\",\"\",CONCATENATE(IF(C506<>\"\",TEXT(C506,\"\"),\"\"),\" - \",IF(K506<>\"\",TEXT(K506,\"\"),\"\")))","v":""},"",{"$f":"IF(D506<>\"\",D506,\"\")","v":""},{"$f":"IF(E506<>\"\",E506,\"\")","v":""},{"$f":"IF(F506<>\"\",F506,\"\")","v":""},{"$f":"IF(N506<>\"\",IF(D507<>\"\",D507,D506),\"\")","v":""},{"$f":"IF(N506<>\"\",IF(E507<>\"\",E507,E506),\"\")","v":""},{"$f":"IF(N506<>\"\",IF(F507<>\"\",F507,F506),\"\")","v":""}]
[null,null,null,null,null,null,null,null,null,null,null,null,null,null,null,""]
[null,null,null,null,null,null,null,null,null,null,null,null,null,{"$f":"IF(A508<>\"\",TEXT(A508,\"\"),\"\")","v":""},{"$f":"IF(N508=\"\",\"\",CONCATENATE(IF(C508<>\"\",TEXT(C508,\"\"),\"\"),\" - \",IF(K508<>\"\",TEXT(K508,\"\"),\"\")))","v":""},"",{"$f":"IF(D508<>\"\",D508,\"\")","v":""},{"$f":"IF(E508<>\"\",E508,\"\")","v":""},{"$f":"IF(F508<>\"\",F508,\"\")","v":""},{"$f":"IF(N508<>\"\",IF(D509<>\"\",D509,D508),\"\")","v":""},{"$f":"IF(N508<>\"\",IF(E509<>\"\",E509,E508),\"\")","v":""},{"$f":"IF(N508<>\"\",IF(F509<>\"\",F509,F508),\"\")","v":""}]
[null,null,null,null,null,null,null,null,null,null,null,null,null,null,null,""]
[null,null,null,null,null,null,null,null,null,null,null,null,null,{"$f":"IF(A510<>\"\",TEXT(A510,\"\"),\"\")","v":""},{"$f":"IF(N510=\"\",\"\",CONCATENATE(IF(C510<>\"\",TEXT(C510,\"\"),\"\"),\" - \",IF(K510<>\"\",TEXT(K510,\"\"),\"\")))","v":""},"",{"$f":"IF(D510<>\"\",D510,\"\")","v":""},{"$f":"IF(E510<>\"\",E510,\"\")","v":""},{"$f":"IF(F510<>\"\",F510,\"\")","v":""},{"$f":"IF(N510<>\"\",IF(D511<>\"\",D511,D510),\"\")","v":""},{"$f":"IF(N510<>\"\",IF(E511<>\"\",E511,E510),\"\")","v":""},{"$f":"IF(N510<>\"\",IF(F511<>\"\",F511,F510),\"\")","v":""}]
[null,null,null,null,null,null,null,null,null,null,null,null,null,null,null,""]
[null,null,null,null,null,null,null,null,null,null,null,null,null,{"$f":"IF(A512<>\"\",TEXT(A512,\"\"),\"\")","v":""},{"$f":"IF(N512=\"\",\"\",CONCATENATE(IF(C512<>\"\",TEXT(C512,\"\"),\"\"),\" - \",IF(K512<>\"\",TEXT(K512,\"\"),\"\")))","v":""},"",{"$f":"IF(D512<>\"\",D512,\"\")","v":""},{"$f":"IF(E512<>\"\",E512,\"\")","v":""},{"$f":"IF(F512<>\"\",F512,\"\")","v":""},{"$f":"IF(N512<>\"\",IF(D513<>\"\",D513,D512),\"\")","v":""},{"$f":"IF(N512<>\"\",IF(E513<>\"\",E513,E512),\"\")","v":""},{"$f":"IF(N512<>\"\",IF(F513<>\"\",F513,F512),\"\")","v":""}]
[null,null,null,null,null,null,null,null,null,null,null,null,null,null,null,""]
[null,null,null,null,null,null,null,null,null,null,null,null,null,{"$f":"IF(A514<>\"\",TEXT(A514,\"\"),\"\")","v":""},{"$f":"IF(N514=\"\",\"\",CONCATENATE(IF(C514<>\"\",TEXT(C514,\"\"),\"\"),\" - \",IF(K514<>\"\",TEXT(K514,\"\"),\"\")))","v":""},"",{"$f":"IF(D514<>\"\",D514,\"\")","v":""},{"$f":"IF(E514<>\"\",E514,\"\")","v":""},{"$f":"IF(F514<>\"\",F514,\"\")","v":""},{"$f":"IF(N514<>\"\",IF(D515<>\"\",D515,D514),\"\")","v":""},{"$f":"IF(N514<>\"\",IF(E515<>\"\",E515,E514),\"\")","v":""},{"$f":"IF(N514<>\"\",IF(F515<>\"\",F515,F514),\"\")","v":""}]
[null,null,null,null,null,null,null,null,null,null,null,null,null,null,null,{"$f":"SUBSTITUTE(SUBSTITUTE(SUBSTITUTE(SUBSTITUTE(IF(L515<>\"\",HLink(L515),\"\"),\"htm\",\"html\"),\"1x2\",\"analysis\"),\"www\",\"www\"),\"com\",\"vip\")","v":""}]
[null,null,null,null,null,null,null,null,null,null,null,null,null,{"$f":"IF(A516<>\"\",TEXT(A516,\"\"),\"\")","v":""},{"$f":"IF(N516=\"\",\"\",CONCATENATE(IF(C516<>\"\",TEXT(C516,\"\"),\"\"),\" - \",IF(K516<>\"\",TEXT(K516,\"\"),\"\")))","v":""},"",{"$f":"IF(D516<>\"\",D516,\"\")","v":""},{"$f":"IF(E516<>\"\",E516,\"\")","v":""},{"$f":"IF(F516<>\"\",F516,\"\")","v":""},{"$f":"IF(N516<>\"\",IF(D517<>\"\",D517,D516),\"\")","v":""},{"$f":"IF(N516<>\"\",IF(E517<>\"\",E517,E516),\"\")","v":""},{"$f":"IF(N516<>\"\",IF(F517<>\"\",F517,F516),\"\")","v":""}]
[null,null,null,null,null,null,null,null,null,null,null,null,null,null,null,""]
[null,null,null,null,null,null,null,null,null,null,null,null,null,{"$f":"IF(A518<>\"\",TEXT(A518,\"\"),\"\")","v":""},{"$f":"IF(N518=\"\",\"\",CONCATENATE(IF(C518<>\"\",TEXT(C518,\"\"),\"\"),\" - \",IF(K518<>\"\",TEXT(K518,\"\"),\"\")))","v":""},"",{"$f":"IF(D518<>\"\",D518,\"\")","v":""},{"$f":"IF(E518<>\"\",E518,\"\")","v":""},{"$f":"IF(F518<>\"\",F518,\"\")","v":""},{"$f":"IF(N518<>\"\",IF(D519<>\"\",D519,D518),\"\")","v":""},{"$f":"IF(N518<>\"\",IF(E519<>\"\",E519,E518),\"\")","v":""},{"$f":"IF(N518<>\"\",IF(F519<>\"\",F519,F518),\"\")","v":""}]
[null,null,null,null,null,null,null,null,null,null,null,null,null,null,null,""]
[null,null,null,null,null,null,null,null,null,null,null,null,null,{"$f":"IF(A520<>\"\",TEXT(A520,\"\"),\"\")","v":""},{"$f":"IF(N520=\"\",\"\",CONCATENATE(IF(C520<>\"\",TEXT(C520,\"\"),\"\"),\" - \",IF(K520<>\"\",TEXT(K520,\"\"),\"\")))","v":""},"",{"$f":"IF(D520<>\"\",D520,\"\")","v":""},{"$f":"IF(E520<>\"\",E520,\"\")","v":""},{"$f":"IF(F520<>\"\",F520,\"\")","v":""},{"$f":"IF(N520<>\"\",IF(D521<>\"\",D521,D520),\"\")","v":""},{"$f":"IF(N520<>\"\",IF(E521<>\"\",E521,E520),\"\")","v":""},{"$f":"IF(N520<>\"\",IF(F521<>\"\",F521,F520),\"\")","v":""}]
[null,null,null,null,null,null,null,null,null,null,null,null,null,null,null,""]
[null,null,null,null,null,null,null,null,null,null,null,null,null,{"$f":"IF(A522<>\"\",TEXT(A522,\"\"),\"\")","v":""},{"$f":"IF(N522=\"\",\"\",CONCATENATE(IF(C522<>\"\",TEXT(C522,\"\"),\"\"),\" - \",IF(K522<>\"\",TEXT(K522,\"\"),\"\")))","v":""},"",{"$f":"IF(D522<>\"\",D522,\"\")","v":""},{"$f":"IF(E522<>\"\",E522,\"\")","v":""},{"$f":"IF(F522<>\"\",F522,\"\")","v":""},{"$f":"IF(N522<>\"\",IF(D523<>\"\",D523,D522),\"\")","v":""},{"$f":"IF(N522<>\"\",IF(E523<>\"\",E523,E522),\"\")","v":""},{"$f":"IF(N522<>\"\",IF(F523<>\"\",F523,F522),\"\")","v":""}]
[null,null,null,null,null,null,null,null,null,null,null,null,null,null,null,""]
[null,null,null,null,null,null,null,null,null,null,null,null,null,{"$f":"IF(A524<>\"\",TEXT(A524,\"\"),\"\")","v":""},{"$f":"IF(N524=\"\",\"\",CONCATENATE(IF(C524<>\"\",TEXT(C524,\"\"),\"\"),\" - \",IF(K524<>\"\",TEXT(K524,\"\"),\"\")))","v":""},"",{"$f":"IF(D524<>\"\",D524,\"\")","v":""},{"$f":"IF(E524<>\"\",E524,\"\")","v":""},{"$f":"IF(F524<>\"\",F524,\"\")","v":""},{"$f":"IF(N524<>\"\",IF(D525<>\"\",D525,D524),\"\")","v":""},{"$f":"IF(N524<>\"\",IF(E525<>\"\",E525,E524),\"\")","v":""},{"$f":"IF(N524<>\"\",IF(F525<>\"\",F525,F524),\"\")","v":""}]
[null,null,null,null,null,null,null,null,null,null,null,null,null,null,null,""]
[null,null,null,null,null,null,null,null,null,null,null,null,null,{"$f":"IF(A526<>\"\",TEXT(A526,\"\"),\"\")","v":""},{"$f":"IF(N526=\"\",\"\",CONCATENATE(IF(C526<>\"\",TEXT(C526,\"\"),\"\"),\" - \",IF(K526<>\"\",TEXT(K526,\"\"),\"\")))","v":""},"",{"$f":"IF(D526<>\"\",D526,\"\")","v":""},{"$f":"IF(E526<>\"\",E526,\"\")","v":""},{"$f":"IF(F526<>\"\",F526,\"\")","v":""},{"$f":"IF(N526<>\"\",IF(D527<>\"\",D527,D526),\"\")","v":""},{"$f":"IF(N526<>\"\",IF(E527<>\"\",E527,E526),\"\")","v":""},{"$f":"IF(N526<>\"\",IF(F527<>\"\",F527,F526),\"\")","v":""}]
[null,null,null,null,null,null,null,null,null,null,null,null,null,null,null,""]
[null,null,null,null,null,null,null,null,null,null,null,null,null,{"$f":"IF(A528<>\"\",TEXT(A528,\"\"),\"\")","v":""},{"$f":"IF(N528=\"\",\"\",CONCATENATE(IF(C528<>\"\",TEXT(C528,\"\"),\"\"),\" - \",IF(K528<>\"\",TEXT(K528,\"\"),\"\")))","v":""},"",{"$f":"IF(D528<>\"\",D528,\"\")","v":""},{"$f":"IF(E528<>\"\",E528,\"\")","v":""},{"$f":"IF(F528<>\"\",F528,\"\")","v":""},{"$f":"IF(N528<>\"\",IF(D529<>\"\",D529,D528),\"\")","v":""},{"$f":"IF(N528<>\"\",IF(E529<>\"\",E529,E528),\"\")","v":""},{"$f":"IF(N528<>\"\",IF(F529<>\"\",F529,F528),\"\")","v":""}]
[null,null,null,null,null,null,null,null,null,null,null,null,null,null,null,""]
[null,null,null,null,null,null,null,null,null,null,null,null,null,{"$f":"IF(A530<>\"\",TEXT(A530,\"\"),\"\")","v":""},{"$f":"IF(N530=\"\",\"\",CONCATENATE(IF(C530<>\"\",TEXT(C530,\"\"),\"\"),\" - \",IF(K530<>\"\",TEXT(K530,\"\"),\"\")))","v":""},"",{"$f":"IF(D530<>\"\",D530,\"\")","v":""},{"$f":"IF(E530<>\"\",E530,\"\")","v":""},{"$f":"IF(F530<>\"\",F530,\"\")","v":""},{"$f":"IF(N530<>\"\",IF(D531<>\"\",D531,D530),\"\")","v":""},{"$f":"IF(N530<>\"\",IF(E531<>\"\",E531,E530),\"\")","v":""},{"$f":"IF(N530<>\"\",IF(F531<>\"\",F531,F530),\"\")","v":""}]
[null,null,null,null,null,null,null,null,null,null,null,null,null,null,null,""]
[null,null,null,null,null,null,null,null,null,null,null,null,null,{"$f":"IF(A532<>\"\",TEXT(A532,\"\"),\"\")","v":""},{"$f":"IF(N532=\"\",\"\",CONCATENATE(IF(C532<>\"\",TEXT(C532,\"\"),\"\"),\" - \",IF(K532<>\"\",TEXT(K532,\"\"),\"\")))","v":""},"",{"$f":"IF(D532<>\"\",D532,\"\")","v":""},{"$f":"IF(E532<>\"\",E532,\"\")","v":""},{"$f":"IF(F532<>\"\",F532,\"\")","v":""},{"$f":"IF(N532<>\"\",IF(D533<>\"\",D533,D532),\"\")","v":""},{"$f":"IF(N532<>\"\",IF(E533<>\"\",E533,E532),\"\")","v":""},{"$f":"IF(N532<>\"\",IF(F533<>\"\",F533,F532),\"\")","v":""}]
[null,null,null,null,null,null,null,null,null,null,null,null,null,null,null,""]
[null,null,null,null,null,null,null,null,null,null,null,null,null,{"$f":"IF(A534<>\"\",TEXT(A534,\"\"),\"\")","v":""},{"$f":"IF(N534=\"\",\"\",CONCATENATE(IF(C534<>\"\",TEXT(C534,\"\"),\"\"),\" - \",IF(K534<>\"\",TEXT(K534,\"\"),\"\")))","v":""},"",{"$f":"IF(D534<>\"\",D534,\"\")","v":""},{"$f":"IF(E534<>\"\",E534,\"\")","v":""},{"$f":"IF(F534<>\"\",F534,\"\")","v":""},{"$f":"IF(N534<>\"\",IF(D535<>\"\",D535,D534),\"\")","v":""},{"$f":"IF(N534<>\"\",IF(E535<>\"\",E535,E534),\"\")","v":""},{"$f":"IF(N534<>\"\",IF(F535<>\"\",F535,F534),\"\")","v":""}]
[null,null,null,null,null,null,null,null,null,null,null,null,null,null,null,""]
[null,null,null,null,null,null,null,null,null,null,null,null,null,{"$f":"IF(A536<>\"\",TEXT(A536,\"\"),\"\")","v":""},{"$f":"IF(N536=\"\",\"\",CONCATENATE(IF(C536<>\"\",TEXT(C536,\"\"),\"\"),\" - \",IF(K536<>\"\",TEXT(K536,\"\"),\"\")))","v":""},"",{"$f":"IF(D536<>\"\",D536,\"\")","v":""},{"$f":"IF(E536<>\"\",E536,\"\")","v":""},{"$f":"IF(F536<>\"\",F536,\"\")","v":""},{"$f":"IF(N536<>\"\",IF(D537<>\"\",D537,D536),\"\")","v":""},{"$f":"IF(N536<>\"\",IF(E537<>\"\",E537,E536),\"\")","v":""},{"$f":"IF(N536<>\"\",IF(F537<>\"\",F537,F536),\"\")","v":""}]
[null,null,null,null,null,null,null,null,null,null,null,null,null,null,null,""]
[null,null,null,null,null,null,null,null,null,null,null,null,null,{"$f":"IF(A538<>\"\",TEXT(A538,\"\"),\"\")","v":""},{"$f":"IF(N538=\"\",\"\",CONCATENATE(IF(C538<>\"\",TEXT(C538,\"\"),\"\"),\" - \",IF(K538<>\"\",TEXT(K538,\"\"),\"\")))","v":""},"",{"$f":"IF(D538<>\"\",D538,\"\")","v":""},{"$f":"IF(E538<>\"\",E538,\"\")","v":""},{"$f":"IF(F538<>\"\",F538,\"\")","v":""},{"$f":"IF(N538<>\"\",IF(D539<>\"\",D539,D538),\"\")","v":""},{"$f":"IF(N538<>\"\",IF(E539<>\"\",E539,E538),\"\")","v":""},{"$f":"IF(N538<>\"\",IF(F539<>\"\",F539,F538),\"\")","v":""}]
[null,null,null,null,null,null,null,null,null,null,null,null,null,null,null,""]
[null,null,null,null,null,null,null,null,null,null,null,null,null,{"$f":"IF(A540<>\"\",TEXT(A540,\"\"),\"\")","v":""},{"$f":"IF(N540=\"\",\"\",CONCATENATE(IF(C540<>\"\",TEXT(C540,\"\"),\"\"),\" - \",IF(K540<>\"\",TEXT(K540,\"\"),\"\")))","v":""},"",{"$f":"IF(D540<>\"\",D540,\"\")","v":""},{"$f":"IF(E540<>\"\",E540,\"\")","v":""},{"$f":"IF(F540<>\"\",F540,\"\")","v":""},{"$f":"IF(N540<>\"\",IF(D541<>\"\",D541,D540),\"\")","v":""},{"$f":"IF(N540<>\"\",IF(E541<>\"\",E541,E540),\"\")","v":""},{"$f":"IF(N540<>\"\",IF(F541<>\"\",F541,F540),\"\")","v":""}]
[null,null,null,null,null,null,null,null,null,null,null,null,null,null,null,""]
[null,null,null,null,null,null,null,null,null,null,null,null,null,{"$f":"IF(A542<>\"\",TEXT(A542,\"\"),\"\")","v":""},{"$f":"IF(N542=\"\",\"\",CONCATENATE(IF(C542<>\"\",TEXT(C542,\"\"),\"\"),\" - \",IF(K542<>\"\",TEXT(K542,\"\"),\"\")))","v":""},"",{"$f":"IF(D542<>\"\",D542,\"\")","v":""},{"$f":"IF(E542<>\"\",E542,\"\")","v":""},{"$f":"IF(F542<>\"\",F542,\"\")","v":""},{"$f":"IF(N542<>\"\",IF(D543<>\"\",D543,D542),\"\")","v":""},{"$f":"IF(N542<>\"\",IF(E543<>\"\",E543,E542),\"\")","v":""},{"$f":"IF(N542<>\"\",IF(F543<>\"\",F543,F542),\"\")","v":""}]
[null,null,null,null,null,null,null,null,null,null,null,null,null,null,null,""]
[null,null,null,null,null,null,null,null,null,null,null,null,null,{"$f":"IF(A544<>\"\",TEXT(A544,\"\"),\"\")","v":""},{"$f":"IF(N544=\"\",\"\",CONCATENATE(IF(C544<>\"\",TEXT(C544,\"\"),\"\"),\" - \",IF(K544<>\"\",TEXT(K544,\"\"),\"\")))","v":""},"",{"$f":"IF(D544<>\"\",D544,\"\")","v":""},{"$f":"IF(E544<>\"\",E544,\"\")","v":""},{"$f":"IF(F544<>\"\",F544,\"\")","v":""},{"$f":"IF(N544<>\"\",IF(D545<>\"\",D545,D544),\"\")","v":""},{"$f":"IF(N544<>\"\",IF(E545<>\"\",E545,E544),\"\")","v":""},{"$f":"IF(N544<>\"\",IF(F545<>\"\",F545,F544),\"\")","v":""}]
[null,null,null,null,null,null,null,null,null,null,null,null,null,null,null,""]
[null,null,null,null,null,null,null,null,null,null,null,null,null,{"$f":"IF(A546<>\"\",TEXT(A546,\"\"),\"\")","v":""},{"$f":"IF(N546=\"\",\"\",CONCATENATE(IF(C546<>\"\",TEXT(C546,\"\"),\"\"),\" - \",IF(K546<>\"\",TEXT(K546,\"\"),\"\")))","v":""},"",{"$f":"IF(D546<>\"\",D546,\"\")","v":""},{"$f":"IF(E546<>\"\",E546,\"\")","v":""},{"$f":"IF(F546<>\"\",F546,\"\")","v":""},{"$f":"IF(N546<>\"\",IF(D547<>\"\",D547,D546),\"\")","v":""},{"$f":"IF(N546<>\"\",IF(E547<>\"\",E547,E546),\"\")","v":""},{"$f":"IF(N546<>\"\",IF(F547<>\"\",F547,F546),\"\")","v":""}]
[null,null,null,null,null,null,null,null,null,null,null,null,null,null,null,""]
[null,null,null,null,null,null,null,null,null,null,null,null,null,{"$f":"IF(A548<>\"\",TEXT(A548,\"\"),\"\")","v":""},{"$f":"IF(N548=\"\",\"\",CONCATENATE(IF(C548<>\"\",TEXT(C548,\"\"),\"\"),\" - \",IF(K548<>\"\",TEXT(K548,\"\"),\"\")))","v":""},"",{"$f":"IF(D548<>\"\",D548,\"\")","v":""},{"$f":"IF(E548<>\"\",E548,\"\")","v":""},{"$f":"IF(F548<>\"\",F548,\"\")","v":""},{"$f":"IF(N548<>\"\",IF(D549<>\"\",D549,D548),\"\")","v":""},{"$f":"IF(N548<>\"\",IF(E549<>\"\",E549,E548),\"\")","v":""},{"$f":"IF(N548<>\"\",IF(F549<>\"\",F549,F548),\"\")","v":""}]
[null,null,null,null,null,null,null,null,null,null,null,null,null,null,null,""]
[null,null,null,null,null,null,null,null,null,null,null,null,null,{"$f":"IF(A550<>\"\",TEXT(A550,\"\"),\"\")","v":""},{"$f":"IF(N550=\"\",\"\",CONCATENATE(IF(C550<>\"\",TEXT(C550,\"\"),\"\"),\" - \",IF(K550<>\"\",TEXT(K550,\"\"),\"\")))","v":""},"",{"$f":"IF(D550<>\"\",D550,\"\")","v":""},{"$f":"IF(E550<>\"\",E550,\"\")","v":""},{"$f":"IF(F550<>\"\",F550,\"\")","v":""},{"$f":"IF(N550<>\"\",IF(D551<>\"\",D551,D550),\"\")","v":""},{"$f":"IF(N550<>\"\",IF(E551<>\"\",E551,E550),\"\")","v":""},{"$f":"IF(N550<>\"\",IF(F551<>\"\",F551,F550),\"\")","v":""}]
[null,null,null,null,null,null,null,null,null,null,null,null,null,null,null,""]
[null,null,null,null,null,null,null,null,null,null,null,null,null,{"$f":"IF(A552<>\"\",TEXT(A552,\"\"),\"\")","v":""},{"$f":"IF(N552=\"\",\"\",CONCATENATE(IF(C552<>\"\",TEXT(C552,\"\"),\"\"),\" - \",IF(K552<>\"\",TEXT(K552,\"\"),\"\")))","v":""},"",{"$f":"IF(D552<>\"\",D552,\"\")","v":""},{"$f":"IF(E552<>\"\",E552,\"\")","v":""},{"$f":"IF(F552<>\"\",F552,\"\")","v":""},{"$f":"IF(N552<>\"\",IF(D553<>\"\",D553,D552),\"\")","v":""},{"$f":"IF(N552<>\"\",IF(E553<>\"\",E553,E552),\"\")","v":""},{"$f":"IF(N552<>\"\",IF(F553<>\"\",F553,F552),\"\")","v":""}]
[null,null,null,null,null,null,null,null,null,null,null,null,null,null,null,""]
[null,null,null,null,null,null,null,null,null,null,null,null,null,{"$f":"IF(A554<>\"\",TEXT(A554,\"\"),\"\")","v":""},{"$f":"IF(N554=\"\",\"\",CONCATENATE(IF(C554<>\"\",TEXT(C554,\"\"),\"\"),\" - \",IF(K554<>\"\",TEXT(K554,\"\"),\"\")))","v":""},"",{"$f":"IF(D554<>\"\",D554,\"\")","v":""},{"$f":"IF(E554<>\"\",E554,\"\")","v":""},{"$f":"IF(F554<>\"\",F554,\"\")","v":""},{"$f":"IF(N554<>\"\",IF(D555<>\"\",D555,D554),\"\")","v":""},{"$f":"IF(N554<>\"\",IF(E555<>\"\",E555,E554),\"\")","v":""},{"$f":"IF(N554<>\"\",IF(F555<>\"\",F555,F554),\"\")","v":""}]
[null,null,null,null,null,null,null,null,null,null,null,null,null,null,null,""]
[null,null,null,null,null,null,null,null,null,null,null,null,null,{"$f":"IF(A556<>\"\",TEXT(A556,\"\"),\"\")","v":""},{"$f":"IF(N556=\"\",\"\",CONCATENATE(IF(C556<>\"\",TEXT(C556,\"\"),\"\"),\" - \",IF(K556<>\"\",TEXT(K556,\"\"),\"\")))","v":""},"",{"$f":"IF(D556<>\"\",D556,\"\")","v":""},{"$f":"IF(E556<>\"\",E556,\"\")","v":""},{"$f":"IF(F556<>\"\",F556,\"\")","v":""},{"$f":"IF(N556<>\"\",IF(D557<>\"\",D557,D556),\"\")","v":""},{"$f":"IF(N556<>\"\",IF(E557<>\"\",E557,E556),\"\")","v":""},{"$f":"IF(N556<>\"\",IF(F557<>\"\",F557,F556),\"\")","v":""}]
[null,null,null,null,null,null,null,null,null,null,null,null,null,null,null,""]
[null,null,null,null,null,null,null,null,null,null,null,null,null,{"$f":"IF(A558<>\"\",TEXT(A558,\"\"),\"\")","v":""},{"$f":"IF(N558=\"\",\"\",CONCATENATE(IF(C558<>\"\",TEXT(C558,\"\"),\"\"),\" - \",IF(K558<>\"\",TEXT(K558,\"\"),\"\")))","v":""},"",{"$f":"IF(D558<>\"\",D558,\"\")","v":""},{"$f":"IF(E558<>\"\",E558,\"\")","v":""},{"$f":"IF(F558<>\"\",F558,\"\")","v":""},{"$f":"IF(N558<>\"\",IF(D559<>\"\",D559,D558),\"\")","v":""},{"$f":"IF(N558<>\"\",IF(E559<>\"\",E559,E558),\"\")","v":""},{"$f":"IF(N558<>\"\",IF(F559<>\"\",F559,F558),\"\")","v":""}]
[null,null,null,null,null,null,null,null,null,null,null,null,null,null,null,""]
[null,null,null,null,null,null,null,null,null,null,null,null,null,{"$f":"IF(A560<>\"\",TEXT(A560,\"\"),\"\")","v":""},{"$f":"IF(N560=\"\",\"\",CONCATENATE(IF(C560<>\"\",TEXT(C560,\"\"),\"\"),\" - \",IF(K560<>\"\",TEXT(K560,\"\"),\"\")))","v":""},"",{"$f":"IF(D560<>\"\",D560,\"\")","v":""},{"$f":"IF(E560<>\"\",E560,\"\")","v":""},{"$f":"IF(F560<>\"\",F560,\"\")","v":""},{"$f":"IF(N560<>\"\",IF(D561<>\"\",D561,D560),\"\")","v":""},{"$f":"IF(N560<>\"\",IF(E561<>\"\",E561,E560),\"\")","v":""},{"$f":"IF(N560<>\"\",IF(F561<>\"\",F561,F560),\"\")","v":""}]
[null,null,null,null,null,null,null,null,null,null,null,null,null,null,null,""]
[null,null,null,null,null,null,null,null,null,null,null,null,null,{"$f":"IF(A562<>\"\",TEXT(A562,\"\"),\"\")","v":""},{"$f":"IF(N562=\"\",\"\",CONCATENATE(IF(C562<>\"\",TEXT(C562,\"\"),\"\"),\" - \",IF(K562<>\"\",TEXT(K562,\"\"),\"\")))","v":""},"",{"$f":"IF(D562<>\"\",D562,\"\")","v":""},{"$f":"IF(E562<>\"\",E562,\"\")","v":""},{"$f":"IF(F562<>\"\",F562,\"\")","v":""},{"$f":"IF(N562<>\"\",IF(D563<>\"\",D563,D562),\"\")","v":""},{"$f":"IF(N562<>\"\",IF(E563<>\"\",E563,E562),\"\")","v":""},{"$f":"IF(N562<>\"\",IF(F563<>\"\",F563,F562),\"\")","v":""}]
[null,null,null,null,null,null,null,null,null,null,null,null,null,null,null,""]
[null,null,null,null,null,null,null,null,null,null,null,null,null,{"$f":"IF(A564<>\"\",TEXT(A564,\"\"),\"\")","v":""},{"$f":"IF(N564=\"\",\"\",CONCATENATE(IF(C564<>\"\",TEXT(C564,\"\"),\"\"),\" - \",IF(K564<>\"\",TEXT(K564,\"\"),\"\")))","v":""},"",{"$f":"IF(D564<>\"\",D564,\"\")","v":""},{"$f":"IF(E564<>\"\",E564,\"\")","v":""},{"$f":"IF(F564<>\"\",F564,\"\")","v":""},{"$f":"IF(N564<>\"\",IF(D565<>\"\",D565,D564),\"\")","v":""},{"$f":"IF(N564<>\"\",IF(E565<>\"\",E565,E564),\"\")","v":""},{"$f":"IF(N564<>\"\",IF(F565<>\"\",F565,F564),\"\")","v":""}]
[null,null,null,null,null,null,null,null,null,null,null,null,null,null,null,""]
[null,null,null,null,null,null,null,null,null,null,null,null,null,{"$f":"IF(A566<>\"\",TEXT(A566,\"\"),\"\")","v":""},{"$f":"IF(N566=\"\",\"\",CONCATENATE(IF(C566<>\"\",TEXT(C566,\"\"),\"\"),\" - \",IF(K566<>\"\",TEXT(K566,\"\"),\"\")))","v":""},"",{"$f":"IF(D566<>\"\",D566,\"\")","v":""},{"$f":"IF(E566<>\"\",E566,\"\")","v":""},{"$f":"IF(F566<>\"\",F566,\"\")","v":""},{"$f":"IF(N566<>\"\",IF(D567<>\"\",D567,D566),\"\")","v":""},{"$f":"IF(N566<>\"\",IF(E567<>\"\",E567,E566),\"\")","v":""},{"$f":"IF(N566<>\"\",IF(F567<>\"\",F567,F566),\"\")","v":""}]
[null,null,null,null,null,null,null,null,null,null,null,null,null,null,null,""]
[null,null,null,null,null,null,null,null,null,null,null,null,null,{"$f":"IF(A568<>\"\",TEXT(A568,\"\"),\"\")","v":""},{"$f":"IF(N568=\"\",\"\",CONCATENATE(IF(C568<>\"\",TEXT(C568,\"\"),\"\"),\" - \",IF(K568<>\"\",TEXT(K568,\"\"),\"\")))","v":""},"",{"$f":"IF(D568<>\"\",D568,\"\")","v":""},{"$f":"IF(E568<>\"\",E568,\"\")","v":""},{"$f":"IF(F568<>\"\",F568,\"\")","v":""},{"$f":"IF(N568<>\"\",IF(D569<>\"\",D569,D568),\"\")","v":""},{"$f":"IF(N568<>\"\",IF(E569<>\"\",E569,E568),\"\")","v":""},{"$f":"IF(N568<>\"\",IF(F569<>\"\",F569,F568),\"\")","v":""}]
[null,null,null,null,null,null,null,null,null,null,null,null,null,null,null,""]
[null,null,null,null,null,null,null,null,null,null,null,null,null,{"$f":"IF(A570<>\"\",TEXT(A570,\"\"),\"\")","v":""},{"$f":"IF(N570=\"\",\"\",CONCATENATE(IF(C570<>\"\",TEXT(C570,\"\"),\"\"),\" - \",IF(K570<>\"\",TEXT(K570,\"\"),\"\")))","v":""},"",{"$f":"IF(D570<>\"\",D570,\"\")","v":""},{"$f":"IF(E570<>\"\",E570,\"\")","v":""},{"$f":"IF(F570<>\"\",F570,\"\")","v":""},{"$f":"IF(N570<>\"\",IF(D571<>\"\",D571,D570),\"\")","v":""},{"$f":"IF(N570<>\"\",IF(E571<>\"\",E571,E570),\"\")","v":""},{"$f":"IF(N570<>\"\",IF(F571<>\"\",F571,F570),\"\")","v":""}]
[null,null,null,null,null,null,null,null,null,null,null,null,null,null,null,""]
[null,null,null,null,null,null,null,null,null,null,null,null,null,{"$f":"IF(A572<>\"\",TEXT(A572,\"\"),\"\")","v":""},{"$f":"IF(N572=\"\",\"\",CONCATENATE(IF(C572<>\"\",TEXT(C572,\"\"),\"\"),\" - \",IF(K572<>\"\",TEXT(K572,\"\"),\"\")))","v":""},"",{"$f":"IF(D572<>\"\",D572,\"\")","v":""},{"$f":"IF(E572<>\"\",E572,\"\")","v":""},{"$f":"IF(F572<>\"\",F572,\"\")","v":""},{"$f":"IF(N572<>\"\",IF(D573<>\"\",D573,D572),\"\")","v":""},{"$f":"IF(N572<>\"\",IF(E573<>\"\",E573,E572),\"\")","v":""},{"$f":"IF(N572<>\"\",IF(F573<>\"\",F573,F572),\"\")","v":""}]
[null,null,null,null,null,null,null,null,null,null,null,null,null,null,null,""]
[null,null,null,null,null,null,null,null,null,null,null,null,null,{"$f":"IF(A574<>\"\",TEXT(A574,\"\"),\"\")","v":""},{"$f":"IF(N574=\"\",\"\",CONCATENATE(IF(C574<>\"\",TEXT(C574,\"\"),\"\"),\" - \",IF(K574<>\"\",TEXT(K574,\"\"),\"\")))","v":""},"",{"$f":"IF(D574<>\"\",D574,\"\")","v":""},{"$f":"IF(E574<>\"\",E574,\"\")","v":""},{"$f":"IF(F574<>\"\",F574,\"\")","v":""},{"$f":"IF(N574<>\"\",IF(D575<>\"\",D575,D574),\"\")","v":""},{"$f":"IF(N574<>\"\",IF(E575<>\"\",E575,E574),\"\")","v":""},{"$f":"IF(N574<>\"\",IF(F575<>\"\",F575,F574),\"\")","v":""}]
[null,null,null,null,null,null,null,null,null,null,null,null,null,null,null,""]
[null,null,null,null,null,null,null,null,null,null,null,null,null,{"$f":"IF(A576<>\"\",TEXT(A576,\"\"),\"\")","v":""},{"$f":"IF(N576=\"\",\"\",CONCATENATE(IF(C576<>\"\",TEXT(C576,\"\"),\"\"),\" - \",IF(K576<>\"\",TEXT(K576,\"\"),\"\")))","v":""},"",{"$f":"IF(D576<>\"\",D576,\"\")","v":""},{"$f":"IF(E576<>\"\",E576,\"\")","v":""},{"$f":"IF(F576<>\"\",F576,\"\")","v":""},{"$f":"IF(N576<>\"\",IF(D577<>\"\",D577,D576),\"\")","v":""},{"$f":"IF(N576<>\"\",IF(E577<>\"\",E577,E576),\"\")","v":""},{"$f":"IF(N576<>\"\",IF(F577<>\"\",F577,F576),\"\")","v":""}]
[null,null,null,null,null,null,null,null,null,null,null,null,null,null,null,""]
[null,null,null,null,null,null,null,null,null,null,null,null,null,{"$f":"IF(A578<>\"\",TEXT(A578,\"\"),\"\")","v":""},{"$f":"IF(N578=\"\",\"\",CONCATENATE(IF(C578<>\"\",TEXT(C578,\"\"),\"\"),\" - \",IF(K578<>\"\",TEXT(K578,\"\"),\"\")))","v":""},"",{"$f":"IF(D578<>\"\",D578,\"\")","v":""},{"$f":"IF(E578<>\"\",E578,\"\")","v":""},{"$f":"IF(F578<>\"\",F578,\"\")","v":""},{"$f":"IF(N578<>\"\",IF(D579<>\"\",D579,D578),\"\")","v":""},{"$f":"IF(N578<>\"\",IF(E579<>\"\",E579,E578),\"\")","v":""},{"$f":"IF(N578<>\"\",IF(F579<>\"\",F579,F578),\"\")","v":""}]
[null,null,null,null,null,null,null,null,null,null,null,null,null,null,null,{"$f":"SUBSTITUTE(SUBSTITUTE(SUBSTITUTE(SUBSTITUTE(IF(L579<>\"\",HLink(L579),\"\"),\"htm\",\"html\"),\"1x2\",\"analysis\"),\"www\",\"www\"),\"com\",\"vip\")","v":""}]
[null,null,null,null,null,null,null,null,null,null,null,null,null,{"$f":"IF(A580<>\"\",TEXT(A580,\"\"),\"\")","v":""},{"$f":"IF(N580=\"\",\"\",CONCATENATE(IF(C580<>\"\",TEXT(C580,\"\"),\"\"),\" - \",IF(K580<>\"\",TEXT(K580,\"\"),\"\")))","v":""},"",{"$f":"IF(D580<>\"\",D580,\"\")","v":""},{"$f":"IF(E580<>\"\",E580,\"\")","v":""},{"$f":"IF(F580<>\"\",F580,\"\")","v":""},{"$f":"IF(N580<>\"\",IF(D581<>\"\",D581,D580),\"\")","v":""},{"$f":"IF(N580<>\"\",IF(E581<>\"\",E581,E580),\"\")","v":""},{"$f":"IF(N580<>\"\",IF(F581<>\"\",F581,F580),\"\")","v":""}]
[null,null,null,null,null,null,null,null,null,null,null,null,null,null,null,""]
[null,null,null,null,null,null,null,null,null,null,null,null,null,{"$f":"IF(A582<>\"\",TEXT(A582,\"\"),\"\")","v":""},{"$f":"IF(N582=\"\",\"\",CONCATENATE(IF(C582<>\"\",TEXT(C582,\"\"),\"\"),\" - \",IF(K582<>\"\",TEXT(K582,\"\"),\"\")))","v":""},"",{"$f":"IF(D582<>\"\",D582,\"\")","v":""},{"$f":"IF(E582<>\"\",E582,\"\")","v":""},{"$f":"IF(F582<>\"\",F582,\"\")","v":""},{"$f":"IF(N582<>\"\",IF(D583<>\"\",D583,D582),\"\")","v":""},{"$f":"IF(N582<>\"\",IF(E583<>\"\",E583,E582),\"\")","v":""},{"$f":"IF(N582<>\"\",IF(F583<>\"\",F583,F582),\"\")","v":""}]
[null,null,null,null,null,null,null,null,null,null,null,null,null,null,null,""]
[null,null,null,null,null,null,null,null,null,null,null,null,null,{"$f":"IF(A584<>\"\",TEXT(A584,\"\"),\"\")","v":""},{"$f":"IF(N584=\"\",\"\",CONCATENATE(IF(C584<>\"\",TEXT(C584,\"\"),\"\"),\" - \",IF(K584<>\"\",TEXT(K584,\"\"),\"\")))","v":""},"",{"$f":"IF(D584<>\"\",D584,\"\")","v":""},{"$f":"IF(E584<>\"\",E584,\"\")","v":""},{"$f":"IF(F584<>\"\",F584,\"\")","v":""},{"$f":"IF(N584<>\"\",IF(D585<>\"\",D585,D584),\"\")","v":""},{"$f":"IF(N584<>\"\",IF(E585<>\"\",E585,E584),\"\")","v":""},{"$f":"IF(N584<>\"\",IF(F585<>\"\",F585,F584),\"\")","v":""}]
[null,null,null,null,null,null,null,null,null,null,null,null,null,null,null,""]
[null,null,null,null,null,null,null,null,null,null,null,null,null,{"$f":"IF(A586<>\"\",TEXT(A586,\"\"),\"\")","v":""},{"$f":"IF(N586=\"\",\"\",CONCATENATE(IF(C586<>\"\",TEXT(C586,\"\"),\"\"),\" - \",IF(K586<>\"\",TEXT(K586,\"\"),\"\")))","v":""},"",{"$f":"IF(D586<>\"\",D586,\"\")","v":""},{"$f":"IF(E586<>\"\",E586,\"\")","v":""},{"$f":"IF(F586<>\"\",F586,\"\")","v":""},{"$f":"IF(N586<>\"\",IF(D587<>\"\",D587,D586),\"\")","v":""},{"$f":"IF(N586<>\"\",IF(E587<>\"\",E587,E586),\"\")","v":""},{"$f":"IF(N586<>\"\",IF(F587<>\"\",F587,F586),\"\")","v":""}]
[null,null,null,null,null,null,null,null,null,null,null,null,null,null,null,""]
[null,null,null,null,null,null,null,null,null,null,null,null,null,{"$f":"IF(A588<>\"\",TEXT(A588,\"\"),\"\")","v":""},{"$f":"IF(N588=\"\",\"\",CONCATENATE(IF(C588<>\"\",TEXT(C588,\"\"),\"\"),\" - \",IF(K588<>\"\",TEXT(K588,\"\"),\"\")))","v":""},"",{"$f":"IF(D588<>\"\",D588,\"\")","v":""},{"$f":"IF(E588<>\"\",E588,\"\")","v":""},{"$f":"IF(F588<>\"\",F588,\"\")","v":""},{"$f":"IF(N588<>\"\",IF(D589<>\"\",D589,D588),\"\")","v":""},{"$f":"IF(N588<>\"\",IF(E589<>\"\",E589,E588),\"\")","v":""},{"$f":"IF(N588<>\"\",IF(F589<>\"\",F589,F588),\"\")","v":""}]
[null,null,null,null,null,null,null,null,null,null,null,null,null,null,null,""]
[null,null,null,null,null,null,null,null,null,null,null,null,null,{"$f":"IF(A590<>\"\",TEXT(A590,\"\"),\"\")","v":""},{"$f":"IF(N590=\"\",\"\",CONCATENATE(IF(C590<>\"\",TEXT(C590,\"\"),\"\"),\" - \",IF(K590<>\"\",TEXT(K590,\"\"),\"\")))","v":""},"",{"$f":"IF(D590<>\"\",D590,\"\")","v":""},{"$f":"IF(E590<>\"\",E590,\"\")","v":""},{"$f":"IF(F590<>\"\",F590,\"\")","v":""},{"$f":"IF(N590<>\"\",IF(D591<>\"\",D591,D590),\"\")","v":""},{"$f":"IF(N590<>\"\",IF(E591<>\"\",E591,E590),\"\")","v":""},{"$f":"IF(N590<>\"\",IF(F591<>\"\",F591,F590),\"\")","v":""}]
[null,null,null,null,null,null,null,null,null,null,null,null,null,null,null,""]
[null,null,null,null,null,null,null,null,null,null,null,null,null,{"$f":"IF(A592<>\"\",TEXT(A592,\"\"),\"\")","v":""},{"$f":"IF(N592=\"\",\"\",CONCATENATE(IF(C592<>\"\",TEXT(C592,\"\"),\"\"),\" - \",IF(K592<>\"\",TEXT(K592,\"\"),\"\")))","v":""},"",{"$f":"IF(D592<>\"\",D592,\"\")","v":""},{"$f":"IF(E592<>\"\",E592,\"\")","v":""},{"$f":"IF(F592<>\"\",F592,\"\")","v":""},{"$f":"IF(N592<>\"\",IF(D593<>\"\",D593,D592),\"\")","v":""},{"$f":"IF(N592<>\"\",IF(E593<>\"\",E593,E592),\"\")","v":""},{"$f":"IF(N592<>\"\",IF(F593<>\"\",F593,F592),\"\")","v":""}]
[null,null,null,null,null,null,null,null,null,null,null,null,null,null,null,""]
[null,null,null,null,null,null,null,null,null,null,null,null,null,{"$f":"IF(A594<>\"\",TEXT(A594,\"\"),\"\")","v":""},{"$f":"IF(N594=\"\",\"\",CONCATENATE(IF(C594<>\"\",TEXT(C594,\"\"),\"\"),\" - \",IF(K594<>\"\",TEXT(K594,\"\"),\"\")))","v":""},"",{"$f":"IF(D594<>\"\",D594,\"\")","v":""},{"$f":"IF(E594<>\"\",E594,\"\")","v":""},{"$f":"IF(F594<>\"\",F594,\"\")","v":""},{"$f":"IF(N594<>\"\",IF(D595<>\"\",D595,D594),\"\")","v":""},{"$f":"IF(N594<>\"\",IF(E595<>\"\",E595,E594),\"\")","v":""},{"$f":"IF(N594<>\"\",IF(F595<>\"\",F595,F594),\"\")","v":""}]
[null,null,null,null,null,null,null,null,null,null,null,null,null,null,null,""]
[null,null,null,null,null,null,null,null,null,null,null,null,null,{"$f":"IF(A596<>\"\",TEXT(A596,\"\"),\"\")","v":""},{"$f":"IF(N596=\"\",\"\",CONCATENATE(IF(C596<>\"\",TEXT(C596,\"\"),\"\"),\" - \",IF(K596<>\"\",TEXT(K596,\"\"),\"\")))","v":""},"",{"$f":"IF(D596<>\"\",D596,\"\")","v":""},{"$f":"IF(E596<>\"\",E596,\"\")","v":""},{"$f":"IF(F596<>\"\",F596,\"\")","v":""},{"$f":"IF(N596<>\"\",IF(D597<>\"\",D597,D596),\"\")","v":""},{"$f":"IF(N596<>\"\",IF(E597<>\"\",E597,E596),\"\")","v":""},{"$f":"IF(N596<>\"\",IF(F597<>\"\",F597,F596),\"\")","v":""}]
[null,null,null,null,null,null,null,null,null,null,null,null,null,null,null,""]
[null,null,null,null,null,null,null,null,null,null,null,null,null,{"$f":"IF(A598<>\"\",TEXT(A598,\"\"),\"\")","v":""},{"$f":"IF(N598=\"\",\"\",CONCATENATE(IF(C598<>\"\",TEXT(C598,\"\"),\"\"),\" - \",IF(K598<>\"\",TEXT(K598,\"\"),\"\")))","v":""},"",{"$f":"IF(D598<>\"\",D598,\"\")","v":""},{"$f":"IF(E598<>\"\",E598,\"\")","v":""},{"$f":"IF(F598<>\"\",F598,\"\")","v":""},{"$f":"IF(N598<>\"\",IF(D599<>\"\",D599,D598),\"\")","v":""},{"$f":"IF(N598<>\"\",IF(E599<>\"\",E599,E598),\"\")","v":""},{"$f":"IF(N598<>\"\",IF(F599<>\"\",F599,F598),\"\")","v":""}]
[null,null,null,null,null,null,null,null,null,null,null,null,null,null,null,""]
[null,null,null,null,null,null,null,null,null,null,null,null,null,{"$f":"IF(A600<>\"\",TEXT(A600,\"\"),\"\")","v":""},{"$f":"IF(N600=\"\",\"\",CONCATENATE(IF(C600<>\"\",TEXT(C600,\"\"),\"\"),\" - \",IF(K600<>\"\",TEXT(K600,\"\"),\"\")))","v":""},"",{"$f":"IF(D600<>\"\",D600,\"\")","v":""},{"$f":"IF(E600<>\"\",E600,\"\")","v":""},{"$f":"IF(F600<>\"\",F600,\"\")","v":""},{"$f":"IF(N600<>\"\",IF(D601<>\"\",D601,D600),\"\")","v":""},{"$f":"IF(N600<>\"\",IF(E601<>\"\",E601,E600),\"\")","v":""},{"$f":"IF(N600<>\"\",IF(F601<>\"\",F601,F600),\"\")","v":""}]
[null,null,null,null,null,null,null,null,null,null,null,null,null,null,null,""]
[null,null,null,null,null,null,null,null,null,null,null,null,null,{"$f":"IF(A602<>\"\",TEXT(A602,\"\"),\"\")","v":""},{"$f":"IF(N602=\"\",\"\",CONCATENATE(IF(C602<>\"\",TEXT(C602,\"\"),\"\"),\" - \",IF(K602<>\"\",TEXT(K602,\"\"),\"\")))","v":""},"",{"$f":"IF(D602<>\"\",D602,\"\")","v":""},{"$f":"IF(E602<>\"\",E602,\"\")","v":""},{"$f":"IF(F602<>\"\",F602,\"\")","v":""},{"$f":"IF(N602<>\"\",IF(D603<>\"\",D603,D602),\"\")","v":""},{"$f":"IF(N602<>\"\",IF(E603<>\"\",E603,E602),\"\")","v":""},{"$f":"IF(N602<>\"\",IF(F603<>\"\",F603,F602),\"\")","v":""}]
[null,null,null,null,null,null,null,null,null,null,null,null,null,null,null,""]
[null,null,null,null,null,null,null,null,null,null,null,null,null,{"$f":"IF(A604<>\"\",TEXT(A604,\"\"),\"\")","v":""},{"$f":"IF(N604=\"\",\"\",CONCATENATE(IF(C604<>\"\",TEXT(C604,\"\"),\"\"),\" - \",IF(K604<>\"\",TEXT(K604,\"\"),\"\")))","v":""},"",{"$f":"IF(D604<>\"\",D604,\"\")","v":""},{"$f":"IF(E604<>\"\",E604,\"\")","v":""},{"$f":"IF(F604<>\"\",F604,\"\")","v":""},{"$f":"IF(N604<>\"\",IF(D605<>\"\",D605,D604),\"\")","v":""},{"$f":"IF(N604<>\"\",IF(E605<>\"\",E605,E604),\"\")","v":""},{"$f":"IF(N604<>\"\",IF(F605<>\"\",F605,F604),\"\")","v":""}]
[null,null,null,null,null,null,null,null,null,null,null,null,null,null,null,""]
[null,null,null,null,null,null,null,null,null,null,null,null,null,{"$f":"IF(A606<>\"\",TEXT(A606,\"\"),\"\")","v":""},{"$f":"IF(N606=\"\",\"\",CONCATENATE(IF(C606<>\"\",TEXT(C606,\"\"),\"\"),\" - \",IF(K606<>\"\",TEXT(K606,\"\"),\"\")))","v":""},"",{"$f":"IF(D606<>\"\",D606,\"\")","v":""},{"$f":"IF(E606<>\"\",E606,\"\")","v":""},{"$f":"IF(F606<>\"\",F606,\"\")","v":""},{"$f":"IF(N606<>\"\",IF(D607<>\"\",D607,D606),\"\")","v":""},{"$f":"IF(N606<>\"\",IF(E607<>\"\",E607,E606),\"\")","v":""},{"$f":"IF(N606<>\"\",IF(F607<>\"\",F607,F606),\"\")","v":""}]
[null,null,null,null,null,null,null,null,null,null,null,null,null,null,null,""]
[null,null,null,null,null,null,null,null,null,null,null,null,null,{"$f":"IF(A608<>\"\",TEXT(A608,\"\"),\"\")","v":""},{"$f":"IF(N608=\"\",\"\",CONCATENATE(IF(C608<>\"\",TEXT(C608,\"\"),\"\"),\" - \",IF(K608<>\"\",TEXT(K608,\"\"),\"\")))","v":""},"",{"$f":"IF(D608<>\"\",D608,\"\")","v":""},{"$f":"IF(E608<>\"\",E608,\"\")","v":""},{"$f":"IF(F608<>\"\",F608,\"\")","v":""},{"$f":"IF(N608<>\"\",IF(D609<>\"\",D609,D608),\"\")","v":""},{"$f":"IF(N608<>\"\",IF(E609<>\"\",E609,E608),\"\")","v":""},{"$f":"IF(N608<>\"\",IF(F609<>\"\",F609,F608),\"\")","v":""}]
[null,null,null,null,null,null,null,null,null,null,null,null,null,null,null,""]
[null,null,null,null,null,null,null,null,null,null,null,null,null,{"$f":"IF(A610<>\"\",TEXT(A610,\"\"),\"\")","v":""},{"$f":"IF(N610=\"\",\"\",CONCATENATE(IF(C610<>\"\",TEXT(C610,\"\"),\"\"),\" - \",IF(K610<>\"\",TEXT(K610,\"\"),\"\")))","v":""},"",{"$f":"IF(D610<>\"\",D610,\"\")","v":""},{"$f":"IF(E610<>\"\",E610,\"\")","v":""},{"$f":"IF(F610<>\"\",F610,\"\")","v":""},{"$f":"IF(N610<>\"\",IF(D611<>\"\",D611,D610),\"\")","v":""},{"$f":"IF(N610<>\"\",IF(E611<>\"\",E611,E610),\"\")","v":""},{"$f":"IF(N610<>\"\",IF(F611<>\"\",F611,F610),\"\")","v":""}]
[null,null,null,null,null,null,null,null,null,null,null,null,null,null,null,""]
[null,null,null,null,null,null,null,null,null,null,null,null,null,{"$f":"IF(A612<>\"\",TEXT(A612,\"\"),\"\")","v":""},{"$f":"IF(N612=\"\",\"\",CONCATENATE(IF(C612<>\"\",TEXT(C612,\"\"),\"\"),\" - \",IF(K612<>\"\",TEXT(K612,\"\"),\"\")))","v":""},"",{"$f":"IF(D612<>\"\",D612,\"\")","v":""},{"$f":"IF(E612<>\"\",E612,\"\")","v":""},{"$f":"IF(F612<>\"\",F612,\"\")","v":""},{"$f":"IF(N612<>\"\",IF(D613<>\"\",D613,D612),\"\")","v":""},{"$f":"IF(N612<>\"\",IF(E613<>\"\",E613,E612),\"\")","v":""},{"$f":"IF(N612<>\"\",IF(F613<>\"\",F613,F612),\"\")","v":""}]
[null,null,null,null,null,null,null,null,null,null,null,null,null,null,null,""]
[null,null,null,null,null,null,null,null,null,null,null,null,null,{"$f":"IF(A614<>\"\",TEXT(A614,\"\"),\"\")","v":""},{"$f":"IF(N614=\"\",\"\",CONCATENATE(IF(C614<>\"\",TEXT(C614,\"\"),\"\"),\" - \",IF(K614<>\"\",TEXT(K614,\"\"),\"\")))","v":""},"",{"$f":"IF(D614<>\"\",D614,\"\")","v":""},{"$f":"IF(E614<>\"\",E614,\"\")","v":""},{"$f":"IF(F614<>\"\",F614,\"\")","v":""},{"$f":"IF(N614<>\"\",IF(D615<>\"\",D615,D614),\"\")","v":""},{"$f":"IF(N614<>\"\",IF(E615<>\"\",E615,E614),\"\")","v":""},{"$f":"IF(N614<>\"\",IF(F615<>\"\",F615,F614),\"\")","v":""}]
[null,null,null,null,null,null,null,null,null,null,null,null,null,null,null,""]
[null,null,null,null,null,null,null,null,null,null,null,null,null,{"$f":"IF(A616<>\"\",TEXT(A616,\"\"),\"\")","v":""},{"$f":"IF(N616=\"\",\"\",CONCATENATE(IF(C616<>\"\",TEXT(C616,\"\"),\"\"),\" - \",IF(K616<>\"\",TEXT(K616,\"\"),\"\")))","v":""},"",{"$f":"IF(D616<>\"\",D616,\"\")","v":""},{"$f":"IF(E616<>\"\",E616,\"\")","v":""},{"$f":"IF(F616<>\"\",F616,\"\")","v":""},{"$f":"IF(N616<>\"\",IF(D617<>\"\",D617,D616),\"\")","v":""},{"$f":"IF(N616<>\"\",IF(E617<>\"\",E617,E616),\"\")","v":""},{"$f":"IF(N616<>\"\",IF(F617<>\"\",F617,F616),\"\")","v":""}]
[null,null,null,null,null,null,null,null,null,null,null,null,null,null,null,""]
[null,null,null,null,null,null,null,null,null,null,null,null,null,{"$f":"IF(A618<>\"\",TEXT(A618,\"\"),\"\")","v":""},{"$f":"IF(N618=\"\",\"\",CONCATENATE(IF(C618<>\"\",TEXT(C618,\"\"),\"\"),\" - \",IF(K618<>\"\",TEXT(K618,\"\"),\"\")))","v":""},"",{"$f":"IF(D618<>\"\",D618,\"\")","v":""},{"$f":"IF(E618<>\"\",E618,\"\")","v":""},{"$f":"IF(F618<>\"\",F618,\"\")","v":""},{"$f":"IF(N618<>\"\",IF(D619<>\"\",D619,D618),\"\")","v":""},{"$f":"IF(N618<>\"\",IF(E619<>\"\",E619,E618),\"\")","v":""},{"$f":"IF(N618<>\"\",IF(F619<>\"\",F619,F618),\"\")","v":""}]
[null,null,null,null,null,null,null,null,null,null,null,null,null,null,null,""]
[null,null,null,null,null,null,null,null,null,null,null,null,null,{"$f":"IF(A620<>\"\",TEXT(A620,\"\"),\"\")","v":""},{"$f":"IF(N620=\"\",\"\",CONCATENATE(IF(C620<>\"\",TEXT(C620,\"\"),\"\"),\" - \",IF(K620<>\"\",TEXT(K620,\"\"),\"\")))","v":""},"",{"$f":"IF(D620<>\"\",D620,\"\")","v":""},{"$f":"IF(E620<>\"\",E620,\"\")","v":""},{"$f":"IF(F620<>\"\",F620,\"\")","v":""},{"$f":"IF(N620<>\"\",IF(D621<>\"\",D621,D620),\"\")","v":""},{"$f":"IF(N620<>\"\",IF(E621<>\"\",E621,E620),\"\")","v":""},{"$f":"IF(N620<>\"\",IF(F621<>\"\",F621,F620),\"\")","v":""}]
[null,null,null,null,null,null,null,null,null,null,null,null,null,null,null,""]
[null,null,null,null,null,null,null,null,null,null,null,null,null,{"$f":"IF(A622<>\"\",TEXT(A622,\"\"),\"\")","v":""},{"$f":"IF(N622=\"\",\"\",CONCATENATE(IF(C622<>\"\",TEXT(C622,\"\"),\"\"),\" - \",IF(K622<>\"\",TEXT(K622,\"\"),\"\")))","v":""},"",{"$f":"IF(D622<>\"\",D622,\"\")","v":""},{"$f":"IF(E622<>\"\",E622,\"\")","v":""},{"$f":"IF(F622<>\"\",F622,\"\")","v":""},{"$f":"IF(N622<>\"\",IF(D623<>\"\",D623,D622),\"\")","v":""},{"$f":"IF(N622<>\"\",IF(E623<>\"\",E623,E622),\"\")","v":""},{"$f":"IF(N622<>\"\",IF(F623<>\"\",F623,F622),\"\")","v":""}]
[null,null,null,null,null,null,null,null,null,null,null,null,null,null,null,""]
[null,null,null,null,null,null,null,null,null,null,null,null,null,{"$f":"IF(A624<>\"\",TEXT(A624,\"\"),\"\")","v":""},{"$f":"IF(N624=\"\",\"\",CONCATENATE(IF(C624<>\"\",TEXT(C624,\"\"),\"\"),\" - \",IF(K624<>\"\",TEXT(K624,\"\"),\"\")))","v":""},"",{"$f":"IF(D624<>\"\",D624,\"\")","v":""},{"$f":"IF(E624<>\"\",E624,\"\")","v":""},{"$f":"IF(F624<>\"\",F624,\"\")","v":""},{"$f":"IF(N624<>\"\",IF(D625<>\"\",D625,D624),\"\")","v":""},{"$f":"IF(N624<>\"\",IF(E625<>\"\",E625,E624),\"\")","v":""},{"$f":"IF(N624<>\"\",IF(F625<>\"\",F625,F624),\"\")","v":""}]
[null,null,null,null,null,null,null,null,null,null,null,null,null,null,null,""]
[null,null,null,null,null,null,null,null,null,null,null,null,null,{"$f":"IF(A626<>\"\",TEXT(A626,\"\"),\"\")","v":""},{"$f":"IF(N626=\"\",\"\",CONCATENATE(IF(C626<>\"\",TEXT(C626,\"\"),\"\"),\" - \",IF(K626<>\"\",TEXT(K626,\"\"),\"\")))","v":""},"",{"$f":"IF(D626<>\"\",D626,\"\")","v":""},{"$f":"IF(E626<>\"\",E626,\"\")","v":""},{"$f":"IF(F626<>\"\",F626,\"\")","v":""},{"$f":"IF(N626<>\"\",IF(D627<>\"\",D627,D626),\"\")","v":""},{"$f":"IF(N626<>\"\",IF(E627<>\"\",E627,E626),\"\")","v":""},{"$f":"IF(N626<>\"\",IF(F627<>\"\",F627,F626),\"\")","v":""}]
[null,null,null,null,null,null,null,null,null,null,null,null,null,null,null,""]
[null,null,null,null,null,null,null,null,null,null,null,null,null,{"$f":"IF(A628<>\"\",TEXT(A628,\"\"),\"\")","v":""},{"$f":"IF(N628=\"\",\"\",CONCATENATE(IF(C628<>\"\",TEXT(C628,\"\"),\"\"),\" - \",IF(K628<>\"\",TEXT(K628,\"\"),\"\")))","v":""},"",{"$f":"IF(D628<>\"\",D628,\"\")","v":""},{"$f":"IF(E628<>\"\",E628,\"\")","v":""},{"$f":"IF(F628<>\"\",F628,\"\")","v":""},{"$f":"IF(N628<>\"\",IF(D629<>\"\",D629,D628),\"\")","v":""},{"$f":"IF(N628<>\"\",IF(E629<>\"\",E629,E628),\"\")","v":""},{"$f":"IF(N628<>\"\",IF(F629<>\"\",F629,F628),\"\")","v":""}]
[null,null,null,null,null,null,null,null,null,null,null,null,null,null,null,""]
[null,null,null,null,null,null,null,null,null,null,null,null,null,{"$f":"IF(A630<>\"\",TEXT(A630,\"\"),\"\")","v":""},{"$f":"IF(N630=\"\",\"\",CONCATENATE(IF(C630<>\"\",TEXT(C630,\"\"),\"\"),\" - \",IF(K630<>\"\",TEXT(K630,\"\"),\"\")))","v":""},"",{"$f":"IF(D630<>\"\",D630,\"\")","v":""},{"$f":"IF(E630<>\"\",E630,\"\")","v":""},{"$f":"IF(F630<>\"\",F630,\"\")","v":""},{"$f":"IF(N630<>\"\",IF(D631<>\"\",D631,D630),\"\")","v":""},{"$f":"IF(N630<>\"\",IF(E631<>\"\",E631,E630),\"\")","v":""},{"$f":"IF(N630<>\"\",IF(F631<>\"\",F631,F630),\"\")","v":""}]
[null,null,null,null,null,null,null,null,null,null,null,null,null,null,null,""]
[null,null,null,null,null,null,null,null,null,null,null,null,null,{"$f":"IF(A632<>\"\",TEXT(A632,\"\"),\"\")","v":""},{"$f":"IF(N632=\"\",\"\",CONCATENATE(IF(C632<>\"\",TEXT(C632,\"\"),\"\"),\" - \",IF(K632<>\"\",TEXT(K632,\"\"),\"\")))","v":""},"",{"$f":"IF(D632<>\"\",D632,\"\")","v":""},{"$f":"IF(E632<>\"\",E632,\"\")","v":""},{"$f":"IF(F632<>\"\",F632,\"\")","v":""},{"$f":"IF(N632<>\"\",IF(D633<>\"\",D633,D632),\"\")","v":""},{"$f":"IF(N632<>\"\",IF(E633<>\"\",E633,E632),\"\")","v":""},{"$f":"IF(N632<>\"\",IF(F633<>\"\",F633,F632),\"\")","v":""}]
[null,null,null,null,null,null,null,null,null,null,null,null,null,null,null,""]
[null,null,null,null,null,null,null,null,null,null,null,null,null,{"$f":"IF(A634<>\"\",TEXT(A634,\"\"),\"\")","v":""},{"$f":"IF(N634=\"\",\"\",CONCATENATE(IF(C634<>\"\",TEXT(C634,\"\"),\"\"),\" - \",IF(K634<>\"\",TEXT(K634,\"\"),\"\")))","v":""},"",{"$f":"IF(D634<>\"\",D634,\"\")","v":""},{"$f":"IF(E634<>\"\",E634,\"\")","v":""},{"$f":"IF(F634<>\"\",F634,\"\")","v":""},{"$f":"IF(N634<>\"\",IF(D635<>\"\",D635,D634),\"\")","v":""},{"$f":"IF(N634<>\"\",IF(E635<>\"\",E635,E634),\"\")","v":""},{"$f":"IF(N634<>\"\",IF(F635<>\"\",F635,F634),\"\")","v":""}]
[null,null,null,null,null,null,null,null,null,null,null,null,null,null,null,""]
[null,null,null,null,null,null,null,null,null,null,null,null,null,{"$f":"IF(A636<>\"\",TEXT(A636,\"\"),\"\")","v":""},{"$f":"IF(N636=\"\",\"\",CONCATENATE(IF(C636<>\"\",TEXT(C636,\"\"),\"\"),\" - \",IF(K636<>\"\",TEXT(K636,\"\"),\"\")))","v":""},"",{"$f":"IF(D636<>\"\",D636,\"\")","v":""},{"$f":"IF(E636<>\"\",E636,\"\")","v":""},{"$f":"IF(F636<>\"\",F636,\"\")","v":""},{"$f":"IF(N636<>\"\",IF(D637<>\"\",D637,D636),\"\")","v":""},{"$f":"IF(N636<>\"\",IF(E637<>\"\",E637,E636),\"\")","v":""},{"$f":"IF(N636<>\"\",IF(F637<>\"\",F637,F636),\"\")","v":""}]
[null,null,null,null,null,null,null,null,null,null,null,null,null,null,null,""]
[null,null,null,null,null,null,null,null,null,null,null,null,null,{"$f":"IF(A638<>\"\",TEXT(A638,\"\"),\"\")","v":""},{"$f":"IF(N638=\"\",\"\",CONCATENATE(IF(C638<>\"\",TEXT(C638,\"\"),\"\"),\" - \",IF(K638<>\"\",TEXT(K638,\"\"),\"\")))","v":""},"",{"$f":"IF(D638<>\"\",D638,\"\")","v":""},{"$f":"IF(E638<>\"\",E638,\"\")","v":""},{"$f":"IF(F638<>\"\",F638,\"\")","v":""},{"$f":"IF(N638<>\"\",IF(D639<>\"\",D639,D638),\"\")","v":""},{"$f":"IF(N638<>\"\",IF(E639<>\"\",E639,E638),\"\")","v":""},{"$f":"IF(N638<>\"\",IF(F639<>\"\",F639,F638),\"\")","v":""}]
[null,null,null,null,null,null,null,null,null,null,null,null,null,null,null,""]
[null,null,null,null,null,null,null,null,null,null,null,null,null,{"$f":"IF(A640<>\"\",TEXT(A640,\"\"),\"\")","v":""},{"$f":"IF(N640=\"\",\"\",CONCATENATE(IF(C640<>\"\",TEXT(C640,\"\"),\"\"),\" - \",IF(K640<>\"\",TEXT(K640,\"\"),\"\")))","v":""},"",{"$f":"IF(D640<>\"\",D640,\"\")","v":""},{"$f":"IF(E640<>\"\",E640,\"\")","v":""},{"$f":"IF(F640<>\"\",F640,\"\")","v":""},{"$f":"IF(N640<>\"\",IF(D641<>\"\",D641,D640),\"\")","v":""},{"$f":"IF(N640<>\"\",IF(E641<>\"\",E641,E640),\"\")","v":""},{"$f":"IF(N640<>\"\",IF(F641<>\"\",F641,F640),\"\")","v":""}]
[null,null,null,null,null,null,null,null,null,null,null,null,null,null,null,""]
[null,null,null,null,null,null,null,null,null,null,null,null,null,{"$f":"IF(A642<>\"\",TEXT(A642,\"\"),\"\")","v":""},{"$f":"IF(N642=\"\",\"\",CONCATENATE(IF(C642<>\"\",TEXT(C642,\"\"),\"\"),\" - \",IF(K642<>\"\",TEXT(K642,\"\"),\"\")))","v":""},"",{"$f":"IF(D642<>\"\",D642,\"\")","v":""},{"$f":"IF(E642<>\"\",E642,\"\")","v":""},{"$f":"IF(F642<>\"\",F642,\"\")","v":""},{"$f":"IF(N642<>\"\",IF(D643<>\"\",D643,D642),\"\")","v":""},{"$f":"IF(N642<>\"\",IF(E643<>\"\",E643,E642),\"\")","v":""},{"$f":"IF(N642<>\"\",IF(F643<>\"\",F643,F642),\"\")","v":""}]
[null,null,null,null,null,null,null,null,null,null,null,null,null,null,null,{"$f":"SUBSTITUTE(SUBSTITUTE(SUBSTITUTE(SUBSTITUTE(IF(L643<>\"\",HLink(L643),\"\"),\"htm\",\"html\"),\"1x2\",\"analysis\"),\"www\",\"www\"),\"com\",\"vip\")","v":""}]
[null,null,null,null,null,null,null,null,null,null,null,null,null,{"$f":"IF(A644<>\"\",TEXT(A644,\"\"),\"\")","v":""},{"$f":"IF(N644=\"\",\"\",CONCATENATE(IF(C644<>\"\",TEXT(C644,\"\"),\"\"),\" - \",IF(K644<>\"\",TEXT(K644,\"\"),\"\")))","v":""},"",{"$f":"IF(D644<>\"\",D644,\"\")","v":""},{"$f":"IF(E644<>\"\",E644,\"\")","v":""},{"$f":"IF(F644<>\"\",F644,\"\")","v":""},{"$f":"IF(N644<>\"\",IF(D645<>\"\",D645,D644),\"\")","v":""},{"$f":"IF(N644<>\"\",IF(E645<>\"\",E645,E644),\"\")","v":""},{"$f":"IF(N644<>\"\",IF(F645<>\"\",F645,F644),\"\")","v":""}]
[null,null,null,null,null,null,null,null,null,null,null,null,null,null,null,""]
[null,null,null,null,null,null,null,null,null,null,null,null,null,{"$f":"IF(A646<>\"\",TEXT(A646,\"\"),\"\")","v":""},{"$f":"IF(N646=\"\",\"\",CONCATENATE(IF(C646<>\"\",TEXT(C646,\"\"),\"\"),\" - \",IF(K646<>\"\",TEXT(K646,\"\"),\"\")))","v":""},"",{"$f":"IF(D646<>\"\",D646,\"\")","v":""},{"$f":"IF(E646<>\"\",E646,\"\")","v":""},{"$f":"IF(F646<>\"\",F646,\"\")","v":""},{"$f":"IF(N646<>\"\",IF(D647<>\"\",D647,D646),\"\")","v":""},{"$f":"IF(N646<>\"\",IF(E647<>\"\",E647,E646),\"\")","v":""},{"$f":"IF(N646<>\"\",IF(F647<>\"\",F647,F646),\"\")","v":""}]
[null,null,null,null,null,null,null,null,null,null,null,null,null,null,null,""]
[null,null,null,null,null,null,null,null,null,null,null,null,null,{"$f":"IF(A648<>\"\",TEXT(A648,\"\"),\"\")","v":""},{"$f":"IF(N648=\"\",\"\",CONCATENATE(IF(C648<>\"\",TEXT(C648,\"\"),\"\"),\" - \",IF(K648<>\"\",TEXT(K648,\"\"),\"\")))","v":""},"",{"$f":"IF(D648<>\"\",D648,\"\")","v":""},{"$f":"IF(E648<>\"\",E648,\"\")","v":""},{"$f":"IF(F648<>\"\",F648,\"\")","v":""},{"$f":"IF(N648<>\"\",IF(D649<>\"\",D649,D648),\"\")","v":""},{"$f":"IF(N648<>\"\",IF(E649<>\"\",E649,E648),\"\")","v":""},{"$f":"IF(N648<>\"\",IF(F649<>\"\",F649,F648),\"\")","v":""}]
[null,null,null,null,null,null,null,null,null,null,null,null,null,null,null,""]
[null,null,null,null,null,null,null,null,null,null,null,null,null,{"$f":"IF(A650<>\"\",TEXT(A650,\"\"),\"\")","v":""},{"$f":"IF(N650=\"\",\"\",CONCATENATE(IF(C650<>\"\",TEXT(C650,\"\"),\"\"),\" - \",IF(K650<>\"\",TEXT(K650,\"\"),\"\")))","v":""},"",{"$f":"IF(D650<>\"\",D650,\"\")","v":""},{"$f":"IF(E650<>\"\",E650,\"\")","v":""},{"$f":"IF(F650<>\"\",F650,\"\")","v":""},{"$f":"IF(N650<>\"\",IF(D651<>\"\",D651,D650),\"\")","v":""},{"$f":"IF(N650<>\"\",IF(E651<>\"\",E651,E650),\"\")","v":""},{"$f":"IF(N650<>\"\",IF(F651<>\"\",F651,F650),\"\")","v":""}]
[null,null,null,null,null,null,null,null,null,null,null,null,null,null,null,""]
[null,null,null,null,null,null,null,null,null,null,null,null,null,{"$f":"IF(A652<>\"\",TEXT(A652,\"\"),\"\")","v":""},{"$f":"IF(N652=\"\",\"\",CONCATENATE(IF(C652<>\"\",TEXT(C652,\"\"),\"\"),\" - \",IF(K652<>\"\",TEXT(K652,\"\"),\"\")))","v":""},"",{"$f":"IF(D652<>\"\",D652,\"\")","v":""},{"$f":"IF(E652<>\"\",E652,\"\")","v":""},{"$f":"IF(F652<>\"\",F652,\"\")","v":""},{"$f":"IF(N652<>\"\",IF(D653<>\"\",D653,D652),\"\")","v":""},{"$f":"IF(N652<>\"\",IF(E653<>\"\",E653,E652),\"\")","v":""},{"$f":"IF(N652<>\"\",IF(F653<>\"\",F653,F652),\"\")","v":""}]
[null,null,null,null,null,null,null,null,null,null,null,null,null,null,null,""]
[null,null,null,null,null,null,null,null,null,null,null,null,null,{"$f":"IF(A654<>\"\",TEXT(A654,\"\"),\"\")","v":""},{"$f":"IF(N654=\"\",\"\",CONCATENATE(IF(C654<>\"\",TEXT(C654,\"\"),\"\"),\" - \",IF(K654<>\"\",TEXT(K654,\"\"),\"\")))","v":""},"",{"$f":"IF(D654<>\"\",D654,\"\")","v":""},{"$f":"IF(E654<>\"\",E654,\"\")","v":""},{"$f":"IF(F654<>\"\",F654,\"\")","v":""},{"$f":"IF(N654<>\"\",IF(D655<>\"\",D655,D654),\"\")","v":""},{"$f":"IF(N654<>\"\",IF(E655<>\"\",E655,E654),\"\")","v":""},{"$f":"IF(N654<>\"\",IF(F655<>\"\",F655,F654),\"\")","v":""}]
[null,null,null,null,null,null,null,null,null,null,null,null,null,null,null,""]
[null,null,null,null,null,null,null,null,null,null,null,null,null,{"$f":"IF(A656<>\"\",TEXT(A656,\"\"),\"\")","v":""},{"$f":"IF(N656=\"\",\"\",CONCATENATE(IF(C656<>\"\",TEXT(C656,\"\"),\"\"),\" - \",IF(K656<>\"\",TEXT(K656,\"\"),\"\")))","v":""},"",{"$f":"IF(D656<>\"\",D656,\"\")","v":""},{"$f":"IF(E656<>\"\",E656,\"\")","v":""},{"$f":"IF(F656<>\"\",F656,\"\")","v":""},{"$f":"IF(N656<>\"\",IF(D657<>\"\",D657,D656),\"\")","v":""},{"$f":"IF(N656<>\"\",IF(E657<>\"\",E657,E656),\"\")","v":""},{"$f":"IF(N656<>\"\",IF(F657<>\"\",F657,F656),\"\")","v":""}]
[null,null,null,null,null,null,null,null,null,null,null,null,null,null,null,""]
[null,null,null,null,null,null,null,null,null,null,null,null,null,{"$f":"IF(A658<>\"\",TEXT(A658,\"\"),\"\")","v":""},{"$f":"IF(N658=\"\",\"\",CONCATENATE(IF(C658<>\"\",TEXT(C658,\"\"),\"\"),\" - \",IF(K658<>\"\",TEXT(K658,\"\"),\"\")))","v":""},"",{"$f":"IF(D658<>\"\",D658,\"\")","v":""},{"$f":"IF(E658<>\"\",E658,\"\")","v":""},{"$f":"IF(F658<>\"\",F658,\"\")","v":""},{"$f":"IF(N658<>\"\",IF(D659<>\"\",D659,D658),\"\")","v":""},{"$f":"IF(N658<>\"\",IF(E659<>\"\",E659,E658),\"\")","v":""},{"$f":"IF(N658<>\"\",IF(F659<>\"\",F659,F658),\"\")","v":""}]
[null,null,null,null,null,null,null,null,null,null,null,null,null,null,null,""]
[null,null,null,null,null,null,null,null,null,null,null,null,null,{"$f":"IF(A660<>\"\",TEXT(A660,\"\"),\"\")","v":""},{"$f":"IF(N660=\"\",\"\",CONCATENATE(IF(C660<>\"\",TEXT(C660,\"\"),\"\"),\" - \",IF(K660<>\"\",TEXT(K660,\"\"),\"\")))","v":""},"",{"$f":"IF(D660<>\"\",D660,\"\")","v":""},{"$f":"IF(E660<>\"\",E660,\"\")","v":""},{"$f":"IF(F660<>\"\",F660,\"\")","v":""},{"$f":"IF(N660<>\"\",IF(D661<>\"\",D661,D660),\"\")","v":""},{"$f":"IF(N660<>\"\",IF(E661<>\"\",E661,E660),\"\")","v":""},{"$f":"IF(N660<>\"\",IF(F661<>\"\",F661,F660),\"\")","v":""}]
[null,null,null,null,null,null,null,null,null,null,null,null,null,null,null,""]
[null,null,null,null,null,null,null,null,null,null,null,null,null,{"$f":"IF(A662<>\"\",TEXT(A662,\"\"),\"\")","v":""},{"$f":"IF(N662=\"\",\"\",CONCATENATE(IF(C662<>\"\",TEXT(C662,\"\"),\"\"),\" - \",IF(K662<>\"\",TEXT(K662,\"\"),\"\")))","v":""},"",{"$f":"IF(D662<>\"\",D662,\"\")","v":""},{"$f":"IF(E662<>\"\",E662,\"\")","v":""},{"$f":"IF(F662<>\"\",F662,\"\")","v":""},{"$f":"IF(N662<>\"\",IF(D663<>\"\",D663,D662),\"\")","v":""},{"$f":"IF(N662<>\"\",IF(E663<>\"\",E663,E662),\"\")","v":""},{"$f":"IF(N662<>\"\",IF(F663<>\"\",F663,F662),\"\")","v":""}]
[null,null,null,null,null,null,null,null,null,null,null,null,null,null,null,""]
[null,null,null,null,null,null,null,null,null,null,null,null,null,{"$f":"IF(A664<>\"\",TEXT(A664,\"\"),\"\")","v":""},{"$f":"IF(N664=\"\",\"\",CONCATENATE(IF(C664<>\"\",TEXT(C664,\"\"),\"\"),\" - \",IF(K664<>\"\",TEXT(K664,\"\"),\"\")))","v":""},"",{"$f":"IF(D664<>\"\",D664,\"\")","v":""},{"$f":"IF(E664<>\"\",E664,\"\")","v":""},{"$f":"IF(F664<>\"\",F664,\"\")","v":""},{"$f":"IF(N664<>\"\",IF(D665<>\"\",D665,D664),\"\")","v":""},{"$f":"IF(N664<>\"\",IF(E665<>\"\",E665,E664),\"\")","v":""},{"$f":"IF(N664<>\"\",IF(F665<>\"\",F665,F664),\"\")","v":""}]
[null,null,null,null,null,null,null,null,null,null,null,null,null,null,null,""]
[null,null,null,null,null,null,null,null,null,null,null,null,null,{"$f":"IF(A666<>\"\",TEXT(A666,\"\"),\"\")","v":""},{"$f":"IF(N666=\"\",\"\",CONCATENATE(IF(C666<>\"\",TEXT(C666,\"\"),\"\"),\" - \",IF(K666<>\"\",TEXT(K666,\"\"),\"\")))","v":""},"",{"$f":"IF(D666<>\"\",D666,\"\")","v":""},{"$f":"IF(E666<>\"\",E666,\"\")","v":""},{"$f":"IF(F666<>\"\",F666,\"\")","v":""},{"$f":"IF(N666<>\"\",IF(D667<>\"\",D667,D666),\"\")","v":""},{"$f":"IF(N666<>\"\",IF(E667<>\"\",E667,E666),\"\")","v":""},{"$f":"IF(N666<>\"\",IF(F667<>\"\",F667,F666),\"\")","v":""}]
[null,null,null,null,null,null,null,null,null,null,null,null,null,null,null,""]
[null,null,null,null,null,null,null,null,null,null,null,null,null,{"$f":"IF(A668<>\"\",TEXT(A668,\"\"),\"\")","v":""},{"$f":"IF(N668=\"\",\"\",CONCATENATE(IF(C668<>\"\",TEXT(C668,\"\"),\"\"),\" - \",IF(K668<>\"\",TEXT(K668,\"\"),\"\")))","v":""},"",{"$f":"IF(D668<>\"\",D668,\"\")","v":""},{"$f":"IF(E668<>\"\",E668,\"\")","v":""},{"$f":"IF(F668<>\"\",F668,\"\")","v":""},{"$f":"IF(N668<>\"\",IF(D669<>\"\",D669,D668),\"\")","v":""},{"$f":"IF(N668<>\"\",IF(E669<>\"\",E669,E668),\"\")","v":""},{"$f":"IF(N668<>\"\",IF(F669<>\"\",F669,F668),\"\")","v":""}]
[null,null,null,null,null,null,null,null,null,null,null,null,null,null,null,""]
[null,null,null,null,null,null,null,null,null,null,null,null,null,{"$f":"IF(A670<>\"\",TEXT(A670,\"\"),\"\")","v":""},{"$f":"IF(N670=\"\",\"\",CONCATENATE(IF(C670<>\"\",TEXT(C670,\"\"),\"\"),\" - \",IF(K670<>\"\",TEXT(K670,\"\"),\"\")))","v":""},"",{"$f":"IF(D670<>\"\",D670,\"\")","v":""},{"$f":"IF(E670<>\"\",E670,\"\")","v":""},{"$f":"IF(F670<>\"\",F670,\"\")","v":""},{"$f":"IF(N670<>\"\",IF(D671<>\"\",D671,D670),\"\")","v":""},{"$f":"IF(N670<>\"\",IF(E671<>\"\",E671,E670),\"\")","v":""},{"$f":"IF(N670<>\"\",IF(F671<>\"\",F671,F670),\"\")","v":""}]
[null,null,null,null,null,null,null,null,null,null,null,null,null,null,null,""]
[null,null,null,null,null,null,null,null,null,null,null,null,null,{"$f":"IF(A672<>\"\",TEXT(A672,\"\"),\"\")","v":""},{"$f":"IF(N672=\"\",\"\",CONCATENATE(IF(C672<>\"\",TEXT(C672,\"\"),\"\"),\" - \",IF(K672<>\"\",TEXT(K672,\"\"),\"\")))","v":""},"",{"$f":"IF(D672<>\"\",D672,\"\")","v":""},{"$f":"IF(E672<>\"\",E672,\"\")","v":""},{"$f":"IF(F672<>\"\",F672,\"\")","v":""},{"$f":"IF(N672<>\"\",IF(D673<>\"\",D673,D672),\"\")","v":""},{"$f":"IF(N672<>\"\",IF(E673<>\"\",E673,E672),\"\")","v":""},{"$f":"IF(N672<>\"\",IF(F673<>\"\",F673,F672),\"\")","v":""}]
[null,null,null,null,null,null,null,null,null,null,null,null,null,null,null,""]
[null,null,null,null,null,null,null,null,null,null,null,null,null,{"$f":"IF(A674<>\"\",TEXT(A674,\"\"),\"\")","v":""},{"$f":"IF(N674=\"\",\"\",CONCATENATE(IF(C674<>\"\",TEXT(C674,\"\"),\"\"),\" - \",IF(K674<>\"\",TEXT(K674,\"\"),\"\")))","v":""},"",{"$f":"IF(D674<>\"\",D674,\"\")","v":""},{"$f":"IF(E674<>\"\",E674,\"\")","v":""},{"$f":"IF(F674<>\"\",F674,\"\")","v":""},{"$f":"IF(N674<>\"\",IF(D675<>\"\",D675,D674),\"\")","v":""},{"$f":"IF(N674<>\"\",IF(E675<>\"\",E675,E674),\"\")","v":""},{"$f":"IF(N674<>\"\",IF(F675<>\"\",F675,F674),\"\")","v":""}]
[null,null,null,null,null,null,null,null,null,null,null,null,null,null,null,""]
[null,null,null,null,null,null,null,null,null,null,null,null,null,{"$f":"IF(A676<>\"\",TEXT(A676,\"\"),\"\")","v":""},{"$f":"IF(N676=\"\",\"\",CONCATENATE(IF(C676<>\"\",TEXT(C676,\"\"),\"\"),\" - \",IF(K676<>\"\",TEXT(K676,\"\"),\"\")))","v":""},"",{"$f":"IF(D676<>\"\",D676,\"\")","v":""},{"$f":"IF(E676<>\"\",E676,\"\")","v":""},{"$f":"IF(F676<>\"\",F676,\"\")","v":""},{"$f":"IF(N676<>\"\",IF(D677<>\"\",D677,D676),\"\")","v":""},{"$f":"IF(N676<>\"\",IF(E677<>\"\",E677,E676),\"\")","v":""},{"$f":"IF(N676<>\"\",IF(F677<>\"\",F677,F676),\"\")","v":""}]
[null,null,null,null,null,null,null,null,null,null,null,null,null,null,null,""]
[null,null,null,null,null,null,null,null,null,null,null,null,null,{"$f":"IF(A678<>\"\",TEXT(A678,\"\"),\"\")","v":""},{"$f":"IF(N678=\"\",\"\",CONCATENATE(IF(C678<>\"\",TEXT(C678,\"\"),\"\"),\" - \",IF(K678<>\"\",TEXT(K678,\"\"),\"\")))","v":""},"",{"$f":"IF(D678<>\"\",D678,\"\")","v":""},{"$f":"IF(E678<>\"\",E678,\"\")","v":""},{"$f":"IF(F678<>\"\",F678,\"\")","v":""},{"$f":"IF(N678<>\"\",IF(D679<>\"\",D679,D678),\"\")","v":""},{"$f":"IF(N678<>\"\",IF(E679<>\"\",E679,E678),\"\")","v":""},{"$f":"IF(N678<>\"\",IF(F679<>\"\",F679,F678),\"\")","v":""}]
[null,null,null,null,null,null,null,null,null,null,null,null,null,null,null,""]
[null,null,null,null,null,null,null,null,null,null,null,null,null,{"$f":"IF(A680<>\"\",TEXT(A680,\"\"),\"\")","v":""},{"$f":"IF(N680=\"\",\"\",CONCATENATE(IF(C680<>\"\",TEXT(C680,\"\"),\"\"),\" - \",IF(K680<>\"\",TEXT(K680,\"\"),\"\")))","v":""},"",{"$f":"IF(D680<>\"\",D680,\"\")","v":""},{"$f":"IF(E680<>\"\",E680,\"\")","v":""},{"$f":"IF(F680<>\"\",F680,\"\")","v":""},{"$f":"IF(N680<>\"\",IF(D681<>\"\",D681,D680),\"\")","v":""},{"$f":"IF(N680<>\"\",IF(E681<>\"\",E681,E680),\"\")","v":""},{"$f":"IF(N680<>\"\",IF(F681<>\"\",F681,F680),\"\")","v":""}]
[null,null,null,null,null,null,null,null,null,null,null,null,null,null,null,""]
[null,null,null,null,null,null,null,null,null,null,null,null,null,{"$f":"IF(A682<>\"\",TEXT(A682,\"\"),\"\")","v":""},{"$f":"IF(N682=\"\",\"\",CONCATENATE(IF(C682<>\"\",TEXT(C682,\"\"),\"\"),\" - \",IF(K682<>\"\",TEXT(K682,\"\"),\"\")))","v":""},"",{"$f":"IF(D682<>\"\",D682,\"\")","v":""},{"$f":"IF(E682<>\"\",E682,\"\")","v":""},{"$f":"IF(F682<>\"\",F682,\"\")","v":""},{"$f":"IF(N682<>\"\",IF(D683<>\"\",D683,D682),\"\")","v":""},{"$f":"IF(N682<>\"\",IF(E683<>\"\",E683,E682),\"\")","v":""},{"$f":"IF(N682<>\"\",IF(F683<>\"\",F683,F682),\"\")","v":""}]
[null,null,null,null,null,null,null,null,null,null,null,null,null,null,null,""]
[null,null,null,null,null,null,null,null,null,null,null,null,null,{"$f":"IF(A684<>\"\",TEXT(A684,\"\"),\"\")","v":""},{"$f":"IF(N684=\"\",\"\",CONCATENATE(IF(C684<>\"\",TEXT(C684,\"\"),\"\"),\" - \",IF(K684<>\"\",TEXT(K684,\"\"),\"\")))","v":""},"",{"$f":"IF(D684<>\"\",D684,\"\")","v":""},{"$f":"IF(E684<>\"\",E684,\"\")","v":""},{"$f":"IF(F684<>\"\",F684,\"\")","v":""},{"$f":"IF(N684<>\"\",IF(D685<>\"\",D685,D684),\"\")","v":""},{"$f":"IF(N684<>\"\",IF(E685<>\"\",E685,E684),\"\")","v":""},{"$f":"IF(N684<>\"\",IF(F685<>\"\",F685,F684),\"\")","v":""}]
[null,null,null,null,null,null,null,null,null,null,null,null,null,null,null,""]
[null,null,null,null,null,null,null,null,null,null,null,null,null,{"$f":"IF(A686<>\"\",TEXT(A686,\"\"),\"\")","v":""},{"$f":"IF(N686=\"\",\"\",CONCATENATE(IF(C686<>\"\",TEXT(C686,\"\"),\"\"),\" - \",IF(K686<>\"\",TEXT(K686,\"\"),\"\")))","v":""},"",{"$f":"IF(D686<>\"\",D686,\"\")","v":""},{"$f":"IF(E686<>\"\",E686,\"\")","v":""},{"$f":"IF(F686<>\"\",F686,\"\")","v":""},{"$f":"IF(N686<>\"\",IF(D687<>\"\",D687,D686),\"\")","v":""},{"$f":"IF(N686<>\"\",IF(E687<>\"\",E687,E686),\"\")","v":""},{"$f":"IF(N686<>\"\",IF(F687<>\"\",F687,F686),\"\")","v":""}]
[null,null,null,null,null,null,null,null,null,null,null,null,null,null,null,""]
[null,null,null,null,null,null,null,null,null,null,null,null,null,{"$f":"IF(A688<>\"\",TEXT(A688,\"\"),\"\")","v":""},{"$f":"IF(N688=\"\",\"\",CONCATENATE(IF(C688<>\"\",TEXT(C688,\"\"),\"\"),\" - \",IF(K688<>\"\",TEXT(K688,\"\"),\"\")))","v":""},"",{"$f":"IF(D688<>\"\",D688,\"\")","v":""},{"$f":"IF(E688<>\"\",E688,\"\")","v":""},{"$f":"IF(F688<>\"\",F688,\"\")","v":""},{"$f":"IF(N688<>\"\",IF(D689<>\"\",D689,D688),\"\")","v":""},{"$f":"IF(N688<>\"\",IF(E689<>\"\",E689,E688),\"\")","v":""},{"$f":"IF(N688<>\"\",IF(F689<>\"\",F689,F688),\"\")","v":""}]
[null,null,null,null,null,null,null,null,null,null,null,null,null,null,null,""]
[null,null,null,null,null,null,null,null,null,null,null,null,null,{"$f":"IF(A690<>\"\",TEXT(A690,\"\"),\"\")","v":""},{"$f":"IF(N690=\"\",\"\",CONCATENATE(IF(C690<>\"\",TEXT(C690,\"\"),\"\"),\" - \",IF(K690<>\"\",TEXT(K690,\"\"),\"\")))","v":""},"",{"$f":"IF(D690<>\"\",D690,\"\")","v":""},{"$f":"IF(E690<>\"\",E690,\"\")","v":""},{"$f":"IF(F690<>\"\",F690,\"\")","v":""},{"$f":"IF(N690<>\"\",IF(D691<>\"\",D691,D690),\"\")","v":""},{"$f":"IF(N690<>\"\",IF(E691<>\"\",E691,E690),\"\")","v":""},{"$f":"IF(N690<>\"\",IF(F691<>\"\",F691,F690),\"\")","v":""}]
[null,null,null,null,null,null,null,null,null,null,null,null,null,null,null,""]
[null,null,null,null,null,null,null,null,null,null,null,null,null,{"$f":"IF(A692<>\"\",TEXT(A692,\"\"),\"\")","v":""},{"$f":"IF(N692=\"\",\"\",CONCATENATE(IF(C692<>\"\",TEXT(C692,\"\"),\"\"),\" - \",IF(K692<>\"\",TEXT(K692,\"\"),\"\")))","v":""},"",{"$f":"IF(D692<>\"\",D692,\"\")","v":""},{"$f":"IF(E692<>\"\",E692,\"\")","v":""},{"$f":"IF(F692<>\"\",F692,\"\")","v":""},{"$f":"IF(N692<>\"\",IF(D693<>\"\",D693,D692),\"\")","v":""},{"$f":"IF(N692<>\"\",IF(E693<>\"\",E693,E692),\"\")","v":""},{"$f":"IF(N692<>\"\",IF(F693<>\"\",F693,F692),\"\")","v":""}]
[null,null,null,null,null,null,null,null,null,null,null,null,null,null,null,""]
[null,null,null,null,null,null,null,null,null,null,null,null,null,{"$f":"IF(A694<>\"\",TEXT(A694,\"\"),\"\")","v":""},{"$f":"IF(N694=\"\",\"\",CONCATENATE(IF(C694<>\"\",TEXT(C694,\"\"),\"\"),\" - \",IF(K694<>\"\",TEXT(K694,\"\"),\"\")))","v":""},"",{"$f":"IF(D694<>\"\",D694,\"\")","v":""},{"$f":"IF(E694<>\"\",E694,\"\")","v":""},{"$f":"IF(F694<>\"\",F694,\"\")","v":""},{"$f":"IF(N694<>\"\",IF(D695<>\"\",D695,D694),\"\")","v":""},{"$f":"IF(N694<>\"\",IF(E695<>\"\",E695,E694),\"\")","v":""},{"$f":"IF(N694<>\"\",IF(F695<>\"\",F695,F694),\"\")","v":""}]
[null,null,null,null,null,null,null,null,null,null,null,null,null,null,null,""]
[null,null,null,null,null,null,null,null,null,null,null,null,null,{"$f":"IF(A696<>\"\",TEXT(A696,\"\"),\"\")","v":""},{"$f":"IF(N696=\"\",\"\",CONCATENATE(IF(C696<>\"\",TEXT(C696,\"\"),\"\"),\" - \",IF(K696<>\"\",TEXT(K696,\"\"),\"\")))","v":""},"",{"$f":"IF(D696<>\"\",D696,\"\")","v":""},{"$f":"IF(E696<>\"\",E696,\"\")","v":""},{"$f":"IF(F696<>\"\",F696,\"\")","v":""},{"$f":"IF(N696<>\"\",IF(D697<>\"\",D697,D696),\"\")","v":""},{"$f":"IF(N696<>\"\",IF(E697<>\"\",E697,E696),\"\")","v":""},{"$f":"IF(N696<>\"\",IF(F697<>\"\",F697,F696),\"\")","v":""}]
[null,null,null,null,null,null,null,null,null,null,null,null,null,null,null,""]
[null,null,null,null,null,null,null,null,null,null,null,null,null,{"$f":"IF(A698<>\"\",TEXT(A698,\"\"),\"\")","v":""},{"$f":"IF(N698=\"\",\"\",CONCATENATE(IF(C698<>\"\",TEXT(C698,\"\"),\"\"),\" - \",IF(K698<>\"\",TEXT(K698,\"\"),\"\")))","v":""},"",{"$f":"IF(D698<>\"\",D698,\"\")","v":""},{"$f":"IF(E698<>\"\",E698,\"\")","v":""},{"$f":"IF(F698<>\"\",F698,\"\")","v":""},{"$f":"IF(N698<>\"\",IF(D699<>\"\",D699,D698),\"\")","v":""},{"$f":"IF(N698<>\"\",IF(E699<>\"\",E699,E698),\"\")","v":""},{"$f":"IF(N698<>\"\",IF(F699<>\"\",F699,F698),\"\")","v":""}]
[null,null,null,null,null,null,null,null,null,null,null,null,null,null,null,""]
[null,null,null,null,null,null,null,null,null,null,null,null,null,{"$f":"IF(A700<>\"\",TEXT(A700,\"\"),\"\")","v":""},{"$f":"IF(N700=\"\",\"\",CONCATENATE(IF(C700<>\"\",TEXT(C700,\"\"),\"\"),\" - \",IF(K700<>\"\",TEXT(K700,\"\"),\"\")))","v":""},"",{"$f":"IF(D700<>\"\",D700,\"\")","v":""},{"$f":"IF(E700<>\"\",E700,\"\")","v":""},{"$f":"IF(F700<>\"\",F700,\"\")","v":""},{"$f":"IF(N700<>\"\",IF(D701<>\"\",D701,D700),\"\")","v":""},{"$f":"IF(N700<>\"\",IF(E701<>\"\",E701,E700),\"\")","v":""},{"$f":"IF(N700<>\"\",IF(F701<>\"\",F701,F700),\"\")","v":""}]
[null,null,null,null,null,null,null,null,null,null,null,null,null,null,null,""]
[null,null,null,null,null,null,null,null,null,null,null,null,null,{"$f":"IF(A702<>\"\",TEXT(A702,\"\"),\"\")","v":""},{"$f":"IF(N702=\"\",\"\",CONCATENATE(IF(C702<>\"\",TEXT(C702,\"\"),\"\"),\" - \",IF(K702<>\"\",TEXT(K702,\"\"),\"\")))","v":""},"",{"$f":"IF(D702<>\"\",D702,\"\")","v":""},{"$f":"IF(E702<>\"\",E702,\"\")","v":""},{"$f":"IF(F702<>\"\",F702,\"\")","v":""},{"$f":"IF(N702<>\"\",IF(D703<>\"\",D703,D702),\"\")","v":""},{"$f":"IF(N702<>\"\",IF(E703<>\"\",E703,E702),\"\")","v":""},{"$f":"IF(N702<>\"\",IF(F703<>\"\",F703,F702),\"\")","v":""}]
[null,null,null,null,null,null,null,null,null,null,null,null,null,null,null,""]
[null,null,null,null,null,null,null,null,null,null,null,null,null,{"$f":"IF(A704<>\"\",TEXT(A704,\"\"),\"\")","v":""},{"$f":"IF(N704=\"\",\"\",CONCATENATE(IF(C704<>\"\",TEXT(C704,\"\"),\"\"),\" - \",IF(K704<>\"\",TEXT(K704,\"\"),\"\")))","v":""},"",{"$f":"IF(D704<>\"\",D704,\"\")","v":""},{"$f":"IF(E704<>\"\",E704,\"\")","v":""},{"$f":"IF(F704<>\"\",F704,\"\")","v":""},{"$f":"IF(N704<>\"\",IF(D705<>\"\",D705,D704),\"\")","v":""},{"$f":"IF(N704<>\"\",IF(E705<>\"\",E705,E704),\"\")","v":""},{"$f":"IF(N704<>\"\",IF(F705<>\"\",F705,F704),\"\")","v":""}]
[null,null,null,null,null,null,null,null,null,null,null,null,null,null,null,""]
[null,null,null,null,null,null,null,null,null,null,null,null,null,{"$f":"IF(A706<>\"\",TEXT(A706,\"\"),\"\")","v":""},{"$f":"IF(N706=\"\",\"\",CONCATENATE(IF(C706<>\"\",TEXT(C706,\"\"),\"\"),\" - \",IF(K706<>\"\",TEXT(K706,\"\"),\"\")))","v":""},"",{"$f":"IF(D706<>\"\",D706,\"\")","v":""},{"$f":"IF(E706<>\"\",E706,\"\")","v":""},{"$f":"IF(F706<>\"\",F706,\"\")","v":""},{"$f":"IF(N706<>\"\",IF(D707<>\"\",D707,D706),\"\")","v":""},{"$f":"IF(N706<>\"\",IF(E707<>\"\",E707,E706),\"\")","v":""},{"$f":"IF(N706<>\"\",IF(F707<>\"\",F707,F706),\"\")","v":""}]
[null,null,null,null,null,null,null,null,null,null,null,null,null,null,null,{"$f":"SUBSTITUTE(SUBSTITUTE(SUBSTITUTE(SUBSTITUTE(IF(L707<>\"\",HLink(L707),\"\"),\"htm\",\"html\"),\"1x2\",\"analysis\"),\"www\",\"www\"),\"com\",\"vip\")","v":""}]
[null,null,null,null,null,null,null,null,null,null,null,null,null,{"$f":"IF(A708<>\"\",TEXT(A708,\"\"),\"\")","v":""},{"$f":"IF(N708=\"\",\"\",CONCATENATE(IF(C708<>\"\",TEXT(C708,\"\"),\"\"),\" - \",IF(K708<>\"\",TEXT(K708,\"\"),\"\")))","v":""},"",{"$f":"IF(D708<>\"\",D708,\"\")","v":""},{"$f":"IF(E708<>\"\",E708,\"\")","v":""},{"$f":"IF(F708<>\"\",F708,\"\")","v":""},{"$f":"IF(N708<>\"\",IF(D709<>\"\",D709,D708),\"\")","v":""},{"$f":"IF(N708<>\"\",IF(E709<>\"\",E709,E708),\"\")","v":""},{"$f":"IF(N708<>\"\",IF(F709<>\"\",F709,F708),\"\")","v":""}]
[null,null,null,null,null,null,null,null,null,null,null,null,null,null,null,""]
[null,null,null,null,null,null,null,null,null,null,null,null,null,{"$f":"IF(A710<>\"\",TEXT(A710,\"\"),\"\")","v":""},{"$f":"IF(N710=\"\",\"\",CONCATENATE(IF(C710<>\"\",TEXT(C710,\"\"),\"\"),\" - \",IF(K710<>\"\",TEXT(K710,\"\"),\"\")))","v":""},"",{"$f":"IF(D710<>\"\",D710,\"\")","v":""},{"$f":"IF(E710<>\"\",E710,\"\")","v":""},{"$f":"IF(F710<>\"\",F710,\"\")","v":""},{"$f":"IF(N710<>\"\",IF(D711<>\"\",D711,D710),\"\")","v":""},{"$f":"IF(N710<>\"\",IF(E711<>\"\",E711,E710),\"\")","v":""},{"$f":"IF(N710<>\"\",IF(F711<>\"\",F711,F710),\"\")","v":""}]
[null,null,null,null,null,null,null,null,null,null,null,null,null,null,null,""]
[null,null,null,null,null,null,null,null,null,null,null,null,null,{"$f":"IF(A712<>\"\",TEXT(A712,\"\"),\"\")","v":""},{"$f":"IF(N712=\"\",\"\",CONCATENATE(IF(C712<>\"\",TEXT(C712,\"\"),\"\"),\" - \",IF(K712<>\"\",TEXT(K712,\"\"),\"\")))","v":""},"",{"$f":"IF(D712<>\"\",D712,\"\")","v":""},{"$f":"IF(E712<>\"\",E712,\"\")","v":""},{"$f":"IF(F712<>\"\",F712,\"\")","v":""},{"$f":"IF(N712<>\"\",IF(D713<>\"\",D713,D712),\"\")","v":""},{"$f":"IF(N712<>\"\",IF(E713<>\"\",E713,E712),\"\")","v":""},{"$f":"IF(N712<>\"\",IF(F713<>\"\",F713,F712),\"\")","v":""}]
[null,null,null,null,null,null,null,null,null,null,null,null,null,null,null,""]
[null,null,null,null,null,null,null,null,null,null,null,null,null,{"$f":"IF(A714<>\"\",TEXT(A714,\"\"),\"\")","v":""},{"$f":"IF(N714=\"\",\"\",CONCATENATE(IF(C714<>\"\",TEXT(C714,\"\"),\"\"),\" - \",IF(K714<>\"\",TEXT(K714,\"\"),\"\")))","v":""},"",{"$f":"IF(D714<>\"\",D714,\"\")","v":""},{"$f":"IF(E714<>\"\",E714,\"\")","v":""},{"$f":"IF(F714<>\"\",F714,\"\")","v":""},{"$f":"IF(N714<>\"\",IF(D715<>\"\",D715,D714),\"\")","v":""},{"$f":"IF(N714<>\"\",IF(E715<>\"\",E715,E714),\"\")","v":""},{"$f":"IF(N714<>\"\",IF(F715<>\"\",F715,F714),\"\")","v":""}]
[null,null,null,null,null,null,null,null,null,null,null,null,null,null,null,""]
[null,null,null,null,null,null,null,null,null,null,null,null,null,{"$f":"IF(A716<>\"\",TEXT(A716,\"\"),\"\")","v":""},{"$f":"IF(N716=\"\",\"\",CONCATENATE(IF(C716<>\"\",TEXT(C716,\"\"),\"\"),\" - \",IF(K716<>\"\",TEXT(K716,\"\"),\"\")))","v":""},"",{"$f":"IF(D716<>\"\",D716,\"\")","v":""},{"$f":"IF(E716<>\"\",E716,\"\")","v":""},{"$f":"IF(F716<>\"\",F716,\"\")","v":""},{"$f":"IF(N716<>\"\",IF(D717<>\"\",D717,D716),\"\")","v":""},{"$f":"IF(N716<>\"\",IF(E717<>\"\",E717,E716),\"\")","v":""},{"$f":"IF(N716<>\"\",IF(F717<>\"\",F717,F716),\"\")","v":""}]
[null,null,null,null,null,null,null,null,null,null,null,null,null,null,null,""]
[null,null,null,null,null,null,null,null,null,null,null,null,null,{"$f":"IF(A718<>\"\",TEXT(A718,\"\"),\"\")","v":""},{"$f":"IF(N718=\"\",\"\",CONCATENATE(IF(C718<>\"\",TEXT(C718,\"\"),\"\"),\" - \",IF(K718<>\"\",TEXT(K718,\"\"),\"\")))","v":""},"",{"$f":"IF(D718<>\"\",D718,\"\")","v":""},{"$f":"IF(E718<>\"\",E718,\"\")","v":""},{"$f":"IF(F718<>\"\",F718,\"\")","v":""},{"$f":"IF(N718<>\"\",IF(D719<>\"\",D719,D718),\"\")","v":""},{"$f":"IF(N718<>\"\",IF(E719<>\"\",E719,E718),\"\")","v":""},{"$f":"IF(N718<>\"\",IF(F719<>\"\",F719,F718),\"\")","v":""}]
[null,null,null,null,null,null,null,null,null,null,null,null,null,null,null,""]
[null,null,null,null,null,null,null,null,null,null,null,null,null,{"$f":"IF(A720<>\"\",TEXT(A720,\"\"),\"\")","v":""},{"$f":"IF(N720=\"\",\"\",CONCATENATE(IF(C720<>\"\",TEXT(C720,\"\"),\"\"),\" - \",IF(K720<>\"\",TEXT(K720,\"\"),\"\")))","v":""},"",{"$f":"IF(D720<>\"\",D720,\"\")","v":""},{"$f":"IF(E720<>\"\",E720,\"\")","v":""},{"$f":"IF(F720<>\"\",F720,\"\")","v":""},{"$f":"IF(N720<>\"\",IF(D721<>\"\",D721,D720),\"\")","v":""},{"$f":"IF(N720<>\"\",IF(E721<>\"\",E721,E720),\"\")","v":""},{"$f":"IF(N720<>\"\",IF(F721<>\"\",F721,F720),\"\")","v":""}]
[null,null,null,null,null,null,null,null,null,null,null,null,null,null,null,""]
[null,null,null,null,null,null,null,null,null,null,null,null,null,{"$f":"IF(A722<>\"\",TEXT(A722,\"\"),\"\")","v":""},{"$f":"IF(N722=\"\",\"\",CONCATENATE(IF(C722<>\"\",TEXT(C722,\"\"),\"\"),\" - \",IF(K722<>\"\",TEXT(K722,\"\"),\"\")))","v":""},"",{"$f":"IF(D722<>\"\",D722,\"\")","v":""},{"$f":"IF(E722<>\"\",E722,\"\")","v":""},{"$f":"IF(F722<>\"\",F722,\"\")","v":""},{"$f":"IF(N722<>\"\",IF(D723<>\"\",D723,D722),\"\")","v":""},{"$f":"IF(N722<>\"\",IF(E723<>\"\",E723,E722),\"\")","v":""},{"$f":"IF(N722<>\"\",IF(F723<>\"\",F723,F722),\"\")","v":""}]
[null,null,null,null,null,null,null,null,null,null,null,null,null,null,null,""]
[null,null,null,null,null,null,null,null,null,null,null,null,null,{"$f":"IF(A724<>\"\",TEXT(A724,\"\"),\"\")","v":""},{"$f":"IF(N724=\"\",\"\",CONCATENATE(IF(C724<>\"\",TEXT(C724,\"\"),\"\"),\" - \",IF(K724<>\"\",TEXT(K724,\"\"),\"\")))","v":""},"",{"$f":"IF(D724<>\"\",D724,\"\")","v":""},{"$f":"IF(E724<>\"\",E724,\"\")","v":""},{"$f":"IF(F724<>\"\",F724,\"\")","v":""},{"$f":"IF(N724<>\"\",IF(D725<>\"\",D725,D724),\"\")","v":""},{"$f":"IF(N724<>\"\",IF(E725<>\"\",E725,E724),\"\")","v":""},{"$f":"IF(N724<>\"\",IF(F725<>\"\",F725,F724),\"\")","v":""}]
[null,null,null,null,null,null,null,null,null,null,null,null,null,null,null,""]
[null,null,null,null,null,null,null,null,null,null,null,null,null,{"$f":"IF(A726<>\"\",TEXT(A726,\"\"),\"\")","v":""},{"$f":"IF(N726=\"\",\"\",CONCATENATE(IF(C726<>\"\",TEXT(C726,\"\"),\"\"),\" - \",IF(K726<>\"\",TEXT(K726,\"\"),\"\")))","v":""},"",{"$f":"IF(D726<>\"\",D726,\"\")","v":""},{"$f":"IF(E726<>\"\",E726,\"\")","v":""},{"$f":"IF(F726<>\"\",F726,\"\")","v":""},{"$f":"IF(N726<>\"\",IF(D727<>\"\",D727,D726),\"\")","v":""},{"$f":"IF(N726<>\"\",IF(E727<>\"\",E727,E726),\"\")","v":""},{"$f":"IF(N726<>\"\",IF(F727<>\"\",F727,F726),\"\")","v":""}]
[null,null,null,null,null,null,null,null,null,null,null,null,null,null,null,""]
[null,null,null,null,null,null,null,null,null,null,null,null,null,{"$f":"IF(A728<>\"\",TEXT(A728,\"\"),\"\")","v":""},{"$f":"IF(N728=\"\",\"\",CONCATENATE(IF(C728<>\"\",TEXT(C728,\"\"),\"\"),\" - \",IF(K728<>\"\",TEXT(K728,\"\"),\"\")))","v":""},"",{"$f":"IF(D728<>\"\",D728,\"\")","v":""},{"$f":"IF(E728<>\"\",E728,\"\")","v":""},{"$f":"IF(F728<>\"\",F728,\"\")","v":""},{"$f":"IF(N728<>\"\",IF(D729<>\"\",D729,D728),\"\")","v":""},{"$f":"IF(N728<>\"\",IF(E729<>\"\",E729,E728),\"\")","v":""},{"$f":"IF(N728<>\"\",IF(F729<>\"\",F729,F728),\"\")","v":""}]
[null,null,null,null,null,null,null,null,null,null,null,null,null,null,null,""]
[null,null,null,null,null,null,null,null,null,null,null,null,null,{"$f":"IF(A730<>\"\",TEXT(A730,\"\"),\"\")","v":""},{"$f":"IF(N730=\"\",\"\",CONCATENATE(IF(C730<>\"\",TEXT(C730,\"\"),\"\"),\" - \",IF(K730<>\"\",TEXT(K730,\"\"),\"\")))","v":""},"",{"$f":"IF(D730<>\"\",D730,\"\")","v":""},{"$f":"IF(E730<>\"\",E730,\"\")","v":""},{"$f":"IF(F730<>\"\",F730,\"\")","v":""},{"$f":"IF(N730<>\"\",IF(D731<>\"\",D731,D730),\"\")","v":""},{"$f":"IF(N730<>\"\",IF(E731<>\"\",E731,E730),\"\")","v":""},{"$f":"IF(N730<>\"\",IF(F731<>\"\",F731,F730),\"\")","v":""}]
[null,null,null,null,null,null,null,null,null,null,null,null,null,null,null,""]
[null,null,null,null,null,null,null,null,null,null,null,null,null,{"$f":"IF(A732<>\"\",TEXT(A732,\"\"),\"\")","v":""},{"$f":"IF(N732=\"\",\"\",CONCATENATE(IF(C732<>\"\",TEXT(C732,\"\"),\"\"),\" - \",IF(K732<>\"\",TEXT(K732,\"\"),\"\")))","v":""},"",{"$f":"IF(D732<>\"\",D732,\"\")","v":""},{"$f":"IF(E732<>\"\",E732,\"\")","v":""},{"$f":"IF(F732<>\"\",F732,\"\")","v":""},{"$f":"IF(N732<>\"\",IF(D733<>\"\",D733,D732),\"\")","v":""},{"$f":"IF(N732<>\"\",IF(E733<>\"\",E733,E732),\"\")","v":""},{"$f":"IF(N732<>\"\",IF(F733<>\"\",F733,F732),\"\")","v":""}]
[null,null,null,null,null,null,null,null,null,null,null,null,null,null,null,""]
[null,null,null,null,null,null,null,null,null,null,null,null,null,{"$f":"IF(A734<>\"\",TEXT(A734,\"\"),\"\")","v":""},{"$f":"IF(N734=\"\",\"\",CONCATENATE(IF(C734<>\"\",TEXT(C734,\"\"),\"\"),\" - \",IF(K734<>\"\",TEXT(K734,\"\"),\"\")))","v":""},"",{"$f":"IF(D734<>\"\",D734,\"\")","v":""},{"$f":"IF(E734<>\"\",E734,\"\")","v":""},{"$f":"IF(F734<>\"\",F734,\"\")","v":""},{"$f":"IF(N734<>\"\",IF(D735<>\"\",D735,D734),\"\")","v":""},{"$f":"IF(N734<>\"\",IF(E735<>\"\",E735,E734),\"\")","v":""},{"$f":"IF(N734<>\"\",IF(F735<>\"\",F735,F734),\"\")","v":""}]
[null,null,null,null,null,null,null,null,null,null,null,null,null,null,null,""]
[null,null,null,null,null,null,null,null,null,null,null,null,null,{"$f":"IF(A736<>\"\",TEXT(A736,\"\"),\"\")","v":""},{"$f":"IF(N736=\"\",\"\",CONCATENATE(IF(C736<>\"\",TEXT(C736,\"\"),\"\"),\" - \",IF(K736<>\"\",TEXT(K736,\"\"),\"\")))","v":""},"",{"$f":"IF(D736<>\"\",D736,\"\")","v":""},{"$f":"IF(E736<>\"\",E736,\"\")","v":""},{"$f":"IF(F736<>\"\",F736,\"\")","v":""},{"$f":"IF(N736<>\"\",IF(D737<>\"\",D737,D736),\"\")","v":""},{"$f":"IF(N736<>\"\",IF(E737<>\"\",E737,E736),\"\")","v":""},{"$f":"IF(N736<>\"\",IF(F737<>\"\",F737,F736),\"\")","v":""}]
[null,null,null,null,null,null,null,null,null,null,null,null,null,null,null,""]
[null,null,null,null,null,null,null,null,null,null,null,null,null,{"$f":"IF(A738<>\"\",TEXT(A738,\"\"),\"\")","v":""},{"$f":"IF(N738=\"\",\"\",CONCATENATE(IF(C738<>\"\",TEXT(C738,\"\"),\"\"),\" - \",IF(K738<>\"\",TEXT(K738,\"\"),\"\")))","v":""},"",{"$f":"IF(D738<>\"\",D738,\"\")","v":""},{"$f":"IF(E738<>\"\",E738,\"\")","v":""},{"$f":"IF(F738<>\"\",F738,\"\")","v":""},{"$f":"IF(N738<>\"\",IF(D739<>\"\",D739,D738),\"\")","v":""},{"$f":"IF(N738<>\"\",IF(E739<>\"\",E739,E738),\"\")","v":""},{"$f":"IF(N738<>\"\",IF(F739<>\"\",F739,F738),\"\")","v":""}]
[null,null,null,null,null,null,null,null,null,null,null,null,null,null,null,""]
[null,null,null,null,null,null,null,null,null,null,null,null,null,{"$f":"IF(A740<>\"\",TEXT(A740,\"\"),\"\")","v":""},{"$f":"IF(N740=\"\",\"\",CONCATENATE(IF(C740<>\"\",TEXT(C740,\"\"),\"\"),\" - \",IF(K740<>\"\",TEXT(K740,\"\"),\"\")))","v":""},"",{"$f":"IF(D740<>\"\",D740,\"\")","v":""},{"$f":"IF(E740<>\"\",E740,\"\")","v":""},{"$f":"IF(F740<>\"\",F740,\"\")","v":""},{"$f":"IF(N740<>\"\",IF(D741<>\"\",D741,D740),\"\")","v":""},{"$f":"IF(N740<>\"\",IF(E741<>\"\",E741,E740),\"\")","v":""},{"$f":"IF(N740<>\"\",IF(F741<>\"\",F741,F740),\"\")","v":""}]
[null,null,null,null,null,null,null,null,null,null,null,null,null,null,null,""]
[null,null,null,null,null,null,null,null,null,null,null,null,null,{"$f":"IF(A742<>\"\",TEXT(A742,\"\"),\"\")","v":""},{"$f":"IF(N742=\"\",\"\",CONCATENATE(IF(C742<>\"\",TEXT(C742,\"\"),\"\"),\" - \",IF(K742<>\"\",TEXT(K742,\"\"),\"\")))","v":""},"",{"$f":"IF(D742<>\"\",D742,\"\")","v":""},{"$f":"IF(E742<>\"\",E742,\"\")","v":""},{"$f":"IF(F742<>\"\",F742,\"\")","v":""},{"$f":"IF(N742<>\"\",IF(D743<>\"\",D743,D742),\"\")","v":""},{"$f":"IF(N742<>\"\",IF(E743<>\"\",E743,E742),\"\")","v":""},{"$f":"IF(N742<>\"\",IF(F743<>\"\",F743,F742),\"\")","v":""}]
[null,null,null,null,null,null,null,null,null,null,null,null,null,null,null,""]
[null,null,null,null,null,null,null,null,null,null,null,null,null,{"$f":"IF(A744<>\"\",TEXT(A744,\"\"),\"\")","v":""},{"$f":"IF(N744=\"\",\"\",CONCATENATE(IF(C744<>\"\",TEXT(C744,\"\"),\"\"),\" - \",IF(K744<>\"\",TEXT(K744,\"\"),\"\")))","v":""},"",{"$f":"IF(D744<>\"\",D744,\"\")","v":""},{"$f":"IF(E744<>\"\",E744,\"\")","v":""},{"$f":"IF(F744<>\"\",F744,\"\")","v":""},{"$f":"IF(N744<>\"\",IF(D745<>\"\",D745,D744),\"\")","v":""},{"$f":"IF(N744<>\"\",IF(E745<>\"\",E745,E744),\"\")","v":""},{"$f":"IF(N744<>\"\",IF(F745<>\"\",F745,F744),\"\")","v":""}]
[null,null,null,null,null,null,null,null,null,null,null,null,null,null,null,""]
[null,null,null,null,null,null,null,null,null,null,null,null,null,{"$f":"IF(A746<>\"\",TEXT(A746,\"\"),\"\")","v":""},{"$f":"IF(N746=\"\",\"\",CONCATENATE(IF(C746<>\"\",TEXT(C746,\"\"),\"\"),\" - \",IF(K746<>\"\",TEXT(K746,\"\"),\"\")))","v":""},"",{"$f":"IF(D746<>\"\",D746,\"\")","v":""},{"$f":"IF(E746<>\"\",E746,\"\")","v":""},{"$f":"IF(F746<>\"\",F746,\"\")","v":""},{"$f":"IF(N746<>\"\",IF(D747<>\"\",D747,D746),\"\")","v":""},{"$f":"IF(N746<>\"\",IF(E747<>\"\",E747,E746),\"\")","v":""},{"$f":"IF(N746<>\"\",IF(F747<>\"\",F747,F746),\"\")","v":""}]
[null,null,null,null,null,null,null,null,null,null,null,null,null,null,null,""]
[null,null,null,null,null,null,null,null,null,null,null,null,null,{"$f":"IF(A748<>\"\",TEXT(A748,\"\"),\"\")","v":""},{"$f":"IF(N748=\"\",\"\",CONCATENATE(IF(C748<>\"\",TEXT(C748,\"\"),\"\"),\" - \",IF(K748<>\"\",TEXT(K748,\"\"),\"\")))","v":""},"",{"$f":"IF(D748<>\"\",D748,\"\")","v":""},{"$f":"IF(E748<>\"\",E748,\"\")","v":""},{"$f":"IF(F748<>\"\",F748,\"\")","v":""},{"$f":"IF(N748<>\"\",IF(D749<>\"\",D749,D748),\"\")","v":""},{"$f":"IF(N748<>\"\",IF(E749<>\"\",E749,E748),\"\")","v":""},{"$f":"IF(N748<>\"\",IF(F749<>\"\",F749,F748),\"\")","v":""}]
[null,null,null,null,null,null,null,null,null,null,null,null,null,null,null,""]
[null,null,null,null,null,null,null,null,null,null,null,null,null,{"$f":"IF(A750<>\"\",TEXT(A750,\"\"),\"\")","v":""},{"$f":"IF(N750=\"\",\"\",CONCATENATE(IF(C750<>\"\",TEXT(C750,\"\"),\"\"),\" - \",IF(K750<>\"\",TEXT(K750,\"\"),\"\")))","v":""},"",{"$f":"IF(D750<>\"\",D750,\"\")","v":""},{"$f":"IF(E750<>\"\",E750,\"\")","v":""},{"$f":"IF(F750<>\"\",F750,\"\")","v":""},{"$f":"IF(N750<>\"\",IF(D751<>\"\",D751,D750),\"\")","v":""},{"$f":"IF(N750<>\"\",IF(E751<>\"\",E751,E750),\"\")","v":""},{"$f":"IF(N750<>\"\",IF(F751<>\"\",F751,F750),\"\")","v":""}]
[null,null,null,null,null,null,null,null,null,null,null,null,null,null,null,""]
[null,null,null,null,null,null,null,null,null,null,null,null,null,{"$f":"IF(A752<>\"\",TEXT(A752,\"\"),\"\")","v":""},{"$f":"IF(N752=\"\",\"\",CONCATENATE(IF(C752<>\"\",TEXT(C752,\"\"),\"\"),\" - \",IF(K752<>\"\",TEXT(K752,\"\"),\"\")))","v":""},"",{"$f":"IF(D752<>\"\",D752,\"\")","v":""},{"$f":"IF(E752<>\"\",E752,\"\")","v":""},{"$f":"IF(F752<>\"\",F752,\"\")","v":""},{"$f":"IF(N752<>\"\",IF(D753<>\"\",D753,D752),\"\")","v":""},{"$f":"IF(N752<>\"\",IF(E753<>\"\",E753,E752),\"\")","v":""},{"$f":"IF(N752<>\"\",IF(F753<>\"\",F753,F752),\"\")","v":""}]
[null,null,null,null,null,null,null,null,null,null,null,null,null,null,null,""]
[null,null,null,null,null,null,null,null,null,null,null,null,null,{"$f":"IF(A754<>\"\",TEXT(A754,\"\"),\"\")","v":""},{"$f":"IF(N754=\"\",\"\",CONCATENATE(IF(C754<>\"\",TEXT(C754,\"\"),\"\"),\" - \",IF(K754<>\"\",TEXT(K754,\"\"),\"\")))","v":""},"",{"$f":"IF(D754<>\"\",D754,\"\")","v":""},{"$f":"IF(E754<>\"\",E754,\"\")","v":""},{"$f":"IF(F754<>\"\",F754,\"\")","v":""},{"$f":"IF(N754<>\"\",IF(D755<>\"\",D755,D754),\"\")","v":""},{"$f":"IF(N754<>\"\",IF(E755<>\"\",E755,E754),\"\")","v":""},{"$f":"IF(N754<>\"\",IF(F755<>\"\",F755,F754),\"\")","v":""}]
[null,null,null,null,null,null,null,null,null,null,null,null,null,null,null,""]
[null,null,null,null,null,null,null,null,null,null,null,null,null,{"$f":"IF(A756<>\"\",TEXT(A756,\"\"),\"\")","v":""},{"$f":"IF(N756=\"\",\"\",CONCATENATE(IF(C756<>\"\",TEXT(C756,\"\"),\"\"),\" - \",IF(K756<>\"\",TEXT(K756,\"\"),\"\")))","v":""},"",{"$f":"IF(D756<>\"\",D756,\"\")","v":""},{"$f":"IF(E756<>\"\",E756,\"\")","v":""},{"$f":"IF(F756<>\"\",F756,\"\")","v":""},{"$f":"IF(N756<>\"\",IF(D757<>\"\",D757,D756),\"\")","v":""},{"$f":"IF(N756<>\"\",IF(E757<>\"\",E757,E756),\"\")","v":""},{"$f":"IF(N756<>\"\",IF(F757<>\"\",F757,F756),\"\")","v":""}]
[null,null,null,null,null,null,null,null,null,null,null,null,null,null,null,""]
[null,null,null,null,null,null,null,null,null,null,null,null,null,{"$f":"IF(A758<>\"\",TEXT(A758,\"\"),\"\")","v":""},{"$f":"IF(N758=\"\",\"\",CONCATENATE(IF(C758<>\"\",TEXT(C758,\"\"),\"\"),\" - \",IF(K758<>\"\",TEXT(K758,\"\"),\"\")))","v":""},"",{"$f":"IF(D758<>\"\",D758,\"\")","v":""},{"$f":"IF(E758<>\"\",E758,\"\")","v":""},{"$f":"IF(F758<>\"\",F758,\"\")","v":""},{"$f":"IF(N758<>\"\",IF(D759<>\"\",D759,D758),\"\")","v":""},{"$f":"IF(N758<>\"\",IF(E759<>\"\",E759,E758),\"\")","v":""},{"$f":"IF(N758<>\"\",IF(F759<>\"\",F759,F758),\"\")","v":""}]
[null,null,null,null,null,null,null,null,null,null,null,null,null,null,null,""]
[null,null,null,null,null,null,null,null,null,null,null,null,null,{"$f":"IF(A760<>\"\",TEXT(A760,\"\"),\"\")","v":""},{"$f":"IF(N760=\"\",\"\",CONCATENATE(IF(C760<>\"\",TEXT(C760,\"\"),\"\"),\" - \",IF(K760<>\"\",TEXT(K760,\"\"),\"\")))","v":""},"",{"$f":"IF(D760<>\"\",D760,\"\")","v":""},{"$f":"IF(E760<>\"\",E760,\"\")","v":""},{"$f":"IF(F760<>\"\",F760,\"\")","v":""},{"$f":"IF(N760<>\"\",IF(D761<>\"\",D761,D760),\"\")","v":""},{"$f":"IF(N760<>\"\",IF(E761<>\"\",E761,E760),\"\")","v":""},{"$f":"IF(N760<>\"\",IF(F761<>\"\",F761,F760),\"\")","v":""}]
[null,null,null,null,null,null,null,null,null,null,null,null,null,null,null,""]
[null,null,null,null,null,null,null,null,null,null,null,null,null,{"$f":"IF(A762<>\"\",TEXT(A762,\"\"),\"\")","v":""},{"$f":"IF(N762=\"\",\"\",CONCATENATE(IF(C762<>\"\",TEXT(C762,\"\"),\"\"),\" - \",IF(K762<>\"\",TEXT(K762,\"\"),\"\")))","v":""},"",{"$f":"IF(D762<>\"\",D762,\"\")","v":""},{"$f":"IF(E762<>\"\",E762,\"\")","v":""},{"$f":"IF(F762<>\"\",F762,\"\")","v":""},{"$f":"IF(N762<>\"\",IF(D763<>\"\",D763,D762),\"\")","v":""},{"$f":"IF(N762<>\"\",IF(E763<>\"\",E763,E762),\"\")","v":""},{"$f":"IF(N762<>\"\",IF(F763<>\"\",F763,F762),\"\")","v":""}]
[null,null,null,null,null,null,null,null,null,null,null,null,null,null,null,""]
[null,null,null,null,null,null,null,null,null,null,null,null,null,{"$f":"IF(A764<>\"\",TEXT(A764,\"\"),\"\")","v":""},{"$f":"IF(N764=\"\",\"\",CONCATENATE(IF(C764<>\"\",TEXT(C764,\"\"),\"\"),\" - \",IF(K764<>\"\",TEXT(K764,\"\"),\"\")))","v":""},"",{"$f":"IF(D764<>\"\",D764,\"\")","v":""},{"$f":"IF(E764<>\"\",E764,\"\")","v":""},{"$f":"IF(F764<>\"\",F764,\"\")","v":""},{"$f":"IF(N764<>\"\",IF(D765<>\"\",D765,D764),\"\")","v":""},{"$f":"IF(N764<>\"\",IF(E765<>\"\",E765,E764),\"\")","v":""},{"$f":"IF(N764<>\"\",IF(F765<>\"\",F765,F764),\"\")","v":""}]
[null,null,null,null,null,null,null,null,null,null,null,null,null,null,null,""]
[null,null,null,null,null,null,null,null,null,null,null,null,null,{"$f":"IF(A766<>\"\",TEXT(A766,\"\"),\"\")","v":""},{"$f":"IF(N766=\"\",\"\",CONCATENATE(IF(C766<>\"\",TEXT(C766,\"\"),\"\"),\" - \",IF(K766<>\"\",TEXT(K766,\"\"),\"\")))","v":""},"",{"$f":"IF(D766<>\"\",D766,\"\")","v":""},{"$f":"IF(E766<>\"\",E766,\"\")","v":""},{"$f":"IF(F766<>\"\",F766,\"\")","v":""},{"$f":"IF(N766<>\"\",IF(D767<>\"\",D767,D766),\"\")","v":""},{"$f":"IF(N766<>\"\",IF(E767<>\"\",E767,E766),\"\")","v":""},{"$f":"IF(N766<>\"\",IF(F767<>\"\",F767,F766),\"\")","v":""}]
[null,null,null,null,null,null,null,null,null,null,null,null,null,null,null,""]
[null,null,null,null,null,null,null,null,null,null,null,null,null,{"$f":"IF(A768<>\"\",TEXT(A768,\"\"),\"\")","v":""},{"$f":"IF(N768=\"\",\"\",CONCATENATE(IF(C768<>\"\",TEXT(C768,\"\"),\"\"),\" - \",IF(K768<>\"\",TEXT(K768,\"\"),\"\")))","v":""},"",{"$f":"IF(D768<>\"\",D768,\"\")","v":""},{"$f":"IF(E768<>\"\",E768,\"\")","v":""},{"$f":"IF(F768<>\"\",F768,\"\")","v":""},{"$f":"IF(N768<>\"\",IF(D769<>\"\",D769,D768),\"\")","v":""},{"$f":"IF(N768<>\"\",IF(E769<>\"\",E769,E768),\"\")","v":""},{"$f":"IF(N768<>\"\",IF(F769<>\"\",F769,F768),\"\")","v":""}]
[null,null,null,null,null,null,null,null,null,null,null,null,null,null,null,""]
[null,null,null,null,null,null,null,null,null,null,null,null,null,{"$f":"IF(A770<>\"\",TEXT(A770,\"\"),\"\")","v":""},{"$f":"IF(N770=\"\",\"\",CONCATENATE(IF(C770<>\"\",TEXT(C770,\"\"),\"\"),\" - \",IF(K770<>\"\",TEXT(K770,\"\"),\"\")))","v":""},"",{"$f":"IF(D770<>\"\",D770,\"\")","v":""},{"$f":"IF(E770<>\"\",E770,\"\")","v":""},{"$f":"IF(F770<>\"\",F770,\"\")","v":""},{"$f":"IF(N770<>\"\",IF(D771<>\"\",D771,D770),\"\")","v":""},{"$f":"IF(N770<>\"\",IF(E771<>\"\",E771,E770),\"\")","v":""},{"$f":"IF(N770<>\"\",IF(F771<>\"\",F771,F770),\"\")","v":""}]
[null,null,null,null,null,null,null,null,null,null,null,null,null,null,null,{"$f":"SUBSTITUTE(SUBSTITUTE(SUBSTITUTE(SUBSTITUTE(IF(L771<>\"\",HLink(L771),\"\"),\"htm\",\"html\"),\"1x2\",\"analysis\"),\"www\",\"www\"),\"com\",\"vip\")","v":""}]
[null,null,null,null,null,null,null,null,null,null,null,null,null,{"$f":"IF(A772<>\"\",TEXT(A772,\"\"),\"\")","v":""},{"$f":"IF(N772=\"\",\"\",CONCATENATE(IF(C772<>\"\",TEXT(C772,\"\"),\"\"),\" - \",IF(K772<>\"\",TEXT(K772,\"\"),\"\")))","v":""},"",{"$f":"IF(D772<>\"\",D772,\"\")","v":""},{"$f":"IF(E772<>\"\",E772,\"\")","v":""},{"$f":"IF(F772<>\"\",F772,\"\")","v":""},{"$f":"IF(N772<>\"\",IF(D773<>\"\",D773,D772),\"\")","v":""},{"$f":"IF(N772<>\"\",IF(E773<>\"\",E773,E772),\"\")","v":""},{"$f":"IF(N772<>\"\",IF(F773<>\"\",F773,F772),\"\")","v":""}]
[null,null,null,null,null,null,null,null,null,null,null,null,null,null,null,""]
[null,null,null,null,null,null,null,null,null,null,null,null,null,{"$f":"IF(A774<>\"\",TEXT(A774,\"\"),\"\")","v":""},{"$f":"IF(N774=\"\",\"\",CONCATENATE(IF(C774<>\"\",TEXT(C774,\"\"),\"\"),\" - \",IF(K774<>\"\",TEXT(K774,\"\"),\"\")))","v":""},"",{"$f":"IF(D774<>\"\",D774,\"\")","v":""},{"$f":"IF(E774<>\"\",E774,\"\")","v":""},{"$f":"IF(F774<>\"\",F774,\"\")","v":""},{"$f":"IF(N774<>\"\",IF(D775<>\"\",D775,D774),\"\")","v":""},{"$f":"IF(N774<>\"\",IF(E775<>\"\",E775,E774),\"\")","v":""},{"$f":"IF(N774<>\"\",IF(F775<>\"\",F775,F774),\"\")","v":""}]
[null,null,null,null,null,null,null,null,null,null,null,null,null,null,null,""]
[null,null,null,null,null,null,null,null,null,null,null,null,null,{"$f":"IF(A776<>\"\",TEXT(A776,\"\"),\"\")","v":""},{"$f":"IF(N776=\"\",\"\",CONCATENATE(IF(C776<>\"\",TEXT(C776,\"\"),\"\"),\" - \",IF(K776<>\"\",TEXT(K776,\"\"),\"\")))","v":""},"",{"$f":"IF(D776<>\"\",D776,\"\")","v":""},{"$f":"IF(E776<>\"\",E776,\"\")","v":""},{"$f":"IF(F776<>\"\",F776,\"\")","v":""},{"$f":"IF(N776<>\"\",IF(D777<>\"\",D777,D776),\"\")","v":""},{"$f":"IF(N776<>\"\",IF(E777<>\"\",E777,E776),\"\")","v":""},{"$f":"IF(N776<>\"\",IF(F777<>\"\",F777,F776),\"\")","v":""}]
[null,null,null,null,null,null,null,null,null,null,null,null,null,null,null,""]
[null,null,null,null,null,null,null,null,null,null,null,null,null,{"$f":"IF(A778<>\"\",TEXT(A778,\"\"),\"\")","v":""},{"$f":"IF(N778=\"\",\"\",CONCATENATE(IF(C778<>\"\",TEXT(C778,\"\"),\"\"),\" - \",IF(K778<>\"\",TEXT(K778,\"\"),\"\")))","v":""},"",{"$f":"IF(D778<>\"\",D778,\"\")","v":""},{"$f":"IF(E778<>\"\",E778,\"\")","v":""},{"$f":"IF(F778<>\"\",F778,\"\")","v":""},{"$f":"IF(N778<>\"\",IF(D779<>\"\",D779,D778),\"\")","v":""},{"$f":"IF(N778<>\"\",IF(E779<>\"\",E779,E778),\"\")","v":""},{"$f":"IF(N778<>\"\",IF(F779<>\"\",F779,F778),\"\")","v":""}]
[null,null,null,null,null,null,null,null,null,null,null,null,null,null,null,""]
[null,null,null,null,null,null,null,null,null,null,null,null,null,{"$f":"IF(A780<>\"\",TEXT(A780,\"\"),\"\")","v":""},{"$f":"IF(N780=\"\",\"\",CONCATENATE(IF(C780<>\"\",TEXT(C780,\"\"),\"\"),\" - \",IF(K780<>\"\",TEXT(K780,\"\"),\"\")))","v":""},"",{"$f":"IF(D780<>\"\",D780,\"\")","v":""},{"$f":"IF(E780<>\"\",E780,\"\")","v":""},{"$f":"IF(F780<>\"\",F780,\"\")","v":""},{"$f":"IF(N780<>\"\",IF(D781<>\"\",D781,D780),\"\")","v":""},{"$f":"IF(N780<>\"\",IF(E781<>\"\",E781,E780),\"\")","v":""},{"$f":"IF(N780<>\"\",IF(F781<>\"\",F781,F780),\"\")","v":""}]
[null,null,null,null,null,null,null,null,null,null,null,null,null,null,null,""]
[null,null,null,null,null,null,null,null,null,null,null,null,null,{"$f":"IF(A782<>\"\",TEXT(A782,\"\"),\"\")","v":""},{"$f":"IF(N782=\"\",\"\",CONCATENATE(IF(C782<>\"\",TEXT(C782,\"\"),\"\"),\" - \",IF(K782<>\"\",TEXT(K782,\"\"),\"\")))","v":""},"",{"$f":"IF(D782<>\"\",D782,\"\")","v":""},{"$f":"IF(E782<>\"\",E782,\"\")","v":""},{"$f":"IF(F782<>\"\",F782,\"\")","v":""},{"$f":"IF(N782<>\"\",IF(D783<>\"\",D783,D782),\"\")","v":""},{"$f":"IF(N782<>\"\",IF(E783<>\"\",E783,E782),\"\")","v":""},{"$f":"IF(N782<>\"\",IF(F783<>\"\",F783,F782),\"\")","v":""}]
[null,null,null,null,null,null,null,null,null,null,null,null,null,null,null,""]
[null,null,null,null,null,null,null,null,null,null,null,null,null,{"$f":"IF(A784<>\"\",TEXT(A784,\"\"),\"\")","v":""},{"$f":"IF(N784=\"\",\"\",CONCATENATE(IF(C784<>\"\",TEXT(C784,\"\"),\"\"),\" - \",IF(K784<>\"\",TEXT(K784,\"\"),\"\")))","v":""},"",{"$f":"IF(D784<>\"\",D784,\"\")","v":""},{"$f":"IF(E784<>\"\",E784,\"\")","v":""},{"$f":"IF(F784<>\"\",F784,\"\")","v":""},{"$f":"IF(N784<>\"\",IF(D785<>\"\",D785,D784),\"\")","v":""},{"$f":"IF(N784<>\"\",IF(E785<>\"\",E785,E784),\"\")","v":""},{"$f":"IF(N784<>\"\",IF(F785<>\"\",F785,F784),\"\")","v":""}]
[null,null,null,null,null,null,null,null,null,null,null,null,null,null,null,""]
[null,null,null,null,null,null,null,null,null,null,null,null,null,{"$f":"IF(A786<>\"\",TEXT(A786,\"\"),\"\")","v":""},{"$f":"IF(N786=\"\",\"\",CONCATENATE(IF(C786<>\"\",TEXT(C786,\"\"),\"\"),\" - \",IF(K786<>\"\",TEXT(K786,\"\"),\"\")))","v":""},"",{"$f":"IF(D786<>\"\",D786,\"\")","v":""},{"$f":"IF(E786<>\"\",E786,\"\")","v":""},{"$f":"IF(F786<>\"\",F786,\"\")","v":""},{"$f":"IF(N786<>\"\",IF(D787<>\"\",D787,D786),\"\")","v":""},{"$f":"IF(N786<>\"\",IF(E787<>\"\",E787,E786),\"\")","v":""},{"$f":"IF(N786<>\"\",IF(F787<>\"\",F787,F786),\"\")","v":""}]
[null,null,null,null,null,null,null,null,null,null,null,null,null,null,null,""]
[null,null,null,null,null,null,null,null,null,null,null,null,null,{"$f":"IF(A788<>\"\",TEXT(A788,\"\"),\"\")","v":""},{"$f":"IF(N788=\"\",\"\",CONCATENATE(IF(C788<>\"\",TEXT(C788,\"\"),\"\"),\" - \",IF(K788<>\"\",TEXT(K788,\"\"),\"\")))","v":""},"",{"$f":"IF(D788<>\"\",D788,\"\")","v":""},{"$f":"IF(E788<>\"\",E788,\"\")","v":""},{"$f":"IF(F788<>\"\",F788,\"\")","v":""},{"$f":"IF(N788<>\"\",IF(D789<>\"\",D789,D788),\"\")","v":""},{"$f":"IF(N788<>\"\",IF(E789<>\"\",E789,E788),\"\")","v":""},{"$f":"IF(N788<>\"\",IF(F789<>\"\",F789,F788),\"\")","v":""}]
[null,null,null,null,null,null,null,null,null,null,null,null,null,null,null,""]
[null,null,null,null,null,null,null,null,null,null,null,null,null,{"$f":"IF(A790<>\"\",TEXT(A790,\"\"),\"\")","v":""},{"$f":"IF(N790=\"\",\"\",CONCATENATE(IF(C790<>\"\",TEXT(C790,\"\"),\"\"),\" - \",IF(K790<>\"\",TEXT(K790,\"\"),\"\")))","v":""},"",{"$f":"IF(D790<>\"\",D790,\"\")","v":""},{"$f":"IF(E790<>\"\",E790,\"\")","v":""},{"$f":"IF(F790<>\"\",F790,\"\")","v":""},{"$f":"IF(N790<>\"\",IF(D791<>\"\",D791,D790),\"\")","v":""},{"$f":"IF(N790<>\"\",IF(E791<>\"\",E791,E790),\"\")","v":""},{"$f":"IF(N790<>\"\",IF(F791<>\"\",F791,F790),\"\")","v":""}]
[null,null,null,null,null,null,null,null,null,null,null,null,null,null,null,""]
[null,null,null,null,null,null,null,null,null,null,null,null,null,{"$f":"IF(A792<>\"\",TEXT(A792,\"\"),\"\")","v":""},{"$f":"IF(N792=\"\",\"\",CONCATENATE(IF(C792<>\"\",TEXT(C792,\"\"),\"\"),\" - \",IF(K792<>\"\",TEXT(K792,\"\"),\"\")))","v":""},"",{"$f":"IF(D792<>\"\",D792,\"\")","v":""},{"$f":"IF(E792<>\"\",E792,\"\")","v":""},{"$f":"IF(F792<>\"\",F792,\"\")","v":""},{"$f":"IF(N792<>\"\",IF(D793<>\"\",D793,D792),\"\")","v":""},{"$f":"IF(N792<>\"\",IF(E793<>\"\",E793,E792),\"\")","v":""},{"$f":"IF(N792<>\"\",IF(F793<>\"\",F793,F792),\"\")","v":""}]
[null,null,null,null,null,null,null,null,null,null,null,null,null,null,null,""]
[null,null,null,null,null,null,null,null,null,null,null,null,null,{"$f":"IF(A794<>\"\",TEXT(A794,\"\"),\"\")","v":""},{"$f":"IF(N794=\"\",\"\",CONCATENATE(IF(C794<>\"\",TEXT(C794,\"\"),\"\"),\" - \",IF(K794<>\"\",TEXT(K794,\"\"),\"\")))","v":""},"",{"$f":"IF(D794<>\"\",D794,\"\")","v":""},{"$f":"IF(E794<>\"\",E794,\"\")","v":""},{"$f":"IF(F794<>\"\",F794,\"\")","v":""},{"$f":"IF(N794<>\"\",IF(D795<>\"\",D795,D794),\"\")","v":""},{"$f":"IF(N794<>\"\",IF(E795<>\"\",E795,E794),\"\")","v":""},{"$f":"IF(N794<>\"\",IF(F795<>\"\",F795,F794),\"\")","v":""}]
[null,null,null,null,null,null,null,null,null,null,null,null,null,null,null,""]
[null,null,null,null,null,null,null,null,null,null,null,null,null,{"$f":"IF(A796<>\"\",TEXT(A796,\"\"),\"\")","v":""},{"$f":"IF(N796=\"\",\"\",CONCATENATE(IF(C796<>\"\",TEXT(C796,\"\"),\"\"),\" - \",IF(K796<>\"\",TEXT(K796,\"\"),\"\")))","v":""},"",{"$f":"IF(D796<>\"\",D796,\"\")","v":""},{"$f":"IF(E796<>\"\",E796,\"\")","v":""},{"$f":"IF(F796<>\"\",F796,\"\")","v":""},{"$f":"IF(N796<>\"\",IF(D797<>\"\",D797,D796),\"\")","v":""},{"$f":"IF(N796<>\"\",IF(E797<>\"\",E797,E796),\"\")","v":""},{"$f":"IF(N796<>\"\",IF(F797<>\"\",F797,F796),\"\")","v":""}]
[null,null,null,null,null,null,null,null,null,null,null,null,null,null,null,""]
[null,null,null,null,null,null,null,null,null,null,null,null,null,{"$f":"IF(A798<>\"\",TEXT(A798,\"\"),\"\")","v":""},{"$f":"IF(N798=\"\",\"\",CONCATENATE(IF(C798<>\"\",TEXT(C798,\"\"),\"\"),\" - \",IF(K798<>\"\",TEXT(K798,\"\"),\"\")))","v":""},"",{"$f":"IF(D798<>\"\",D798,\"\")","v":""},{"$f":"IF(E798<>\"\",E798,\"\")","v":""},{"$f":"IF(F798<>\"\",F798,\"\")","v":""},{"$f":"IF(N798<>\"\",IF(D799<>\"\",D799,D798),\"\")","v":""},{"$f":"IF(N798<>\"\",IF(E799<>\"\",E799,E798),\"\")","v":""},{"$f":"IF(N798<>\"\",IF(F799<>\"\",F799,F798),\"\")","v":""}]
[null,null,null,null,null,null,null,null,null,null,null,null,null,null,null,""]
[null,null,null,null,null,null,null,null,null,null,null,null,null,{"$f":"IF(A800<>\"\",TEXT(A800,\"\"),\"\")","v":""},{"$f":"IF(N800=\"\",\"\",CONCATENATE(IF(C800<>\"\",TEXT(C800,\"\"),\"\"),\" - \",IF(K800<>\"\",TEXT(K800,\"\"),\"\")))","v":""},"",{"$f":"IF(D800<>\"\",D800,\"\")","v":""},{"$f":"IF(E800<>\"\",E800,\"\")","v":""},{"$f":"IF(F800<>\"\",F800,\"\")","v":""},{"$f":"IF(N800<>\"\",IF(D801<>\"\",D801,D800),\"\")","v":""},{"$f":"IF(N800<>\"\",IF(E801<>\"\",E801,E800),\"\")","v":""},{"$f":"IF(N800<>\"\",IF(F801<>\"\",F801,F800),\"\")","v":""}]
[null,null,null,null,null,null,null,null,null,null,null,null,null,null,null,""]
[null,null,null,null,null,null,null,null,null,null,null,null,null,{"$f":"IF(A802<>\"\",TEXT(A802,\"\"),\"\")","v":""},{"$f":"IF(N802=\"\",\"\",CONCATENATE(IF(C802<>\"\",TEXT(C802,\"\"),\"\"),\" - \",IF(K802<>\"\",TEXT(K802,\"\"),\"\")))","v":""},"",{"$f":"IF(D802<>\"\",D802,\"\")","v":""},{"$f":"IF(E802<>\"\",E802,\"\")","v":""},{"$f":"IF(F802<>\"\",F802,\"\")","v":""},{"$f":"IF(N802<>\"\",IF(D803<>\"\",D803,D802),\"\")","v":""},{"$f":"IF(N802<>\"\",IF(E803<>\"\",E803,E802),\"\")","v":""},{"$f":"IF(N802<>\"\",IF(F803<>\"\",F803,F802),\"\")","v":""}]
[null,null,null,null,null,null,null,null,null,null,null,null,null,null,null,""]
[null,null,null,null,null,null,null,null,null,null,null,null,null,{"$f":"IF(A804<>\"\",TEXT(A804,\"\"),\"\")","v":""},{"$f":"IF(N804=\"\",\"\",CONCATENATE(IF(C804<>\"\",TEXT(C804,\"\"),\"\"),\" - \",IF(K804<>\"\",TEXT(K804,\"\"),\"\")))","v":""},"",{"$f":"IF(D804<>\"\",D804,\"\")","v":""},{"$f":"IF(E804<>\"\",E804,\"\")","v":""},{"$f":"IF(F804<>\"\",F804,\"\")","v":""},{"$f":"IF(N804<>\"\",IF(D805<>\"\",D805,D804),\"\")","v":""},{"$f":"IF(N804<>\"\",IF(E805<>\"\",E805,E804),\"\")","v":""},{"$f":"IF(N804<>\"\",IF(F805<>\"\",F805,F804),\"\")","v":""}]
[null,null,null,null,null,null,null,null,null,null,null,null,null,null,null,""]
[null,null,null,null,null,null,null,null,null,null,null,null,null,{"$f":"IF(A806<>\"\",TEXT(A806,\"\"),\"\")","v":""},{"$f":"IF(N806=\"\",\"\",CONCATENATE(IF(C806<>\"\",TEXT(C806,\"\"),\"\"),\" - \",IF(K806<>\"\",TEXT(K806,\"\"),\"\")))","v":""},"",{"$f":"IF(D806<>\"\",D806,\"\")","v":""},{"$f":"IF(E806<>\"\",E806,\"\")","v":""},{"$f":"IF(F806<>\"\",F806,\"\")","v":""},{"$f":"IF(N806<>\"\",IF(D807<>\"\",D807,D806),\"\")","v":""},{"$f":"IF(N806<>\"\",IF(E807<>\"\",E807,E806),\"\")","v":""},{"$f":"IF(N806<>\"\",IF(F807<>\"\",F807,F806),\"\")","v":""}]
[null,null,null,null,null,null,null,null,null,null,null,null,null,null,null,""]
[null,null,null,null,null,null,null,null,null,null,null,null,null,{"$f":"IF(A808<>\"\",TEXT(A808,\"\"),\"\")","v":""},{"$f":"IF(N808=\"\",\"\",CONCATENATE(IF(C808<>\"\",TEXT(C808,\"\"),\"\"),\" - \",IF(K808<>\"\",TEXT(K808,\"\"),\"\")))","v":""},"",{"$f":"IF(D808<>\"\",D808,\"\")","v":""},{"$f":"IF(E808<>\"\",E808,\"\")","v":""},{"$f":"IF(F808<>\"\",F808,\"\")","v":""},{"$f":"IF(N808<>\"\",IF(D809<>\"\",D809,D808),\"\")","v":""},{"$f":"IF(N808<>\"\",IF(E809<>\"\",E809,E808),\"\")","v":""},{"$f":"IF(N808<>\"\",IF(F809<>\"\",F809,F808),\"\")","v":""}]
[null,null,null,null,null,null,null,null,null,null,null,null,null,null,null,""]
[null,null,null,null,null,null,null,null,null,null,null,null,null,{"$f":"IF(A810<>\"\",TEXT(A810,\"\"),\"\")","v":""},{"$f":"IF(N810=\"\",\"\",CONCATENATE(IF(C810<>\"\",TEXT(C810,\"\"),\"\"),\" - \",IF(K810<>\"\",TEXT(K810,\"\"),\"\")))","v":""},"",{"$f":"IF(D810<>\"\",D810,\"\")","v":""},{"$f":"IF(E810<>\"\",E810,\"\")","v":""},{"$f":"IF(F810<>\"\",F810,\"\")","v":""},{"$f":"IF(N810<>\"\",IF(D811<>\"\",D811,D810),\"\")","v":""},{"$f":"IF(N810<>\"\",IF(E811<>\"\",E811,E810),\"\")","v":""},{"$f":"IF(N810<>\"\",IF(F811<>\"\",F811,F810),\"\")","v":""}]
[null,null,null,null,null,null,null,null,null,null,null,null,null,null,null,""]
[null,null,null,null,null,null,null,null,null,null,null,null,null,{"$f":"IF(A812<>\"\",TEXT(A812,\"\"),\"\")","v":""},{"$f":"IF(N812=\"\",\"\",CONCATENATE(IF(C812<>\"\",TEXT(C812,\"\"),\"\"),\" - \",IF(K812<>\"\",TEXT(K812,\"\"),\"\")))","v":""},"",{"$f":"IF(D812<>\"\",D812,\"\")","v":""},{"$f":"IF(E812<>\"\",E812,\"\")","v":""},{"$f":"IF(F812<>\"\",F812,\"\")","v":""},{"$f":"IF(N812<>\"\",IF(D813<>\"\",D813,D812),\"\")","v":""},{"$f":"IF(N812<>\"\",IF(E813<>\"\",E813,E812),\"\")","v":""},{"$f":"IF(N812<>\"\",IF(F813<>\"\",F813,F812),\"\")","v":""}]
[null,null,null,null,null,null,null,null,null,null,null,null,null,null,null,""]
[null,null,null,null,null,null,null,null,null,null,null,null,null,{"$f":"IF(A814<>\"\",TEXT(A814,\"\"),\"\")","v":""},{"$f":"IF(N814=\"\",\"\",CONCATENATE(IF(C814<>\"\",TEXT(C814,\"\"),\"\"),\" - \",IF(K814<>\"\",TEXT(K814,\"\"),\"\")))","v":""},"",{"$f":"IF(D814<>\"\",D814,\"\")","v":""},{"$f":"IF(E814<>\"\",E814,\"\")","v":""},{"$f":"IF(F814<>\"\",F814,\"\")","v":""},{"$f":"IF(N814<>\"\",IF(D815<>\"\",D815,D814),\"\")","v":""},{"$f":"IF(N814<>\"\",IF(E815<>\"\",E815,E814),\"\")","v":""},{"$f":"IF(N814<>\"\",IF(F815<>\"\",F815,F814),\"\")","v":""}]
[null,null,null,null,null,null,null,null,null,null,null,null,null,null,null,""]
[null,null,null,null,null,null,null,null,null,null,null,null,null,{"$f":"IF(A816<>\"\",TEXT(A816,\"\"),\"\")","v":""},{"$f":"IF(N816=\"\",\"\",CONCATENATE(IF(C816<>\"\",TEXT(C816,\"\"),\"\"),\" - \",IF(K816<>\"\",TEXT(K816,\"\"),\"\")))","v":""},"",{"$f":"IF(D816<>\"\",D816,\"\")","v":""},{"$f":"IF(E816<>\"\",E816,\"\")","v":""},{"$f":"IF(F816<>\"\",F816,\"\")","v":""},{"$f":"IF(N816<>\"\",IF(D817<>\"\",D817,D816),\"\")","v":""},{"$f":"IF(N816<>\"\",IF(E817<>\"\",E817,E816),\"\")","v":""},{"$f":"IF(N816<>\"\",IF(F817<>\"\",F817,F816),\"\")","v":""}]
[null,null,null,null,null,null,null,null,null,null,null,null,null,null,null,""]
[null,null,null,null,null,null,null,null,null,null,null,null,null,{"$f":"IF(A818<>\"\",TEXT(A818,\"\"),\"\")","v":""},{"$f":"IF(N818=\"\",\"\",CONCATENATE(IF(C818<>\"\",TEXT(C818,\"\"),\"\"),\" - \",IF(K818<>\"\",TEXT(K818,\"\"),\"\")))","v":""},"",{"$f":"IF(D818<>\"\",D818,\"\")","v":""},{"$f":"IF(E818<>\"\",E818,\"\")","v":""},{"$f":"IF(F818<>\"\",F818,\"\")","v":""},{"$f":"IF(N818<>\"\",IF(D819<>\"\",D819,D818),\"\")","v":""},{"$f":"IF(N818<>\"\",IF(E819<>\"\",E819,E818),\"\")","v":""},{"$f":"IF(N818<>\"\",IF(F819<>\"\",F819,F818),\"\")","v":""}]
[null,null,null,null,null,null,null,null,null,null,null,null,null,null,null,""]
[null,null,null,null,null,null,null,null,null,null,null,null,null,{"$f":"IF(A820<>\"\",TEXT(A820,\"\"),\"\")","v":""},{"$f":"IF(N820=\"\",\"\",CONCATENATE(IF(C820<>\"\",TEXT(C820,\"\"),\"\"),\" - \",IF(K820<>\"\",TEXT(K820,\"\"),\"\")))","v":""},"",{"$f":"IF(D820<>\"\",D820,\"\")","v":""},{"$f":"IF(E820<>\"\",E820,\"\")","v":""},{"$f":"IF(F820<>\"\",F820,\"\")","v":""},{"$f":"IF(N820<>\"\",IF(D821<>\"\",D821,D820),\"\")","v":""},{"$f":"IF(N820<>\"\",IF(E821<>\"\",E821,E820),\"\")","v":""},{"$f":"IF(N820<>\"\",IF(F821<>\"\",F821,F820),\"\")","v":""}]
[null,null,null,null,null,null,null,null,null,null,null,null,null,null,null,""]
[null,null,null,null,null,null,null,null,null,null,null,null,null,{"$f":"IF(A822<>\"\",TEXT(A822,\"\"),\"\")","v":""},{"$f":"IF(N822=\"\",\"\",CONCATENATE(IF(C822<>\"\",TEXT(C822,\"\"),\"\"),\" - \",IF(K822<>\"\",TEXT(K822,\"\"),\"\")))","v":""},"",{"$f":"IF(D822<>\"\",D822,\"\")","v":""},{"$f":"IF(E822<>\"\",E822,\"\")","v":""},{"$f":"IF(F822<>\"\",F822,\"\")","v":""},{"$f":"IF(N822<>\"\",IF(D823<>\"\",D823,D822),\"\")","v":""},{"$f":"IF(N822<>\"\",IF(E823<>\"\",E823,E822),\"\")","v":""},{"$f":"IF(N822<>\"\",IF(F823<>\"\",F823,F822),\"\")","v":""}]
[null,null,null,null,null,null,null,null,null,null,null,null,null,null,null,""]
[null,null,null,null,null,null,null,null,null,null,null,null,null,{"$f":"IF(A824<>\"\",TEXT(A824,\"\"),\"\")","v":""},{"$f":"IF(N824=\"\",\"\",CONCATENATE(IF(C824<>\"\",TEXT(C824,\"\"),\"\"),\" - \",IF(K824<>\"\",TEXT(K824,\"\"),\"\")))","v":""},"",{"$f":"IF(D824<>\"\",D824,\"\")","v":""},{"$f":"IF(E824<>\"\",E824,\"\")","v":""},{"$f":"IF(F824<>\"\",F824,\"\")","v":""},{"$f":"IF(N824<>\"\",IF(D825<>\"\",D825,D824),\"\")","v":""},{"$f":"IF(N824<>\"\",IF(E825<>\"\",E825,E824),\"\")","v":""},{"$f":"IF(N824<>\"\",IF(F825<>\"\",F825,F824),\"\")","v":""}]
[null,null,null,null,null,null,null,null,null,null,null,null,null,null,null,""]
[null,null,null,null,null,null,null,null,null,null,null,null,null,{"$f":"IF(A826<>\"\",TEXT(A826,\"\"),\"\")","v":""},{"$f":"IF(N826=\"\",\"\",CONCATENATE(IF(C826<>\"\",TEXT(C826,\"\"),\"\"),\" - \",IF(K826<>\"\",TEXT(K826,\"\"),\"\")))","v":""},"",{"$f":"IF(D826<>\"\",D826,\"\")","v":""},{"$f":"IF(E826<>\"\",E826,\"\")","v":""},{"$f":"IF(F826<>\"\",F826,\"\")","v":""},{"$f":"IF(N826<>\"\",IF(D827<>\"\",D827,D826),\"\")","v":""},{"$f":"IF(N826<>\"\",IF(E827<>\"\",E827,E826),\"\")","v":""},{"$f":"IF(N826<>\"\",IF(F827<>\"\",F827,F826),\"\")","v":""}]
[null,null,null,null,null,null,null,null,null,null,null,null,null,null,null,""]
[null,null,null,null,null,null,null,null,null,null,null,null,null,{"$f":"IF(A828<>\"\",TEXT(A828,\"\"),\"\")","v":""},{"$f":"IF(N828=\"\",\"\",CONCATENATE(IF(C828<>\"\",TEXT(C828,\"\"),\"\"),\" - \",IF(K828<>\"\",TEXT(K828,\"\"),\"\")))","v":""},"",{"$f":"IF(D828<>\"\",D828,\"\")","v":""},{"$f":"IF(E828<>\"\",E828,\"\")","v":""},{"$f":"IF(F828<>\"\",F828,\"\")","v":""},{"$f":"IF(N828<>\"\",IF(D829<>\"\",D829,D828),\"\")","v":""},{"$f":"IF(N828<>\"\",IF(E829<>\"\",E829,E828),\"\")","v":""},{"$f":"IF(N828<>\"\",IF(F829<>\"\",F829,F828),\"\")","v":""}]
[null,null,null,null,null,null,null,null,null,null,null,null,null,null,null,""]
[null,null,null,null,null,null,null,null,null,null,null,null,null,{"$f":"IF(A830<>\"\",TEXT(A830,\"\"),\"\")","v":""},{"$f":"IF(N830=\"\",\"\",CONCATENATE(IF(C830<>\"\",TEXT(C830,\"\"),\"\"),\" - \",IF(K830<>\"\",TEXT(K830,\"\"),\"\")))","v":""},"",{"$f":"IF(D830<>\"\",D830,\"\")","v":""},{"$f":"IF(E830<>\"\",E830,\"\")","v":""},{"$f":"IF(F830<>\"\",F830,\"\")","v":""},{"$f":"IF(N830<>\"\",IF(D831<>\"\",D831,D830),\"\")","v":""},{"$f":"IF(N830<>\"\",IF(E831<>\"\",E831,E830),\"\")","v":""},{"$f":"IF(N830<>\"\",IF(F831<>\"\",F831,F830),\"\")","v":""}]
[null,null,null,null,null,null,null,null,null,null,null,null,null,null,null,""]
[null,null,null,null,null,null,null,null,null,null,null,null,null,{"$f":"IF(A832<>\"\",TEXT(A832,\"\"),\"\")","v":""},{"$f":"IF(N832=\"\",\"\",CONCATENATE(IF(C832<>\"\",TEXT(C832,\"\"),\"\"),\" - \",IF(K832<>\"\",TEXT(K832,\"\"),\"\")))","v":""},"",{"$f":"IF(D832<>\"\",D832,\"\")","v":""},{"$f":"IF(E832<>\"\",E832,\"\")","v":""},{"$f":"IF(F832<>\"\",F832,\"\")","v":""},{"$f":"IF(N832<>\"\",IF(D833<>\"\",D833,D832),\"\")","v":""},{"$f":"IF(N832<>\"\",IF(E833<>\"\",E833,E832),\"\")","v":""},{"$f":"IF(N832<>\"\",IF(F833<>\"\",F833,F832),\"\")","v":""}]
[null,null,null,null,null,null,null,null,null,null,null,null,null,null,null,""]
[null,null,null,null,null,null,null,null,null,null,null,null,null,{"$f":"IF(A834<>\"\",TEXT(A834,\"\"),\"\")","v":""},{"$f":"IF(N834=\"\",\"\",CONCATENATE(IF(C834<>\"\",TEXT(C834,\"\"),\"\"),\" - \",IF(K834<>\"\",TEXT(K834,\"\"),\"\")))","v":""},"",{"$f":"IF(D834<>\"\",D834,\"\")","v":""},{"$f":"IF(E834<>\"\",E834,\"\")","v":""},{"$f":"IF(F834<>\"\",F834,\"\")","v":""},{"$f":"IF(N834<>\"\",IF(D835<>\"\",D835,D834),\"\")","v":""},{"$f":"IF(N834<>\"\",IF(E835<>\"\",E835,E834),\"\")","v":""},{"$f":"IF(N834<>\"\",IF(F835<>\"\",F835,F834),\"\")","v":""}]
[null,null,null,null,null,null,null,null,null,null,null,null,null,null,null,{"$f":"SUBSTITUTE(SUBSTITUTE(SUBSTITUTE(SUBSTITUTE(IF(L835<>\"\",HLink(L835),\"\"),\"htm\",\"html\"),\"1x2\",\"analysis\"),\"www\",\"www\"),\"com\",\"vip\")","v":""}]
[null,null,null,null,null,null,null,null,null,null,null,null,null,{"$f":"IF(A836<>\"\",TEXT(A836,\"\"),\"\")","v":""},{"$f":"IF(N836=\"\",\"\",CONCATENATE(IF(C836<>\"\",TEXT(C836,\"\"),\"\"),\" - \",IF(K836<>\"\",TEXT(K836,\"\"),\"\")))","v":""},"",{"$f":"IF(D836<>\"\",D836,\"\")","v":""},{"$f":"IF(E836<>\"\",E836,\"\")","v":""},{"$f":"IF(F836<>\"\",F836,\"\")","v":""},{"$f":"IF(N836<>\"\",IF(D837<>\"\",D837,D836),\"\")","v":""},{"$f":"IF(N836<>\"\",IF(E837<>\"\",E837,E836),\"\")","v":""},{"$f":"IF(N836<>\"\",IF(F837<>\"\",F837,F836),\"\")","v":""}]
[null,null,null,null,null,null,null,null,null,null,null,null,null,null,null,""]
[null,null,null,null,null,null,null,null,null,null,null,null,null,{"$f":"IF(A838<>\"\",TEXT(A838,\"\"),\"\")","v":""},{"$f":"IF(N838=\"\",\"\",CONCATENATE(IF(C838<>\"\",TEXT(C838,\"\"),\"\"),\" - \",IF(K838<>\"\",TEXT(K838,\"\"),\"\")))","v":""},"",{"$f":"IF(D838<>\"\",D838,\"\")","v":""},{"$f":"IF(E838<>\"\",E838,\"\")","v":""},{"$f":"IF(F838<>\"\",F838,\"\")","v":""},{"$f":"IF(N838<>\"\",IF(D839<>\"\",D839,D838),\"\")","v":""},{"$f":"IF(N838<>\"\",IF(E839<>\"\",E839,E838),\"\")","v":""},{"$f":"IF(N838<>\"\",IF(F839<>\"\",F839,F838),\"\")","v":""}]
[null,null,null,null,null,null,null,null,null,null,null,null,null,null,null,""]
[null,null,null,null,null,null,null,null,null,null,null,null,null,{"$f":"IF(A840<>\"\",TEXT(A840,\"\"),\"\")","v":""},{"$f":"IF(N840=\"\",\"\",CONCATENATE(IF(C840<>\"\",TEXT(C840,\"\"),\"\"),\" - \",IF(K840<>\"\",TEXT(K840,\"\"),\"\")))","v":""},"",{"$f":"IF(D840<>\"\",D840,\"\")","v":""},{"$f":"IF(E840<>\"\",E840,\"\")","v":""},{"$f":"IF(F840<>\"\",F840,\"\")","v":""},{"$f":"IF(N840<>\"\",IF(D841<>\"\",D841,D840),\"\")","v":""},{"$f":"IF(N840<>\"\",IF(E841<>\"\",E841,E840),\"\")","v":""},{"$f":"IF(N840<>\"\",IF(F841<>\"\",F841,F840),\"\")","v":""}]
[null,null,null,null,null,null,null,null,null,null,null,null,null,null,null,""]
[null,null,null,null,null,null,null,null,null,null,null,null,null,{"$f":"IF(A842<>\"\",TEXT(A842,\"\"),\"\")","v":""},{"$f":"IF(N842=\"\",\"\",CONCATENATE(IF(C842<>\"\",TEXT(C842,\"\"),\"\"),\" - \",IF(K842<>\"\",TEXT(K842,\"\"),\"\")))","v":""},"",{"$f":"IF(D842<>\"\",D842,\"\")","v":""},{"$f":"IF(E842<>\"\",E842,\"\")","v":""},{"$f":"IF(F842<>\"\",F842,\"\")","v":""},{"$f":"IF(N842<>\"\",IF(D843<>\"\",D843,D842),\"\")","v":""},{"$f":"IF(N842<>\"\",IF(E843<>\"\",E843,E842),\"\")","v":""},{"$f":"IF(N842<>\"\",IF(F843<>\"\",F843,F842),\"\")","v":""}]
[null,null,null,null,null,null,null,null,null,null,null,null,null,null,null,""]
[null,null,null,null,null,null,null,null,null,null,null,null,null,{"$f":"IF(A844<>\"\",TEXT(A844,\"\"),\"\")","v":""},{"$f":"IF(N844=\"\",\"\",CONCATENATE(IF(C844<>\"\",TEXT(C844,\"\"),\"\"),\" - \",IF(K844<>\"\",TEXT(K844,\"\"),\"\")))","v":""},"",{"$f":"IF(D844<>\"\",D844,\"\")","v":""},{"$f":"IF(E844<>\"\",E844,\"\")","v":""},{"$f":"IF(F844<>\"\",F844,\"\")","v":""},{"$f":"IF(N844<>\"\",IF(D845<>\"\",D845,D844),\"\")","v":""},{"$f":"IF(N844<>\"\",IF(E845<>\"\",E845,E844),\"\")","v":""},{"$f":"IF(N844<>\"\",IF(F845<>\"\",F845,F844),\"\")","v":""}]
[null,null,null,null,null,null,null,null,null,null,null,null,null,null,null,""]
[null,null,null,null,null,null,null,null,null,null,null,null,null,{"$f":"IF(A846<>\"\",TEXT(A846,\"\"),\"\")","v":""},{"$f":"IF(N846=\"\",\"\",CONCATENATE(IF(C846<>\"\",TEXT(C846,\"\"),\"\"),\" - \",IF(K846<>\"\",TEXT(K846,\"\"),\"\")))","v":""},"",{"$f":"IF(D846<>\"\",D846,\"\")","v":""},{"$f":"IF(E846<>\"\",E846,\"\")","v":""},{"$f":"IF(F846<>\"\",F846,\"\")","v":""},{"$f":"IF(N846<>\"\",IF(D847<>\"\",D847,D846),\"\")","v":""},{"$f":"IF(N846<>\"\",IF(E847<>\"\",E847,E846),\"\")","v":""},{"$f":"IF(N846<>\"\",IF(F847<>\"\",F847,F846),\"\")","v":""}]
[null,null,null,null,null,null,null,null,null,null,null,null,null,null,null,""]
[null,null,null,null,null,null,null,null,null,null,null,null,null,{"$f":"IF(A848<>\"\",TEXT(A848,\"\"),\"\")","v":""},{"$f":"IF(N848=\"\",\"\",CONCATENATE(IF(C848<>\"\",TEXT(C848,\"\"),\"\"),\" - \",IF(K848<>\"\",TEXT(K848,\"\"),\"\")))","v":""},"",{"$f":"IF(D848<>\"\",D848,\"\")","v":""},{"$f":"IF(E848<>\"\",E848,\"\")","v":""},{"$f":"IF(F848<>\"\",F848,\"\")","v":""},{"$f":"IF(N848<>\"\",IF(D849<>\"\",D849,D848),\"\")","v":""},{"$f":"IF(N848<>\"\",IF(E849<>\"\",E849,E848),\"\")","v":""},{"$f":"IF(N848<>\"\",IF(F849<>\"\",F849,F848),\"\")","v":""}]
[null,null,null,null,null,null,null,null,null,null,null,null,null,null,null,""]
[null,null,null,null,null,null,null,null,null,null,null,null,null,{"$f":"IF(A850<>\"\",TEXT(A850,\"\"),\"\")","v":""},{"$f":"IF(N850=\"\",\"\",CONCATENATE(IF(C850<>\"\",TEXT(C850,\"\"),\"\"),\" - \",IF(K850<>\"\",TEXT(K850,\"\"),\"\")))","v":""},"",{"$f":"IF(D850<>\"\",D850,\"\")","v":""},{"$f":"IF(E850<>\"\",E850,\"\")","v":""},{"$f":"IF(F850<>\"\",F850,\"\")","v":""},{"$f":"IF(N850<>\"\",IF(D851<>\"\",D851,D850),\"\")","v":""},{"$f":"IF(N850<>\"\",IF(E851<>\"\",E851,E850),\"\")","v":""},{"$f":"IF(N850<>\"\",IF(F851<>\"\",F851,F850),\"\")","v":""}]
[null,null,null,null,null,null,null,null,null,null,null,null,null,null,null,""]
[null,null,null,null,null,null,null,null,null,null,null,null,null,{"$f":"IF(A852<>\"\",TEXT(A852,\"\"),\"\")","v":""},{"$f":"IF(N852=\"\",\"\",CONCATENATE(IF(C852<>\"\",TEXT(C852,\"\"),\"\"),\" - \",IF(K852<>\"\",TEXT(K852,\"\"),\"\")))","v":""},"",{"$f":"IF(D852<>\"\",D852,\"\")","v":""},{"$f":"IF(E852<>\"\",E852,\"\")","v":""},{"$f":"IF(F852<>\"\",F852,\"\")","v":""},{"$f":"IF(N852<>\"\",IF(D853<>\"\",D853,D852),\"\")","v":""},{"$f":"IF(N852<>\"\",IF(E853<>\"\",E853,E852),\"\")","v":""},{"$f":"IF(N852<>\"\",IF(F853<>\"\",F853,F852),\"\")","v":""}]
[null,null,null,null,null,null,null,null,null,null,null,null,null,null,null,""]
[null,null,null,null,null,null,null,null,null,null,null,null,null,{"$f":"IF(A854<>\"\",TEXT(A854,\"\"),\"\")","v":""},{"$f":"IF(N854=\"\",\"\",CONCATENATE(IF(C854<>\"\",TEXT(C854,\"\"),\"\"),\" - \",IF(K854<>\"\",TEXT(K854,\"\"),\"\")))","v":""},"",{"$f":"IF(D854<>\"\",D854,\"\")","v":""},{"$f":"IF(E854<>\"\",E854,\"\")","v":""},{"$f":"IF(F854<>\"\",F854,\"\")","v":""},{"$f":"IF(N854<>\"\",IF(D855<>\"\",D855,D854),\"\")","v":""},{"$f":"IF(N854<>\"\",IF(E855<>\"\",E855,E854),\"\")","v":""},{"$f":"IF(N854<>\"\",IF(F855<>\"\",F855,F854),\"\")","v":""}]
[null,null,null,null,null,null,null,null,null,null,null,null,null,null,null,""]
[null,null,null,null,null,null,null,null,null,null,null,null,null,{"$f":"IF(A856<>\"\",TEXT(A856,\"\"),\"\")","v":""},{"$f":"IF(N856=\"\",\"\",CONCATENATE(IF(C856<>\"\",TEXT(C856,\"\"),\"\"),\" - \",IF(K856<>\"\",TEXT(K856,\"\"),\"\")))","v":""},"",{"$f":"IF(D856<>\"\",D856,\"\")","v":""},{"$f":"IF(E856<>\"\",E856,\"\")","v":""},{"$f":"IF(F856<>\"\",F856,\"\")","v":""},{"$f":"IF(N856<>\"\",IF(D857<>\"\",D857,D856),\"\")","v":""},{"$f":"IF(N856<>\"\",IF(E857<>\"\",E857,E856),\"\")","v":""},{"$f":"IF(N856<>\"\",IF(F857<>\"\",F857,F856),\"\")","v":""}]
[null,null,null,null,null,null,null,null,null,null,null,null,null,null,null,""]
[null,null,null,null,null,null,null,null,null,null,null,null,null,{"$f":"IF(A858<>\"\",TEXT(A858,\"\"),\"\")","v":""},{"$f":"IF(N858=\"\",\"\",CONCATENATE(IF(C858<>\"\",TEXT(C858,\"\"),\"\"),\" - \",IF(K858<>\"\",TEXT(K858,\"\"),\"\")))","v":""},"",{"$f":"IF(D858<>\"\",D858,\"\")","v":""},{"$f":"IF(E858<>\"\",E858,\"\")","v":""},{"$f":"IF(F858<>\"\",F858,\"\")","v":""},{"$f":"IF(N858<>\"\",IF(D859<>\"\",D859,D858),\"\")","v":""},{"$f":"IF(N858<>\"\",IF(E859<>\"\",E859,E858),\"\")","v":""},{"$f":"IF(N858<>\"\",IF(F859<>\"\",F859,F858),\"\")","v":""}]
[null,null,null,null,null,null,null,null,null,null,null,null,null,null,null,""]
[null,null,null,null,null,null,null,null,null,null,null,null,null,{"$f":"IF(A860<>\"\",TEXT(A860,\"\"),\"\")","v":""},{"$f":"IF(N860=\"\",\"\",CONCATENATE(IF(C860<>\"\",TEXT(C860,\"\"),\"\"),\" - \",IF(K860<>\"\",TEXT(K860,\"\"),\"\")))","v":""},"",{"$f":"IF(D860<>\"\",D860,\"\")","v":""},{"$f":"IF(E860<>\"\",E860,\"\")","v":""},{"$f":"IF(F860<>\"\",F860,\"\")","v":""},{"$f":"IF(N860<>\"\",IF(D861<>\"\",D861,D860),\"\")","v":""},{"$f":"IF(N860<>\"\",IF(E861<>\"\",E861,E860),\"\")","v":""},{"$f":"IF(N860<>\"\",IF(F861<>\"\",F861,F860),\"\")","v":""}]
[null,null,null,null,null,null,null,null,null,null,null,null,null,null,null,""]
[null,null,null,null,null,null,null,null,null,null,null,null,null,{"$f":"IF(A862<>\"\",TEXT(A862,\"\"),\"\")","v":""},{"$f":"IF(N862=\"\",\"\",CONCATENATE(IF(C862<>\"\",TEXT(C862,\"\"),\"\"),\" - \",IF(K862<>\"\",TEXT(K862,\"\"),\"\")))","v":""},"",{"$f":"IF(D862<>\"\",D862,\"\")","v":""},{"$f":"IF(E862<>\"\",E862,\"\")","v":""},{"$f":"IF(F862<>\"\",F862,\"\")","v":""},{"$f":"IF(N862<>\"\",IF(D863<>\"\",D863,D862),\"\")","v":""},{"$f":"IF(N862<>\"\",IF(E863<>\"\",E863,E862),\"\")","v":""},{"$f":"IF(N862<>\"\",IF(F863<>\"\",F863,F862),\"\")","v":""}]
[null,null,null,null,null,null,null,null,null,null,null,null,null,null,null,""]
[null,null,null,null,null,null,null,null,null,null,null,null,null,{"$f":"IF(A864<>\"\",TEXT(A864,\"\"),\"\")","v":""},{"$f":"IF(N864=\"\",\"\",CONCATENATE(IF(C864<>\"\",TEXT(C864,\"\"),\"\"),\" - \",IF(K864<>\"\",TEXT(K864,\"\"),\"\")))","v":""},"",{"$f":"IF(D864<>\"\",D864,\"\")","v":""},{"$f":"IF(E864<>\"\",E864,\"\")","v":""},{"$f":"IF(F864<>\"\",F864,\"\")","v":""},{"$f":"IF(N864<>\"\",IF(D865<>\"\",D865,D864),\"\")","v":""},{"$f":"IF(N864<>\"\",IF(E865<>\"\",E865,E864),\"\")","v":""},{"$f":"IF(N864<>\"\",IF(F865<>\"\",F865,F864),\"\")","v":""}]
[null,null,null,null,null,null,null,null,null,null,null,null,null,null,null,""]
[null,null,null,null,null,null,null,null,null,null,null,null,null,{"$f":"IF(A866<>\"\",TEXT(A866,\"\"),\"\")","v":""},{"$f":"IF(N866=\"\",\"\",CONCATENATE(IF(C866<>\"\",TEXT(C866,\"\"),\"\"),\" - \",IF(K866<>\"\",TEXT(K866,\"\"),\"\")))","v":""},"",{"$f":"IF(D866<>\"\",D866,\"\")","v":""},{"$f":"IF(E866<>\"\",E866,\"\")","v":""},{"$f":"IF(F866<>\"\",F866,\"\")","v":""},{"$f":"IF(N866<>\"\",IF(D867<>\"\",D867,D866),\"\")","v":""},{"$f":"IF(N866<>\"\",IF(E867<>\"\",E867,E866),\"\")","v":""},{"$f":"IF(N866<>\"\",IF(F867<>\"\",F867,F866),\"\")","v":""}]
[null,null,null,null,null,null,null,null,null,null,null,null,null,null,null,""]
[null,null,null,null,null,null,null,null,null,null,null,null,null,{"$f":"IF(A868<>\"\",TEXT(A868,\"\"),\"\")","v":""},{"$f":"IF(N868=\"\",\"\",CONCATENATE(IF(C868<>\"\",TEXT(C868,\"\"),\"\"),\" - \",IF(K868<>\"\",TEXT(K868,\"\"),\"\")))","v":""},"",{"$f":"IF(D868<>\"\",D868,\"\")","v":""},{"$f":"IF(E868<>\"\",E868,\"\")","v":""},{"$f":"IF(F868<>\"\",F868,\"\")","v":""},{"$f":"IF(N868<>\"\",IF(D869<>\"\",D869,D868),\"\")","v":""},{"$f":"IF(N868<>\"\",IF(E869<>\"\",E869,E868),\"\")","v":""},{"$f":"IF(N868<>\"\",IF(F869<>\"\",F869,F868),\"\")","v":""}]
[null,null,null,null,null,null,null,null,null,null,null,null,null,null,null,""]
[null,null,null,null,null,null,null,null,null,null,null,null,null,{"$f":"IF(A870<>\"\",TEXT(A870,\"\"),\"\")","v":""},{"$f":"IF(N870=\"\",\"\",CONCATENATE(IF(C870<>\"\",TEXT(C870,\"\"),\"\"),\" - \",IF(K870<>\"\",TEXT(K870,\"\"),\"\")))","v":""},"",{"$f":"IF(D870<>\"\",D870,\"\")","v":""},{"$f":"IF(E870<>\"\",E870,\"\")","v":""},{"$f":"IF(F870<>\"\",F870,\"\")","v":""},{"$f":"IF(N870<>\"\",IF(D871<>\"\",D871,D870),\"\")","v":""},{"$f":"IF(N870<>\"\",IF(E871<>\"\",E871,E870),\"\")","v":""},{"$f":"IF(N870<>\"\",IF(F871<>\"\",F871,F870),\"\")","v":""}]
[null,null,null,null,null,null,null,null,null,null,null,null,null,null,null,""]
[null,null,null,null,null,null,null,null,null,null,null,null,null,{"$f":"IF(A872<>\"\",TEXT(A872,\"\"),\"\")","v":""},{"$f":"IF(N872=\"\",\"\",CONCATENATE(IF(C872<>\"\",TEXT(C872,\"\"),\"\"),\" - \",IF(K872<>\"\",TEXT(K872,\"\"),\"\")))","v":""},"",{"$f":"IF(D872<>\"\",D872,\"\")","v":""},{"$f":"IF(E872<>\"\",E872,\"\")","v":""},{"$f":"IF(F872<>\"\",F872,\"\")","v":""},{"$f":"IF(N872<>\"\",IF(D873<>\"\",D873,D872),\"\")","v":""},{"$f":"IF(N872<>\"\",IF(E873<>\"\",E873,E872),\"\")","v":""},{"$f":"IF(N872<>\"\",IF(F873<>\"\",F873,F872),\"\")","v":""}]
[null,null,null,null,null,null,null,null,null,null,null,null,null,null,null,""]
[null,null,null,null,null,null,null,null,null,null,null,null,null,{"$f":"IF(A874<>\"\",TEXT(A874,\"\"),\"\")","v":""},{"$f":"IF(N874=\"\",\"\",CONCATENATE(IF(C874<>\"\",TEXT(C874,\"\"),\"\"),\" - \",IF(K874<>\"\",TEXT(K874,\"\"),\"\")))","v":""},"",{"$f":"IF(D874<>\"\",D874,\"\")","v":""},{"$f":"IF(E874<>\"\",E874,\"\")","v":""},{"$f":"IF(F874<>\"\",F874,\"\")","v":""},{"$f":"IF(N874<>\"\",IF(D875<>\"\",D875,D874),\"\")","v":""},{"$f":"IF(N874<>\"\",IF(E875<>\"\",E875,E874),\"\")","v":""},{"$f":"IF(N874<>\"\",IF(F875<>\"\",F875,F874),\"\")","v":""}]
[null,null,null,null,null,null,null,null,null,null,null,null,null,null,null,""]
[null,null,null,null,null,null,null,null,null,null,null,null,null,{"$f":"IF(A876<>\"\",TEXT(A876,\"\"),\"\")","v":""},{"$f":"IF(N876=\"\",\"\",CONCATENATE(IF(C876<>\"\",TEXT(C876,\"\"),\"\"),\" - \",IF(K876<>\"\",TEXT(K876,\"\"),\"\")))","v":""},"",{"$f":"IF(D876<>\"\",D876,\"\")","v":""},{"$f":"IF(E876<>\"\",E876,\"\")","v":""},{"$f":"IF(F876<>\"\",F876,\"\")","v":""},{"$f":"IF(N876<>\"\",IF(D877<>\"\",D877,D876),\"\")","v":""},{"$f":"IF(N876<>\"\",IF(E877<>\"\",E877,E876),\"\")","v":""},{"$f":"IF(N876<>\"\",IF(F877<>\"\",F877,F876),\"\")","v":""}]
[null,null,null,null,null,null,null,null,null,null,null,null,null,null,null,""]
[null,null,null,null,null,null,null,null,null,null,null,null,null,{"$f":"IF(A878<>\"\",TEXT(A878,\"\"),\"\")","v":""},{"$f":"IF(N878=\"\",\"\",CONCATENATE(IF(C878<>\"\",TEXT(C878,\"\"),\"\"),\" - \",IF(K878<>\"\",TEXT(K878,\"\"),\"\")))","v":""},"",{"$f":"IF(D878<>\"\",D878,\"\")","v":""},{"$f":"IF(E878<>\"\",E878,\"\")","v":""},{"$f":"IF(F878<>\"\",F878,\"\")","v":""},{"$f":"IF(N878<>\"\",IF(D879<>\"\",D879,D878),\"\")","v":""},{"$f":"IF(N878<>\"\",IF(E879<>\"\",E879,E878),\"\")","v":""},{"$f":"IF(N878<>\"\",IF(F879<>\"\",F879,F878),\"\")","v":""}]
[null,null,null,null,null,null,null,null,null,null,null,null,null,null,null,""]
[null,null,null,null,null,null,null,null,null,null,null,null,null,{"$f":"IF(A880<>\"\",TEXT(A880,\"\"),\"\")","v":""},{"$f":"IF(N880=\"\",\"\",CONCATENATE(IF(C880<>\"\",TEXT(C880,\"\"),\"\"),\" - \",IF(K880<>\"\",TEXT(K880,\"\"),\"\")))","v":""},"",{"$f":"IF(D880<>\"\",D880,\"\")","v":""},{"$f":"IF(E880<>\"\",E880,\"\")","v":""},{"$f":"IF(F880<>\"\",F880,\"\")","v":""},{"$f":"IF(N880<>\"\",IF(D881<>\"\",D881,D880),\"\")","v":""},{"$f":"IF(N880<>\"\",IF(E881<>\"\",E881,E880),\"\")","v":""},{"$f":"IF(N880<>\"\",IF(F881<>\"\",F881,F880),\"\")","v":""}]
[null,null,null,null,null,null,null,null,null,null,null,null,null,null,null,""]
[null,null,null,null,null,null,null,null,null,null,null,null,null,{"$f":"IF(A882<>\"\",TEXT(A882,\"\"),\"\")","v":""},{"$f":"IF(N882=\"\",\"\",CONCATENATE(IF(C882<>\"\",TEXT(C882,\"\"),\"\"),\" - \",IF(K882<>\"\",TEXT(K882,\"\"),\"\")))","v":""},"",{"$f":"IF(D882<>\"\",D882,\"\")","v":""},{"$f":"IF(E882<>\"\",E882,\"\")","v":""},{"$f":"IF(F882<>\"\",F882,\"\")","v":""},{"$f":"IF(N882<>\"\",IF(D883<>\"\",D883,D882),\"\")","v":""},{"$f":"IF(N882<>\"\",IF(E883<>\"\",E883,E882),\"\")","v":""},{"$f":"IF(N882<>\"\",IF(F883<>\"\",F883,F882),\"\")","v":""}]
[null,null,null,null,null,null,null,null,null,null,null,null,null,null,null,""]
[null,null,null,null,null,null,null,null,null,null,null,null,null,{"$f":"IF(A884<>\"\",TEXT(A884,\"\"),\"\")","v":""},{"$f":"IF(N884=\"\",\"\",CONCATENATE(IF(C884<>\"\",TEXT(C884,\"\"),\"\"),\" - \",IF(K884<>\"\",TEXT(K884,\"\"),\"\")))","v":""},"",{"$f":"IF(D884<>\"\",D884,\"\")","v":""},{"$f":"IF(E884<>\"\",E884,\"\")","v":""},{"$f":"IF(F884<>\"\",F884,\"\")","v":""},{"$f":"IF(N884<>\"\",IF(D885<>\"\",D885,D884),\"\")","v":""},{"$f":"IF(N884<>\"\",IF(E885<>\"\",E885,E884),\"\")","v":""},{"$f":"IF(N884<>\"\",IF(F885<>\"\",F885,F884),\"\")","v":""}]
[null,null,null,null,null,null,null,null,null,null,null,null,null,null,null,""]
[null,null,null,null,null,null,null,null,null,null,null,null,null,{"$f":"IF(A886<>\"\",TEXT(A886,\"\"),\"\")","v":""},{"$f":"IF(N886=\"\",\"\",CONCATENATE(IF(C886<>\"\",TEXT(C886,\"\"),\"\"),\" - \",IF(K886<>\"\",TEXT(K886,\"\"),\"\")))","v":""},"",{"$f":"IF(D886<>\"\",D886,\"\")","v":""},{"$f":"IF(E886<>\"\",E886,\"\")","v":""},{"$f":"IF(F886<>\"\",F886,\"\")","v":""},{"$f":"IF(N886<>\"\",IF(D887<>\"\",D887,D886),\"\")","v":""},{"$f":"IF(N886<>\"\",IF(E887<>\"\",E887,E886),\"\")","v":""},{"$f":"IF(N886<>\"\",IF(F887<>\"\",F887,F886),\"\")","v":""}]
[null,null,null,null,null,null,null,null,null,null,null,null,null,null,null,""]
[null,null,null,null,null,null,null,null,null,null,null,null,null,{"$f":"IF(A888<>\"\",TEXT(A888,\"\"),\"\")","v":""},{"$f":"IF(N888=\"\",\"\",CONCATENATE(IF(C888<>\"\",TEXT(C888,\"\"),\"\"),\" - \",IF(K888<>\"\",TEXT(K888,\"\"),\"\")))","v":""},"",{"$f":"IF(D888<>\"\",D888,\"\")","v":""},{"$f":"IF(E888<>\"\",E888,\"\")","v":""},{"$f":"IF(F888<>\"\",F888,\"\")","v":""},{"$f":"IF(N888<>\"\",IF(D889<>\"\",D889,D888),\"\")","v":""},{"$f":"IF(N888<>\"\",IF(E889<>\"\",E889,E888),\"\")","v":""},{"$f":"IF(N888<>\"\",IF(F889<>\"\",F889,F888),\"\")","v":""}]
[null,null,null,null,null,null,null,null,null,null,null,null,null,null,null,""]
[null,null,null,null,null,null,null,null,null,null,null,null,null,{"$f":"IF(A890<>\"\",TEXT(A890,\"\"),\"\")","v":""},{"$f":"IF(N890=\"\",\"\",CONCATENATE(IF(C890<>\"\",TEXT(C890,\"\"),\"\"),\" - \",IF(K890<>\"\",TEXT(K890,\"\"),\"\")))","v":""},"",{"$f":"IF(D890<>\"\",D890,\"\")","v":""},{"$f":"IF(E890<>\"\",E890,\"\")","v":""},{"$f":"IF(F890<>\"\",F890,\"\")","v":""},{"$f":"IF(N890<>\"\",IF(D891<>\"\",D891,D890),\"\")","v":""},{"$f":"IF(N890<>\"\",IF(E891<>\"\",E891,E890),\"\")","v":""},{"$f":"IF(N890<>\"\",IF(F891<>\"\",F891,F890),\"\")","v":""}]
[null,null,null,null,null,null,null,null,null,null,null,null,null,null,null,""]
[null,null,null,null,null,null,null,null,null,null,null,null,null,{"$f":"IF(A892<>\"\",TEXT(A892,\"\"),\"\")","v":""},{"$f":"IF(N892=\"\",\"\",CONCATENATE(IF(C892<>\"\",TEXT(C892,\"\"),\"\"),\" - \",IF(K892<>\"\",TEXT(K892,\"\"),\"\")))","v":""},"",{"$f":"IF(D892<>\"\",D892,\"\")","v":""},{"$f":"IF(E892<>\"\",E892,\"\")","v":""},{"$f":"IF(F892<>\"\",F892,\"\")","v":""},{"$f":"IF(N892<>\"\",IF(D893<>\"\",D893,D892),\"\")","v":""},{"$f":"IF(N892<>\"\",IF(E893<>\"\",E893,E892),\"\")","v":""},{"$f":"IF(N892<>\"\",IF(F893<>\"\",F893,F892),\"\")","v":""}]
[null,null,null,null,null,null,null,null,null,null,null,null,null,null,null,""]
[null,null,null,null,null,null,null,null,null,null,null,null,null,{"$f":"IF(A894<>\"\",TEXT(A894,\"\"),\"\")","v":""},{"$f":"IF(N894=\"\",\"\",CONCATENATE(IF(C894<>\"\",TEXT(C894,\"\"),\"\"),\" - \",IF(K894<>\"\",TEXT(K894,\"\"),\"\")))","v":""},"",{"$f":"IF(D894<>\"\",D894,\"\")","v":""},{"$f":"IF(E894<>\"\",E894,\"\")","v":""},{"$f":"IF(F894<>\"\",F894,\"\")","v":""},{"$f":"IF(N894<>\"\",IF(D895<>\"\",D895,D894),\"\")","v":""},{"$f":"IF(N894<>\"\",IF(E895<>\"\",E895,E894),\"\")","v":""},{"$f":"IF(N894<>\"\",IF(F895<>\"\",F895,F894),\"\")","v":""}]
[null,null,null,null,null,null,null,null,null,null,null,null,null,null,null,""]
[null,null,null,null,null,null,null,null,null,null,null,null,null,{"$f":"IF(A896<>\"\",TEXT(A896,\"\"),\"\")","v":""},{"$f":"IF(N896=\"\",\"\",CONCATENATE(IF(C896<>\"\",TEXT(C896,\"\"),\"\"),\" - \",IF(K896<>\"\",TEXT(K896,\"\"),\"\")))","v":""},"",{"$f":"IF(D896<>\"\",D896,\"\")","v":""},{"$f":"IF(E896<>\"\",E896,\"\")","v":""},{"$f":"IF(F896<>\"\",F896,\"\")","v":""},{"$f":"IF(N896<>\"\",IF(D897<>\"\",D897,D896),\"\")","v":""},{"$f":"IF(N896<>\"\",IF(E897<>\"\",E897,E896),\"\")","v":""},{"$f":"IF(N896<>\"\",IF(F897<>\"\",F897,F896),\"\")","v":""}]
[null,null,null,null,null,null,null,null,null,null,null,null,null,null,null,""]
[null,null,null,null,null,null,null,null,null,null,null,null,null,{"$f":"IF(A898<>\"\",TEXT(A898,\"\"),\"\")","v":""},{"$f":"IF(N898=\"\",\"\",CONCATENATE(IF(C898<>\"\",TEXT(C898,\"\"),\"\"),\" - \",IF(K898<>\"\",TEXT(K898,\"\"),\"\")))","v":""},"",{"$f":"IF(D898<>\"\",D898,\"\")","v":""},{"$f":"IF(E898<>\"\",E898,\"\")","v":""},{"$f":"IF(F898<>\"\",F898,\"\")","v":""},{"$f":"IF(N898<>\"\",IF(D899<>\"\",D899,D898),\"\")","v":""},{"$f":"IF(N898<>\"\",IF(E899<>\"\",E899,E898),\"\")","v":""},{"$f":"IF(N898<>\"\",IF(F899<>\"\",F899,F898),\"\")","v":""}]
[null,null,null,null,null,null,null,null,null,null,null,null,null,null,null,{"$f":"SUBSTITUTE(SUBSTITUTE(SUBSTITUTE(SUBSTITUTE(IF(L899<>\"\",HLink(L899),\"\"),\"htm\",\"html\"),\"1x2\",\"analysis\"),\"www\",\"www\"),\"com\",\"vip\")","v":""}]
[null,null,null,null,null,null,null,null,null,null,null,null,null,{"$f":"IF(A900<>\"\",TEXT(A900,\"\"),\"\")","v":""},{"$f":"IF(N900=\"\",\"\",CONCATENATE(IF(C900<>\"\",TEXT(C900,\"\"),\"\"),\" - \",IF(K900<>\"\",TEXT(K900,\"\"),\"\")))","v":""},"",{"$f":"IF(D900<>\"\",D900,\"\")","v":""},{"$f":"IF(E900<>\"\",E900,\"\")","v":""},{"$f":"IF(F900<>\"\",F900,\"\")","v":""},{"$f":"IF(N900<>\"\",IF(D901<>\"\",D901,D900),\"\")","v":""},{"$f":"IF(N900<>\"\",IF(E901<>\"\",E901,E900),\"\")","v":""},{"$f":"IF(N900<>\"\",IF(F901<>\"\",F901,F900),\"\")","v":""}]
[null,null,null,null,null,null,null,null,null,null,null,null,null,null,null,""]
[null,null,null,null,null,null,null,null,null,null,null,null,null,{"$f":"IF(A902<>\"\",TEXT(A902,\"\"),\"\")","v":""},{"$f":"IF(N902=\"\",\"\",CONCATENATE(IF(C902<>\"\",TEXT(C902,\"\"),\"\"),\" - \",IF(K902<>\"\",TEXT(K902,\"\"),\"\")))","v":""},"",{"$f":"IF(D902<>\"\",D902,\"\")","v":""},{"$f":"IF(E902<>\"\",E902,\"\")","v":""},{"$f":"IF(F902<>\"\",F902,\"\")","v":""},{"$f":"IF(N902<>\"\",IF(D903<>\"\",D903,D902),\"\")","v":""},{"$f":"IF(N902<>\"\",IF(E903<>\"\",E903,E902),\"\")","v":""},{"$f":"IF(N902<>\"\",IF(F903<>\"\",F903,F902),\"\")","v":""}]
[null,null,null,null,null,null,null,null,null,null,null,null,null,null,null,""]
[null,null,null,null,null,null,null,null,null,null,null,null,null,{"$f":"IF(A904<>\"\",TEXT(A904,\"\"),\"\")","v":""},{"$f":"IF(N904=\"\",\"\",CONCATENATE(IF(C904<>\"\",TEXT(C904,\"\"),\"\"),\" - \",IF(K904<>\"\",TEXT(K904,\"\"),\"\")))","v":""},"",{"$f":"IF(D904<>\"\",D904,\"\")","v":""},{"$f":"IF(E904<>\"\",E904,\"\")","v":""},{"$f":"IF(F904<>\"\",F904,\"\")","v":""},{"$f":"IF(N904<>\"\",IF(D905<>\"\",D905,D904),\"\")","v":""},{"$f":"IF(N904<>\"\",IF(E905<>\"\",E905,E904),\"\")","v":""},{"$f":"IF(N904<>\"\",IF(F905<>\"\",F905,F904),\"\")","v":""}]
[null,null,null,null,null,null,null,null,null,null,null,null,null,null,null,""]
[null,null,null,null,null,null,null,null,null,null,null,null,null,{"$f":"IF(A906<>\"\",TEXT(A906,\"\"),\"\")","v":""},{"$f":"IF(N906=\"\",\"\",CONCATENATE(IF(C906<>\"\",TEXT(C906,\"\"),\"\"),\" - \",IF(K906<>\"\",TEXT(K906,\"\"),\"\")))","v":""},"",{"$f":"IF(D906<>\"\",D906,\"\")","v":""},{"$f":"IF(E906<>\"\",E906,\"\")","v":""},{"$f":"IF(F906<>\"\",F906,\"\")","v":""},{"$f":"IF(N906<>\"\",IF(D907<>\"\",D907,D906),\"\")","v":""},{"$f":"IF(N906<>\"\",IF(E907<>\"\",E907,E906),\"\")","v":""},{"$f":"IF(N906<>\"\",IF(F907<>\"\",F907,F906),\"\")","v":""}]
[null,null,null,null,null,null,null,null,null,null,null,null,null,null,null,""]
[null,null,null,null,null,null,null,null,null,null,null,null,null,{"$f":"IF(A908<>\"\",TEXT(A908,\"\"),\"\")","v":""},{"$f":"IF(N908=\"\",\"\",CONCATENATE(IF(C908<>\"\",TEXT(C908,\"\"),\"\"),\" - \",IF(K908<>\"\",TEXT(K908,\"\"),\"\")))","v":""},"",{"$f":"IF(D908<>\"\",D908,\"\")","v":""},{"$f":"IF(E908<>\"\",E908,\"\")","v":""},{"$f":"IF(F908<>\"\",F908,\"\")","v":""},{"$f":"IF(N908<>\"\",IF(D909<>\"\",D909,D908),\"\")","v":""},{"$f":"IF(N908<>\"\",IF(E909<>\"\",E909,E908),\"\")","v":""},{"$f":"IF(N908<>\"\",IF(F909<>\"\",F909,F908),\"\")","v":""}]
[null,null,null,null,null,null,null,null,null,null,null,null,null,null,null,""]
[null,null,null,null,null,null,null,null,null,null,null,null,null,{"$f":"IF(A910<>\"\",TEXT(A910,\"\"),\"\")","v":""},{"$f":"IF(N910=\"\",\"\",CONCATENATE(IF(C910<>\"\",TEXT(C910,\"\"),\"\"),\" - \",IF(K910<>\"\",TEXT(K910,\"\"),\"\")))","v":""},"",{"$f":"IF(D910<>\"\",D910,\"\")","v":""},{"$f":"IF(E910<>\"\",E910,\"\")","v":""},{"$f":"IF(F910<>\"\",F910,\"\")","v":""},{"$f":"IF(N910<>\"\",IF(D911<>\"\",D911,D910),\"\")","v":""},{"$f":"IF(N910<>\"\",IF(E911<>\"\",E911,E910),\"\")","v":""},{"$f":"IF(N910<>\"\",IF(F911<>\"\",F911,F910),\"\")","v":""}]
[null,null,null,null,null,null,null,null,null,null,null,null,null,null,null,""]
[null,null,null,null,null,null,null,null,null,null,null,null,null,{"$f":"IF(A912<>\"\",TEXT(A912,\"\"),\"\")","v":""},{"$f":"IF(N912=\"\",\"\",CONCATENATE(IF(C912<>\"\",TEXT(C912,\"\"),\"\"),\" - \",IF(K912<>\"\",TEXT(K912,\"\"),\"\")))","v":""},"",{"$f":"IF(D912<>\"\",D912,\"\")","v":""},{"$f":"IF(E912<>\"\",E912,\"\")","v":""},{"$f":"IF(F912<>\"\",F912,\"\")","v":""},{"$f":"IF(N912<>\"\",IF(D913<>\"\",D913,D912),\"\")","v":""},{"$f":"IF(N912<>\"\",IF(E913<>\"\",E913,E912),\"\")","v":""},{"$f":"IF(N912<>\"\",IF(F913<>\"\",F913,F912),\"\")","v":""}]
[null,null,null,null,null,null,null,null,null,null,null,null,null,null,null,""]
[null,null,null,null,null,null,null,null,null,null,null,null,null,{"$f":"IF(A914<>\"\",TEXT(A914,\"\"),\"\")","v":""},{"$f":"IF(N914=\"\",\"\",CONCATENATE(IF(C914<>\"\",TEXT(C914,\"\"),\"\"),\" - \",IF(K914<>\"\",TEXT(K914,\"\"),\"\")))","v":""},"",{"$f":"IF(D914<>\"\",D914,\"\")","v":""},{"$f":"IF(E914<>\"\",E914,\"\")","v":""},{"$f":"IF(F914<>\"\",F914,\"\")","v":""},{"$f":"IF(N914<>\"\",IF(D915<>\"\",D915,D914),\"\")","v":""},{"$f":"IF(N914<>\"\",IF(E915<>\"\",E915,E914),\"\")","v":""},{"$f":"IF(N914<>\"\",IF(F915<>\"\",F915,F914),\"\")","v":""}]
[null,null,null,null,null,null,null,null,null,null,null,null,null,null,null,""]
[null,null,null,null,null,null,null,null,null,null,null,null,null,{"$f":"IF(A916<>\"\",TEXT(A916,\"\"),\"\")","v":""},{"$f":"IF(N916=\"\",\"\",CONCATENATE(IF(C916<>\"\",TEXT(C916,\"\"),\"\"),\" - \",IF(K916<>\"\",TEXT(K916,\"\"),\"\")))","v":""},"",{"$f":"IF(D916<>\"\",D916,\"\")","v":""},{"$f":"IF(E916<>\"\",E916,\"\")","v":""},{"$f":"IF(F916<>\"\",F916,\"\")","v":""},{"$f":"IF(N916<>\"\",IF(D917<>\"\",D917,D916),\"\")","v":""},{"$f":"IF(N916<>\"\",IF(E917<>\"\",E917,E916),\"\")","v":""},{"$f":"IF(N916<>\"\",IF(F917<>\"\",F917,F916),\"\")","v":""}]
[null,null,null,null,null,null,null,null,null,null,null,null,null,null,null,""]
[null,null,null,null,null,null,null,null,null,null,null,null,null,{"$f":"IF(A918<>\"\",TEXT(A918,\"\"),\"\")","v":""},{"$f":"IF(N918=\"\",\"\",CONCATENATE(IF(C918<>\"\",TEXT(C918,\"\"),\"\"),\" - \",IF(K918<>\"\",TEXT(K918,\"\"),\"\")))","v":""},"",{"$f":"IF(D918<>\"\",D918,\"\")","v":""},{"$f":"IF(E918<>\"\",E918,\"\")","v":""},{"$f":"IF(F918<>\"\",F918,\"\")","v":""},{"$f":"IF(N918<>\"\",IF(D919<>\"\",D919,D918),\"\")","v":""},{"$f":"IF(N918<>\"\",IF(E919<>\"\",E919,E918),\"\")","v":""},{"$f":"IF(N918<>\"\",IF(F919<>\"\",F919,F918),\"\")","v":""}]
[null,null,null,null,null,null,null,null,null,null,null,null,null,null,null,""]
[null,null,null,null,null,null,null,null,null,null,null,null,null,{"$f":"IF(A920<>\"\",TEXT(A920,\"\"),\"\")","v":""},{"$f":"IF(N920=\"\",\"\",CONCATENATE(IF(C920<>\"\",TEXT(C920,\"\"),\"\"),\" - \",IF(K920<>\"\",TEXT(K920,\"\"),\"\")))","v":""},"",{"$f":"IF(D920<>\"\",D920,\"\")","v":""},{"$f":"IF(E920<>\"\",E920,\"\")","v":""},{"$f":"IF(F920<>\"\",F920,\"\")","v":""},{"$f":"IF(N920<>\"\",IF(D921<>\"\",D921,D920),\"\")","v":""},{"$f":"IF(N920<>\"\",IF(E921<>\"\",E921,E920),\"\")","v":""},{"$f":"IF(N920<>\"\",IF(F921<>\"\",F921,F920),\"\")","v":""}]
[null,null,null,null,null,null,null,null,null,null,null,null,null,null,null,""]
[null,null,null,null,null,null,null,null,null,null,null,null,null,{"$f":"IF(A922<>\"\",TEXT(A922,\"\"),\"\")","v":""},{"$f":"IF(N922=\"\",\"\",CONCATENATE(IF(C922<>\"\",TEXT(C922,\"\"),\"\"),\" - \",IF(K922<>\"\",TEXT(K922,\"\"),\"\")))","v":""},"",{"$f":"IF(D922<>\"\",D922,\"\")","v":""},{"$f":"IF(E922<>\"\",E922,\"\")","v":""},{"$f":"IF(F922<>\"\",F922,\"\")","v":""},{"$f":"IF(N922<>\"\",IF(D923<>\"\",D923,D922),\"\")","v":""},{"$f":"IF(N922<>\"\",IF(E923<>\"\",E923,E922),\"\")","v":""},{"$f":"IF(N922<>\"\",IF(F923<>\"\",F923,F922),\"\")","v":""}]
[null,null,null,null,null,null,null,null,null,null,null,null,null,null,null,""]
[null,null,null,null,null,null,null,null,null,null,null,null,null,{"$f":"IF(A924<>\"\",TEXT(A924,\"\"),\"\")","v":""},{"$f":"IF(N924=\"\",\"\",CONCATENATE(IF(C924<>\"\",TEXT(C924,\"\"),\"\"),\" - \",IF(K924<>\"\",TEXT(K924,\"\"),\"\")))","v":""},"",{"$f":"IF(D924<>\"\",D924,\"\")","v":""},{"$f":"IF(E924<>\"\",E924,\"\")","v":""},{"$f":"IF(F924<>\"\",F924,\"\")","v":""},{"$f":"IF(N924<>\"\",IF(D925<>\"\",D925,D924),\"\")","v":""},{"$f":"IF(N924<>\"\",IF(E925<>\"\",E925,E924),\"\")","v":""},{"$f":"IF(N924<>\"\",IF(F925<>\"\",F925,F924),\"\")","v":""}]
[null,null,null,null,null,null,null,null,null,null,null,null,null,null,null,""]
[null,null,null,null,null,null,null,null,null,null,null,null,null,{"$f":"IF(A926<>\"\",TEXT(A926,\"\"),\"\")","v":""},{"$f":"IF(N926=\"\",\"\",CONCATENATE(IF(C926<>\"\",TEXT(C926,\"\"),\"\"),\" - \",IF(K926<>\"\",TEXT(K926,\"\"),\"\")))","v":""},"",{"$f":"IF(D926<>\"\",D926,\"\")","v":""},{"$f":"IF(E926<>\"\",E926,\"\")","v":""},{"$f":"IF(F926<>\"\",F926,\"\")","v":""},{"$f":"IF(N926<>\"\",IF(D927<>\"\",D927,D926),\"\")","v":""},{"$f":"IF(N926<>\"\",IF(E927<>\"\",E927,E926),\"\")","v":""},{"$f":"IF(N926<>\"\",IF(F927<>\"\",F927,F926),\"\")","v":""}]
[null,null,null,null,null,null,null,null,null,null,null,null,null,null,null,""]
[null,null,null,null,null,null,null,null,null,null,null,null,null,{"$f":"IF(A928<>\"\",TEXT(A928,\"\"),\"\")","v":""},{"$f":"IF(N928=\"\",\"\",CONCATENATE(IF(C928<>\"\",TEXT(C928,\"\"),\"\"),\" - \",IF(K928<>\"\",TEXT(K928,\"\"),\"\")))","v":""},"",{"$f":"IF(D928<>\"\",D928,\"\")","v":""},{"$f":"IF(E928<>\"\",E928,\"\")","v":""},{"$f":"IF(F928<>\"\",F928,\"\")","v":""},{"$f":"IF(N928<>\"\",IF(D929<>\"\",D929,D928),\"\")","v":""},{"$f":"IF(N928<>\"\",IF(E929<>\"\",E929,E928),\"\")","v":""},{"$f":"IF(N928<>\"\",IF(F929<>\"\",F929,F928),\"\")","v":""}]
[null,null,null,null,null,null,null,null,null,null,null,null,null,null,null,""]
[null,null,null,null,null,null,null,null,null,null,null,null,null,{"$f":"IF(A930<>\"\",TEXT(A930,\"\"),\"\")","v":""},{"$f":"IF(N930=\"\",\"\",CONCATENATE(IF(C930<>\"\",TEXT(C930,\"\"),\"\"),\" - \",IF(K930<>\"\",TEXT(K930,\"\"),\"\")))","v":""},"",{"$f":"IF(D930<>\"\",D930,\"\")","v":""},{"$f":"IF(E930<>\"\",E930,\"\")","v":""},{"$f":"IF(F930<>\"\",F930,\"\")","v":""},{"$f":"IF(N930<>\"\",IF(D931<>\"\",D931,D930),\"\")","v":""},{"$f":"IF(N930<>\"\",IF(E931<>\"\",E931,E930),\"\")","v":""},{"$f":"IF(N930<>\"\",IF(F931<>\"\",F931,F930),\"\")","v":""}]
[null,null,null,null,null,null,null,null,null,null,null,null,null,null,null,""]
[null,null,null,null,null,null,null,null,null,null,null,null,null,{"$f":"IF(A932<>\"\",TEXT(A932,\"\"),\"\")","v":""},{"$f":"IF(N932=\"\",\"\",CONCATENATE(IF(C932<>\"\",TEXT(C932,\"\"),\"\"),\" - \",IF(K932<>\"\",TEXT(K932,\"\"),\"\")))","v":""},"",{"$f":"IF(D932<>\"\",D932,\"\")","v":""},{"$f":"IF(E932<>\"\",E932,\"\")","v":""},{"$f":"IF(F932<>\"\",F932,\"\")","v":""},{"$f":"IF(N932<>\"\",IF(D933<>\"\",D933,D932),\"\")","v":""},{"$f":"IF(N932<>\"\",IF(E933<>\"\",E933,E932),\"\")","v":""},{"$f":"IF(N932<>\"\",IF(F933<>\"\",F933,F932),\"\")","v":""}]
[null,null,null,null,null,null,null,null,null,null,null,null,null,null,null,""]
[null,null,null,null,null,null,null,null,null,null,null,null,null,{"$f":"IF(A934<>\"\",TEXT(A934,\"\"),\"\")","v":""},{"$f":"IF(N934=\"\",\"\",CONCATENATE(IF(C934<>\"\",TEXT(C934,\"\"),\"\"),\" - \",IF(K934<>\"\",TEXT(K934,\"\"),\"\")))","v":""},"",{"$f":"IF(D934<>\"\",D934,\"\")","v":""},{"$f":"IF(E934<>\"\",E934,\"\")","v":""},{"$f":"IF(F934<>\"\",F934,\"\")","v":""},{"$f":"IF(N934<>\"\",IF(D935<>\"\",D935,D934),\"\")","v":""},{"$f":"IF(N934<>\"\",IF(E935<>\"\",E935,E934),\"\")","v":""},{"$f":"IF(N934<>\"\",IF(F935<>\"\",F935,F934),\"\")","v":""}]
[null,null,null,null,null,null,null,null,null,null,null,null,null,null,null,""]
[null,null,null,null,null,null,null,null,null,null,null,null,null,{"$f":"IF(A936<>\"\",TEXT(A936,\"\"),\"\")","v":""},{"$f":"IF(N936=\"\",\"\",CONCATENATE(IF(C936<>\"\",TEXT(C936,\"\"),\"\"),\" - \",IF(K936<>\"\",TEXT(K936,\"\"),\"\")))","v":""},"",{"$f":"IF(D936<>\"\",D936,\"\")","v":""},{"$f":"IF(E936<>\"\",E936,\"\")","v":""},{"$f":"IF(F936<>\"\",F936,\"\")","v":""},{"$f":"IF(N936<>\"\",IF(D937<>\"\",D937,D936),\"\")","v":""},{"$f":"IF(N936<>\"\",IF(E937<>\"\",E937,E936),\"\")","v":""},{"$f":"IF(N936<>\"\",IF(F937<>\"\",F937,F936),\"\")","v":""}]
[null,null,null,null,null,null,null,null,null,null,null,null,null,null,null,""]
[null,null,null,null,null,null,null,null,null,null,null,null,null,{"$f":"IF(A938<>\"\",TEXT(A938,\"\"),\"\")","v":""},{"$f":"IF(N938=\"\",\"\",CONCATENATE(IF(C938<>\"\",TEXT(C938,\"\"),\"\"),\" - \",IF(K938<>\"\",TEXT(K938,\"\"),\"\")))","v":""},"",{"$f":"IF(D938<>\"\",D938,\"\")","v":""},{"$f":"IF(E938<>\"\",E938,\"\")","v":""},{"$f":"IF(F938<>\"\",F938,\"\")","v":""},{"$f":"IF(N938<>\"\",IF(D939<>\"\",D939,D938),\"\")","v":""},{"$f":"IF(N938<>\"\",IF(E939<>\"\",E939,E938),\"\")","v":""},{"$f":"IF(N938<>\"\",IF(F939<>\"\",F939,F938),\"\")","v":""}]
[null,null,null,null,null,null,null,null,null,null,null,null,null,null,null,""]
[null,null,null,null,null,null,null,null,null,null,null,null,null,{"$f":"IF(A940<>\"\",TEXT(A940,\"\"),\"\")","v":""},{"$f":"IF(N940=\"\",\"\",CONCATENATE(IF(C940<>\"\",TEXT(C940,\"\"),\"\"),\" - \",IF(K940<>\"\",TEXT(K940,\"\"),\"\")))","v":""},"",{"$f":"IF(D940<>\"\",D940,\"\")","v":""},{"$f":"IF(E940<>\"\",E940,\"\")","v":""},{"$f":"IF(F940<>\"\",F940,\"\")","v":""},{"$f":"IF(N940<>\"\",IF(D941<>\"\",D941,D940),\"\")","v":""},{"$f":"IF(N940<>\"\",IF(E941<>\"\",E941,E940),\"\")","v":""},{"$f":"IF(N940<>\"\",IF(F941<>\"\",F941,F940),\"\")","v":""}]
[null,null,null,null,null,null,null,null,null,null,null,null,null,null,null,""]
[null,null,null,null,null,null,null,null,null,null,null,null,null,{"$f":"IF(A942<>\"\",TEXT(A942,\"\"),\"\")","v":""},{"$f":"IF(N942=\"\",\"\",CONCATENATE(IF(C942<>\"\",TEXT(C942,\"\"),\"\"),\" - \",IF(K942<>\"\",TEXT(K942,\"\"),\"\")))","v":""},"",{"$f":"IF(D942<>\"\",D942,\"\")","v":""},{"$f":"IF(E942<>\"\",E942,\"\")","v":""},{"$f":"IF(F942<>\"\",F942,\"\")","v":""},{"$f":"IF(N942<>\"\",IF(D943<>\"\",D943,D942),\"\")","v":""},{"$f":"IF(N942<>\"\",IF(E943<>\"\",E943,E942),\"\")","v":""},{"$f":"IF(N942<>\"\",IF(F943<>\"\",F943,F942),\"\")","v":""}]
[null,null,null,null,null,null,null,null,null,null,null,null,null,null,null,""]
[null,null,null,null,null,null,null,null,null,null,null,null,null,{"$f":"IF(A944<>\"\",TEXT(A944,\"\"),\"\")","v":""},{"$f":"IF(N944=\"\",\"\",CONCATENATE(IF(C944<>\"\",TEXT(C944,\"\"),\"\"),\" - \",IF(K944<>\"\",TEXT(K944,\"\"),\"\")))","v":""},"",{"$f":"IF(D944<>\"\",D944,\"\")","v":""},{"$f":"IF(E944<>\"\",E944,\"\")","v":""},{"$f":"IF(F944<>\"\",F944,\"\")","v":""},{"$f":"IF(N944<>\"\",IF(D945<>\"\",D945,D944),\"\")","v":""},{"$f":"IF(N944<>\"\",IF(E945<>\"\",E945,E944),\"\")","v":""},{"$f":"IF(N944<>\"\",IF(F945<>\"\",F945,F944),\"\")","v":""}]
[null,null,null,null,null,null,null,null,null,null,null,null,null,null,null,""]
[null,null,null,null,null,null,null,null,null,null,null,null,null,{"$f":"IF(A946<>\"\",TEXT(A946,\"\"),\"\")","v":""},{"$f":"IF(N946=\"\",\"\",CONCATENATE(IF(C946<>\"\",TEXT(C946,\"\"),\"\"),\" - \",IF(K946<>\"\",TEXT(K946,\"\"),\"\")))","v":""},"",{"$f":"IF(D946<>\"\",D946,\"\")","v":""},{"$f":"IF(E946<>\"\",E946,\"\")","v":""},{"$f":"IF(F946<>\"\",F946,\"\")","v":""},{"$f":"IF(N946<>\"\",IF(D947<>\"\",D947,D946),\"\")","v":""},{"$f":"IF(N946<>\"\",IF(E947<>\"\",E947,E946),\"\")","v":""},{"$f":"IF(N946<>\"\",IF(F947<>\"\",F947,F946),\"\")","v":""}]
[null,null,null,null,null,null,null,null,null,null,null,null,null,null,null,""]
[null,null,null,null,null,null,null,null,null,null,null,null,null,{"$f":"IF(A948<>\"\",TEXT(A948,\"\"),\"\")","v":""},{"$f":"IF(N948=\"\",\"\",CONCATENATE(IF(C948<>\"\",TEXT(C948,\"\"),\"\"),\" - \",IF(K948<>\"\",TEXT(K948,\"\"),\"\")))","v":""},"",{"$f":"IF(D948<>\"\",D948,\"\")","v":""},{"$f":"IF(E948<>\"\",E948,\"\")","v":""},{"$f":"IF(F948<>\"\",F948,\"\")","v":""},{"$f":"IF(N948<>\"\",IF(D949<>\"\",D949,D948),\"\")","v":""},{"$f":"IF(N948<>\"\",IF(E949<>\"\",E949,E948),\"\")","v":""},{"$f":"IF(N948<>\"\",IF(F949<>\"\",F949,F948),\"\")","v":""}]
[null,null,null,null,null,null,null,null,null,null,null,null,null,null,null,""]
[null,null,null,null,null,null,null,null,null,null,null,null,null,{"$f":"IF(A950<>\"\",TEXT(A950,\"\"),\"\")","v":""},{"$f":"IF(N950=\"\",\"\",CONCATENATE(IF(C950<>\"\",TEXT(C950,\"\"),\"\"),\" - \",IF(K950<>\"\",TEXT(K950,\"\"),\"\")))","v":""},"",{"$f":"IF(D950<>\"\",D950,\"\")","v":""},{"$f":"IF(E950<>\"\",E950,\"\")","v":""},{"$f":"IF(F950<>\"\",F950,\"\")","v":""},{"$f":"IF(N950<>\"\",IF(D951<>\"\",D951,D950),\"\")","v":""},{"$f":"IF(N950<>\"\",IF(E951<>\"\",E951,E950),\"\")","v":""},{"$f":"IF(N950<>\"\",IF(F951<>\"\",F951,F950),\"\")","v":""}]
[null,null,null,null,null,null,null,null,null,null,null,null,null,null,null,""]
[null,null,null,null,null,null,null,null,null,null,null,null,null,{"$f":"IF(A952<>\"\",TEXT(A952,\"\"),\"\")","v":""},{"$f":"IF(N952=\"\",\"\",CONCATENATE(IF(C952<>\"\",TEXT(C952,\"\"),\"\"),\" - \",IF(K952<>\"\",TEXT(K952,\"\"),\"\")))","v":""},"",{"$f":"IF(D952<>\"\",D952,\"\")","v":""},{"$f":"IF(E952<>\"\",E952,\"\")","v":""},{"$f":"IF(F952<>\"\",F952,\"\")","v":""},{"$f":"IF(N952<>\"\",IF(D953<>\"\",D953,D952),\"\")","v":""},{"$f":"IF(N952<>\"\",IF(E953<>\"\",E953,E952),\"\")","v":""},{"$f":"IF(N952<>\"\",IF(F953<>\"\",F953,F952),\"\")","v":""}]
[null,null,null,null,null,null,null,null,null,null,null,null,null,null,null,""]
[null,null,null,null,null,null,null,null,null,null,null,null,null,{"$f":"IF(A954<>\"\",TEXT(A954,\"\"),\"\")","v":""},{"$f":"IF(N954=\"\",\"\",CONCATENATE(IF(C954<>\"\",TEXT(C954,\"\"),\"\"),\" - \",IF(K954<>\"\",TEXT(K954,\"\"),\"\")))","v":""},"",{"$f":"IF(D954<>\"\",D954,\"\")","v":""},{"$f":"IF(E954<>\"\",E954,\"\")","v":""},{"$f":"IF(F954<>\"\",F954,\"\")","v":""},{"$f":"IF(N954<>\"\",IF(D955<>\"\",D955,D954),\"\")","v":""},{"$f":"IF(N954<>\"\",IF(E955<>\"\",E955,E954),\"\")","v":""},{"$f":"IF(N954<>\"\",IF(F955<>\"\",F955,F954),\"\")","v":""}]
[null,null,null,null,null,null,null,null,null,null,null,null,null,null,null,""]
[null,null,null,null,null,null,null,null,null,null,null,null,null,{"$f":"IF(A956<>\"\",TEXT(A956,\"\"),\"\")","v":""},{"$f":"IF(N956=\"\",\"\",CONCATENATE(IF(C956<>\"\",TEXT(C956,\"\"),\"\"),\" - \",IF(K956<>\"\",TEXT(K956,\"\"),\"\")))","v":""},"",{"$f":"IF(D956<>\"\",D956,\"\")","v":""},{"$f":"IF(E956<>\"\",E956,\"\")","v":""},{"$f":"IF(F956<>\"\",F956,\"\")","v":""},{"$f":"IF(N956<>\"\",IF(D957<>\"\",D957,D956),\"\")","v":""},{"$f":"IF(N956<>\"\",IF(E957<>\"\",E957,E956),\"\")","v":""},{"$f":"IF(N956<>\"\",IF(F957<>\"\",F957,F956),\"\")","v":""}]
[null,null,null,null,null,null,null,null,null,null,null,null,null,null,null,""]
[null,null,null,null,null,null,null,null,null,null,null,null,null,{"$f":"IF(A958<>\"\",TEXT(A958,\"\"),\"\")","v":""},{"$f":"IF(N958=\"\",\"\",CONCATENATE(IF(C958<>\"\",TEXT(C958,\"\"),\"\"),\" - \",IF(K958<>\"\",TEXT(K958,\"\"),\"\")))","v":""},"",{"$f":"IF(D958<>\"\",D958,\"\")","v":""},{"$f":"IF(E958<>\"\",E958,\"\")","v":""},{"$f":"IF(F958<>\"\",F958,\"\")","v":""},{"$f":"IF(N958<>\"\",IF(D959<>\"\",D959,D958),\"\")","v":""},{"$f":"IF(N958<>\"\",IF(E959<>\"\",E959,E958),\"\")","v":""},{"$f":"IF(N958<>\"\",IF(F959<>\"\",F959,F958),\"\")","v":""}]
[null,null,null,null,null,null,null,null,null,null,null,null,null,null,null,""]
[null,null,null,null,null,null,null,null,null,null,null,null,null,{"$f":"IF(A960<>\"\",TEXT(A960,\"\"),\"\")","v":""},{"$f":"IF(N960=\"\",\"\",CONCATENATE(IF(C960<>\"\",TEXT(C960,\"\"),\"\"),\" - \",IF(K960<>\"\",TEXT(K960,\"\"),\"\")))","v":""},"",{"$f":"IF(D960<>\"\",D960,\"\")","v":""},{"$f":"IF(E960<>\"\",E960,\"\")","v":""},{"$f":"IF(F960<>\"\",F960,\"\")","v":""},{"$f":"IF(N960<>\"\",IF(D961<>\"\",D961,D960),\"\")","v":""},{"$f":"IF(N960<>\"\",IF(E961<>\"\",E961,E960),\"\")","v":""},{"$f":"IF(N960<>\"\",IF(F961<>\"\",F961,F960),\"\")","v":""}]
[null,null,null,null,null,null,null,null,null,null,null,null,null,null,null,""]
[null,null,null,null,null,null,null,null,null,null,null,null,null,{"$f":"IF(A962<>\"\",TEXT(A962,\"\"),\"\")","v":""},{"$f":"IF(N962=\"\",\"\",CONCATENATE(IF(C962<>\"\",TEXT(C962,\"\"),\"\"),\" - \",IF(K962<>\"\",TEXT(K962,\"\"),\"\")))","v":""},"",{"$f":"IF(D962<>\"\",D962,\"\")","v":""},{"$f":"IF(E962<>\"\",E962,\"\")","v":""},{"$f":"IF(F962<>\"\",F962,\"\")","v":""},{"$f":"IF(N962<>\"\",IF(D963<>\"\",D963,D962),\"\")","v":""},{"$f":"IF(N962<>\"\",IF(E963<>\"\",E963,E962),\"\")","v":""},{"$f":"IF(N962<>\"\",IF(F963<>\"\",F963,F962),\"\")","v":""}]
[null,null,null,null,null,null,null,null,null,null,null,null,null,null,null,{"$f":"SUBSTITUTE(SUBSTITUTE(SUBSTITUTE(SUBSTITUTE(IF(L963<>\"\",HLink(L963),\"\"),\"htm\",\"html\"),\"1x2\",\"analysis\"),\"www\",\"www\"),\"com\",\"vip\")","v":""}]
[null,null,null,null,null,null,null,null,null,null,null,null,null,{"$f":"IF(A964<>\"\",TEXT(A964,\"\"),\"\")","v":""},{"$f":"IF(N964=\"\",\"\",CONCATENATE(IF(C964<>\"\",TEXT(C964,\"\"),\"\"),\" - \",IF(K964<>\"\",TEXT(K964,\"\"),\"\")))","v":""},"",{"$f":"IF(D964<>\"\",D964,\"\")","v":""},{"$f":"IF(E964<>\"\",E964,\"\")","v":""},{"$f":"IF(F964<>\"\",F964,\"\")","v":""},{"$f":"IF(N964<>\"\",IF(D965<>\"\",D965,D964),\"\")","v":""},{"$f":"IF(N964<>\"\",IF(E965<>\"\",E965,E964),\"\")","v":""},{"$f":"IF(N964<>\"\",IF(F965<>\"\",F965,F964),\"\")","v":""}]
[null,null,null,null,null,null,null,null,null,null,null,null,null,null,null,""]
[null,null,null,null,null,null,null,null,null,null,null,null,null,{"$f":"IF(A966<>\"\",TEXT(A966,\"\"),\"\")","v":""},{"$f":"IF(N966=\"\",\"\",CONCATENATE(IF(C966<>\"\",TEXT(C966,\"\"),\"\"),\" - \",IF(K966<>\"\",TEXT(K966,\"\"),\"\")))","v":""},"",{"$f":"IF(D966<>\"\",D966,\"\")","v":""},{"$f":"IF(E966<>\"\",E966,\"\")","v":""},{"$f":"IF(F966<>\"\",F966,\"\")","v":""},{"$f":"IF(N966<>\"\",IF(D967<>\"\",D967,D966),\"\")","v":""},{"$f":"IF(N966<>\"\",IF(E967<>\"\",E967,E966),\"\")","v":""},{"$f":"IF(N966<>\"\",IF(F967<>\"\",F967,F966),\"\")","v":""}]
[null,null,null,null,null,null,null,null,null,null,null,null,null,null,null,""]
[null,null,null,null,null,null,null,null,null,null,null,null,null,{"$f":"IF(A968<>\"\",TEXT(A968,\"\"),\"\")","v":""},{"$f":"IF(N968=\"\",\"\",CONCATENATE(IF(C968<>\"\",TEXT(C968,\"\"),\"\"),\" - \",IF(K968<>\"\",TEXT(K968,\"\"),\"\")))","v":""},"",{"$f":"IF(D968<>\"\",D968,\"\")","v":""},{"$f":"IF(E968<>\"\",E968,\"\")","v":""},{"$f":"IF(F968<>\"\",F968,\"\")","v":""},{"$f":"IF(N968<>\"\",IF(D969<>\"\",D969,D968),\"\")","v":""},{"$f":"IF(N968<>\"\",IF(E969<>\"\",E969,E968),\"\")","v":""},{"$f":"IF(N968<>\"\",IF(F969<>\"\",F969,F968),\"\")","v":""}]
[null,null,null,null,null,null,null,null,null,null,null,null,null,null,null,""]
[null,null,null,null,null,null,null,null,null,null,null,null,null,{"$f":"IF(A970<>\"\",TEXT(A970,\"\"),\"\")","v":""},{"$f":"IF(N970=\"\",\"\",CONCATENATE(IF(C970<>\"\",TEXT(C970,\"\"),\"\"),\" - \",IF(K970<>\"\",TEXT(K970,\"\"),\"\")))","v":""},"",{"$f":"IF(D970<>\"\",D970,\"\")","v":""},{"$f":"IF(E970<>\"\",E970,\"\")","v":""},{"$f":"IF(F970<>\"\",F970,\"\")","v":""},{"$f":"IF(N970<>\"\",IF(D971<>\"\",D971,D970),\"\")","v":""},{"$f":"IF(N970<>\"\",IF(E971<>\"\",E971,E970),\"\")","v":""},{"$f":"IF(N970<>\"\",IF(F971<>\"\",F971,F970),\"\")","v":""}]
[null,null,null,null,null,null,null,null,null,null,null,null,null,null,null,""]
[null,null,null,null,null,null,null,null,null,null,null,null,null,{"$f":"IF(A972<>\"\",TEXT(A972,\"\"),\"\")","v":""},{"$f":"IF(N972=\"\",\"\",CONCATENATE(IF(C972<>\"\",TEXT(C972,\"\"),\"\"),\" - \",IF(K972<>\"\",TEXT(K972,\"\"),\"\")))","v":""},"",{"$f":"IF(D972<>\"\",D972,\"\")","v":""},{"$f":"IF(E972<>\"\",E972,\"\")","v":""},{"$f":"IF(F972<>\"\",F972,\"\")","v":""},{"$f":"IF(N972<>\"\",IF(D973<>\"\",D973,D972),\"\")","v":""},{"$f":"IF(N972<>\"\",IF(E973<>\"\",E973,E972),\"\")","v":""},{"$f":"IF(N972<>\"\",IF(F973<>\"\",F973,F972),\"\")","v":""}]
[null,null,null,null,null,null,null,null,null,null,null,null,null,null,null,""]
[null,null,null,null,null,null,null,null,null,null,null,null,null,{"$f":"IF(A974<>\"\",TEXT(A974,\"\"),\"\")","v":""},{"$f":"IF(N974=\"\",\"\",CONCATENATE(IF(C974<>\"\",TEXT(C974,\"\"),\"\"),\" - \",IF(K974<>\"\",TEXT(K974,\"\"),\"\")))","v":""},"",{"$f":"IF(D974<>\"\",D974,\"\")","v":""},{"$f":"IF(E974<>\"\",E974,\"\")","v":""},{"$f":"IF(F974<>\"\",F974,\"\")","v":""},{"$f":"IF(N974<>\"\",IF(D975<>\"\",D975,D974),\"\")","v":""},{"$f":"IF(N974<>\"\",IF(E975<>\"\",E975,E974),\"\")","v":""},{"$f":"IF(N974<>\"\",IF(F975<>\"\",F975,F974),\"\")","v":""}]
[null,null,null,null,null,null,null,null,null,null,null,null,null,null,null,""]
[null,null,null,null,null,null,null,null,null,null,null,null,null,{"$f":"IF(A976<>\"\",TEXT(A976,\"\"),\"\")","v":""},{"$f":"IF(N976=\"\",\"\",CONCATENATE(IF(C976<>\"\",TEXT(C976,\"\"),\"\"),\" - \",IF(K976<>\"\",TEXT(K976,\"\"),\"\")))","v":""},"",{"$f":"IF(D976<>\"\",D976,\"\")","v":""},{"$f":"IF(E976<>\"\",E976,\"\")","v":""},{"$f":"IF(F976<>\"\",F976,\"\")","v":""},{"$f":"IF(N976<>\"\",IF(D977<>\"\",D977,D976),\"\")","v":""},{"$f":"IF(N976<>\"\",IF(E977<>\"\",E977,E976),\"\")","v":""},{"$f":"IF(N976<>\"\",IF(F977<>\"\",F977,F976),\"\")","v":""}]
[null,null,null,null,null,null,null,null,null,null,null,null,null,null,null,""]
[null,null,null,null,null,null,null,null,null,null,null,null,null,{"$f":"IF(A978<>\"\",TEXT(A978,\"\"),\"\")","v":""},{"$f":"IF(N978=\"\",\"\",CONCATENATE(IF(C978<>\"\",TEXT(C978,\"\"),\"\"),\" - \",IF(K978<>\"\",TEXT(K978,\"\"),\"\")))","v":""},"",{"$f":"IF(D978<>\"\",D978,\"\")","v":""},{"$f":"IF(E978<>\"\",E978,\"\")","v":""},{"$f":"IF(F978<>\"\",F978,\"\")","v":""},{"$f":"IF(N978<>\"\",IF(D979<>\"\",D979,D978),\"\")","v":""},{"$f":"IF(N978<>\"\",IF(E979<>\"\",E979,E978),\"\")","v":""},{"$f":"IF(N978<>\"\",IF(F979<>\"\",F979,F978),\"\")","v":""}]
[null,null,null,null,null,null,null,null,null,null,null,null,null,null,null,""]
[null,null,null,null,null,null,null,null,null,null,null,null,null,{"$f":"IF(A980<>\"\",TEXT(A980,\"\"),\"\")","v":""},{"$f":"IF(N980=\"\",\"\",CONCATENATE(IF(C980<>\"\",TEXT(C980,\"\"),\"\"),\" - \",IF(K980<>\"\",TEXT(K980,\"\"),\"\")))","v":""},"",{"$f":"IF(D980<>\"\",D980,\"\")","v":""},{"$f":"IF(E980<>\"\",E980,\"\")","v":""},{"$f":"IF(F980<>\"\",F980,\"\")","v":""},{"$f":"IF(N980<>\"\",IF(D981<>\"\",D981,D980),\"\")","v":""},{"$f":"IF(N980<>\"\",IF(E981<>\"\",E981,E980),\"\")","v":""},{"$f":"IF(N980<>\"\",IF(F981<>\"\",F981,F980),\"\")","v":""}]
[null,null,null,null,null,null,null,null,null,null,null,null,null,null,null,""]
[null,null,null,null,null,null,null,null,null,null,null,null,null,{"$f":"IF(A982<>\"\",TEXT(A982,\"\"),\"\")","v":""},{"$f":"IF(N982=\"\",\"\",CONCATENATE(IF(C982<>\"\",TEXT(C982,\"\"),\"\"),\" - \",IF(K982<>\"\",TEXT(K982,\"\"),\"\")))","v":""},"",{"$f":"IF(D982<>\"\",D982,\"\")","v":""},{"$f":"IF(E982<>\"\",E982,\"\")","v":""},{"$f":"IF(F982<>\"\",F982,\"\")","v":""},{"$f":"IF(N982<>\"\",IF(D983<>\"\",D983,D982),\"\")","v":""},{"$f":"IF(N982<>\"\",IF(E983<>\"\",E983,E982),\"\")","v":""},{"$f":"IF(N982<>\"\",IF(F983<>\"\",F983,F982),\"\")","v":""}]
[null,null,null,null,null,null,null,null,null,null,null,null,null,null,null,""]
[null,null,null,null,null,null,null,null,null,null,null,null,null,{"$f":"IF(A984<>\"\",TEXT(A984,\"\"),\"\")","v":""},{"$f":"IF(N984=\"\",\"\",CONCATENATE(IF(C984<>\"\",TEXT(C984,\"\"),\"\"),\" - \",IF(K984<>\"\",TEXT(K984,\"\"),\"\")))","v":""},"",{"$f":"IF(D984<>\"\",D984,\"\")","v":""},{"$f":"IF(E984<>\"\",E984,\"\")","v":""},{"$f":"IF(F984<>\"\",F984,\"\")","v":""},{"$f":"IF(N984<>\"\",IF(D985<>\"\",D985,D984),\"\")","v":""},{"$f":"IF(N984<>\"\",IF(E985<>\"\",E985,E984),\"\")","v":""},{"$f":"IF(N984<>\"\",IF(F985<>\"\",F985,F984),\"\")","v":""}]
[null,null,null,null,null,null,null,null,null,null,null,null,null,null,null,""]
[null,null,null,null,null,null,null,null,null,null,null,null,null,{"$f":"IF(A986<>\"\",TEXT(A986,\"\"),\"\")","v":""},{"$f":"IF(N986=\"\",\"\",CONCATENATE(IF(C986<>\"\",TEXT(C986,\"\"),\"\"),\" - \",IF(K986<>\"\",TEXT(K986,\"\"),\"\")))","v":""},"",{"$f":"IF(D986<>\"\",D986,\"\")","v":""},{"$f":"IF(E986<>\"\",E986,\"\")","v":""},{"$f":"IF(F986<>\"\",F986,\"\")","v":""},{"$f":"IF(N986<>\"\",IF(D987<>\"\",D987,D986),\"\")","v":""},{"$f":"IF(N986<>\"\",IF(E987<>\"\",E987,E986),\"\")","v":""},{"$f":"IF(N986<>\"\",IF(F987<>\"\",F987,F986),\"\")","v":""}]
[null,null,null,null,null,null,null,null,null,null,null,null,null,null,null,""]
[null,null,null,null,null,null,null,null,null,null,null,null,null,{"$f":"IF(A988<>\"\",TEXT(A988,\"\"),\"\")","v":""},{"$f":"IF(N988=\"\",\"\",CONCATENATE(IF(C988<>\"\",TEXT(C988,\"\"),\"\"),\" - \",IF(K988<>\"\",TEXT(K988,\"\"),\"\")))","v":""},"",{"$f":"IF(D988<>\"\",D988,\"\")","v":""},{"$f":"IF(E988<>\"\",E988,\"\")","v":""},{"$f":"IF(F988<>\"\",F988,\"\")","v":""},{"$f":"IF(N988<>\"\",IF(D989<>\"\",D989,D988),\"\")","v":""},{"$f":"IF(N988<>\"\",IF(E989<>\"\",E989,E988),\"\")","v":""},{"$f":"IF(N988<>\"\",IF(F989<>\"\",F989,F988),\"\")","v":""}]
[null,null,null,null,null,null,null,null,null,null,null,null,null,null,null,""]
[null,null,null,null,null,null,null,null,null,null,null,null,null,{"$f":"IF(A990<>\"\",TEXT(A990,\"\"),\"\")","v":""},{"$f":"IF(N990=\"\",\"\",CONCATENATE(IF(C990<>\"\",TEXT(C990,\"\"),\"\"),\" - \",IF(K990<>\"\",TEXT(K990,\"\"),\"\")))","v":""},"",{"$f":"IF(D990<>\"\",D990,\"\")","v":""},{"$f":"IF(E990<>\"\",E990,\"\")","v":""},{"$f":"IF(F990<>\"\",F990,\"\")","v":""},{"$f":"IF(N990<>\"\",IF(D991<>\"\",D991,D990),\"\")","v":""},{"$f":"IF(N990<>\"\",IF(E991<>\"\",E991,E990),\"\")","v":""},{"$f":"IF(N990<>\"\",IF(F991<>\"\",F991,F990),\"\")","v":""}]
[null,null,null,null,null,null,null,null,null,null,null,null,null,null,null,""]
[null,null,null,null,null,null,null,null,null,null,null,null,null,{"$f":"IF(A992<>\"\",TEXT(A992,\"\"),\"\")","v":""},{"$f":"IF(N992=\"\",\"\",CONCATENATE(IF(C992<>\"\",TEXT(C992,\"\"),\"\"),\" - \",IF(K992<>\"\",TEXT(K992,\"\"),\"\")))","v":""},"",{"$f":"IF(D992<>\"\",D992,\"\")","v":""},{"$f":"IF(E992<>\"\",E992,\"\")","v":""},{"$f":"IF(F992<>\"\",F992,\"\")","v":""},{"$f":"IF(N992<>\"\",IF(D993<>\"\",D993,D992),\"\")","v":""},{"$f":"IF(N992<>\"\",IF(E993<>\"\",E993,E992),\"\")","v":""},{"$f":"IF(N992<>\"\",IF(F993<>\"\",F993,F992),\"\")","v":""}]
[null,null,null,null,null,null,null,null,null,null,null,null,null,null,null,""]
[null,null,null,null,null,null,null,null,null,null,null,null,null,{"$f":"IF(A994<>\"\",TEXT(A994,\"\"),\"\")","v":""},{"$f":"IF(N994=\"\",\"\",CONCATENATE(IF(C994<>\"\",TEXT(C994,\"\"),\"\"),\" - \",IF(K994<>\"\",TEXT(K994,\"\"),\"\")))","v":""},"",{"$f":"IF(D994<>\"\",D994,\"\")","v":""},{"$f":"IF(E994<>\"\",E994,\"\")","v":""},{"$f":"IF(F994<>\"\",F994,\"\")","v":""},{"$f":"IF(N994<>\"\",IF(D995<>\"\",D995,D994),\"\")","v":""},{"$f":"IF(N994<>\"\",IF(E995<>\"\",E995,E994),\"\")","v":""},{"$f":"IF(N994<>\"\",IF(F995<>\"\",F995,F994),\"\")","v":""}]
[null,null,null,null,null,null,null,null,null,null,null,null,null,null,null,""]
[null,null,null,null,null,null,null,null,null,null,null,null,null,{"$f":"IF(A996<>\"\",TEXT(A996,\"\"),\"\")","v":""},{"$f":"IF(N996=\"\",\"\",CONCATENATE(IF(C996<>\"\",TEXT(C996,\"\"),\"\"),\" - \",IF(K996<>\"\",TEXT(K996,\"\"),\"\")))","v":""},"",{"$f":"IF(D996<>\"\",D996,\"\")","v":""},{"$f":"IF(E996<>\"\",E996,\"\")","v":""},{"$f":"IF(F996<>\"\",F996,\"\")","v":""},{"$f":"IF(N996<>\"\",IF(D997<>\"\",D997,D996),\"\")","v":""},{"$f":"IF(N996<>\"\",IF(E997<>\"\",E997,E996),\"\")","v":""},{"$f":"IF(N996<>\"\",IF(F997<>\"\",F997,F996),\"\")","v":""}]
[null,null,null,null,null,null,null,null,null,null,null,null,null,null,null,""]
[null,null,null,null,null,null,null,null,null,null,null,null,null,{"$f":"IF(A998<>\"\",TEXT(A998,\"\"),\"\")","v":""},{"$f":"IF(N998=\"\",\"\",CONCATENATE(IF(C998<>\"\",TEXT(C998,\"\"),\"\"),\" - \",IF(K998<>\"\",TEXT(K998,\"\"),\"\")))","v":""},"",{"$f":"IF(D998<>\"\",D998,\"\")","v":""},{"$f":"IF(E998<>\"\",E998,\"\")","v":""},{"$f":"IF(F998<>\"\",F998,\"\")","v":""},{"$f":"IF(N998<>\"\",IF(D999<>\"\",D999,D998),\"\")","v":""},{"$f":"IF(N998<>\"\",IF(E999<>\"\",E999,E998),\"\")","v":""},{"$f":"IF(N998<>\"\",IF(F999<>\"\",F999,F998),\"\")","v":""}]
[null,null,null,null,null,null,null,null,null,null,null,null,null,null,null,""]
[null,null,null,null,null,null,null,null,null,null,null,null,null,{"$f":"IF(A1000<>\"\",TEXT(A1000,\"\"),\"\")","v":""},{"$f":"IF(N1000=\"\",\"\",CONCATENATE(IF(C1000<>\"\",TEXT(C1000,\"\"),\"\"),\" - \",IF(K1000<>\"\",TEXT(K1000,\"\"),\"\")))","v":""},"",{"$f":"IF(D1000<>\"\",D1000,\"\")","v":""},{"$f":"IF(E1000<>\"\",E1000,\"\")","v":""},{"$f":"IF(F1000<>\"\",F1000,\"\")","v":""},{"$f":"IF(N1000<>\"\",IF(D1001<>\"\",D1001,D1000),\"\")","v":""},{"$f":"IF(N1000<>\"\",IF(E1001<>\"\",E1001,E1000),\"\")","v":""},{"$f":"IF(N1000<>\"\",IF(F1001<>\"\",F1001,F1000),\"\")","v":""}]
[null,null,null,null,null,null,null,null,null,null,null,null,null,null,null,""]
[null,null,null,null,null,null,null,null,null,null,null,null,null,{"$f":"IF(A1002<>\"\",TEXT(A1002,\"\"),\"\")","v":""},{"$f":"IF(N1002=\"\",\"\",CONCATENATE(IF(C1002<>\"\",TEXT(C1002,\"\"),\"\"),\" - \",IF(K1002<>\"\",TEXT(K1002,\"\"),\"\")))","v":""},"",{"$f":"IF(D1002<>\"\",D1002,\"\")","v":""},{"$f":"IF(E1002<>\"\",E1002,\"\")","v":""},{"$f":"IF(F1002<>\"\",F1002,\"\")","v":""},{"$f":"IF(N1002<>\"\",IF(D1003<>\"\",D1003,D1002),\"\")","v":""},{"$f":"IF(N1002<>\"\",IF(E1003<>\"\",E1003,E1002),\"\")","v":""},{"$f":"IF(N1002<>\"\",IF(F1003<>\"\",F1003,F1002),\"\")","v":""}]
[null,null,null,null,null,null,null,null,null,null,null,null,null,null,null,""]
[null,null,null,null,null,null,null,null,null,null,null,null,null,{"$f":"IF(A1004<>\"\",TEXT(A1004,\"\"),\"\")","v":""},{"$f":"IF(N1004=\"\",\"\",CONCATENATE(IF(C1004<>\"\",TEXT(C1004,\"\"),\"\"),\" - \",IF(K1004<>\"\",TEXT(K1004,\"\"),\"\")))","v":""},"",{"$f":"IF(D1004<>\"\",D1004,\"\")","v":""},{"$f":"IF(E1004<>\"\",E1004,\"\")","v":""},{"$f":"IF(F1004<>\"\",F1004,\"\")","v":""},{"$f":"IF(N1004<>\"\",IF(D1005<>\"\",D1005,D1004),\"\")","v":""},{"$f":"IF(N1004<>\"\",IF(E1005<>\"\",E1005,E1004),\"\")","v":""},{"$f":"IF(N1004<>\"\",IF(F1005<>\"\",F1005,F1004),\"\")","v":""}]
[null,null,null,null,null,null,null,null,null,null,null,null,null,null,null,""]
[null,null,null,null,null,null,null,null,null,null,null,null,null,{"$f":"IF(A1006<>\"\",TEXT(A1006,\"\"),\"\")","v":""},{"$f":"IF(N1006=\"\",\"\",CONCATENATE(IF(C1006<>\"\",TEXT(C1006,\"\"),\"\"),\" - \",IF(K1006<>\"\",TEXT(K1006,\"\"),\"\")))","v":""},"",{"$f":"IF(D1006<>\"\",D1006,\"\")","v":""},{"$f":"IF(E1006<>\"\",E1006,\"\")","v":""},{"$f":"IF(F1006<>\"\",F1006,\"\")","v":""},{"$f":"IF(N1006<>\"\",IF(D1007<>\"\",D1007,D1006),\"\")","v":""},{"$f":"IF(N1006<>\"\",IF(E1007<>\"\",E1007,E1006),\"\")","v":""},{"$f":"IF(N1006<>\"\",IF(F1007<>\"\",F1007,F1006),\"\")","v":""}]
[null,null,null,null,null,null,null,null,null,null,null,null,null,null,null,""]
[null,null,null,null,null,null,null,null,null,null,null,null,null,{"$f":"IF(A1008<>\"\",TEXT(A1008,\"\"),\"\")","v":""},{"$f":"IF(N1008=\"\",\"\",CONCATENATE(IF(C1008<>\"\",TEXT(C1008,\"\"),\"\"),\" - \",IF(K1008<>\"\",TEXT(K1008,\"\"),\"\")))","v":""},"",{"$f":"IF(D1008<>\"\",D1008,\"\")","v":""},{"$f":"IF(E1008<>\"\",E1008,\"\")","v":""},{"$f":"IF(F1008<>\"\",F1008,\"\")","v":""},{"$f":"IF(N1008<>\"\",IF(D1009<>\"\",D1009,D1008),\"\")","v":""},{"$f":"IF(N1008<>\"\",IF(E1009<>\"\",E1009,E1008),\"\")","v":""},{"$f":"IF(N1008<>\"\",IF(F1009<>\"\",F1009,F1008),\"\")","v":""}]
[null,null,null,null,null,null,null,null,null,null,null,null,null,null,null,""]
[null,null,null,null,null,null,null,null,null,null,null,null,null,{"$f":"IF(A1010<>\"\",TEXT(A1010,\"\"),\"\")","v":""},{"$f":"IF(N1010=\"\",\"\",CONCATENATE(IF(C1010<>\"\",TEXT(C1010,\"\"),\"\"),\" - \",IF(K1010<>\"\",TEXT(K1010,\"\"),\"\")))","v":""},"",{"$f":"IF(D1010<>\"\",D1010,\"\")","v":""},{"$f":"IF(E1010<>\"\",E1010,\"\")","v":""},{"$f":"IF(F1010<>\"\",F1010,\"\")","v":""},{"$f":"IF(N1010<>\"\",IF(D1011<>\"\",D1011,D1010),\"\")","v":""},{"$f":"IF(N1010<>\"\",IF(E1011<>\"\",E1011,E1010),\"\")","v":""},{"$f":"IF(N1010<>\"\",IF(F1011<>\"\",F1011,F1010),\"\")","v":""}]
[null,null,null,null,null,null,null,null,null,null,null,null,null,null,null,""]
[null,null,null,null,null,null,null,null,null,null,null,null,null,{"$f":"IF(A1012<>\"\",TEXT(A1012,\"\"),\"\")","v":""},{"$f":"IF(N1012=\"\",\"\",CONCATENATE(IF(C1012<>\"\",TEXT(C1012,\"\"),\"\"),\" - \",IF(K1012<>\"\",TEXT(K1012,\"\"),\"\")))","v":""},"",{"$f":"IF(D1012<>\"\",D1012,\"\")","v":""},{"$f":"IF(E1012<>\"\",E1012,\"\")","v":""},{"$f":"IF(F1012<>\"\",F1012,\"\")","v":""},{"$f":"IF(N1012<>\"\",IF(D1013<>\"\",D1013,D1012),\"\")","v":""},{"$f":"IF(N1012<>\"\",IF(E1013<>\"\",E1013,E1012),\"\")","v":""},{"$f":"IF(N1012<>\"\",IF(F1013<>\"\",F1013,F1012),\"\")","v":""}]
[null,null,null,null,null,null,null,null,null,null,null,null,null,null,null,""]
[null,null,null,null,null,null,null,null,null,null,null,null,null,{"$f":"IF(A1014<>\"\",TEXT(A1014,\"\"),\"\")","v":""},{"$f":"IF(N1014=\"\",\"\",CONCATENATE(IF(C1014<>\"\",TEXT(C1014,\"\"),\"\"),\" - \",IF(K1014<>\"\",TEXT(K1014,\"\"),\"\")))","v":""},"",{"$f":"IF(D1014<>\"\",D1014,\"\")","v":""},{"$f":"IF(E1014<>\"\",E1014,\"\")","v":""},{"$f":"IF(F1014<>\"\",F1014,\"\")","v":""},{"$f":"IF(N1014<>\"\",IF(D1015<>\"\",D1015,D1014),\"\")","v":""},{"$f":"IF(N1014<>\"\",IF(E1015<>\"\",E1015,E1014),\"\")","v":""},{"$f":"IF(N1014<>\"\",IF(F1015<>\"\",F1015,F1014),\"\")","v":""}]
[null,null,null,null,null,null,null,null,null,null,null,null,null,null,null,""]
[null,null,null,null,null,null,null,null,null,null,null,null,null,{"$f":"IF(A1016<>\"\",TEXT(A1016,\"\"),\"\")","v":""},{"$f":"IF(N1016=\"\",\"\",CONCATENATE(IF(C1016<>\"\",TEXT(C1016,\"\"),\"\"),\" - \",IF(K1016<>\"\",TEXT(K1016,\"\"),\"\")))","v":""},"",{"$f":"IF(D1016<>\"\",D1016,\"\")","v":""},{"$f":"IF(E1016<>\"\",E1016,\"\")","v":""},{"$f":"IF(F1016<>\"\",F1016,\"\")","v":""},{"$f":"IF(N1016<>\"\",IF(D1017<>\"\",D1017,D1016),\"\")","v":""},{"$f":"IF(N1016<>\"\",IF(E1017<>\"\",E1017,E1016),\"\")","v":""},{"$f":"IF(N1016<>\"\",IF(F1017<>\"\",F1017,F1016),\"\")","v":""}]
[null,null,null,null,null,null,null,null,null,null,null,null,null,null,null,""]
[null,null,null,null,null,null,null,null,null,null,null,null,null,{"$f":"IF(A1018<>\"\",TEXT(A1018,\"\"),\"\")","v":""},{"$f":"IF(N1018=\"\",\"\",CONCATENATE(IF(C1018<>\"\",TEXT(C1018,\"\"),\"\"),\" - \",IF(K1018<>\"\",TEXT(K1018,\"\"),\"\")))","v":""},"",{"$f":"IF(D1018<>\"\",D1018,\"\")","v":""},{"$f":"IF(E1018<>\"\",E1018,\"\")","v":""},{"$f":"IF(F1018<>\"\",F1018,\"\")","v":""},{"$f":"IF(N1018<>\"\",IF(D1019<>\"\",D1019,D1018),\"\")","v":""},{"$f":"IF(N1018<>\"\",IF(E1019<>\"\",E1019,E1018),\"\")","v":""},{"$f":"IF(N1018<>\"\",IF(F1019<>\"\",F1019,F1018),\"\")","v":""}]
[null,null,null,null,null,null,null,null,null,null,null,null,null,null,null,""]
[null,null,null,null,null,null,null,null,null,null,null,null,null,{"$f":"IF(A1020<>\"\",TEXT(A1020,\"\"),\"\")","v":""},{"$f":"IF(N1020=\"\",\"\",CONCATENATE(IF(C1020<>\"\",TEXT(C1020,\"\"),\"\"),\" - \",IF(K1020<>\"\",TEXT(K1020,\"\"),\"\")))","v":""},"",{"$f":"IF(D1020<>\"\",D1020,\"\")","v":""},{"$f":"IF(E1020<>\"\",E1020,\"\")","v":""},{"$f":"IF(F1020<>\"\",F1020,\"\")","v":""},{"$f":"IF(N1020<>\"\",IF(D1021<>\"\",D1021,D1020),\"\")","v":""},{"$f":"IF(N1020<>\"\",IF(E1021<>\"\",E1021,E1020),\"\")","v":""},{"$f":"IF(N1020<>\"\",IF(F1021<>\"\",F1021,F1020),\"\")","v":""}]
[null,null,null,null,null,null,null,null,null,null,null,null,null,null,null,""]
[null,null,null,null,null,null,null,null,null,null,null,null,null,{"$f":"IF(A1022<>\"\",TEXT(A1022,\"\"),\"\")","v":""},{"$f":"IF(N1022=\"\",\"\",CONCATENATE(IF(C1022<>\"\",TEXT(C1022,\"\"),\"\"),\" - \",IF(K1022<>\"\",TEXT(K1022,\"\"),\"\")))","v":""},"",{"$f":"IF(D1022<>\"\",D1022,\"\")","v":""},{"$f":"IF(E1022<>\"\",E1022,\"\")","v":""},{"$f":"IF(F1022<>\"\",F1022,\"\")","v":""},{"$f":"IF(N1022<>\"\",IF(D1023<>\"\",D1023,D1022),\"\")","v":""},{"$f":"IF(N1022<>\"\",IF(E1023<>\"\",E1023,E1022),\"\")","v":""},{"$f":"IF(N1022<>\"\",IF(F1023<>\"\",F1023,F1022),\"\")","v":""}]
[null,null,null,null,null,null,null,null,null,null,null,null,null,null,null,""]
[null,null,null,null,null,null,null,null,null,null,null,null,null,{"$f":"IF(A1024<>\"\",TEXT(A1024,\"\"),\"\")","v":""},{"$f":"IF(N1024=\"\",\"\",CONCATENATE(IF(C1024<>\"\",TEXT(C1024,\"\"),\"\"),\" - \",IF(K1024<>\"\",TEXT(K1024,\"\"),\"\")))","v":""},"",{"$f":"IF(D1024<>\"\",D1024,\"\")","v":""},{"$f":"IF(E1024<>\"\",E1024,\"\")","v":""},{"$f":"IF(F1024<>\"\",F1024,\"\")","v":""},{"$f":"IF(N1024<>\"\",IF(D1025<>\"\",D1025,D1024),\"\")","v":""},{"$f":"IF(N1024<>\"\",IF(E1025<>\"\",E1025,E1024),\"\")","v":""},{"$f":"IF(N1024<>\"\",IF(F1025<>\"\",F1025,F1024),\"\")","v":""}]
[null,null,null,null,null,null,null,null,null,null,null,null,null,null,null,""]
[null,null,null,null,null,null,null,null,null,null,null,null,null,{"$f":"IF(A1026<>\"\",TEXT(A1026,\"\"),\"\")","v":""},{"$f":"IF(N1026=\"\",\"\",CONCATENATE(IF(C1026<>\"\",TEXT(C1026,\"\"),\"\"),\" - \",IF(K1026<>\"\",TEXT(K1026,\"\"),\"\")))","v":""},"",{"$f":"IF(D1026<>\"\",D1026,\"\")","v":""},{"$f":"IF(E1026<>\"\",E1026,\"\")","v":""},{"$f":"IF(F1026<>\"\",F1026,\"\")","v":""},{"$f":"IF(N1026<>\"\",IF(D1027<>\"\",D1027,D1026),\"\")","v":""},{"$f":"IF(N1026<>\"\",IF(E1027<>\"\",E1027,E1026),\"\")","v":""},{"$f":"IF(N1026<>\"\",IF(F1027<>\"\",F1027,F1026),\"\")","v":""}]
[null,null,null,null,null,null,null,null,null,null,null,null,null,null,null,{"$f":"SUBSTITUTE(SUBSTITUTE(SUBSTITUTE(SUBSTITUTE(IF(L1027<>\"\",HLink(L1027),\"\"),\"htm\",\"html\"),\"1x2\",\"analysis\"),\"www\",\"www\"),\"com\",\"vip\")","v":""}]
[null,null,null,null,null,null,null,null,null,null,null,null,null,{"$f":"IF(A1028<>\"\",TEXT(A1028,\"\"),\"\")","v":""},{"$f":"IF(N1028=\"\",\"\",CONCATENATE(IF(C1028<>\"\",TEXT(C1028,\"\"),\"\"),\" - \",IF(K1028<>\"\",TEXT(K1028,\"\"),\"\")))","v":""},"",{"$f":"IF(D1028<>\"\",D1028,\"\")","v":""},{"$f":"IF(E1028<>\"\",E1028,\"\")","v":""},{"$f":"IF(F1028<>\"\",F1028,\"\")","v":""},{"$f":"IF(N1028<>\"\",IF(D1029<>\"\",D1029,D1028),\"\")","v":""},{"$f":"IF(N1028<>\"\",IF(E1029<>\"\",E1029,E1028),\"\")","v":""},{"$f":"IF(N1028<>\"\",IF(F1029<>\"\",F1029,F1028),\"\")","v":""}]
[null,null,null,null,null,null,null,null,null,null,null,null,null,null,null,""]
[null,null,null,null,null,null,null,null,null,null,null,null,null,{"$f":"IF(A1030<>\"\",TEXT(A1030,\"\"),\"\")","v":""},{"$f":"IF(N1030=\"\",\"\",CONCATENATE(IF(C1030<>\"\",TEXT(C1030,\"\"),\"\"),\" - \",IF(K1030<>\"\",TEXT(K1030,\"\"),\"\")))","v":""},"",{"$f":"IF(D1030<>\"\",D1030,\"\")","v":""},{"$f":"IF(E1030<>\"\",E1030,\"\")","v":""},{"$f":"IF(F1030<>\"\",F1030,\"\")","v":""},{"$f":"IF(N1030<>\"\",IF(D1031<>\"\",D1031,D1030),\"\")","v":""},{"$f":"IF(N1030<>\"\",IF(E1031<>\"\",E1031,E1030),\"\")","v":""},{"$f":"IF(N1030<>\"\",IF(F1031<>\"\",F1031,F1030),\"\")","v":""}]
[null,null,null,null,null,null,null,null,null,null,null,null,null,null,null,""]
[null,null,null,null,null,null,null,null,null,null,null,null,null,{"$f":"IF(A1032<>\"\",TEXT(A1032,\"\"),\"\")","v":""},{"$f":"IF(N1032=\"\",\"\",CONCATENATE(IF(C1032<>\"\",TEXT(C1032,\"\"),\"\"),\" - \",IF(K1032<>\"\",TEXT(K1032,\"\"),\"\")))","v":""},"",{"$f":"IF(D1032<>\"\",D1032,\"\")","v":""},{"$f":"IF(E1032<>\"\",E1032,\"\")","v":""},{"$f":"IF(F1032<>\"\",F1032,\"\")","v":""},{"$f":"IF(N1032<>\"\",IF(D1033<>\"\",D1033,D1032),\"\")","v":""},{"$f":"IF(N1032<>\"\",IF(E1033<>\"\",E1033,E1032),\"\")","v":""},{"$f":"IF(N1032<>\"\",IF(F1033<>\"\",F1033,F1032),\"\")","v":""}]
[null,null,null,null,null,null,null,null,null,null,null,null,null,null,null,""]
[null,null,null,null,null,null,null,null,null,null,null,null,null,{"$f":"IF(A1034<>\"\",TEXT(A1034,\"\"),\"\")","v":""},{"$f":"IF(N1034=\"\",\"\",CONCATENATE(IF(C1034<>\"\",TEXT(C1034,\"\"),\"\"),\" - \",IF(K1034<>\"\",TEXT(K1034,\"\"),\"\")))","v":""},"",{"$f":"IF(D1034<>\"\",D1034,\"\")","v":""},{"$f":"IF(E1034<>\"\",E1034,\"\")","v":""},{"$f":"IF(F1034<>\"\",F1034,\"\")","v":""},{"$f":"IF(N1034<>\"\",IF(D1035<>\"\",D1035,D1034),\"\")","v":""},{"$f":"IF(N1034<>\"\",IF(E1035<>\"\",E1035,E1034),\"\")","v":""},{"$f":"IF(N1034<>\"\",IF(F1035<>\"\",F1035,F1034),\"\")","v":""}]
[null,null,null,null,null,null,null,null,null,null,null,null,null,null,null,""]
[null,null,null,null,null,null,null,null,null,null,null,null,null,{"$f":"IF(A1036<>\"\",TEXT(A1036,\"\"),\"\")","v":""},{"$f":"IF(N1036=\"\",\"\",CONCATENATE(IF(C1036<>\"\",TEXT(C1036,\"\"),\"\"),\" - \",IF(K1036<>\"\",TEXT(K1036,\"\"),\"\")))","v":""},"",{"$f":"IF(D1036<>\"\",D1036,\"\")","v":""},{"$f":"IF(E1036<>\"\",E1036,\"\")","v":""},{"$f":"IF(F1036<>\"\",F1036,\"\")","v":""},{"$f":"IF(N1036<>\"\",IF(D1037<>\"\",D1037,D1036),\"\")","v":""},{"$f":"IF(N1036<>\"\",IF(E1037<>\"\",E1037,E1036),\"\")","v":""},{"$f":"IF(N1036<>\"\",IF(F1037<>\"\",F1037,F1036),\"\")","v":""}]
[null,null,null,null,null,null,null,null,null,null,null,null,null,null,null,""]
[null,null,null,null,null,null,null,null,null,null,null,null,null,{"$f":"IF(A1038<>\"\",TEXT(A1038,\"\"),\"\")","v":""},{"$f":"IF(N1038=\"\",\"\",CONCATENATE(IF(C1038<>\"\",TEXT(C1038,\"\"),\"\"),\" - \",IF(K1038<>\"\",TEXT(K1038,\"\"),\"\")))","v":""},"",{"$f":"IF(D1038<>\"\",D1038,\"\")","v":""},{"$f":"IF(E1038<>\"\",E1038,\"\")","v":""},{"$f":"IF(F1038<>\"\",F1038,\"\")","v":""},{"$f":"IF(N1038<>\"\",IF(D1039<>\"\",D1039,D1038),\"\")","v":""},{"$f":"IF(N1038<>\"\",IF(E1039<>\"\",E1039,E1038),\"\")","v":""},{"$f":"IF(N1038<>\"\",IF(F1039<>\"\",F1039,F1038),\"\")","v":""}]
[null,null,null,null,null,null,null,null,null,null,null,null,null,null,null,""]
[null,null,null,null,null,null,null,null,null,null,null,null,null,{"$f":"IF(A1040<>\"\",TEXT(A1040,\"\"),\"\")","v":""},{"$f":"IF(N1040=\"\",\"\",CONCATENATE(IF(C1040<>\"\",TEXT(C1040,\"\"),\"\"),\" - \",IF(K1040<>\"\",TEXT(K1040,\"\"),\"\")))","v":""},"",{"$f":"IF(D1040<>\"\",D1040,\"\")","v":""},{"$f":"IF(E1040<>\"\",E1040,\"\")","v":""},{"$f":"IF(F1040<>\"\",F1040,\"\")","v":""},{"$f":"IF(N1040<>\"\",IF(D1041<>\"\",D1041,D1040),\"\")","v":""},{"$f":"IF(N1040<>\"\",IF(E1041<>\"\",E1041,E1040),\"\")","v":""},{"$f":"IF(N1040<>\"\",IF(F1041<>\"\",F1041,F1040),\"\")","v":""}]
[null,null,null,null,null,null,null,null,null,null,null,null,null,null,null,""]
[null,null,null,null,null,null,null,null,null,null,null,null,null,{"$f":"IF(A1042<>\"\",TEXT(A1042,\"\"),\"\")","v":""},{"$f":"IF(N1042=\"\",\"\",CONCATENATE(IF(C1042<>\"\",TEXT(C1042,\"\"),\"\"),\" - \",IF(K1042<>\"\",TEXT(K1042,\"\"),\"\")))","v":""},"",{"$f":"IF(D1042<>\"\",D1042,\"\")","v":""},{"$f":"IF(E1042<>\"\",E1042,\"\")","v":""},{"$f":"IF(F1042<>\"\",F1042,\"\")","v":""},{"$f":"IF(N1042<>\"\",IF(D1043<>\"\",D1043,D1042),\"\")","v":""},{"$f":"IF(N1042<>\"\",IF(E1043<>\"\",E1043,E1042),\"\")","v":""},{"$f":"IF(N1042<>\"\",IF(F1043<>\"\",F1043,F1042),\"\")","v":""}]
[null,null,null,null,null,null,null,null,null,null,null,null,null,null,null,""]
[null,null,null,null,null,null,null,null,null,null,null,null,null,{"$f":"IF(A1044<>\"\",TEXT(A1044,\"\"),\"\")","v":""},{"$f":"IF(N1044=\"\",\"\",CONCATENATE(IF(C1044<>\"\",TEXT(C1044,\"\"),\"\"),\" - \",IF(K1044<>\"\",TEXT(K1044,\"\"),\"\")))","v":""},"",{"$f":"IF(D1044<>\"\",D1044,\"\")","v":""},{"$f":"IF(E1044<>\"\",E1044,\"\")","v":""},{"$f":"IF(F1044<>\"\",F1044,\"\")","v":""},{"$f":"IF(N1044<>\"\",IF(D1045<>\"\",D1045,D1044),\"\")","v":""},{"$f":"IF(N1044<>\"\",IF(E1045<>\"\",E1045,E1044),\"\")","v":""},{"$f":"IF(N1044<>\"\",IF(F1045<>\"\",F1045,F1044),\"\")","v":""}]
[null,null,null,null,null,null,null,null,null,null,null,null,null,null,null,""]
[null,null,null,null,null,null,null,null,null,null,null,null,null,{"$f":"IF(A1046<>\"\",TEXT(A1046,\"\"),\"\")","v":""},{"$f":"IF(N1046=\"\",\"\",CONCATENATE(IF(C1046<>\"\",TEXT(C1046,\"\"),\"\"),\" - \",IF(K1046<>\"\",TEXT(K1046,\"\"),\"\")))","v":""},"",{"$f":"IF(D1046<>\"\",D1046,\"\")","v":""},{"$f":"IF(E1046<>\"\",E1046,\"\")","v":""},{"$f":"IF(F1046<>\"\",F1046,\"\")","v":""},{"$f":"IF(N1046<>\"\",IF(D1047<>\"\",D1047,D1046),\"\")","v":""},{"$f":"IF(N1046<>\"\",IF(E1047<>\"\",E1047,E1046),\"\")","v":""},{"$f":"IF(N1046<>\"\",IF(F1047<>\"\",F1047,F1046),\"\")","v":""}]
[null,null,null,null,null,null,null,null,null,null,null,null,null,null,null,""]
[null,null,null,null,null,null,null,null,null,null,null,null,null,{"$f":"IF(A1048<>\"\",TEXT(A1048,\"\"),\"\")","v":""},{"$f":"IF(N1048=\"\",\"\",CONCATENATE(IF(C1048<>\"\",TEXT(C1048,\"\"),\"\"),\" - \",IF(K1048<>\"\",TEXT(K1048,\"\"),\"\")))","v":""},"",{"$f":"IF(D1048<>\"\",D1048,\"\")","v":""},{"$f":"IF(E1048<>\"\",E1048,\"\")","v":""},{"$f":"IF(F1048<>\"\",F1048,\"\")","v":""},{"$f":"IF(N1048<>\"\",IF(D1049<>\"\",D1049,D1048),\"\")","v":""},{"$f":"IF(N1048<>\"\",IF(E1049<>\"\",E1049,E1048),\"\")","v":""},{"$f":"IF(N1048<>\"\",IF(F1049<>\"\",F1049,F1048),\"\")","v":""}]
[null,null,null,null,null,null,null,null,null,null,null,null,null,null,null,""]
[null,null,null,null,null,null,null,null,null,null,null,null,null,{"$f":"IF(A1050<>\"\",TEXT(A1050,\"\"),\"\")","v":""},{"$f":"IF(N1050=\"\",\"\",CONCATENATE(IF(C1050<>\"\",TEXT(C1050,\"\"),\"\"),\" - \",IF(K1050<>\"\",TEXT(K1050,\"\"),\"\")))","v":""},"",{"$f":"IF(D1050<>\"\",D1050,\"\")","v":""},{"$f":"IF(E1050<>\"\",E1050,\"\")","v":""},{"$f":"IF(F1050<>\"\",F1050,\"\")","v":""},{"$f":"IF(N1050<>\"\",IF(D1051<>\"\",D1051,D1050),\"\")","v":""},{"$f":"IF(N1050<>\"\",IF(E1051<>\"\",E1051,E1050),\"\")","v":""},{"$f":"IF(N1050<>\"\",IF(F1051<>\"\",F1051,F1050),\"\")","v":""}]
[null,null,null,null,null,null,null,null,null,null,null,null,null,null,null,""]
[null,null,null,null,null,null,null,null,null,null,null,null,null,{"$f":"IF(A1052<>\"\",TEXT(A1052,\"\"),\"\")","v":""},{"$f":"IF(N1052=\"\",\"\",CONCATENATE(IF(C1052<>\"\",TEXT(C1052,\"\"),\"\"),\" - \",IF(K1052<>\"\",TEXT(K1052,\"\"),\"\")))","v":""},"",{"$f":"IF(D1052<>\"\",D1052,\"\")","v":""},{"$f":"IF(E1052<>\"\",E1052,\"\")","v":""},{"$f":"IF(F1052<>\"\",F1052,\"\")","v":""},{"$f":"IF(N1052<>\"\",IF(D1053<>\"\",D1053,D1052),\"\")","v":""},{"$f":"IF(N1052<>\"\",IF(E1053<>\"\",E1053,E1052),\"\")","v":""},{"$f":"IF(N1052<>\"\",IF(F1053<>\"\",F1053,F1052),\"\")","v":""}]
[null,null,null,null,null,null,null,null,null,null,null,null,null,null,null,""]
[null,null,null,null,null,null,null,null,null,null,null,null,null,{"$f":"IF(A1054<>\"\",TEXT(A1054,\"\"),\"\")","v":""},{"$f":"IF(N1054=\"\",\"\",CONCATENATE(IF(C1054<>\"\",TEXT(C1054,\"\"),\"\"),\" - \",IF(K1054<>\"\",TEXT(K1054,\"\"),\"\")))","v":""},"",{"$f":"IF(D1054<>\"\",D1054,\"\")","v":""},{"$f":"IF(E1054<>\"\",E1054,\"\")","v":""},{"$f":"IF(F1054<>\"\",F1054,\"\")","v":""},{"$f":"IF(N1054<>\"\",IF(D1055<>\"\",D1055,D1054),\"\")","v":""},{"$f":"IF(N1054<>\"\",IF(E1055<>\"\",E1055,E1054),\"\")","v":""},{"$f":"IF(N1054<>\"\",IF(F1055<>\"\",F1055,F1054),\"\")","v":""}]
[null,null,null,null,null,null,null,null,null,null,null,null,null,null,null,""]
[null,null,null,null,null,null,null,null,null,null,null,null,null,{"$f":"IF(A1056<>\"\",TEXT(A1056,\"\"),\"\")","v":""},{"$f":"IF(N1056=\"\",\"\",CONCATENATE(IF(C1056<>\"\",TEXT(C1056,\"\"),\"\"),\" - \",IF(K1056<>\"\",TEXT(K1056,\"\"),\"\")))","v":""},"",{"$f":"IF(D1056<>\"\",D1056,\"\")","v":""},{"$f":"IF(E1056<>\"\",E1056,\"\")","v":""},{"$f":"IF(F1056<>\"\",F1056,\"\")","v":""},{"$f":"IF(N1056<>\"\",IF(D1057<>\"\",D1057,D1056),\"\")","v":""},{"$f":"IF(N1056<>\"\",IF(E1057<>\"\",E1057,E1056),\"\")","v":""},{"$f":"IF(N1056<>\"\",IF(F1057<>\"\",F1057,F1056),\"\")","v":""}]
[null,null,null,null,null,null,null,null,null,null,null,null,null,null,null,""]
[null,null,null,null,null,null,null,null,null,null,null,null,null,{"$f":"IF(A1058<>\"\",TEXT(A1058,\"\"),\"\")","v":""},{"$f":"IF(N1058=\"\",\"\",CONCATENATE(IF(C1058<>\"\",TEXT(C1058,\"\"),\"\"),\" - \",IF(K1058<>\"\",TEXT(K1058,\"\"),\"\")))","v":""},"",{"$f":"IF(D1058<>\"\",D1058,\"\")","v":""},{"$f":"IF(E1058<>\"\",E1058,\"\")","v":""},{"$f":"IF(F1058<>\"\",F1058,\"\")","v":""},{"$f":"IF(N1058<>\"\",IF(D1059<>\"\",D1059,D1058),\"\")","v":""},{"$f":"IF(N1058<>\"\",IF(E1059<>\"\",E1059,E1058),\"\")","v":""},{"$f":"IF(N1058<>\"\",IF(F1059<>\"\",F1059,F1058),\"\")","v":""}]
[null,null,null,null,null,null,null,null,null,null,null,null,null,null,null,""]
[null,null,null,null,null,null,null,null,null,null,null,null,null,{"$f":"IF(A1060<>\"\",TEXT(A1060,\"\"),\"\")","v":""},{"$f":"IF(N1060=\"\",\"\",CONCATENATE(IF(C1060<>\"\",TEXT(C1060,\"\"),\"\"),\" - \",IF(K1060<>\"\",TEXT(K1060,\"\"),\"\")))","v":""},"",{"$f":"IF(D1060<>\"\",D1060,\"\")","v":""},{"$f":"IF(E1060<>\"\",E1060,\"\")","v":""},{"$f":"IF(F1060<>\"\",F1060,\"\")","v":""},{"$f":"IF(N1060<>\"\",IF(D1061<>\"\",D1061,D1060),\"\")","v":""},{"$f":"IF(N1060<>\"\",IF(E1061<>\"\",E1061,E1060),\"\")","v":""},{"$f":"IF(N1060<>\"\",IF(F1061<>\"\",F1061,F1060),\"\")","v":""}]
[null,null,null,null,null,null,null,null,null,null,null,null,null,null,null,""]
[null,null,null,null,null,null,null,null,null,null,null,null,null,{"$f":"IF(A1062<>\"\",TEXT(A1062,\"\"),\"\")","v":""},{"$f":"IF(N1062=\"\",\"\",CONCATENATE(IF(C1062<>\"\",TEXT(C1062,\"\"),\"\"),\" - \",IF(K1062<>\"\",TEXT(K1062,\"\"),\"\")))","v":""},"",{"$f":"IF(D1062<>\"\",D1062,\"\")","v":""},{"$f":"IF(E1062<>\"\",E1062,\"\")","v":""},{"$f":"IF(F1062<>\"\",F1062,\"\")","v":""},{"$f":"IF(N1062<>\"\",IF(D1063<>\"\",D1063,D1062),\"\")","v":""},{"$f":"IF(N1062<>\"\",IF(E1063<>\"\",E1063,E1062),\"\")","v":""},{"$f":"IF(N1062<>\"\",IF(F1063<>\"\",F1063,F1062),\"\")","v":""}]
[null,null,null,null,null,null,null,null,null,null,null,null,null,null,null,""]
[null,null,null,null,null,null,null,null,null,null,null,null,null,{"$f":"IF(A1064<>\"\",TEXT(A1064,\"\"),\"\")","v":""},{"$f":"IF(N1064=\"\",\"\",CONCATENATE(IF(C1064<>\"\",TEXT(C1064,\"\"),\"\"),\" - \",IF(K1064<>\"\",TEXT(K1064,\"\"),\"\")))","v":""},"",{"$f":"IF(D1064<>\"\",D1064,\"\")","v":""},{"$f":"IF(E1064<>\"\",E1064,\"\")","v":""},{"$f":"IF(F1064<>\"\",F1064,\"\")","v":""},{"$f":"IF(N1064<>\"\",IF(D1065<>\"\",D1065,D1064),\"\")","v":""},{"$f":"IF(N1064<>\"\",IF(E1065<>\"\",E1065,E1064),\"\")","v":""},{"$f":"IF(N1064<>\"\",IF(F1065<>\"\",F1065,F1064),\"\")","v":""}]
[null,null,null,null,null,null,null,null,null,null,null,null,null,null,null,""]
[null,null,null,null,null,null,null,null,null,null,null,null,null,{"$f":"IF(A1066<>\"\",TEXT(A1066,\"\"),\"\")","v":""},{"$f":"IF(N1066=\"\",\"\",CONCATENATE(IF(C1066<>\"\",TEXT(C1066,\"\"),\"\"),\" - \",IF(K1066<>\"\",TEXT(K1066,\"\"),\"\")))","v":""},"",{"$f":"IF(D1066<>\"\",D1066,\"\")","v":""},{"$f":"IF(E1066<>\"\",E1066,\"\")","v":""},{"$f":"IF(F1066<>\"\",F1066,\"\")","v":""},{"$f":"IF(N1066<>\"\",IF(D1067<>\"\",D1067,D1066),\"\")","v":""},{"$f":"IF(N1066<>\"\",IF(E1067<>\"\",E1067,E1066),\"\")","v":""},{"$f":"IF(N1066<>\"\",IF(F1067<>\"\",F1067,F1066),\"\")","v":""}]
[null,null,null,null,null,null,null,null,null,null,null,null,null,null,null,""]
[null,null,null,null,null,null,null,null,null,null,null,null,null,{"$f":"IF(A1068<>\"\",TEXT(A1068,\"\"),\"\")","v":""},{"$f":"IF(N1068=\"\",\"\",CONCATENATE(IF(C1068<>\"\",TEXT(C1068,\"\"),\"\"),\" - \",IF(K1068<>\"\",TEXT(K1068,\"\"),\"\")))","v":""},"",{"$f":"IF(D1068<>\"\",D1068,\"\")","v":""},{"$f":"IF(E1068<>\"\",E1068,\"\")","v":""},{"$f":"IF(F1068<>\"\",F1068,\"\")","v":""},{"$f":"IF(N1068<>\"\",IF(D1069<>\"\",D1069,D1068),\"\")","v":""},{"$f":"IF(N1068<>\"\",IF(E1069<>\"\",E1069,E1068),\"\")","v":""},{"$f":"IF(N1068<>\"\",IF(F1069<>\"\",F1069,F1068),\"\")","v":""}]
[null,null,null,null,null,null,null,null,null,null,null,null,null,null,null,""]
[null,null,null,null,null,null,null,null,null,null,null,null,null,{"$f":"IF(A1070<>\"\",TEXT(A1070,\"\"),\"\")","v":""},{"$f":"IF(N1070=\"\",\"\",CONCATENATE(IF(C1070<>\"\",TEXT(C1070,\"\"),\"\"),\" - \",IF(K1070<>\"\",TEXT(K1070,\"\"),\"\")))","v":""},"",{"$f":"IF(D1070<>\"\",D1070,\"\")","v":""},{"$f":"IF(E1070<>\"\",E1070,\"\")","v":""},{"$f":"IF(F1070<>\"\",F1070,\"\")","v":""},{"$f":"IF(N1070<>\"\",IF(D1071<>\"\",D1071,D1070),\"\")","v":""},{"$f":"IF(N1070<>\"\",IF(E1071<>\"\",E1071,E1070),\"\")","v":""},{"$f":"IF(N1070<>\"\",IF(F1071<>\"\",F1071,F1070),\"\")","v":""}]
[null,null,null,null,null,null,null,null,null,null,null,null,null,null,null,""]
[null,null,null,null,null,null,null,null,null,null,null,null,null,{"$f":"IF(A1072<>\"\",TEXT(A1072,\"\"),\"\")","v":""},{"$f":"IF(N1072=\"\",\"\",CONCATENATE(IF(C1072<>\"\",TEXT(C1072,\"\"),\"\"),\" - \",IF(K1072<>\"\",TEXT(K1072,\"\"),\"\")))","v":""},"",{"$f":"IF(D1072<>\"\",D1072,\"\")","v":""},{"$f":"IF(E1072<>\"\",E1072,\"\")","v":""},{"$f":"IF(F1072<>\"\",F1072,\"\")","v":""},{"$f":"IF(N1072<>\"\",IF(D1073<>\"\",D1073,D1072),\"\")","v":""},{"$f":"IF(N1072<>\"\",IF(E1073<>\"\",E1073,E1072),\"\")","v":""},{"$f":"IF(N1072<>\"\",IF(F1073<>\"\",F1073,F1072),\"\")","v":""}]
[null,null,null,null,null,null,null,null,null,null,null,null,null,null,null,""]
[null,null,null,null,null,null,null,null,null,null,null,null,null,{"$f":"IF(A1074<>\"\",TEXT(A1074,\"\"),\"\")","v":""},{"$f":"IF(N1074=\"\",\"\",CONCATENATE(IF(C1074<>\"\",TEXT(C1074,\"\"),\"\"),\" - \",IF(K1074<>\"\",TEXT(K1074,\"\"),\"\")))","v":""},"",{"$f":"IF(D1074<>\"\",D1074,\"\")","v":""},{"$f":"IF(E1074<>\"\",E1074,\"\")","v":""},{"$f":"IF(F1074<>\"\",F1074,\"\")","v":""},{"$f":"IF(N1074<>\"\",IF(D1075<>\"\",D1075,D1074),\"\")","v":""},{"$f":"IF(N1074<>\"\",IF(E1075<>\"\",E1075,E1074),\"\")","v":""},{"$f":"IF(N1074<>\"\",IF(F1075<>\"\",F1075,F1074),\"\")","v":""}]
[null,null,null,null,null,null,null,null,null,null,null,null,null,null,null,""]
[null,null,null,null,null,null,null,null,null,null,null,null,null,{"$f":"IF(A1076<>\"\",TEXT(A1076,\"\"),\"\")","v":""},{"$f":"IF(N1076=\"\",\"\",CONCATENATE(IF(C1076<>\"\",TEXT(C1076,\"\"),\"\"),\" - \",IF(K1076<>\"\",TEXT(K1076,\"\"),\"\")))","v":""},"",{"$f":"IF(D1076<>\"\",D1076,\"\")","v":""},{"$f":"IF(E1076<>\"\",E1076,\"\")","v":""},{"$f":"IF(F1076<>\"\",F1076,\"\")","v":""},{"$f":"IF(N1076<>\"\",IF(D1077<>\"\",D1077,D1076),\"\")","v":""},{"$f":"IF(N1076<>\"\",IF(E1077<>\"\",E1077,E1076),\"\")","v":""},{"$f":"IF(N1076<>\"\",IF(F1077<>\"\",F1077,F1076),\"\")","v":""}]
[null,null,null,null,null,null,null,null,null,null,null,null,null,null,null,""]
[null,null,null,null,null,null,null,null,null,null,null,null,null,{"$f":"IF(A1078<>\"\",TEXT(A1078,\"\"),\"\")","v":""},{"$f":"IF(N1078=\"\",\"\",CONCATENATE(IF(C1078<>\"\",TEXT(C1078,\"\"),\"\"),\" - \",IF(K1078<>\"\",TEXT(K1078,\"\"),\"\")))","v":""},"",{"$f":"IF(D1078<>\"\",D1078,\"\")","v":""},{"$f":"IF(E1078<>\"\",E1078,\"\")","v":""},{"$f":"IF(F1078<>\"\",F1078,\"\")","v":""},{"$f":"IF(N1078<>\"\",IF(D1079<>\"\",D1079,D1078),\"\")","v":""},{"$f":"IF(N1078<>\"\",IF(E1079<>\"\",E1079,E1078),\"\")","v":""},{"$f":"IF(N1078<>\"\",IF(F1079<>\"\",F1079,F1078),\"\")","v":""}]
[null,null,null,null,null,null,null,null,null,null,null,null,null,null,null,""]
[null,null,null,null,null,null,null,null,null,null,null,null,null,{"$f":"IF(A1080<>\"\",TEXT(A1080,\"\"),\"\")","v":""},{"$f":"IF(N1080=\"\",\"\",CONCATENATE(IF(C1080<>\"\",TEXT(C1080,\"\"),\"\"),\" - \",IF(K1080<>\"\",TEXT(K1080,\"\"),\"\")))","v":""},"",{"$f":"IF(D1080<>\"\",D1080,\"\")","v":""},{"$f":"IF(E1080<>\"\",E1080,\"\")","v":""},{"$f":"IF(F1080<>\"\",F1080,\"\")","v":""},{"$f":"IF(N1080<>\"\",IF(D1081<>\"\",D1081,D1080),\"\")","v":""},{"$f":"IF(N1080<>\"\",IF(E1081<>\"\",E1081,E1080),\"\")","v":""},{"$f":"IF(N1080<>\"\",IF(F1081<>\"\",F1081,F1080),\"\")","v":""}]
[null,null,null,null,null,null,null,null,null,null,null,null,null,null,null,""]
[null,null,null,null,null,null,null,null,null,null,null,null,null,{"$f":"IF(A1082<>\"\",TEXT(A1082,\"\"),\"\")","v":""},{"$f":"IF(N1082=\"\",\"\",CONCATENATE(IF(C1082<>\"\",TEXT(C1082,\"\"),\"\"),\" - \",IF(K1082<>\"\",TEXT(K1082,\"\"),\"\")))","v":""},"",{"$f":"IF(D1082<>\"\",D1082,\"\")","v":""},{"$f":"IF(E1082<>\"\",E1082,\"\")","v":""},{"$f":"IF(F1082<>\"\",F1082,\"\")","v":""},{"$f":"IF(N1082<>\"\",IF(D1083<>\"\",D1083,D1082),\"\")","v":""},{"$f":"IF(N1082<>\"\",IF(E1083<>\"\",E1083,E1082),\"\")","v":""},{"$f":"IF(N1082<>\"\",IF(F1083<>\"\",F1083,F1082),\"\")","v":""}]
[null,null,null,null,null,null,null,null,null,null,null,null,null,null,null,""]
[null,null,null,null,null,null,null,null,null,null,null,null,null,{"$f":"IF(A1084<>\"\",TEXT(A1084,\"\"),\"\")","v":""},{"$f":"IF(N1084=\"\",\"\",CONCATENATE(IF(C1084<>\"\",TEXT(C1084,\"\"),\"\"),\" - \",IF(K1084<>\"\",TEXT(K1084,\"\"),\"\")))","v":""},"",{"$f":"IF(D1084<>\"\",D1084,\"\")","v":""},{"$f":"IF(E1084<>\"\",E1084,\"\")","v":""},{"$f":"IF(F1084<>\"\",F1084,\"\")","v":""},{"$f":"IF(N1084<>\"\",IF(D1085<>\"\",D1085,D1084),\"\")","v":""},{"$f":"IF(N1084<>\"\",IF(E1085<>\"\",E1085,E1084),\"\")","v":""},{"$f":"IF(N1084<>\"\",IF(F1085<>\"\",F1085,F1084),\"\")","v":""}]
[null,null,null,null,null,null,null,null,null,null,null,null,null,null,null,""]
[null,null,null,null,null,null,null,null,null,null,null,null,null,{"$f":"IF(A1086<>\"\",TEXT(A1086,\"\"),\"\")","v":""},{"$f":"IF(N1086=\"\",\"\",CONCATENATE(IF(C1086<>\"\",TEXT(C1086,\"\"),\"\"),\" - \",IF(K1086<>\"\",TEXT(K1086,\"\"),\"\")))","v":""},"",{"$f":"IF(D1086<>\"\",D1086,\"\")","v":""},{"$f":"IF(E1086<>\"\",E1086,\"\")","v":""},{"$f":"IF(F1086<>\"\",F1086,\"\")","v":""},{"$f":"IF(N1086<>\"\",IF(D1087<>\"\",D1087,D1086),\"\")","v":""},{"$f":"IF(N1086<>\"\",IF(E1087<>\"\",E1087,E1086),\"\")","v":""},{"$f":"IF(N1086<>\"\",IF(F1087<>\"\",F1087,F1086),\"\")","v":""}]
[null,null,null,null,null,null,null,null,null,null,null,null,null,null,null,""]
[null,null,null,null,null,null,null,null,null,null,null,null,null,{"$f":"IF(A1088<>\"\",TEXT(A1088,\"\"),\"\")","v":""},{"$f":"IF(N1088=\"\",\"\",CONCATENATE(IF(C1088<>\"\",TEXT(C1088,\"\"),\"\"),\" - \",IF(K1088<>\"\",TEXT(K1088,\"\"),\"\")))","v":""},"",{"$f":"IF(D1088<>\"\",D1088,\"\")","v":""},{"$f":"IF(E1088<>\"\",E1088,\"\")","v":""},{"$f":"IF(F1088<>\"\",F1088,\"\")","v":""},{"$f":"IF(N1088<>\"\",IF(D1089<>\"\",D1089,D1088),\"\")","v":""},{"$f":"IF(N1088<>\"\",IF(E1089<>\"\",E1089,E1088),\"\")","v":""},{"$f":"IF(N1088<>\"\",IF(F1089<>\"\",F1089,F1088),\"\")","v":""}]
[null,null,null,null,null,null,null,null,null,null,null,null,null,null,null,""]
[null,null,null,null,null,null,null,null,null,null,null,null,null,{"$f":"IF(A1090<>\"\",TEXT(A1090,\"\"),\"\")","v":""},{"$f":"IF(N1090=\"\",\"\",CONCATENATE(IF(C1090<>\"\",TEXT(C1090,\"\"),\"\"),\" - \",IF(K1090<>\"\",TEXT(K1090,\"\"),\"\")))","v":""},"",{"$f":"IF(D1090<>\"\",D1090,\"\")","v":""},{"$f":"IF(E1090<>\"\",E1090,\"\")","v":""},{"$f":"IF(F1090<>\"\",F1090,\"\")","v":""},{"$f":"IF(N1090<>\"\",IF(D1091<>\"\",D1091,D1090),\"\")","v":""},{"$f":"IF(N1090<>\"\",IF(E1091<>\"\",E1091,E1090),\"\")","v":""},{"$f":"IF(N1090<>\"\",IF(F1091<>\"\",F1091,F1090),\"\")","v":""}]
[null,null,null,null,null,null,null,null,null,null,null,null,null,null,null,{"$f":"SUBSTITUTE(SUBSTITUTE(SUBSTITUTE(SUBSTITUTE(IF(L1091<>\"\",HLink(L1091),\"\"),\"htm\",\"html\"),\"1x2\",\"analysis\"),\"www\",\"www\"),\"com\",\"vip\")","v":""}]
[null,null,null,null,null,null,null,null,null,null,null,null,null,{"$f":"IF(A1092<>\"\",TEXT(A1092,\"\"),\"\")","v":""},{"$f":"IF(N1092=\"\",\"\",CONCATENATE(IF(C1092<>\"\",TEXT(C1092,\"\"),\"\"),\" - \",IF(K1092<>\"\",TEXT(K1092,\"\"),\"\")))","v":""},"",{"$f":"IF(D1092<>\"\",D1092,\"\")","v":""},{"$f":"IF(E1092<>\"\",E1092,\"\")","v":""},{"$f":"IF(F1092<>\"\",F1092,\"\")","v":""},{"$f":"IF(N1092<>\"\",IF(D1093<>\"\",D1093,D1092),\"\")","v":""},{"$f":"IF(N1092<>\"\",IF(E1093<>\"\",E1093,E1092),\"\")","v":""},{"$f":"IF(N1092<>\"\",IF(F1093<>\"\",F1093,F1092),\"\")","v":""}]
[null,null,null,null,null,null,null,null,null,null,null,null,null,null,null,""]
[null,null,null,null,null,null,null,null,null,null,null,null,null,{"$f":"IF(A1094<>\"\",TEXT(A1094,\"\"),\"\")","v":""},{"$f":"IF(N1094=\"\",\"\",CONCATENATE(IF(C1094<>\"\",TEXT(C1094,\"\"),\"\"),\" - \",IF(K1094<>\"\",TEXT(K1094,\"\"),\"\")))","v":""},"",{"$f":"IF(D1094<>\"\",D1094,\"\")","v":""},{"$f":"IF(E1094<>\"\",E1094,\"\")","v":""},{"$f":"IF(F1094<>\"\",F1094,\"\")","v":""},{"$f":"IF(N1094<>\"\",IF(D1095<>\"\",D1095,D1094),\"\")","v":""},{"$f":"IF(N1094<>\"\",IF(E1095<>\"\",E1095,E1094),\"\")","v":""},{"$f":"IF(N1094<>\"\",IF(F1095<>\"\",F1095,F1094),\"\")","v":""}]
[null,null,null,null,null,null,null,null,null,null,null,null,null,null,null,""]
[null,null,null,null,null,null,null,null,null,null,null,null,null,{"$f":"IF(A1096<>\"\",TEXT(A1096,\"\"),\"\")","v":""},{"$f":"IF(N1096=\"\",\"\",CONCATENATE(IF(C1096<>\"\",TEXT(C1096,\"\"),\"\"),\" - \",IF(K1096<>\"\",TEXT(K1096,\"\"),\"\")))","v":""},"",{"$f":"IF(D1096<>\"\",D1096,\"\")","v":""},{"$f":"IF(E1096<>\"\",E1096,\"\")","v":""},{"$f":"IF(F1096<>\"\",F1096,\"\")","v":""},{"$f":"IF(N1096<>\"\",IF(D1097<>\"\",D1097,D1096),\"\")","v":""},{"$f":"IF(N1096<>\"\",IF(E1097<>\"\",E1097,E1096),\"\")","v":""},{"$f":"IF(N1096<>\"\",IF(F1097<>\"\",F1097,F1096),\"\")","v":""}]
[null,null,null,null,null,null,null,null,null,null,null,null,null,null,null,""]
[null,null,null,null,null,null,null,null,null,null,null,null,null,{"$f":"IF(A1098<>\"\",TEXT(A1098,\"\"),\"\")","v":""},{"$f":"IF(N1098=\"\",\"\",CONCATENATE(IF(C1098<>\"\",TEXT(C1098,\"\"),\"\"),\" - \",IF(K1098<>\"\",TEXT(K1098,\"\"),\"\")))","v":""},"",{"$f":"IF(D1098<>\"\",D1098,\"\")","v":""},{"$f":"IF(E1098<>\"\",E1098,\"\")","v":""},{"$f":"IF(F1098<>\"\",F1098,\"\")","v":""},{"$f":"IF(N1098<>\"\",IF(D1099<>\"\",D1099,D1098),\"\")","v":""},{"$f":"IF(N1098<>\"\",IF(E1099<>\"\",E1099,E1098),\"\")","v":""},{"$f":"IF(N1098<>\"\",IF(F1099<>\"\",F1099,F1098),\"\")","v":""}]
[null,null,null,null,null,null,null,null,null,null,null,null,null,null,null,""]
[null,null,null,null,null,null,null,null,null,null,null,null,null,{"$f":"IF(A1100<>\"\",TEXT(A1100,\"\"),\"\")","v":""},{"$f":"IF(N1100=\"\",\"\",CONCATENATE(IF(C1100<>\"\",TEXT(C1100,\"\"),\"\"),\" - \",IF(K1100<>\"\",TEXT(K1100,\"\"),\"\")))","v":""},"",{"$f":"IF(D1100<>\"\",D1100,\"\")","v":""},{"$f":"IF(E1100<>\"\",E1100,\"\")","v":""},{"$f":"IF(F1100<>\"\",F1100,\"\")","v":""},{"$f":"IF(N1100<>\"\",IF(D1101<>\"\",D1101,D1100),\"\")","v":""},{"$f":"IF(N1100<>\"\",IF(E1101<>\"\",E1101,E1100),\"\")","v":""},{"$f":"IF(N1100<>\"\",IF(F1101<>\"\",F1101,F1100),\"\")","v":""}]
[null,null,null,null,null,null,null,null,null,null,null,null,null,null,null,""]
[null,null,null,null,null,null,null,null,null,null,null,null,null,{"$f":"IF(A1102<>\"\",TEXT(A1102,\"\"),\"\")","v":""},{"$f":"IF(N1102=\"\",\"\",CONCATENATE(IF(C1102<>\"\",TEXT(C1102,\"\"),\"\"),\" - \",IF(K1102<>\"\",TEXT(K1102,\"\"),\"\")))","v":""},"",{"$f":"IF(D1102<>\"\",D1102,\"\")","v":""},{"$f":"IF(E1102<>\"\",E1102,\"\")","v":""},{"$f":"IF(F1102<>\"\",F1102,\"\")","v":""},{"$f":"IF(N1102<>\"\",IF(D1103<>\"\",D1103,D1102),\"\")","v":""},{"$f":"IF(N1102<>\"\",IF(E1103<>\"\",E1103,E1102),\"\")","v":""},{"$f":"IF(N1102<>\"\",IF(F1103<>\"\",F1103,F1102),\"\")","v":""}]
[null,null,null,null,null,null,null,null,null,null,null,null,null,null,null,""]
[null,null,null,null,null,null,null,null,null,null,null,null,null,{"$f":"IF(A1104<>\"\",TEXT(A1104,\"\"),\"\")","v":""},{"$f":"IF(N1104=\"\",\"\",CONCATENATE(IF(C1104<>\"\",TEXT(C1104,\"\"),\"\"),\" - \",IF(K1104<>\"\",TEXT(K1104,\"\"),\"\")))","v":""},"",{"$f":"IF(D1104<>\"\",D1104,\"\")","v":""},{"$f":"IF(E1104<>\"\",E1104,\"\")","v":""},{"$f":"IF(F1104<>\"\",F1104,\"\")","v":""},{"$f":"IF(N1104<>\"\",IF(D1105<>\"\",D1105,D1104),\"\")","v":""},{"$f":"IF(N1104<>\"\",IF(E1105<>\"\",E1105,E1104),\"\")","v":""},{"$f":"IF(N1104<>\"\",IF(F1105<>\"\",F1105,F1104),\"\")","v":""}]
[null,null,null,null,null,null,null,null,null,null,null,null,null,null,null,""]
[null,null,null,null,null,null,null,null,null,null,null,null,null,{"$f":"IF(A1106<>\"\",TEXT(A1106,\"\"),\"\")","v":""},{"$f":"IF(N1106=\"\",\"\",CONCATENATE(IF(C1106<>\"\",TEXT(C1106,\"\"),\"\"),\" - \",IF(K1106<>\"\",TEXT(K1106,\"\"),\"\")))","v":""},"",{"$f":"IF(D1106<>\"\",D1106,\"\")","v":""},{"$f":"IF(E1106<>\"\",E1106,\"\")","v":""},{"$f":"IF(F1106<>\"\",F1106,\"\")","v":""},{"$f":"IF(N1106<>\"\",IF(D1107<>\"\",D1107,D1106),\"\")","v":""},{"$f":"IF(N1106<>\"\",IF(E1107<>\"\",E1107,E1106),\"\")","v":""},{"$f":"IF(N1106<>\"\",IF(F1107<>\"\",F1107,F1106),\"\")","v":""}]
[null,null,null,null,null,null,null,null,null,null,null,null,null,null,null,""]
[null,null,null,null,null,null,null,null,null,null,null,null,null,{"$f":"IF(A1108<>\"\",TEXT(A1108,\"\"),\"\")","v":""},{"$f":"IF(N1108=\"\",\"\",CONCATENATE(IF(C1108<>\"\",TEXT(C1108,\"\"),\"\"),\" - \",IF(K1108<>\"\",TEXT(K1108,\"\"),\"\")))","v":""},"",{"$f":"IF(D1108<>\"\",D1108,\"\")","v":""},{"$f":"IF(E1108<>\"\",E1108,\"\")","v":""},{"$f":"IF(F1108<>\"\",F1108,\"\")","v":""},{"$f":"IF(N1108<>\"\",IF(D1109<>\"\",D1109,D1108),\"\")","v":""},{"$f":"IF(N1108<>\"\",IF(E1109<>\"\",E1109,E1108),\"\")","v":""},{"$f":"IF(N1108<>\"\",IF(F1109<>\"\",F1109,F1108),\"\")","v":""}]
[null,null,null,null,null,null,null,null,null,null,null,null,null,null,null,""]
[null,null,null,null,null,null,null,null,null,null,null,null,null,{"$f":"IF(A1110<>\"\",TEXT(A1110,\"\"),\"\")","v":""},{"$f":"IF(N1110=\"\",\"\",CONCATENATE(IF(C1110<>\"\",TEXT(C1110,\"\"),\"\"),\" - \",IF(K1110<>\"\",TEXT(K1110,\"\"),\"\")))","v":""},"",{"$f":"IF(D1110<>\"\",D1110,\"\")","v":""},{"$f":"IF(E1110<>\"\",E1110,\"\")","v":""},{"$f":"IF(F1110<>\"\",F1110,\"\")","v":""},{"$f":"IF(N1110<>\"\",IF(D1111<>\"\",D1111,D1110),\"\")","v":""},{"$f":"IF(N1110<>\"\",IF(E1111<>\"\",E1111,E1110),\"\")","v":""},{"$f":"IF(N1110<>\"\",IF(F1111<>\"\",F1111,F1110),\"\")","v":""}]
[null,null,null,null,null,null,null,null,null,null,null,null,null,null,null,""]
[null,null,null,null,null,null,null,null,null,null,null,null,null,{"$f":"IF(A1112<>\"\",TEXT(A1112,\"\"),\"\")","v":""},{"$f":"IF(N1112=\"\",\"\",CONCATENATE(IF(C1112<>\"\",TEXT(C1112,\"\"),\"\"),\" - \",IF(K1112<>\"\",TEXT(K1112,\"\"),\"\")))","v":""},"",{"$f":"IF(D1112<>\"\",D1112,\"\")","v":""},{"$f":"IF(E1112<>\"\",E1112,\"\")","v":""},{"$f":"IF(F1112<>\"\",F1112,\"\")","v":""},{"$f":"IF(N1112<>\"\",IF(D1113<>\"\",D1113,D1112),\"\")","v":""},{"$f":"IF(N1112<>\"\",IF(E1113<>\"\",E1113,E1112),\"\")","v":""},{"$f":"IF(N1112<>\"\",IF(F1113<>\"\",F1113,F1112),\"\")","v":""}]
[null,null,null,null,null,null,null,null,null,null,null,null,null,null,null,""]
[null,null,null,null,null,null,null,null,null,null,null,null,null,{"$f":"IF(A1114<>\"\",TEXT(A1114,\"\"),\"\")","v":""},{"$f":"IF(N1114=\"\",\"\",CONCATENATE(IF(C1114<>\"\",TEXT(C1114,\"\"),\"\"),\" - \",IF(K1114<>\"\",TEXT(K1114,\"\"),\"\")))","v":""},"",{"$f":"IF(D1114<>\"\",D1114,\"\")","v":""},{"$f":"IF(E1114<>\"\",E1114,\"\")","v":""},{"$f":"IF(F1114<>\"\",F1114,\"\")","v":""},{"$f":"IF(N1114<>\"\",IF(D1115<>\"\",D1115,D1114),\"\")","v":""},{"$f":"IF(N1114<>\"\",IF(E1115<>\"\",E1115,E1114),\"\")","v":""},{"$f":"IF(N1114<>\"\",IF(F1115<>\"\",F1115,F1114),\"\")","v":""}]
[null,null,null,null,null,null,null,null,null,null,null,null,null,null,null,""]
[null,null,null,null,null,null,null,null,null,null,null,null,null,{"$f":"IF(A1116<>\"\",TEXT(A1116,\"\"),\"\")","v":""},{"$f":"IF(N1116=\"\",\"\",CONCATENATE(IF(C1116<>\"\",TEXT(C1116,\"\"),\"\"),\" - \",IF(K1116<>\"\",TEXT(K1116,\"\"),\"\")))","v":""},"",{"$f":"IF(D1116<>\"\",D1116,\"\")","v":""},{"$f":"IF(E1116<>\"\",E1116,\"\")","v":""},{"$f":"IF(F1116<>\"\",F1116,\"\")","v":""},{"$f":"IF(N1116<>\"\",IF(D1117<>\"\",D1117,D1116),\"\")","v":""},{"$f":"IF(N1116<>\"\",IF(E1117<>\"\",E1117,E1116),\"\")","v":""},{"$f":"IF(N1116<>\"\",IF(F1117<>\"\",F1117,F1116),\"\")","v":""}]
[null,null,null,null,null,null,null,null,null,null,null,null,null,null,null,""]
[null,null,null,null,null,null,null,null,null,null,null,null,null,{"$f":"IF(A1118<>\"\",TEXT(A1118,\"\"),\"\")","v":""},{"$f":"IF(N1118=\"\",\"\",CONCATENATE(IF(C1118<>\"\",TEXT(C1118,\"\"),\"\"),\" - \",IF(K1118<>\"\",TEXT(K1118,\"\"),\"\")))","v":""},"",{"$f":"IF(D1118<>\"\",D1118,\"\")","v":""},{"$f":"IF(E1118<>\"\",E1118,\"\")","v":""},{"$f":"IF(F1118<>\"\",F1118,\"\")","v":""},{"$f":"IF(N1118<>\"\",IF(D1119<>\"\",D1119,D1118),\"\")","v":""},{"$f":"IF(N1118<>\"\",IF(E1119<>\"\",E1119,E1118),\"\")","v":""},{"$f":"IF(N1118<>\"\",IF(F1119<>\"\",F1119,F1118),\"\")","v":""}]
[null,null,null,null,null,null,null,null,null,null,null,null,null,null,null,""]
[null,null,null,null,null,null,null,null,null,null,null,null,null,{"$f":"IF(A1120<>\"\",TEXT(A1120,\"\"),\"\")","v":""},{"$f":"IF(N1120=\"\",\"\",CONCATENATE(IF(C1120<>\"\",TEXT(C1120,\"\"),\"\"),\" - \",IF(K1120<>\"\",TEXT(K1120,\"\"),\"\")))","v":""},"",{"$f":"IF(D1120<>\"\",D1120,\"\")","v":""},{"$f":"IF(E1120<>\"\",E1120,\"\")","v":""},{"$f":"IF(F1120<>\"\",F1120,\"\")","v":""},{"$f":"IF(N1120<>\"\",IF(D1121<>\"\",D1121,D1120),\"\")","v":""},{"$f":"IF(N1120<>\"\",IF(E1121<>\"\",E1121,E1120),\"\")","v":""},{"$f":"IF(N1120<>\"\",IF(F1121<>\"\",F1121,F1120),\"\")","v":""}]
[null,null,null,null,null,null,null,null,null,null,null,null,null,null,null,""]
[null,null,null,null,null,null,null,null,null,null,null,null,null,{"$f":"IF(A1122<>\"\",TEXT(A1122,\"\"),\"\")","v":""},{"$f":"IF(N1122=\"\",\"\",CONCATENATE(IF(C1122<>\"\",TEXT(C1122,\"\"),\"\"),\" - \",IF(K1122<>\"\",TEXT(K1122,\"\"),\"\")))","v":""},"",{"$f":"IF(D1122<>\"\",D1122,\"\")","v":""},{"$f":"IF(E1122<>\"\",E1122,\"\")","v":""},{"$f":"IF(F1122<>\"\",F1122,\"\")","v":""},{"$f":"IF(N1122<>\"\",IF(D1123<>\"\",D1123,D1122),\"\")","v":""},{"$f":"IF(N1122<>\"\",IF(E1123<>\"\",E1123,E1122),\"\")","v":""},{"$f":"IF(N1122<>\"\",IF(F1123<>\"\",F1123,F1122),\"\")","v":""}]
[null,null,null,null,null,null,null,null,null,null,null,null,null,null,null,""]
[null,null,null,null,null,null,null,null,null,null,null,null,null,{"$f":"IF(A1124<>\"\",TEXT(A1124,\"\"),\"\")","v":""},{"$f":"IF(N1124=\"\",\"\",CONCATENATE(IF(C1124<>\"\",TEXT(C1124,\"\"),\"\"),\" - \",IF(K1124<>\"\",TEXT(K1124,\"\"),\"\")))","v":""},"",{"$f":"IF(D1124<>\"\",D1124,\"\")","v":""},{"$f":"IF(E1124<>\"\",E1124,\"\")","v":""},{"$f":"IF(F1124<>\"\",F1124,\"\")","v":""},{"$f":"IF(N1124<>\"\",IF(D1125<>\"\",D1125,D1124),\"\")","v":""},{"$f":"IF(N1124<>\"\",IF(E1125<>\"\",E1125,E1124),\"\")","v":""},{"$f":"IF(N1124<>\"\",IF(F1125<>\"\",F1125,F1124),\"\")","v":""}]
[null,null,null,null,null,null,null,null,null,null,null,null,null,null,null,""]
[null,null,null,null,null,null,null,null,null,null,null,null,null,{"$f":"IF(A1126<>\"\",TEXT(A1126,\"\"),\"\")","v":""},{"$f":"IF(N1126=\"\",\"\",CONCATENATE(IF(C1126<>\"\",TEXT(C1126,\"\"),\"\"),\" - \",IF(K1126<>\"\",TEXT(K1126,\"\"),\"\")))","v":""},"",{"$f":"IF(D1126<>\"\",D1126,\"\")","v":""},{"$f":"IF(E1126<>\"\",E1126,\"\")","v":""},{"$f":"IF(F1126<>\"\",F1126,\"\")","v":""},{"$f":"IF(N1126<>\"\",IF(D1127<>\"\",D1127,D1126),\"\")","v":""},{"$f":"IF(N1126<>\"\",IF(E1127<>\"\",E1127,E1126),\"\")","v":""},{"$f":"IF(N1126<>\"\",IF(F1127<>\"\",F1127,F1126),\"\")","v":""}]
[null,null,null,null,null,null,null,null,null,null,null,null,null,null,null,""]
[null,null,null,null,null,null,null,null,null,null,null,null,null,{"$f":"IF(A1128<>\"\",TEXT(A1128,\"\"),\"\")","v":""},{"$f":"IF(N1128=\"\",\"\",CONCATENATE(IF(C1128<>\"\",TEXT(C1128,\"\"),\"\"),\" - \",IF(K1128<>\"\",TEXT(K1128,\"\"),\"\")))","v":""},"",{"$f":"IF(D1128<>\"\",D1128,\"\")","v":""},{"$f":"IF(E1128<>\"\",E1128,\"\")","v":""},{"$f":"IF(F1128<>\"\",F1128,\"\")","v":""},{"$f":"IF(N1128<>\"\",IF(D1129<>\"\",D1129,D1128),\"\")","v":""},{"$f":"IF(N1128<>\"\",IF(E1129<>\"\",E1129,E1128),\"\")","v":""},{"$f":"IF(N1128<>\"\",IF(F1129<>\"\",F1129,F1128),\"\")","v":""}]
[null,null,null,null,null,null,null,null,null,null,null,null,null,null,null,""]
[null,null,null,null,null,null,null,null,null,null,null,null,null,{"$f":"IF(A1130<>\"\",TEXT(A1130,\"\"),\"\")","v":""},{"$f":"IF(N1130=\"\",\"\",CONCATENATE(IF(C1130<>\"\",TEXT(C1130,\"\"),\"\"),\" - \",IF(K1130<>\"\",TEXT(K1130,\"\"),\"\")))","v":""},"",{"$f":"IF(D1130<>\"\",D1130,\"\")","v":""},{"$f":"IF(E1130<>\"\",E1130,\"\")","v":""},{"$f":"IF(F1130<>\"\",F1130,\"\")","v":""},{"$f":"IF(N1130<>\"\",IF(D1131<>\"\",D1131,D1130),\"\")","v":""},{"$f":"IF(N1130<>\"\",IF(E1131<>\"\",E1131,E1130),\"\")","v":""},{"$f":"IF(N1130<>\"\",IF(F1131<>\"\",F1131,F1130),\"\")","v":""}]
[null,null,null,null,null,null,null,null,null,null,null,null,null,null,null,""]
[null,null,null,null,null,null,null,null,null,null,null,null,null,{"$f":"IF(A1132<>\"\",TEXT(A1132,\"\"),\"\")","v":""},{"$f":"IF(N1132=\"\",\"\",CONCATENATE(IF(C1132<>\"\",TEXT(C1132,\"\"),\"\"),\" - \",IF(K1132<>\"\",TEXT(K1132,\"\"),\"\")))","v":""},"",{"$f":"IF(D1132<>\"\",D1132,\"\")","v":""},{"$f":"IF(E1132<>\"\",E1132,\"\")","v":""},{"$f":"IF(F1132<>\"\",F1132,\"\")","v":""},{"$f":"IF(N1132<>\"\",IF(D1133<>\"\",D1133,D1132),\"\")","v":""},{"$f":"IF(N1132<>\"\",IF(E1133<>\"\",E1133,E1132),\"\")","v":""},{"$f":"IF(N1132<>\"\",IF(F1133<>\"\",F1133,F1132),\"\")","v":""}]
[null,null,null,null,null,null,null,null,null,null,null,null,null,null,null,""]
[null,null,null,null,null,null,null,null,null,null,null,null,null,{"$f":"IF(A1134<>\"\",TEXT(A1134,\"\"),\"\")","v":""},{"$f":"IF(N1134=\"\",\"\",CONCATENATE(IF(C1134<>\"\",TEXT(C1134,\"\"),\"\"),\" - \",IF(K1134<>\"\",TEXT(K1134,\"\"),\"\")))","v":""},"",{"$f":"IF(D1134<>\"\",D1134,\"\")","v":""},{"$f":"IF(E1134<>\"\",E1134,\"\")","v":""},{"$f":"IF(F1134<>\"\",F1134,\"\")","v":""},{"$f":"IF(N1134<>\"\",IF(D1135<>\"\",D1135,D1134),\"\")","v":""},{"$f":"IF(N1134<>\"\",IF(E1135<>\"\",E1135,E1134),\"\")","v":""},{"$f":"IF(N1134<>\"\",IF(F1135<>\"\",F1135,F1134),\"\")","v":""}]
[null,null,null,null,null,null,null,null,null,null,null,null,null,null,null,""]
[null,null,null,null,null,null,null,null,null,null,null,null,null,{"$f":"IF(A1136<>\"\",TEXT(A1136,\"\"),\"\")","v":""},{"$f":"IF(N1136=\"\",\"\",CONCATENATE(IF(C1136<>\"\",TEXT(C1136,\"\"),\"\"),\" - \",IF(K1136<>\"\",TEXT(K1136,\"\"),\"\")))","v":""},"",{"$f":"IF(D1136<>\"\",D1136,\"\")","v":""},{"$f":"IF(E1136<>\"\",E1136,\"\")","v":""},{"$f":"IF(F1136<>\"\",F1136,\"\")","v":""},{"$f":"IF(N1136<>\"\",IF(D1137<>\"\",D1137,D1136),\"\")","v":""},{"$f":"IF(N1136<>\"\",IF(E1137<>\"\",E1137,E1136),\"\")","v":""},{"$f":"IF(N1136<>\"\",IF(F1137<>\"\",F1137,F1136),\"\")","v":""}]
[null,null,null,null,null,null,null,null,null,null,null,null,null,null,null,""]
[null,null,null,null,null,null,null,null,null,null,null,null,null,{"$f":"IF(A1138<>\"\",TEXT(A1138,\"\"),\"\")","v":""},{"$f":"IF(N1138=\"\",\"\",CONCATENATE(IF(C1138<>\"\",TEXT(C1138,\"\"),\"\"),\" - \",IF(K1138<>\"\",TEXT(K1138,\"\"),\"\")))","v":""},"",{"$f":"IF(D1138<>\"\",D1138,\"\")","v":""},{"$f":"IF(E1138<>\"\",E1138,\"\")","v":""},{"$f":"IF(F1138<>\"\",F1138,\"\")","v":""},{"$f":"IF(N1138<>\"\",IF(D1139<>\"\",D1139,D1138),\"\")","v":""},{"$f":"IF(N1138<>\"\",IF(E1139<>\"\",E1139,E1138),\"\")","v":""},{"$f":"IF(N1138<>\"\",IF(F1139<>\"\",F1139,F1138),\"\")","v":""}]
[null,null,null,null,null,null,null,null,null,null,null,null,null,null,null,""]
[null,null,null,null,null,null,null,null,null,null,null,null,null,{"$f":"IF(A1140<>\"\",TEXT(A1140,\"\"),\"\")","v":""},{"$f":"IF(N1140=\"\",\"\",CONCATENATE(IF(C1140<>\"\",TEXT(C1140,\"\"),\"\"),\" - \",IF(K1140<>\"\",TEXT(K1140,\"\"),\"\")))","v":""},"",{"$f":"IF(D1140<>\"\",D1140,\"\")","v":""},{"$f":"IF(E1140<>\"\",E1140,\"\")","v":""},{"$f":"IF(F1140<>\"\",F1140,\"\")","v":""},{"$f":"IF(N1140<>\"\",IF(D1141<>\"\",D1141,D1140),\"\")","v":""},{"$f":"IF(N1140<>\"\",IF(E1141<>\"\",E1141,E1140),\"\")","v":""},{"$f":"IF(N1140<>\"\",IF(F1141<>\"\",F1141,F1140),\"\")","v":""}]
[null,null,null,null,null,null,null,null,null,null,null,null,null,null,null,""]
[null,null,null,null,null,null,null,null,null,null,null,null,null,{"$f":"IF(A1142<>\"\",TEXT(A1142,\"\"),\"\")","v":""},{"$f":"IF(N1142=\"\",\"\",CONCATENATE(IF(C1142<>\"\",TEXT(C1142,\"\"),\"\"),\" - \",IF(K1142<>\"\",TEXT(K1142,\"\"),\"\")))","v":""},"",{"$f":"IF(D1142<>\"\",D1142,\"\")","v":""},{"$f":"IF(E1142<>\"\",E1142,\"\")","v":""},{"$f":"IF(F1142<>\"\",F1142,\"\")","v":""},{"$f":"IF(N1142<>\"\",IF(D1143<>\"\",D1143,D1142),\"\")","v":""},{"$f":"IF(N1142<>\"\",IF(E1143<>\"\",E1143,E1142),\"\")","v":""},{"$f":"IF(N1142<>\"\",IF(F1143<>\"\",F1143,F1142),\"\")","v":""}]
[null,null,null,null,null,null,null,null,null,null,null,null,null,null,null,""]
[null,null,null,null,null,null,null,null,null,null,null,null,null,{"$f":"IF(A1144<>\"\",TEXT(A1144,\"\"),\"\")","v":""},{"$f":"IF(N1144=\"\",\"\",CONCATENATE(IF(C1144<>\"\",TEXT(C1144,\"\"),\"\"),\" - \",IF(K1144<>\"\",TEXT(K1144,\"\"),\"\")))","v":""},"",{"$f":"IF(D1144<>\"\",D1144,\"\")","v":""},{"$f":"IF(E1144<>\"\",E1144,\"\")","v":""},{"$f":"IF(F1144<>\"\",F1144,\"\")","v":""},{"$f":"IF(N1144<>\"\",IF(D1145<>\"\",D1145,D1144),\"\")","v":""},{"$f":"IF(N1144<>\"\",IF(E1145<>\"\",E1145,E1144),\"\")","v":""},{"$f":"IF(N1144<>\"\",IF(F1145<>\"\",F1145,F1144),\"\")","v":""}]
[null,null,null,null,null,null,null,null,null,null,null,null,null,null,null,""]
[null,null,null,null,null,null,null,null,null,null,null,null,null,{"$f":"IF(A1146<>\"\",TEXT(A1146,\"\"),\"\")","v":""},{"$f":"IF(N1146=\"\",\"\",CONCATENATE(IF(C1146<>\"\",TEXT(C1146,\"\"),\"\"),\" - \",IF(K1146<>\"\",TEXT(K1146,\"\"),\"\")))","v":""},"",{"$f":"IF(D1146<>\"\",D1146,\"\")","v":""},{"$f":"IF(E1146<>\"\",E1146,\"\")","v":""},{"$f":"IF(F1146<>\"\",F1146,\"\")","v":""},{"$f":"IF(N1146<>\"\",IF(D1147<>\"\",D1147,D1146),\"\")","v":""},{"$f":"IF(N1146<>\"\",IF(E1147<>\"\",E1147,E1146),\"\")","v":""},{"$f":"IF(N1146<>\"\",IF(F1147<>\"\",F1147,F1146),\"\")","v":""}]
[null,null,null,null,null,null,null,null,null,null,null,null,null,null,null,""]
[null,null,null,null,null,null,null,null,null,null,null,null,null,{"$f":"IF(A1148<>\"\",TEXT(A1148,\"\"),\"\")","v":""},{"$f":"IF(N1148=\"\",\"\",CONCATENATE(IF(C1148<>\"\",TEXT(C1148,\"\"),\"\"),\" - \",IF(K1148<>\"\",TEXT(K1148,\"\"),\"\")))","v":""},"",{"$f":"IF(D1148<>\"\",D1148,\"\")","v":""},{"$f":"IF(E1148<>\"\",E1148,\"\")","v":""},{"$f":"IF(F1148<>\"\",F1148,\"\")","v":""},{"$f":"IF(N1148<>\"\",IF(D1149<>\"\",D1149,D1148),\"\")","v":""},{"$f":"IF(N1148<>\"\",IF(E1149<>\"\",E1149,E1148),\"\")","v":""},{"$f":"IF(N1148<>\"\",IF(F1149<>\"\",F1149,F1148),\"\")","v":""}]
[null,null,null,null,null,null,null,null,null,null,null,null,null,null,null,""]
[null,null,null,null,null,null,null,null,null,null,null,null,null,{"$f":"IF(A1150<>\"\",TEXT(A1150,\"\"),\"\")","v":""},{"$f":"IF(N1150=\"\",\"\",CONCATENATE(IF(C1150<>\"\",TEXT(C1150,\"\"),\"\"),\" - \",IF(K1150<>\"\",TEXT(K1150,\"\"),\"\")))","v":""},"",{"$f":"IF(D1150<>\"\",D1150,\"\")","v":""},{"$f":"IF(E1150<>\"\",E1150,\"\")","v":""},{"$f":"IF(F1150<>\"\",F1150,\"\")","v":""},{"$f":"IF(N1150<>\"\",IF(D1151<>\"\",D1151,D1150),\"\")","v":""},{"$f":"IF(N1150<>\"\",IF(E1151<>\"\",E1151,E1150),\"\")","v":""},{"$f":"IF(N1150<>\"\",IF(F1151<>\"\",F1151,F1150),\"\")","v":""}]
[null,null,null,null,null,null,null,null,null,null,null,null,null,null,null,""]
[null,null,null,null,null,null,null,null,null,null,null,null,null,{"$f":"IF(A1152<>\"\",TEXT(A1152,\"\"),\"\")","v":""},{"$f":"IF(N1152=\"\",\"\",CONCATENATE(IF(C1152<>\"\",TEXT(C1152,\"\"),\"\"),\" - \",IF(K1152<>\"\",TEXT(K1152,\"\"),\"\")))","v":""},"",{"$f":"IF(D1152<>\"\",D1152,\"\")","v":""},{"$f":"IF(E1152<>\"\",E1152,\"\")","v":""},{"$f":"IF(F1152<>\"\",F1152,\"\")","v":""},{"$f":"IF(N1152<>\"\",IF(D1153<>\"\",D1153,D1152),\"\")","v":""},{"$f":"IF(N1152<>\"\",IF(E1153<>\"\",E1153,E1152),\"\")","v":""},{"$f":"IF(N1152<>\"\",IF(F1153<>\"\",F1153,F1152),\"\")","v":""}]
[null,null,null,null,null,null,null,null,null,null,null,null,null,null,null,""]
[null,null,null,null,null,null,null,null,null,null,null,null,null,{"$f":"IF(A1154<>\"\",TEXT(A1154,\"\"),\"\")","v":""},{"$f":"IF(N1154=\"\",\"\",CONCATENATE(IF(C1154<>\"\",TEXT(C1154,\"\"),\"\"),\" - \",IF(K1154<>\"\",TEXT(K1154,\"\"),\"\")))","v":""},"",{"$f":"IF(D1154<>\"\",D1154,\"\")","v":""},{"$f":"IF(E1154<>\"\",E1154,\"\")","v":""},{"$f":"IF(F1154<>\"\",F1154,\"\")","v":""},{"$f":"IF(N1154<>\"\",IF(D1155<>\"\",D1155,D1154),\"\")","v":""},{"$f":"IF(N1154<>\"\",IF(E1155<>\"\",E1155,E1154),\"\")","v":""},{"$f":"IF(N1154<>\"\",IF(F1155<>\"\",F1155,F1154),\"\")","v":""}]
[null,null,null,null,null,null,null,null,null,null,null,null,null,null,null,{"$f":"SUBSTITUTE(SUBSTITUTE(SUBSTITUTE(SUBSTITUTE(IF(L1155<>\"\",HLink(L1155),\"\"),\"htm\",\"html\"),\"1x2\",\"analysis\"),\"www\",\"www\"),\"com\",\"vip\")","v":""}]
[null,null,null,null,null,null,null,null,null,null,null,null,null,{"$f":"IF(A1156<>\"\",TEXT(A1156,\"\"),\"\")","v":""},{"$f":"IF(N1156=\"\",\"\",CONCATENATE(IF(C1156<>\"\",TEXT(C1156,\"\"),\"\"),\" - \",IF(K1156<>\"\",TEXT(K1156,\"\"),\"\")))","v":""},"",{"$f":"IF(D1156<>\"\",D1156,\"\")","v":""},{"$f":"IF(E1156<>\"\",E1156,\"\")","v":""},{"$f":"IF(F1156<>\"\",F1156,\"\")","v":""},{"$f":"IF(N1156<>\"\",IF(D1157<>\"\",D1157,D1156),\"\")","v":""},{"$f":"IF(N1156<>\"\",IF(E1157<>\"\",E1157,E1156),\"\")","v":""},{"$f":"IF(N1156<>\"\",IF(F1157<>\"\",F1157,F1156),\"\")","v":""}]
[null,null,null,null,null,null,null,null,null,null,null,null,null,null,null,""]
[null,null,null,null,null,null,null,null,null,null,null,null,null,{"$f":"IF(A1158<>\"\",TEXT(A1158,\"\"),\"\")","v":""},{"$f":"IF(N1158=\"\",\"\",CONCATENATE(IF(C1158<>\"\",TEXT(C1158,\"\"),\"\"),\" - \",IF(K1158<>\"\",TEXT(K1158,\"\"),\"\")))","v":""},"",{"$f":"IF(D1158<>\"\",D1158,\"\")","v":""},{"$f":"IF(E1158<>\"\",E1158,\"\")","v":""},{"$f":"IF(F1158<>\"\",F1158,\"\")","v":""},{"$f":"IF(N1158<>\"\",IF(D1159<>\"\",D1159,D1158),\"\")","v":""},{"$f":"IF(N1158<>\"\",IF(E1159<>\"\",E1159,E1158),\"\")","v":""},{"$f":"IF(N1158<>\"\",IF(F1159<>\"\",F1159,F1158),\"\")","v":""}]
[null,null,null,null,null,null,null,null,null,null,null,null,null,null,null,""]
[null,null,null,null,null,null,null,null,null,null,null,null,null,{"$f":"IF(A1160<>\"\",TEXT(A1160,\"\"),\"\")","v":""},{"$f":"IF(N1160=\"\",\"\",CONCATENATE(IF(C1160<>\"\",TEXT(C1160,\"\"),\"\"),\" - \",IF(K1160<>\"\",TEXT(K1160,\"\"),\"\")))","v":""},"",{"$f":"IF(D1160<>\"\",D1160,\"\")","v":""},{"$f":"IF(E1160<>\"\",E1160,\"\")","v":""},{"$f":"IF(F1160<>\"\",F1160,\"\")","v":""},{"$f":"IF(N1160<>\"\",IF(D1161<>\"\",D1161,D1160),\"\")","v":""},{"$f":"IF(N1160<>\"\",IF(E1161<>\"\",E1161,E1160),\"\")","v":""},{"$f":"IF(N1160<>\"\",IF(F1161<>\"\",F1161,F1160),\"\")","v":""}]
[null,null,null,null,null,null,null,null,null,null,null,null,null,null,null,""]
[null,null,null,null,null,null,null,null,null,null,null,null,null,{"$f":"IF(A1162<>\"\",TEXT(A1162,\"\"),\"\")","v":""},{"$f":"IF(N1162=\"\",\"\",CONCATENATE(IF(C1162<>\"\",TEXT(C1162,\"\"),\"\"),\" - \",IF(K1162<>\"\",TEXT(K1162,\"\"),\"\")))","v":""},"",{"$f":"IF(D1162<>\"\",D1162,\"\")","v":""},{"$f":"IF(E1162<>\"\",E1162,\"\")","v":""},{"$f":"IF(F1162<>\"\",F1162,\"\")","v":""},{"$f":"IF(N1162<>\"\",IF(D1163<>\"\",D1163,D1162),\"\")","v":""},{"$f":"IF(N1162<>\"\",IF(E1163<>\"\",E1163,E1162),\"\")","v":""},{"$f":"IF(N1162<>\"\",IF(F1163<>\"\",F1163,F1162),\"\")","v":""}]
[null,null,null,null,null,null,null,null,null,null,null,null,null,null,null,""]
[null,null,null,null,null,null,null,null,null,null,null,null,null,{"$f":"IF(A1164<>\"\",TEXT(A1164,\"\"),\"\")","v":""},{"$f":"IF(N1164=\"\",\"\",CONCATENATE(IF(C1164<>\"\",TEXT(C1164,\"\"),\"\"),\" - \",IF(K1164<>\"\",TEXT(K1164,\"\"),\"\")))","v":""},"",{"$f":"IF(D1164<>\"\",D1164,\"\")","v":""},{"$f":"IF(E1164<>\"\",E1164,\"\")","v":""},{"$f":"IF(F1164<>\"\",F1164,\"\")","v":""},{"$f":"IF(N1164<>\"\",IF(D1165<>\"\",D1165,D1164),\"\")","v":""},{"$f":"IF(N1164<>\"\",IF(E1165<>\"\",E1165,E1164),\"\")","v":""},{"$f":"IF(N1164<>\"\",IF(F1165<>\"\",F1165,F1164),\"\")","v":""}]
[null,null,null,null,null,null,null,null,null,null,null,null,null,null,null,""]
[null,null,null,null,null,null,null,null,null,null,null,null,null,{"$f":"IF(A1166<>\"\",TEXT(A1166,\"\"),\"\")","v":""},{"$f":"IF(N1166=\"\",\"\",CONCATENATE(IF(C1166<>\"\",TEXT(C1166,\"\"),\"\"),\" - \",IF(K1166<>\"\",TEXT(K1166,\"\"),\"\")))","v":""},"",{"$f":"IF(D1166<>\"\",D1166,\"\")","v":""},{"$f":"IF(E1166<>\"\",E1166,\"\")","v":""},{"$f":"IF(F1166<>\"\",F1166,\"\")","v":""},{"$f":"IF(N1166<>\"\",IF(D1167<>\"\",D1167,D1166),\"\")","v":""},{"$f":"IF(N1166<>\"\",IF(E1167<>\"\",E1167,E1166),\"\")","v":""},{"$f":"IF(N1166<>\"\",IF(F1167<>\"\",F1167,F1166),\"\")","v":""}]
[null,null,null,null,null,null,null,null,null,null,null,null,null,null,null,""]
[null,null,null,null,null,null,null,null,null,null,null,null,null,{"$f":"IF(A1168<>\"\",TEXT(A1168,\"\"),\"\")","v":""},{"$f":"IF(N1168=\"\",\"\",CONCATENATE(IF(C1168<>\"\",TEXT(C1168,\"\"),\"\"),\" - \",IF(K1168<>\"\",TEXT(K1168,\"\"),\"\")))","v":""},"",{"$f":"IF(D1168<>\"\",D1168,\"\")","v":""},{"$f":"IF(E1168<>\"\",E1168,\"\")","v":""},{"$f":"IF(F1168<>\"\",F1168,\"\")","v":""},{"$f":"IF(N1168<>\"\",IF(D1169<>\"\",D1169,D1168),\"\")","v":""},{"$f":"IF(N1168<>\"\",IF(E1169<>\"\",E1169,E1168),\"\")","v":""},{"$f":"IF(N1168<>\"\",IF(F1169<>\"\",F1169,F1168),\"\")","v":""}]
[null,null,null,null,null,null,null,null,null,null,null,null,null,null,null,""]
[null,null,null,null,null,null,null,null,null,null,null,null,null,{"$f":"IF(A1170<>\"\",TEXT(A1170,\"\"),\"\")","v":""},{"$f":"IF(N1170=\"\",\"\",CONCATENATE(IF(C1170<>\"\",TEXT(C1170,\"\"),\"\"),\" - \",IF(K1170<>\"\",TEXT(K1170,\"\"),\"\")))","v":""},"",{"$f":"IF(D1170<>\"\",D1170,\"\")","v":""},{"$f":"IF(E1170<>\"\",E1170,\"\")","v":""},{"$f":"IF(F1170<>\"\",F1170,\"\")","v":""},{"$f":"IF(N1170<>\"\",IF(D1171<>\"\",D1171,D1170),\"\")","v":""},{"$f":"IF(N1170<>\"\",IF(E1171<>\"\",E1171,E1170),\"\")","v":""},{"$f":"IF(N1170<>\"\",IF(F1171<>\"\",F1171,F1170),\"\")","v":""}]
[null,null,null,null,null,null,null,null,null,null,null,null,null,null,null,""]
[null,null,null,null,null,null,null,null,null,null,null,null,null,{"$f":"IF(A1172<>\"\",TEXT(A1172,\"\"),\"\")","v":""},{"$f":"IF(N1172=\"\",\"\",CONCATENATE(IF(C1172<>\"\",TEXT(C1172,\"\"),\"\"),\" - \",IF(K1172<>\"\",TEXT(K1172,\"\"),\"\")))","v":""},"",{"$f":"IF(D1172<>\"\",D1172,\"\")","v":""},{"$f":"IF(E1172<>\"\",E1172,\"\")","v":""},{"$f":"IF(F1172<>\"\",F1172,\"\")","v":""},{"$f":"IF(N1172<>\"\",IF(D1173<>\"\",D1173,D1172),\"\")","v":""},{"$f":"IF(N1172<>\"\",IF(E1173<>\"\",E1173,E1172),\"\")","v":""},{"$f":"IF(N1172<>\"\",IF(F1173<>\"\",F1173,F1172),\"\")","v":""}]
[null,null,null,null,null,null,null,null,null,null,null,null,null,null,null,""]
[null,null,null,null,null,null,null,null,null,null,null,null,null,{"$f":"IF(A1174<>\"\",TEXT(A1174,\"\"),\"\")","v":""},{"$f":"IF(N1174=\"\",\"\",CONCATENATE(IF(C1174<>\"\",TEXT(C1174,\"\"),\"\"),\" - \",IF(K1174<>\"\",TEXT(K1174,\"\"),\"\")))","v":""},"",{"$f":"IF(D1174<>\"\",D1174,\"\")","v":""},{"$f":"IF(E1174<>\"\",E1174,\"\")","v":""},{"$f":"IF(F1174<>\"\",F1174,\"\")","v":""},{"$f":"IF(N1174<>\"\",IF(D1175<>\"\",D1175,D1174),\"\")","v":""},{"$f":"IF(N1174<>\"\",IF(E1175<>\"\",E1175,E1174),\"\")","v":""},{"$f":"IF(N1174<>\"\",IF(F1175<>\"\",F1175,F1174),\"\")","v":""}]
[null,null,null,null,null,null,null,null,null,null,null,null,null,null,null,""]
[null,null,null,null,null,null,null,null,null,null,null,null,null,{"$f":"IF(A1176<>\"\",TEXT(A1176,\"\"),\"\")","v":""},{"$f":"IF(N1176=\"\",\"\",CONCATENATE(IF(C1176<>\"\",TEXT(C1176,\"\"),\"\"),\" - \",IF(K1176<>\"\",TEXT(K1176,\"\"),\"\")))","v":""},"",{"$f":"IF(D1176<>\"\",D1176,\"\")","v":""},{"$f":"IF(E1176<>\"\",E1176,\"\")","v":""},{"$f":"IF(F1176<>\"\",F1176,\"\")","v":""},{"$f":"IF(N1176<>\"\",IF(D1177<>\"\",D1177,D1176),\"\")","v":""},{"$f":"IF(N1176<>\"\",IF(E1177<>\"\",E1177,E1176),\"\")","v":""},{"$f":"IF(N1176<>\"\",IF(F1177<>\"\",F1177,F1176),\"\")","v":""}]
[null,null,null,null,null,null,null,null,null,null,null,null,null,null,null,""]
[null,null,null,null,null,null,null,null,null,null,null,null,null,{"$f":"IF(A1178<>\"\",TEXT(A1178,\"\"),\"\")","v":""},{"$f":"IF(N1178=\"\",\"\",CONCATENATE(IF(C1178<>\"\",TEXT(C1178,\"\"),\"\"),\" - \",IF(K1178<>\"\",TEXT(K1178,\"\"),\"\")))","v":""},"",{"$f":"IF(D1178<>\"\",D1178,\"\")","v":""},{"$f":"IF(E1178<>\"\",E1178,\"\")","v":""},{"$f":"IF(F1178<>\"\",F1178,\"\")","v":""},{"$f":"IF(N1178<>\"\",IF(D1179<>\"\",D1179,D1178),\"\")","v":""},{"$f":"IF(N1178<>\"\",IF(E1179<>\"\",E1179,E1178),\"\")","v":""},{"$f":"IF(N1178<>\"\",IF(F1179<>\"\",F1179,F1178),\"\")","v":""}]
[null,null,null,null,null,null,null,null,null,null,null,null,null,null,null,""]
[null,null,null,null,null,null,null,null,null,null,null,null,null,{"$f":"IF(A1180<>\"\",TEXT(A1180,\"\"),\"\")","v":""},{"$f":"IF(N1180=\"\",\"\",CONCATENATE(IF(C1180<>\"\",TEXT(C1180,\"\"),\"\"),\" - \",IF(K1180<>\"\",TEXT(K1180,\"\"),\"\")))","v":""},"",{"$f":"IF(D1180<>\"\",D1180,\"\")","v":""},{"$f":"IF(E1180<>\"\",E1180,\"\")","v":""},{"$f":"IF(F1180<>\"\",F1180,\"\")","v":""},{"$f":"IF(N1180<>\"\",IF(D1181<>\"\",D1181,D1180),\"\")","v":""},{"$f":"IF(N1180<>\"\",IF(E1181<>\"\",E1181,E1180),\"\")","v":""},{"$f":"IF(N1180<>\"\",IF(F1181<>\"\",F1181,F1180),\"\")","v":""}]
[null,null,null,null,null,null,null,null,null,null,null,null,null,null,null,""]
[null,null,null,null,null,null,null,null,null,null,null,null,null,{"$f":"IF(A1182<>\"\",TEXT(A1182,\"\"),\"\")","v":""},{"$f":"IF(N1182=\"\",\"\",CONCATENATE(IF(C1182<>\"\",TEXT(C1182,\"\"),\"\"),\" - \",IF(K1182<>\"\",TEXT(K1182,\"\"),\"\")))","v":""},"",{"$f":"IF(D1182<>\"\",D1182,\"\")","v":""},{"$f":"IF(E1182<>\"\",E1182,\"\")","v":""},{"$f":"IF(F1182<>\"\",F1182,\"\")","v":""},{"$f":"IF(N1182<>\"\",IF(D1183<>\"\",D1183,D1182),\"\")","v":""},{"$f":"IF(N1182<>\"\",IF(E1183<>\"\",E1183,E1182),\"\")","v":""},{"$f":"IF(N1182<>\"\",IF(F1183<>\"\",F1183,F1182),\"\")","v":""}]
[null,null,null,null,null,null,null,null,null,null,null,null,null,null,null,""]
[null,null,null,null,null,null,null,null,null,null,null,null,null,{"$f":"IF(A1184<>\"\",TEXT(A1184,\"\"),\"\")","v":""},{"$f":"IF(N1184=\"\",\"\",CONCATENATE(IF(C1184<>\"\",TEXT(C1184,\"\"),\"\"),\" - \",IF(K1184<>\"\",TEXT(K1184,\"\"),\"\")))","v":""},"",{"$f":"IF(D1184<>\"\",D1184,\"\")","v":""},{"$f":"IF(E1184<>\"\",E1184,\"\")","v":""},{"$f":"IF(F1184<>\"\",F1184,\"\")","v":""},{"$f":"IF(N1184<>\"\",IF(D1185<>\"\",D1185,D1184),\"\")","v":""},{"$f":"IF(N1184<>\"\",IF(E1185<>\"\",E1185,E1184),\"\")","v":""},{"$f":"IF(N1184<>\"\",IF(F1185<>\"\",F1185,F1184),\"\")","v":""}]
[null,null,null,null,null,null,null,null,null,null,null,null,null,null,null,""]
[null,null,null,null,null,null,null,null,null,null,null,null,null,{"$f":"IF(A1186<>\"\",TEXT(A1186,\"\"),\"\")","v":""},{"$f":"IF(N1186=\"\",\"\",CONCATENATE(IF(C1186<>\"\",TEXT(C1186,\"\"),\"\"),\" - \",IF(K1186<>\"\",TEXT(K1186,\"\"),\"\")))","v":""},"",{"$f":"IF(D1186<>\"\",D1186,\"\")","v":""},{"$f":"IF(E1186<>\"\",E1186,\"\")","v":""},{"$f":"IF(F1186<>\"\",F1186,\"\")","v":""},{"$f":"IF(N1186<>\"\",IF(D1187<>\"\",D1187,D1186),\"\")","v":""},{"$f":"IF(N1186<>\"\",IF(E1187<>\"\",E1187,E1186),\"\")","v":""},{"$f":"IF(N1186<>\"\",IF(F1187<>\"\",F1187,F1186),\"\")","v":""}]
[null,null,null,null,null,null,null,null,null,null,null,null,null,null,null,""]
[null,null,null,null,null,null,null,null,null,null,null,null,null,{"$f":"IF(A1188<>\"\",TEXT(A1188,\"\"),\"\")","v":""},{"$f":"IF(N1188=\"\",\"\",CONCATENATE(IF(C1188<>\"\",TEXT(C1188,\"\"),\"\"),\" - \",IF(K1188<>\"\",TEXT(K1188,\"\"),\"\")))","v":""},"",{"$f":"IF(D1188<>\"\",D1188,\"\")","v":""},{"$f":"IF(E1188<>\"\",E1188,\"\")","v":""},{"$f":"IF(F1188<>\"\",F1188,\"\")","v":""},{"$f":"IF(N1188<>\"\",IF(D1189<>\"\",D1189,D1188),\"\")","v":""},{"$f":"IF(N1188<>\"\",IF(E1189<>\"\",E1189,E1188),\"\")","v":""},{"$f":"IF(N1188<>\"\",IF(F1189<>\"\",F1189,F1188),\"\")","v":""}]
[null,null,null,null,null,null,null,null,null,null,null,null,null,null,null,""]
[null,null,null,null,null,null,null,null,null,null,null,null,null,{"$f":"IF(A1190<>\"\",TEXT(A1190,\"\"),\"\")","v":""},{"$f":"IF(N1190=\"\",\"\",CONCATENATE(IF(C1190<>\"\",TEXT(C1190,\"\"),\"\"),\" - \",IF(K1190<>\"\",TEXT(K1190,\"\"),\"\")))","v":""},"",{"$f":"IF(D1190<>\"\",D1190,\"\")","v":""},{"$f":"IF(E1190<>\"\",E1190,\"\")","v":""},{"$f":"IF(F1190<>\"\",F1190,\"\")","v":""},{"$f":"IF(N1190<>\"\",IF(D1191<>\"\",D1191,D1190),\"\")","v":""},{"$f":"IF(N1190<>\"\",IF(E1191<>\"\",E1191,E1190),\"\")","v":""},{"$f":"IF(N1190<>\"\",IF(F1191<>\"\",F1191,F1190),\"\")","v":""}]
[null,null,null,null,null,null,null,null,null,null,null,null,null,null,null,""]
[null,null,null,null,null,null,null,null,null,null,null,null,null,{"$f":"IF(A1192<>\"\",TEXT(A1192,\"\"),\"\")","v":""},{"$f":"IF(N1192=\"\",\"\",CONCATENATE(IF(C1192<>\"\",TEXT(C1192,\"\"),\"\"),\" - \",IF(K1192<>\"\",TEXT(K1192,\"\"),\"\")))","v":""},"",{"$f":"IF(D1192<>\"\",D1192,\"\")","v":""},{"$f":"IF(E1192<>\"\",E1192,\"\")","v":""},{"$f":"IF(F1192<>\"\",F1192,\"\")","v":""},{"$f":"IF(N1192<>\"\",IF(D1193<>\"\",D1193,D1192),\"\")","v":""},{"$f":"IF(N1192<>\"\",IF(E1193<>\"\",E1193,E1192),\"\")","v":""},{"$f":"IF(N1192<>\"\",IF(F1193<>\"\",F1193,F1192),\"\")","v":""}]
[null,null,null,null,null,null,null,null,null,null,null,null,null,null,null,""]
[null,null,null,null,null,null,null,null,null,null,null,null,null,{"$f":"IF(A1194<>\"\",TEXT(A1194,\"\"),\"\")","v":""},{"$f":"IF(N1194=\"\",\"\",CONCATENATE(IF(C1194<>\"\",TEXT(C1194,\"\"),\"\"),\" - \",IF(K1194<>\"\",TEXT(K1194,\"\"),\"\")))","v":""},"",{"$f":"IF(D1194<>\"\",D1194,\"\")","v":""},{"$f":"IF(E1194<>\"\",E1194,\"\")","v":""},{"$f":"IF(F1194<>\"\",F1194,\"\")","v":""},{"$f":"IF(N1194<>\"\",IF(D1195<>\"\",D1195,D1194),\"\")","v":""},{"$f":"IF(N1194<>\"\",IF(E1195<>\"\",E1195,E1194),\"\")","v":""},{"$f":"IF(N1194<>\"\",IF(F1195<>\"\",F1195,F1194),\"\")","v":""}]
[null,null,null,null,null,null,null,null,null,null,null,null,null,null,null,""]
[null,null,null,null,null,null,null,null,null,null,null,null,null,{"$f":"IF(A1196<>\"\",TEXT(A1196,\"\"),\"\")","v":""},{"$f":"IF(N1196=\"\",\"\",CONCATENATE(IF(C1196<>\"\",TEXT(C1196,\"\"),\"\"),\" - \",IF(K1196<>\"\",TEXT(K1196,\"\"),\"\")))","v":""},"",{"$f":"IF(D1196<>\"\",D1196,\"\")","v":""},{"$f":"IF(E1196<>\"\",E1196,\"\")","v":""},{"$f":"IF(F1196<>\"\",F1196,\"\")","v":""},{"$f":"IF(N1196<>\"\",IF(D1197<>\"\",D1197,D1196),\"\")","v":""},{"$f":"IF(N1196<>\"\",IF(E1197<>\"\",E1197,E1196),\"\")","v":""},{"$f":"IF(N1196<>\"\",IF(F1197<>\"\",F1197,F1196),\"\")","v":""}]
[null,null,null,null,null,null,null,null,null,null,null,null,null,null,null,""]
[null,null,null,null,null,null,null,null,null,null,null,null,null,{"$f":"IF(A1198<>\"\",TEXT(A1198,\"\"),\"\")","v":""},{"$f":"IF(N1198=\"\",\"\",CONCATENATE(IF(C1198<>\"\",TEXT(C1198,\"\"),\"\"),\" - \",IF(K1198<>\"\",TEXT(K1198,\"\"),\"\")))","v":""},"",{"$f":"IF(D1198<>\"\",D1198,\"\")","v":""},{"$f":"IF(E1198<>\"\",E1198,\"\")","v":""},{"$f":"IF(F1198<>\"\",F1198,\"\")","v":""},{"$f":"IF(N1198<>\"\",IF(D1199<>\"\",D1199,D1198),\"\")","v":""},{"$f":"IF(N1198<>\"\",IF(E1199<>\"\",E1199,E1198),\"\")","v":""},{"$f":"IF(N1198<>\"\",IF(F1199<>\"\",F1199,F1198),\"\")","v":""}]
[null,null,null,null,null,null,null,null,null,null,null,null,null,null,null,""]
[null,null,null,null,null,null,null,null,null,null,null,null,null,{"$f":"IF(A1200<>\"\",TEXT(A1200,\"\"),\"\")","v":""},{"$f":"IF(N1200=\"\",\"\",CONCATENATE(IF(C1200<>\"\",TEXT(C1200,\"\"),\"\"),\" - \",IF(K1200<>\"\",TEXT(K1200,\"\"),\"\")))","v":""},"",{"$f":"IF(D1200<>\"\",D1200,\"\")","v":""},{"$f":"IF(E1200<>\"\",E1200,\"\")","v":""},{"$f":"IF(F1200<>\"\",F1200,\"\")","v":""},{"$f":"IF(N1200<>\"\",IF(D1201<>\"\",D1201,D1200),\"\")","v":""},{"$f":"IF(N1200<>\"\",IF(E1201<>\"\",E1201,E1200),\"\")","v":""},{"$f":"IF(N1200<>\"\",IF(F1201<>\"\",F1201,F1200),\"\")","v":""}]
[null,null,null,null,null,null,null,null,null,null,null,null,null,null,null,""]
[null,null,null,null,null,null,null,null,null,null,null,null,null,{"$f":"IF(A1202<>\"\",TEXT(A1202,\"\"),\"\")","v":""},{"$f":"IF(N1202=\"\",\"\",CONCATENATE(IF(C1202<>\"\",TEXT(C1202,\"\"),\"\"),\" - \",IF(K1202<>\"\",TEXT(K1202,\"\"),\"\")))","v":""},"",{"$f":"IF(D1202<>\"\",D1202,\"\")","v":""},{"$f":"IF(E1202<>\"\",E1202,\"\")","v":""},{"$f":"IF(F1202<>\"\",F1202,\"\")","v":""},{"$f":"IF(N1202<>\"\",IF(D1203<>\"\",D1203,D1202),\"\")","v":""},{"$f":"IF(N1202<>\"\",IF(E1203<>\"\",E1203,E1202),\"\")","v":""},{"$f":"IF(N1202<>\"\",IF(F1203<>\"\",F1203,F1202),\"\")","v":""}]
[null,null,null,null,null,null,null,null,null,null,null,null,null,null,null,""]
[null,null,null,null,null,null,null,null,null,null,null,null,null,{"$f":"IF(A1204<>\"\",TEXT(A1204,\"\"),\"\")","v":""},{"$f":"IF(N1204=\"\",\"\",CONCATENATE(IF(C1204<>\"\",TEXT(C1204,\"\"),\"\"),\" - \",IF(K1204<>\"\",TEXT(K1204,\"\"),\"\")))","v":""},"",{"$f":"IF(D1204<>\"\",D1204,\"\")","v":""},{"$f":"IF(E1204<>\"\",E1204,\"\")","v":""},{"$f":"IF(F1204<>\"\",F1204,\"\")","v":""},{"$f":"IF(N1204<>\"\",IF(D1205<>\"\",D1205,D1204),\"\")","v":""},{"$f":"IF(N1204<>\"\",IF(E1205<>\"\",E1205,E1204),\"\")","v":""},{"$f":"IF(N1204<>\"\",IF(F1205<>\"\",F1205,F1204),\"\")","v":""}]
[null,null,null,null,null,null,null,null,null,null,null,null,null,null,null,""]
[null,null,null,null,null,null,null,null,null,null,null,null,null,{"$f":"IF(A1206<>\"\",TEXT(A1206,\"\"),\"\")","v":""},{"$f":"IF(N1206=\"\",\"\",CONCATENATE(IF(C1206<>\"\",TEXT(C1206,\"\"),\"\"),\" - \",IF(K1206<>\"\",TEXT(K1206,\"\"),\"\")))","v":""},"",{"$f":"IF(D1206<>\"\",D1206,\"\")","v":""},{"$f":"IF(E1206<>\"\",E1206,\"\")","v":""},{"$f":"IF(F1206<>\"\",F1206,\"\")","v":""},{"$f":"IF(N1206<>\"\",IF(D1207<>\"\",D1207,D1206),\"\")","v":""},{"$f":"IF(N1206<>\"\",IF(E1207<>\"\",E1207,E1206),\"\")","v":""},{"$f":"IF(N1206<>\"\",IF(F1207<>\"\",F1207,F1206),\"\")","v":""}]
[null,null,null,null,null,null,null,null,null,null,null,null,null,null,null,""]
[null,null,null,null,null,null,null,null,null,null,null,null,null,{"$f":"IF(A1208<>\"\",TEXT(A1208,\"\"),\"\")","v":""},{"$f":"IF(N1208=\"\",\"\",CONCATENATE(IF(C1208<>\"\",TEXT(C1208,\"\"),\"\"),\" - \",IF(K1208<>\"\",TEXT(K1208,\"\"),\"\")))","v":""},"",{"$f":"IF(D1208<>\"\",D1208,\"\")","v":""},{"$f":"IF(E1208<>\"\",E1208,\"\")","v":""},{"$f":"IF(F1208<>\"\",F1208,\"\")","v":""},{"$f":"IF(N1208<>\"\",IF(D1209<>\"\",D1209,D1208),\"\")","v":""},{"$f":"IF(N1208<>\"\",IF(E1209<>\"\",E1209,E1208),\"\")","v":""},{"$f":"IF(N1208<>\"\",IF(F1209<>\"\",F1209,F1208),\"\")","v":""}]
[null,null,null,null,null,null,null,null,null,null,null,null,null,null,null,""]
[null,null,null,null,null,null,null,null,null,null,null,null,null,{"$f":"IF(A1210<>\"\",TEXT(A1210,\"\"),\"\")","v":""},{"$f":"IF(N1210=\"\",\"\",CONCATENATE(IF(C1210<>\"\",TEXT(C1210,\"\"),\"\"),\" - \",IF(K1210<>\"\",TEXT(K1210,\"\"),\"\")))","v":""},"",{"$f":"IF(D1210<>\"\",D1210,\"\")","v":""},{"$f":"IF(E1210<>\"\",E1210,\"\")","v":""},{"$f":"IF(F1210<>\"\",F1210,\"\")","v":""},{"$f":"IF(N1210<>\"\",IF(D1211<>\"\",D1211,D1210),\"\")","v":""},{"$f":"IF(N1210<>\"\",IF(E1211<>\"\",E1211,E1210),\"\")","v":""},{"$f":"IF(N1210<>\"\",IF(F1211<>\"\",F1211,F1210),\"\")","v":""}]
[null,null,null,null,null,null,null,null,null,null,null,null,null,null,null,""]
[null,null,null,null,null,null,null,null,null,null,null,null,null,{"$f":"IF(A1212<>\"\",TEXT(A1212,\"\"),\"\")","v":""},{"$f":"IF(N1212=\"\",\"\",CONCATENATE(IF(C1212<>\"\",TEXT(C1212,\"\"),\"\"),\" - \",IF(K1212<>\"\",TEXT(K1212,\"\"),\"\")))","v":""},"",{"$f":"IF(D1212<>\"\",D1212,\"\")","v":""},{"$f":"IF(E1212<>\"\",E1212,\"\")","v":""},{"$f":"IF(F1212<>\"\",F1212,\"\")","v":""},{"$f":"IF(N1212<>\"\",IF(D1213<>\"\",D1213,D1212),\"\")","v":""},{"$f":"IF(N1212<>\"\",IF(E1213<>\"\",E1213,E1212),\"\")","v":""},{"$f":"IF(N1212<>\"\",IF(F1213<>\"\",F1213,F1212),\"\")","v":""}]
[null,null,null,null,null,null,null,null,null,null,null,null,null,null,null,""]
[null,null,null,null,null,null,null,null,null,null,null,null,null,{"$f":"IF(A1214<>\"\",TEXT(A1214,\"\"),\"\")","v":""},{"$f":"IF(N1214=\"\",\"\",CONCATENATE(IF(C1214<>\"\",TEXT(C1214,\"\"),\"\"),\" - \",IF(K1214<>\"\",TEXT(K1214,\"\"),\"\")))","v":""},"",{"$f":"IF(D1214<>\"\",D1214,\"\")","v":""},{"$f":"IF(E1214<>\"\",E1214,\"\")","v":""},{"$f":"IF(F1214<>\"\",F1214,\"\")","v":""},{"$f":"IF(N1214<>\"\",IF(D1215<>\"\",D1215,D1214),\"\")","v":""},{"$f":"IF(N1214<>\"\",IF(E1215<>\"\",E1215,E1214),\"\")","v":""},{"$f":"IF(N1214<>\"\",IF(F1215<>\"\",F1215,F1214),\"\")","v":""}]
[null,null,null,null,null,null,null,null,null,null,null,null,null,null,null,""]
[null,null,null,null,null,null,null,null,null,null,null,null,null,{"$f":"IF(A1216<>\"\",TEXT(A1216,\"\"),\"\")","v":""},{"$f":"IF(N1216=\"\",\"\",CONCATENATE(IF(C1216<>\"\",TEXT(C1216,\"\"),\"\"),\" - \",IF(K1216<>\"\",TEXT(K1216,\"\"),\"\")))","v":""},"",{"$f":"IF(D1216<>\"\",D1216,\"\")","v":""},{"$f":"IF(E1216<>\"\",E1216,\"\")","v":""},{"$f":"IF(F1216<>\"\",F1216,\"\")","v":""},{"$f":"IF(N1216<>\"\",IF(D1217<>\"\",D1217,D1216),\"\")","v":""},{"$f":"IF(N1216<>\"\",IF(E1217<>\"\",E1217,E1216),\"\")","v":""},{"$f":"IF(N1216<>\"\",IF(F1217<>\"\",F1217,F1216),\"\")","v":""}]
[null,null,null,null,null,null,null,null,null,null,null,null,null,null,null,""]
[null,null,null,null,null,null,null,null,null,null,null,null,null,{"$f":"IF(A1218<>\"\",TEXT(A1218,\"\"),\"\")","v":""},{"$f":"IF(N1218=\"\",\"\",CONCATENATE(IF(C1218<>\"\",TEXT(C1218,\"\"),\"\"),\" - \",IF(K1218<>\"\",TEXT(K1218,\"\"),\"\")))","v":""},"",{"$f":"IF(D1218<>\"\",D1218,\"\")","v":""},{"$f":"IF(E1218<>\"\",E1218,\"\")","v":""},{"$f":"IF(F1218<>\"\",F1218,\"\")","v":""},{"$f":"IF(N1218<>\"\",IF(D1219<>\"\",D1219,D1218),\"\")","v":""},{"$f":"IF(N1218<>\"\",IF(E1219<>\"\",E1219,E1218),\"\")","v":""},{"$f":"IF(N1218<>\"\",IF(F1219<>\"\",F1219,F1218),\"\")","v":""}]
[null,null,null,null,null,null,null,null,null,null,null,null,null,null,null,{"$f":"SUBSTITUTE(SUBSTITUTE(SUBSTITUTE(SUBSTITUTE(IF(L1219<>\"\",HLink(L1219),\"\"),\"htm\",\"html\"),\"1x2\",\"analysis\"),\"www\",\"www\"),\"com\",\"vip\")","v":""}]
[null,null,null,null,null,null,null,null,null,null,null,null,null,{"$f":"IF(A1220<>\"\",TEXT(A1220,\"\"),\"\")","v":""},{"$f":"IF(N1220=\"\",\"\",CONCATENATE(IF(C1220<>\"\",TEXT(C1220,\"\"),\"\"),\" - \",IF(K1220<>\"\",TEXT(K1220,\"\"),\"\")))","v":""},"",{"$f":"IF(D1220<>\"\",D1220,\"\")","v":""},{"$f":"IF(E1220<>\"\",E1220,\"\")","v":""},{"$f":"IF(F1220<>\"\",F1220,\"\")","v":""},{"$f":"IF(N1220<>\"\",IF(D1221<>\"\",D1221,D1220),\"\")","v":""},{"$f":"IF(N1220<>\"\",IF(E1221<>\"\",E1221,E1220),\"\")","v":""},{"$f":"IF(N1220<>\"\",IF(F1221<>\"\",F1221,F1220),\"\")","v":""}]
[null,null,null,null,null,null,null,null,null,null,null,null,null,null,null,""]
[null,null,null,null,null,null,null,null,null,null,null,null,null,{"$f":"IF(A1222<>\"\",TEXT(A1222,\"\"),\"\")","v":""},{"$f":"IF(N1222=\"\",\"\",CONCATENATE(IF(C1222<>\"\",TEXT(C1222,\"\"),\"\"),\" - \",IF(K1222<>\"\",TEXT(K1222,\"\"),\"\")))","v":""},"",{"$f":"IF(D1222<>\"\",D1222,\"\")","v":""},{"$f":"IF(E1222<>\"\",E1222,\"\")","v":""},{"$f":"IF(F1222<>\"\",F1222,\"\")","v":""},{"$f":"IF(N1222<>\"\",IF(D1223<>\"\",D1223,D1222),\"\")","v":""},{"$f":"IF(N1222<>\"\",IF(E1223<>\"\",E1223,E1222),\"\")","v":""},{"$f":"IF(N1222<>\"\",IF(F1223<>\"\",F1223,F1222),\"\")","v":""}]
[null,null,null,null,null,null,null,null,null,null,null,null,null,null,null,""]
[null,null,null,null,null,null,null,null,null,null,null,null,null,{"$f":"IF(A1224<>\"\",TEXT(A1224,\"\"),\"\")","v":""},{"$f":"IF(N1224=\"\",\"\",CONCATENATE(IF(C1224<>\"\",TEXT(C1224,\"\"),\"\"),\" - \",IF(K1224<>\"\",TEXT(K1224,\"\"),\"\")))","v":""},"",{"$f":"IF(D1224<>\"\",D1224,\"\")","v":""},{"$f":"IF(E1224<>\"\",E1224,\"\")","v":""},{"$f":"IF(F1224<>\"\",F1224,\"\")","v":""},{"$f":"IF(N1224<>\"\",IF(D1225<>\"\",D1225,D1224),\"\")","v":""},{"$f":"IF(N1224<>\"\",IF(E1225<>\"\",E1225,E1224),\"\")","v":""},{"$f":"IF(N1224<>\"\",IF(F1225<>\"\",F1225,F1224),\"\")","v":""}]
[null,null,null,null,null,null,null,null,null,null,null,null,null,null,null,""]
[null,null,null,null,null,null,null,null,null,null,null,null,null,{"$f":"IF(A1226<>\"\",TEXT(A1226,\"\"),\"\")","v":""},{"$f":"IF(N1226=\"\",\"\",CONCATENATE(IF(C1226<>\"\",TEXT(C1226,\"\"),\"\"),\" - \",IF(K1226<>\"\",TEXT(K1226,\"\"),\"\")))","v":""},"",{"$f":"IF(D1226<>\"\",D1226,\"\")","v":""},{"$f":"IF(E1226<>\"\",E1226,\"\")","v":""},{"$f":"IF(F1226<>\"\",F1226,\"\")","v":""},{"$f":"IF(N1226<>\"\",IF(D1227<>\"\",D1227,D1226),\"\")","v":""},{"$f":"IF(N1226<>\"\",IF(E1227<>\"\",E1227,E1226),\"\")","v":""},{"$f":"IF(N1226<>\"\",IF(F1227<>\"\",F1227,F1226),\"\")","v":""}]
[null,null,null,null,null,null,null,null,null,null,null,null,null,null,null,""]
[null,null,null,null,null,null,null,null,null,null,null,null,null,{"$f":"IF(A1228<>\"\",TEXT(A1228,\"\"),\"\")","v":""},{"$f":"IF(N1228=\"\",\"\",CONCATENATE(IF(C1228<>\"\",TEXT(C1228,\"\"),\"\"),\" - \",IF(K1228<>\"\",TEXT(K1228,\"\"),\"\")))","v":""},"",{"$f":"IF(D1228<>\"\",D1228,\"\")","v":""},{"$f":"IF(E1228<>\"\",E1228,\"\")","v":""},{"$f":"IF(F1228<>\"\",F1228,\"\")","v":""},{"$f":"IF(N1228<>\"\",IF(D1229<>\"\",D1229,D1228),\"\")","v":""},{"$f":"IF(N1228<>\"\",IF(E1229<>\"\",E1229,E1228),\"\")","v":""},{"$f":"IF(N1228<>\"\",IF(F1229<>\"\",F1229,F1228),\"\")","v":""}]
[null,null,null,null,null,null,null,null,null,null,null,null,null,null,null,""]
[null,null,null,null,null,null,null,null,null,null,null,null,null,{"$f":"IF(A1230<>\"\",TEXT(A1230,\"\"),\"\")","v":""},{"$f":"IF(N1230=\"\",\"\",CONCATENATE(IF(C1230<>\"\",TEXT(C1230,\"\"),\"\"),\" - \",IF(K1230<>\"\",TEXT(K1230,\"\"),\"\")))","v":""},"",{"$f":"IF(D1230<>\"\",D1230,\"\")","v":""},{"$f":"IF(E1230<>\"\",E1230,\"\")","v":""},{"$f":"IF(F1230<>\"\",F1230,\"\")","v":""},{"$f":"IF(N1230<>\"\",IF(D1231<>\"\",D1231,D1230),\"\")","v":""},{"$f":"IF(N1230<>\"\",IF(E1231<>\"\",E1231,E1230),\"\")","v":""},{"$f":"IF(N1230<>\"\",IF(F1231<>\"\",F1231,F1230),\"\")","v":""}]
[null,null,null,null,null,null,null,null,null,null,null,null,null,null,null,""]
[null,null,null,null,null,null,null,null,null,null,null,null,null,{"$f":"IF(A1232<>\"\",TEXT(A1232,\"\"),\"\")","v":""},{"$f":"IF(N1232=\"\",\"\",CONCATENATE(IF(C1232<>\"\",TEXT(C1232,\"\"),\"\"),\" - \",IF(K1232<>\"\",TEXT(K1232,\"\"),\"\")))","v":""},"",{"$f":"IF(D1232<>\"\",D1232,\"\")","v":""},{"$f":"IF(E1232<>\"\",E1232,\"\")","v":""},{"$f":"IF(F1232<>\"\",F1232,\"\")","v":""},{"$f":"IF(N1232<>\"\",IF(D1233<>\"\",D1233,D1232),\"\")","v":""},{"$f":"IF(N1232<>\"\",IF(E1233<>\"\",E1233,E1232),\"\")","v":""},{"$f":"IF(N1232<>\"\",IF(F1233<>\"\",F1233,F1232),\"\")","v":""}]
[null,null,null,null,null,null,null,null,null,null,null,null,null,null,null,""]
[null,null,null,null,null,null,null,null,null,null,null,null,null,{"$f":"IF(A1234<>\"\",TEXT(A1234,\"\"),\"\")","v":""},{"$f":"IF(N1234=\"\",\"\",CONCATENATE(IF(C1234<>\"\",TEXT(C1234,\"\"),\"\"),\" - \",IF(K1234<>\"\",TEXT(K1234,\"\"),\"\")))","v":""},"",{"$f":"IF(D1234<>\"\",D1234,\"\")","v":""},{"$f":"IF(E1234<>\"\",E1234,\"\")","v":""},{"$f":"IF(F1234<>\"\",F1234,\"\")","v":""},{"$f":"IF(N1234<>\"\",IF(D1235<>\"\",D1235,D1234),\"\")","v":""},{"$f":"IF(N1234<>\"\",IF(E1235<>\"\",E1235,E1234),\"\")","v":""},{"$f":"IF(N1234<>\"\",IF(F1235<>\"\",F1235,F1234),\"\")","v":""}]
[null,null,null,null,null,null,null,null,null,null,null,null,null,null,null,""]
[null,null,null,null,null,null,null,null,null,null,null,null,null,{"$f":"IF(A1236<>\"\",TEXT(A1236,\"\"),\"\")","v":""},{"$f":"IF(N1236=\"\",\"\",CONCATENATE(IF(C1236<>\"\",TEXT(C1236,\"\"),\"\"),\" - \",IF(K1236<>\"\",TEXT(K1236,\"\"),\"\")))","v":""},"",{"$f":"IF(D1236<>\"\",D1236,\"\")","v":""},{"$f":"IF(E1236<>\"\",E1236,\"\")","v":""},{"$f":"IF(F1236<>\"\",F1236,\"\")","v":""},{"$f":"IF(N1236<>\"\",IF(D1237<>\"\",D1237,D1236),\"\")","v":""},{"$f":"IF(N1236<>\"\",IF(E1237<>\"\",E1237,E1236),\"\")","v":""},{"$f":"IF(N1236<>\"\",IF(F1237<>\"\",F1237,F1236),\"\")","v":""}]
[null,null,null,null,null,null,null,null,null,null,null,null,null,null,null,""]
[null,null,null,null,null,null,null,null,null,null,null,null,null,{"$f":"IF(A1238<>\"\",TEXT(A1238,\"\"),\"\")","v":""},{"$f":"IF(N1238=\"\",\"\",CONCATENATE(IF(C1238<>\"\",TEXT(C1238,\"\"),\"\"),\" - \",IF(K1238<>\"\",TEXT(K1238,\"\"),\"\")))","v":""},"",{"$f":"IF(D1238<>\"\",D1238,\"\")","v":""},{"$f":"IF(E1238<>\"\",E1238,\"\")","v":""},{"$f":"IF(F1238<>\"\",F1238,\"\")","v":""},{"$f":"IF(N1238<>\"\",IF(D1239<>\"\",D1239,D1238),\"\")","v":""},{"$f":"IF(N1238<>\"\",IF(E1239<>\"\",E1239,E1238),\"\")","v":""},{"$f":"IF(N1238<>\"\",IF(F1239<>\"\",F1239,F1238),\"\")","v":""}]
[null,null,null,null,null,null,null,null,null,null,null,null,null,null,null,""]
[null,null,null,null,null,null,null,null,null,null,null,null,null,{"$f":"IF(A1240<>\"\",TEXT(A1240,\"\"),\"\")","v":""},{"$f":"IF(N1240=\"\",\"\",CONCATENATE(IF(C1240<>\"\",TEXT(C1240,\"\"),\"\"),\" - \",IF(K1240<>\"\",TEXT(K1240,\"\"),\"\")))","v":""},"",{"$f":"IF(D1240<>\"\",D1240,\"\")","v":""},{"$f":"IF(E1240<>\"\",E1240,\"\")","v":""},{"$f":"IF(F1240<>\"\",F1240,\"\")","v":""},{"$f":"IF(N1240<>\"\",IF(D1241<>\"\",D1241,D1240),\"\")","v":""},{"$f":"IF(N1240<>\"\",IF(E1241<>\"\",E1241,E1240),\"\")","v":""},{"$f":"IF(N1240<>\"\",IF(F1241<>\"\",F1241,F1240),\"\")","v":""}]
[null,null,null,null,null,null,null,null,null,null,null,null,null,null,null,""]
[null,null,null,null,null,null,null,null,null,null,null,null,null,{"$f":"IF(A1242<>\"\",TEXT(A1242,\"\"),\"\")","v":""},{"$f":"IF(N1242=\"\",\"\",CONCATENATE(IF(C1242<>\"\",TEXT(C1242,\"\"),\"\"),\" - \",IF(K1242<>\"\",TEXT(K1242,\"\"),\"\")))","v":""},"",{"$f":"IF(D1242<>\"\",D1242,\"\")","v":""},{"$f":"IF(E1242<>\"\",E1242,\"\")","v":""},{"$f":"IF(F1242<>\"\",F1242,\"\")","v":""},{"$f":"IF(N1242<>\"\",IF(D1243<>\"\",D1243,D1242),\"\")","v":""},{"$f":"IF(N1242<>\"\",IF(E1243<>\"\",E1243,E1242),\"\")","v":""},{"$f":"IF(N1242<>\"\",IF(F1243<>\"\",F1243,F1242),\"\")","v":""}]
[null,null,null,null,null,null,null,null,null,null,null,null,null,null,null,""]
[null,null,null,null,null,null,null,null,null,null,null,null,null,{"$f":"IF(A1244<>\"\",TEXT(A1244,\"\"),\"\")","v":""},{"$f":"IF(N1244=\"\",\"\",CONCATENATE(IF(C1244<>\"\",TEXT(C1244,\"\"),\"\"),\" - \",IF(K1244<>\"\",TEXT(K1244,\"\"),\"\")))","v":""},"",{"$f":"IF(D1244<>\"\",D1244,\"\")","v":""},{"$f":"IF(E1244<>\"\",E1244,\"\")","v":""},{"$f":"IF(F1244<>\"\",F1244,\"\")","v":""},{"$f":"IF(N1244<>\"\",IF(D1245<>\"\",D1245,D1244),\"\")","v":""},{"$f":"IF(N1244<>\"\",IF(E1245<>\"\",E1245,E1244),\"\")","v":""},{"$f":"IF(N1244<>\"\",IF(F1245<>\"\",F1245,F1244),\"\")","v":""}]
[null,null,null,null,null,null,null,null,null,null,null,null,null,null,null,""]
[null,null,null,null,null,null,null,null,null,null,null,null,null,{"$f":"IF(A1246<>\"\",TEXT(A1246,\"\"),\"\")","v":""},{"$f":"IF(N1246=\"\",\"\",CONCATENATE(IF(C1246<>\"\",TEXT(C1246,\"\"),\"\"),\" - \",IF(K1246<>\"\",TEXT(K1246,\"\"),\"\")))","v":""},"",{"$f":"IF(D1246<>\"\",D1246,\"\")","v":""},{"$f":"IF(E1246<>\"\",E1246,\"\")","v":""},{"$f":"IF(F1246<>\"\",F1246,\"\")","v":""},{"$f":"IF(N1246<>\"\",IF(D1247<>\"\",D1247,D1246),\"\")","v":""},{"$f":"IF(N1246<>\"\",IF(E1247<>\"\",E1247,E1246),\"\")","v":""},{"$f":"IF(N1246<>\"\",IF(F1247<>\"\",F1247,F1246),\"\")","v":""}]
[null,null,null,null,null,null,null,null,null,null,null,null,null,null,null,""]
[null,null,null,null,null,null,null,null,null,null,null,null,null,{"$f":"IF(A1248<>\"\",TEXT(A1248,\"\"),\"\")","v":""},{"$f":"IF(N1248=\"\",\"\",CONCATENATE(IF(C1248<>\"\",TEXT(C1248,\"\"),\"\"),\" - \",IF(K1248<>\"\",TEXT(K1248,\"\"),\"\")))","v":""},"",{"$f":"IF(D1248<>\"\",D1248,\"\")","v":""},{"$f":"IF(E1248<>\"\",E1248,\"\")","v":""},{"$f":"IF(F1248<>\"\",F1248,\"\")","v":""},{"$f":"IF(N1248<>\"\",IF(D1249<>\"\",D1249,D1248),\"\")","v":""},{"$f":"IF(N1248<>\"\",IF(E1249<>\"\",E1249,E1248),\"\")","v":""},{"$f":"IF(N1248<>\"\",IF(F1249<>\"\",F1249,F1248),\"\")","v":""}]
[null,null,null,null,null,null,null,null,null,null,null,null,null,null,null,""]
[null,null,null,null,null,null,null,null,null,null,null,null,null,{"$f":"IF(A1250<>\"\",TEXT(A1250,\"\"),\"\")","v":""},{"$f":"IF(N1250=\"\",\"\",CONCATENATE(IF(C1250<>\"\",TEXT(C1250,\"\"),\"\"),\" - \",IF(K1250<>\"\",TEXT(K1250,\"\"),\"\")))","v":""},"",{"$f":"IF(D1250<>\"\",D1250,\"\")","v":""},{"$f":"IF(E1250<>\"\",E1250,\"\")","v":""},{"$f":"IF(F1250<>\"\",F1250,\"\")","v":""},{"$f":"IF(N1250<>\"\",IF(D1251<>\"\",D1251,D1250),\"\")","v":""},{"$f":"IF(N1250<>\"\",IF(E1251<>\"\",E1251,E1250),\"\")","v":""},{"$f":"IF(N1250<>\"\",IF(F1251<>\"\",F1251,F1250),\"\")","v":""}]
[null,null,null,null,null,null,null,null,null,null,null,null,null,null,null,""]
[null,null,null,null,null,null,null,null,null,null,null,null,null,{"$f":"IF(A1252<>\"\",TEXT(A1252,\"\"),\"\")","v":""},{"$f":"IF(N1252=\"\",\"\",CONCATENATE(IF(C1252<>\"\",TEXT(C1252,\"\"),\"\"),\" - \",IF(K1252<>\"\",TEXT(K1252,\"\"),\"\")))","v":""},"",{"$f":"IF(D1252<>\"\",D1252,\"\")","v":""},{"$f":"IF(E1252<>\"\",E1252,\"\")","v":""},{"$f":"IF(F1252<>\"\",F1252,\"\")","v":""},{"$f":"IF(N1252<>\"\",IF(D1253<>\"\",D1253,D1252),\"\")","v":""},{"$f":"IF(N1252<>\"\",IF(E1253<>\"\",E1253,E1252),\"\")","v":""},{"$f":"IF(N1252<>\"\",IF(F1253<>\"\",F1253,F1252),\"\")","v":""}]
[null,null,null,null,null,null,null,null,null,null,null,null,null,null,null,""]
[null,null,null,null,null,null,null,null,null,null,null,null,null,{"$f":"IF(A1254<>\"\",TEXT(A1254,\"\"),\"\")","v":""},{"$f":"IF(N1254=\"\",\"\",CONCATENATE(IF(C1254<>\"\",TEXT(C1254,\"\"),\"\"),\" - \",IF(K1254<>\"\",TEXT(K1254,\"\"),\"\")))","v":""},"",{"$f":"IF(D1254<>\"\",D1254,\"\")","v":""},{"$f":"IF(E1254<>\"\",E1254,\"\")","v":""},{"$f":"IF(F1254<>\"\",F1254,\"\")","v":""},{"$f":"IF(N1254<>\"\",IF(D1255<>\"\",D1255,D1254),\"\")","v":""},{"$f":"IF(N1254<>\"\",IF(E1255<>\"\",E1255,E1254),\"\")","v":""},{"$f":"IF(N1254<>\"\",IF(F1255<>\"\",F1255,F1254),\"\")","v":""}]
[null,null,null,null,null,null,null,null,null,null,null,null,null,null,null,""]
[null,null,null,null,null,null,null,null,null,null,null,null,null,{"$f":"IF(A1256<>\"\",TEXT(A1256,\"\"),\"\")","v":""},{"$f":"IF(N1256=\"\",\"\",CONCATENATE(IF(C1256<>\"\",TEXT(C1256,\"\"),\"\"),\" - \",IF(K1256<>\"\",TEXT(K1256,\"\"),\"\")))","v":""},"",{"$f":"IF(D1256<>\"\",D1256,\"\")","v":""},{"$f":"IF(E1256<>\"\",E1256,\"\")","v":""},{"$f":"IF(F1256<>\"\",F1256,\"\")","v":""},{"$f":"IF(N1256<>\"\",IF(D1257<>\"\",D1257,D1256),\"\")","v":""},{"$f":"IF(N1256<>\"\",IF(E1257<>\"\",E1257,E1256),\"\")","v":""},{"$f":"IF(N1256<>\"\",IF(F1257<>\"\",F1257,F1256),\"\")","v":""}]
[null,null,null,null,null,null,null,null,null,null,null,null,null,null,null,""]
[null,null,null,null,null,null,null,null,null,null,null,null,null,{"$f":"IF(A1258<>\"\",TEXT(A1258,\"\"),\"\")","v":""},{"$f":"IF(N1258=\"\",\"\",CONCATENATE(IF(C1258<>\"\",TEXT(C1258,\"\"),\"\"),\" - \",IF(K1258<>\"\",TEXT(K1258,\"\"),\"\")))","v":""},"",{"$f":"IF(D1258<>\"\",D1258,\"\")","v":""},{"$f":"IF(E1258<>\"\",E1258,\"\")","v":""},{"$f":"IF(F1258<>\"\",F1258,\"\")","v":""},{"$f":"IF(N1258<>\"\",IF(D1259<>\"\",D1259,D1258),\"\")","v":""},{"$f":"IF(N1258<>\"\",IF(E1259<>\"\",E1259,E1258),\"\")","v":""},{"$f":"IF(N1258<>\"\",IF(F1259<>\"\",F1259,F1258),\"\")","v":""}]
[null,null,null,null,null,null,null,null,null,null,null,null,null,null,null,""]
[null,null,null,null,null,null,null,null,null,null,null,null,null,{"$f":"IF(A1260<>\"\",TEXT(A1260,\"\"),\"\")","v":""},{"$f":"IF(N1260=\"\",\"\",CONCATENATE(IF(C1260<>\"\",TEXT(C1260,\"\"),\"\"),\" - \",IF(K1260<>\"\",TEXT(K1260,\"\"),\"\")))","v":""},"",{"$f":"IF(D1260<>\"\",D1260,\"\")","v":""},{"$f":"IF(E1260<>\"\",E1260,\"\")","v":""},{"$f":"IF(F1260<>\"\",F1260,\"\")","v":""},{"$f":"IF(N1260<>\"\",IF(D1261<>\"\",D1261,D1260),\"\")","v":""},{"$f":"IF(N1260<>\"\",IF(E1261<>\"\",E1261,E1260),\"\")","v":""},{"$f":"IF(N1260<>\"\",IF(F1261<>\"\",F1261,F1260),\"\")","v":""}]
[null,null,null,null,null,null,null,null,null,null,null,null,null,null,null,""]
[null,null,null,null,null,null,null,null,null,null,null,null,null,{"$f":"IF(A1262<>\"\",TEXT(A1262,\"\"),\"\")","v":""},{"$f":"IF(N1262=\"\",\"\",CONCATENATE(IF(C1262<>\"\",TEXT(C1262,\"\"),\"\"),\" - \",IF(K1262<>\"\",TEXT(K1262,\"\"),\"\")))","v":""},"",{"$f":"IF(D1262<>\"\",D1262,\"\")","v":""},{"$f":"IF(E1262<>\"\",E1262,\"\")","v":""},{"$f":"IF(F1262<>\"\",F1262,\"\")","v":""},{"$f":"IF(N1262<>\"\",IF(D1263<>\"\",D1263,D1262),\"\")","v":""},{"$f":"IF(N1262<>\"\",IF(E1263<>\"\",E1263,E1262),\"\")","v":""},{"$f":"IF(N1262<>\"\",IF(F1263<>\"\",F1263,F1262),\"\")","v":""}]
[null,null,null,null,null,null,null,null,null,null,null,null,null,null,null,""]
[null,null,null,null,null,null,null,null,null,null,null,null,null,{"$f":"IF(A1264<>\"\",TEXT(A1264,\"\"),\"\")","v":""},{"$f":"IF(N1264=\"\",\"\",CONCATENATE(IF(C1264<>\"\",TEXT(C1264,\"\"),\"\"),\" - \",IF(K1264<>\"\",TEXT(K1264,\"\"),\"\")))","v":""},"",{"$f":"IF(D1264<>\"\",D1264,\"\")","v":""},{"$f":"IF(E1264<>\"\",E1264,\"\")","v":""},{"$f":"IF(F1264<>\"\",F1264,\"\")","v":""},{"$f":"IF(N1264<>\"\",IF(D1265<>\"\",D1265,D1264),\"\")","v":""},{"$f":"IF(N1264<>\"\",IF(E1265<>\"\",E1265,E1264),\"\")","v":""},{"$f":"IF(N1264<>\"\",IF(F1265<>\"\",F1265,F1264),\"\")","v":""}]
[null,null,null,null,null,null,null,null,null,null,null,null,null,null,null,""]
[null,null,null,null,null,null,null,null,null,null,null,null,null,{"$f":"IF(A1266<>\"\",TEXT(A1266,\"\"),\"\")","v":""},{"$f":"IF(N1266=\"\",\"\",CONCATENATE(IF(C1266<>\"\",TEXT(C1266,\"\"),\"\"),\" - \",IF(K1266<>\"\",TEXT(K1266,\"\"),\"\")))","v":""},"",{"$f":"IF(D1266<>\"\",D1266,\"\")","v":""},{"$f":"IF(E1266<>\"\",E1266,\"\")","v":""},{"$f":"IF(F1266<>\"\",F1266,\"\")","v":""},{"$f":"IF(N1266<>\"\",IF(D1267<>\"\",D1267,D1266),\"\")","v":""},{"$f":"IF(N1266<>\"\",IF(E1267<>\"\",E1267,E1266),\"\")","v":""},{"$f":"IF(N1266<>\"\",IF(F1267<>\"\",F1267,F1266),\"\")","v":""}]
[null,null,null,null,null,null,null,null,null,null,null,null,null,null,null,""]
[null,null,null,null,null,null,null,null,null,null,null,null,null,{"$f":"IF(A1268<>\"\",TEXT(A1268,\"\"),\"\")","v":""},{"$f":"IF(N1268=\"\",\"\",CONCATENATE(IF(C1268<>\"\",TEXT(C1268,\"\"),\"\"),\" - \",IF(K1268<>\"\",TEXT(K1268,\"\"),\"\")))","v":""},"",{"$f":"IF(D1268<>\"\",D1268,\"\")","v":""},{"$f":"IF(E1268<>\"\",E1268,\"\")","v":""},{"$f":"IF(F1268<>\"\",F1268,\"\")","v":""},{"$f":"IF(N1268<>\"\",IF(D1269<>\"\",D1269,D1268),\"\")","v":""},{"$f":"IF(N1268<>\"\",IF(E1269<>\"\",E1269,E1268),\"\")","v":""},{"$f":"IF(N1268<>\"\",IF(F1269<>\"\",F1269,F1268),\"\")","v":""}]
[null,null,null,null,null,null,null,null,null,null,null,null,null,null,null,""]
[null,null,null,null,null,null,null,null,null,null,null,null,null,{"$f":"IF(A1270<>\"\",TEXT(A1270,\"\"),\"\")","v":""},{"$f":"IF(N1270=\"\",\"\",CONCATENATE(IF(C1270<>\"\",TEXT(C1270,\"\"),\"\"),\" - \",IF(K1270<>\"\",TEXT(K1270,\"\"),\"\")))","v":""},"",{"$f":"IF(D1270<>\"\",D1270,\"\")","v":""},{"$f":"IF(E1270<>\"\",E1270,\"\")","v":""},{"$f":"IF(F1270<>\"\",F1270,\"\")","v":""},{"$f":"IF(N1270<>\"\",IF(D1271<>\"\",D1271,D1270),\"\")","v":""},{"$f":"IF(N1270<>\"\",IF(E1271<>\"\",E1271,E1270),\"\")","v":""},{"$f":"IF(N1270<>\"\",IF(F1271<>\"\",F1271,F1270),\"\")","v":""}]
[null,null,null,null,null,null,null,null,null,null,null,null,null,null,null,""]
[null,null,null,null,null,null,null,null,null,null,null,null,null,{"$f":"IF(A1272<>\"\",TEXT(A1272,\"\"),\"\")","v":""},{"$f":"IF(N1272=\"\",\"\",CONCATENATE(IF(C1272<>\"\",TEXT(C1272,\"\"),\"\"),\" - \",IF(K1272<>\"\",TEXT(K1272,\"\"),\"\")))","v":""},"",{"$f":"IF(D1272<>\"\",D1272,\"\")","v":""},{"$f":"IF(E1272<>\"\",E1272,\"\")","v":""},{"$f":"IF(F1272<>\"\",F1272,\"\")","v":""},{"$f":"IF(N1272<>\"\",IF(D1273<>\"\",D1273,D1272),\"\")","v":""},{"$f":"IF(N1272<>\"\",IF(E1273<>\"\",E1273,E1272),\"\")","v":""},{"$f":"IF(N1272<>\"\",IF(F1273<>\"\",F1273,F1272),\"\")","v":""}]
[null,null,null,null,null,null,null,null,null,null,null,null,null,null,null,""]
[null,null,null,null,null,null,null,null,null,null,null,null,null,{"$f":"IF(A1274<>\"\",TEXT(A1274,\"\"),\"\")","v":""},{"$f":"IF(N1274=\"\",\"\",CONCATENATE(IF(C1274<>\"\",TEXT(C1274,\"\"),\"\"),\" - \",IF(K1274<>\"\",TEXT(K1274,\"\"),\"\")))","v":""},"",{"$f":"IF(D1274<>\"\",D1274,\"\")","v":""},{"$f":"IF(E1274<>\"\",E1274,\"\")","v":""},{"$f":"IF(F1274<>\"\",F1274,\"\")","v":""},{"$f":"IF(N1274<>\"\",IF(D1275<>\"\",D1275,D1274),\"\")","v":""},{"$f":"IF(N1274<>\"\",IF(E1275<>\"\",E1275,E1274),\"\")","v":""},{"$f":"IF(N1274<>\"\",IF(F1275<>\"\",F1275,F1274),\"\")","v":""}]
[null,null,null,null,null,null,null,null,null,null,null,null,null,null,null,""]
[null,null,null,null,null,null,null,null,null,null,null,null,null,{"$f":"IF(A1276<>\"\",TEXT(A1276,\"\"),\"\")","v":""},{"$f":"IF(N1276=\"\",\"\",CONCATENATE(IF(C1276<>\"\",TEXT(C1276,\"\"),\"\"),\" - \",IF(K1276<>\"\",TEXT(K1276,\"\"),\"\")))","v":""},"",{"$f":"IF(D1276<>\"\",D1276,\"\")","v":""},{"$f":"IF(E1276<>\"\",E1276,\"\")","v":""},{"$f":"IF(F1276<>\"\",F1276,\"\")","v":""},{"$f":"IF(N1276<>\"\",IF(D1277<>\"\",D1277,D1276),\"\")","v":""},{"$f":"IF(N1276<>\"\",IF(E1277<>\"\",E1277,E1276),\"\")","v":""},{"$f":"IF(N1276<>\"\",IF(F1277<>\"\",F1277,F1276),\"\")","v":""}]
[null,null,null,null,null,null,null,null,null,null,null,null,null,null,null,""]
[null,null,null,null,null,null,null,null,null,null,null,null,null,{"$f":"IF(A1278<>\"\",TEXT(A1278,\"\"),\"\")","v":""},{"$f":"IF(N1278=\"\",\"\",CONCATENATE(IF(C1278<>\"\",TEXT(C1278,\"\"),\"\"),\" - \",IF(K1278<>\"\",TEXT(K1278,\"\"),\"\")))","v":""},"",{"$f":"IF(D1278<>\"\",D1278,\"\")","v":""},{"$f":"IF(E1278<>\"\",E1278,\"\")","v":""},{"$f":"IF(F1278<>\"\",F1278,\"\")","v":""},{"$f":"IF(N1278<>\"\",IF(D1279<>\"\",D1279,D1278),\"\")","v":""},{"$f":"IF(N1278<>\"\",IF(E1279<>\"\",E1279,E1278),\"\")","v":""},{"$f":"IF(N1278<>\"\",IF(F1279<>\"\",F1279,F1278),\"\")","v":""}]
[null,null,null,null,null,null,null,null,null,null,null,null,null,null,null,""]
[null,null,null,null,null,null,null,null,null,null,null,null,null,{"$f":"IF(A1280<>\"\",TEXT(A1280,\"\"),\"\")","v":""},{"$f":"IF(N1280=\"\",\"\",CONCATENATE(IF(C1280<>\"\",TEXT(C1280,\"\"),\"\"),\" - \",IF(K1280<>\"\",TEXT(K1280,\"\"),\"\")))","v":""},"",{"$f":"IF(D1280<>\"\",D1280,\"\")","v":""},{"$f":"IF(E1280<>\"\",E1280,\"\")","v":""},{"$f":"IF(F1280<>\"\",F1280,\"\")","v":""},{"$f":"IF(N1280<>\"\",IF(D1281<>\"\",D1281,D1280),\"\")","v":""},{"$f":"IF(N1280<>\"\",IF(E1281<>\"\",E1281,E1280),\"\")","v":""},{"$f":"IF(N1280<>\"\",IF(F1281<>\"\",F1281,F1280),\"\")","v":""}]
[null,null,null,null,null,null,null,null,null,null,null,null,null,null,null,""]
[null,null,null,null,null,null,null,null,null,null,null,null,null,{"$f":"IF(A1282<>\"\",TEXT(A1282,\"\"),\"\")","v":""},{"$f":"IF(N1282=\"\",\"\",CONCATENATE(IF(C1282<>\"\",TEXT(C1282,\"\"),\"\"),\" - \",IF(K1282<>\"\",TEXT(K1282,\"\"),\"\")))","v":""},"",{"$f":"IF(D1282<>\"\",D1282,\"\")","v":""},{"$f":"IF(E1282<>\"\",E1282,\"\")","v":""},{"$f":"IF(F1282<>\"\",F1282,\"\")","v":""},{"$f":"IF(N1282<>\"\",IF(D1283<>\"\",D1283,D1282),\"\")","v":""},{"$f":"IF(N1282<>\"\",IF(E1283<>\"\",E1283,E1282),\"\")","v":""},{"$f":"IF(N1282<>\"\",IF(F1283<>\"\",F1283,F1282),\"\")","v":""}]
[null,null,null,null,null,null,null,null,null,null,null,null,null,null,null,{"$f":"SUBSTITUTE(SUBSTITUTE(SUBSTITUTE(SUBSTITUTE(IF(L1283<>\"\",HLink(L1283),\"\"),\"htm\",\"html\"),\"1x2\",\"analysis\"),\"www\",\"www\"),\"com\",\"vip\")","v":""}]
[null,null,null,null,null,null,null,null,null,null,null,null,null,{"$f":"IF(A1284<>\"\",TEXT(A1284,\"\"),\"\")","v":""},{"$f":"IF(N1284=\"\",\"\",CONCATENATE(IF(C1284<>\"\",TEXT(C1284,\"\"),\"\"),\" - \",IF(K1284<>\"\",TEXT(K1284,\"\"),\"\")))","v":""},"",{"$f":"IF(D1284<>\"\",D1284,\"\")","v":""},{"$f":"IF(E1284<>\"\",E1284,\"\")","v":""},{"$f":"IF(F1284<>\"\",F1284,\"\")","v":""},{"$f":"IF(N1284<>\"\",IF(D1285<>\"\",D1285,D1284),\"\")","v":""},{"$f":"IF(N1284<>\"\",IF(E1285<>\"\",E1285,E1284),\"\")","v":""},{"$f":"IF(N1284<>\"\",IF(F1285<>\"\",F1285,F1284),\"\")","v":""}]
[null,null,null,null,null,null,null,null,null,null,null,null,null,null,null,""]
[null,null,null,null,null,null,null,null,null,null,null,null,null,{"$f":"IF(A1286<>\"\",TEXT(A1286,\"\"),\"\")","v":""},{"$f":"IF(N1286=\"\",\"\",CONCATENATE(IF(C1286<>\"\",TEXT(C1286,\"\"),\"\"),\" - \",IF(K1286<>\"\",TEXT(K1286,\"\"),\"\")))","v":""},"",{"$f":"IF(D1286<>\"\",D1286,\"\")","v":""},{"$f":"IF(E1286<>\"\",E1286,\"\")","v":""},{"$f":"IF(F1286<>\"\",F1286,\"\")","v":""},{"$f":"IF(N1286<>\"\",IF(D1287<>\"\",D1287,D1286),\"\")","v":""},{"$f":"IF(N1286<>\"\",IF(E1287<>\"\",E1287,E1286),\"\")","v":""},{"$f":"IF(N1286<>\"\",IF(F1287<>\"\",F1287,F1286),\"\")","v":""}]
[null,null,null,null,null,null,null,null,null,null,null,null,null,null,null,""]
[null,null,null,null,null,null,null,null,null,null,null,null,null,{"$f":"IF(A1288<>\"\",TEXT(A1288,\"\"),\"\")","v":""},{"$f":"IF(N1288=\"\",\"\",CONCATENATE(IF(C1288<>\"\",TEXT(C1288,\"\"),\"\"),\" - \",IF(K1288<>\"\",TEXT(K1288,\"\"),\"\")))","v":""},"",{"$f":"IF(D1288<>\"\",D1288,\"\")","v":""},{"$f":"IF(E1288<>\"\",E1288,\"\")","v":""},{"$f":"IF(F1288<>\"\",F1288,\"\")","v":""},{"$f":"IF(N1288<>\"\",IF(D1289<>\"\",D1289,D1288),\"\")","v":""},{"$f":"IF(N1288<>\"\",IF(E1289<>\"\",E1289,E1288),\"\")","v":""},{"$f":"IF(N1288<>\"\",IF(F1289<>\"\",F1289,F1288),\"\")","v":""}]
[null,null,null,null,null,null,null,null,null,null,null,null,null,null,null,""]
[null,null,null,null,null,null,null,null,null,null,null,null,null,{"$f":"IF(A1290<>\"\",TEXT(A1290,\"\"),\"\")","v":""},{"$f":"IF(N1290=\"\",\"\",CONCATENATE(IF(C1290<>\"\",TEXT(C1290,\"\"),\"\"),\" - \",IF(K1290<>\"\",TEXT(K1290,\"\"),\"\")))","v":""},"",{"$f":"IF(D1290<>\"\",D1290,\"\")","v":""},{"$f":"IF(E1290<>\"\",E1290,\"\")","v":""},{"$f":"IF(F1290<>\"\",F1290,\"\")","v":""},{"$f":"IF(N1290<>\"\",IF(D1291<>\"\",D1291,D1290),\"\")","v":""},{"$f":"IF(N1290<>\"\",IF(E1291<>\"\",E1291,E1290),\"\")","v":""},{"$f":"IF(N1290<>\"\",IF(F1291<>\"\",F1291,F1290),\"\")","v":""}]
[null,null,null,null,null,null,null,null,null,null,null,null,null,null,null,""]
[null,null,null,null,null,null,null,null,null,null,null,null,null,{"$f":"IF(A1292<>\"\",TEXT(A1292,\"\"),\"\")","v":""},{"$f":"IF(N1292=\"\",\"\",CONCATENATE(IF(C1292<>\"\",TEXT(C1292,\"\"),\"\"),\" - \",IF(K1292<>\"\",TEXT(K1292,\"\"),\"\")))","v":""},"",{"$f":"IF(D1292<>\"\",D1292,\"\")","v":""},{"$f":"IF(E1292<>\"\",E1292,\"\")","v":""},{"$f":"IF(F1292<>\"\",F1292,\"\")","v":""},{"$f":"IF(N1292<>\"\",IF(D1293<>\"\",D1293,D1292),\"\")","v":""},{"$f":"IF(N1292<>\"\",IF(E1293<>\"\",E1293,E1292),\"\")","v":""},{"$f":"IF(N1292<>\"\",IF(F1293<>\"\",F1293,F1292),\"\")","v":""}]
[null,null,null,null,null,null,null,null,null,null,null,null,null,null,null,""]
[null,null,null,null,null,null,null,null,null,null,null,null,null,{"$f":"IF(A1294<>\"\",TEXT(A1294,\"\"),\"\")","v":""},{"$f":"IF(N1294=\"\",\"\",CONCATENATE(IF(C1294<>\"\",TEXT(C1294,\"\"),\"\"),\" - \",IF(K1294<>\"\",TEXT(K1294,\"\"),\"\")))","v":""},"",{"$f":"IF(D1294<>\"\",D1294,\"\")","v":""},{"$f":"IF(E1294<>\"\",E1294,\"\")","v":""},{"$f":"IF(F1294<>\"\",F1294,\"\")","v":""},{"$f":"IF(N1294<>\"\",IF(D1295<>\"\",D1295,D1294),\"\")","v":""},{"$f":"IF(N1294<>\"\",IF(E1295<>\"\",E1295,E1294),\"\")","v":""},{"$f":"IF(N1294<>\"\",IF(F1295<>\"\",F1295,F1294),\"\")","v":""}]
[null,null,null,null,null,null,null,null,null,null,null,null,null,null,null,""]
[null,null,null,null,null,null,null,null,null,null,null,null,null,{"$f":"IF(A1296<>\"\",TEXT(A1296,\"\"),\"\")","v":""},{"$f":"IF(N1296=\"\",\"\",CONCATENATE(IF(C1296<>\"\",TEXT(C1296,\"\"),\"\"),\" - \",IF(K1296<>\"\",TEXT(K1296,\"\"),\"\")))","v":""},"",{"$f":"IF(D1296<>\"\",D1296,\"\")","v":""},{"$f":"IF(E1296<>\"\",E1296,\"\")","v":""},{"$f":"IF(F1296<>\"\",F1296,\"\")","v":""},{"$f":"IF(N1296<>\"\",IF(D1297<>\"\",D1297,D1296),\"\")","v":""},{"$f":"IF(N1296<>\"\",IF(E1297<>\"\",E1297,E1296),\"\")","v":""},{"$f":"IF(N1296<>\"\",IF(F1297<>\"\",F1297,F1296),\"\")","v":""}]
[null,null,null,null,null,null,null,null,null,null,null,null,null,null,null,""]
[null,null,null,null,null,null,null,null,null,null,null,null,null,{"$f":"IF(A1298<>\"\",TEXT(A1298,\"\"),\"\")","v":""},{"$f":"IF(N1298=\"\",\"\",CONCATENATE(IF(C1298<>\"\",TEXT(C1298,\"\"),\"\"),\" - \",IF(K1298<>\"\",TEXT(K1298,\"\"),\"\")))","v":""},"",{"$f":"IF(D1298<>\"\",D1298,\"\")","v":""},{"$f":"IF(E1298<>\"\",E1298,\"\")","v":""},{"$f":"IF(F1298<>\"\",F1298,\"\")","v":""},{"$f":"IF(N1298<>\"\",IF(D1299<>\"\",D1299,D1298),\"\")","v":""},{"$f":"IF(N1298<>\"\",IF(E1299<>\"\",E1299,E1298),\"\")","v":""},{"$f":"IF(N1298<>\"\",IF(F1299<>\"\",F1299,F1298),\"\")","v":""}]
[null,null,null,null,null,null,null,null,null,null,null,null,null,null,null,""]
[null,null,null,null,null,null,null,null,null,null,null,null,null,{"$f":"IF(A1300<>\"\",TEXT(A1300,\"\"),\"\")","v":""},{"$f":"IF(N1300=\"\",\"\",CONCATENATE(IF(C1300<>\"\",TEXT(C1300,\"\"),\"\"),\" - \",IF(K1300<>\"\",TEXT(K1300,\"\"),\"\")))","v":""},"",{"$f":"IF(D1300<>\"\",D1300,\"\")","v":""},{"$f":"IF(E1300<>\"\",E1300,\"\")","v":""},{"$f":"IF(F1300<>\"\",F1300,\"\")","v":""},{"$f":"IF(N1300<>\"\",IF(D1301<>\"\",D1301,D1300),\"\")","v":""},{"$f":"IF(N1300<>\"\",IF(E1301<>\"\",E1301,E1300),\"\")","v":""},{"$f":"IF(N1300<>\"\",IF(F1301<>\"\",F1301,F1300),\"\")","v":""}]
[null,null,null,null,null,null,null,null,null,null,null,null,null,null,null,""]
[null,null,null,null,null,null,null,null,null,null,null,null,null,{"$f":"IF(A1302<>\"\",TEXT(A1302,\"\"),\"\")","v":""},{"$f":"IF(N1302=\"\",\"\",CONCATENATE(IF(C1302<>\"\",TEXT(C1302,\"\"),\"\"),\" - \",IF(K1302<>\"\",TEXT(K1302,\"\"),\"\")))","v":""},"",{"$f":"IF(D1302<>\"\",D1302,\"\")","v":""},{"$f":"IF(E1302<>\"\",E1302,\"\")","v":""},{"$f":"IF(F1302<>\"\",F1302,\"\")","v":""},{"$f":"IF(N1302<>\"\",IF(D1303<>\"\",D1303,D1302),\"\")","v":""},{"$f":"IF(N1302<>\"\",IF(E1303<>\"\",E1303,E1302),\"\")","v":""},{"$f":"IF(N1302<>\"\",IF(F1303<>\"\",F1303,F1302),\"\")","v":""}]
[null,null,null,null,null,null,null,null,null,null,null,null,null,null,null,""]
[null,null,null,null,null,null,null,null,null,null,null,null,null,{"$f":"IF(A1304<>\"\",TEXT(A1304,\"\"),\"\")","v":""},{"$f":"IF(N1304=\"\",\"\",CONCATENATE(IF(C1304<>\"\",TEXT(C1304,\"\"),\"\"),\" - \",IF(K1304<>\"\",TEXT(K1304,\"\"),\"\")))","v":""},"",{"$f":"IF(D1304<>\"\",D1304,\"\")","v":""},{"$f":"IF(E1304<>\"\",E1304,\"\")","v":""},{"$f":"IF(F1304<>\"\",F1304,\"\")","v":""},{"$f":"IF(N1304<>\"\",IF(D1305<>\"\",D1305,D1304),\"\")","v":""},{"$f":"IF(N1304<>\"\",IF(E1305<>\"\",E1305,E1304),\"\")","v":""},{"$f":"IF(N1304<>\"\",IF(F1305<>\"\",F1305,F1304),\"\")","v":""}]
[null,null,null,null,null,null,null,null,null,null,null,null,null,null,null,""]
[null,null,null,null,null,null,null,null,null,null,null,null,null,{"$f":"IF(A1306<>\"\",TEXT(A1306,\"\"),\"\")","v":""},{"$f":"IF(N1306=\"\",\"\",CONCATENATE(IF(C1306<>\"\",TEXT(C1306,\"\"),\"\"),\" - \",IF(K1306<>\"\",TEXT(K1306,\"\"),\"\")))","v":""},"",{"$f":"IF(D1306<>\"\",D1306,\"\")","v":""},{"$f":"IF(E1306<>\"\",E1306,\"\")","v":""},{"$f":"IF(F1306<>\"\",F1306,\"\")","v":""},{"$f":"IF(N1306<>\"\",IF(D1307<>\"\",D1307,D1306),\"\")","v":""},{"$f":"IF(N1306<>\"\",IF(E1307<>\"\",E1307,E1306),\"\")","v":""},{"$f":"IF(N1306<>\"\",IF(F1307<>\"\",F1307,F1306),\"\")","v":""}]
[null,null,null,null,null,null,null,null,null,null,null,null,null,null,null,""]
[null,null,null,null,null,null,null,null,null,null,null,null,null,{"$f":"IF(A1308<>\"\",TEXT(A1308,\"\"),\"\")","v":""},{"$f":"IF(N1308=\"\",\"\",CONCATENATE(IF(C1308<>\"\",TEXT(C1308,\"\"),\"\"),\" - \",IF(K1308<>\"\",TEXT(K1308,\"\"),\"\")))","v":""},"",{"$f":"IF(D1308<>\"\",D1308,\"\")","v":""},{"$f":"IF(E1308<>\"\",E1308,\"\")","v":""},{"$f":"IF(F1308<>\"\",F1308,\"\")","v":""},{"$f":"IF(N1308<>\"\",IF(D1309<>\"\",D1309,D1308),\"\")","v":""},{"$f":"IF(N1308<>\"\",IF(E1309<>\"\",E1309,E1308),\"\")","v":""},{"$f":"IF(N1308<>\"\",IF(F1309<>\"\",F1309,F1308),\"\")","v":""}]
[null,null,null,null,null,null,null,null,null,null,null,null,null,null,null,""]
[null,null,null,null,null,null,null,null,null,null,null,null,null,{"$f":"IF(A1310<>\"\",TEXT(A1310,\"\"),\"\")","v":""},{"$f":"IF(N1310=\"\",\"\",CONCATENATE(IF(C1310<>\"\",TEXT(C1310,\"\"),\"\"),\" - \",IF(K1310<>\"\",TEXT(K1310,\"\"),\"\")))","v":""},"",{"$f":"IF(D1310<>\"\",D1310,\"\")","v":""},{"$f":"IF(E1310<>\"\",E1310,\"\")","v":""},{"$f":"IF(F1310<>\"\",F1310,\"\")","v":""},{"$f":"IF(N1310<>\"\",IF(D1311<>\"\",D1311,D1310),\"\")","v":""},{"$f":"IF(N1310<>\"\",IF(E1311<>\"\",E1311,E1310),\"\")","v":""},{"$f":"IF(N1310<>\"\",IF(F1311<>\"\",F1311,F1310),\"\")","v":""}]
[null,null,null,null,null,null,null,null,null,null,null,null,null,null,null,""]
[null,null,null,null,null,null,null,null,null,null,null,null,null,{"$f":"IF(A1312<>\"\",TEXT(A1312,\"\"),\"\")","v":""},{"$f":"IF(N1312=\"\",\"\",CONCATENATE(IF(C1312<>\"\",TEXT(C1312,\"\"),\"\"),\" - \",IF(K1312<>\"\",TEXT(K1312,\"\"),\"\")))","v":""},"",{"$f":"IF(D1312<>\"\",D1312,\"\")","v":""},{"$f":"IF(E1312<>\"\",E1312,\"\")","v":""},{"$f":"IF(F1312<>\"\",F1312,\"\")","v":""},{"$f":"IF(N1312<>\"\",IF(D1313<>\"\",D1313,D1312),\"\")","v":""},{"$f":"IF(N1312<>\"\",IF(E1313<>\"\",E1313,E1312),\"\")","v":""},{"$f":"IF(N1312<>\"\",IF(F1313<>\"\",F1313,F1312),\"\")","v":""}]
[null,null,null,null,null,null,null,null,null,null,null,null,null,null,null,""]
[null,null,null,null,null,null,null,null,null,null,null,null,null,{"$f":"IF(A1314<>\"\",TEXT(A1314,\"\"),\"\")","v":""},{"$f":"IF(N1314=\"\",\"\",CONCATENATE(IF(C1314<>\"\",TEXT(C1314,\"\"),\"\"),\" - \",IF(K1314<>\"\",TEXT(K1314,\"\"),\"\")))","v":""},"",{"$f":"IF(D1314<>\"\",D1314,\"\")","v":""},{"$f":"IF(E1314<>\"\",E1314,\"\")","v":""},{"$f":"IF(F1314<>\"\",F1314,\"\")","v":""},{"$f":"IF(N1314<>\"\",IF(D1315<>\"\",D1315,D1314),\"\")","v":""},{"$f":"IF(N1314<>\"\",IF(E1315<>\"\",E1315,E1314),\"\")","v":""},{"$f":"IF(N1314<>\"\",IF(F1315<>\"\",F1315,F1314),\"\")","v":""}]
[null,null,null,null,null,null,null,null,null,null,null,null,null,null,null,""]
[null,null,null,null,null,null,null,null,null,null,null,null,null,{"$f":"IF(A1316<>\"\",TEXT(A1316,\"\"),\"\")","v":""},{"$f":"IF(N1316=\"\",\"\",CONCATENATE(IF(C1316<>\"\",TEXT(C1316,\"\"),\"\"),\" - \",IF(K1316<>\"\",TEXT(K1316,\"\"),\"\")))","v":""},"",{"$f":"IF(D1316<>\"\",D1316,\"\")","v":""},{"$f":"IF(E1316<>\"\",E1316,\"\")","v":""},{"$f":"IF(F1316<>\"\",F1316,\"\")","v":""},{"$f":"IF(N1316<>\"\",IF(D1317<>\"\",D1317,D1316),\"\")","v":""},{"$f":"IF(N1316<>\"\",IF(E1317<>\"\",E1317,E1316),\"\")","v":""},{"$f":"IF(N1316<>\"\",IF(F1317<>\"\",F1317,F1316),\"\")","v":""}]
[null,null,null,null,null,null,null,null,null,null,null,null,null,null,null,""]
[null,null,null,null,null,null,null,null,null,null,null,null,null,{"$f":"IF(A1318<>\"\",TEXT(A1318,\"\"),\"\")","v":""},{"$f":"IF(N1318=\"\",\"\",CONCATENATE(IF(C1318<>\"\",TEXT(C1318,\"\"),\"\"),\" - \",IF(K1318<>\"\",TEXT(K1318,\"\"),\"\")))","v":""},"",{"$f":"IF(D1318<>\"\",D1318,\"\")","v":""},{"$f":"IF(E1318<>\"\",E1318,\"\")","v":""},{"$f":"IF(F1318<>\"\",F1318,\"\")","v":""},{"$f":"IF(N1318<>\"\",IF(D1319<>\"\",D1319,D1318),\"\")","v":""},{"$f":"IF(N1318<>\"\",IF(E1319<>\"\",E1319,E1318),\"\")","v":""},{"$f":"IF(N1318<>\"\",IF(F1319<>\"\",F1319,F1318),\"\")","v":""}]
[null,null,null,null,null,null,null,null,null,null,null,null,null,null,null,""]
[null,null,null,null,null,null,null,null,null,null,null,null,null,{"$f":"IF(A1320<>\"\",TEXT(A1320,\"\"),\"\")","v":""},{"$f":"IF(N1320=\"\",\"\",CONCATENATE(IF(C1320<>\"\",TEXT(C1320,\"\"),\"\"),\" - \",IF(K1320<>\"\",TEXT(K1320,\"\"),\"\")))","v":""},"",{"$f":"IF(D1320<>\"\",D1320,\"\")","v":""},{"$f":"IF(E1320<>\"\",E1320,\"\")","v":""},{"$f":"IF(F1320<>\"\",F1320,\"\")","v":""},{"$f":"IF(N1320<>\"\",IF(D1321<>\"\",D1321,D1320),\"\")","v":""},{"$f":"IF(N1320<>\"\",IF(E1321<>\"\",E1321,E1320),\"\")","v":""},{"$f":"IF(N1320<>\"\",IF(F1321<>\"\",F1321,F1320),\"\")","v":""}]
[null,null,null,null,null,null,null,null,null,null,null,null,null,null,null,""]
[null,null,null,null,null,null,null,null,null,null,null,null,null,{"$f":"IF(A1322<>\"\",TEXT(A1322,\"\"),\"\")","v":""},{"$f":"IF(N1322=\"\",\"\",CONCATENATE(IF(C1322<>\"\",TEXT(C1322,\"\"),\"\"),\" - \",IF(K1322<>\"\",TEXT(K1322,\"\"),\"\")))","v":""},"",{"$f":"IF(D1322<>\"\",D1322,\"\")","v":""},{"$f":"IF(E1322<>\"\",E1322,\"\")","v":""},{"$f":"IF(F1322<>\"\",F1322,\"\")","v":""},{"$f":"IF(N1322<>\"\",IF(D1323<>\"\",D1323,D1322),\"\")","v":""},{"$f":"IF(N1322<>\"\",IF(E1323<>\"\",E1323,E1322),\"\")","v":""},{"$f":"IF(N1322<>\"\",IF(F1323<>\"\",F1323,F1322),\"\")","v":""}]
[null,null,null,null,null,null,null,null,null,null,null,null,null,null,null,""]
[null,null,null,null,null,null,null,null,null,null,null,null,null,{"$f":"IF(A1324<>\"\",TEXT(A1324,\"\"),\"\")","v":""},{"$f":"IF(N1324=\"\",\"\",CONCATENATE(IF(C1324<>\"\",TEXT(C1324,\"\"),\"\"),\" - \",IF(K1324<>\"\",TEXT(K1324,\"\"),\"\")))","v":""},"",{"$f":"IF(D1324<>\"\",D1324,\"\")","v":""},{"$f":"IF(E1324<>\"\",E1324,\"\")","v":""},{"$f":"IF(F1324<>\"\",F1324,\"\")","v":""},{"$f":"IF(N1324<>\"\",IF(D1325<>\"\",D1325,D1324),\"\")","v":""},{"$f":"IF(N1324<>\"\",IF(E1325<>\"\",E1325,E1324),\"\")","v":""},{"$f":"IF(N1324<>\"\",IF(F1325<>\"\",F1325,F1324),\"\")","v":""}]
[null,null,null,null,null,null,null,null,null,null,null,null,null,null,null,""]
[null,null,null,null,null,null,null,null,null,null,null,null,null,{"$f":"IF(A1326<>\"\",TEXT(A1326,\"\"),\"\")","v":""},{"$f":"IF(N1326=\"\",\"\",CONCATENATE(IF(C1326<>\"\",TEXT(C1326,\"\"),\"\"),\" - \",IF(K1326<>\"\",TEXT(K1326,\"\"),\"\")))","v":""},"",{"$f":"IF(D1326<>\"\",D1326,\"\")","v":""},{"$f":"IF(E1326<>\"\",E1326,\"\")","v":""},{"$f":"IF(F1326<>\"\",F1326,\"\")","v":""},{"$f":"IF(N1326<>\"\",IF(D1327<>\"\",D1327,D1326),\"\")","v":""},{"$f":"IF(N1326<>\"\",IF(E1327<>\"\",E1327,E1326),\"\")","v":""},{"$f":"IF(N1326<>\"\",IF(F1327<>\"\",F1327,F1326),\"\")","v":""}]
[null,null,null,null,null,null,null,null,null,null,null,null,null,null,null,""]
[null,null,null,null,null,null,null,null,null,null,null,null,null,{"$f":"IF(A1328<>\"\",TEXT(A1328,\"\"),\"\")","v":""},{"$f":"IF(N1328=\"\",\"\",CONCATENATE(IF(C1328<>\"\",TEXT(C1328,\"\"),\"\"),\" - \",IF(K1328<>\"\",TEXT(K1328,\"\"),\"\")))","v":""},"",{"$f":"IF(D1328<>\"\",D1328,\"\")","v":""},{"$f":"IF(E1328<>\"\",E1328,\"\")","v":""},{"$f":"IF(F1328<>\"\",F1328,\"\")","v":""},{"$f":"IF(N1328<>\"\",IF(D1329<>\"\",D1329,D1328),\"\")","v":""},{"$f":"IF(N1328<>\"\",IF(E1329<>\"\",E1329,E1328),\"\")","v":""},{"$f":"IF(N1328<>\"\",IF(F1329<>\"\",F1329,F1328),\"\")","v":""}]
[null,null,null,null,null,null,null,null,null,null,null,null,null,null,null,""]
[null,null,null,null,null,null,null,null,null,null,null,null,null,{"$f":"IF(A1330<>\"\",TEXT(A1330,\"\"),\"\")","v":""},{"$f":"IF(N1330=\"\",\"\",CONCATENATE(IF(C1330<>\"\",TEXT(C1330,\"\"),\"\"),\" - \",IF(K1330<>\"\",TEXT(K1330,\"\"),\"\")))","v":""},"",{"$f":"IF(D1330<>\"\",D1330,\"\")","v":""},{"$f":"IF(E1330<>\"\",E1330,\"\")","v":""},{"$f":"IF(F1330<>\"\",F1330,\"\")","v":""},{"$f":"IF(N1330<>\"\",IF(D1331<>\"\",D1331,D1330),\"\")","v":""},{"$f":"IF(N1330<>\"\",IF(E1331<>\"\",E1331,E1330),\"\")","v":""},{"$f":"IF(N1330<>\"\",IF(F1331<>\"\",F1331,F1330),\"\")","v":""}]
[null,null,null,null,null,null,null,null,null,null,null,null,null,null,null,""]
[null,null,null,null,null,null,null,null,null,null,null,null,null,{"$f":"IF(A1332<>\"\",TEXT(A1332,\"\"),\"\")","v":""},{"$f":"IF(N1332=\"\",\"\",CONCATENATE(IF(C1332<>\"\",TEXT(C1332,\"\"),\"\"),\" - \",IF(K1332<>\"\",TEXT(K1332,\"\"),\"\")))","v":""},"",{"$f":"IF(D1332<>\"\",D1332,\"\")","v":""},{"$f":"IF(E1332<>\"\",E1332,\"\")","v":""},{"$f":"IF(F1332<>\"\",F1332,\"\")","v":""},{"$f":"IF(N1332<>\"\",IF(D1333<>\"\",D1333,D1332),\"\")","v":""},{"$f":"IF(N1332<>\"\",IF(E1333<>\"\",E1333,E1332),\"\")","v":""},{"$f":"IF(N1332<>\"\",IF(F1333<>\"\",F1333,F1332),\"\")","v":""}]
[null,null,null,null,null,null,null,null,null,null,null,null,null,null,null,""]
[null,null,null,null,null,null,null,null,null,null,null,null,null,{"$f":"IF(A1334<>\"\",TEXT(A1334,\"\"),\"\")","v":""},{"$f":"IF(N1334=\"\",\"\",CONCATENATE(IF(C1334<>\"\",TEXT(C1334,\"\"),\"\"),\" - \",IF(K1334<>\"\",TEXT(K1334,\"\"),\"\")))","v":""},"",{"$f":"IF(D1334<>\"\",D1334,\"\")","v":""},{"$f":"IF(E1334<>\"\",E1334,\"\")","v":""},{"$f":"IF(F1334<>\"\",F1334,\"\")","v":""},{"$f":"IF(N1334<>\"\",IF(D1335<>\"\",D1335,D1334),\"\")","v":""},{"$f":"IF(N1334<>\"\",IF(E1335<>\"\",E1335,E1334),\"\")","v":""},{"$f":"IF(N1334<>\"\",IF(F1335<>\"\",F1335,F1334),\"\")","v":""}]
[null,null,null,null,null,null,null,null,null,null,null,null,null,null,null,""]
[null,null,null,null,null,null,null,null,null,null,null,null,null,{"$f":"IF(A1336<>\"\",TEXT(A1336,\"\"),\"\")","v":""},{"$f":"IF(N1336=\"\",\"\",CONCATENATE(IF(C1336<>\"\",TEXT(C1336,\"\"),\"\"),\" - \",IF(K1336<>\"\",TEXT(K1336,\"\"),\"\")))","v":""},"",{"$f":"IF(D1336<>\"\",D1336,\"\")","v":""},{"$f":"IF(E1336<>\"\",E1336,\"\")","v":""},{"$f":"IF(F1336<>\"\",F1336,\"\")","v":""},{"$f":"IF(N1336<>\"\",IF(D1337<>\"\",D1337,D1336),\"\")","v":""},{"$f":"IF(N1336<>\"\",IF(E1337<>\"\",E1337,E1336),\"\")","v":""},{"$f":"IF(N1336<>\"\",IF(F1337<>\"\",F1337,F1336),\"\")","v":""}]
[null,null,null,null,null,null,null,null,null,null,null,null,null,null,null,""]
[null,null,null,null,null,null,null,null,null,null,null,null,null,{"$f":"IF(A1338<>\"\",TEXT(A1338,\"\"),\"\")","v":""},{"$f":"IF(N1338=\"\",\"\",CONCATENATE(IF(C1338<>\"\",TEXT(C1338,\"\"),\"\"),\" - \",IF(K1338<>\"\",TEXT(K1338,\"\"),\"\")))","v":""},"",{"$f":"IF(D1338<>\"\",D1338,\"\")","v":""},{"$f":"IF(E1338<>\"\",E1338,\"\")","v":""},{"$f":"IF(F1338<>\"\",F1338,\"\")","v":""},{"$f":"IF(N1338<>\"\",IF(D1339<>\"\",D1339,D1338),\"\")","v":""},{"$f":"IF(N1338<>\"\",IF(E1339<>\"\",E1339,E1338),\"\")","v":""},{"$f":"IF(N1338<>\"\",IF(F1339<>\"\",F1339,F1338),\"\")","v":""}]
[null,null,null,null,null,null,null,null,null,null,null,null,null,null,null,""]
[null,null,null,null,null,null,null,null,null,null,null,null,null,{"$f":"IF(A1340<>\"\",TEXT(A1340,\"\"),\"\")","v":""},{"$f":"IF(N1340=\"\",\"\",CONCATENATE(IF(C1340<>\"\",TEXT(C1340,\"\"),\"\"),\" - \",IF(K1340<>\"\",TEXT(K1340,\"\"),\"\")))","v":""},"",{"$f":"IF(D1340<>\"\",D1340,\"\")","v":""},{"$f":"IF(E1340<>\"\",E1340,\"\")","v":""},{"$f":"IF(F1340<>\"\",F1340,\"\")","v":""},{"$f":"IF(N1340<>\"\",IF(D1341<>\"\",D1341,D1340),\"\")","v":""},{"$f":"IF(N1340<>\"\",IF(E1341<>\"\",E1341,E1340),\"\")","v":""},{"$f":"IF(N1340<>\"\",IF(F1341<>\"\",F1341,F1340),\"\")","v":""}]
[null,null,null,null,null,null,null,null,null,null,null,null,null,null,null,""]
[null,null,null,null,null,null,null,null,null,null,null,null,null,{"$f":"IF(A1342<>\"\",TEXT(A1342,\"\"),\"\")","v":""},{"$f":"IF(N1342=\"\",\"\",CONCATENATE(IF(C1342<>\"\",TEXT(C1342,\"\"),\"\"),\" - \",IF(K1342<>\"\",TEXT(K1342,\"\"),\"\")))","v":""},"",{"$f":"IF(D1342<>\"\",D1342,\"\")","v":""},{"$f":"IF(E1342<>\"\",E1342,\"\")","v":""},{"$f":"IF(F1342<>\"\",F1342,\"\")","v":""},{"$f":"IF(N1342<>\"\",IF(D1343<>\"\",D1343,D1342),\"\")","v":""},{"$f":"IF(N1342<>\"\",IF(E1343<>\"\",E1343,E1342),\"\")","v":""},{"$f":"IF(N1342<>\"\",IF(F1343<>\"\",F1343,F1342),\"\")","v":""}]
[null,null,null,null,null,null,null,null,null,null,null,null,null,null,null,""]
[null,null,null,null,null,null,null,null,null,null,null,null,null,{"$f":"IF(A1344<>\"\",TEXT(A1344,\"\"),\"\")","v":""},{"$f":"IF(N1344=\"\",\"\",CONCATENATE(IF(C1344<>\"\",TEXT(C1344,\"\"),\"\"),\" - \",IF(K1344<>\"\",TEXT(K1344,\"\"),\"\")))","v":""},"",{"$f":"IF(D1344<>\"\",D1344,\"\")","v":""},{"$f":"IF(E1344<>\"\",E1344,\"\")","v":""},{"$f":"IF(F1344<>\"\",F1344,\"\")","v":""},{"$f":"IF(N1344<>\"\",IF(D1345<>\"\",D1345,D1344),\"\")","v":""},{"$f":"IF(N1344<>\"\",IF(E1345<>\"\",E1345,E1344),\"\")","v":""},{"$f":"IF(N1344<>\"\",IF(F1345<>\"\",F1345,F1344),\"\")","v":""}]
[null,null,null,null,null,null,null,null,null,null,null,null,null,null,null,""]
[null,null,null,null,null,null,null,null,null,null,null,null,null,{"$f":"IF(A1346<>\"\",TEXT(A1346,\"\"),\"\")","v":""},{"$f":"IF(N1346=\"\",\"\",CONCATENATE(IF(C1346<>\"\",TEXT(C1346,\"\"),\"\"),\" - \",IF(K1346<>\"\",TEXT(K1346,\"\"),\"\")))","v":""},"",{"$f":"IF(D1346<>\"\",D1346,\"\")","v":""},{"$f":"IF(E1346<>\"\",E1346,\"\")","v":""},{"$f":"IF(F1346<>\"\",F1346,\"\")","v":""},{"$f":"IF(N1346<>\"\",IF(D1347<>\"\",D1347,D1346),\"\")","v":""},{"$f":"IF(N1346<>\"\",IF(E1347<>\"\",E1347,E1346),\"\")","v":""},{"$f":"IF(N1346<>\"\",IF(F1347<>\"\",F1347,F1346),\"\")","v":""}]
[null,null,null,null,null,null,null,null,null,null,null,null,null,null,null,{"$f":"SUBSTITUTE(SUBSTITUTE(SUBSTITUTE(SUBSTITUTE(IF(L1347<>\"\",HLink(L1347),\"\"),\"htm\",\"html\"),\"1x2\",\"analysis\"),\"www\",\"www\"),\"com\",\"vip\")","v":""}]
[null,null,null,null,null,null,null,null,null,null,null,null,null,{"$f":"IF(A1348<>\"\",TEXT(A1348,\"\"),\"\")","v":""},{"$f":"IF(N1348=\"\",\"\",CONCATENATE(IF(C1348<>\"\",TEXT(C1348,\"\"),\"\"),\" - \",IF(K1348<>\"\",TEXT(K1348,\"\"),\"\")))","v":""},"",{"$f":"IF(D1348<>\"\",D1348,\"\")","v":""},{"$f":"IF(E1348<>\"\",E1348,\"\")","v":""},{"$f":"IF(F1348<>\"\",F1348,\"\")","v":""},{"$f":"IF(N1348<>\"\",IF(D1349<>\"\",D1349,D1348),\"\")","v":""},{"$f":"IF(N1348<>\"\",IF(E1349<>\"\",E1349,E1348),\"\")","v":""},{"$f":"IF(N1348<>\"\",IF(F1349<>\"\",F1349,F1348),\"\")","v":""}]
[null,null,null,null,null,null,null,null,null,null,null,null,null,null,null,""]
[null,null,null,null,null,null,null,null,null,null,null,null,null,{"$f":"IF(A1350<>\"\",TEXT(A1350,\"\"),\"\")","v":""},{"$f":"IF(N1350=\"\",\"\",CONCATENATE(IF(C1350<>\"\",TEXT(C1350,\"\"),\"\"),\" - \",IF(K1350<>\"\",TEXT(K1350,\"\"),\"\")))","v":""},"",{"$f":"IF(D1350<>\"\",D1350,\"\")","v":""},{"$f":"IF(E1350<>\"\",E1350,\"\")","v":""},{"$f":"IF(F1350<>\"\",F1350,\"\")","v":""},{"$f":"IF(N1350<>\"\",IF(D1351<>\"\",D1351,D1350),\"\")","v":""},{"$f":"IF(N1350<>\"\",IF(E1351<>\"\",E1351,E1350),\"\")","v":""},{"$f":"IF(N1350<>\"\",IF(F1351<>\"\",F1351,F1350),\"\")","v":""}]
[null,null,null,null,null,null,null,null,null,null,null,null,null,null,null,""]
[null,null,null,null,null,null,null,null,null,null,null,null,null,{"$f":"IF(A1352<>\"\",TEXT(A1352,\"\"),\"\")","v":""},{"$f":"IF(N1352=\"\",\"\",CONCATENATE(IF(C1352<>\"\",TEXT(C1352,\"\"),\"\"),\" - \",IF(K1352<>\"\",TEXT(K1352,\"\"),\"\")))","v":""},"",{"$f":"IF(D1352<>\"\",D1352,\"\")","v":""},{"$f":"IF(E1352<>\"\",E1352,\"\")","v":""},{"$f":"IF(F1352<>\"\",F1352,\"\")","v":""},{"$f":"IF(N1352<>\"\",IF(D1353<>\"\",D1353,D1352),\"\")","v":""},{"$f":"IF(N1352<>\"\",IF(E1353<>\"\",E1353,E1352),\"\")","v":""},{"$f":"IF(N1352<>\"\",IF(F1353<>\"\",F1353,F1352),\"\")","v":""}]
[null,null,null,null,null,null,null,null,null,null,null,null,null,null,null,""]
[null,null,null,null,null,null,null,null,null,null,null,null,null,{"$f":"IF(A1354<>\"\",TEXT(A1354,\"\"),\"\")","v":""},{"$f":"IF(N1354=\"\",\"\",CONCATENATE(IF(C1354<>\"\",TEXT(C1354,\"\"),\"\"),\" - \",IF(K1354<>\"\",TEXT(K1354,\"\"),\"\")))","v":""},"",{"$f":"IF(D1354<>\"\",D1354,\"\")","v":""},{"$f":"IF(E1354<>\"\",E1354,\"\")","v":""},{"$f":"IF(F1354<>\"\",F1354,\"\")","v":""},{"$f":"IF(N1354<>\"\",IF(D1355<>\"\",D1355,D1354),\"\")","v":""},{"$f":"IF(N1354<>\"\",IF(E1355<>\"\",E1355,E1354),\"\")","v":""},{"$f":"IF(N1354<>\"\",IF(F1355<>\"\",F1355,F1354),\"\")","v":""}]
[null,null,null,null,null,null,null,null,null,null,null,null,null,null,null,""]
[null,null,null,null,null,null,null,null,null,null,null,null,null,{"$f":"IF(A1356<>\"\",TEXT(A1356,\"\"),\"\")","v":""},{"$f":"IF(N1356=\"\",\"\",CONCATENATE(IF(C1356<>\"\",TEXT(C1356,\"\"),\"\"),\" - \",IF(K1356<>\"\",TEXT(K1356,\"\"),\"\")))","v":""},"",{"$f":"IF(D1356<>\"\",D1356,\"\")","v":""},{"$f":"IF(E1356<>\"\",E1356,\"\")","v":""},{"$f":"IF(F1356<>\"\",F1356,\"\")","v":""},{"$f":"IF(N1356<>\"\",IF(D1357<>\"\",D1357,D1356),\"\")","v":""},{"$f":"IF(N1356<>\"\",IF(E1357<>\"\",E1357,E1356),\"\")","v":""},{"$f":"IF(N1356<>\"\",IF(F1357<>\"\",F1357,F1356),\"\")","v":""}]
[null,null,null,null,null,null,null,null,null,null,null,null,null,null,null,""]
[null,null,null,null,null,null,null,null,null,null,null,null,null,{"$f":"IF(A1358<>\"\",TEXT(A1358,\"\"),\"\")","v":""},{"$f":"IF(N1358=\"\",\"\",CONCATENATE(IF(C1358<>\"\",TEXT(C1358,\"\"),\"\"),\" - \",IF(K1358<>\"\",TEXT(K1358,\"\"),\"\")))","v":""},"",{"$f":"IF(D1358<>\"\",D1358,\"\")","v":""},{"$f":"IF(E1358<>\"\",E1358,\"\")","v":""},{"$f":"IF(F1358<>\"\",F1358,\"\")","v":""},{"$f":"IF(N1358<>\"\",IF(D1359<>\"\",D1359,D1358),\"\")","v":""},{"$f":"IF(N1358<>\"\",IF(E1359<>\"\",E1359,E1358),\"\")","v":""},{"$f":"IF(N1358<>\"\",IF(F1359<>\"\",F1359,F1358),\"\")","v":""}]
[null,null,null,null,null,null,null,null,null,null,null,null,null,null,null,""]
[null,null,null,null,null,null,null,null,null,null,null,null,null,{"$f":"IF(A1360<>\"\",TEXT(A1360,\"\"),\"\")","v":""},{"$f":"IF(N1360=\"\",\"\",CONCATENATE(IF(C1360<>\"\",TEXT(C1360,\"\"),\"\"),\" - \",IF(K1360<>\"\",TEXT(K1360,\"\"),\"\")))","v":""},"",{"$f":"IF(D1360<>\"\",D1360,\"\")","v":""},{"$f":"IF(E1360<>\"\",E1360,\"\")","v":""},{"$f":"IF(F1360<>\"\",F1360,\"\")","v":""},{"$f":"IF(N1360<>\"\",IF(D1361<>\"\",D1361,D1360),\"\")","v":""},{"$f":"IF(N1360<>\"\",IF(E1361<>\"\",E1361,E1360),\"\")","v":""},{"$f":"IF(N1360<>\"\",IF(F1361<>\"\",F1361,F1360),\"\")","v":""}]
[null,null,null,null,null,null,null,null,null,null,null,null,null,null,null,""]
[null,null,null,null,null,null,null,null,null,null,null,null,null,{"$f":"IF(A1362<>\"\",TEXT(A1362,\"\"),\"\")","v":""},{"$f":"IF(N1362=\"\",\"\",CONCATENATE(IF(C1362<>\"\",TEXT(C1362,\"\"),\"\"),\" - \",IF(K1362<>\"\",TEXT(K1362,\"\"),\"\")))","v":""},"",{"$f":"IF(D1362<>\"\",D1362,\"\")","v":""},{"$f":"IF(E1362<>\"\",E1362,\"\")","v":""},{"$f":"IF(F1362<>\"\",F1362,\"\")","v":""},{"$f":"IF(N1362<>\"\",IF(D1363<>\"\",D1363,D1362),\"\")","v":""},{"$f":"IF(N1362<>\"\",IF(E1363<>\"\",E1363,E1362),\"\")","v":""},{"$f":"IF(N1362<>\"\",IF(F1363<>\"\",F1363,F1362),\"\")","v":""}]
[null,null,null,null,null,null,null,null,null,null,null,null,null,null,null,""]
[null,null,null,null,null,null,null,null,null,null,null,null,null,{"$f":"IF(A1364<>\"\",TEXT(A1364,\"\"),\"\")","v":""},{"$f":"IF(N1364=\"\",\"\",CONCATENATE(IF(C1364<>\"\",TEXT(C1364,\"\"),\"\"),\" - \",IF(K1364<>\"\",TEXT(K1364,\"\"),\"\")))","v":""},"",{"$f":"IF(D1364<>\"\",D1364,\"\")","v":""},{"$f":"IF(E1364<>\"\",E1364,\"\")","v":""},{"$f":"IF(F1364<>\"\",F1364,\"\")","v":""},{"$f":"IF(N1364<>\"\",IF(D1365<>\"\",D1365,D1364),\"\")","v":""},{"$f":"IF(N1364<>\"\",IF(E1365<>\"\",E1365,E1364),\"\")","v":""},{"$f":"IF(N1364<>\"\",IF(F1365<>\"\",F1365,F1364),\"\")","v":""}]
[null,null,null,null,null,null,null,null,null,null,null,null,null,null,null,""]
[null,null,null,null,null,null,null,null,null,null,null,null,null,{"$f":"IF(A1366<>\"\",TEXT(A1366,\"\"),\"\")","v":""},{"$f":"IF(N1366=\"\",\"\",CONCATENATE(IF(C1366<>\"\",TEXT(C1366,\"\"),\"\"),\" - \",IF(K1366<>\"\",TEXT(K1366,\"\"),\"\")))","v":""},"",{"$f":"IF(D1366<>\"\",D1366,\"\")","v":""},{"$f":"IF(E1366<>\"\",E1366,\"\")","v":""},{"$f":"IF(F1366<>\"\",F1366,\"\")","v":""},{"$f":"IF(N1366<>\"\",IF(D1367<>\"\",D1367,D1366),\"\")","v":""},{"$f":"IF(N1366<>\"\",IF(E1367<>\"\",E1367,E1366),\"\")","v":""},{"$f":"IF(N1366<>\"\",IF(F1367<>\"\",F1367,F1366),\"\")","v":""}]
[null,null,null,null,null,null,null,null,null,null,null,null,null,null,null,""]
[null,null,null,null,null,null,null,null,null,null,null,null,null,{"$f":"IF(A1368<>\"\",TEXT(A1368,\"\"),\"\")","v":""},{"$f":"IF(N1368=\"\",\"\",CONCATENATE(IF(C1368<>\"\",TEXT(C1368,\"\"),\"\"),\" - \",IF(K1368<>\"\",TEXT(K1368,\"\"),\"\")))","v":""},"",{"$f":"IF(D1368<>\"\",D1368,\"\")","v":""},{"$f":"IF(E1368<>\"\",E1368,\"\")","v":""},{"$f":"IF(F1368<>\"\",F1368,\"\")","v":""},{"$f":"IF(N1368<>\"\",IF(D1369<>\"\",D1369,D1368),\"\")","v":""},{"$f":"IF(N1368<>\"\",IF(E1369<>\"\",E1369,E1368),\"\")","v":""},{"$f":"IF(N1368<>\"\",IF(F1369<>\"\",F1369,F1368),\"\")","v":""}]
[null,null,null,null,null,null,null,null,null,null,null,null,null,null,null,""]
[null,null,null,null,null,null,null,null,null,null,null,null,null,{"$f":"IF(A1370<>\"\",TEXT(A1370,\"\"),\"\")","v":""},{"$f":"IF(N1370=\"\",\"\",CONCATENATE(IF(C1370<>\"\",TEXT(C1370,\"\"),\"\"),\" - \",IF(K1370<>\"\",TEXT(K1370,\"\"),\"\")))","v":""},"",{"$f":"IF(D1370<>\"\",D1370,\"\")","v":""},{"$f":"IF(E1370<>\"\",E1370,\"\")","v":""},{"$f":"IF(F1370<>\"\",F1370,\"\")","v":""},{"$f":"IF(N1370<>\"\",IF(D1371<>\"\",D1371,D1370),\"\")","v":""},{"$f":"IF(N1370<>\"\",IF(E1371<>\"\",E1371,E1370),\"\")","v":""},{"$f":"IF(N1370<>\"\",IF(F1371<>\"\",F1371,F1370),\"\")","v":""}]
[null,null,null,null,null,null,null,null,null,null,null,null,null,null,null,""]
[null,null,null,null,null,null,null,null,null,null,null,null,null,{"$f":"IF(A1372<>\"\",TEXT(A1372,\"\"),\"\")","v":""},{"$f":"IF(N1372=\"\",\"\",CONCATENATE(IF(C1372<>\"\",TEXT(C1372,\"\"),\"\"),\" - \",IF(K1372<>\"\",TEXT(K1372,\"\"),\"\")))","v":""},"",{"$f":"IF(D1372<>\"\",D1372,\"\")","v":""},{"$f":"IF(E1372<>\"\",E1372,\"\")","v":""},{"$f":"IF(F1372<>\"\",F1372,\"\")","v":""},{"$f":"IF(N1372<>\"\",IF(D1373<>\"\",D1373,D1372),\"\")","v":""},{"$f":"IF(N1372<>\"\",IF(E1373<>\"\",E1373,E1372),\"\")","v":""},{"$f":"IF(N1372<>\"\",IF(F1373<>\"\",F1373,F1372),\"\")","v":""}]
[null,null,null,null,null,null,null,null,null,null,null,null,null,null,null,""]
[null,null,null,null,null,null,null,null,null,null,null,null,null,{"$f":"IF(A1374<>\"\",TEXT(A1374,\"\"),\"\")","v":""},{"$f":"IF(N1374=\"\",\"\",CONCATENATE(IF(C1374<>\"\",TEXT(C1374,\"\"),\"\"),\" - \",IF(K1374<>\"\",TEXT(K1374,\"\"),\"\")))","v":""},"",{"$f":"IF(D1374<>\"\",D1374,\"\")","v":""},{"$f":"IF(E1374<>\"\",E1374,\"\")","v":""},{"$f":"IF(F1374<>\"\",F1374,\"\")","v":""},{"$f":"IF(N1374<>\"\",IF(D1375<>\"\",D1375,D1374),\"\")","v":""},{"$f":"IF(N1374<>\"\",IF(E1375<>\"\",E1375,E1374),\"\")","v":""},{"$f":"IF(N1374<>\"\",IF(F1375<>\"\",F1375,F1374),\"\")","v":""}]
[null,null,null,null,null,null,null,null,null,null,null,null,null,null,null,""]
[null,null,null,null,null,null,null,null,null,null,null,null,null,{"$f":"IF(A1376<>\"\",TEXT(A1376,\"\"),\"\")","v":""},{"$f":"IF(N1376=\"\",\"\",CONCATENATE(IF(C1376<>\"\",TEXT(C1376,\"\"),\"\"),\" - \",IF(K1376<>\"\",TEXT(K1376,\"\"),\"\")))","v":""},"",{"$f":"IF(D1376<>\"\",D1376,\"\")","v":""},{"$f":"IF(E1376<>\"\",E1376,\"\")","v":""},{"$f":"IF(F1376<>\"\",F1376,\"\")","v":""},{"$f":"IF(N1376<>\"\",IF(D1377<>\"\",D1377,D1376),\"\")","v":""},{"$f":"IF(N1376<>\"\",IF(E1377<>\"\",E1377,E1376),\"\")","v":""},{"$f":"IF(N1376<>\"\",IF(F1377<>\"\",F1377,F1376),\"\")","v":""}]
[null,null,null,null,null,null,null,null,null,null,null,null,null,null,null,""]
[null,null,null,null,null,null,null,null,null,null,null,null,null,{"$f":"IF(A1378<>\"\",TEXT(A1378,\"\"),\"\")","v":""},{"$f":"IF(N1378=\"\",\"\",CONCATENATE(IF(C1378<>\"\",TEXT(C1378,\"\"),\"\"),\" - \",IF(K1378<>\"\",TEXT(K1378,\"\"),\"\")))","v":""},"",{"$f":"IF(D1378<>\"\",D1378,\"\")","v":""},{"$f":"IF(E1378<>\"\",E1378,\"\")","v":""},{"$f":"IF(F1378<>\"\",F1378,\"\")","v":""},{"$f":"IF(N1378<>\"\",IF(D1379<>\"\",D1379,D1378),\"\")","v":""},{"$f":"IF(N1378<>\"\",IF(E1379<>\"\",E1379,E1378),\"\")","v":""},{"$f":"IF(N1378<>\"\",IF(F1379<>\"\",F1379,F1378),\"\")","v":""}]
[null,null,null,null,null,null,null,null,null,null,null,null,null,null,null,""]
[null,null,null,null,null,null,null,null,null,null,null,null,null,{"$f":"IF(A1380<>\"\",TEXT(A1380,\"\"),\"\")","v":""},{"$f":"IF(N1380=\"\",\"\",CONCATENATE(IF(C1380<>\"\",TEXT(C1380,\"\"),\"\"),\" - \",IF(K1380<>\"\",TEXT(K1380,\"\"),\"\")))","v":""},"",{"$f":"IF(D1380<>\"\",D1380,\"\")","v":""},{"$f":"IF(E1380<>\"\",E1380,\"\")","v":""},{"$f":"IF(F1380<>\"\",F1380,\"\")","v":""},{"$f":"IF(N1380<>\"\",IF(D1381<>\"\",D1381,D1380),\"\")","v":""},{"$f":"IF(N1380<>\"\",IF(E1381<>\"\",E1381,E1380),\"\")","v":""},{"$f":"IF(N1380<>\"\",IF(F1381<>\"\",F1381,F1380),\"\")","v":""}]
[null,null,null,null,null,null,null,null,null,null,null,null,null,null,null,""]
[null,null,null,null,null,null,null,null,null,null,null,null,null,{"$f":"IF(A1382<>\"\",TEXT(A1382,\"\"),\"\")","v":""},{"$f":"IF(N1382=\"\",\"\",CONCATENATE(IF(C1382<>\"\",TEXT(C1382,\"\"),\"\"),\" - \",IF(K1382<>\"\",TEXT(K1382,\"\"),\"\")))","v":""},"",{"$f":"IF(D1382<>\"\",D1382,\"\")","v":""},{"$f":"IF(E1382<>\"\",E1382,\"\")","v":""},{"$f":"IF(F1382<>\"\",F1382,\"\")","v":""},{"$f":"IF(N1382<>\"\",IF(D1383<>\"\",D1383,D1382),\"\")","v":""},{"$f":"IF(N1382<>\"\",IF(E1383<>\"\",E1383,E1382),\"\")","v":""},{"$f":"IF(N1382<>\"\",IF(F1383<>\"\",F1383,F1382),\"\")","v":""}]
[null,null,null,null,null,null,null,null,null,null,null,null,null,null,null,""]
[null,null,null,null,null,null,null,null,null,null,null,null,null,{"$f":"IF(A1384<>\"\",TEXT(A1384,\"\"),\"\")","v":""},{"$f":"IF(N1384=\"\",\"\",CONCATENATE(IF(C1384<>\"\",TEXT(C1384,\"\"),\"\"),\" - \",IF(K1384<>\"\",TEXT(K1384,\"\"),\"\")))","v":""},"",{"$f":"IF(D1384<>\"\",D1384,\"\")","v":""},{"$f":"IF(E1384<>\"\",E1384,\"\")","v":""},{"$f":"IF(F1384<>\"\",F1384,\"\")","v":""},{"$f":"IF(N1384<>\"\",IF(D1385<>\"\",D1385,D1384),\"\")","v":""},{"$f":"IF(N1384<>\"\",IF(E1385<>\"\",E1385,E1384),\"\")","v":""},{"$f":"IF(N1384<>\"\",IF(F1385<>\"\",F1385,F1384),\"\")","v":""}]
[null,null,null,null,null,null,null,null,null,null,null,null,null,null,null,""]
[null,null,null,null,null,null,null,null,null,null,null,null,null,{"$f":"IF(A1386<>\"\",TEXT(A1386,\"\"),\"\")","v":""},{"$f":"IF(N1386=\"\",\"\",CONCATENATE(IF(C1386<>\"\",TEXT(C1386,\"\"),\"\"),\" - \",IF(K1386<>\"\",TEXT(K1386,\"\"),\"\")))","v":""},"",{"$f":"IF(D1386<>\"\",D1386,\"\")","v":""},{"$f":"IF(E1386<>\"\",E1386,\"\")","v":""},{"$f":"IF(F1386<>\"\",F1386,\"\")","v":""},{"$f":"IF(N1386<>\"\",IF(D1387<>\"\",D1387,D1386),\"\")","v":""},{"$f":"IF(N1386<>\"\",IF(E1387<>\"\",E1387,E1386),\"\")","v":""},{"$f":"IF(N1386<>\"\",IF(F1387<>\"\",F1387,F1386),\"\")","v":""}]
[null,null,null,null,null,null,null,null,null,null,null,null,null,null,null,""]
[null,null,null,null,null,null,null,null,null,null,null,null,null,{"$f":"IF(A1388<>\"\",TEXT(A1388,\"\"),\"\")","v":""},{"$f":"IF(N1388=\"\",\"\",CONCATENATE(IF(C1388<>\"\",TEXT(C1388,\"\"),\"\"),\" - \",IF(K1388<>\"\",TEXT(K1388,\"\"),\"\")))","v":""},"",{"$f":"IF(D1388<>\"\",D1388,\"\")","v":""},{"$f":"IF(E1388<>\"\",E1388,\"\")","v":""},{"$f":"IF(F1388<>\"\",F1388,\"\")","v":""},{"$f":"IF(N1388<>\"\",IF(D1389<>\"\",D1389,D1388),\"\")","v":""},{"$f":"IF(N1388<>\"\",IF(E1389<>\"\",E1389,E1388),\"\")","v":""},{"$f":"IF(N1388<>\"\",IF(F1389<>\"\",F1389,F1388),\"\")","v":""}]
[null,null,null,null,null,null,null,null,null,null,null,null,null,null,null,""]
[null,null,null,null,null,null,null,null,null,null,null,null,null,{"$f":"IF(A1390<>\"\",TEXT(A1390,\"\"),\"\")","v":""},{"$f":"IF(N1390=\"\",\"\",CONCATENATE(IF(C1390<>\"\",TEXT(C1390,\"\"),\"\"),\" - \",IF(K1390<>\"\",TEXT(K1390,\"\"),\"\")))","v":""},"",{"$f":"IF(D1390<>\"\",D1390,\"\")","v":""},{"$f":"IF(E1390<>\"\",E1390,\"\")","v":""},{"$f":"IF(F1390<>\"\",F1390,\"\")","v":""},{"$f":"IF(N1390<>\"\",IF(D1391<>\"\",D1391,D1390),\"\")","v":""},{"$f":"IF(N1390<>\"\",IF(E1391<>\"\",E1391,E1390),\"\")","v":""},{"$f":"IF(N1390<>\"\",IF(F1391<>\"\",F1391,F1390),\"\")","v":""}]
[null,null,null,null,null,null,null,null,null,null,null,null,null,null,null,""]
[null,null,null,null,null,null,null,null,null,null,null,null,null,{"$f":"IF(A1392<>\"\",TEXT(A1392,\"\"),\"\")","v":""},{"$f":"IF(N1392=\"\",\"\",CONCATENATE(IF(C1392<>\"\",TEXT(C1392,\"\"),\"\"),\" - \",IF(K1392<>\"\",TEXT(K1392,\"\"),\"\")))","v":""},"",{"$f":"IF(D1392<>\"\",D1392,\"\")","v":""},{"$f":"IF(E1392<>\"\",E1392,\"\")","v":""},{"$f":"IF(F1392<>\"\",F1392,\"\")","v":""},{"$f":"IF(N1392<>\"\",IF(D1393<>\"\",D1393,D1392),\"\")","v":""},{"$f":"IF(N1392<>\"\",IF(E1393<>\"\",E1393,E1392),\"\")","v":""},{"$f":"IF(N1392<>\"\",IF(F1393<>\"\",F1393,F1392),\"\")","v":""}]
[null,null,null,null,null,null,null,null,null,null,null,null,null,null,null,""]
[null,null,null,null,null,null,null,null,null,null,null,null,null,{"$f":"IF(A1394<>\"\",TEXT(A1394,\"\"),\"\")","v":""},{"$f":"IF(N1394=\"\",\"\",CONCATENATE(IF(C1394<>\"\",TEXT(C1394,\"\"),\"\"),\" - \",IF(K1394<>\"\",TEXT(K1394,\"\"),\"\")))","v":""},"",{"$f":"IF(D1394<>\"\",D1394,\"\")","v":""},{"$f":"IF(E1394<>\"\",E1394,\"\")","v":""},{"$f":"IF(F1394<>\"\",F1394,\"\")","v":""},{"$f":"IF(N1394<>\"\",IF(D1395<>\"\",D1395,D1394),\"\")","v":""},{"$f":"IF(N1394<>\"\",IF(E1395<>\"\",E1395,E1394),\"\")","v":""},{"$f":"IF(N1394<>\"\",IF(F1395<>\"\",F1395,F1394),\"\")","v":""}]
[null,null,null,null,null,null,null,null,null,null,null,null,null,null,null,""]
[null,null,null,null,null,null,null,null,null,null,null,null,null,{"$f":"IF(A1396<>\"\",TEXT(A1396,\"\"),\"\")","v":""},{"$f":"IF(N1396=\"\",\"\",CONCATENATE(IF(C1396<>\"\",TEXT(C1396,\"\"),\"\"),\" - \",IF(K1396<>\"\",TEXT(K1396,\"\"),\"\")))","v":""},"",{"$f":"IF(D1396<>\"\",D1396,\"\")","v":""},{"$f":"IF(E1396<>\"\",E1396,\"\")","v":""},{"$f":"IF(F1396<>\"\",F1396,\"\")","v":""},{"$f":"IF(N1396<>\"\",IF(D1397<>\"\",D1397,D1396),\"\")","v":""},{"$f":"IF(N1396<>\"\",IF(E1397<>\"\",E1397,E1396),\"\")","v":""},{"$f":"IF(N1396<>\"\",IF(F1397<>\"\",F1397,F1396),\"\")","v":""}]
[null,null,null,null,null,null,null,null,null,null,null,null,null,null,null,""]
[null,null,null,null,null,null,null,null,null,null,null,null,null,{"$f":"IF(A1398<>\"\",TEXT(A1398,\"\"),\"\")","v":""},{"$f":"IF(N1398=\"\",\"\",CONCATENATE(IF(C1398<>\"\",TEXT(C1398,\"\"),\"\"),\" - \",IF(K1398<>\"\",TEXT(K1398,\"\"),\"\")))","v":""},"",{"$f":"IF(D1398<>\"\",D1398,\"\")","v":""},{"$f":"IF(E1398<>\"\",E1398,\"\")","v":""},{"$f":"IF(F1398<>\"\",F1398,\"\")","v":""},{"$f":"IF(N1398<>\"\",IF(D1399<>\"\",D1399,D1398),\"\")","v":""},{"$f":"IF(N1398<>\"\",IF(E1399<>\"\",E1399,E1398),\"\")","v":""},{"$f":"IF(N1398<>\"\",IF(F1399<>\"\",F1399,F1398),\"\")","v":""}]
[null,null,null,null,null,null,null,null,null,null,null,null,null,null,null,""]
[null,null,null,null,null,null,null,null,null,null,null,null,null,{"$f":"IF(A1400<>\"\",TEXT(A1400,\"\"),\"\")","v":""},{"$f":"IF(N1400=\"\",\"\",CONCATENATE(IF(C1400<>\"\",TEXT(C1400,\"\"),\"\"),\" - \",IF(K1400<>\"\",TEXT(K1400,\"\"),\"\")))","v":""},"",{"$f":"IF(D1400<>\"\",D1400,\"\")","v":""},{"$f":"IF(E1400<>\"\",E1400,\"\")","v":""},{"$f":"IF(F1400<>\"\",F1400,\"\")","v":""},{"$f":"IF(N1400<>\"\",IF(D1401<>\"\",D1401,D1400),\"\")","v":""},{"$f":"IF(N1400<>\"\",IF(E1401<>\"\",E1401,E1400),\"\")","v":""},{"$f":"IF(N1400<>\"\",IF(F1401<>\"\",F1401,F1400),\"\")","v":""}]
[null,null,null,null,null,null,null,null,null,null,null,null,null,null,null,""]
[null,null,null,null,null,null,null,null,null,null,null,null,null,{"$f":"IF(A1402<>\"\",TEXT(A1402,\"\"),\"\")","v":""},{"$f":"IF(N1402=\"\",\"\",CONCATENATE(IF(C1402<>\"\",TEXT(C1402,\"\"),\"\"),\" - \",IF(K1402<>\"\",TEXT(K1402,\"\"),\"\")))","v":""},"",{"$f":"IF(D1402<>\"\",D1402,\"\")","v":""},{"$f":"IF(E1402<>\"\",E1402,\"\")","v":""},{"$f":"IF(F1402<>\"\",F1402,\"\")","v":""},{"$f":"IF(N1402<>\"\",IF(D1403<>\"\",D1403,D1402),\"\")","v":""},{"$f":"IF(N1402<>\"\",IF(E1403<>\"\",E1403,E1402),\"\")","v":""},{"$f":"IF(N1402<>\"\",IF(F1403<>\"\",F1403,F1402),\"\")","v":""}]
[null,null,null,null,null,null,null,null,null,null,null,null,null,null,null,""]
[null,null,null,null,null,null,null,null,null,null,null,null,null,{"$f":"IF(A1404<>\"\",TEXT(A1404,\"\"),\"\")","v":""},{"$f":"IF(N1404=\"\",\"\",CONCATENATE(IF(C1404<>\"\",TEXT(C1404,\"\"),\"\"),\" - \",IF(K1404<>\"\",TEXT(K1404,\"\"),\"\")))","v":""},"",{"$f":"IF(D1404<>\"\",D1404,\"\")","v":""},{"$f":"IF(E1404<>\"\",E1404,\"\")","v":""},{"$f":"IF(F1404<>\"\",F1404,\"\")","v":""},{"$f":"IF(N1404<>\"\",IF(D1405<>\"\",D1405,D1404),\"\")","v":""},{"$f":"IF(N1404<>\"\",IF(E1405<>\"\",E1405,E1404),\"\")","v":""},{"$f":"IF(N1404<>\"\",IF(F1405<>\"\",F1405,F1404),\"\")","v":""}]
[null,null,null,null,null,null,null,null,null,null,null,null,null,null,null,""]
[null,null,null,null,null,null,null,null,null,null,null,null,null,{"$f":"IF(A1406<>\"\",TEXT(A1406,\"\"),\"\")","v":""},{"$f":"IF(N1406=\"\",\"\",CONCATENATE(IF(C1406<>\"\",TEXT(C1406,\"\"),\"\"),\" - \",IF(K1406<>\"\",TEXT(K1406,\"\"),\"\")))","v":""},"",{"$f":"IF(D1406<>\"\",D1406,\"\")","v":""},{"$f":"IF(E1406<>\"\",E1406,\"\")","v":""},{"$f":"IF(F1406<>\"\",F1406,\"\")","v":""},{"$f":"IF(N1406<>\"\",IF(D1407<>\"\",D1407,D1406),\"\")","v":""},{"$f":"IF(N1406<>\"\",IF(E1407<>\"\",E1407,E1406),\"\")","v":""},{"$f":"IF(N1406<>\"\",IF(F1407<>\"\",F1407,F1406),\"\")","v":""}]
[null,null,null,null,null,null,null,null,null,null,null,null,null,null,null,""]
[null,null,null,null,null,null,null,null,null,null,null,null,null,{"$f":"IF(A1408<>\"\",TEXT(A1408,\"\"),\"\")","v":""},{"$f":"IF(N1408=\"\",\"\",CONCATENATE(IF(C1408<>\"\",TEXT(C1408,\"\"),\"\"),\" - \",IF(K1408<>\"\",TEXT(K1408,\"\"),\"\")))","v":""},"",{"$f":"IF(D1408<>\"\",D1408,\"\")","v":""},{"$f":"IF(E1408<>\"\",E1408,\"\")","v":""},{"$f":"IF(F1408<>\"\",F1408,\"\")","v":""},{"$f":"IF(N1408<>\"\",IF(D1409<>\"\",D1409,D1408),\"\")","v":""},{"$f":"IF(N1408<>\"\",IF(E1409<>\"\",E1409,E1408),\"\")","v":""},{"$f":"IF(N1408<>\"\",IF(F1409<>\"\",F1409,F1408),\"\")","v":""}]
[null,null,null,null,null,null,null,null,null,null,null,null,null,null,null,""]
[null,null,null,null,null,null,null,null,null,null,null,null,null,{"$f":"IF(A1410<>\"\",TEXT(A1410,\"\"),\"\")","v":""},{"$f":"IF(N1410=\"\",\"\",CONCATENATE(IF(C1410<>\"\",TEXT(C1410,\"\"),\"\"),\" - \",IF(K1410<>\"\",TEXT(K1410,\"\"),\"\")))","v":""},"",{"$f":"IF(D1410<>\"\",D1410,\"\")","v":""},{"$f":"IF(E1410<>\"\",E1410,\"\")","v":""},{"$f":"IF(F1410<>\"\",F1410,\"\")","v":""},{"$f":"IF(N1410<>\"\",IF(D1411<>\"\",D1411,D1410),\"\")","v":""},{"$f":"IF(N1410<>\"\",IF(E1411<>\"\",E1411,E1410),\"\")","v":""},{"$f":"IF(N1410<>\"\",IF(F1411<>\"\",F1411,F1410),\"\")","v":""}]
[null,null,null,null,null,null,null,null,null,null,null,null,null,null,null,{"$f":"SUBSTITUTE(SUBSTITUTE(SUBSTITUTE(SUBSTITUTE(IF(L1411<>\"\",HLink(L1411),\"\"),\"htm\",\"html\"),\"1x2\",\"analysis\"),\"www\",\"www\"),\"com\",\"vip\")","v":""}]
[null,null,null,null,null,null,null,null,null,null,null,null,null,{"$f":"IF(A1412<>\"\",TEXT(A1412,\"\"),\"\")","v":""},{"$f":"IF(N1412=\"\",\"\",CONCATENATE(IF(C1412<>\"\",TEXT(C1412,\"\"),\"\"),\" - \",IF(K1412<>\"\",TEXT(K1412,\"\"),\"\")))","v":""},"",{"$f":"IF(D1412<>\"\",D1412,\"\")","v":""},{"$f":"IF(E1412<>\"\",E1412,\"\")","v":""},{"$f":"IF(F1412<>\"\",F1412,\"\")","v":""},{"$f":"IF(N1412<>\"\",IF(D1413<>\"\",D1413,D1412),\"\")","v":""},{"$f":"IF(N1412<>\"\",IF(E1413<>\"\",E1413,E1412),\"\")","v":""},{"$f":"IF(N1412<>\"\",IF(F1413<>\"\",F1413,F1412),\"\")","v":""}]
[null,null,null,null,null,null,null,null,null,null,null,null,null,null,null,""]
[null,null,null,null,null,null,null,null,null,null,null,null,null,{"$f":"IF(A1414<>\"\",TEXT(A1414,\"\"),\"\")","v":""},{"$f":"IF(N1414=\"\",\"\",CONCATENATE(IF(C1414<>\"\",TEXT(C1414,\"\"),\"\"),\" - \",IF(K1414<>\"\",TEXT(K1414,\"\"),\"\")))","v":""},"",{"$f":"IF(D1414<>\"\",D1414,\"\")","v":""},{"$f":"IF(E1414<>\"\",E1414,\"\")","v":""},{"$f":"IF(F1414<>\"\",F1414,\"\")","v":""},{"$f":"IF(N1414<>\"\",IF(D1415<>\"\",D1415,D1414),\"\")","v":""},{"$f":"IF(N1414<>\"\",IF(E1415<>\"\",E1415,E1414),\"\")","v":""},{"$f":"IF(N1414<>\"\",IF(F1415<>\"\",F1415,F1414),\"\")","v":""}]
[null,null,null,null,null,null,null,null,null,null,null,null,null,null,null,""]
[null,null,null,null,null,null,null,null,null,null,null,null,null,{"$f":"IF(A1416<>\"\",TEXT(A1416,\"\"),\"\")","v":""},{"$f":"IF(N1416=\"\",\"\",CONCATENATE(IF(C1416<>\"\",TEXT(C1416,\"\"),\"\"),\" - \",IF(K1416<>\"\",TEXT(K1416,\"\"),\"\")))","v":""},"",{"$f":"IF(D1416<>\"\",D1416,\"\")","v":""},{"$f":"IF(E1416<>\"\",E1416,\"\")","v":""},{"$f":"IF(F1416<>\"\",F1416,\"\")","v":""},{"$f":"IF(N1416<>\"\",IF(D1417<>\"\",D1417,D1416),\"\")","v":""},{"$f":"IF(N1416<>\"\",IF(E1417<>\"\",E1417,E1416),\"\")","v":""},{"$f":"IF(N1416<>\"\",IF(F1417<>\"\",F1417,F1416),\"\")","v":""}]
[null,null,null,null,null,null,null,null,null,null,null,null,null,null,null,""]
[null,null,null,null,null,null,null,null,null,null,null,null,null,{"$f":"IF(A1418<>\"\",TEXT(A1418,\"\"),\"\")","v":""},{"$f":"IF(N1418=\"\",\"\",CONCATENATE(IF(C1418<>\"\",TEXT(C1418,\"\"),\"\"),\" - \",IF(K1418<>\"\",TEXT(K1418,\"\"),\"\")))","v":""},"",{"$f":"IF(D1418<>\"\",D1418,\"\")","v":""},{"$f":"IF(E1418<>\"\",E1418,\"\")","v":""},{"$f":"IF(F1418<>\"\",F1418,\"\")","v":""},{"$f":"IF(N1418<>\"\",IF(D1419<>\"\",D1419,D1418),\"\")","v":""},{"$f":"IF(N1418<>\"\",IF(E1419<>\"\",E1419,E1418),\"\")","v":""},{"$f":"IF(N1418<>\"\",IF(F1419<>\"\",F1419,F1418),\"\")","v":""}]
[null,null,null,null,null,null,null,null,null,null,null,null,null,null,null,""]
[null,null,null,null,null,null,null,null,null,null,null,null,null,{"$f":"IF(A1420<>\"\",TEXT(A1420,\"\"),\"\")","v":""},{"$f":"IF(N1420=\"\",\"\",CONCATENATE(IF(C1420<>\"\",TEXT(C1420,\"\"),\"\"),\" - \",IF(K1420<>\"\",TEXT(K1420,\"\"),\"\")))","v":""},"",{"$f":"IF(D1420<>\"\",D1420,\"\")","v":""},{"$f":"IF(E1420<>\"\",E1420,\"\")","v":""},{"$f":"IF(F1420<>\"\",F1420,\"\")","v":""},{"$f":"IF(N1420<>\"\",IF(D1421<>\"\",D1421,D1420),\"\")","v":""},{"$f":"IF(N1420<>\"\",IF(E1421<>\"\",E1421,E1420),\"\")","v":""},{"$f":"IF(N1420<>\"\",IF(F1421<>\"\",F1421,F1420),\"\")","v":""}]
[null,null,null,null,null,null,null,null,null,null,null,null,null,null,null,""]
[null,null,null,null,null,null,null,null,null,null,null,null,null,{"$f":"IF(A1422<>\"\",TEXT(A1422,\"\"),\"\")","v":""},{"$f":"IF(N1422=\"\",\"\",CONCATENATE(IF(C1422<>\"\",TEXT(C1422,\"\"),\"\"),\" - \",IF(K1422<>\"\",TEXT(K1422,\"\"),\"\")))","v":""},"",{"$f":"IF(D1422<>\"\",D1422,\"\")","v":""},{"$f":"IF(E1422<>\"\",E1422,\"\")","v":""},{"$f":"IF(F1422<>\"\",F1422,\"\")","v":""},{"$f":"IF(N1422<>\"\",IF(D1423<>\"\",D1423,D1422),\"\")","v":""},{"$f":"IF(N1422<>\"\",IF(E1423<>\"\",E1423,E1422),\"\")","v":""},{"$f":"IF(N1422<>\"\",IF(F1423<>\"\",F1423,F1422),\"\")","v":""}]
[null,null,null,null,null,null,null,null,null,null,null,null,null,null,null,""]
[null,null,null,null,null,null,null,null,null,null,null,null,null,{"$f":"IF(A1424<>\"\",TEXT(A1424,\"\"),\"\")","v":""},{"$f":"IF(N1424=\"\",\"\",CONCATENATE(IF(C1424<>\"\",TEXT(C1424,\"\"),\"\"),\" - \",IF(K1424<>\"\",TEXT(K1424,\"\"),\"\")))","v":""},"",{"$f":"IF(D1424<>\"\",D1424,\"\")","v":""},{"$f":"IF(E1424<>\"\",E1424,\"\")","v":""},{"$f":"IF(F1424<>\"\",F1424,\"\")","v":""},{"$f":"IF(N1424<>\"\",IF(D1425<>\"\",D1425,D1424),\"\")","v":""},{"$f":"IF(N1424<>\"\",IF(E1425<>\"\",E1425,E1424),\"\")","v":""},{"$f":"IF(N1424<>\"\",IF(F1425<>\"\",F1425,F1424),\"\")","v":""}]
[null,null,null,null,null,null,null,null,null,null,null,null,null,null,null,""]
[null,null,null,null,null,null,null,null,null,null,null,null,null,{"$f":"IF(A1426<>\"\",TEXT(A1426,\"\"),\"\")","v":""},{"$f":"IF(N1426=\"\",\"\",CONCATENATE(IF(C1426<>\"\",TEXT(C1426,\"\"),\"\"),\" - \",IF(K1426<>\"\",TEXT(K1426,\"\"),\"\")))","v":""},"",{"$f":"IF(D1426<>\"\",D1426,\"\")","v":""},{"$f":"IF(E1426<>\"\",E1426,\"\")","v":""},{"$f":"IF(F1426<>\"\",F1426,\"\")","v":""},{"$f":"IF(N1426<>\"\",IF(D1427<>\"\",D1427,D1426),\"\")","v":""},{"$f":"IF(N1426<>\"\",IF(E1427<>\"\",E1427,E1426),\"\")","v":""},{"$f":"IF(N1426<>\"\",IF(F1427<>\"\",F1427,F1426),\"\")","v":""}]
[null,null,null,null,null,null,null,null,null,null,null,null,null,null,null,""]
[null,null,null,null,null,null,null,null,null,null,null,null,null,{"$f":"IF(A1428<>\"\",TEXT(A1428,\"\"),\"\")","v":""},{"$f":"IF(N1428=\"\",\"\",CONCATENATE(IF(C1428<>\"\",TEXT(C1428,\"\"),\"\"),\" - \",IF(K1428<>\"\",TEXT(K1428,\"\"),\"\")))","v":""},"",{"$f":"IF(D1428<>\"\",D1428,\"\")","v":""},{"$f":"IF(E1428<>\"\",E1428,\"\")","v":""},{"$f":"IF(F1428<>\"\",F1428,\"\")","v":""},{"$f":"IF(N1428<>\"\",IF(D1429<>\"\",D1429,D1428),\"\")","v":""},{"$f":"IF(N1428<>\"\",IF(E1429<>\"\",E1429,E1428),\"\")","v":""},{"$f":"IF(N1428<>\"\",IF(F1429<>\"\",F1429,F1428),\"\")","v":""}]
[null,null,null,null,null,null,null,null,null,null,null,null,null,null,null,""]
[null,null,null,null,null,null,null,null,null,null,null,null,null,{"$f":"IF(A1430<>\"\",TEXT(A1430,\"\"),\"\")","v":""},{"$f":"IF(N1430=\"\",\"\",CONCATENATE(IF(C1430<>\"\",TEXT(C1430,\"\"),\"\"),\" - \",IF(K1430<>\"\",TEXT(K1430,\"\"),\"\")))","v":""},"",{"$f":"IF(D1430<>\"\",D1430,\"\")","v":""},{"$f":"IF(E1430<>\"\",E1430,\"\")","v":""},{"$f":"IF(F1430<>\"\",F1430,\"\")","v":""},{"$f":"IF(N1430<>\"\",IF(D1431<>\"\",D1431,D1430),\"\")","v":""},{"$f":"IF(N1430<>\"\",IF(E1431<>\"\",E1431,E1430),\"\")","v":""},{"$f":"IF(N1430<>\"\",IF(F1431<>\"\",F1431,F1430),\"\")","v":""}]
[null,null,null,null,null,null,null,null,null,null,null,null,null,null,null,""]
[null,null,null,null,null,null,null,null,null,null,null,null,null,{"$f":"IF(A1432<>\"\",TEXT(A1432,\"\"),\"\")","v":""},{"$f":"IF(N1432=\"\",\"\",CONCATENATE(IF(C1432<>\"\",TEXT(C1432,\"\"),\"\"),\" - \",IF(K1432<>\"\",TEXT(K1432,\"\"),\"\")))","v":""},"",{"$f":"IF(D1432<>\"\",D1432,\"\")","v":""},{"$f":"IF(E1432<>\"\",E1432,\"\")","v":""},{"$f":"IF(F1432<>\"\",F1432,\"\")","v":""},{"$f":"IF(N1432<>\"\",IF(D1433<>\"\",D1433,D1432),\"\")","v":""},{"$f":"IF(N1432<>\"\",IF(E1433<>\"\",E1433,E1432),\"\")","v":""},{"$f":"IF(N1432<>\"\",IF(F1433<>\"\",F1433,F1432),\"\")","v":""}]
[null,null,null,null,null,null,null,null,null,null,null,null,null,null,null,""]
[null,null,null,null,null,null,null,null,null,null,null,null,null,{"$f":"IF(A1434<>\"\",TEXT(A1434,\"\"),\"\")","v":""},{"$f":"IF(N1434=\"\",\"\",CONCATENATE(IF(C1434<>\"\",TEXT(C1434,\"\"),\"\"),\" - \",IF(K1434<>\"\",TEXT(K1434,\"\"),\"\")))","v":""},"",{"$f":"IF(D1434<>\"\",D1434,\"\")","v":""},{"$f":"IF(E1434<>\"\",E1434,\"\")","v":""},{"$f":"IF(F1434<>\"\",F1434,\"\")","v":""},{"$f":"IF(N1434<>\"\",IF(D1435<>\"\",D1435,D1434),\"\")","v":""},{"$f":"IF(N1434<>\"\",IF(E1435<>\"\",E1435,E1434),\"\")","v":""},{"$f":"IF(N1434<>\"\",IF(F1435<>\"\",F1435,F1434),\"\")","v":""}]
[null,null,null,null,null,null,null,null,null,null,null,null,null,null,null,""]
[null,null,null,null,null,null,null,null,null,null,null,null,null,{"$f":"IF(A1436<>\"\",TEXT(A1436,\"\"),\"\")","v":""},{"$f":"IF(N1436=\"\",\"\",CONCATENATE(IF(C1436<>\"\",TEXT(C1436,\"\"),\"\"),\" - \",IF(K1436<>\"\",TEXT(K1436,\"\"),\"\")))","v":""},"",{"$f":"IF(D1436<>\"\",D1436,\"\")","v":""},{"$f":"IF(E1436<>\"\",E1436,\"\")","v":""},{"$f":"IF(F1436<>\"\",F1436,\"\")","v":""},{"$f":"IF(N1436<>\"\",IF(D1437<>\"\",D1437,D1436),\"\")","v":""},{"$f":"IF(N1436<>\"\",IF(E1437<>\"\",E1437,E1436),\"\")","v":""},{"$f":"IF(N1436<>\"\",IF(F1437<>\"\",F1437,F1436),\"\")","v":""}]
[null,null,null,null,null,null,null,null,null,null,null,null,null,null,null,""]
[null,null,null,null,null,null,null,null,null,null,null,null,null,{"$f":"IF(A1438<>\"\",TEXT(A1438,\"\"),\"\")","v":""},{"$f":"IF(N1438=\"\",\"\",CONCATENATE(IF(C1438<>\"\",TEXT(C1438,\"\"),\"\"),\" - \",IF(K1438<>\"\",TEXT(K1438,\"\"),\"\")))","v":""},"",{"$f":"IF(D1438<>\"\",D1438,\"\")","v":""},{"$f":"IF(E1438<>\"\",E1438,\"\")","v":""},{"$f":"IF(F1438<>\"\",F1438,\"\")","v":""},{"$f":"IF(N1438<>\"\",IF(D1439<>\"\",D1439,D1438),\"\")","v":""},{"$f":"IF(N1438<>\"\",IF(E1439<>\"\",E1439,E1438),\"\")","v":""},{"$f":"IF(N1438<>\"\",IF(F1439<>\"\",F1439,F1438),\"\")","v":""}]
[null,null,null,null,null,null,null,null,null,null,null,null,null,null,null,""]
[null,null,null,null,null,null,null,null,null,null,null,null,null,{"$f":"IF(A1440<>\"\",TEXT(A1440,\"\"),\"\")","v":""},{"$f":"IF(N1440=\"\",\"\",CONCATENATE(IF(C1440<>\"\",TEXT(C1440,\"\"),\"\"),\" - \",IF(K1440<>\"\",TEXT(K1440,\"\"),\"\")))","v":""},"",{"$f":"IF(D1440<>\"\",D1440,\"\")","v":""},{"$f":"IF(E1440<>\"\",E1440,\"\")","v":""},{"$f":"IF(F1440<>\"\",F1440,\"\")","v":""},{"$f":"IF(N1440<>\"\",IF(D1441<>\"\",D1441,D1440),\"\")","v":""},{"$f":"IF(N1440<>\"\",IF(E1441<>\"\",E1441,E1440),\"\")","v":""},{"$f":"IF(N1440<>\"\",IF(F1441<>\"\",F1441,F1440),\"\")","v":""}]
[null,null,null,null,null,null,null,null,null,null,null,null,null,null,null,""]
[null,null,null,null,null,null,null,null,null,null,null,null,null,{"$f":"IF(A1442<>\"\",TEXT(A1442,\"\"),\"\")","v":""},{"$f":"IF(N1442=\"\",\"\",CONCATENATE(IF(C1442<>\"\",TEXT(C1442,\"\"),\"\"),\" - \",IF(K1442<>\"\",TEXT(K1442,\"\"),\"\")))","v":""},"",{"$f":"IF(D1442<>\"\",D1442,\"\")","v":""},{"$f":"IF(E1442<>\"\",E1442,\"\")","v":""},{"$f":"IF(F1442<>\"\",F1442,\"\")","v":""},{"$f":"IF(N1442<>\"\",IF(D1443<>\"\",D1443,D1442),\"\")","v":""},{"$f":"IF(N1442<>\"\",IF(E1443<>\"\",E1443,E1442),\"\")","v":""},{"$f":"IF(N1442<>\"\",IF(F1443<>\"\",F1443,F1442),\"\")","v":""}]
[null,null,null,null,null,null,null,null,null,null,null,null,null,null,null,""]
[null,null,null,null,null,null,null,null,null,null,null,null,null,{"$f":"IF(A1444<>\"\",TEXT(A1444,\"\"),\"\")","v":""},{"$f":"IF(N1444=\"\",\"\",CONCATENATE(IF(C1444<>\"\",TEXT(C1444,\"\"),\"\"),\" - \",IF(K1444<>\"\",TEXT(K1444,\"\"),\"\")))","v":""},"",{"$f":"IF(D1444<>\"\",D1444,\"\")","v":""},{"$f":"IF(E1444<>\"\",E1444,\"\")","v":""},{"$f":"IF(F1444<>\"\",F1444,\"\")","v":""},{"$f":"IF(N1444<>\"\",IF(D1445<>\"\",D1445,D1444),\"\")","v":""},{"$f":"IF(N1444<>\"\",IF(E1445<>\"\",E1445,E1444),\"\")","v":""},{"$f":"IF(N1444<>\"\",IF(F1445<>\"\",F1445,F1444),\"\")","v":""}]
[null,null,null,null,null,null,null,null,null,null,null,null,null,null,null,""]
[null,null,null,null,null,null,null,null,null,null,null,null,null,{"$f":"IF(A1446<>\"\",TEXT(A1446,\"\"),\"\")","v":""},{"$f":"IF(N1446=\"\",\"\",CONCATENATE(IF(C1446<>\"\",TEXT(C1446,\"\"),\"\"),\" - \",IF(K1446<>\"\",TEXT(K1446,\"\"),\"\")))","v":""},"",{"$f":"IF(D1446<>\"\",D1446,\"\")","v":""},{"$f":"IF(E1446<>\"\",E1446,\"\")","v":""},{"$f":"IF(F1446<>\"\",F1446,\"\")","v":""},{"$f":"IF(N1446<>\"\",IF(D1447<>\"\",D1447,D1446),\"\")","v":""},{"$f":"IF(N1446<>\"\",IF(E1447<>\"\",E1447,E1446),\"\")","v":""},{"$f":"IF(N1446<>\"\",IF(F1447<>\"\",F1447,F1446),\"\")","v":""}]
[null,null,null,null,null,null,null,null,null,null,null,null,null,null,null,""]
[null,null,null,null,null,null,null,null,null,null,null,null,null,{"$f":"IF(A1448<>\"\",TEXT(A1448,\"\"),\"\")","v":""},{"$f":"IF(N1448=\"\",\"\",CONCATENATE(IF(C1448<>\"\",TEXT(C1448,\"\"),\"\"),\" - \",IF(K1448<>\"\",TEXT(K1448,\"\"),\"\")))","v":""},"",{"$f":"IF(D1448<>\"\",D1448,\"\")","v":""},{"$f":"IF(E1448<>\"\",E1448,\"\")","v":""},{"$f":"IF(F1448<>\"\",F1448,\"\")","v":""},{"$f":"IF(N1448<>\"\",IF(D1449<>\"\",D1449,D1448),\"\")","v":""},{"$f":"IF(N1448<>\"\",IF(E1449<>\"\",E1449,E1448),\"\")","v":""},{"$f":"IF(N1448<>\"\",IF(F1449<>\"\",F1449,F1448),\"\")","v":""}]
[null,null,null,null,null,null,null,null,null,null,null,null,null,null,null,""]
[null,null,null,null,null,null,null,null,null,null,null,null,null,{"$f":"IF(A1450<>\"\",TEXT(A1450,\"\"),\"\")","v":""},{"$f":"IF(N1450=\"\",\"\",CONCATENATE(IF(C1450<>\"\",TEXT(C1450,\"\"),\"\"),\" - \",IF(K1450<>\"\",TEXT(K1450,\"\"),\"\")))","v":""},"",{"$f":"IF(D1450<>\"\",D1450,\"\")","v":""},{"$f":"IF(E1450<>\"\",E1450,\"\")","v":""},{"$f":"IF(F1450<>\"\",F1450,\"\")","v":""},{"$f":"IF(N1450<>\"\",IF(D1451<>\"\",D1451,D1450),\"\")","v":""},{"$f":"IF(N1450<>\"\",IF(E1451<>\"\",E1451,E1450),\"\")","v":""},{"$f":"IF(N1450<>\"\",IF(F1451<>\"\",F1451,F1450),\"\")","v":""}]
[null,null,null,null,null,null,null,null,null,null,null,null,null,null,null,""]
[null,null,null,null,null,null,null,null,null,null,null,null,null,{"$f":"IF(A1452<>\"\",TEXT(A1452,\"\"),\"\")","v":""},{"$f":"IF(N1452=\"\",\"\",CONCATENATE(IF(C1452<>\"\",TEXT(C1452,\"\"),\"\"),\" - \",IF(K1452<>\"\",TEXT(K1452,\"\"),\"\")))","v":""},"",{"$f":"IF(D1452<>\"\",D1452,\"\")","v":""},{"$f":"IF(E1452<>\"\",E1452,\"\")","v":""},{"$f":"IF(F1452<>\"\",F1452,\"\")","v":""},{"$f":"IF(N1452<>\"\",IF(D1453<>\"\",D1453,D1452),\"\")","v":""},{"$f":"IF(N1452<>\"\",IF(E1453<>\"\",E1453,E1452),\"\")","v":""},{"$f":"IF(N1452<>\"\",IF(F1453<>\"\",F1453,F1452),\"\")","v":""}]
[null,null,null,null,null,null,null,null,null,null,null,null,null,null,null,""]
[null,null,null,null,null,null,null,null,null,null,null,null,null,{"$f":"IF(A1454<>\"\",TEXT(A1454,\"\"),\"\")","v":""},{"$f":"IF(N1454=\"\",\"\",CONCATENATE(IF(C1454<>\"\",TEXT(C1454,\"\"),\"\"),\" - \",IF(K1454<>\"\",TEXT(K1454,\"\"),\"\")))","v":""},"",{"$f":"IF(D1454<>\"\",D1454,\"\")","v":""},{"$f":"IF(E1454<>\"\",E1454,\"\")","v":""},{"$f":"IF(F1454<>\"\",F1454,\"\")","v":""},{"$f":"IF(N1454<>\"\",IF(D1455<>\"\",D1455,D1454),\"\")","v":""},{"$f":"IF(N1454<>\"\",IF(E1455<>\"\",E1455,E1454),\"\")","v":""},{"$f":"IF(N1454<>\"\",IF(F1455<>\"\",F1455,F1454),\"\")","v":""}]
[null,null,null,null,null,null,null,null,null,null,null,null,null,null,null,""]
[null,null,null,null,null,null,null,null,null,null,null,null,null,{"$f":"IF(A1456<>\"\",TEXT(A1456,\"\"),\"\")","v":""},{"$f":"IF(N1456=\"\",\"\",CONCATENATE(IF(C1456<>\"\",TEXT(C1456,\"\"),\"\"),\" - \",IF(K1456<>\"\",TEXT(K1456,\"\"),\"\")))","v":""},"",{"$f":"IF(D1456<>\"\",D1456,\"\")","v":""},{"$f":"IF(E1456<>\"\",E1456,\"\")","v":""},{"$f":"IF(F1456<>\"\",F1456,\"\")","v":""},{"$f":"IF(N1456<>\"\",IF(D1457<>\"\",D1457,D1456),\"\")","v":""},{"$f":"IF(N1456<>\"\",IF(E1457<>\"\",E1457,E1456),\"\")","v":""},{"$f":"IF(N1456<>\"\",IF(F1457<>\"\",F1457,F1456),\"\")","v":""}]
[null,null,null,null,null,null,null,null,null,null,null,null,null,null,null,""]
[null,null,null,null,null,null,null,null,null,null,null,null,null,{"$f":"IF(A1458<>\"\",TEXT(A1458,\"\"),\"\")","v":""},{"$f":"IF(N1458=\"\",\"\",CONCATENATE(IF(C1458<>\"\",TEXT(C1458,\"\"),\"\"),\" - \",IF(K1458<>\"\",TEXT(K1458,\"\"),\"\")))","v":""},"",{"$f":"IF(D1458<>\"\",D1458,\"\")","v":""},{"$f":"IF(E1458<>\"\",E1458,\"\")","v":""},{"$f":"IF(F1458<>\"\",F1458,\"\")","v":""},{"$f":"IF(N1458<>\"\",IF(D1459<>\"\",D1459,D1458),\"\")","v":""},{"$f":"IF(N1458<>\"\",IF(E1459<>\"\",E1459,E1458),\"\")","v":""},{"$f":"IF(N1458<>\"\",IF(F1459<>\"\",F1459,F1458),\"\")","v":""}]
[null,null,null,null,null,null,null,null,null,null,null,null,null,null,null,""]
[null,null,null,null,null,null,null,null,null,null,null,null,null,{"$f":"IF(A1460<>\"\",TEXT(A1460,\"\"),\"\")","v":""},{"$f":"IF(N1460=\"\",\"\",CONCATENATE(IF(C1460<>\"\",TEXT(C1460,\"\"),\"\"),\" - \",IF(K1460<>\"\",TEXT(K1460,\"\"),\"\")))","v":""},"",{"$f":"IF(D1460<>\"\",D1460,\"\")","v":""},{"$f":"IF(E1460<>\"\",E1460,\"\")","v":""},{"$f":"IF(F1460<>\"\",F1460,\"\")","v":""},{"$f":"IF(N1460<>\"\",IF(D1461<>\"\",D1461,D1460),\"\")","v":""},{"$f":"IF(N1460<>\"\",IF(E1461<>\"\",E1461,E1460),\"\")","v":""},{"$f":"IF(N1460<>\"\",IF(F1461<>\"\",F1461,F1460),\"\")","v":""}]
[null,null,null,null,null,null,null,null,null,null,null,null,null,null,null,""]
[null,null,null,null,null,null,null,null,null,null,null,null,null,{"$f":"IF(A1462<>\"\",TEXT(A1462,\"\"),\"\")","v":""},{"$f":"IF(N1462=\"\",\"\",CONCATENATE(IF(C1462<>\"\",TEXT(C1462,\"\"),\"\"),\" - \",IF(K1462<>\"\",TEXT(K1462,\"\"),\"\")))","v":""},"",{"$f":"IF(D1462<>\"\",D1462,\"\")","v":""},{"$f":"IF(E1462<>\"\",E1462,\"\")","v":""},{"$f":"IF(F1462<>\"\",F1462,\"\")","v":""},{"$f":"IF(N1462<>\"\",IF(D1463<>\"\",D1463,D1462),\"\")","v":""},{"$f":"IF(N1462<>\"\",IF(E1463<>\"\",E1463,E1462),\"\")","v":""},{"$f":"IF(N1462<>\"\",IF(F1463<>\"\",F1463,F1462),\"\")","v":""}]
[null,null,null,null,null,null,null,null,null,null,null,null,null,null,null,""]
[null,null,null,null,null,null,null,null,null,null,null,null,null,{"$f":"IF(A1464<>\"\",TEXT(A1464,\"\"),\"\")","v":""},{"$f":"IF(N1464=\"\",\"\",CONCATENATE(IF(C1464<>\"\",TEXT(C1464,\"\"),\"\"),\" - \",IF(K1464<>\"\",TEXT(K1464,\"\"),\"\")))","v":""},"",{"$f":"IF(D1464<>\"\",D1464,\"\")","v":""},{"$f":"IF(E1464<>\"\",E1464,\"\")","v":""},{"$f":"IF(F1464<>\"\",F1464,\"\")","v":""},{"$f":"IF(N1464<>\"\",IF(D1465<>\"\",D1465,D1464),\"\")","v":""},{"$f":"IF(N1464<>\"\",IF(E1465<>\"\",E1465,E1464),\"\")","v":""},{"$f":"IF(N1464<>\"\",IF(F1465<>\"\",F1465,F1464),\"\")","v":""}]
[null,null,null,null,null,null,null,null,null,null,null,null,null,null,null,""]
[null,null,null,null,null,null,null,null,null,null,null,null,null,{"$f":"IF(A1466<>\"\",TEXT(A1466,\"\"),\"\")","v":""},{"$f":"IF(N1466=\"\",\"\",CONCATENATE(IF(C1466<>\"\",TEXT(C1466,\"\"),\"\"),\" - \",IF(K1466<>\"\",TEXT(K1466,\"\"),\"\")))","v":""},"",{"$f":"IF(D1466<>\"\",D1466,\"\")","v":""},{"$f":"IF(E1466<>\"\",E1466,\"\")","v":""},{"$f":"IF(F1466<>\"\",F1466,\"\")","v":""},{"$f":"IF(N1466<>\"\",IF(D1467<>\"\",D1467,D1466),\"\")","v":""},{"$f":"IF(N1466<>\"\",IF(E1467<>\"\",E1467,E1466),\"\")","v":""},{"$f":"IF(N1466<>\"\",IF(F1467<>\"\",F1467,F1466),\"\")","v":""}]
[null,null,null,null,null,null,null,null,null,null,null,null,null,null,null,""]
[null,null,null,null,null,null,null,null,null,null,null,null,null,{"$f":"IF(A1468<>\"\",TEXT(A1468,\"\"),\"\")","v":""},{"$f":"IF(N1468=\"\",\"\",CONCATENATE(IF(C1468<>\"\",TEXT(C1468,\"\"),\"\"),\" - \",IF(K1468<>\"\",TEXT(K1468,\"\"),\"\")))","v":""},"",{"$f":"IF(D1468<>\"\",D1468,\"\")","v":""},{"$f":"IF(E1468<>\"\",E1468,\"\")","v":""},{"$f":"IF(F1468<>\"\",F1468,\"\")","v":""},{"$f":"IF(N1468<>\"\",IF(D1469<>\"\",D1469,D1468),\"\")","v":""},{"$f":"IF(N1468<>\"\",IF(E1469<>\"\",E1469,E1468),\"\")","v":""},{"$f":"IF(N1468<>\"\",IF(F1469<>\"\",F1469,F1468),\"\")","v":""}]
[null,null,null,null,null,null,null,null,null,null,null,null,null,null,null,""]
[null,null,null,null,null,null,null,null,null,null,null,null,null,{"$f":"IF(A1470<>\"\",TEXT(A1470,\"\"),\"\")","v":""},{"$f":"IF(N1470=\"\",\"\",CONCATENATE(IF(C1470<>\"\",TEXT(C1470,\"\"),\"\"),\" - \",IF(K1470<>\"\",TEXT(K1470,\"\"),\"\")))","v":""},"",{"$f":"IF(D1470<>\"\",D1470,\"\")","v":""},{"$f":"IF(E1470<>\"\",E1470,\"\")","v":""},{"$f":"IF(F1470<>\"\",F1470,\"\")","v":""},{"$f":"IF(N1470<>\"\",IF(D1471<>\"\",D1471,D1470),\"\")","v":""},{"$f":"IF(N1470<>\"\",IF(E1471<>\"\",E1471,E1470),\"\")","v":""},{"$f":"IF(N1470<>\"\",IF(F1471<>\"\",F1471,F1470),\"\")","v":""}]
[null,null,null,null,null,null,null,null,null,null,null,null,null,null,null,""]
[null,null,null,null,null,null,null,null,null,null,null,null,null,{"$f":"IF(A1472<>\"\",TEXT(A1472,\"\"),\"\")","v":""},{"$f":"IF(N1472=\"\",\"\",CONCATENATE(IF(C1472<>\"\",TEXT(C1472,\"\"),\"\"),\" - \",IF(K1472<>\"\",TEXT(K1472,\"\"),\"\")))","v":""},"",{"$f":"IF(D1472<>\"\",D1472,\"\")","v":""},{"$f":"IF(E1472<>\"\",E1472,\"\")","v":""},{"$f":"IF(F1472<>\"\",F1472,\"\")","v":""},{"$f":"IF(N1472<>\"\",IF(D1473<>\"\",D1473,D1472),\"\")","v":""},{"$f":"IF(N1472<>\"\",IF(E1473<>\"\",E1473,E1472),\"\")","v":""},{"$f":"IF(N1472<>\"\",IF(F1473<>\"\",F1473,F1472),\"\")","v":""}]
[null,null,null,null,null,null,null,null,null,null,null,null,null,null,null,""]
[null,null,null,null,null,null,null,null,null,null,null,null,null,{"$f":"IF(A1474<>\"\",TEXT(A1474,\"\"),\"\")","v":""},{"$f":"IF(N1474=\"\",\"\",CONCATENATE(IF(C1474<>\"\",TEXT(C1474,\"\"),\"\"),\" - \",IF(K1474<>\"\",TEXT(K1474,\"\"),\"\")))","v":""},"",{"$f":"IF(D1474<>\"\",D1474,\"\")","v":""},{"$f":"IF(E1474<>\"\",E1474,\"\")","v":""},{"$f":"IF(F1474<>\"\",F1474,\"\")","v":""},{"$f":"IF(N1474<>\"\",IF(D1475<>\"\",D1475,D1474),\"\")","v":""},{"$f":"IF(N1474<>\"\",IF(E1475<>\"\",E1475,E1474),\"\")","v":""},{"$f":"IF(N1474<>\"\",IF(F1475<>\"\",F1475,F1474),\"\")","v":""}]
[null,null,null,null,null,null,null,null,null,null,null,null,null,null,null,{"$f":"SUBSTITUTE(SUBSTITUTE(SUBSTITUTE(SUBSTITUTE(IF(L1475<>\"\",HLink(L1475),\"\"),\"htm\",\"html\"),\"1x2\",\"analysis\"),\"www\",\"www\"),\"com\",\"vip\")","v":""}]
[null,null,null,null,null,null,null,null,null,null,null,null,null,{"$f":"IF(A1476<>\"\",TEXT(A1476,\"\"),\"\")","v":""},{"$f":"IF(N1476=\"\",\"\",CONCATENATE(IF(C1476<>\"\",TEXT(C1476,\"\"),\"\"),\" - \",IF(K1476<>\"\",TEXT(K1476,\"\"),\"\")))","v":""},"",{"$f":"IF(D1476<>\"\",D1476,\"\")","v":""},{"$f":"IF(E1476<>\"\",E1476,\"\")","v":""},{"$f":"IF(F1476<>\"\",F1476,\"\")","v":""},{"$f":"IF(N1476<>\"\",IF(D1477<>\"\",D1477,D1476),\"\")","v":""},{"$f":"IF(N1476<>\"\",IF(E1477<>\"\",E1477,E1476),\"\")","v":""},{"$f":"IF(N1476<>\"\",IF(F1477<>\"\",F1477,F1476),\"\")","v":""}]
[null,null,null,null,null,null,null,null,null,null,null,null,null,null,null,""]
[null,null,null,null,null,null,null,null,null,null,null,null,null,{"$f":"IF(A1478<>\"\",TEXT(A1478,\"\"),\"\")","v":""},{"$f":"IF(N1478=\"\",\"\",CONCATENATE(IF(C1478<>\"\",TEXT(C1478,\"\"),\"\"),\" - \",IF(K1478<>\"\",TEXT(K1478,\"\"),\"\")))","v":""},"",{"$f":"IF(D1478<>\"\",D1478,\"\")","v":""},{"$f":"IF(E1478<>\"\",E1478,\"\")","v":""},{"$f":"IF(F1478<>\"\",F1478,\"\")","v":""},{"$f":"IF(N1478<>\"\",IF(D1479<>\"\",D1479,D1478),\"\")","v":""},{"$f":"IF(N1478<>\"\",IF(E1479<>\"\",E1479,E1478),\"\")","v":""},{"$f":"IF(N1478<>\"\",IF(F1479<>\"\",F1479,F1478),\"\")","v":""}]
[null,null,null,null,null,null,null,null,null,null,null,null,null,null,null,""]
[null,null,null,null,null,null,null,null,null,null,null,null,null,{"$f":"IF(A1480<>\"\",TEXT(A1480,\"\"),\"\")","v":""},{"$f":"IF(N1480=\"\",\"\",CONCATENATE(IF(C1480<>\"\",TEXT(C1480,\"\"),\"\"),\" - \",IF(K1480<>\"\",TEXT(K1480,\"\"),\"\")))","v":""},"",{"$f":"IF(D1480<>\"\",D1480,\"\")","v":""},{"$f":"IF(E1480<>\"\",E1480,\"\")","v":""},{"$f":"IF(F1480<>\"\",F1480,\"\")","v":""},{"$f":"IF(N1480<>\"\",IF(D1481<>\"\",D1481,D1480),\"\")","v":""},{"$f":"IF(N1480<>\"\",IF(E1481<>\"\",E1481,E1480),\"\")","v":""},{"$f":"IF(N1480<>\"\",IF(F1481<>\"\",F1481,F1480),\"\")","v":""}]
[null,null,null,null,null,null,null,null,null,null,null,null,null,null,null,""]
[null,null,null,null,null,null,null,null,null,null,null,null,null,{"$f":"IF(A1482<>\"\",TEXT(A1482,\"\"),\"\")","v":""},{"$f":"IF(N1482=\"\",\"\",CONCATENATE(IF(C1482<>\"\",TEXT(C1482,\"\"),\"\"),\" - \",IF(K1482<>\"\",TEXT(K1482,\"\"),\"\")))","v":""},"",{"$f":"IF(D1482<>\"\",D1482,\"\")","v":""},{"$f":"IF(E1482<>\"\",E1482,\"\")","v":""},{"$f":"IF(F1482<>\"\",F1482,\"\")","v":""},{"$f":"IF(N1482<>\"\",IF(D1483<>\"\",D1483,D1482),\"\")","v":""},{"$f":"IF(N1482<>\"\",IF(E1483<>\"\",E1483,E1482),\"\")","v":""},{"$f":"IF(N1482<>\"\",IF(F1483<>\"\",F1483,F1482),\"\")","v":""}]
[null,null,null,null,null,null,null,null,null,null,null,null,null,null,null,""]
[null,null,null,null,null,null,null,null,null,null,null,null,null,{"$f":"IF(A1484<>\"\",TEXT(A1484,\"\"),\"\")","v":""},{"$f":"IF(N1484=\"\",\"\",CONCATENATE(IF(C1484<>\"\",TEXT(C1484,\"\"),\"\"),\" - \",IF(K1484<>\"\",TEXT(K1484,\"\"),\"\")))","v":""},"",{"$f":"IF(D1484<>\"\",D1484,\"\")","v":""},{"$f":"IF(E1484<>\"\",E1484,\"\")","v":""},{"$f":"IF(F1484<>\"\",F1484,\"\")","v":""},{"$f":"IF(N1484<>\"\",IF(D1485<>\"\",D1485,D1484),\"\")","v":""},{"$f":"IF(N1484<>\"\",IF(E1485<>\"\",E1485,E1484),\"\")","v":""},{"$f":"IF(N1484<>\"\",IF(F1485<>\"\",F1485,F1484),\"\")","v":""}]
[null,null,null,null,null,null,null,null,null,null,null,null,null,null,null,""]
[null,null,null,null,null,null,null,null,null,null,null,null,null,{"$f":"IF(A1486<>\"\",TEXT(A1486,\"\"),\"\")","v":""},{"$f":"IF(N1486=\"\",\"\",CONCATENATE(IF(C1486<>\"\",TEXT(C1486,\"\"),\"\"),\" - \",IF(K1486<>\"\",TEXT(K1486,\"\"),\"\")))","v":""},"",{"$f":"IF(D1486<>\"\",D1486,\"\")","v":""},{"$f":"IF(E1486<>\"\",E1486,\"\")","v":""},{"$f":"IF(F1486<>\"\",F1486,\"\")","v":""},{"$f":"IF(N1486<>\"\",IF(D1487<>\"\",D1487,D1486),\"\")","v":""},{"$f":"IF(N1486<>\"\",IF(E1487<>\"\",E1487,E1486),\"\")","v":""},{"$f":"IF(N1486<>\"\",IF(F1487<>\"\",F1487,F1486),\"\")","v":""}]
[null,null,null,null,null,null,null,null,null,null,null,null,null,null,null,""]
[null,null,null,null,null,null,null,null,null,null,null,null,null,{"$f":"IF(A1488<>\"\",TEXT(A1488,\"\"),\"\")","v":""},{"$f":"IF(N1488=\"\",\"\",CONCATENATE(IF(C1488<>\"\",TEXT(C1488,\"\"),\"\"),\" - \",IF(K1488<>\"\",TEXT(K1488,\"\"),\"\")))","v":""},"",{"$f":"IF(D1488<>\"\",D1488,\"\")","v":""},{"$f":"IF(E1488<>\"\",E1488,\"\")","v":""},{"$f":"IF(F1488<>\"\",F1488,\"\")","v":""},{"$f":"IF(N1488<>\"\",IF(D1489<>\"\",D1489,D1488),\"\")","v":""},{"$f":"IF(N1488<>\"\",IF(E1489<>\"\",E1489,E1488),\"\")","v":""},{"$f":"IF(N1488<>\"\",IF(F1489<>\"\",F1489,F1488),\"\")","v":""}]
[null,null,null,null,null,null,null,null,null,null,null,null,null,null,null,""]
[null,null,null,null,null,null,null,null,null,null,null,null,null,{"$f":"IF(A1490<>\"\",TEXT(A1490,\"\"),\"\")","v":""},{"$f":"IF(N1490=\"\",\"\",CONCATENATE(IF(C1490<>\"\",TEXT(C1490,\"\"),\"\"),\" - \",IF(K1490<>\"\",TEXT(K1490,\"\"),\"\")))","v":""},"",{"$f":"IF(D1490<>\"\",D1490,\"\")","v":""},{"$f":"IF(E1490<>\"\",E1490,\"\")","v":""},{"$f":"IF(F1490<>\"\",F1490,\"\")","v":""},{"$f":"IF(N1490<>\"\",IF(D1491<>\"\",D1491,D1490),\"\")","v":""},{"$f":"IF(N1490<>\"\",IF(E1491<>\"\",E1491,E1490),\"\")","v":""},{"$f":"IF(N1490<>\"\",IF(F1491<>\"\",F1491,F1490),\"\")","v":""}]
[null,null,null,null,null,null,null,null,null,null,null,null,null,null,null,""]
[null,null,null,null,null,null,null,null,null,null,null,null,null,{"$f":"IF(A1492<>\"\",TEXT(A1492,\"\"),\"\")","v":""},{"$f":"IF(N1492=\"\",\"\",CONCATENATE(IF(C1492<>\"\",TEXT(C1492,\"\"),\"\"),\" - \",IF(K1492<>\"\",TEXT(K1492,\"\"),\"\")))","v":""},"",{"$f":"IF(D1492<>\"\",D1492,\"\")","v":""},{"$f":"IF(E1492<>\"\",E1492,\"\")","v":""},{"$f":"IF(F1492<>\"\",F1492,\"\")","v":""},{"$f":"IF(N1492<>\"\",IF(D1493<>\"\",D1493,D1492),\"\")","v":""},{"$f":"IF(N1492<>\"\",IF(E1493<>\"\",E1493,E1492),\"\")","v":""},{"$f":"IF(N1492<>\"\",IF(F1493<>\"\",F1493,F1492),\"\")","v":""}]
[null,null,null,null,null,null,null,null,null,null,null,null,null,null,null,""]
[null,null,null,null,null,null,null,null,null,null,null,null,null,{"$f":"IF(A1494<>\"\",TEXT(A1494,\"\"),\"\")","v":""},{"$f":"IF(N1494=\"\",\"\",CONCATENATE(IF(C1494<>\"\",TEXT(C1494,\"\"),\"\"),\" - \",IF(K1494<>\"\",TEXT(K1494,\"\"),\"\")))","v":""},"",{"$f":"IF(D1494<>\"\",D1494,\"\")","v":""},{"$f":"IF(E1494<>\"\",E1494,\"\")","v":""},{"$f":"IF(F1494<>\"\",F1494,\"\")","v":""},{"$f":"IF(N1494<>\"\",IF(D1495<>\"\",D1495,D1494),\"\")","v":""},{"$f":"IF(N1494<>\"\",IF(E1495<>\"\",E1495,E1494),\"\")","v":""},{"$f":"IF(N1494<>\"\",IF(F1495<>\"\",F1495,F1494),\"\")","v":""}]
[null,null,null,null,null,null,null,null,null,null,null,null,null,null,null,""]
[null,null,null,null,null,null,null,null,null,null,null,null,null,{"$f":"IF(A1496<>\"\",TEXT(A1496,\"\"),\"\")","v":""},{"$f":"IF(N1496=\"\",\"\",CONCATENATE(IF(C1496<>\"\",TEXT(C1496,\"\"),\"\"),\" - \",IF(K1496<>\"\",TEXT(K1496,\"\"),\"\")))","v":""},"",{"$f":"IF(D1496<>\"\",D1496,\"\")","v":""},{"$f":"IF(E1496<>\"\",E1496,\"\")","v":""},{"$f":"IF(F1496<>\"\",F1496,\"\")","v":""},{"$f":"IF(N1496<>\"\",IF(D1497<>\"\",D1497,D1496),\"\")","v":""},{"$f":"IF(N1496<>\"\",IF(E1497<>\"\",E1497,E1496),\"\")","v":""},{"$f":"IF(N1496<>\"\",IF(F1497<>\"\",F1497,F1496),\"\")","v":""}]
[null,null,null,null,null,null,null,null,null,null,null,null,null,null,null,""]
[null,null,null,null,null,null,null,null,null,null,null,null,null,{"$f":"IF(A1498<>\"\",TEXT(A1498,\"\"),\"\")","v":""},{"$f":"IF(N1498=\"\",\"\",CONCATENATE(IF(C1498<>\"\",TEXT(C1498,\"\"),\"\"),\" - \",IF(K1498<>\"\",TEXT(K1498,\"\"),\"\")))","v":""},"",{"$f":"IF(D1498<>\"\",D1498,\"\")","v":""},{"$f":"IF(E1498<>\"\",E1498,\"\")","v":""},{"$f":"IF(F1498<>\"\",F1498,\"\")","v":""},{"$f":"IF(N1498<>\"\",IF(D1499<>\"\",D1499,D1498),\"\")","v":""},{"$f":"IF(N1498<>\"\",IF(E1499<>\"\",E1499,E1498),\"\")","v":""},{"$f":"IF(N1498<>\"\",IF(F1499<>\"\",F1499,F1498),\"\")","v":""}]
[null,null,null,null,null,null,null,null,null,null,null,null,null,null,null,""]
[null,null,null,null,null,null,null,null,null,null,null,null,null,{"$f":"IF(A1500<>\"\",TEXT(A1500,\"\"),\"\")","v":""},{"$f":"IF(N1500=\"\",\"\",CONCATENATE(IF(C1500<>\"\",TEXT(C1500,\"\"),\"\"),\" - \",IF(K1500<>\"\",TEXT(K1500,\"\"),\"\")))","v":""},"",{"$f":"IF(D1500<>\"\",D1500,\"\")","v":""},{"$f":"IF(E1500<>\"\",E1500,\"\")","v":""},{"$f":"IF(F1500<>\"\",F1500,\"\")","v":""},{"$f":"IF(N1500<>\"\",IF(D1501<>\"\",D1501,D1500),\"\")","v":""},{"$f":"IF(N1500<>\"\",IF(E1501<>\"\",E1501,E1500),\"\")","v":""},{"$f":"IF(N1500<>\"\",IF(F1501<>\"\",F1501,F1500),\"\")","v":""}]
[null,null,null,null,null,null,null,null,null,null,null,null,null,null,null,""]
[null,null,null,null,null,null,null,null,null,null,null,null,null,{"$f":"IF(A1502<>\"\",TEXT(A1502,\"\"),\"\")","v":""},{"$f":"IF(N1502=\"\",\"\",CONCATENATE(IF(C1502<>\"\",TEXT(C1502,\"\"),\"\"),\" - \",IF(K1502<>\"\",TEXT(K1502,\"\"),\"\")))","v":""},"",{"$f":"IF(D1502<>\"\",D1502,\"\")","v":""},{"$f":"IF(E1502<>\"\",E1502,\"\")","v":""},{"$f":"IF(F1502<>\"\",F1502,\"\")","v":""},{"$f":"IF(N1502<>\"\",IF(D1503<>\"\",D1503,D1502),\"\")","v":""},{"$f":"IF(N1502<>\"\",IF(E1503<>\"\",E1503,E1502),\"\")","v":""},{"$f":"IF(N1502<>\"\",IF(F1503<>\"\",F1503,F1502),\"\")","v":""}]
[null,null,null,null,null,null,null,null,null,null,null,null,null,null,null,""]
[null,null,null,null,null,null,null,null,null,null,null,null,null,{"$f":"IF(A1504<>\"\",TEXT(A1504,\"\"),\"\")","v":""},{"$f":"IF(N1504=\"\",\"\",CONCATENATE(IF(C1504<>\"\",TEXT(C1504,\"\"),\"\"),\" - \",IF(K1504<>\"\",TEXT(K1504,\"\"),\"\")))","v":""},"",{"$f":"IF(D1504<>\"\",D1504,\"\")","v":""},{"$f":"IF(E1504<>\"\",E1504,\"\")","v":""},{"$f":"IF(F1504<>\"\",F1504,\"\")","v":""},{"$f":"IF(N1504<>\"\",IF(D1505<>\"\",D1505,D1504),\"\")","v":""},{"$f":"IF(N1504<>\"\",IF(E1505<>\"\",E1505,E1504),\"\")","v":""},{"$f":"IF(N1504<>\"\",IF(F1505<>\"\",F1505,F1504),\"\")","v":""}]
[null,null,null,null,null,null,null,null,null,null,null,null,null,null,null,""]
[null,null,null,null,null,null,null,null,null,null,null,null,null,{"$f":"IF(A1506<>\"\",TEXT(A1506,\"\"),\"\")","v":""},{"$f":"IF(N1506=\"\",\"\",CONCATENATE(IF(C1506<>\"\",TEXT(C1506,\"\"),\"\"),\" - \",IF(K1506<>\"\",TEXT(K1506,\"\"),\"\")))","v":""},"",{"$f":"IF(D1506<>\"\",D1506,\"\")","v":""},{"$f":"IF(E1506<>\"\",E1506,\"\")","v":""},{"$f":"IF(F1506<>\"\",F1506,\"\")","v":""},{"$f":"IF(N1506<>\"\",IF(D1507<>\"\",D1507,D1506),\"\")","v":""},{"$f":"IF(N1506<>\"\",IF(E1507<>\"\",E1507,E1506),\"\")","v":""},{"$f":"IF(N1506<>\"\",IF(F1507<>\"\",F1507,F1506),\"\")","v":""}]
[null,null,null,null,null,null,null,null,null,null,null,null,null,null,null,""]
[null,null,null,null,null,null,null,null,null,null,null,null,null,{"$f":"IF(A1508<>\"\",TEXT(A1508,\"\"),\"\")","v":""},{"$f":"IF(N1508=\"\",\"\",CONCATENATE(IF(C1508<>\"\",TEXT(C1508,\"\"),\"\"),\" - \",IF(K1508<>\"\",TEXT(K1508,\"\"),\"\")))","v":""},"",{"$f":"IF(D1508<>\"\",D1508,\"\")","v":""},{"$f":"IF(E1508<>\"\",E1508,\"\")","v":""},{"$f":"IF(F1508<>\"\",F1508,\"\")","v":""},{"$f":"IF(N1508<>\"\",IF(D1509<>\"\",D1509,D1508),\"\")","v":""},{"$f":"IF(N1508<>\"\",IF(E1509<>\"\",E1509,E1508),\"\")","v":""},{"$f":"IF(N1508<>\"\",IF(F1509<>\"\",F1509,F1508),\"\")","v":""}]
[null,null,null,null,null,null,null,null,null,null,null,null,null,null,null,""]
[null,null,null,null,null,null,null,null,null,null,null,null,null,{"$f":"IF(A1510<>\"\",TEXT(A1510,\"\"),\"\")","v":""},{"$f":"IF(N1510=\"\",\"\",CONCATENATE(IF(C1510<>\"\",TEXT(C1510,\"\"),\"\"),\" - \",IF(K1510<>\"\",TEXT(K1510,\"\"),\"\")))","v":""},"",{"$f":"IF(D1510<>\"\",D1510,\"\")","v":""},{"$f":"IF(E1510<>\"\",E1510,\"\")","v":""},{"$f":"IF(F1510<>\"\",F1510,\"\")","v":""},{"$f":"IF(N1510<>\"\",IF(D1511<>\"\",D1511,D1510),\"\")","v":""},{"$f":"IF(N1510<>\"\",IF(E1511<>\"\",E1511,E1510),\"\")","v":""},{"$f":"IF(N1510<>\"\",IF(F1511<>\"\",F1511,F1510),\"\")","v":""}]
[null,null,null,null,null,null,null,null,null,null,null,null,null,null,null,""]
[null,null,null,null,null,null,null,null,null,null,null,null,null,{"$f":"IF(A1512<>\"\",TEXT(A1512,\"\"),\"\")","v":""},{"$f":"IF(N1512=\"\",\"\",CONCATENATE(IF(C1512<>\"\",TEXT(C1512,\"\"),\"\"),\" - \",IF(K1512<>\"\",TEXT(K1512,\"\"),\"\")))","v":""},"",{"$f":"IF(D1512<>\"\",D1512,\"\")","v":""},{"$f":"IF(E1512<>\"\",E1512,\"\")","v":""},{"$f":"IF(F1512<>\"\",F1512,\"\")","v":""},{"$f":"IF(N1512<>\"\",IF(D1513<>\"\",D1513,D1512),\"\")","v":""},{"$f":"IF(N1512<>\"\",IF(E1513<>\"\",E1513,E1512),\"\")","v":""},{"$f":"IF(N1512<>\"\",IF(F1513<>\"\",F1513,F1512),\"\")","v":""}]
[null,null,null,null,null,null,null,null,null,null,null,null,null,null,null,""]
[null,null,null,null,null,null,null,null,null,null,null,null,null,{"$f":"IF(A1514<>\"\",TEXT(A1514,\"\"),\"\")","v":""},{"$f":"IF(N1514=\"\",\"\",CONCATENATE(IF(C1514<>\"\",TEXT(C1514,\"\"),\"\"),\" - \",IF(K1514<>\"\",TEXT(K1514,\"\"),\"\")))","v":""},"",{"$f":"IF(D1514<>\"\",D1514,\"\")","v":""},{"$f":"IF(E1514<>\"\",E1514,\"\")","v":""},{"$f":"IF(F1514<>\"\",F1514,\"\")","v":""},{"$f":"IF(N1514<>\"\",IF(D1515<>\"\",D1515,D1514),\"\")","v":""},{"$f":"IF(N1514<>\"\",IF(E1515<>\"\",E1515,E1514),\"\")","v":""},{"$f":"IF(N1514<>\"\",IF(F1515<>\"\",F1515,F1514),\"\")","v":""}]
[null,null,null,null,null,null,null,null,null,null,null,null,null,null,null,""]
[null,null,null,null,null,null,null,null,null,null,null,null,null,{"$f":"IF(A1516<>\"\",TEXT(A1516,\"\"),\"\")","v":""},{"$f":"IF(N1516=\"\",\"\",CONCATENATE(IF(C1516<>\"\",TEXT(C1516,\"\"),\"\"),\" - \",IF(K1516<>\"\",TEXT(K1516,\"\"),\"\")))","v":""},"",{"$f":"IF(D1516<>\"\",D1516,\"\")","v":""},{"$f":"IF(E1516<>\"\",E1516,\"\")","v":""},{"$f":"IF(F1516<>\"\",F1516,\"\")","v":""},{"$f":"IF(N1516<>\"\",IF(D1517<>\"\",D1517,D1516),\"\")","v":""},{"$f":"IF(N1516<>\"\",IF(E1517<>\"\",E1517,E1516),\"\")","v":""},{"$f":"IF(N1516<>\"\",IF(F1517<>\"\",F1517,F1516),\"\")","v":""}]
[null,null,null,null,null,null,null,null,null,null,null,null,null,null,null,""]
[null,null,null,null,null,null,null,null,null,null,null,null,null,{"$f":"IF(A1518<>\"\",TEXT(A1518,\"\"),\"\")","v":""},{"$f":"IF(N1518=\"\",\"\",CONCATENATE(IF(C1518<>\"\",TEXT(C1518,\"\"),\"\"),\" - \",IF(K1518<>\"\",TEXT(K1518,\"\"),\"\")))","v":""},"",{"$f":"IF(D1518<>\"\",D1518,\"\")","v":""},{"$f":"IF(E1518<>\"\",E1518,\"\")","v":""},{"$f":"IF(F1518<>\"\",F1518,\"\")","v":""},{"$f":"IF(N1518<>\"\",IF(D1519<>\"\",D1519,D1518),\"\")","v":""},{"$f":"IF(N1518<>\"\",IF(E1519<>\"\",E1519,E1518),\"\")","v":""},{"$f":"IF(N1518<>\"\",IF(F1519<>\"\",F1519,F1518),\"\")","v":""}]
[null,null,null,null,null,null,null,null,null,null,null,null,null,null,null,""]
[null,null,null,null,null,null,null,null,null,null,null,null,null,{"$f":"IF(A1520<>\"\",TEXT(A1520,\"\"),\"\")","v":""},{"$f":"IF(N1520=\"\",\"\",CONCATENATE(IF(C1520<>\"\",TEXT(C1520,\"\"),\"\"),\" - \",IF(K1520<>\"\",TEXT(K1520,\"\"),\"\")))","v":""},"",{"$f":"IF(D1520<>\"\",D1520,\"\")","v":""},{"$f":"IF(E1520<>\"\",E1520,\"\")","v":""},{"$f":"IF(F1520<>\"\",F1520,\"\")","v":""},{"$f":"IF(N1520<>\"\",IF(D1521<>\"\",D1521,D1520),\"\")","v":""},{"$f":"IF(N1520<>\"\",IF(E1521<>\"\",E1521,E1520),\"\")","v":""},{"$f":"IF(N1520<>\"\",IF(F1521<>\"\",F1521,F1520),\"\")","v":""}]
[null,null,null,null,null,null,null,null,null,null,null,null,null,null,null,""]
[null,null,null,null,null,null,null,null,null,null,null,null,null,{"$f":"IF(A1522<>\"\",TEXT(A1522,\"\"),\"\")","v":""},{"$f":"IF(N1522=\"\",\"\",CONCATENATE(IF(C1522<>\"\",TEXT(C1522,\"\"),\"\"),\" - \",IF(K1522<>\"\",TEXT(K1522,\"\"),\"\")))","v":""},"",{"$f":"IF(D1522<>\"\",D1522,\"\")","v":""},{"$f":"IF(E1522<>\"\",E1522,\"\")","v":""},{"$f":"IF(F1522<>\"\",F1522,\"\")","v":""},{"$f":"IF(N1522<>\"\",IF(D1523<>\"\",D1523,D1522),\"\")","v":""},{"$f":"IF(N1522<>\"\",IF(E1523<>\"\",E1523,E1522),\"\")","v":""},{"$f":"IF(N1522<>\"\",IF(F1523<>\"\",F1523,F1522),\"\")","v":""}]
[null,null,null,null,null,null,null,null,null,null,null,null,null,null,null,""]
[null,null,null,null,null,null,null,null,null,null,null,null,null,{"$f":"IF(A1524<>\"\",TEXT(A1524,\"\"),\"\")","v":""},{"$f":"IF(N1524=\"\",\"\",CONCATENATE(IF(C1524<>\"\",TEXT(C1524,\"\"),\"\"),\" - \",IF(K1524<>\"\",TEXT(K1524,\"\"),\"\")))","v":""},"",{"$f":"IF(D1524<>\"\",D1524,\"\")","v":""},{"$f":"IF(E1524<>\"\",E1524,\"\")","v":""},{"$f":"IF(F1524<>\"\",F1524,\"\")","v":""},{"$f":"IF(N1524<>\"\",IF(D1525<>\"\",D1525,D1524),\"\")","v":""},{"$f":"IF(N1524<>\"\",IF(E1525<>\"\",E1525,E1524),\"\")","v":""},{"$f":"IF(N1524<>\"\",IF(F1525<>\"\",F1525,F1524),\"\")","v":""}]
[null,null,null,null,null,null,null,null,null,null,null,null,null,null,null,""]
[null,null,null,null,null,null,null,null,null,null,null,null,null,{"$f":"IF(A1526<>\"\",TEXT(A1526,\"\"),\"\")","v":""},{"$f":"IF(N1526=\"\",\"\",CONCATENATE(IF(C1526<>\"\",TEXT(C1526,\"\"),\"\"),\" - \",IF(K1526<>\"\",TEXT(K1526,\"\"),\"\")))","v":""},"",{"$f":"IF(D1526<>\"\",D1526,\"\")","v":""},{"$f":"IF(E1526<>\"\",E1526,\"\")","v":""},{"$f":"IF(F1526<>\"\",F1526,\"\")","v":""},{"$f":"IF(N1526<>\"\",IF(D1527<>\"\",D1527,D1526),\"\")","v":""},{"$f":"IF(N1526<>\"\",IF(E1527<>\"\",E1527,E1526),\"\")","v":""},{"$f":"IF(N1526<>\"\",IF(F1527<>\"\",F1527,F1526),\"\")","v":""}]
[null,null,null,null,null,null,null,null,null,null,null,null,null,null,null,""]
[null,null,null,null,null,null,null,null,null,null,null,null,null,{"$f":"IF(A1528<>\"\",TEXT(A1528,\"\"),\"\")","v":""},{"$f":"IF(N1528=\"\",\"\",CONCATENATE(IF(C1528<>\"\",TEXT(C1528,\"\"),\"\"),\" - \",IF(K1528<>\"\",TEXT(K1528,\"\"),\"\")))","v":""},"",{"$f":"IF(D1528<>\"\",D1528,\"\")","v":""},{"$f":"IF(E1528<>\"\",E1528,\"\")","v":""},{"$f":"IF(F1528<>\"\",F1528,\"\")","v":""},{"$f":"IF(N1528<>\"\",IF(D1529<>\"\",D1529,D1528),\"\")","v":""},{"$f":"IF(N1528<>\"\",IF(E1529<>\"\",E1529,E1528),\"\")","v":""},{"$f":"IF(N1528<>\"\",IF(F1529<>\"\",F1529,F1528),\"\")","v":""}]
[null,null,null,null,null,null,null,null,null,null,null,null,null,null,null,""]
[null,null,null,null,null,null,null,null,null,null,null,null,null,{"$f":"IF(A1530<>\"\",TEXT(A1530,\"\"),\"\")","v":""},{"$f":"IF(N1530=\"\",\"\",CONCATENATE(IF(C1530<>\"\",TEXT(C1530,\"\"),\"\"),\" - \",IF(K1530<>\"\",TEXT(K1530,\"\"),\"\")))","v":""},"",{"$f":"IF(D1530<>\"\",D1530,\"\")","v":""},{"$f":"IF(E1530<>\"\",E1530,\"\")","v":""},{"$f":"IF(F1530<>\"\",F1530,\"\")","v":""},{"$f":"IF(N1530<>\"\",IF(D1531<>\"\",D1531,D1530),\"\")","v":""},{"$f":"IF(N1530<>\"\",IF(E1531<>\"\",E1531,E1530),\"\")","v":""},{"$f":"IF(N1530<>\"\",IF(F1531<>\"\",F1531,F1530),\"\")","v":""}]
[null,null,null,null,null,null,null,null,null,null,null,null,null,null,null,""]
[null,null,null,null,null,null,null,null,null,null,null,null,null,{"$f":"IF(A1532<>\"\",TEXT(A1532,\"\"),\"\")","v":""},{"$f":"IF(N1532=\"\",\"\",CONCATENATE(IF(C1532<>\"\",TEXT(C1532,\"\"),\"\"),\" - \",IF(K1532<>\"\",TEXT(K1532,\"\"),\"\")))","v":""},"",{"$f":"IF(D1532<>\"\",D1532,\"\")","v":""},{"$f":"IF(E1532<>\"\",E1532,\"\")","v":""},{"$f":"IF(F1532<>\"\",F1532,\"\")","v":""},{"$f":"IF(N1532<>\"\",IF(D1533<>\"\",D1533,D1532),\"\")","v":""},{"$f":"IF(N1532<>\"\",IF(E1533<>\"\",E1533,E1532),\"\")","v":""},{"$f":"IF(N1532<>\"\",IF(F1533<>\"\",F1533,F1532),\"\")","v":""}]
[null,null,null,null,null,null,null,null,null,null,null,null,null,null,null,""]
[null,null,null,null,null,null,null,null,null,null,null,null,null,{"$f":"IF(A1534<>\"\",TEXT(A1534,\"\"),\"\")","v":""},{"$f":"IF(N1534=\"\",\"\",CONCATENATE(IF(C1534<>\"\",TEXT(C1534,\"\"),\"\"),\" - \",IF(K1534<>\"\",TEXT(K1534,\"\"),\"\")))","v":""},"",{"$f":"IF(D1534<>\"\",D1534,\"\")","v":""},{"$f":"IF(E1534<>\"\",E1534,\"\")","v":""},{"$f":"IF(F1534<>\"\",F1534,\"\")","v":""},{"$f":"IF(N1534<>\"\",IF(D1535<>\"\",D1535,D1534),\"\")","v":""},{"$f":"IF(N1534<>\"\",IF(E1535<>\"\",E1535,E1534),\"\")","v":""},{"$f":"IF(N1534<>\"\",IF(F1535<>\"\",F1535,F1534),\"\")","v":""}]
[null,null,null,null,null,null,null,null,null,null,null,null,null,null,null,""]
[null,null,null,null,null,null,null,null,null,null,null,null,null,{"$f":"IF(A1536<>\"\",TEXT(A1536,\"\"),\"\")","v":""},{"$f":"IF(N1536=\"\",\"\",CONCATENATE(IF(C1536<>\"\",TEXT(C1536,\"\"),\"\"),\" - \",IF(K1536<>\"\",TEXT(K1536,\"\"),\"\")))","v":""},"",{"$f":"IF(D1536<>\"\",D1536,\"\")","v":""},{"$f":"IF(E1536<>\"\",E1536,\"\")","v":""},{"$f":"IF(F1536<>\"\",F1536,\"\")","v":""},{"$f":"IF(N1536<>\"\",IF(D1537<>\"\",D1537,D1536),\"\")","v":""},{"$f":"IF(N1536<>\"\",IF(E1537<>\"\",E1537,E1536),\"\")","v":""},{"$f":"IF(N1536<>\"\",IF(F1537<>\"\",F1537,F1536),\"\")","v":""}]
[null,null,null,null,null,null,null,null,null,null,null,null,null,null,null,""]
[null,null,null,null,null,null,null,null,null,null,null,null,null,{"$f":"IF(A1538<>\"\",TEXT(A1538,\"\"),\"\")","v":""},{"$f":"IF(N1538=\"\",\"\",CONCATENATE(IF(C1538<>\"\",TEXT(C1538,\"\"),\"\"),\" - \",IF(K1538<>\"\",TEXT(K1538,\"\"),\"\")))","v":""},"",{"$f":"IF(D1538<>\"\",D1538,\"\")","v":""},{"$f":"IF(E1538<>\"\",E1538,\"\")","v":""},{"$f":"IF(F1538<>\"\",F1538,\"\")","v":""},{"$f":"IF(N1538<>\"\",IF(D1539<>\"\",D1539,D1538),\"\")","v":""},{"$f":"IF(N1538<>\"\",IF(E1539<>\"\",E1539,E1538),\"\")","v":""},{"$f":"IF(N1538<>\"\",IF(F1539<>\"\",F1539,F1538),\"\")","v":""}]
[null,null,null,null,null,null,null,null,null,null,null,null,null,null,null,{"$f":"SUBSTITUTE(SUBSTITUTE(SUBSTITUTE(SUBSTITUTE(IF(L1539<>\"\",HLink(L1539),\"\"),\"htm\",\"html\"),\"1x2\",\"analysis\"),\"www\",\"www\"),\"com\",\"vip\")","v":""}]
[null,null,null,null,null,null,null,null,null,null,null,null,null,{"$f":"IF(A1540<>\"\",TEXT(A1540,\"\"),\"\")","v":""},{"$f":"IF(N1540=\"\",\"\",CONCATENATE(IF(C1540<>\"\",TEXT(C1540,\"\"),\"\"),\" - \",IF(K1540<>\"\",TEXT(K1540,\"\"),\"\")))","v":""},"",{"$f":"IF(D1540<>\"\",D1540,\"\")","v":""},{"$f":"IF(E1540<>\"\",E1540,\"\")","v":""},{"$f":"IF(F1540<>\"\",F1540,\"\")","v":""},{"$f":"IF(N1540<>\"\",IF(D1541<>\"\",D1541,D1540),\"\")","v":""},{"$f":"IF(N1540<>\"\",IF(E1541<>\"\",E1541,E1540),\"\")","v":""},{"$f":"IF(N1540<>\"\",IF(F1541<>\"\",F1541,F1540),\"\")","v":""}]
[null,null,null,null,null,null,null,null,null,null,null,null,null,null,null,""]
[null,null,null,null,null,null,null,null,null,null,null,null,null,{"$f":"IF(A1542<>\"\",TEXT(A1542,\"\"),\"\")","v":""},{"$f":"IF(N1542=\"\",\"\",CONCATENATE(IF(C1542<>\"\",TEXT(C1542,\"\"),\"\"),\" - \",IF(K1542<>\"\",TEXT(K1542,\"\"),\"\")))","v":""},"",{"$f":"IF(D1542<>\"\",D1542,\"\")","v":""},{"$f":"IF(E1542<>\"\",E1542,\"\")","v":""},{"$f":"IF(F1542<>\"\",F1542,\"\")","v":""},{"$f":"IF(N1542<>\"\",IF(D1543<>\"\",D1543,D1542),\"\")","v":""},{"$f":"IF(N1542<>\"\",IF(E1543<>\"\",E1543,E1542),\"\")","v":""},{"$f":"IF(N1542<>\"\",IF(F1543<>\"\",F1543,F1542),\"\")","v":""}]
[null,null,null,null,null,null,null,null,null,null,null,null,null,null,null,""]
[null,null,null,null,null,null,null,null,null,null,null,null,null,{"$f":"IF(A1544<>\"\",TEXT(A1544,\"\"),\"\")","v":""},{"$f":"IF(N1544=\"\",\"\",CONCATENATE(IF(C1544<>\"\",TEXT(C1544,\"\"),\"\"),\" - \",IF(K1544<>\"\",TEXT(K1544,\"\"),\"\")))","v":""},"",{"$f":"IF(D1544<>\"\",D1544,\"\")","v":""},{"$f":"IF(E1544<>\"\",E1544,\"\")","v":""},{"$f":"IF(F1544<>\"\",F1544,\"\")","v":""},{"$f":"IF(N1544<>\"\",IF(D1545<>\"\",D1545,D1544),\"\")","v":""},{"$f":"IF(N1544<>\"\",IF(E1545<>\"\",E1545,E1544),\"\")","v":""},{"$f":"IF(N1544<>\"\",IF(F1545<>\"\",F1545,F1544),\"\")","v":""}]
[null,null,null,null,null,null,null,null,null,null,null,null,null,null,null,""]
[null,null,null,null,null,null,null,null,null,null,null,null,null,{"$f":"IF(A1546<>\"\",TEXT(A1546,\"\"),\"\")","v":""},{"$f":"IF(N1546=\"\",\"\",CONCATENATE(IF(C1546<>\"\",TEXT(C1546,\"\"),\"\"),\" - \",IF(K1546<>\"\",TEXT(K1546,\"\"),\"\")))","v":""},"",{"$f":"IF(D1546<>\"\",D1546,\"\")","v":""},{"$f":"IF(E1546<>\"\",E1546,\"\")","v":""},{"$f":"IF(F1546<>\"\",F1546,\"\")","v":""},{"$f":"IF(N1546<>\"\",IF(D1547<>\"\",D1547,D1546),\"\")","v":""},{"$f":"IF(N1546<>\"\",IF(E1547<>\"\",E1547,E1546),\"\")","v":""},{"$f":"IF(N1546<>\"\",IF(F1547<>\"\",F1547,F1546),\"\")","v":""}]
[null,null,null,null,null,null,null,null,null,null,null,null,null,null,null,""]
[null,null,null,null,null,null,null,null,null,null,null,null,null,{"$f":"IF(A1548<>\"\",TEXT(A1548,\"\"),\"\")","v":""},{"$f":"IF(N1548=\"\",\"\",CONCATENATE(IF(C1548<>\"\",TEXT(C1548,\"\"),\"\"),\" - \",IF(K1548<>\"\",TEXT(K1548,\"\"),\"\")))","v":""},"",{"$f":"IF(D1548<>\"\",D1548,\"\")","v":""},{"$f":"IF(E1548<>\"\",E1548,\"\")","v":""},{"$f":"IF(F1548<>\"\",F1548,\"\")","v":""},{"$f":"IF(N1548<>\"\",IF(D1549<>\"\",D1549,D1548),\"\")","v":""},{"$f":"IF(N1548<>\"\",IF(E1549<>\"\",E1549,E1548),\"\")","v":""},{"$f":"IF(N1548<>\"\",IF(F1549<>\"\",F1549,F1548),\"\")","v":""}]
[null,null,null,null,null,null,null,null,null,null,null,null,null,null,null,""]
[null,null,null,null,null,null,null,null,null,null,null,null,null,{"$f":"IF(A1550<>\"\",TEXT(A1550,\"\"),\"\")","v":""},{"$f":"IF(N1550=\"\",\"\",CONCATENATE(IF(C1550<>\"\",TEXT(C1550,\"\"),\"\"),\" - \",IF(K1550<>\"\",TEXT(K1550,\"\"),\"\")))","v":""},"",{"$f":"IF(D1550<>\"\",D1550,\"\")","v":""},{"$f":"IF(E1550<>\"\",E1550,\"\")","v":""},{"$f":"IF(F1550<>\"\",F1550,\"\")","v":""},{"$f":"IF(N1550<>\"\",IF(D1551<>\"\",D1551,D1550),\"\")","v":""},{"$f":"IF(N1550<>\"\",IF(E1551<>\"\",E1551,E1550),\"\")","v":""},{"$f":"IF(N1550<>\"\",IF(F1551<>\"\",F1551,F1550),\"\")","v":""}]
[null,null,null,null,null,null,null,null,null,null,null,null,null,null,null,""]
[null,null,null,null,null,null,null,null,null,null,null,null,null,{"$f":"IF(A1552<>\"\",TEXT(A1552,\"\"),\"\")","v":""},{"$f":"IF(N1552=\"\",\"\",CONCATENATE(IF(C1552<>\"\",TEXT(C1552,\"\"),\"\"),\" - \",IF(K1552<>\"\",TEXT(K1552,\"\"),\"\")))","v":""},"",{"$f":"IF(D1552<>\"\",D1552,\"\")","v":""},{"$f":"IF(E1552<>\"\",E1552,\"\")","v":""},{"$f":"IF(F1552<>\"\",F1552,\"\")","v":""},{"$f":"IF(N1552<>\"\",IF(D1553<>\"\",D1553,D1552),\"\")","v":""},{"$f":"IF(N1552<>\"\",IF(E1553<>\"\",E1553,E1552),\"\")","v":""},{"$f":"IF(N1552<>\"\",IF(F1553<>\"\",F1553,F1552),\"\")","v":""}]
[null,null,null,null,null,null,null,null,null,null,null,null,null,null,null,""]
[null,null,null,null,null,null,null,null,null,null,null,null,null,{"$f":"IF(A1554<>\"\",TEXT(A1554,\"\"),\"\")","v":""},{"$f":"IF(N1554=\"\",\"\",CONCATENATE(IF(C1554<>\"\",TEXT(C1554,\"\"),\"\"),\" - \",IF(K1554<>\"\",TEXT(K1554,\"\"),\"\")))","v":""},"",{"$f":"IF(D1554<>\"\",D1554,\"\")","v":""},{"$f":"IF(E1554<>\"\",E1554,\"\")","v":""},{"$f":"IF(F1554<>\"\",F1554,\"\")","v":""},{"$f":"IF(N1554<>\"\",IF(D1555<>\"\",D1555,D1554),\"\")","v":""},{"$f":"IF(N1554<>\"\",IF(E1555<>\"\",E1555,E1554),\"\")","v":""},{"$f":"IF(N1554<>\"\",IF(F1555<>\"\",F1555,F1554),\"\")","v":""}]
[null,null,null,null,null,null,null,null,null,null,null,null,null,null,null,""]
[null,null,null,null,null,null,null,null,null,null,null,null,null,{"$f":"IF(A1556<>\"\",TEXT(A1556,\"\"),\"\")","v":""},{"$f":"IF(N1556=\"\",\"\",CONCATENATE(IF(C1556<>\"\",TEXT(C1556,\"\"),\"\"),\" - \",IF(K1556<>\"\",TEXT(K1556,\"\"),\"\")))","v":""},"",{"$f":"IF(D1556<>\"\",D1556,\"\")","v":""},{"$f":"IF(E1556<>\"\",E1556,\"\")","v":""},{"$f":"IF(F1556<>\"\",F1556,\"\")","v":""},{"$f":"IF(N1556<>\"\",IF(D1557<>\"\",D1557,D1556),\"\")","v":""},{"$f":"IF(N1556<>\"\",IF(E1557<>\"\",E1557,E1556),\"\")","v":""},{"$f":"IF(N1556<>\"\",IF(F1557<>\"\",F1557,F1556),\"\")","v":""}]
[null,null,null,null,null,null,null,null,null,null,null,null,null,null,null,""]
[null,null,null,null,null,null,null,null,null,null,null,null,null,{"$f":"IF(A1558<>\"\",TEXT(A1558,\"\"),\"\")","v":""},{"$f":"IF(N1558=\"\",\"\",CONCATENATE(IF(C1558<>\"\",TEXT(C1558,\"\"),\"\"),\" - \",IF(K1558<>\"\",TEXT(K1558,\"\"),\"\")))","v":""},"",{"$f":"IF(D1558<>\"\",D1558,\"\")","v":""},{"$f":"IF(E1558<>\"\",E1558,\"\")","v":""},{"$f":"IF(F1558<>\"\",F1558,\"\")","v":""},{"$f":"IF(N1558<>\"\",IF(D1559<>\"\",D1559,D1558),\"\")","v":""},{"$f":"IF(N1558<>\"\",IF(E1559<>\"\",E1559,E1558),\"\")","v":""},{"$f":"IF(N1558<>\"\",IF(F1559<>\"\",F1559,F1558),\"\")","v":""}]
[null,null,null,null,null,null,null,null,null,null,null,null,null,null,null,""]
[null,null,null,null,null,null,null,null,null,null,null,null,null,{"$f":"IF(A1560<>\"\",TEXT(A1560,\"\"),\"\")","v":""},{"$f":"IF(N1560=\"\",\"\",CONCATENATE(IF(C1560<>\"\",TEXT(C1560,\"\"),\"\"),\" - \",IF(K1560<>\"\",TEXT(K1560,\"\"),\"\")))","v":""},"",{"$f":"IF(D1560<>\"\",D1560,\"\")","v":""},{"$f":"IF(E1560<>\"\",E1560,\"\")","v":""},{"$f":"IF(F1560<>\"\",F1560,\"\")","v":""},{"$f":"IF(N1560<>\"\",IF(D1561<>\"\",D1561,D1560),\"\")","v":""},{"$f":"IF(N1560<>\"\",IF(E1561<>\"\",E1561,E1560),\"\")","v":""},{"$f":"IF(N1560<>\"\",IF(F1561<>\"\",F1561,F1560),\"\")","v":""}]
[null,null,null,null,null,null,null,null,null,null,null,null,null,null,null,""]
[null,null,null,null,null,null,null,null,null,null,null,null,null,{"$f":"IF(A1562<>\"\",TEXT(A1562,\"\"),\"\")","v":""},{"$f":"IF(N1562=\"\",\"\",CONCATENATE(IF(C1562<>\"\",TEXT(C1562,\"\"),\"\"),\" - \",IF(K1562<>\"\",TEXT(K1562,\"\"),\"\")))","v":""},"",{"$f":"IF(D1562<>\"\",D1562,\"\")","v":""},{"$f":"IF(E1562<>\"\",E1562,\"\")","v":""},{"$f":"IF(F1562<>\"\",F1562,\"\")","v":""},{"$f":"IF(N1562<>\"\",IF(D1563<>\"\",D1563,D1562),\"\")","v":""},{"$f":"IF(N1562<>\"\",IF(E1563<>\"\",E1563,E1562),\"\")","v":""},{"$f":"IF(N1562<>\"\",IF(F1563<>\"\",F1563,F1562),\"\")","v":""}]
[null,null,null,null,null,null,null,null,null,null,null,null,null,null,null,""]
[null,null,null,null,null,null,null,null,null,null,null,null,null,{"$f":"IF(A1564<>\"\",TEXT(A1564,\"\"),\"\")","v":""},{"$f":"IF(N1564=\"\",\"\",CONCATENATE(IF(C1564<>\"\",TEXT(C1564,\"\"),\"\"),\" - \",IF(K1564<>\"\",TEXT(K1564,\"\"),\"\")))","v":""},"",{"$f":"IF(D1564<>\"\",D1564,\"\")","v":""},{"$f":"IF(E1564<>\"\",E1564,\"\")","v":""},{"$f":"IF(F1564<>\"\",F1564,\"\")","v":""},{"$f":"IF(N1564<>\"\",IF(D1565<>\"\",D1565,D1564),\"\")","v":""},{"$f":"IF(N1564<>\"\",IF(E1565<>\"\",E1565,E1564),\"\")","v":""},{"$f":"IF(N1564<>\"\",IF(F1565<>\"\",F1565,F1564),\"\")","v":""}]
[null,null,null,null,null,null,null,null,null,null,null,null,null,null,null,""]
[null,null,null,null,null,null,null,null,null,null,null,null,null,{"$f":"IF(A1566<>\"\",TEXT(A1566,\"\"),\"\")","v":""},{"$f":"IF(N1566=\"\",\"\",CONCATENATE(IF(C1566<>\"\",TEXT(C1566,\"\"),\"\"),\" - \",IF(K1566<>\"\",TEXT(K1566,\"\"),\"\")))","v":""},"",{"$f":"IF(D1566<>\"\",D1566,\"\")","v":""},{"$f":"IF(E1566<>\"\",E1566,\"\")","v":""},{"$f":"IF(F1566<>\"\",F1566,\"\")","v":""},{"$f":"IF(N1566<>\"\",IF(D1567<>\"\",D1567,D1566),\"\")","v":""},{"$f":"IF(N1566<>\"\",IF(E1567<>\"\",E1567,E1566),\"\")","v":""},{"$f":"IF(N1566<>\"\",IF(F1567<>\"\",F1567,F1566),\"\")","v":""}]
[null,null,null,null,null,null,null,null,null,null,null,null,null,null,null,""]
[null,null,null,null,null,null,null,null,null,null,null,null,null,{"$f":"IF(A1568<>\"\",TEXT(A1568,\"\"),\"\")","v":""},{"$f":"IF(N1568=\"\",\"\",CONCATENATE(IF(C1568<>\"\",TEXT(C1568,\"\"),\"\"),\" - \",IF(K1568<>\"\",TEXT(K1568,\"\"),\"\")))","v":""},"",{"$f":"IF(D1568<>\"\",D1568,\"\")","v":""},{"$f":"IF(E1568<>\"\",E1568,\"\")","v":""},{"$f":"IF(F1568<>\"\",F1568,\"\")","v":""},{"$f":"IF(N1568<>\"\",IF(D1569<>\"\",D1569,D1568),\"\")","v":""},{"$f":"IF(N1568<>\"\",IF(E1569<>\"\",E1569,E1568),\"\")","v":""},{"$f":"IF(N1568<>\"\",IF(F1569<>\"\",F1569,F1568),\"\")","v":""}]
[null,null,null,null,null,null,null,null,null,null,null,null,null,null,null,""]
[null,null,null,null,null,null,null,null,null,null,null,null,null,{"$f":"IF(A1570<>\"\",TEXT(A1570,\"\"),\"\")","v":""},{"$f":"IF(N1570=\"\",\"\",CONCATENATE(IF(C1570<>\"\",TEXT(C1570,\"\"),\"\"),\" - \",IF(K1570<>\"\",TEXT(K1570,\"\"),\"\")))","v":""},"",{"$f":"IF(D1570<>\"\",D1570,\"\")","v":""},{"$f":"IF(E1570<>\"\",E1570,\"\")","v":""},{"$f":"IF(F1570<>\"\",F1570,\"\")","v":""},{"$f":"IF(N1570<>\"\",IF(D1571<>\"\",D1571,D1570),\"\")","v":""},{"$f":"IF(N1570<>\"\",IF(E1571<>\"\",E1571,E1570),\"\")","v":""},{"$f":"IF(N1570<>\"\",IF(F1571<>\"\",F1571,F1570),\"\")","v":""}]
[null,null,null,null,null,null,null,null,null,null,null,null,null,null,null,""]
[null,null,null,null,null,null,null,null,null,null,null,null,null,{"$f":"IF(A1572<>\"\",TEXT(A1572,\"\"),\"\")","v":""},{"$f":"IF(N1572=\"\",\"\",CONCATENATE(IF(C1572<>\"\",TEXT(C1572,\"\"),\"\"),\" - \",IF(K1572<>\"\",TEXT(K1572,\"\"),\"\")))","v":""},"",{"$f":"IF(D1572<>\"\",D1572,\"\")","v":""},{"$f":"IF(E1572<>\"\",E1572,\"\")","v":""},{"$f":"IF(F1572<>\"\",F1572,\"\")","v":""},{"$f":"IF(N1572<>\"\",IF(D1573<>\"\",D1573,D1572),\"\")","v":""},{"$f":"IF(N1572<>\"\",IF(E1573<>\"\",E1573,E1572),\"\")","v":""},{"$f":"IF(N1572<>\"\",IF(F1573<>\"\",F1573,F1572),\"\")","v":""}]
[null,null,null,null,null,null,null,null,null,null,null,null,null,null,null,""]
[null,null,null,null,null,null,null,null,null,null,null,null,null,{"$f":"IF(A1574<>\"\",TEXT(A1574,\"\"),\"\")","v":""},{"$f":"IF(N1574=\"\",\"\",CONCATENATE(IF(C1574<>\"\",TEXT(C1574,\"\"),\"\"),\" - \",IF(K1574<>\"\",TEXT(K1574,\"\"),\"\")))","v":""},"",{"$f":"IF(D1574<>\"\",D1574,\"\")","v":""},{"$f":"IF(E1574<>\"\",E1574,\"\")","v":""},{"$f":"IF(F1574<>\"\",F1574,\"\")","v":""},{"$f":"IF(N1574<>\"\",IF(D1575<>\"\",D1575,D1574),\"\")","v":""},{"$f":"IF(N1574<>\"\",IF(E1575<>\"\",E1575,E1574),\"\")","v":""},{"$f":"IF(N1574<>\"\",IF(F1575<>\"\",F1575,F1574),\"\")","v":""}]
[null,null,null,null,null,null,null,null,null,null,null,null,null,null,null,""]
[null,null,null,null,null,null,null,null,null,null,null,null,null,{"$f":"IF(A1576<>\"\",TEXT(A1576,\"\"),\"\")","v":""},{"$f":"IF(N1576=\"\",\"\",CONCATENATE(IF(C1576<>\"\",TEXT(C1576,\"\"),\"\"),\" - \",IF(K1576<>\"\",TEXT(K1576,\"\"),\"\")))","v":""},"",{"$f":"IF(D1576<>\"\",D1576,\"\")","v":""},{"$f":"IF(E1576<>\"\",E1576,\"\")","v":""},{"$f":"IF(F1576<>\"\",F1576,\"\")","v":""},{"$f":"IF(N1576<>\"\",IF(D1577<>\"\",D1577,D1576),\"\")","v":""},{"$f":"IF(N1576<>\"\",IF(E1577<>\"\",E1577,E1576),\"\")","v":""},{"$f":"IF(N1576<>\"\",IF(F1577<>\"\",F1577,F1576),\"\")","v":""}]
[null,null,null,null,null,null,null,null,null,null,null,null,null,null,null,""]
[null,null,null,null,null,null,null,null,null,null,null,null,null,{"$f":"IF(A1578<>\"\",TEXT(A1578,\"\"),\"\")","v":""},{"$f":"IF(N1578=\"\",\"\",CONCATENATE(IF(C1578<>\"\",TEXT(C1578,\"\"),\"\"),\" - \",IF(K1578<>\"\",TEXT(K1578,\"\"),\"\")))","v":""},"",{"$f":"IF(D1578<>\"\",D1578,\"\")","v":""},{"$f":"IF(E1578<>\"\",E1578,\"\")","v":""},{"$f":"IF(F1578<>\"\",F1578,\"\")","v":""},{"$f":"IF(N1578<>\"\",IF(D1579<>\"\",D1579,D1578),\"\")","v":""},{"$f":"IF(N1578<>\"\",IF(E1579<>\"\",E1579,E1578),\"\")","v":""},{"$f":"IF(N1578<>\"\",IF(F1579<>\"\",F1579,F1578),\"\")","v":""}]
[null,null,null,null,null,null,null,null,null,null,null,null,null,null,null,""]
[null,null,null,null,null,null,null,null,null,null,null,null,null,{"$f":"IF(A1580<>\"\",TEXT(A1580,\"\"),\"\")","v":""},{"$f":"IF(N1580=\"\",\"\",CONCATENATE(IF(C1580<>\"\",TEXT(C1580,\"\"),\"\"),\" - \",IF(K1580<>\"\",TEXT(K1580,\"\"),\"\")))","v":""},"",{"$f":"IF(D1580<>\"\",D1580,\"\")","v":""},{"$f":"IF(E1580<>\"\",E1580,\"\")","v":""},{"$f":"IF(F1580<>\"\",F1580,\"\")","v":""},{"$f":"IF(N1580<>\"\",IF(D1581<>\"\",D1581,D1580),\"\")","v":""},{"$f":"IF(N1580<>\"\",IF(E1581<>\"\",E1581,E1580),\"\")","v":""},{"$f":"IF(N1580<>\"\",IF(F1581<>\"\",F1581,F1580),\"\")","v":""}]
[null,null,null,null,null,null,null,null,null,null,null,null,null,null,null,""]
[null,null,null,null,null,null,null,null,null,null,null,null,null,{"$f":"IF(A1582<>\"\",TEXT(A1582,\"\"),\"\")","v":""},{"$f":"IF(N1582=\"\",\"\",CONCATENATE(IF(C1582<>\"\",TEXT(C1582,\"\"),\"\"),\" - \",IF(K1582<>\"\",TEXT(K1582,\"\"),\"\")))","v":""},"",{"$f":"IF(D1582<>\"\",D1582,\"\")","v":""},{"$f":"IF(E1582<>\"\",E1582,\"\")","v":""},{"$f":"IF(F1582<>\"\",F1582,\"\")","v":""},{"$f":"IF(N1582<>\"\",IF(D1583<>\"\",D1583,D1582),\"\")","v":""},{"$f":"IF(N1582<>\"\",IF(E1583<>\"\",E1583,E1582),\"\")","v":""},{"$f":"IF(N1582<>\"\",IF(F1583<>\"\",F1583,F1582),\"\")","v":""}]
[null,null,null,null,null,null,null,null,null,null,null,null,null,null,null,""]
[null,null,null,null,null,null,null,null,null,null,null,null,null,{"$f":"IF(A1584<>\"\",TEXT(A1584,\"\"),\"\")","v":""},{"$f":"IF(N1584=\"\",\"\",CONCATENATE(IF(C1584<>\"\",TEXT(C1584,\"\"),\"\"),\" - \",IF(K1584<>\"\",TEXT(K1584,\"\"),\"\")))","v":""},"",{"$f":"IF(D1584<>\"\",D1584,\"\")","v":""},{"$f":"IF(E1584<>\"\",E1584,\"\")","v":""},{"$f":"IF(F1584<>\"\",F1584,\"\")","v":""},{"$f":"IF(N1584<>\"\",IF(D1585<>\"\",D1585,D1584),\"\")","v":""},{"$f":"IF(N1584<>\"\",IF(E1585<>\"\",E1585,E1584),\"\")","v":""},{"$f":"IF(N1584<>\"\",IF(F1585<>\"\",F1585,F1584),\"\")","v":""}]
[null,null,null,null,null,null,null,null,null,null,null,null,null,null,null,""]
[null,null,null,null,null,null,null,null,null,null,null,null,null,{"$f":"IF(A1586<>\"\",TEXT(A1586,\"\"),\"\")","v":""},{"$f":"IF(N1586=\"\",\"\",CONCATENATE(IF(C1586<>\"\",TEXT(C1586,\"\"),\"\"),\" - \",IF(K1586<>\"\",TEXT(K1586,\"\"),\"\")))","v":""},"",{"$f":"IF(D1586<>\"\",D1586,\"\")","v":""},{"$f":"IF(E1586<>\"\",E1586,\"\")","v":""},{"$f":"IF(F1586<>\"\",F1586,\"\")","v":""},{"$f":"IF(N1586<>\"\",IF(D1587<>\"\",D1587,D1586),\"\")","v":""},{"$f":"IF(N1586<>\"\",IF(E1587<>\"\",E1587,E1586),\"\")","v":""},{"$f":"IF(N1586<>\"\",IF(F1587<>\"\",F1587,F1586),\"\")","v":""}]
[null,null,null,null,null,null,null,null,null,null,null,null,null,null,null,""]
[null,null,null,null,null,null,null,null,null,null,null,null,null,{"$f":"IF(A1588<>\"\",TEXT(A1588,\"\"),\"\")","v":""},{"$f":"IF(N1588=\"\",\"\",CONCATENATE(IF(C1588<>\"\",TEXT(C1588,\"\"),\"\"),\" - \",IF(K1588<>\"\",TEXT(K1588,\"\"),\"\")))","v":""},"",{"$f":"IF(D1588<>\"\",D1588,\"\")","v":""},{"$f":"IF(E1588<>\"\",E1588,\"\")","v":""},{"$f":"IF(F1588<>\"\",F1588,\"\")","v":""},{"$f":"IF(N1588<>\"\",IF(D1589<>\"\",D1589,D1588),\"\")","v":""},{"$f":"IF(N1588<>\"\",IF(E1589<>\"\",E1589,E1588),\"\")","v":""},{"$f":"IF(N1588<>\"\",IF(F1589<>\"\",F1589,F1588),\"\")","v":""}]
[null,null,null,null,null,null,null,null,null,null,null,null,null,null,null,""]
[null,null,null,null,null,null,null,null,null,null,null,null,null,{"$f":"IF(A1590<>\"\",TEXT(A1590,\"\"),\"\")","v":""},{"$f":"IF(N1590=\"\",\"\",CONCATENATE(IF(C1590<>\"\",TEXT(C1590,\"\"),\"\"),\" - \",IF(K1590<>\"\",TEXT(K1590,\"\"),\"\")))","v":""},"",{"$f":"IF(D1590<>\"\",D1590,\"\")","v":""},{"$f":"IF(E1590<>\"\",E1590,\"\")","v":""},{"$f":"IF(F1590<>\"\",F1590,\"\")","v":""},{"$f":"IF(N1590<>\"\",IF(D1591<>\"\",D1591,D1590),\"\")","v":""},{"$f":"IF(N1590<>\"\",IF(E1591<>\"\",E1591,E1590),\"\")","v":""},{"$f":"IF(N1590<>\"\",IF(F1591<>\"\",F1591,F1590),\"\")","v":""}]
[null,null,null,null,null,null,null,null,null,null,null,null,null,null,null,""]
[null,null,null,null,null,null,null,null,null,null,null,null,null,{"$f":"IF(A1592<>\"\",TEXT(A1592,\"\"),\"\")","v":""},{"$f":"IF(N1592=\"\",\"\",CONCATENATE(IF(C1592<>\"\",TEXT(C1592,\"\"),\"\"),\" - \",IF(K1592<>\"\",TEXT(K1592,\"\"),\"\")))","v":""},"",{"$f":"IF(D1592<>\"\",D1592,\"\")","v":""},{"$f":"IF(E1592<>\"\",E1592,\"\")","v":""},{"$f":"IF(F1592<>\"\",F1592,\"\")","v":""},{"$f":"IF(N1592<>\"\",IF(D1593<>\"\",D1593,D1592),\"\")","v":""},{"$f":"IF(N1592<>\"\",IF(E1593<>\"\",E1593,E1592),\"\")","v":""},{"$f":"IF(N1592<>\"\",IF(F1593<>\"\",F1593,F1592),\"\")","v":""}]
[null,null,null,null,null,null,null,null,null,null,null,null,null,null,null,""]
[null,null,null,null,null,null,null,null,null,null,null,null,null,{"$f":"IF(A1594<>\"\",TEXT(A1594,\"\"),\"\")","v":""},{"$f":"IF(N1594=\"\",\"\",CONCATENATE(IF(C1594<>\"\",TEXT(C1594,\"\"),\"\"),\" - \",IF(K1594<>\"\",TEXT(K1594,\"\"),\"\")))","v":""},"",{"$f":"IF(D1594<>\"\",D1594,\"\")","v":""},{"$f":"IF(E1594<>\"\",E1594,\"\")","v":""},{"$f":"IF(F1594<>\"\",F1594,\"\")","v":""},{"$f":"IF(N1594<>\"\",IF(D1595<>\"\",D1595,D1594),\"\")","v":""},{"$f":"IF(N1594<>\"\",IF(E1595<>\"\",E1595,E1594),\"\")","v":""},{"$f":"IF(N1594<>\"\",IF(F1595<>\"\",F1595,F1594),\"\")","v":""}]
[null,null,null,null,null,null,null,null,null,null,null,null,null,null,null,""]
[null,null,null,null,null,null,null,null,null,null,null,null,null,{"$f":"IF(A1596<>\"\",TEXT(A1596,\"\"),\"\")","v":""},{"$f":"IF(N1596=\"\",\"\",CONCATENATE(IF(C1596<>\"\",TEXT(C1596,\"\"),\"\"),\" - \",IF(K1596<>\"\",TEXT(K1596,\"\"),\"\")))","v":""},"",{"$f":"IF(D1596<>\"\",D1596,\"\")","v":""},{"$f":"IF(E1596<>\"\",E1596,\"\")","v":""},{"$f":"IF(F1596<>\"\",F1596,\"\")","v":""},{"$f":"IF(N1596<>\"\",IF(D1597<>\"\",D1597,D1596),\"\")","v":""},{"$f":"IF(N1596<>\"\",IF(E1597<>\"\",E1597,E1596),\"\")","v":""},{"$f":"IF(N1596<>\"\",IF(F1597<>\"\",F1597,F1596),\"\")","v":""}]
[null,null,null,null,null,null,null,null,null,null,null,null,null,null,null,""]
[null,null,null,null,null,null,null,null,null,null,null,null,null,{"$f":"IF(A1598<>\"\",TEXT(A1598,\"\"),\"\")","v":""},{"$f":"IF(N1598=\"\",\"\",CONCATENATE(IF(C1598<>\"\",TEXT(C1598,\"\"),\"\"),\" - \",IF(K1598<>\"\",TEXT(K1598,\"\"),\"\")))","v":""},"",{"$f":"IF(D1598<>\"\",D1598,\"\")","v":""},{"$f":"IF(E1598<>\"\",E1598,\"\")","v":""},{"$f":"IF(F1598<>\"\",F1598,\"\")","v":""},{"$f":"IF(N1598<>\"\",IF(D1599<>\"\",D1599,D1598),\"\")","v":""},{"$f":"IF(N1598<>\"\",IF(E1599<>\"\",E1599,E1598),\"\")","v":""},{"$f":"IF(N1598<>\"\",IF(F1599<>\"\",F1599,F1598),\"\")","v":""}]
[null,null,null,null,null,null,null,null,null,null,null,null,null,null,null,""]
[null,null,null,null,null,null,null,null,null,null,null,null,null,{"$f":"IF(A1600<>\"\",TEXT(A1600,\"\"),\"\")","v":""},{"$f":"IF(N1600=\"\",\"\",CONCATENATE(IF(C1600<>\"\",TEXT(C1600,\"\"),\"\"),\" - \",IF(K1600<>\"\",TEXT(K1600,\"\"),\"\")))","v":""},"",{"$f":"IF(D1600<>\"\",D1600,\"\")","v":""},{"$f":"IF(E1600<>\"\",E1600,\"\")","v":""},{"$f":"IF(F1600<>\"\",F1600,\"\")","v":""},{"$f":"IF(N1600<>\"\",IF(D1601<>\"\",D1601,D1600),\"\")","v":""},{"$f":"IF(N1600<>\"\",IF(E1601<>\"\",E1601,E1600),\"\")","v":""},{"$f":"IF(N1600<>\"\",IF(F1601<>\"\",F1601,F1600),\"\")","v":""}]
[null,null,null,null,null,null,null,null,null,null,null,null,null,null,null,""]
[null,null,null,null,null,null,null,null,null,null,null,null,null,{"$f":"IF(A1602<>\"\",TEXT(A1602,\"\"),\"\")","v":""},{"$f":"IF(N1602=\"\",\"\",CONCATENATE(IF(C1602<>\"\",TEXT(C1602,\"\"),\"\"),\" - \",IF(K1602<>\"\",TEXT(K1602,\"\"),\"\")))","v":""},"",{"$f":"IF(D1602<>\"\",D1602,\"\")","v":""},{"$f":"IF(E1602<>\"\",E1602,\"\")","v":""},{"$f":"IF(F1602<>\"\",F1602,\"\")","v":""},{"$f":"IF(N1602<>\"\",IF(D1603<>\"\",D1603,D1602),\"\")","v":""},{"$f":"IF(N1602<>\"\",IF(E1603<>\"\",E1603,E1602),\"\")","v":""},{"$f":"IF(N1602<>\"\",IF(F1603<>\"\",F1603,F1602),\"\")","v":""}]
[null,null,null,null,null,null,null,null,null,null,null,null,null,null,null,{"$f":"SUBSTITUTE(SUBSTITUTE(SUBSTITUTE(SUBSTITUTE(IF(L1603<>\"\",HLink(L1603),\"\"),\"htm\",\"html\"),\"1x2\",\"analysis\"),\"www\",\"www\"),\"com\",\"vip\")","v":""}]
[null,null,null,null,null,null,null,null,null,null,null,null,null,{"$f":"IF(A1604<>\"\",TEXT(A1604,\"\"),\"\")","v":""},{"$f":"IF(N1604=\"\",\"\",CONCATENATE(IF(C1604<>\"\",TEXT(C1604,\"\"),\"\"),\" - \",IF(K1604<>\"\",TEXT(K1604,\"\"),\"\")))","v":""},"",{"$f":"IF(D1604<>\"\",D1604,\"\")","v":""},{"$f":"IF(E1604<>\"\",E1604,\"\")","v":""},{"$f":"IF(F1604<>\"\",F1604,\"\")","v":""},{"$f":"IF(N1604<>\"\",IF(D1605<>\"\",D1605,D1604),\"\")","v":""},{"$f":"IF(N1604<>\"\",IF(E1605<>\"\",E1605,E1604),\"\")","v":""},{"$f":"IF(N1604<>\"\",IF(F1605<>\"\",F1605,F1604),\"\")","v":""}]
[null,null,null,null,null,null,null,null,null,null,null,null,null,null,null,""]
[null,null,null,null,null,null,null,null,null,null,null,null,null,{"$f":"IF(A1606<>\"\",TEXT(A1606,\"\"),\"\")","v":""},{"$f":"IF(N1606=\"\",\"\",CONCATENATE(IF(C1606<>\"\",TEXT(C1606,\"\"),\"\"),\" - \",IF(K1606<>\"\",TEXT(K1606,\"\"),\"\")))","v":""},"",{"$f":"IF(D1606<>\"\",D1606,\"\")","v":""},{"$f":"IF(E1606<>\"\",E1606,\"\")","v":""},{"$f":"IF(F1606<>\"\",F1606,\"\")","v":""},{"$f":"IF(N1606<>\"\",IF(D1607<>\"\",D1607,D1606),\"\")","v":""},{"$f":"IF(N1606<>\"\",IF(E1607<>\"\",E1607,E1606),\"\")","v":""},{"$f":"IF(N1606<>\"\",IF(F1607<>\"\",F1607,F1606),\"\")","v":""}]
[null,null,null,null,null,null,null,null,null,null,null,null,null,null,null,""]
[null,null,null,null,null,null,null,null,null,null,null,null,null,{"$f":"IF(A1608<>\"\",TEXT(A1608,\"\"),\"\")","v":""},{"$f":"IF(N1608=\"\",\"\",CONCATENATE(IF(C1608<>\"\",TEXT(C1608,\"\"),\"\"),\" - \",IF(K1608<>\"\",TEXT(K1608,\"\"),\"\")))","v":""},"",{"$f":"IF(D1608<>\"\",D1608,\"\")","v":""},{"$f":"IF(E1608<>\"\",E1608,\"\")","v":""},{"$f":"IF(F1608<>\"\",F1608,\"\")","v":""},{"$f":"IF(N1608<>\"\",IF(D1609<>\"\",D1609,D1608),\"\")","v":""},{"$f":"IF(N1608<>\"\",IF(E1609<>\"\",E1609,E1608),\"\")","v":""},{"$f":"IF(N1608<>\"\",IF(F1609<>\"\",F1609,F1608),\"\")","v":""}]
[null,null,null,null,null,null,null,null,null,null,null,null,null,null,null,""]
[null,null,null,null,null,null,null,null,null,null,null,null,null,{"$f":"IF(A1610<>\"\",TEXT(A1610,\"\"),\"\")","v":""},{"$f":"IF(N1610=\"\",\"\",CONCATENATE(IF(C1610<>\"\",TEXT(C1610,\"\"),\"\"),\" - \",IF(K1610<>\"\",TEXT(K1610,\"\"),\"\")))","v":""},"",{"$f":"IF(D1610<>\"\",D1610,\"\")","v":""},{"$f":"IF(E1610<>\"\",E1610,\"\")","v":""},{"$f":"IF(F1610<>\"\",F1610,\"\")","v":""},{"$f":"IF(N1610<>\"\",IF(D1611<>\"\",D1611,D1610),\"\")","v":""},{"$f":"IF(N1610<>\"\",IF(E1611<>\"\",E1611,E1610),\"\")","v":""},{"$f":"IF(N1610<>\"\",IF(F1611<>\"\",F1611,F1610),\"\")","v":""}]
[null,null,null,null,null,null,null,null,null,null,null,null,null,null,null,""]
[null,null,null,null,null,null,null,null,null,null,null,null,null,{"$f":"IF(A1612<>\"\",TEXT(A1612,\"\"),\"\")","v":""},{"$f":"IF(N1612=\"\",\"\",CONCATENATE(IF(C1612<>\"\",TEXT(C1612,\"\"),\"\"),\" - \",IF(K1612<>\"\",TEXT(K1612,\"\"),\"\")))","v":""},"",{"$f":"IF(D1612<>\"\",D1612,\"\")","v":""},{"$f":"IF(E1612<>\"\",E1612,\"\")","v":""},{"$f":"IF(F1612<>\"\",F1612,\"\")","v":""},{"$f":"IF(N1612<>\"\",IF(D1613<>\"\",D1613,D1612),\"\")","v":""},{"$f":"IF(N1612<>\"\",IF(E1613<>\"\",E1613,E1612),\"\")","v":""},{"$f":"IF(N1612<>\"\",IF(F1613<>\"\",F1613,F1612),\"\")","v":""}]
[null,null,null,null,null,null,null,null,null,null,null,null,null,null,null,""]
[null,null,null,null,null,null,null,null,null,null,null,null,null,{"$f":"IF(A1614<>\"\",TEXT(A1614,\"\"),\"\")","v":""},{"$f":"IF(N1614=\"\",\"\",CONCATENATE(IF(C1614<>\"\",TEXT(C1614,\"\"),\"\"),\" - \",IF(K1614<>\"\",TEXT(K1614,\"\"),\"\")))","v":""},"",{"$f":"IF(D1614<>\"\",D1614,\"\")","v":""},{"$f":"IF(E1614<>\"\",E1614,\"\")","v":""},{"$f":"IF(F1614<>\"\",F1614,\"\")","v":""},{"$f":"IF(N1614<>\"\",IF(D1615<>\"\",D1615,D1614),\"\")","v":""},{"$f":"IF(N1614<>\"\",IF(E1615<>\"\",E1615,E1614),\"\")","v":""},{"$f":"IF(N1614<>\"\",IF(F1615<>\"\",F1615,F1614),\"\")","v":""}]
[null,null,null,null,null,null,null,null,null,null,null,null,null,null,null,""]
[null,null,null,null,null,null,null,null,null,null,null,null,null,{"$f":"IF(A1616<>\"\",TEXT(A1616,\"\"),\"\")","v":""},{"$f":"IF(N1616=\"\",\"\",CONCATENATE(IF(C1616<>\"\",TEXT(C1616,\"\"),\"\"),\" - \",IF(K1616<>\"\",TEXT(K1616,\"\"),\"\")))","v":""},"",{"$f":"IF(D1616<>\"\",D1616,\"\")","v":""},{"$f":"IF(E1616<>\"\",E1616,\"\")","v":""},{"$f":"IF(F1616<>\"\",F1616,\"\")","v":""},{"$f":"IF(N1616<>\"\",IF(D1617<>\"\",D1617,D1616),\"\")","v":""},{"$f":"IF(N1616<>\"\",IF(E1617<>\"\",E1617,E1616),\"\")","v":""},{"$f":"IF(N1616<>\"\",IF(F1617<>\"\",F1617,F1616),\"\")","v":""}]
[null,null,null,null,null,null,null,null,null,null,null,null,null,null,null,""]
[null,null,null,null,null,null,null,null,null,null,null,null,null,{"$f":"IF(A1618<>\"\",TEXT(A1618,\"\"),\"\")","v":""},{"$f":"IF(N1618=\"\",\"\",CONCATENATE(IF(C1618<>\"\",TEXT(C1618,\"\"),\"\"),\" - \",IF(K1618<>\"\",TEXT(K1618,\"\"),\"\")))","v":""},"",{"$f":"IF(D1618<>\"\",D1618,\"\")","v":""},{"$f":"IF(E1618<>\"\",E1618,\"\")","v":""},{"$f":"IF(F1618<>\"\",F1618,\"\")","v":""},{"$f":"IF(N1618<>\"\",IF(D1619<>\"\",D1619,D1618),\"\")","v":""},{"$f":"IF(N1618<>\"\",IF(E1619<>\"\",E1619,E1618),\"\")","v":""},{"$f":"IF(N1618<>\"\",IF(F1619<>\"\",F1619,F1618),\"\")","v":""}]
[null,null,null,null,null,null,null,null,null,null,null,null,null,null,null,""]
[null,null,null,null,null,null,null,null,null,null,null,null,null,{"$f":"IF(A1620<>\"\",TEXT(A1620,\"\"),\"\")","v":""},{"$f":"IF(N1620=\"\",\"\",CONCATENATE(IF(C1620<>\"\",TEXT(C1620,\"\"),\"\"),\" - \",IF(K1620<>\"\",TEXT(K1620,\"\"),\"\")))","v":""},"",{"$f":"IF(D1620<>\"\",D1620,\"\")","v":""},{"$f":"IF(E1620<>\"\",E1620,\"\")","v":""},{"$f":"IF(F1620<>\"\",F1620,\"\")","v":""},{"$f":"IF(N1620<>\"\",IF(D1621<>\"\",D1621,D1620),\"\")","v":""},{"$f":"IF(N1620<>\"\",IF(E1621<>\"\",E1621,E1620),\"\")","v":""},{"$f":"IF(N1620<>\"\",IF(F1621<>\"\",F1621,F1620),\"\")","v":""}]
[null,null,null,null,null,null,null,null,null,null,null,null,null,null,null,""]
[null,null,null,null,null,null,null,null,null,null,null,null,null,{"$f":"IF(A1622<>\"\",TEXT(A1622,\"\"),\"\")","v":""},{"$f":"IF(N1622=\"\",\"\",CONCATENATE(IF(C1622<>\"\",TEXT(C1622,\"\"),\"\"),\" - \",IF(K1622<>\"\",TEXT(K1622,\"\"),\"\")))","v":""},"",{"$f":"IF(D1622<>\"\",D1622,\"\")","v":""},{"$f":"IF(E1622<>\"\",E1622,\"\")","v":""},{"$f":"IF(F1622<>\"\",F1622,\"\")","v":""},{"$f":"IF(N1622<>\"\",IF(D1623<>\"\",D1623,D1622),\"\")","v":""},{"$f":"IF(N1622<>\"\",IF(E1623<>\"\",E1623,E1622),\"\")","v":""},{"$f":"IF(N1622<>\"\",IF(F1623<>\"\",F1623,F1622),\"\")","v":""}]
[null,null,null,null,null,null,null,null,null,null,null,null,null,null,null,""]
[null,null,null,null,null,null,null,null,null,null,null,null,null,{"$f":"IF(A1624<>\"\",TEXT(A1624,\"\"),\"\")","v":""},{"$f":"IF(N1624=\"\",\"\",CONCATENATE(IF(C1624<>\"\",TEXT(C1624,\"\"),\"\"),\" - \",IF(K1624<>\"\",TEXT(K1624,\"\"),\"\")))","v":""},"",{"$f":"IF(D1624<>\"\",D1624,\"\")","v":""},{"$f":"IF(E1624<>\"\",E1624,\"\")","v":""},{"$f":"IF(F1624<>\"\",F1624,\"\")","v":""},{"$f":"IF(N1624<>\"\",IF(D1625<>\"\",D1625,D1624),\"\")","v":""},{"$f":"IF(N1624<>\"\",IF(E1625<>\"\",E1625,E1624),\"\")","v":""},{"$f":"IF(N1624<>\"\",IF(F1625<>\"\",F1625,F1624),\"\")","v":""}]
[null,null,null,null,null,null,null,null,null,null,null,null,null,null,null,""]
[null,null,null,null,null,null,null,null,null,null,null,null,null,{"$f":"IF(A1626<>\"\",TEXT(A1626,\"\"),\"\")","v":""},{"$f":"IF(N1626=\"\",\"\",CONCATENATE(IF(C1626<>\"\",TEXT(C1626,\"\"),\"\"),\" - \",IF(K1626<>\"\",TEXT(K1626,\"\"),\"\")))","v":""},"",{"$f":"IF(D1626<>\"\",D1626,\"\")","v":""},{"$f":"IF(E1626<>\"\",E1626,\"\")","v":""},{"$f":"IF(F1626<>\"\",F1626,\"\")","v":""},{"$f":"IF(N1626<>\"\",IF(D1627<>\"\",D1627,D1626),\"\")","v":""},{"$f":"IF(N1626<>\"\",IF(E1627<>\"\",E1627,E1626),\"\")","v":""},{"$f":"IF(N1626<>\"\",IF(F1627<>\"\",F1627,F1626),\"\")","v":""}]
[null,null,null,null,null,null,null,null,null,null,null,null,null,null,null,""]
[null,null,null,null,null,null,null,null,null,null,null,null,null,{"$f":"IF(A1628<>\"\",TEXT(A1628,\"\"),\"\")","v":""},{"$f":"IF(N1628=\"\",\"\",CONCATENATE(IF(C1628<>\"\",TEXT(C1628,\"\"),\"\"),\" - \",IF(K1628<>\"\",TEXT(K1628,\"\"),\"\")))","v":""},"",{"$f":"IF(D1628<>\"\",D1628,\"\")","v":""},{"$f":"IF(E1628<>\"\",E1628,\"\")","v":""},{"$f":"IF(F1628<>\"\",F1628,\"\")","v":""},{"$f":"IF(N1628<>\"\",IF(D1629<>\"\",D1629,D1628),\"\")","v":""},{"$f":"IF(N1628<>\"\",IF(E1629<>\"\",E1629,E1628),\"\")","v":""},{"$f":"IF(N1628<>\"\",IF(F1629<>\"\",F1629,F1628),\"\")","v":""}]
[null,null,null,null,null,null,null,null,null,null,null,null,null,null,null,""]
[null,null,null,null,null,null,null,null,null,null,null,null,null,{"$f":"IF(A1630<>\"\",TEXT(A1630,\"\"),\"\")","v":""},{"$f":"IF(N1630=\"\",\"\",CONCATENATE(IF(C1630<>\"\",TEXT(C1630,\"\"),\"\"),\" - \",IF(K1630<>\"\",TEXT(K1630,\"\"),\"\")))","v":""},"",{"$f":"IF(D1630<>\"\",D1630,\"\")","v":""},{"$f":"IF(E1630<>\"\",E1630,\"\")","v":""},{"$f":"IF(F1630<>\"\",F1630,\"\")","v":""},{"$f":"IF(N1630<>\"\",IF(D1631<>\"\",D1631,D1630),\"\")","v":""},{"$f":"IF(N1630<>\"\",IF(E1631<>\"\",E1631,E1630),\"\")","v":""},{"$f":"IF(N1630<>\"\",IF(F1631<>\"\",F1631,F1630),\"\")","v":""}]
[null,null,null,null,null,null,null,null,null,null,null,null,null,null,null,""]
[null,null,null,null,null,null,null,null,null,null,null,null,null,{"$f":"IF(A1632<>\"\",TEXT(A1632,\"\"),\"\")","v":""},{"$f":"IF(N1632=\"\",\"\",CONCATENATE(IF(C1632<>\"\",TEXT(C1632,\"\"),\"\"),\" - \",IF(K1632<>\"\",TEXT(K1632,\"\"),\"\")))","v":""},"",{"$f":"IF(D1632<>\"\",D1632,\"\")","v":""},{"$f":"IF(E1632<>\"\",E1632,\"\")","v":""},{"$f":"IF(F1632<>\"\",F1632,\"\")","v":""},{"$f":"IF(N1632<>\"\",IF(D1633<>\"\",D1633,D1632),\"\")","v":""},{"$f":"IF(N1632<>\"\",IF(E1633<>\"\",E1633,E1632),\"\")","v":""},{"$f":"IF(N1632<>\"\",IF(F1633<>\"\",F1633,F1632),\"\")","v":""}]
[null,null,null,null,null,null,null,null,null,null,null,null,null,null,null,""]
[null,null,null,null,null,null,null,null,null,null,null,null,null,{"$f":"IF(A1634<>\"\",TEXT(A1634,\"\"),\"\")","v":""},{"$f":"IF(N1634=\"\",\"\",CONCATENATE(IF(C1634<>\"\",TEXT(C1634,\"\"),\"\"),\" - \",IF(K1634<>\"\",TEXT(K1634,\"\"),\"\")))","v":""},"",{"$f":"IF(D1634<>\"\",D1634,\"\")","v":""},{"$f":"IF(E1634<>\"\",E1634,\"\")","v":""},{"$f":"IF(F1634<>\"\",F1634,\"\")","v":""},{"$f":"IF(N1634<>\"\",IF(D1635<>\"\",D1635,D1634),\"\")","v":""},{"$f":"IF(N1634<>\"\",IF(E1635<>\"\",E1635,E1634),\"\")","v":""},{"$f":"IF(N1634<>\"\",IF(F1635<>\"\",F1635,F1634),\"\")","v":""}]
[null,null,null,null,null,null,null,null,null,null,null,null,null,null,null,""]
[null,null,null,null,null,null,null,null,null,null,null,null,null,{"$f":"IF(A1636<>\"\",TEXT(A1636,\"\"),\"\")","v":""},{"$f":"IF(N1636=\"\",\"\",CONCATENATE(IF(C1636<>\"\",TEXT(C1636,\"\"),\"\"),\" - \",IF(K1636<>\"\",TEXT(K1636,\"\"),\"\")))","v":""},"",{"$f":"IF(D1636<>\"\",D1636,\"\")","v":""},{"$f":"IF(E1636<>\"\",E1636,\"\")","v":""},{"$f":"IF(F1636<>\"\",F1636,\"\")","v":""},{"$f":"IF(N1636<>\"\",IF(D1637<>\"\",D1637,D1636),\"\")","v":""},{"$f":"IF(N1636<>\"\",IF(E1637<>\"\",E1637,E1636),\"\")","v":""},{"$f":"IF(N1636<>\"\",IF(F1637<>\"\",F1637,F1636),\"\")","v":""}]
[null,null,null,null,null,null,null,null,null,null,null,null,null,null,null,""]
[null,null,null,null,null,null,null,null,null,null,null,null,null,{"$f":"IF(A1638<>\"\",TEXT(A1638,\"\"),\"\")","v":""},{"$f":"IF(N1638=\"\",\"\",CONCATENATE(IF(C1638<>\"\",TEXT(C1638,\"\"),\"\"),\" - \",IF(K1638<>\"\",TEXT(K1638,\"\"),\"\")))","v":""},"",{"$f":"IF(D1638<>\"\",D1638,\"\")","v":""},{"$f":"IF(E1638<>\"\",E1638,\"\")","v":""},{"$f":"IF(F1638<>\"\",F1638,\"\")","v":""},{"$f":"IF(N1638<>\"\",IF(D1639<>\"\",D1639,D1638),\"\")","v":""},{"$f":"IF(N1638<>\"\",IF(E1639<>\"\",E1639,E1638),\"\")","v":""},{"$f":"IF(N1638<>\"\",IF(F1639<>\"\",F1639,F1638),\"\")","v":""}]
[null,null,null,null,null,null,null,null,null,null,null,null,null,null,null,""]
[null,null,null,null,null,null,null,null,null,null,null,null,null,{"$f":"IF(A1640<>\"\",TEXT(A1640,\"\"),\"\")","v":""},{"$f":"IF(N1640=\"\",\"\",CONCATENATE(IF(C1640<>\"\",TEXT(C1640,\"\"),\"\"),\" - \",IF(K1640<>\"\",TEXT(K1640,\"\"),\"\")))","v":""},"",{"$f":"IF(D1640<>\"\",D1640,\"\")","v":""},{"$f":"IF(E1640<>\"\",E1640,\"\")","v":""},{"$f":"IF(F1640<>\"\",F1640,\"\")","v":""},{"$f":"IF(N1640<>\"\",IF(D1641<>\"\",D1641,D1640),\"\")","v":""},{"$f":"IF(N1640<>\"\",IF(E1641<>\"\",E1641,E1640),\"\")","v":""},{"$f":"IF(N1640<>\"\",IF(F1641<>\"\",F1641,F1640),\"\")","v":""}]
[null,null,null,null,null,null,null,null,null,null,null,null,null,null,null,""]
[null,null,null,null,null,null,null,null,null,null,null,null,null,{"$f":"IF(A1642<>\"\",TEXT(A1642,\"\"),\"\")","v":""},{"$f":"IF(N1642=\"\",\"\",CONCATENATE(IF(C1642<>\"\",TEXT(C1642,\"\"),\"\"),\" - \",IF(K1642<>\"\",TEXT(K1642,\"\"),\"\")))","v":""},"",{"$f":"IF(D1642<>\"\",D1642,\"\")","v":""},{"$f":"IF(E1642<>\"\",E1642,\"\")","v":""},{"$f":"IF(F1642<>\"\",F1642,\"\")","v":""},{"$f":"IF(N1642<>\"\",IF(D1643<>\"\",D1643,D1642),\"\")","v":""},{"$f":"IF(N1642<>\"\",IF(E1643<>\"\",E1643,E1642),\"\")","v":""},{"$f":"IF(N1642<>\"\",IF(F1643<>\"\",F1643,F1642),\"\")","v":""}]
[null,null,null,null,null,null,null,null,null,null,null,null,null,null,null,""]
[null,null,null,null,null,null,null,null,null,null,null,null,null,{"$f":"IF(A1644<>\"\",TEXT(A1644,\"\"),\"\")","v":""},{"$f":"IF(N1644=\"\",\"\",CONCATENATE(IF(C1644<>\"\",TEXT(C1644,\"\"),\"\"),\" - \",IF(K1644<>\"\",TEXT(K1644,\"\"),\"\")))","v":""},"",{"$f":"IF(D1644<>\"\",D1644,\"\")","v":""},{"$f":"IF(E1644<>\"\",E1644,\"\")","v":""},{"$f":"IF(F1644<>\"\",F1644,\"\")","v":""},{"$f":"IF(N1644<>\"\",IF(D1645<>\"\",D1645,D1644),\"\")","v":""},{"$f":"IF(N1644<>\"\",IF(E1645<>\"\",E1645,E1644),\"\")","v":""},{"$f":"IF(N1644<>\"\",IF(F1645<>\"\",F1645,F1644),\"\")","v":""}]
[null,null,null,null,null,null,null,null,null,null,null,null,null,null,null,""]
[null,null,null,null,null,null,null,null,null,null,null,null,null,{"$f":"IF(A1646<>\"\",TEXT(A1646,\"\"),\"\")","v":""},{"$f":"IF(N1646=\"\",\"\",CONCATENATE(IF(C1646<>\"\",TEXT(C1646,\"\"),\"\"),\" - \",IF(K1646<>\"\",TEXT(K1646,\"\"),\"\")))","v":""},"",{"$f":"IF(D1646<>\"\",D1646,\"\")","v":""},{"$f":"IF(E1646<>\"\",E1646,\"\")","v":""},{"$f":"IF(F1646<>\"\",F1646,\"\")","v":""},{"$f":"IF(N1646<>\"\",IF(D1647<>\"\",D1647,D1646),\"\")","v":""},{"$f":"IF(N1646<>\"\",IF(E1647<>\"\",E1647,E1646),\"\")","v":""},{"$f":"IF(N1646<>\"\",IF(F1647<>\"\",F1647,F1646),\"\")","v":""}]
[null,null,null,null,null,null,null,null,null,null,null,null,null,null,null,""]
[null,null,null,null,null,null,null,null,null,null,null,null,null,{"$f":"IF(A1648<>\"\",TEXT(A1648,\"\"),\"\")","v":""},{"$f":"IF(N1648=\"\",\"\",CONCATENATE(IF(C1648<>\"\",TEXT(C1648,\"\"),\"\"),\" - \",IF(K1648<>\"\",TEXT(K1648,\"\"),\"\")))","v":""},"",{"$f":"IF(D1648<>\"\",D1648,\"\")","v":""},{"$f":"IF(E1648<>\"\",E1648,\"\")","v":""},{"$f":"IF(F1648<>\"\",F1648,\"\")","v":""},{"$f":"IF(N1648<>\"\",IF(D1649<>\"\",D1649,D1648),\"\")","v":""},{"$f":"IF(N1648<>\"\",IF(E1649<>\"\",E1649,E1648),\"\")","v":""},{"$f":"IF(N1648<>\"\",IF(F1649<>\"\",F1649,F1648),\"\")","v":""}]
[null,null,null,null,null,null,null,null,null,null,null,null,null,null,null,""]
[null,null,null,null,null,null,null,null,null,null,null,null,null,{"$f":"IF(A1650<>\"\",TEXT(A1650,\"\"),\"\")","v":""},{"$f":"IF(N1650=\"\",\"\",CONCATENATE(IF(C1650<>\"\",TEXT(C1650,\"\"),\"\"),\" - \",IF(K1650<>\"\",TEXT(K1650,\"\"),\"\")))","v":""},"",{"$f":"IF(D1650<>\"\",D1650,\"\")","v":""},{"$f":"IF(E1650<>\"\",E1650,\"\")","v":""},{"$f":"IF(F1650<>\"\",F1650,\"\")","v":""},{"$f":"IF(N1650<>\"\",IF(D1651<>\"\",D1651,D1650),\"\")","v":""},{"$f":"IF(N1650<>\"\",IF(E1651<>\"\",E1651,E1650),\"\")","v":""},{"$f":"IF(N1650<>\"\",IF(F1651<>\"\",F1651,F1650),\"\")","v":""}]
[null,null,null,null,null,null,null,null,null,null,null,null,null,null,null,""]
[null,null,null,null,null,null,null,null,null,null,null,null,null,{"$f":"IF(A1652<>\"\",TEXT(A1652,\"\"),\"\")","v":""},{"$f":"IF(N1652=\"\",\"\",CONCATENATE(IF(C1652<>\"\",TEXT(C1652,\"\"),\"\"),\" - \",IF(K1652<>\"\",TEXT(K1652,\"\"),\"\")))","v":""},"",{"$f":"IF(D1652<>\"\",D1652,\"\")","v":""},{"$f":"IF(E1652<>\"\",E1652,\"\")","v":""},{"$f":"IF(F1652<>\"\",F1652,\"\")","v":""},{"$f":"IF(N1652<>\"\",IF(D1653<>\"\",D1653,D1652),\"\")","v":""},{"$f":"IF(N1652<>\"\",IF(E1653<>\"\",E1653,E1652),\"\")","v":""},{"$f":"IF(N1652<>\"\",IF(F1653<>\"\",F1653,F1652),\"\")","v":""}]
[null,null,null,null,null,null,null,null,null,null,null,null,null,null,null,""]
[null,null,null,null,null,null,null,null,null,null,null,null,null,{"$f":"IF(A1654<>\"\",TEXT(A1654,\"\"),\"\")","v":""},{"$f":"IF(N1654=\"\",\"\",CONCATENATE(IF(C1654<>\"\",TEXT(C1654,\"\"),\"\"),\" - \",IF(K1654<>\"\",TEXT(K1654,\"\"),\"\")))","v":""},"",{"$f":"IF(D1654<>\"\",D1654,\"\")","v":""},{"$f":"IF(E1654<>\"\",E1654,\"\")","v":""},{"$f":"IF(F1654<>\"\",F1654,\"\")","v":""},{"$f":"IF(N1654<>\"\",IF(D1655<>\"\",D1655,D1654),\"\")","v":""},{"$f":"IF(N1654<>\"\",IF(E1655<>\"\",E1655,E1654),\"\")","v":""},{"$f":"IF(N1654<>\"\",IF(F1655<>\"\",F1655,F1654),\"\")","v":""}]
[null,null,null,null,null,null,null,null,null,null,null,null,null,null,null,""]
[null,null,null,null,null,null,null,null,null,null,null,null,null,{"$f":"IF(A1656<>\"\",TEXT(A1656,\"\"),\"\")","v":""},{"$f":"IF(N1656=\"\",\"\",CONCATENATE(IF(C1656<>\"\",TEXT(C1656,\"\"),\"\"),\" - \",IF(K1656<>\"\",TEXT(K1656,\"\"),\"\")))","v":""},"",{"$f":"IF(D1656<>\"\",D1656,\"\")","v":""},{"$f":"IF(E1656<>\"\",E1656,\"\")","v":""},{"$f":"IF(F1656<>\"\",F1656,\"\")","v":""},{"$f":"IF(N1656<>\"\",IF(D1657<>\"\",D1657,D1656),\"\")","v":""},{"$f":"IF(N1656<>\"\",IF(E1657<>\"\",E1657,E1656),\"\")","v":""},{"$f":"IF(N1656<>\"\",IF(F1657<>\"\",F1657,F1656),\"\")","v":""}]
[null,null,null,null,null,null,null,null,null,null,null,null,null,null,null,""]
[null,null,null,null,null,null,null,null,null,null,null,null,null,{"$f":"IF(A1658<>\"\",TEXT(A1658,\"\"),\"\")","v":""},{"$f":"IF(N1658=\"\",\"\",CONCATENATE(IF(C1658<>\"\",TEXT(C1658,\"\"),\"\"),\" - \",IF(K1658<>\"\",TEXT(K1658,\"\"),\"\")))","v":""},"",{"$f":"IF(D1658<>\"\",D1658,\"\")","v":""},{"$f":"IF(E1658<>\"\",E1658,\"\")","v":""},{"$f":"IF(F1658<>\"\",F1658,\"\")","v":""},{"$f":"IF(N1658<>\"\",IF(D1659<>\"\",D1659,D1658),\"\")","v":""},{"$f":"IF(N1658<>\"\",IF(E1659<>\"\",E1659,E1658),\"\")","v":""},{"$f":"IF(N1658<>\"\",IF(F1659<>\"\",F1659,F1658),\"\")","v":""}]
[null,null,null,null,null,null,null,null,null,null,null,null,null,null,null,""]
[null,null,null,null,null,null,null,null,null,null,null,null,null,{"$f":"IF(A1660<>\"\",TEXT(A1660,\"\"),\"\")","v":""},{"$f":"IF(N1660=\"\",\"\",CONCATENATE(IF(C1660<>\"\",TEXT(C1660,\"\"),\"\"),\" - \",IF(K1660<>\"\",TEXT(K1660,\"\"),\"\")))","v":""},"",{"$f":"IF(D1660<>\"\",D1660,\"\")","v":""},{"$f":"IF(E1660<>\"\",E1660,\"\")","v":""},{"$f":"IF(F1660<>\"\",F1660,\"\")","v":""},{"$f":"IF(N1660<>\"\",IF(D1661<>\"\",D1661,D1660),\"\")","v":""},{"$f":"IF(N1660<>\"\",IF(E1661<>\"\",E1661,E1660),\"\")","v":""},{"$f":"IF(N1660<>\"\",IF(F1661<>\"\",F1661,F1660),\"\")","v":""}]
[null,null,null,null,null,null,null,null,null,null,null,null,null,null,null,""]
[null,null,null,null,null,null,null,null,null,null,null,null,null,{"$f":"IF(A1662<>\"\",TEXT(A1662,\"\"),\"\")","v":""},{"$f":"IF(N1662=\"\",\"\",CONCATENATE(IF(C1662<>\"\",TEXT(C1662,\"\"),\"\"),\" - \",IF(K1662<>\"\",TEXT(K1662,\"\"),\"\")))","v":""},"",{"$f":"IF(D1662<>\"\",D1662,\"\")","v":""},{"$f":"IF(E1662<>\"\",E1662,\"\")","v":""},{"$f":"IF(F1662<>\"\",F1662,\"\")","v":""},{"$f":"IF(N1662<>\"\",IF(D1663<>\"\",D1663,D1662),\"\")","v":""},{"$f":"IF(N1662<>\"\",IF(E1663<>\"\",E1663,E1662),\"\")","v":""},{"$f":"IF(N1662<>\"\",IF(F1663<>\"\",F1663,F1662),\"\")","v":""}]
[null,null,null,null,null,null,null,null,null,null,null,null,null,null,null,""]
[null,null,null,null,null,null,null,null,null,null,null,null,null,{"$f":"IF(A1664<>\"\",TEXT(A1664,\"\"),\"\")","v":""},{"$f":"IF(N1664=\"\",\"\",CONCATENATE(IF(C1664<>\"\",TEXT(C1664,\"\"),\"\"),\" - \",IF(K1664<>\"\",TEXT(K1664,\"\"),\"\")))","v":""},"",{"$f":"IF(D1664<>\"\",D1664,\"\")","v":""},{"$f":"IF(E1664<>\"\",E1664,\"\")","v":""},{"$f":"IF(F1664<>\"\",F1664,\"\")","v":""},{"$f":"IF(N1664<>\"\",IF(D1665<>\"\",D1665,D1664),\"\")","v":""},{"$f":"IF(N1664<>\"\",IF(E1665<>\"\",E1665,E1664),\"\")","v":""},{"$f":"IF(N1664<>\"\",IF(F1665<>\"\",F1665,F1664),\"\")","v":""}]
[null,null,null,null,null,null,null,null,null,null,null,null,null,null,null,""]
[null,null,null,null,null,null,null,null,null,null,null,null,null,{"$f":"IF(A1666<>\"\",TEXT(A1666,\"\"),\"\")","v":""},{"$f":"IF(N1666=\"\",\"\",CONCATENATE(IF(C1666<>\"\",TEXT(C1666,\"\"),\"\"),\" - \",IF(K1666<>\"\",TEXT(K1666,\"\"),\"\")))","v":""},"",{"$f":"IF(D1666<>\"\",D1666,\"\")","v":""},{"$f":"IF(E1666<>\"\",E1666,\"\")","v":""},{"$f":"IF(F1666<>\"\",F1666,\"\")","v":""},{"$f":"IF(N1666<>\"\",IF(D1667<>\"\",D1667,D1666),\"\")","v":""},{"$f":"IF(N1666<>\"\",IF(E1667<>\"\",E1667,E1666),\"\")","v":""},{"$f":"IF(N1666<>\"\",IF(F1667<>\"\",F1667,F1666),\"\")","v":""}]
[null,null,null,null,null,null,null,null,null,null,null,null,null,null,null,{"$f":"SUBSTITUTE(SUBSTITUTE(SUBSTITUTE(SUBSTITUTE(IF(L1667<>\"\",HLink(L1667),\"\"),\"htm\",\"html\"),\"1x2\",\"analysis\"),\"www\",\"www\"),\"com\",\"vip\")","v":""}]
[null,null,null,null,null,null,null,null,null,null,null,null,null,{"$f":"IF(A1668<>\"\",TEXT(A1668,\"\"),\"\")","v":""},{"$f":"IF(N1668=\"\",\"\",CONCATENATE(IF(C1668<>\"\",TEXT(C1668,\"\"),\"\"),\" - \",IF(K1668<>\"\",TEXT(K1668,\"\"),\"\")))","v":""},"",{"$f":"IF(D1668<>\"\",D1668,\"\")","v":""},{"$f":"IF(E1668<>\"\",E1668,\"\")","v":""},{"$f":"IF(F1668<>\"\",F1668,\"\")","v":""},{"$f":"IF(N1668<>\"\",IF(D1669<>\"\",D1669,D1668),\"\")","v":""},{"$f":"IF(N1668<>\"\",IF(E1669<>\"\",E1669,E1668),\"\")","v":""},{"$f":"IF(N1668<>\"\",IF(F1669<>\"\",F1669,F1668),\"\")","v":""}]
[null,null,null,null,null,null,null,null,null,null,null,null,null,null,null,""]
[null,null,null,null,null,null,null,null,null,null,null,null,null,{"$f":"IF(A1670<>\"\",TEXT(A1670,\"\"),\"\")","v":""},{"$f":"IF(N1670=\"\",\"\",CONCATENATE(IF(C1670<>\"\",TEXT(C1670,\"\"),\"\"),\" - \",IF(K1670<>\"\",TEXT(K1670,\"\"),\"\")))","v":""},"",{"$f":"IF(D1670<>\"\",D1670,\"\")","v":""},{"$f":"IF(E1670<>\"\",E1670,\"\")","v":""},{"$f":"IF(F1670<>\"\",F1670,\"\")","v":""},{"$f":"IF(N1670<>\"\",IF(D1671<>\"\",D1671,D1670),\"\")","v":""},{"$f":"IF(N1670<>\"\",IF(E1671<>\"\",E1671,E1670),\"\")","v":""},{"$f":"IF(N1670<>\"\",IF(F1671<>\"\",F1671,F1670),\"\")","v":""}]
[null,null,null,null,null,null,null,null,null,null,null,null,null,null,null,""]
[null,null,null,null,null,null,null,null,null,null,null,null,null,{"$f":"IF(A1672<>\"\",TEXT(A1672,\"\"),\"\")","v":""},{"$f":"IF(N1672=\"\",\"\",CONCATENATE(IF(C1672<>\"\",TEXT(C1672,\"\"),\"\"),\" - \",IF(K1672<>\"\",TEXT(K1672,\"\"),\"\")))","v":""},"",{"$f":"IF(D1672<>\"\",D1672,\"\")","v":""},{"$f":"IF(E1672<>\"\",E1672,\"\")","v":""},{"$f":"IF(F1672<>\"\",F1672,\"\")","v":""},{"$f":"IF(N1672<>\"\",IF(D1673<>\"\",D1673,D1672),\"\")","v":""},{"$f":"IF(N1672<>\"\",IF(E1673<>\"\",E1673,E1672),\"\")","v":""},{"$f":"IF(N1672<>\"\",IF(F1673<>\"\",F1673,F1672),\"\")","v":""}]
[null,null,null,null,null,null,null,null,null,null,null,null,null,null,null,""]
[null,null,null,null,null,null,null,null,null,null,null,null,null,{"$f":"IF(A1674<>\"\",TEXT(A1674,\"\"),\"\")","v":""},{"$f":"IF(N1674=\"\",\"\",CONCATENATE(IF(C1674<>\"\",TEXT(C1674,\"\"),\"\"),\" - \",IF(K1674<>\"\",TEXT(K1674,\"\"),\"\")))","v":""},"",{"$f":"IF(D1674<>\"\",D1674,\"\")","v":""},{"$f":"IF(E1674<>\"\",E1674,\"\")","v":""},{"$f":"IF(F1674<>\"\",F1674,\"\")","v":""},{"$f":"IF(N1674<>\"\",IF(D1675<>\"\",D1675,D1674),\"\")","v":""},{"$f":"IF(N1674<>\"\",IF(E1675<>\"\",E1675,E1674),\"\")","v":""},{"$f":"IF(N1674<>\"\",IF(F1675<>\"\",F1675,F1674),\"\")","v":""}]
[null,null,null,null,null,null,null,null,null,null,null,null,null,null,null,""]
[null,null,null,null,null,null,null,null,null,null,null,null,null,{"$f":"IF(A1676<>\"\",TEXT(A1676,\"\"),\"\")","v":""},{"$f":"IF(N1676=\"\",\"\",CONCATENATE(IF(C1676<>\"\",TEXT(C1676,\"\"),\"\"),\" - \",IF(K1676<>\"\",TEXT(K1676,\"\"),\"\")))","v":""},"",{"$f":"IF(D1676<>\"\",D1676,\"\")","v":""},{"$f":"IF(E1676<>\"\",E1676,\"\")","v":""},{"$f":"IF(F1676<>\"\",F1676,\"\")","v":""},{"$f":"IF(N1676<>\"\",IF(D1677<>\"\",D1677,D1676),\"\")","v":""},{"$f":"IF(N1676<>\"\",IF(E1677<>\"\",E1677,E1676),\"\")","v":""},{"$f":"IF(N1676<>\"\",IF(F1677<>\"\",F1677,F1676),\"\")","v":""}]
[null,null,null,null,null,null,null,null,null,null,null,null,null,null,null,""]
[null,null,null,null,null,null,null,null,null,null,null,null,null,{"$f":"IF(A1678<>\"\",TEXT(A1678,\"\"),\"\")","v":""},{"$f":"IF(N1678=\"\",\"\",CONCATENATE(IF(C1678<>\"\",TEXT(C1678,\"\"),\"\"),\" - \",IF(K1678<>\"\",TEXT(K1678,\"\"),\"\")))","v":""},"",{"$f":"IF(D1678<>\"\",D1678,\"\")","v":""},{"$f":"IF(E1678<>\"\",E1678,\"\")","v":""},{"$f":"IF(F1678<>\"\",F1678,\"\")","v":""},{"$f":"IF(N1678<>\"\",IF(D1679<>\"\",D1679,D1678),\"\")","v":""},{"$f":"IF(N1678<>\"\",IF(E1679<>\"\",E1679,E1678),\"\")","v":""},{"$f":"IF(N1678<>\"\",IF(F1679<>\"\",F1679,F1678),\"\")","v":""}]
[null,null,null,null,null,null,null,null,null,null,null,null,null,null,null,""]
[null,null,null,null,null,null,null,null,null,null,null,null,null,{"$f":"IF(A1680<>\"\",TEXT(A1680,\"\"),\"\")","v":""},{"$f":"IF(N1680=\"\",\"\",CONCATENATE(IF(C1680<>\"\",TEXT(C1680,\"\"),\"\"),\" - \",IF(K1680<>\"\",TEXT(K1680,\"\"),\"\")))","v":""},"",{"$f":"IF(D1680<>\"\",D1680,\"\")","v":""},{"$f":"IF(E1680<>\"\",E1680,\"\")","v":""},{"$f":"IF(F1680<>\"\",F1680,\"\")","v":""},{"$f":"IF(N1680<>\"\",IF(D1681<>\"\",D1681,D1680),\"\")","v":""},{"$f":"IF(N1680<>\"\",IF(E1681<>\"\",E1681,E1680),\"\")","v":""},{"$f":"IF(N1680<>\"\",IF(F1681<>\"\",F1681,F1680),\"\")","v":""}]
[null,null,null,null,null,null,null,null,null,null,null,null,null,null,null,""]
[null,null,null,null,null,null,null,null,null,null,null,null,null,{"$f":"IF(A1682<>\"\",TEXT(A1682,\"\"),\"\")","v":""},{"$f":"IF(N1682=\"\",\"\",CONCATENATE(IF(C1682<>\"\",TEXT(C1682,\"\"),\"\"),\" - \",IF(K1682<>\"\",TEXT(K1682,\"\"),\"\")))","v":""},"",{"$f":"IF(D1682<>\"\",D1682,\"\")","v":""},{"$f":"IF(E1682<>\"\",E1682,\"\")","v":""},{"$f":"IF(F1682<>\"\",F1682,\"\")","v":""},{"$f":"IF(N1682<>\"\",IF(D1683<>\"\",D1683,D1682),\"\")","v":""},{"$f":"IF(N1682<>\"\",IF(E1683<>\"\",E1683,E1682),\"\")","v":""},{"$f":"IF(N1682<>\"\",IF(F1683<>\"\",F1683,F1682),\"\")","v":""}]
[null,null,null,null,null,null,null,null,null,null,null,null,null,null,null,""]
[null,null,null,null,null,null,null,null,null,null,null,null,null,{"$f":"IF(A1684<>\"\",TEXT(A1684,\"\"),\"\")","v":""},{"$f":"IF(N1684=\"\",\"\",CONCATENATE(IF(C1684<>\"\",TEXT(C1684,\"\"),\"\"),\" - \",IF(K1684<>\"\",TEXT(K1684,\"\"),\"\")))","v":""},"",{"$f":"IF(D1684<>\"\",D1684,\"\")","v":""},{"$f":"IF(E1684<>\"\",E1684,\"\")","v":""},{"$f":"IF(F1684<>\"\",F1684,\"\")","v":""},{"$f":"IF(N1684<>\"\",IF(D1685<>\"\",D1685,D1684),\"\")","v":""},{"$f":"IF(N1684<>\"\",IF(E1685<>\"\",E1685,E1684),\"\")","v":""},{"$f":"IF(N1684<>\"\",IF(F1685<>\"\",F1685,F1684),\"\")","v":""}]
[null,null,null,null,null,null,null,null,null,null,null,null,null,null,null,""]
[null,null,null,null,null,null,null,null,null,null,null,null,null,{"$f":"IF(A1686<>\"\",TEXT(A1686,\"\"),\"\")","v":""},{"$f":"IF(N1686=\"\",\"\",CONCATENATE(IF(C1686<>\"\",TEXT(C1686,\"\"),\"\"),\" - \",IF(K1686<>\"\",TEXT(K1686,\"\"),\"\")))","v":""},"",{"$f":"IF(D1686<>\"\",D1686,\"\")","v":""},{"$f":"IF(E1686<>\"\",E1686,\"\")","v":""},{"$f":"IF(F1686<>\"\",F1686,\"\")","v":""},{"$f":"IF(N1686<>\"\",IF(D1687<>\"\",D1687,D1686),\"\")","v":""},{"$f":"IF(N1686<>\"\",IF(E1687<>\"\",E1687,E1686),\"\")","v":""},{"$f":"IF(N1686<>\"\",IF(F1687<>\"\",F1687,F1686),\"\")","v":""}]
[null,null,null,null,null,null,null,null,null,null,null,null,null,null,null,""]
[null,null,null,null,null,null,null,null,null,null,null,null,null,{"$f":"IF(A1688<>\"\",TEXT(A1688,\"\"),\"\")","v":""},{"$f":"IF(N1688=\"\",\"\",CONCATENATE(IF(C1688<>\"\",TEXT(C1688,\"\"),\"\"),\" - \",IF(K1688<>\"\",TEXT(K1688,\"\"),\"\")))","v":""},"",{"$f":"IF(D1688<>\"\",D1688,\"\")","v":""},{"$f":"IF(E1688<>\"\",E1688,\"\")","v":""},{"$f":"IF(F1688<>\"\",F1688,\"\")","v":""},{"$f":"IF(N1688<>\"\",IF(D1689<>\"\",D1689,D1688),\"\")","v":""},{"$f":"IF(N1688<>\"\",IF(E1689<>\"\",E1689,E1688),\"\")","v":""},{"$f":"IF(N1688<>\"\",IF(F1689<>\"\",F1689,F1688),\"\")","v":""}]
[null,null,null,null,null,null,null,null,null,null,null,null,null,null,null,""]
[null,null,null,null,null,null,null,null,null,null,null,null,null,{"$f":"IF(A1690<>\"\",TEXT(A1690,\"\"),\"\")","v":""},{"$f":"IF(N1690=\"\",\"\",CONCATENATE(IF(C1690<>\"\",TEXT(C1690,\"\"),\"\"),\" - \",IF(K1690<>\"\",TEXT(K1690,\"\"),\"\")))","v":""},"",{"$f":"IF(D1690<>\"\",D1690,\"\")","v":""},{"$f":"IF(E1690<>\"\",E1690,\"\")","v":""},{"$f":"IF(F1690<>\"\",F1690,\"\")","v":""},{"$f":"IF(N1690<>\"\",IF(D1691<>\"\",D1691,D1690),\"\")","v":""},{"$f":"IF(N1690<>\"\",IF(E1691<>\"\",E1691,E1690),\"\")","v":""},{"$f":"IF(N1690<>\"\",IF(F1691<>\"\",F1691,F1690),\"\")","v":""}]
[null,null,null,null,null,null,null,null,null,null,null,null,null,null,null,""]
[null,null,null,null,null,null,null,null,null,null,null,null,null,{"$f":"IF(A1692<>\"\",TEXT(A1692,\"\"),\"\")","v":""},{"$f":"IF(N1692=\"\",\"\",CONCATENATE(IF(C1692<>\"\",TEXT(C1692,\"\"),\"\"),\" - \",IF(K1692<>\"\",TEXT(K1692,\"\"),\"\")))","v":""},"",{"$f":"IF(D1692<>\"\",D1692,\"\")","v":""},{"$f":"IF(E1692<>\"\",E1692,\"\")","v":""},{"$f":"IF(F1692<>\"\",F1692,\"\")","v":""},{"$f":"IF(N1692<>\"\",IF(D1693<>\"\",D1693,D1692),\"\")","v":""},{"$f":"IF(N1692<>\"\",IF(E1693<>\"\",E1693,E1692),\"\")","v":""},{"$f":"IF(N1692<>\"\",IF(F1693<>\"\",F1693,F1692),\"\")","v":""}]
[null,null,null,null,null,null,null,null,null,null,null,null,null,null,null,""]
[null,null,null,null,null,null,null,null,null,null,null,null,null,{"$f":"IF(A1694<>\"\",TEXT(A1694,\"\"),\"\")","v":""},{"$f":"IF(N1694=\"\",\"\",CONCATENATE(IF(C1694<>\"\",TEXT(C1694,\"\"),\"\"),\" - \",IF(K1694<>\"\",TEXT(K1694,\"\"),\"\")))","v":""},"",{"$f":"IF(D1694<>\"\",D1694,\"\")","v":""},{"$f":"IF(E1694<>\"\",E1694,\"\")","v":""},{"$f":"IF(F1694<>\"\",F1694,\"\")","v":""},{"$f":"IF(N1694<>\"\",IF(D1695<>\"\",D1695,D1694),\"\")","v":""},{"$f":"IF(N1694<>\"\",IF(E1695<>\"\",E1695,E1694),\"\")","v":""},{"$f":"IF(N1694<>\"\",IF(F1695<>\"\",F1695,F1694),\"\")","v":""}]
[null,null,null,null,null,null,null,null,null,null,null,null,null,null,null,""]
[null,null,null,null,null,null,null,null,null,null,null,null,null,{"$f":"IF(A1696<>\"\",TEXT(A1696,\"\"),\"\")","v":""},{"$f":"IF(N1696=\"\",\"\",CONCATENATE(IF(C1696<>\"\",TEXT(C1696,\"\"),\"\"),\" - \",IF(K1696<>\"\",TEXT(K1696,\"\"),\"\")))","v":""},"",{"$f":"IF(D1696<>\"\",D1696,\"\")","v":""},{"$f":"IF(E1696<>\"\",E1696,\"\")","v":""},{"$f":"IF(F1696<>\"\",F1696,\"\")","v":""},{"$f":"IF(N1696<>\"\",IF(D1697<>\"\",D1697,D1696),\"\")","v":""},{"$f":"IF(N1696<>\"\",IF(E1697<>\"\",E1697,E1696),\"\")","v":""},{"$f":"IF(N1696<>\"\",IF(F1697<>\"\",F1697,F1696),\"\")","v":""}]
[null,null,null,null,null,null,null,null,null,null,null,null,null,null,null,""]
[null,null,null,null,null,null,null,null,null,null,null,null,null,{"$f":"IF(A1698<>\"\",TEXT(A1698,\"\"),\"\")","v":""},{"$f":"IF(N1698=\"\",\"\",CONCATENATE(IF(C1698<>\"\",TEXT(C1698,\"\"),\"\"),\" - \",IF(K1698<>\"\",TEXT(K1698,\"\"),\"\")))","v":""},"",{"$f":"IF(D1698<>\"\",D1698,\"\")","v":""},{"$f":"IF(E1698<>\"\",E1698,\"\")","v":""},{"$f":"IF(F1698<>\"\",F1698,\"\")","v":""},{"$f":"IF(N1698<>\"\",IF(D1699<>\"\",D1699,D1698),\"\")","v":""},{"$f":"IF(N1698<>\"\",IF(E1699<>\"\",E1699,E1698),\"\")","v":""},{"$f":"IF(N1698<>\"\",IF(F1699<>\"\",F1699,F1698),\"\")","v":""}]
[null,null,null,null,null,null,null,null,null,null,null,null,null,null,null,""]
[null,null,null,null,null,null,null,null,null,null,null,null,null,{"$f":"IF(A1700<>\"\",TEXT(A1700,\"\"),\"\")","v":""},{"$f":"IF(N1700=\"\",\"\",CONCATENATE(IF(C1700<>\"\",TEXT(C1700,\"\"),\"\"),\" - \",IF(K1700<>\"\",TEXT(K1700,\"\"),\"\")))","v":""},"",{"$f":"IF(D1700<>\"\",D1700,\"\")","v":""},{"$f":"IF(E1700<>\"\",E1700,\"\")","v":""},{"$f":"IF(F1700<>\"\",F1700,\"\")","v":""},{"$f":"IF(N1700<>\"\",IF(D1701<>\"\",D1701,D1700),\"\")","v":""},{"$f":"IF(N1700<>\"\",IF(E1701<>\"\",E1701,E1700),\"\")","v":""},{"$f":"IF(N1700<>\"\",IF(F1701<>\"\",F1701,F1700),\"\")","v":""}]
[null,null,null,null,null,null,null,null,null,null,null,null,null,null,null,""]
[null,null,null,null,null,null,null,null,null,null,null,null,null,{"$f":"IF(A1702<>\"\",TEXT(A1702,\"\"),\"\")","v":""},{"$f":"IF(N1702=\"\",\"\",CONCATENATE(IF(C1702<>\"\",TEXT(C1702,\"\"),\"\"),\" - \",IF(K1702<>\"\",TEXT(K1702,\"\"),\"\")))","v":""},"",{"$f":"IF(D1702<>\"\",D1702,\"\")","v":""},{"$f":"IF(E1702<>\"\",E1702,\"\")","v":""},{"$f":"IF(F1702<>\"\",F1702,\"\")","v":""},{"$f":"IF(N1702<>\"\",IF(D1703<>\"\",D1703,D1702),\"\")","v":""},{"$f":"IF(N1702<>\"\",IF(E1703<>\"\",E1703,E1702),\"\")","v":""},{"$f":"IF(N1702<>\"\",IF(F1703<>\"\",F1703,F1702),\"\")","v":""}]
[null,null,null,null,null,null,null,null,null,null,null,null,null,null,null,""]
[null,null,null,null,null,null,null,null,null,null,null,null,null,{"$f":"IF(A1704<>\"\",TEXT(A1704,\"\"),\"\")","v":""},{"$f":"IF(N1704=\"\",\"\",CONCATENATE(IF(C1704<>\"\",TEXT(C1704,\"\"),\"\"),\" - \",IF(K1704<>\"\",TEXT(K1704,\"\"),\"\")))","v":""},"",{"$f":"IF(D1704<>\"\",D1704,\"\")","v":""},{"$f":"IF(E1704<>\"\",E1704,\"\")","v":""},{"$f":"IF(F1704<>\"\",F1704,\"\")","v":""},{"$f":"IF(N1704<>\"\",IF(D1705<>\"\",D1705,D1704),\"\")","v":""},{"$f":"IF(N1704<>\"\",IF(E1705<>\"\",E1705,E1704),\"\")","v":""},{"$f":"IF(N1704<>\"\",IF(F1705<>\"\",F1705,F1704),\"\")","v":""}]
[null,null,null,null,null,null,null,null,null,null,null,null,null,null,null,""]
[null,null,null,null,null,null,null,null,null,null,null,null,null,{"$f":"IF(A1706<>\"\",TEXT(A1706,\"\"),\"\")","v":""},{"$f":"IF(N1706=\"\",\"\",CONCATENATE(IF(C1706<>\"\",TEXT(C1706,\"\"),\"\"),\" - \",IF(K1706<>\"\",TEXT(K1706,\"\"),\"\")))","v":""},"",{"$f":"IF(D1706<>\"\",D1706,\"\")","v":""},{"$f":"IF(E1706<>\"\",E1706,\"\")","v":""},{"$f":"IF(F1706<>\"\",F1706,\"\")","v":""},{"$f":"IF(N1706<>\"\",IF(D1707<>\"\",D1707,D1706),\"\")","v":""},{"$f":"IF(N1706<>\"\",IF(E1707<>\"\",E1707,E1706),\"\")","v":""},{"$f":"IF(N1706<>\"\",IF(F1707<>\"\",F1707,F1706),\"\")","v":""}]
[null,null,null,null,null,null,null,null,null,null,null,null,null,null,null,""]
[null,null,null,null,null,null,null,null,null,null,null,null,null,{"$f":"IF(A1708<>\"\",TEXT(A1708,\"\"),\"\")","v":""},{"$f":"IF(N1708=\"\",\"\",CONCATENATE(IF(C1708<>\"\",TEXT(C1708,\"\"),\"\"),\" - \",IF(K1708<>\"\",TEXT(K1708,\"\"),\"\")))","v":""},"",{"$f":"IF(D1708<>\"\",D1708,\"\")","v":""},{"$f":"IF(E1708<>\"\",E1708,\"\")","v":""},{"$f":"IF(F1708<>\"\",F1708,\"\")","v":""},{"$f":"IF(N1708<>\"\",IF(D1709<>\"\",D1709,D1708),\"\")","v":""},{"$f":"IF(N1708<>\"\",IF(E1709<>\"\",E1709,E1708),\"\")","v":""},{"$f":"IF(N1708<>\"\",IF(F1709<>\"\",F1709,F1708),\"\")","v":""}]
[null,null,null,null,null,null,null,null,null,null,null,null,null,null,null,""]
[null,null,null,null,null,null,null,null,null,null,null,null,null,{"$f":"IF(A1710<>\"\",TEXT(A1710,\"\"),\"\")","v":""},{"$f":"IF(N1710=\"\",\"\",CONCATENATE(IF(C1710<>\"\",TEXT(C1710,\"\"),\"\"),\" - \",IF(K1710<>\"\",TEXT(K1710,\"\"),\"\")))","v":""},"",{"$f":"IF(D1710<>\"\",D1710,\"\")","v":""},{"$f":"IF(E1710<>\"\",E1710,\"\")","v":""},{"$f":"IF(F1710<>\"\",F1710,\"\")","v":""},{"$f":"IF(N1710<>\"\",IF(D1711<>\"\",D1711,D1710),\"\")","v":""},{"$f":"IF(N1710<>\"\",IF(E1711<>\"\",E1711,E1710),\"\")","v":""},{"$f":"IF(N1710<>\"\",IF(F1711<>\"\",F1711,F1710),\"\")","v":""}]
[null,null,null,null,null,null,null,null,null,null,null,null,null,null,null,""]
[null,null,null,null,null,null,null,null,null,null,null,null,null,{"$f":"IF(A1712<>\"\",TEXT(A1712,\"\"),\"\")","v":""},{"$f":"IF(N1712=\"\",\"\",CONCATENATE(IF(C1712<>\"\",TEXT(C1712,\"\"),\"\"),\" - \",IF(K1712<>\"\",TEXT(K1712,\"\"),\"\")))","v":""},"",{"$f":"IF(D1712<>\"\",D1712,\"\")","v":""},{"$f":"IF(E1712<>\"\",E1712,\"\")","v":""},{"$f":"IF(F1712<>\"\",F1712,\"\")","v":""},{"$f":"IF(N1712<>\"\",IF(D1713<>\"\",D1713,D1712),\"\")","v":""},{"$f":"IF(N1712<>\"\",IF(E1713<>\"\",E1713,E1712),\"\")","v":""},{"$f":"IF(N1712<>\"\",IF(F1713<>\"\",F1713,F1712),\"\")","v":""}]
[null,null,null,null,null,null,null,null,null,null,null,null,null,null,null,""]
[null,null,null,null,null,null,null,null,null,null,null,null,null,{"$f":"IF(A1714<>\"\",TEXT(A1714,\"\"),\"\")","v":""},{"$f":"IF(N1714=\"\",\"\",CONCATENATE(IF(C1714<>\"\",TEXT(C1714,\"\"),\"\"),\" - \",IF(K1714<>\"\",TEXT(K1714,\"\"),\"\")))","v":""},"",{"$f":"IF(D1714<>\"\",D1714,\"\")","v":""},{"$f":"IF(E1714<>\"\",E1714,\"\")","v":""},{"$f":"IF(F1714<>\"\",F1714,\"\")","v":""},{"$f":"IF(N1714<>\"\",IF(D1715<>\"\",D1715,D1714),\"\")","v":""},{"$f":"IF(N1714<>\"\",IF(E1715<>\"\",E1715,E1714),\"\")","v":""},{"$f":"IF(N1714<>\"\",IF(F1715<>\"\",F1715,F1714),\"\")","v":""}]
[null,null,null,null,null,null,null,null,null,null,null,null,null,null,null,""]
[null,null,null,null,null,null,null,null,null,null,null,null,null,{"$f":"IF(A1716<>\"\",TEXT(A1716,\"\"),\"\")","v":""},{"$f":"IF(N1716=\"\",\"\",CONCATENATE(IF(C1716<>\"\",TEXT(C1716,\"\"),\"\"),\" - \",IF(K1716<>\"\",TEXT(K1716,\"\"),\"\")))","v":""},"",{"$f":"IF(D1716<>\"\",D1716,\"\")","v":""},{"$f":"IF(E1716<>\"\",E1716,\"\")","v":""},{"$f":"IF(F1716<>\"\",F1716,\"\")","v":""},{"$f":"IF(N1716<>\"\",IF(D1717<>\"\",D1717,D1716),\"\")","v":""},{"$f":"IF(N1716<>\"\",IF(E1717<>\"\",E1717,E1716),\"\")","v":""},{"$f":"IF(N1716<>\"\",IF(F1717<>\"\",F1717,F1716),\"\")","v":""}]
[null,null,null,null,null,null,null,null,null,null,null,null,null,null,null,""]
[null,null,null,null,null,null,null,null,null,null,null,null,null,{"$f":"IF(A1718<>\"\",TEXT(A1718,\"\"),\"\")","v":""},{"$f":"IF(N1718=\"\",\"\",CONCATENATE(IF(C1718<>\"\",TEXT(C1718,\"\"),\"\"),\" - \",IF(K1718<>\"\",TEXT(K1718,\"\"),\"\")))","v":""},"",{"$f":"IF(D1718<>\"\",D1718,\"\")","v":""},{"$f":"IF(E1718<>\"\",E1718,\"\")","v":""},{"$f":"IF(F1718<>\"\",F1718,\"\")","v":""},{"$f":"IF(N1718<>\"\",IF(D1719<>\"\",D1719,D1718),\"\")","v":""},{"$f":"IF(N1718<>\"\",IF(E1719<>\"\",E1719,E1718),\"\")","v":""},{"$f":"IF(N1718<>\"\",IF(F1719<>\"\",F1719,F1718),\"\")","v":""}]
[null,null,null,null,null,null,null,null,null,null,null,null,null,null,null,""]
[null,null,null,null,null,null,null,null,null,null,null,null,null,{"$f":"IF(A1720<>\"\",TEXT(A1720,\"\"),\"\")","v":""},{"$f":"IF(N1720=\"\",\"\",CONCATENATE(IF(C1720<>\"\",TEXT(C1720,\"\"),\"\"),\" - \",IF(K1720<>\"\",TEXT(K1720,\"\"),\"\")))","v":""},"",{"$f":"IF(D1720<>\"\",D1720,\"\")","v":""},{"$f":"IF(E1720<>\"\",E1720,\"\")","v":""},{"$f":"IF(F1720<>\"\",F1720,\"\")","v":""},{"$f":"IF(N1720<>\"\",IF(D1721<>\"\",D1721,D1720),\"\")","v":""},{"$f":"IF(N1720<>\"\",IF(E1721<>\"\",E1721,E1720),\"\")","v":""},{"$f":"IF(N1720<>\"\",IF(F1721<>\"\",F1721,F1720),\"\")","v":""}]
[null,null,null,null,null,null,null,null,null,null,null,null,null,null,null,""]
[null,null,null,null,null,null,null,null,null,null,null,null,null,{"$f":"IF(A1722<>\"\",TEXT(A1722,\"\"),\"\")","v":""},{"$f":"IF(N1722=\"\",\"\",CONCATENATE(IF(C1722<>\"\",TEXT(C1722,\"\"),\"\"),\" - \",IF(K1722<>\"\",TEXT(K1722,\"\"),\"\")))","v":""},"",{"$f":"IF(D1722<>\"\",D1722,\"\")","v":""},{"$f":"IF(E1722<>\"\",E1722,\"\")","v":""},{"$f":"IF(F1722<>\"\",F1722,\"\")","v":""},{"$f":"IF(N1722<>\"\",IF(D1723<>\"\",D1723,D1722),\"\")","v":""},{"$f":"IF(N1722<>\"\",IF(E1723<>\"\",E1723,E1722),\"\")","v":""},{"$f":"IF(N1722<>\"\",IF(F1723<>\"\",F1723,F1722),\"\")","v":""}]
[null,null,null,null,null,null,null,null,null,null,null,null,null,null,null,""]
[null,null,null,null,null,null,null,null,null,null,null,null,null,{"$f":"IF(A1724<>\"\",TEXT(A1724,\"\"),\"\")","v":""},{"$f":"IF(N1724=\"\",\"\",CONCATENATE(IF(C1724<>\"\",TEXT(C1724,\"\"),\"\"),\" - \",IF(K1724<>\"\",TEXT(K1724,\"\"),\"\")))","v":""},"",{"$f":"IF(D1724<>\"\",D1724,\"\")","v":""},{"$f":"IF(E1724<>\"\",E1724,\"\")","v":""},{"$f":"IF(F1724<>\"\",F1724,\"\")","v":""},{"$f":"IF(N1724<>\"\",IF(D1725<>\"\",D1725,D1724),\"\")","v":""},{"$f":"IF(N1724<>\"\",IF(E1725<>\"\",E1725,E1724),\"\")","v":""},{"$f":"IF(N1724<>\"\",IF(F1725<>\"\",F1725,F1724),\"\")","v":""}]
[null,null,null,null,null,null,null,null,null,null,null,null,null,null,null,""]
[null,null,null,null,null,null,null,null,null,null,null,null,null,{"$f":"IF(A1726<>\"\",TEXT(A1726,\"\"),\"\")","v":""},{"$f":"IF(N1726=\"\",\"\",CONCATENATE(IF(C1726<>\"\",TEXT(C1726,\"\"),\"\"),\" - \",IF(K1726<>\"\",TEXT(K1726,\"\"),\"\")))","v":""},"",{"$f":"IF(D1726<>\"\",D1726,\"\")","v":""},{"$f":"IF(E1726<>\"\",E1726,\"\")","v":""},{"$f":"IF(F1726<>\"\",F1726,\"\")","v":""},{"$f":"IF(N1726<>\"\",IF(D1727<>\"\",D1727,D1726),\"\")","v":""},{"$f":"IF(N1726<>\"\",IF(E1727<>\"\",E1727,E1726),\"\")","v":""},{"$f":"IF(N1726<>\"\",IF(F1727<>\"\",F1727,F1726),\"\")","v":""}]
[null,null,null,null,null,null,null,null,null,null,null,null,null,null,null,""]
[null,null,null,null,null,null,null,null,null,null,null,null,null,{"$f":"IF(A1728<>\"\",TEXT(A1728,\"\"),\"\")","v":""},{"$f":"IF(N1728=\"\",\"\",CONCATENATE(IF(C1728<>\"\",TEXT(C1728,\"\"),\"\"),\" - \",IF(K1728<>\"\",TEXT(K1728,\"\"),\"\")))","v":""},"",{"$f":"IF(D1728<>\"\",D1728,\"\")","v":""},{"$f":"IF(E1728<>\"\",E1728,\"\")","v":""},{"$f":"IF(F1728<>\"\",F1728,\"\")","v":""},{"$f":"IF(N1728<>\"\",IF(D1729<>\"\",D1729,D1728),\"\")","v":""},{"$f":"IF(N1728<>\"\",IF(E1729<>\"\",E1729,E1728),\"\")","v":""},{"$f":"IF(N1728<>\"\",IF(F1729<>\"\",F1729,F1728),\"\")","v":""}]
[null,null,null,null,null,null,null,null,null,null,null,null,null,null,null,""]
[null,null,null,null,null,null,null,null,null,null,null,null,null,{"$f":"IF(A1730<>\"\",TEXT(A1730,\"\"),\"\")","v":""},{"$f":"IF(N1730=\"\",\"\",CONCATENATE(IF(C1730<>\"\",TEXT(C1730,\"\"),\"\"),\" - \",IF(K1730<>\"\",TEXT(K1730,\"\"),\"\")))","v":""},"",{"$f":"IF(D1730<>\"\",D1730,\"\")","v":""},{"$f":"IF(E1730<>\"\",E1730,\"\")","v":""},{"$f":"IF(F1730<>\"\",F1730,\"\")","v":""},{"$f":"IF(N1730<>\"\",IF(D1731<>\"\",D1731,D1730),\"\")","v":""},{"$f":"IF(N1730<>\"\",IF(E1731<>\"\",E1731,E1730),\"\")","v":""},{"$f":"IF(N1730<>\"\",IF(F1731<>\"\",F1731,F1730),\"\")","v":""}]
[null,null,null,null,null,null,null,null,null,null,null,null,null,null,null,{"$f":"SUBSTITUTE(SUBSTITUTE(SUBSTITUTE(SUBSTITUTE(IF(L1731<>\"\",HLink(L1731),\"\"),\"htm\",\"html\"),\"1x2\",\"analysis\"),\"www\",\"www\"),\"com\",\"vip\")","v":""}]
[null,null,null,null,null,null,null,null,null,null,null,null,null,{"$f":"IF(A1732<>\"\",TEXT(A1732,\"\"),\"\")","v":""},{"$f":"IF(N1732=\"\",\"\",CONCATENATE(IF(C1732<>\"\",TEXT(C1732,\"\"),\"\"),\" - \",IF(K1732<>\"\",TEXT(K1732,\"\"),\"\")))","v":""},"",{"$f":"IF(D1732<>\"\",D1732,\"\")","v":""},{"$f":"IF(E1732<>\"\",E1732,\"\")","v":""},{"$f":"IF(F1732<>\"\",F1732,\"\")","v":""},{"$f":"IF(N1732<>\"\",IF(D1733<>\"\",D1733,D1732),\"\")","v":""},{"$f":"IF(N1732<>\"\",IF(E1733<>\"\",E1733,E1732),\"\")","v":""},{"$f":"IF(N1732<>\"\",IF(F1733<>\"\",F1733,F1732),\"\")","v":""}]
[null,null,null,null,null,null,null,null,null,null,null,null,null,null,null,""]
[null,null,null,null,null,null,null,null,null,null,null,null,null,{"$f":"IF(A1734<>\"\",TEXT(A1734,\"\"),\"\")","v":""},{"$f":"IF(N1734=\"\",\"\",CONCATENATE(IF(C1734<>\"\",TEXT(C1734,\"\"),\"\"),\" - \",IF(K1734<>\"\",TEXT(K1734,\"\"),\"\")))","v":""},"",{"$f":"IF(D1734<>\"\",D1734,\"\")","v":""},{"$f":"IF(E1734<>\"\",E1734,\"\")","v":""},{"$f":"IF(F1734<>\"\",F1734,\"\")","v":""},{"$f":"IF(N1734<>\"\",IF(D1735<>\"\",D1735,D1734),\"\")","v":""},{"$f":"IF(N1734<>\"\",IF(E1735<>\"\",E1735,E1734),\"\")","v":""},{"$f":"IF(N1734<>\"\",IF(F1735<>\"\",F1735,F1734),\"\")","v":""}]
[null,null,null,null,null,null,null,null,null,null,null,null,null,null,null,""]
[null,null,null,null,null,null,null,null,null,null,null,null,null,{"$f":"IF(A1736<>\"\",TEXT(A1736,\"\"),\"\")","v":""},{"$f":"IF(N1736=\"\",\"\",CONCATENATE(IF(C1736<>\"\",TEXT(C1736,\"\"),\"\"),\" - \",IF(K1736<>\"\",TEXT(K1736,\"\"),\"\")))","v":""},"",{"$f":"IF(D1736<>\"\",D1736,\"\")","v":""},{"$f":"IF(E1736<>\"\",E1736,\"\")","v":""},{"$f":"IF(F1736<>\"\",F1736,\"\")","v":""},{"$f":"IF(N1736<>\"\",IF(D1737<>\"\",D1737,D1736),\"\")","v":""},{"$f":"IF(N1736<>\"\",IF(E1737<>\"\",E1737,E1736),\"\")","v":""},{"$f":"IF(N1736<>\"\",IF(F1737<>\"\",F1737,F1736),\"\")","v":""}]
[null,null,null,null,null,null,null,null,null,null,null,null,null,null,null,""]
[null,null,null,null,null,null,null,null,null,null,null,null,null,{"$f":"IF(A1738<>\"\",TEXT(A1738,\"\"),\"\")","v":""},{"$f":"IF(N1738=\"\",\"\",CONCATENATE(IF(C1738<>\"\",TEXT(C1738,\"\"),\"\"),\" - \",IF(K1738<>\"\",TEXT(K1738,\"\"),\"\")))","v":""},"",{"$f":"IF(D1738<>\"\",D1738,\"\")","v":""},{"$f":"IF(E1738<>\"\",E1738,\"\")","v":""},{"$f":"IF(F1738<>\"\",F1738,\"\")","v":""},{"$f":"IF(N1738<>\"\",IF(D1739<>\"\",D1739,D1738),\"\")","v":""},{"$f":"IF(N1738<>\"\",IF(E1739<>\"\",E1739,E1738),\"\")","v":""},{"$f":"IF(N1738<>\"\",IF(F1739<>\"\",F1739,F1738),\"\")","v":""}]
[null,null,null,null,null,null,null,null,null,null,null,null,null,null,null,""]
[null,null,null,null,null,null,null,null,null,null,null,null,null,{"$f":"IF(A1740<>\"\",TEXT(A1740,\"\"),\"\")","v":""},{"$f":"IF(N1740=\"\",\"\",CONCATENATE(IF(C1740<>\"\",TEXT(C1740,\"\"),\"\"),\" - \",IF(K1740<>\"\",TEXT(K1740,\"\"),\"\")))","v":""},"",{"$f":"IF(D1740<>\"\",D1740,\"\")","v":""},{"$f":"IF(E1740<>\"\",E1740,\"\")","v":""},{"$f":"IF(F1740<>\"\",F1740,\"\")","v":""},{"$f":"IF(N1740<>\"\",IF(D1741<>\"\",D1741,D1740),\"\")","v":""},{"$f":"IF(N1740<>\"\",IF(E1741<>\"\",E1741,E1740),\"\")","v":""},{"$f":"IF(N1740<>\"\",IF(F1741<>\"\",F1741,F1740),\"\")","v":""}]
[null,null,null,null,null,null,null,null,null,null,null,null,null,null,null,""]
[null,null,null,null,null,null,null,null,null,null,null,null,null,{"$f":"IF(A1742<>\"\",TEXT(A1742,\"\"),\"\")","v":""},{"$f":"IF(N1742=\"\",\"\",CONCATENATE(IF(C1742<>\"\",TEXT(C1742,\"\"),\"\"),\" - \",IF(K1742<>\"\",TEXT(K1742,\"\"),\"\")))","v":""},"",{"$f":"IF(D1742<>\"\",D1742,\"\")","v":""},{"$f":"IF(E1742<>\"\",E1742,\"\")","v":""},{"$f":"IF(F1742<>\"\",F1742,\"\")","v":""},{"$f":"IF(N1742<>\"\",IF(D1743<>\"\",D1743,D1742),\"\")","v":""},{"$f":"IF(N1742<>\"\",IF(E1743<>\"\",E1743,E1742),\"\")","v":""},{"$f":"IF(N1742<>\"\",IF(F1743<>\"\",F1743,F1742),\"\")","v":""}]
[null,null,null,null,null,null,null,null,null,null,null,null,null,null,null,""]
[null,null,null,null,null,null,null,null,null,null,null,null,null,{"$f":"IF(A1744<>\"\",TEXT(A1744,\"\"),\"\")","v":""},{"$f":"IF(N1744=\"\",\"\",CONCATENATE(IF(C1744<>\"\",TEXT(C1744,\"\"),\"\"),\" - \",IF(K1744<>\"\",TEXT(K1744,\"\"),\"\")))","v":""},"",{"$f":"IF(D1744<>\"\",D1744,\"\")","v":""},{"$f":"IF(E1744<>\"\",E1744,\"\")","v":""},{"$f":"IF(F1744<>\"\",F1744,\"\")","v":""},{"$f":"IF(N1744<>\"\",IF(D1745<>\"\",D1745,D1744),\"\")","v":""},{"$f":"IF(N1744<>\"\",IF(E1745<>\"\",E1745,E1744),\"\")","v":""},{"$f":"IF(N1744<>\"\",IF(F1745<>\"\",F1745,F1744),\"\")","v":""}]
[null,null,null,null,null,null,null,null,null,null,null,null,null,null,null,""]
[null,null,null,null,null,null,null,null,null,null,null,null,null,{"$f":"IF(A1746<>\"\",TEXT(A1746,\"\"),\"\")","v":""},{"$f":"IF(N1746=\"\",\"\",CONCATENATE(IF(C1746<>\"\",TEXT(C1746,\"\"),\"\"),\" - \",IF(K1746<>\"\",TEXT(K1746,\"\"),\"\")))","v":""},"",{"$f":"IF(D1746<>\"\",D1746,\"\")","v":""},{"$f":"IF(E1746<>\"\",E1746,\"\")","v":""},{"$f":"IF(F1746<>\"\",F1746,\"\")","v":""},{"$f":"IF(N1746<>\"\",IF(D1747<>\"\",D1747,D1746),\"\")","v":""},{"$f":"IF(N1746<>\"\",IF(E1747<>\"\",E1747,E1746),\"\")","v":""},{"$f":"IF(N1746<>\"\",IF(F1747<>\"\",F1747,F1746),\"\")","v":""}]
[null,null,null,null,null,null,null,null,null,null,null,null,null,null,null,""]
[null,null,null,null,null,null,null,null,null,null,null,null,null,{"$f":"IF(A1748<>\"\",TEXT(A1748,\"\"),\"\")","v":""},{"$f":"IF(N1748=\"\",\"\",CONCATENATE(IF(C1748<>\"\",TEXT(C1748,\"\"),\"\"),\" - \",IF(K1748<>\"\",TEXT(K1748,\"\"),\"\")))","v":""},"",{"$f":"IF(D1748<>\"\",D1748,\"\")","v":""},{"$f":"IF(E1748<>\"\",E1748,\"\")","v":""},{"$f":"IF(F1748<>\"\",F1748,\"\")","v":""},{"$f":"IF(N1748<>\"\",IF(D1749<>\"\",D1749,D1748),\"\")","v":""},{"$f":"IF(N1748<>\"\",IF(E1749<>\"\",E1749,E1748),\"\")","v":""},{"$f":"IF(N1748<>\"\",IF(F1749<>\"\",F1749,F1748),\"\")","v":""}]
[null,null,null,null,null,null,null,null,null,null,null,null,null,null,null,""]
[null,null,null,null,null,null,null,null,null,null,null,null,null,{"$f":"IF(A1750<>\"\",TEXT(A1750,\"\"),\"\")","v":""},{"$f":"IF(N1750=\"\",\"\",CONCATENATE(IF(C1750<>\"\",TEXT(C1750,\"\"),\"\"),\" - \",IF(K1750<>\"\",TEXT(K1750,\"\"),\"\")))","v":""},"",{"$f":"IF(D1750<>\"\",D1750,\"\")","v":""},{"$f":"IF(E1750<>\"\",E1750,\"\")","v":""},{"$f":"IF(F1750<>\"\",F1750,\"\")","v":""},{"$f":"IF(N1750<>\"\",IF(D1751<>\"\",D1751,D1750),\"\")","v":""},{"$f":"IF(N1750<>\"\",IF(E1751<>\"\",E1751,E1750),\"\")","v":""},{"$f":"IF(N1750<>\"\",IF(F1751<>\"\",F1751,F1750),\"\")","v":""}]
[null,null,null,null,null,null,null,null,null,null,null,null,null,null,null,""]
[null,null,null,null,null,null,null,null,null,null,null,null,null,{"$f":"IF(A1752<>\"\",TEXT(A1752,\"\"),\"\")","v":""},{"$f":"IF(N1752=\"\",\"\",CONCATENATE(IF(C1752<>\"\",TEXT(C1752,\"\"),\"\"),\" - \",IF(K1752<>\"\",TEXT(K1752,\"\"),\"\")))","v":""},"",{"$f":"IF(D1752<>\"\",D1752,\"\")","v":""},{"$f":"IF(E1752<>\"\",E1752,\"\")","v":""},{"$f":"IF(F1752<>\"\",F1752,\"\")","v":""},{"$f":"IF(N1752<>\"\",IF(D1753<>\"\",D1753,D1752),\"\")","v":""},{"$f":"IF(N1752<>\"\",IF(E1753<>\"\",E1753,E1752),\"\")","v":""},{"$f":"IF(N1752<>\"\",IF(F1753<>\"\",F1753,F1752),\"\")","v":""}]
[null,null,null,null,null,null,null,null,null,null,null,null,null,null,null,""]
[null,null,null,null,null,null,null,null,null,null,null,null,null,{"$f":"IF(A1754<>\"\",TEXT(A1754,\"\"),\"\")","v":""},{"$f":"IF(N1754=\"\",\"\",CONCATENATE(IF(C1754<>\"\",TEXT(C1754,\"\"),\"\"),\" - \",IF(K1754<>\"\",TEXT(K1754,\"\"),\"\")))","v":""},"",{"$f":"IF(D1754<>\"\",D1754,\"\")","v":""},{"$f":"IF(E1754<>\"\",E1754,\"\")","v":""},{"$f":"IF(F1754<>\"\",F1754,\"\")","v":""},{"$f":"IF(N1754<>\"\",IF(D1755<>\"\",D1755,D1754),\"\")","v":""},{"$f":"IF(N1754<>\"\",IF(E1755<>\"\",E1755,E1754),\"\")","v":""},{"$f":"IF(N1754<>\"\",IF(F1755<>\"\",F1755,F1754),\"\")","v":""}]
[null,null,null,null,null,null,null,null,null,null,null,null,null,null,null,""]
[null,null,null,null,null,null,null,null,null,null,null,null,null,{"$f":"IF(A1756<>\"\",TEXT(A1756,\"\"),\"\")","v":""},{"$f":"IF(N1756=\"\",\"\",CONCATENATE(IF(C1756<>\"\",TEXT(C1756,\"\"),\"\"),\" - \",IF(K1756<>\"\",TEXT(K1756,\"\"),\"\")))","v":""},"",{"$f":"IF(D1756<>\"\",D1756,\"\")","v":""},{"$f":"IF(E1756<>\"\",E1756,\"\")","v":""},{"$f":"IF(F1756<>\"\",F1756,\"\")","v":""},{"$f":"IF(N1756<>\"\",IF(D1757<>\"\",D1757,D1756),\"\")","v":""},{"$f":"IF(N1756<>\"\",IF(E1757<>\"\",E1757,E1756),\"\")","v":""},{"$f":"IF(N1756<>\"\",IF(F1757<>\"\",F1757,F1756),\"\")","v":""}]
[null,null,null,null,null,null,null,null,null,null,null,null,null,null,null,""]
[null,null,null,null,null,null,null,null,null,null,null,null,null,{"$f":"IF(A1758<>\"\",TEXT(A1758,\"\"),\"\")","v":""},{"$f":"IF(N1758=\"\",\"\",CONCATENATE(IF(C1758<>\"\",TEXT(C1758,\"\"),\"\"),\" - \",IF(K1758<>\"\",TEXT(K1758,\"\"),\"\")))","v":""},"",{"$f":"IF(D1758<>\"\",D1758,\"\")","v":""},{"$f":"IF(E1758<>\"\",E1758,\"\")","v":""},{"$f":"IF(F1758<>\"\",F1758,\"\")","v":""},{"$f":"IF(N1758<>\"\",IF(D1759<>\"\",D1759,D1758),\"\")","v":""},{"$f":"IF(N1758<>\"\",IF(E1759<>\"\",E1759,E1758),\"\")","v":""},{"$f":"IF(N1758<>\"\",IF(F1759<>\"\",F1759,F1758),\"\")","v":""}]
[null,null,null,null,null,null,null,null,null,null,null,null,null,null,null,""]
[null,null,null,null,null,null,null,null,null,null,null,null,null,{"$f":"IF(A1760<>\"\",TEXT(A1760,\"\"),\"\")","v":""},{"$f":"IF(N1760=\"\",\"\",CONCATENATE(IF(C1760<>\"\",TEXT(C1760,\"\"),\"\"),\" - \",IF(K1760<>\"\",TEXT(K1760,\"\"),\"\")))","v":""},"",{"$f":"IF(D1760<>\"\",D1760,\"\")","v":""},{"$f":"IF(E1760<>\"\",E1760,\"\")","v":""},{"$f":"IF(F1760<>\"\",F1760,\"\")","v":""},{"$f":"IF(N1760<>\"\",IF(D1761<>\"\",D1761,D1760),\"\")","v":""},{"$f":"IF(N1760<>\"\",IF(E1761<>\"\",E1761,E1760),\"\")","v":""},{"$f":"IF(N1760<>\"\",IF(F1761<>\"\",F1761,F1760),\"\")","v":""}]
[null,null,null,null,null,null,null,null,null,null,null,null,null,null,null,""]
[null,null,null,null,null,null,null,null,null,null,null,null,null,{"$f":"IF(A1762<>\"\",TEXT(A1762,\"\"),\"\")","v":""},{"$f":"IF(N1762=\"\",\"\",CONCATENATE(IF(C1762<>\"\",TEXT(C1762,\"\"),\"\"),\" - \",IF(K1762<>\"\",TEXT(K1762,\"\"),\"\")))","v":""},"",{"$f":"IF(D1762<>\"\",D1762,\"\")","v":""},{"$f":"IF(E1762<>\"\",E1762,\"\")","v":""},{"$f":"IF(F1762<>\"\",F1762,\"\")","v":""},{"$f":"IF(N1762<>\"\",IF(D1763<>\"\",D1763,D1762),\"\")","v":""},{"$f":"IF(N1762<>\"\",IF(E1763<>\"\",E1763,E1762),\"\")","v":""},{"$f":"IF(N1762<>\"\",IF(F1763<>\"\",F1763,F1762),\"\")","v":""}]
[null,null,null,null,null,null,null,null,null,null,null,null,null,null,null,""]
[null,null,null,null,null,null,null,null,null,null,null,null,null,{"$f":"IF(A1764<>\"\",TEXT(A1764,\"\"),\"\")","v":""},{"$f":"IF(N1764=\"\",\"\",CONCATENATE(IF(C1764<>\"\",TEXT(C1764,\"\"),\"\"),\" - \",IF(K1764<>\"\",TEXT(K1764,\"\"),\"\")))","v":""},"",{"$f":"IF(D1764<>\"\",D1764,\"\")","v":""},{"$f":"IF(E1764<>\"\",E1764,\"\")","v":""},{"$f":"IF(F1764<>\"\",F1764,\"\")","v":""},{"$f":"IF(N1764<>\"\",IF(D1765<>\"\",D1765,D1764),\"\")","v":""},{"$f":"IF(N1764<>\"\",IF(E1765<>\"\",E1765,E1764),\"\")","v":""},{"$f":"IF(N1764<>\"\",IF(F1765<>\"\",F1765,F1764),\"\")","v":""}]
[null,null,null,null,null,null,null,null,null,null,null,null,null,null,null,""]
[null,null,null,null,null,null,null,null,null,null,null,null,null,{"$f":"IF(A1766<>\"\",TEXT(A1766,\"\"),\"\")","v":""},{"$f":"IF(N1766=\"\",\"\",CONCATENATE(IF(C1766<>\"\",TEXT(C1766,\"\"),\"\"),\" - \",IF(K1766<>\"\",TEXT(K1766,\"\"),\"\")))","v":""},"",{"$f":"IF(D1766<>\"\",D1766,\"\")","v":""},{"$f":"IF(E1766<>\"\",E1766,\"\")","v":""},{"$f":"IF(F1766<>\"\",F1766,\"\")","v":""},{"$f":"IF(N1766<>\"\",IF(D1767<>\"\",D1767,D1766),\"\")","v":""},{"$f":"IF(N1766<>\"\",IF(E1767<>\"\",E1767,E1766),\"\")","v":""},{"$f":"IF(N1766<>\"\",IF(F1767<>\"\",F1767,F1766),\"\")","v":""}]
[null,null,null,null,null,null,null,null,null,null,null,null,null,null,null,""]
[null,null,null,null,null,null,null,null,null,null,null,null,null,{"$f":"IF(A1768<>\"\",TEXT(A1768,\"\"),\"\")","v":""},{"$f":"IF(N1768=\"\",\"\",CONCATENATE(IF(C1768<>\"\",TEXT(C1768,\"\"),\"\"),\" - \",IF(K1768<>\"\",TEXT(K1768,\"\"),\"\")))","v":""},"",{"$f":"IF(D1768<>\"\",D1768,\"\")","v":""},{"$f":"IF(E1768<>\"\",E1768,\"\")","v":""},{"$f":"IF(F1768<>\"\",F1768,\"\")","v":""},{"$f":"IF(N1768<>\"\",IF(D1769<>\"\",D1769,D1768),\"\")","v":""},{"$f":"IF(N1768<>\"\",IF(E1769<>\"\",E1769,E1768),\"\")","v":""},{"$f":"IF(N1768<>\"\",IF(F1769<>\"\",F1769,F1768),\"\")","v":""}]
[null,null,null,null,null,null,null,null,null,null,null,null,null,null,null,""]
[null,null,null,null,null,null,null,null,null,null,null,null,null,{"$f":"IF(A1770<>\"\",TEXT(A1770,\"\"),\"\")","v":""},{"$f":"IF(N1770=\"\",\"\",CONCATENATE(IF(C1770<>\"\",TEXT(C1770,\"\"),\"\"),\" - \",IF(K1770<>\"\",TEXT(K1770,\"\"),\"\")))","v":""},"",{"$f":"IF(D1770<>\"\",D1770,\"\")","v":""},{"$f":"IF(E1770<>\"\",E1770,\"\")","v":""},{"$f":"IF(F1770<>\"\",F1770,\"\")","v":""},{"$f":"IF(N1770<>\"\",IF(D1771<>\"\",D1771,D1770),\"\")","v":""},{"$f":"IF(N1770<>\"\",IF(E1771<>\"\",E1771,E1770),\"\")","v":""},{"$f":"IF(N1770<>\"\",IF(F1771<>\"\",F1771,F1770),\"\")","v":""}]
[null,null,null,null,null,null,null,null,null,null,null,null,null,null,null,""]
[null,null,null,null,null,null,null,null,null,null,null,null,null,{"$f":"IF(A1772<>\"\",TEXT(A1772,\"\"),\"\")","v":""},{"$f":"IF(N1772=\"\",\"\",CONCATENATE(IF(C1772<>\"\",TEXT(C1772,\"\"),\"\"),\" - \",IF(K1772<>\"\",TEXT(K1772,\"\"),\"\")))","v":""},"",{"$f":"IF(D1772<>\"\",D1772,\"\")","v":""},{"$f":"IF(E1772<>\"\",E1772,\"\")","v":""},{"$f":"IF(F1772<>\"\",F1772,\"\")","v":""},{"$f":"IF(N1772<>\"\",IF(D1773<>\"\",D1773,D1772),\"\")","v":""},{"$f":"IF(N1772<>\"\",IF(E1773<>\"\",E1773,E1772),\"\")","v":""},{"$f":"IF(N1772<>\"\",IF(F1773<>\"\",F1773,F1772),\"\")","v":""}]
[null,null,null,null,null,null,null,null,null,null,null,null,null,null,null,""]
[null,null,null,null,null,null,null,null,null,null,null,null,null,{"$f":"IF(A1774<>\"\",TEXT(A1774,\"\"),\"\")","v":""},{"$f":"IF(N1774=\"\",\"\",CONCATENATE(IF(C1774<>\"\",TEXT(C1774,\"\"),\"\"),\" - \",IF(K1774<>\"\",TEXT(K1774,\"\"),\"\")))","v":""},"",{"$f":"IF(D1774<>\"\",D1774,\"\")","v":""},{"$f":"IF(E1774<>\"\",E1774,\"\")","v":""},{"$f":"IF(F1774<>\"\",F1774,\"\")","v":""},{"$f":"IF(N1774<>\"\",IF(D1775<>\"\",D1775,D1774),\"\")","v":""},{"$f":"IF(N1774<>\"\",IF(E1775<>\"\",E1775,E1774),\"\")","v":""},{"$f":"IF(N1774<>\"\",IF(F1775<>\"\",F1775,F1774),\"\")","v":""}]
[null,null,null,null,null,null,null,null,null,null,null,null,null,null,null,""]
[null,null,null,null,null,null,null,null,null,null,null,null,null,{"$f":"IF(A1776<>\"\",TEXT(A1776,\"\"),\"\")","v":""},{"$f":"IF(N1776=\"\",\"\",CONCATENATE(IF(C1776<>\"\",TEXT(C1776,\"\"),\"\"),\" - \",IF(K1776<>\"\",TEXT(K1776,\"\"),\"\")))","v":""},"",{"$f":"IF(D1776<>\"\",D1776,\"\")","v":""},{"$f":"IF(E1776<>\"\",E1776,\"\")","v":""},{"$f":"IF(F1776<>\"\",F1776,\"\")","v":""},{"$f":"IF(N1776<>\"\",IF(D1777<>\"\",D1777,D1776),\"\")","v":""},{"$f":"IF(N1776<>\"\",IF(E1777<>\"\",E1777,E1776),\"\")","v":""},{"$f":"IF(N1776<>\"\",IF(F1777<>\"\",F1777,F1776),\"\")","v":""}]
[null,null,null,null,null,null,null,null,null,null,null,null,null,null,null,""]
[null,null,null,null,null,null,null,null,null,null,null,null,null,{"$f":"IF(A1778<>\"\",TEXT(A1778,\"\"),\"\")","v":""},{"$f":"IF(N1778=\"\",\"\",CONCATENATE(IF(C1778<>\"\",TEXT(C1778,\"\"),\"\"),\" - \",IF(K1778<>\"\",TEXT(K1778,\"\"),\"\")))","v":""},"",{"$f":"IF(D1778<>\"\",D1778,\"\")","v":""},{"$f":"IF(E1778<>\"\",E1778,\"\")","v":""},{"$f":"IF(F1778<>\"\",F1778,\"\")","v":""},{"$f":"IF(N1778<>\"\",IF(D1779<>\"\",D1779,D1778),\"\")","v":""},{"$f":"IF(N1778<>\"\",IF(E1779<>\"\",E1779,E1778),\"\")","v":""},{"$f":"IF(N1778<>\"\",IF(F1779<>\"\",F1779,F1778),\"\")","v":""}]
[null,null,null,null,null,null,null,null,null,null,null,null,null,null,null,""]
[null,null,null,null,null,null,null,null,null,null,null,null,null,{"$f":"IF(A1780<>\"\",TEXT(A1780,\"\"),\"\")","v":""},{"$f":"IF(N1780=\"\",\"\",CONCATENATE(IF(C1780<>\"\",TEXT(C1780,\"\"),\"\"),\" - \",IF(K1780<>\"\",TEXT(K1780,\"\"),\"\")))","v":""},"",{"$f":"IF(D1780<>\"\",D1780,\"\")","v":""},{"$f":"IF(E1780<>\"\",E1780,\"\")","v":""},{"$f":"IF(F1780<>\"\",F1780,\"\")","v":""},{"$f":"IF(N1780<>\"\",IF(D1781<>\"\",D1781,D1780),\"\")","v":""},{"$f":"IF(N1780<>\"\",IF(E1781<>\"\",E1781,E1780),\"\")","v":""},{"$f":"IF(N1780<>\"\",IF(F1781<>\"\",F1781,F1780),\"\")","v":""}]
[null,null,null,null,null,null,null,null,null,null,null,null,null,null,null,""]
[null,null,null,null,null,null,null,null,null,null,null,null,null,{"$f":"IF(A1782<>\"\",TEXT(A1782,\"\"),\"\")","v":""},{"$f":"IF(N1782=\"\",\"\",CONCATENATE(IF(C1782<>\"\",TEXT(C1782,\"\"),\"\"),\" - \",IF(K1782<>\"\",TEXT(K1782,\"\"),\"\")))","v":""},"",{"$f":"IF(D1782<>\"\",D1782,\"\")","v":""},{"$f":"IF(E1782<>\"\",E1782,\"\")","v":""},{"$f":"IF(F1782<>\"\",F1782,\"\")","v":""},{"$f":"IF(N1782<>\"\",IF(D1783<>\"\",D1783,D1782),\"\")","v":""},{"$f":"IF(N1782<>\"\",IF(E1783<>\"\",E1783,E1782),\"\")","v":""},{"$f":"IF(N1782<>\"\",IF(F1783<>\"\",F1783,F1782),\"\")","v":""}]
[null,null,null,null,null,null,null,null,null,null,null,null,null,null,null,""]
[null,null,null,null,null,null,null,null,null,null,null,null,null,{"$f":"IF(A1784<>\"\",TEXT(A1784,\"\"),\"\")","v":""},{"$f":"IF(N1784=\"\",\"\",CONCATENATE(IF(C1784<>\"\",TEXT(C1784,\"\"),\"\"),\" - \",IF(K1784<>\"\",TEXT(K1784,\"\"),\"\")))","v":""},"",{"$f":"IF(D1784<>\"\",D1784,\"\")","v":""},{"$f":"IF(E1784<>\"\",E1784,\"\")","v":""},{"$f":"IF(F1784<>\"\",F1784,\"\")","v":""},{"$f":"IF(N1784<>\"\",IF(D1785<>\"\",D1785,D1784),\"\")","v":""},{"$f":"IF(N1784<>\"\",IF(E1785<>\"\",E1785,E1784),\"\")","v":""},{"$f":"IF(N1784<>\"\",IF(F1785<>\"\",F1785,F1784),\"\")","v":""}]
[null,null,null,null,null,null,null,null,null,null,null,null,null,null,null,""]
[null,null,null,null,null,null,null,null,null,null,null,null,null,{"$f":"IF(A1786<>\"\",TEXT(A1786,\"\"),\"\")","v":""},{"$f":"IF(N1786=\"\",\"\",CONCATENATE(IF(C1786<>\"\",TEXT(C1786,\"\"),\"\"),\" - \",IF(K1786<>\"\",TEXT(K1786,\"\"),\"\")))","v":""},"",{"$f":"IF(D1786<>\"\",D1786,\"\")","v":""},{"$f":"IF(E1786<>\"\",E1786,\"\")","v":""},{"$f":"IF(F1786<>\"\",F1786,\"\")","v":""},{"$f":"IF(N1786<>\"\",IF(D1787<>\"\",D1787,D1786),\"\")","v":""},{"$f":"IF(N1786<>\"\",IF(E1787<>\"\",E1787,E1786),\"\")","v":""},{"$f":"IF(N1786<>\"\",IF(F1787<>\"\",F1787,F1786),\"\")","v":""}]
[null,null,null,null,null,null,null,null,null,null,null,null,null,null,null,""]
[null,null,null,null,null,null,null,null,null,null,null,null,null,{"$f":"IF(A1788<>\"\",TEXT(A1788,\"\"),\"\")","v":""},{"$f":"IF(N1788=\"\",\"\",CONCATENATE(IF(C1788<>\"\",TEXT(C1788,\"\"),\"\"),\" - \",IF(K1788<>\"\",TEXT(K1788,\"\"),\"\")))","v":""},"",{"$f":"IF(D1788<>\"\",D1788,\"\")","v":""},{"$f":"IF(E1788<>\"\",E1788,\"\")","v":""},{"$f":"IF(F1788<>\"\",F1788,\"\")","v":""},{"$f":"IF(N1788<>\"\",IF(D1789<>\"\",D1789,D1788),\"\")","v":""},{"$f":"IF(N1788<>\"\",IF(E1789<>\"\",E1789,E1788),\"\")","v":""},{"$f":"IF(N1788<>\"\",IF(F1789<>\"\",F1789,F1788),\"\")","v":""}]
[null,null,null,null,null,null,null,null,null,null,null,null,null,null,null,""]
[null,null,null,null,null,null,null,null,null,null,null,null,null,{"$f":"IF(A1790<>\"\",TEXT(A1790,\"\"),\"\")","v":""},{"$f":"IF(N1790=\"\",\"\",CONCATENATE(IF(C1790<>\"\",TEXT(C1790,\"\"),\"\"),\" - \",IF(K1790<>\"\",TEXT(K1790,\"\"),\"\")))","v":""},"",{"$f":"IF(D1790<>\"\",D1790,\"\")","v":""},{"$f":"IF(E1790<>\"\",E1790,\"\")","v":""},{"$f":"IF(F1790<>\"\",F1790,\"\")","v":""},{"$f":"IF(N1790<>\"\",IF(D1791<>\"\",D1791,D1790),\"\")","v":""},{"$f":"IF(N1790<>\"\",IF(E1791<>\"\",E1791,E1790),\"\")","v":""},{"$f":"IF(N1790<>\"\",IF(F1791<>\"\",F1791,F1790),\"\")","v":""}]
[null,null,null,null,null,null,null,null,null,null,null,null,null,null,null,""]
[null,null,null,null,null,null,null,null,null,null,null,null,null,{"$f":"IF(A1792<>\"\",TEXT(A1792,\"\"),\"\")","v":""},{"$f":"IF(N1792=\"\",\"\",CONCATENATE(IF(C1792<>\"\",TEXT(C1792,\"\"),\"\"),\" - \",IF(K1792<>\"\",TEXT(K1792,\"\"),\"\")))","v":""},"",{"$f":"IF(D1792<>\"\",D1792,\"\")","v":""},{"$f":"IF(E1792<>\"\",E1792,\"\")","v":""},{"$f":"IF(F1792<>\"\",F1792,\"\")","v":""},{"$f":"IF(N1792<>\"\",IF(D1793<>\"\",D1793,D1792),\"\")","v":""},{"$f":"IF(N1792<>\"\",IF(E1793<>\"\",E1793,E1792),\"\")","v":""},{"$f":"IF(N1792<>\"\",IF(F1793<>\"\",F1793,F1792),\"\")","v":""}]
[null,null,null,null,null,null,null,null,null,null,null,null,null,null,null,""]
[null,null,null,null,null,null,null,null,null,null,null,null,null,{"$f":"IF(A1794<>\"\",TEXT(A1794,\"\"),\"\")","v":""},{"$f":"IF(N1794=\"\",\"\",CONCATENATE(IF(C1794<>\"\",TEXT(C1794,\"\"),\"\"),\" - \",IF(K1794<>\"\",TEXT(K1794,\"\"),\"\")))","v":""},"",{"$f":"IF(D1794<>\"\",D1794,\"\")","v":""},{"$f":"IF(E1794<>\"\",E1794,\"\")","v":""},{"$f":"IF(F1794<>\"\",F1794,\"\")","v":""},{"$f":"IF(N1794<>\"\",IF(D1795<>\"\",D1795,D1794),\"\")","v":""},{"$f":"IF(N1794<>\"\",IF(E1795<>\"\",E1795,E1794),\"\")","v":""},{"$f":"IF(N1794<>\"\",IF(F1795<>\"\",F1795,F1794),\"\")","v":""}]
[null,null,null,null,null,null,null,null,null,null,null,null,null,null,null,{"$f":"SUBSTITUTE(SUBSTITUTE(SUBSTITUTE(SUBSTITUTE(IF(L1795<>\"\",HLink(L1795),\"\"),\"htm\",\"html\"),\"1x2\",\"analysis\"),\"www\",\"www\"),\"com\",\"vip\")","v":""}]
[null,null,null,null,null,null,null,null,null,null,null,null,null,{"$f":"IF(A1796<>\"\",TEXT(A1796,\"\"),\"\")","v":""},{"$f":"IF(N1796=\"\",\"\",CONCATENATE(IF(C1796<>\"\",TEXT(C1796,\"\"),\"\"),\" - \",IF(K1796<>\"\",TEXT(K1796,\"\"),\"\")))","v":""},"",{"$f":"IF(D1796<>\"\",D1796,\"\")","v":""},{"$f":"IF(E1796<>\"\",E1796,\"\")","v":""},{"$f":"IF(F1796<>\"\",F1796,\"\")","v":""},{"$f":"IF(N1796<>\"\",IF(D1797<>\"\",D1797,D1796),\"\")","v":""},{"$f":"IF(N1796<>\"\",IF(E1797<>\"\",E1797,E1796),\"\")","v":""},{"$f":"IF(N1796<>\"\",IF(F1797<>\"\",F1797,F1796),\"\")","v":""}]
[null,null,null,null,null,null,null,null,null,null,null,null,null,null,null,""]
[null,null,null,null,null,null,null,null,null,null,null,null,null,{"$f":"IF(A1798<>\"\",TEXT(A1798,\"\"),\"\")","v":""},{"$f":"IF(N1798=\"\",\"\",CONCATENATE(IF(C1798<>\"\",TEXT(C1798,\"\"),\"\"),\" - \",IF(K1798<>\"\",TEXT(K1798,\"\"),\"\")))","v":""},"",{"$f":"IF(D1798<>\"\",D1798,\"\")","v":""},{"$f":"IF(E1798<>\"\",E1798,\"\")","v":""},{"$f":"IF(F1798<>\"\",F1798,\"\")","v":""},{"$f":"IF(N1798<>\"\",IF(D1799<>\"\",D1799,D1798),\"\")","v":""},{"$f":"IF(N1798<>\"\",IF(E1799<>\"\",E1799,E1798),\"\")","v":""},{"$f":"IF(N1798<>\"\",IF(F1799<>\"\",F1799,F1798),\"\")","v":""}]
[null,null,null,null,null,null,null,null,null,null,null,null,null,null,null,""]
[null,null,null,null,null,null,null,null,null,null,null,null,null,{"$f":"IF(A1800<>\"\",TEXT(A1800,\"\"),\"\")","v":""},{"$f":"IF(N1800=\"\",\"\",CONCATENATE(IF(C1800<>\"\",TEXT(C1800,\"\"),\"\"),\" - \",IF(K1800<>\"\",TEXT(K1800,\"\"),\"\")))","v":""},"",{"$f":"IF(D1800<>\"\",D1800,\"\")","v":""},{"$f":"IF(E1800<>\"\",E1800,\"\")","v":""},{"$f":"IF(F1800<>\"\",F1800,\"\")","v":""},{"$f":"IF(N1800<>\"\",IF(D1801<>\"\",D1801,D1800),\"\")","v":""},{"$f":"IF(N1800<>\"\",IF(E1801<>\"\",E1801,E1800),\"\")","v":""},{"$f":"IF(N1800<>\"\",IF(F1801<>\"\",F1801,F1800),\"\")","v":""}]
[null,null,null,null,null,null,null,null,null,null,null,null,null,null,null,""]
[null,null,null,null,null,null,null,null,null,null,null,null,null,{"$f":"IF(A1802<>\"\",TEXT(A1802,\"\"),\"\")","v":""},{"$f":"IF(N1802=\"\",\"\",CONCATENATE(IF(C1802<>\"\",TEXT(C1802,\"\"),\"\"),\" - \",IF(K1802<>\"\",TEXT(K1802,\"\"),\"\")))","v":""},"",{"$f":"IF(D1802<>\"\",D1802,\"\")","v":""},{"$f":"IF(E1802<>\"\",E1802,\"\")","v":""},{"$f":"IF(F1802<>\"\",F1802,\"\")","v":""},{"$f":"IF(N1802<>\"\",IF(D1803<>\"\",D1803,D1802),\"\")","v":""},{"$f":"IF(N1802<>\"\",IF(E1803<>\"\",E1803,E1802),\"\")","v":""},{"$f":"IF(N1802<>\"\",IF(F1803<>\"\",F1803,F1802),\"\")","v":""}]
[null,null,null,null,null,null,null,null,null,null,null,null,null,null,null,""]
[null,null,null,null,null,null,null,null,null,null,null,null,null,{"$f":"IF(A1804<>\"\",TEXT(A1804,\"\"),\"\")","v":""},{"$f":"IF(N1804=\"\",\"\",CONCATENATE(IF(C1804<>\"\",TEXT(C1804,\"\"),\"\"),\" - \",IF(K1804<>\"\",TEXT(K1804,\"\"),\"\")))","v":""},"",{"$f":"IF(D1804<>\"\",D1804,\"\")","v":""},{"$f":"IF(E1804<>\"\",E1804,\"\")","v":""},{"$f":"IF(F1804<>\"\",F1804,\"\")","v":""},{"$f":"IF(N1804<>\"\",IF(D1805<>\"\",D1805,D1804),\"\")","v":""},{"$f":"IF(N1804<>\"\",IF(E1805<>\"\",E1805,E1804),\"\")","v":""},{"$f":"IF(N1804<>\"\",IF(F1805<>\"\",F1805,F1804),\"\")","v":""}]
[null,null,null,null,null,null,null,null,null,null,null,null,null,null,null,""]
[null,null,null,null,null,null,null,null,null,null,null,null,null,{"$f":"IF(A1806<>\"\",TEXT(A1806,\"\"),\"\")","v":""},{"$f":"IF(N1806=\"\",\"\",CONCATENATE(IF(C1806<>\"\",TEXT(C1806,\"\"),\"\"),\" - \",IF(K1806<>\"\",TEXT(K1806,\"\"),\"\")))","v":""},"",{"$f":"IF(D1806<>\"\",D1806,\"\")","v":""},{"$f":"IF(E1806<>\"\",E1806,\"\")","v":""},{"$f":"IF(F1806<>\"\",F1806,\"\")","v":""},{"$f":"IF(N1806<>\"\",IF(D1807<>\"\",D1807,D1806),\"\")","v":""},{"$f":"IF(N1806<>\"\",IF(E1807<>\"\",E1807,E1806),\"\")","v":""},{"$f":"IF(N1806<>\"\",IF(F1807<>\"\",F1807,F1806),\"\")","v":""}]
[null,null,null,null,null,null,null,null,null,null,null,null,null,null,null,""]
[null,null,null,null,null,null,null,null,null,null,null,null,null,{"$f":"IF(A1808<>\"\",TEXT(A1808,\"\"),\"\")","v":""},{"$f":"IF(N1808=\"\",\"\",CONCATENATE(IF(C1808<>\"\",TEXT(C1808,\"\"),\"\"),\" - \",IF(K1808<>\"\",TEXT(K1808,\"\"),\"\")))","v":""},"",{"$f":"IF(D1808<>\"\",D1808,\"\")","v":""},{"$f":"IF(E1808<>\"\",E1808,\"\")","v":""},{"$f":"IF(F1808<>\"\",F1808,\"\")","v":""},{"$f":"IF(N1808<>\"\",IF(D1809<>\"\",D1809,D1808),\"\")","v":""},{"$f":"IF(N1808<>\"\",IF(E1809<>\"\",E1809,E1808),\"\")","v":""},{"$f":"IF(N1808<>\"\",IF(F1809<>\"\",F1809,F1808),\"\")","v":""}]
[null,null,null,null,null,null,null,null,null,null,null,null,null,null,null,""]
[null,null,null,null,null,null,null,null,null,null,null,null,null,{"$f":"IF(A1810<>\"\",TEXT(A1810,\"\"),\"\")","v":""},{"$f":"IF(N1810=\"\",\"\",CONCATENATE(IF(C1810<>\"\",TEXT(C1810,\"\"),\"\"),\" - \",IF(K1810<>\"\",TEXT(K1810,\"\"),\"\")))","v":""},"",{"$f":"IF(D1810<>\"\",D1810,\"\")","v":""},{"$f":"IF(E1810<>\"\",E1810,\"\")","v":""},{"$f":"IF(F1810<>\"\",F1810,\"\")","v":""},{"$f":"IF(N1810<>\"\",IF(D1811<>\"\",D1811,D1810),\"\")","v":""},{"$f":"IF(N1810<>\"\",IF(E1811<>\"\",E1811,E1810),\"\")","v":""},{"$f":"IF(N1810<>\"\",IF(F1811<>\"\",F1811,F1810),\"\")","v":""}]
[null,null,null,null,null,null,null,null,null,null,null,null,null,null,null,""]
[null,null,null,null,null,null,null,null,null,null,null,null,null,{"$f":"IF(A1812<>\"\",TEXT(A1812,\"\"),\"\")","v":""},{"$f":"IF(N1812=\"\",\"\",CONCATENATE(IF(C1812<>\"\",TEXT(C1812,\"\"),\"\"),\" - \",IF(K1812<>\"\",TEXT(K1812,\"\"),\"\")))","v":""},"",{"$f":"IF(D1812<>\"\",D1812,\"\")","v":""},{"$f":"IF(E1812<>\"\",E1812,\"\")","v":""},{"$f":"IF(F1812<>\"\",F1812,\"\")","v":""},{"$f":"IF(N1812<>\"\",IF(D1813<>\"\",D1813,D1812),\"\")","v":""},{"$f":"IF(N1812<>\"\",IF(E1813<>\"\",E1813,E1812),\"\")","v":""},{"$f":"IF(N1812<>\"\",IF(F1813<>\"\",F1813,F1812),\"\")","v":""}]
[null,null,null,null,null,null,null,null,null,null,null,null,null,null,null,""]
[null,null,null,null,null,null,null,null,null,null,null,null,null,{"$f":"IF(A1814<>\"\",TEXT(A1814,\"\"),\"\")","v":""},{"$f":"IF(N1814=\"\",\"\",CONCATENATE(IF(C1814<>\"\",TEXT(C1814,\"\"),\"\"),\" - \",IF(K1814<>\"\",TEXT(K1814,\"\"),\"\")))","v":""},"",{"$f":"IF(D1814<>\"\",D1814,\"\")","v":""},{"$f":"IF(E1814<>\"\",E1814,\"\")","v":""},{"$f":"IF(F1814<>\"\",F1814,\"\")","v":""},{"$f":"IF(N1814<>\"\",IF(D1815<>\"\",D1815,D1814),\"\")","v":""},{"$f":"IF(N1814<>\"\",IF(E1815<>\"\",E1815,E1814),\"\")","v":""},{"$f":"IF(N1814<>\"\",IF(F1815<>\"\",F1815,F1814),\"\")","v":""}]
[null,null,null,null,null,null,null,null,null,null,null,null,null,null,null,""]
[null,null,null,null,null,null,null,null,null,null,null,null,null,{"$f":"IF(A1816<>\"\",TEXT(A1816,\"\"),\"\")","v":""},{"$f":"IF(N1816=\"\",\"\",CONCATENATE(IF(C1816<>\"\",TEXT(C1816,\"\"),\"\"),\" - \",IF(K1816<>\"\",TEXT(K1816,\"\"),\"\")))","v":""},"",{"$f":"IF(D1816<>\"\",D1816,\"\")","v":""},{"$f":"IF(E1816<>\"\",E1816,\"\")","v":""},{"$f":"IF(F1816<>\"\",F1816,\"\")","v":""},{"$f":"IF(N1816<>\"\",IF(D1817<>\"\",D1817,D1816),\"\")","v":""},{"$f":"IF(N1816<>\"\",IF(E1817<>\"\",E1817,E1816),\"\")","v":""},{"$f":"IF(N1816<>\"\",IF(F1817<>\"\",F1817,F1816),\"\")","v":""}]
[null,null,null,null,null,null,null,null,null,null,null,null,null,null,null,""]
[null,null,null,null,null,null,null,null,null,null,null,null,null,{"$f":"IF(A1818<>\"\",TEXT(A1818,\"\"),\"\")","v":""},{"$f":"IF(N1818=\"\",\"\",CONCATENATE(IF(C1818<>\"\",TEXT(C1818,\"\"),\"\"),\" - \",IF(K1818<>\"\",TEXT(K1818,\"\"),\"\")))","v":""},"",{"$f":"IF(D1818<>\"\",D1818,\"\")","v":""},{"$f":"IF(E1818<>\"\",E1818,\"\")","v":""},{"$f":"IF(F1818<>\"\",F1818,\"\")","v":""},{"$f":"IF(N1818<>\"\",IF(D1819<>\"\",D1819,D1818),\"\")","v":""},{"$f":"IF(N1818<>\"\",IF(E1819<>\"\",E1819,E1818),\"\")","v":""},{"$f":"IF(N1818<>\"\",IF(F1819<>\"\",F1819,F1818),\"\")","v":""}]
[null,null,null,null,null,null,null,null,null,null,null,null,null,null,null,""]
[null,null,null,null,null,null,null,null,null,null,null,null,null,{"$f":"IF(A1820<>\"\",TEXT(A1820,\"\"),\"\")","v":""},{"$f":"IF(N1820=\"\",\"\",CONCATENATE(IF(C1820<>\"\",TEXT(C1820,\"\"),\"\"),\" - \",IF(K1820<>\"\",TEXT(K1820,\"\"),\"\")))","v":""},"",{"$f":"IF(D1820<>\"\",D1820,\"\")","v":""},{"$f":"IF(E1820<>\"\",E1820,\"\")","v":""},{"$f":"IF(F1820<>\"\",F1820,\"\")","v":""},{"$f":"IF(N1820<>\"\",IF(D1821<>\"\",D1821,D1820),\"\")","v":""},{"$f":"IF(N1820<>\"\",IF(E1821<>\"\",E1821,E1820),\"\")","v":""},{"$f":"IF(N1820<>\"\",IF(F1821<>\"\",F1821,F1820),\"\")","v":""}]
[null,null,null,null,null,null,null,null,null,null,null,null,null,null,null,""]
[null,null,null,null,null,null,null,null,null,null,null,null,null,{"$f":"IF(A1822<>\"\",TEXT(A1822,\"\"),\"\")","v":""},{"$f":"IF(N1822=\"\",\"\",CONCATENATE(IF(C1822<>\"\",TEXT(C1822,\"\"),\"\"),\" - \",IF(K1822<>\"\",TEXT(K1822,\"\"),\"\")))","v":""},"",{"$f":"IF(D1822<>\"\",D1822,\"\")","v":""},{"$f":"IF(E1822<>\"\",E1822,\"\")","v":""},{"$f":"IF(F1822<>\"\",F1822,\"\")","v":""},{"$f":"IF(N1822<>\"\",IF(D1823<>\"\",D1823,D1822),\"\")","v":""},{"$f":"IF(N1822<>\"\",IF(E1823<>\"\",E1823,E1822),\"\")","v":""},{"$f":"IF(N1822<>\"\",IF(F1823<>\"\",F1823,F1822),\"\")","v":""}]
[null,null,null,null,null,null,null,null,null,null,null,null,null,null,null,""]
[null,null,null,null,null,null,null,null,null,null,null,null,null,{"$f":"IF(A1824<>\"\",TEXT(A1824,\"\"),\"\")","v":""},{"$f":"IF(N1824=\"\",\"\",CONCATENATE(IF(C1824<>\"\",TEXT(C1824,\"\"),\"\"),\" - \",IF(K1824<>\"\",TEXT(K1824,\"\"),\"\")))","v":""},"",{"$f":"IF(D1824<>\"\",D1824,\"\")","v":""},{"$f":"IF(E1824<>\"\",E1824,\"\")","v":""},{"$f":"IF(F1824<>\"\",F1824,\"\")","v":""},{"$f":"IF(N1824<>\"\",IF(D1825<>\"\",D1825,D1824),\"\")","v":""},{"$f":"IF(N1824<>\"\",IF(E1825<>\"\",E1825,E1824),\"\")","v":""},{"$f":"IF(N1824<>\"\",IF(F1825<>\"\",F1825,F1824),\"\")","v":""}]
[null,null,null,null,null,null,null,null,null,null,null,null,null,null,null,""]
[null,null,null,null,null,null,null,null,null,null,null,null,null,{"$f":"IF(A1826<>\"\",TEXT(A1826,\"\"),\"\")","v":""},{"$f":"IF(N1826=\"\",\"\",CONCATENATE(IF(C1826<>\"\",TEXT(C1826,\"\"),\"\"),\" - \",IF(K1826<>\"\",TEXT(K1826,\"\"),\"\")))","v":""},"",{"$f":"IF(D1826<>\"\",D1826,\"\")","v":""},{"$f":"IF(E1826<>\"\",E1826,\"\")","v":""},{"$f":"IF(F1826<>\"\",F1826,\"\")","v":""},{"$f":"IF(N1826<>\"\",IF(D1827<>\"\",D1827,D1826),\"\")","v":""},{"$f":"IF(N1826<>\"\",IF(E1827<>\"\",E1827,E1826),\"\")","v":""},{"$f":"IF(N1826<>\"\",IF(F1827<>\"\",F1827,F1826),\"\")","v":""}]
[null,null,null,null,null,null,null,null,null,null,null,null,null,null,null,""]
[null,null,null,null,null,null,null,null,null,null,null,null,null,{"$f":"IF(A1828<>\"\",TEXT(A1828,\"\"),\"\")","v":""},{"$f":"IF(N1828=\"\",\"\",CONCATENATE(IF(C1828<>\"\",TEXT(C1828,\"\"),\"\"),\" - \",IF(K1828<>\"\",TEXT(K1828,\"\"),\"\")))","v":""},"",{"$f":"IF(D1828<>\"\",D1828,\"\")","v":""},{"$f":"IF(E1828<>\"\",E1828,\"\")","v":""},{"$f":"IF(F1828<>\"\",F1828,\"\")","v":""},{"$f":"IF(N1828<>\"\",IF(D1829<>\"\",D1829,D1828),\"\")","v":""},{"$f":"IF(N1828<>\"\",IF(E1829<>\"\",E1829,E1828),\"\")","v":""},{"$f":"IF(N1828<>\"\",IF(F1829<>\"\",F1829,F1828),\"\")","v":""}]
[null,null,null,null,null,null,null,null,null,null,null,null,null,null,null,""]
[null,null,null,null,null,null,null,null,null,null,null,null,null,{"$f":"IF(A1830<>\"\",TEXT(A1830,\"\"),\"\")","v":""},{"$f":"IF(N1830=\"\",\"\",CONCATENATE(IF(C1830<>\"\",TEXT(C1830,\"\"),\"\"),\" - \",IF(K1830<>\"\",TEXT(K1830,\"\"),\"\")))","v":""},"",{"$f":"IF(D1830<>\"\",D1830,\"\")","v":""},{"$f":"IF(E1830<>\"\",E1830,\"\")","v":""},{"$f":"IF(F1830<>\"\",F1830,\"\")","v":""},{"$f":"IF(N1830<>\"\",IF(D1831<>\"\",D1831,D1830),\"\")","v":""},{"$f":"IF(N1830<>\"\",IF(E1831<>\"\",E1831,E1830),\"\")","v":""},{"$f":"IF(N1830<>\"\",IF(F1831<>\"\",F1831,F1830),\"\")","v":""}]
[null,null,null,null,null,null,null,null,null,null,null,null,null,null,null,""]
[null,null,null,null,null,null,null,null,null,null,null,null,null,{"$f":"IF(A1832<>\"\",TEXT(A1832,\"\"),\"\")","v":""},{"$f":"IF(N1832=\"\",\"\",CONCATENATE(IF(C1832<>\"\",TEXT(C1832,\"\"),\"\"),\" - \",IF(K1832<>\"\",TEXT(K1832,\"\"),\"\")))","v":""},"",{"$f":"IF(D1832<>\"\",D1832,\"\")","v":""},{"$f":"IF(E1832<>\"\",E1832,\"\")","v":""},{"$f":"IF(F1832<>\"\",F1832,\"\")","v":""},{"$f":"IF(N1832<>\"\",IF(D1833<>\"\",D1833,D1832),\"\")","v":""},{"$f":"IF(N1832<>\"\",IF(E1833<>\"\",E1833,E1832),\"\")","v":""},{"$f":"IF(N1832<>\"\",IF(F1833<>\"\",F1833,F1832),\"\")","v":""}]
[null,null,null,null,null,null,null,null,null,null,null,null,null,null,null,""]
[null,null,null,null,null,null,null,null,null,null,null,null,null,{"$f":"IF(A1834<>\"\",TEXT(A1834,\"\"),\"\")","v":""},{"$f":"IF(N1834=\"\",\"\",CONCATENATE(IF(C1834<>\"\",TEXT(C1834,\"\"),\"\"),\" - \",IF(K1834<>\"\",TEXT(K1834,\"\"),\"\")))","v":""},"",{"$f":"IF(D1834<>\"\",D1834,\"\")","v":""},{"$f":"IF(E1834<>\"\",E1834,\"\")","v":""},{"$f":"IF(F1834<>\"\",F1834,\"\")","v":""},{"$f":"IF(N1834<>\"\",IF(D1835<>\"\",D1835,D1834),\"\")","v":""},{"$f":"IF(N1834<>\"\",IF(E1835<>\"\",E1835,E1834),\"\")","v":""},{"$f":"IF(N1834<>\"\",IF(F1835<>\"\",F1835,F1834),\"\")","v":""}]
[null,null,null,null,null,null,null,null,null,null,null,null,null,null,null,""]
[null,null,null,null,null,null,null,null,null,null,null,null,null,{"$f":"IF(A1836<>\"\",TEXT(A1836,\"\"),\"\")","v":""},{"$f":"IF(N1836=\"\",\"\",CONCATENATE(IF(C1836<>\"\",TEXT(C1836,\"\"),\"\"),\" - \",IF(K1836<>\"\",TEXT(K1836,\"\"),\"\")))","v":""},"",{"$f":"IF(D1836<>\"\",D1836,\"\")","v":""},{"$f":"IF(E1836<>\"\",E1836,\"\")","v":""},{"$f":"IF(F1836<>\"\",F1836,\"\")","v":""},{"$f":"IF(N1836<>\"\",IF(D1837<>\"\",D1837,D1836),\"\")","v":""},{"$f":"IF(N1836<>\"\",IF(E1837<>\"\",E1837,E1836),\"\")","v":""},{"$f":"IF(N1836<>\"\",IF(F1837<>\"\",F1837,F1836),\"\")","v":""}]
[null,null,null,null,null,null,null,null,null,null,null,null,null,null,null,""]
[null,null,null,null,null,null,null,null,null,null,null,null,null,{"$f":"IF(A1838<>\"\",TEXT(A1838,\"\"),\"\")","v":""},{"$f":"IF(N1838=\"\",\"\",CONCATENATE(IF(C1838<>\"\",TEXT(C1838,\"\"),\"\"),\" - \",IF(K1838<>\"\",TEXT(K1838,\"\"),\"\")))","v":""},"",{"$f":"IF(D1838<>\"\",D1838,\"\")","v":""},{"$f":"IF(E1838<>\"\",E1838,\"\")","v":""},{"$f":"IF(F1838<>\"\",F1838,\"\")","v":""},{"$f":"IF(N1838<>\"\",IF(D1839<>\"\",D1839,D1838),\"\")","v":""},{"$f":"IF(N1838<>\"\",IF(E1839<>\"\",E1839,E1838),\"\")","v":""},{"$f":"IF(N1838<>\"\",IF(F1839<>\"\",F1839,F1838),\"\")","v":""}]
[null,null,null,null,null,null,null,null,null,null,null,null,null,null,null,""]
[null,null,null,null,null,null,null,null,null,null,null,null,null,{"$f":"IF(A1840<>\"\",TEXT(A1840,\"\"),\"\")","v":""},{"$f":"IF(N1840=\"\",\"\",CONCATENATE(IF(C1840<>\"\",TEXT(C1840,\"\"),\"\"),\" - \",IF(K1840<>\"\",TEXT(K1840,\"\"),\"\")))","v":""},"",{"$f":"IF(D1840<>\"\",D1840,\"\")","v":""},{"$f":"IF(E1840<>\"\",E1840,\"\")","v":""},{"$f":"IF(F1840<>\"\",F1840,\"\")","v":""},{"$f":"IF(N1840<>\"\",IF(D1841<>\"\",D1841,D1840),\"\")","v":""},{"$f":"IF(N1840<>\"\",IF(E1841<>\"\",E1841,E1840),\"\")","v":""},{"$f":"IF(N1840<>\"\",IF(F1841<>\"\",F1841,F1840),\"\")","v":""}]
[null,null,null,null,null,null,null,null,null,null,null,null,null,null,null,""]
[null,null,null,null,null,null,null,null,null,null,null,null,null,{"$f":"IF(A1842<>\"\",TEXT(A1842,\"\"),\"\")","v":""},{"$f":"IF(N1842=\"\",\"\",CONCATENATE(IF(C1842<>\"\",TEXT(C1842,\"\"),\"\"),\" - \",IF(K1842<>\"\",TEXT(K1842,\"\"),\"\")))","v":""},"",{"$f":"IF(D1842<>\"\",D1842,\"\")","v":""},{"$f":"IF(E1842<>\"\",E1842,\"\")","v":""},{"$f":"IF(F1842<>\"\",F1842,\"\")","v":""},{"$f":"IF(N1842<>\"\",IF(D1843<>\"\",D1843,D1842),\"\")","v":""},{"$f":"IF(N1842<>\"\",IF(E1843<>\"\",E1843,E1842),\"\")","v":""},{"$f":"IF(N1842<>\"\",IF(F1843<>\"\",F1843,F1842),\"\")","v":""}]
[null,null,null,null,null,null,null,null,null,null,null,null,null,null,null,""]
[null,null,null,null,null,null,null,null,null,null,null,null,null,{"$f":"IF(A1844<>\"\",TEXT(A1844,\"\"),\"\")","v":""},{"$f":"IF(N1844=\"\",\"\",CONCATENATE(IF(C1844<>\"\",TEXT(C1844,\"\"),\"\"),\" - \",IF(K1844<>\"\",TEXT(K1844,\"\"),\"\")))","v":""},"",{"$f":"IF(D1844<>\"\",D1844,\"\")","v":""},{"$f":"IF(E1844<>\"\",E1844,\"\")","v":""},{"$f":"IF(F1844<>\"\",F1844,\"\")","v":""},{"$f":"IF(N1844<>\"\",IF(D1845<>\"\",D1845,D1844),\"\")","v":""},{"$f":"IF(N1844<>\"\",IF(E1845<>\"\",E1845,E1844),\"\")","v":""},{"$f":"IF(N1844<>\"\",IF(F1845<>\"\",F1845,F1844),\"\")","v":""}]
[null,null,null,null,null,null,null,null,null,null,null,null,null,null,null,""]
[null,null,null,null,null,null,null,null,null,null,null,null,null,{"$f":"IF(A1846<>\"\",TEXT(A1846,\"\"),\"\")","v":""},{"$f":"IF(N1846=\"\",\"\",CONCATENATE(IF(C1846<>\"\",TEXT(C1846,\"\"),\"\"),\" - \",IF(K1846<>\"\",TEXT(K1846,\"\"),\"\")))","v":""},"",{"$f":"IF(D1846<>\"\",D1846,\"\")","v":""},{"$f":"IF(E1846<>\"\",E1846,\"\")","v":""},{"$f":"IF(F1846<>\"\",F1846,\"\")","v":""},{"$f":"IF(N1846<>\"\",IF(D1847<>\"\",D1847,D1846),\"\")","v":""},{"$f":"IF(N1846<>\"\",IF(E1847<>\"\",E1847,E1846),\"\")","v":""},{"$f":"IF(N1846<>\"\",IF(F1847<>\"\",F1847,F1846),\"\")","v":""}]
[null,null,null,null,null,null,null,null,null,null,null,null,null,null,null,""]
[null,null,null,null,null,null,null,null,null,null,null,null,null,{"$f":"IF(A1848<>\"\",TEXT(A1848,\"\"),\"\")","v":""},{"$f":"IF(N1848=\"\",\"\",CONCATENATE(IF(C1848<>\"\",TEXT(C1848,\"\"),\"\"),\" - \",IF(K1848<>\"\",TEXT(K1848,\"\"),\"\")))","v":""},"",{"$f":"IF(D1848<>\"\",D1848,\"\")","v":""},{"$f":"IF(E1848<>\"\",E1848,\"\")","v":""},{"$f":"IF(F1848<>\"\",F1848,\"\")","v":""},{"$f":"IF(N1848<>\"\",IF(D1849<>\"\",D1849,D1848),\"\")","v":""},{"$f":"IF(N1848<>\"\",IF(E1849<>\"\",E1849,E1848),\"\")","v":""},{"$f":"IF(N1848<>\"\",IF(F1849<>\"\",F1849,F1848),\"\")","v":""}]
[null,null,null,null,null,null,null,null,null,null,null,null,null,null,null,""]
[null,null,null,null,null,null,null,null,null,null,null,null,null,{"$f":"IF(A1850<>\"\",TEXT(A1850,\"\"),\"\")","v":""},{"$f":"IF(N1850=\"\",\"\",CONCATENATE(IF(C1850<>\"\",TEXT(C1850,\"\"),\"\"),\" - \",IF(K1850<>\"\",TEXT(K1850,\"\"),\"\")))","v":""},"",{"$f":"IF(D1850<>\"\",D1850,\"\")","v":""},{"$f":"IF(E1850<>\"\",E1850,\"\")","v":""},{"$f":"IF(F1850<>\"\",F1850,\"\")","v":""},{"$f":"IF(N1850<>\"\",IF(D1851<>\"\",D1851,D1850),\"\")","v":""},{"$f":"IF(N1850<>\"\",IF(E1851<>\"\",E1851,E1850),\"\")","v":""},{"$f":"IF(N1850<>\"\",IF(F1851<>\"\",F1851,F1850),\"\")","v":""}]
[null,null,null,null,null,null,null,null,null,null,null,null,null,null,null,""]
[null,null,null,null,null,null,null,null,null,null,null,null,null,{"$f":"IF(A1852<>\"\",TEXT(A1852,\"\"),\"\")","v":""},{"$f":"IF(N1852=\"\",\"\",CONCATENATE(IF(C1852<>\"\",TEXT(C1852,\"\"),\"\"),\" - \",IF(K1852<>\"\",TEXT(K1852,\"\"),\"\")))","v":""},"",{"$f":"IF(D1852<>\"\",D1852,\"\")","v":""},{"$f":"IF(E1852<>\"\",E1852,\"\")","v":""},{"$f":"IF(F1852<>\"\",F1852,\"\")","v":""},{"$f":"IF(N1852<>\"\",IF(D1853<>\"\",D1853,D1852),\"\")","v":""},{"$f":"IF(N1852<>\"\",IF(E1853<>\"\",E1853,E1852),\"\")","v":""},{"$f":"IF(N1852<>\"\",IF(F1853<>\"\",F1853,F1852),\"\")","v":""}]
[null,null,null,null,null,null,null,null,null,null,null,null,null,null,null,""]
[null,null,null,null,null,null,null,null,null,null,null,null,null,{"$f":"IF(A1854<>\"\",TEXT(A1854,\"\"),\"\")","v":""},{"$f":"IF(N1854=\"\",\"\",CONCATENATE(IF(C1854<>\"\",TEXT(C1854,\"\"),\"\"),\" - \",IF(K1854<>\"\",TEXT(K1854,\"\"),\"\")))","v":""},"",{"$f":"IF(D1854<>\"\",D1854,\"\")","v":""},{"$f":"IF(E1854<>\"\",E1854,\"\")","v":""},{"$f":"IF(F1854<>\"\",F1854,\"\")","v":""},{"$f":"IF(N1854<>\"\",IF(D1855<>\"\",D1855,D1854),\"\")","v":""},{"$f":"IF(N1854<>\"\",IF(E1855<>\"\",E1855,E1854),\"\")","v":""},{"$f":"IF(N1854<>\"\",IF(F1855<>\"\",F1855,F1854),\"\")","v":""}]
[null,null,null,null,null,null,null,null,null,null,null,null,null,null,null,""]
[null,null,null,null,null,null,null,null,null,null,null,null,null,{"$f":"IF(A1856<>\"\",TEXT(A1856,\"\"),\"\")","v":""},{"$f":"IF(N1856=\"\",\"\",CONCATENATE(IF(C1856<>\"\",TEXT(C1856,\"\"),\"\"),\" - \",IF(K1856<>\"\",TEXT(K1856,\"\"),\"\")))","v":""},"",{"$f":"IF(D1856<>\"\",D1856,\"\")","v":""},{"$f":"IF(E1856<>\"\",E1856,\"\")","v":""},{"$f":"IF(F1856<>\"\",F1856,\"\")","v":""},{"$f":"IF(N1856<>\"\",IF(D1857<>\"\",D1857,D1856),\"\")","v":""},{"$f":"IF(N1856<>\"\",IF(E1857<>\"\",E1857,E1856),\"\")","v":""},{"$f":"IF(N1856<>\"\",IF(F1857<>\"\",F1857,F1856),\"\")","v":""}]
[null,null,null,null,null,null,null,null,null,null,null,null,null,null,null,""]
[null,null,null,null,null,null,null,null,null,null,null,null,null,{"$f":"IF(A1858<>\"\",TEXT(A1858,\"\"),\"\")","v":""},{"$f":"IF(N1858=\"\",\"\",CONCATENATE(IF(C1858<>\"\",TEXT(C1858,\"\"),\"\"),\" - \",IF(K1858<>\"\",TEXT(K1858,\"\"),\"\")))","v":""},"",{"$f":"IF(D1858<>\"\",D1858,\"\")","v":""},{"$f":"IF(E1858<>\"\",E1858,\"\")","v":""},{"$f":"IF(F1858<>\"\",F1858,\"\")","v":""},{"$f":"IF(N1858<>\"\",IF(D1859<>\"\",D1859,D1858),\"\")","v":""},{"$f":"IF(N1858<>\"\",IF(E1859<>\"\",E1859,E1858),\"\")","v":""},{"$f":"IF(N1858<>\"\",IF(F1859<>\"\",F1859,F1858),\"\")","v":""}]
[null,null,null,null,null,null,null,null,null,null,null,null,null,null,null,{"$f":"SUBSTITUTE(SUBSTITUTE(SUBSTITUTE(SUBSTITUTE(IF(L1859<>\"\",HLink(L1859),\"\"),\"htm\",\"html\"),\"1x2\",\"analysis\"),\"www\",\"www\"),\"com\",\"vip\")","v":""}]
[null,null,null,null,null,null,null,null,null,null,null,null,null,{"$f":"IF(A1860<>\"\",TEXT(A1860,\"\"),\"\")","v":""},{"$f":"IF(N1860=\"\",\"\",CONCATENATE(IF(C1860<>\"\",TEXT(C1860,\"\"),\"\"),\" - \",IF(K1860<>\"\",TEXT(K1860,\"\"),\"\")))","v":""},"",{"$f":"IF(D1860<>\"\",D1860,\"\")","v":""},{"$f":"IF(E1860<>\"\",E1860,\"\")","v":""},{"$f":"IF(F1860<>\"\",F1860,\"\")","v":""},{"$f":"IF(N1860<>\"\",IF(D1861<>\"\",D1861,D1860),\"\")","v":""},{"$f":"IF(N1860<>\"\",IF(E1861<>\"\",E1861,E1860),\"\")","v":""},{"$f":"IF(N1860<>\"\",IF(F1861<>\"\",F1861,F1860),\"\")","v":""}]
[null,null,null,null,null,null,null,null,null,null,null,null,null,null,null,""]
[null,null,null,null,null,null,null,null,null,null,null,null,null,{"$f":"IF(A1862<>\"\",TEXT(A1862,\"\"),\"\")","v":""},{"$f":"IF(N1862=\"\",\"\",CONCATENATE(IF(C1862<>\"\",TEXT(C1862,\"\"),\"\"),\" - \",IF(K1862<>\"\",TEXT(K1862,\"\"),\"\")))","v":""},"",{"$f":"IF(D1862<>\"\",D1862,\"\")","v":""},{"$f":"IF(E1862<>\"\",E1862,\"\")","v":""},{"$f":"IF(F1862<>\"\",F1862,\"\")","v":""},{"$f":"IF(N1862<>\"\",IF(D1863<>\"\",D1863,D1862),\"\")","v":""},{"$f":"IF(N1862<>\"\",IF(E1863<>\"\",E1863,E1862),\"\")","v":""},{"$f":"IF(N1862<>\"\",IF(F1863<>\"\",F1863,F1862),\"\")","v":""}]
[null,null,null,null,null,null,null,null,null,null,null,null,null,null,null,""]
[null,null,null,null,null,null,null,null,null,null,null,null,null,{"$f":"IF(A1864<>\"\",TEXT(A1864,\"\"),\"\")","v":""},{"$f":"IF(N1864=\"\",\"\",CONCATENATE(IF(C1864<>\"\",TEXT(C1864,\"\"),\"\"),\" - \",IF(K1864<>\"\",TEXT(K1864,\"\"),\"\")))","v":""},"",{"$f":"IF(D1864<>\"\",D1864,\"\")","v":""},{"$f":"IF(E1864<>\"\",E1864,\"\")","v":""},{"$f":"IF(F1864<>\"\",F1864,\"\")","v":""},{"$f":"IF(N1864<>\"\",IF(D1865<>\"\",D1865,D1864),\"\")","v":""},{"$f":"IF(N1864<>\"\",IF(E1865<>\"\",E1865,E1864),\"\")","v":""},{"$f":"IF(N1864<>\"\",IF(F1865<>\"\",F1865,F1864),\"\")","v":""}]
[null,null,null,null,null,null,null,null,null,null,null,null,null,null,null,""]
[null,null,null,null,null,null,null,null,null,null,null,null,null,{"$f":"IF(A1866<>\"\",TEXT(A1866,\"\"),\"\")","v":""},{"$f":"IF(N1866=\"\",\"\",CONCATENATE(IF(C1866<>\"\",TEXT(C1866,\"\"),\"\"),\" - \",IF(K1866<>\"\",TEXT(K1866,\"\"),\"\")))","v":""},"",{"$f":"IF(D1866<>\"\",D1866,\"\")","v":""},{"$f":"IF(E1866<>\"\",E1866,\"\")","v":""},{"$f":"IF(F1866<>\"\",F1866,\"\")","v":""},{"$f":"IF(N1866<>\"\",IF(D1867<>\"\",D1867,D1866),\"\")","v":""},{"$f":"IF(N1866<>\"\",IF(E1867<>\"\",E1867,E1866),\"\")","v":""},{"$f":"IF(N1866<>\"\",IF(F1867<>\"\",F1867,F1866),\"\")","v":""}]
[null,null,null,null,null,null,null,null,null,null,null,null,null,null,null,""]
[null,null,null,null,null,null,null,null,null,null,null,null,null,{"$f":"IF(A1868<>\"\",TEXT(A1868,\"\"),\"\")","v":""},{"$f":"IF(N1868=\"\",\"\",CONCATENATE(IF(C1868<>\"\",TEXT(C1868,\"\"),\"\"),\" - \",IF(K1868<>\"\",TEXT(K1868,\"\"),\"\")))","v":""},"",{"$f":"IF(D1868<>\"\",D1868,\"\")","v":""},{"$f":"IF(E1868<>\"\",E1868,\"\")","v":""},{"$f":"IF(F1868<>\"\",F1868,\"\")","v":""},{"$f":"IF(N1868<>\"\",IF(D1869<>\"\",D1869,D1868),\"\")","v":""},{"$f":"IF(N1868<>\"\",IF(E1869<>\"\",E1869,E1868),\"\")","v":""},{"$f":"IF(N1868<>\"\",IF(F1869<>\"\",F1869,F1868),\"\")","v":""}]
[null,null,null,null,null,null,null,null,null,null,null,null,null,null,null,""]
[null,null,null,null,null,null,null,null,null,null,null,null,null,{"$f":"IF(A1870<>\"\",TEXT(A1870,\"\"),\"\")","v":""},{"$f":"IF(N1870=\"\",\"\",CONCATENATE(IF(C1870<>\"\",TEXT(C1870,\"\"),\"\"),\" - \",IF(K1870<>\"\",TEXT(K1870,\"\"),\"\")))","v":""},"",{"$f":"IF(D1870<>\"\",D1870,\"\")","v":""},{"$f":"IF(E1870<>\"\",E1870,\"\")","v":""},{"$f":"IF(F1870<>\"\",F1870,\"\")","v":""},{"$f":"IF(N1870<>\"\",IF(D1871<>\"\",D1871,D1870),\"\")","v":""},{"$f":"IF(N1870<>\"\",IF(E1871<>\"\",E1871,E1870),\"\")","v":""},{"$f":"IF(N1870<>\"\",IF(F1871<>\"\",F1871,F1870),\"\")","v":""}]
[null,null,null,null,null,null,null,null,null,null,null,null,null,null,null,""]
[null,null,null,null,null,null,null,null,null,null,null,null,null,{"$f":"IF(A1872<>\"\",TEXT(A1872,\"\"),\"\")","v":""},{"$f":"IF(N1872=\"\",\"\",CONCATENATE(IF(C1872<>\"\",TEXT(C1872,\"\"),\"\"),\" - \",IF(K1872<>\"\",TEXT(K1872,\"\"),\"\")))","v":""},"",{"$f":"IF(D1872<>\"\",D1872,\"\")","v":""},{"$f":"IF(E1872<>\"\",E1872,\"\")","v":""},{"$f":"IF(F1872<>\"\",F1872,\"\")","v":""},{"$f":"IF(N1872<>\"\",IF(D1873<>\"\",D1873,D1872),\"\")","v":""},{"$f":"IF(N1872<>\"\",IF(E1873<>\"\",E1873,E1872),\"\")","v":""},{"$f":"IF(N1872<>\"\",IF(F1873<>\"\",F1873,F1872),\"\")","v":""}]
[null,null,null,null,null,null,null,null,null,null,null,null,null,null,null,""]
[null,null,null,null,null,null,null,null,null,null,null,null,null,{"$f":"IF(A1874<>\"\",TEXT(A1874,\"\"),\"\")","v":""},{"$f":"IF(N1874=\"\",\"\",CONCATENATE(IF(C1874<>\"\",TEXT(C1874,\"\"),\"\"),\" - \",IF(K1874<>\"\",TEXT(K1874,\"\"),\"\")))","v":""},"",{"$f":"IF(D1874<>\"\",D1874,\"\")","v":""},{"$f":"IF(E1874<>\"\",E1874,\"\")","v":""},{"$f":"IF(F1874<>\"\",F1874,\"\")","v":""},{"$f":"IF(N1874<>\"\",IF(D1875<>\"\",D1875,D1874),\"\")","v":""},{"$f":"IF(N1874<>\"\",IF(E1875<>\"\",E1875,E1874),\"\")","v":""},{"$f":"IF(N1874<>\"\",IF(F1875<>\"\",F1875,F1874),\"\")","v":""}]
[null,null,null,null,null,null,null,null,null,null,null,null,null,null,null,""]
[null,null,null,null,null,null,null,null,null,null,null,null,null,{"$f":"IF(A1876<>\"\",TEXT(A1876,\"\"),\"\")","v":""},{"$f":"IF(N1876=\"\",\"\",CONCATENATE(IF(C1876<>\"\",TEXT(C1876,\"\"),\"\"),\" - \",IF(K1876<>\"\",TEXT(K1876,\"\"),\"\")))","v":""},"",{"$f":"IF(D1876<>\"\",D1876,\"\")","v":""},{"$f":"IF(E1876<>\"\",E1876,\"\")","v":""},{"$f":"IF(F1876<>\"\",F1876,\"\")","v":""},{"$f":"IF(N1876<>\"\",IF(D1877<>\"\",D1877,D1876),\"\")","v":""},{"$f":"IF(N1876<>\"\",IF(E1877<>\"\",E1877,E1876),\"\")","v":""},{"$f":"IF(N1876<>\"\",IF(F1877<>\"\",F1877,F1876),\"\")","v":""}]
[null,null,null,null,null,null,null,null,null,null,null,null,null,null,null,""]
[null,null,null,null,null,null,null,null,null,null,null,null,null,{"$f":"IF(A1878<>\"\",TEXT(A1878,\"\"),\"\")","v":""},{"$f":"IF(N1878=\"\",\"\",CONCATENATE(IF(C1878<>\"\",TEXT(C1878,\"\"),\"\"),\" - \",IF(K1878<>\"\",TEXT(K1878,\"\"),\"\")))","v":""},"",{"$f":"IF(D1878<>\"\",D1878,\"\")","v":""},{"$f":"IF(E1878<>\"\",E1878,\"\")","v":""},{"$f":"IF(F1878<>\"\",F1878,\"\")","v":""},{"$f":"IF(N1878<>\"\",IF(D1879<>\"\",D1879,D1878),\"\")","v":""},{"$f":"IF(N1878<>\"\",IF(E1879<>\"\",E1879,E1878),\"\")","v":""},{"$f":"IF(N1878<>\"\",IF(F1879<>\"\",F1879,F1878),\"\")","v":""}]
[null,null,null,null,null,null,null,null,null,null,null,null,null,null,null,""]
[null,null,null,null,null,null,null,null,null,null,null,null,null,{"$f":"IF(A1880<>\"\",TEXT(A1880,\"\"),\"\")","v":""},{"$f":"IF(N1880=\"\",\"\",CONCATENATE(IF(C1880<>\"\",TEXT(C1880,\"\"),\"\"),\" - \",IF(K1880<>\"\",TEXT(K1880,\"\"),\"\")))","v":""},"",{"$f":"IF(D1880<>\"\",D1880,\"\")","v":""},{"$f":"IF(E1880<>\"\",E1880,\"\")","v":""},{"$f":"IF(F1880<>\"\",F1880,\"\")","v":""},{"$f":"IF(N1880<>\"\",IF(D1881<>\"\",D1881,D1880),\"\")","v":""},{"$f":"IF(N1880<>\"\",IF(E1881<>\"\",E1881,E1880),\"\")","v":""},{"$f":"IF(N1880<>\"\",IF(F1881<>\"\",F1881,F1880),\"\")","v":""}]
[null,null,null,null,null,null,null,null,null,null,null,null,null,null,null,""]
[null,null,null,null,null,null,null,null,null,null,null,null,null,{"$f":"IF(A1882<>\"\",TEXT(A1882,\"\"),\"\")","v":""},{"$f":"IF(N1882=\"\",\"\",CONCATENATE(IF(C1882<>\"\",TEXT(C1882,\"\"),\"\"),\" - \",IF(K1882<>\"\",TEXT(K1882,\"\"),\"\")))","v":""},"",{"$f":"IF(D1882<>\"\",D1882,\"\")","v":""},{"$f":"IF(E1882<>\"\",E1882,\"\")","v":""},{"$f":"IF(F1882<>\"\",F1882,\"\")","v":""},{"$f":"IF(N1882<>\"\",IF(D1883<>\"\",D1883,D1882),\"\")","v":""},{"$f":"IF(N1882<>\"\",IF(E1883<>\"\",E1883,E1882),\"\")","v":""},{"$f":"IF(N1882<>\"\",IF(F1883<>\"\",F1883,F1882),\"\")","v":""}]
[null,null,null,null,null,null,null,null,null,null,null,null,null,null,null,""]
[null,null,null,null,null,null,null,null,null,null,null,null,null,{"$f":"IF(A1884<>\"\",TEXT(A1884,\"\"),\"\")","v":""},{"$f":"IF(N1884=\"\",\"\",CONCATENATE(IF(C1884<>\"\",TEXT(C1884,\"\"),\"\"),\" - \",IF(K1884<>\"\",TEXT(K1884,\"\"),\"\")))","v":""},"",{"$f":"IF(D1884<>\"\",D1884,\"\")","v":""},{"$f":"IF(E1884<>\"\",E1884,\"\")","v":""},{"$f":"IF(F1884<>\"\",F1884,\"\")","v":""},{"$f":"IF(N1884<>\"\",IF(D1885<>\"\",D1885,D1884),\"\")","v":""},{"$f":"IF(N1884<>\"\",IF(E1885<>\"\",E1885,E1884),\"\")","v":""},{"$f":"IF(N1884<>\"\",IF(F1885<>\"\",F1885,F1884),\"\")","v":""}]
[null,null,null,null,null,null,null,null,null,null,null,null,null,null,null,""]
[null,null,null,null,null,null,null,null,null,null,null,null,null,{"$f":"IF(A1886<>\"\",TEXT(A1886,\"\"),\"\")","v":""},{"$f":"IF(N1886=\"\",\"\",CONCATENATE(IF(C1886<>\"\",TEXT(C1886,\"\"),\"\"),\" - \",IF(K1886<>\"\",TEXT(K1886,\"\"),\"\")))","v":""},"",{"$f":"IF(D1886<>\"\",D1886,\"\")","v":""},{"$f":"IF(E1886<>\"\",E1886,\"\")","v":""},{"$f":"IF(F1886<>\"\",F1886,\"\")","v":""},{"$f":"IF(N1886<>\"\",IF(D1887<>\"\",D1887,D1886),\"\")","v":""},{"$f":"IF(N1886<>\"\",IF(E1887<>\"\",E1887,E1886),\"\")","v":""},{"$f":"IF(N1886<>\"\",IF(F1887<>\"\",F1887,F1886),\"\")","v":""}]
[null,null,null,null,null,null,null,null,null,null,null,null,null,null,null,""]
[null,null,null,null,null,null,null,null,null,null,null,null,null,{"$f":"IF(A1888<>\"\",TEXT(A1888,\"\"),\"\")","v":""},{"$f":"IF(N1888=\"\",\"\",CONCATENATE(IF(C1888<>\"\",TEXT(C1888,\"\"),\"\"),\" - \",IF(K1888<>\"\",TEXT(K1888,\"\"),\"\")))","v":""},"",{"$f":"IF(D1888<>\"\",D1888,\"\")","v":""},{"$f":"IF(E1888<>\"\",E1888,\"\")","v":""},{"$f":"IF(F1888<>\"\",F1888,\"\")","v":""},{"$f":"IF(N1888<>\"\",IF(D1889<>\"\",D1889,D1888),\"\")","v":""},{"$f":"IF(N1888<>\"\",IF(E1889<>\"\",E1889,E1888),\"\")","v":""},{"$f":"IF(N1888<>\"\",IF(F1889<>\"\",F1889,F1888),\"\")","v":""}]
[null,null,null,null,null,null,null,null,null,null,null,null,null,null,null,""]
[null,null,null,null,null,null,null,null,null,null,null,null,null,{"$f":"IF(A1890<>\"\",TEXT(A1890,\"\"),\"\")","v":""},{"$f":"IF(N1890=\"\",\"\",CONCATENATE(IF(C1890<>\"\",TEXT(C1890,\"\"),\"\"),\" - \",IF(K1890<>\"\",TEXT(K1890,\"\"),\"\")))","v":""},"",{"$f":"IF(D1890<>\"\",D1890,\"\")","v":""},{"$f":"IF(E1890<>\"\",E1890,\"\")","v":""},{"$f":"IF(F1890<>\"\",F1890,\"\")","v":""},{"$f":"IF(N1890<>\"\",IF(D1891<>\"\",D1891,D1890),\"\")","v":""},{"$f":"IF(N1890<>\"\",IF(E1891<>\"\",E1891,E1890),\"\")","v":""},{"$f":"IF(N1890<>\"\",IF(F1891<>\"\",F1891,F1890),\"\")","v":""}]
[null,null,null,null,null,null,null,null,null,null,null,null,null,null,null,""]
[null,null,null,null,null,null,null,null,null,null,null,null,null,{"$f":"IF(A1892<>\"\",TEXT(A1892,\"\"),\"\")","v":""},{"$f":"IF(N1892=\"\",\"\",CONCATENATE(IF(C1892<>\"\",TEXT(C1892,\"\"),\"\"),\" - \",IF(K1892<>\"\",TEXT(K1892,\"\"),\"\")))","v":""},"",{"$f":"IF(D1892<>\"\",D1892,\"\")","v":""},{"$f":"IF(E1892<>\"\",E1892,\"\")","v":""},{"$f":"IF(F1892<>\"\",F1892,\"\")","v":""},{"$f":"IF(N1892<>\"\",IF(D1893<>\"\",D1893,D1892),\"\")","v":""},{"$f":"IF(N1892<>\"\",IF(E1893<>\"\",E1893,E1892),\"\")","v":""},{"$f":"IF(N1892<>\"\",IF(F1893<>\"\",F1893,F1892),\"\")","v":""}]
[null,null,null,null,null,null,null,null,null,null,null,null,null,null,null,""]
[null,null,null,null,null,null,null,null,null,null,null,null,null,{"$f":"IF(A1894<>\"\",TEXT(A1894,\"\"),\"\")","v":""},{"$f":"IF(N1894=\"\",\"\",CONCATENATE(IF(C1894<>\"\",TEXT(C1894,\"\"),\"\"),\" - \",IF(K1894<>\"\",TEXT(K1894,\"\"),\"\")))","v":""},"",{"$f":"IF(D1894<>\"\",D1894,\"\")","v":""},{"$f":"IF(E1894<>\"\",E1894,\"\")","v":""},{"$f":"IF(F1894<>\"\",F1894,\"\")","v":""},{"$f":"IF(N1894<>\"\",IF(D1895<>\"\",D1895,D1894),\"\")","v":""},{"$f":"IF(N1894<>\"\",IF(E1895<>\"\",E1895,E1894),\"\")","v":""},{"$f":"IF(N1894<>\"\",IF(F1895<>\"\",F1895,F1894),\"\")","v":""}]
[null,null,null,null,null,null,null,null,null,null,null,null,null,null,null,""]
[null,null,null,null,null,null,null,null,null,null,null,null,null,{"$f":"IF(A1896<>\"\",TEXT(A1896,\"\"),\"\")","v":""},{"$f":"IF(N1896=\"\",\"\",CONCATENATE(IF(C1896<>\"\",TEXT(C1896,\"\"),\"\"),\" - \",IF(K1896<>\"\",TEXT(K1896,\"\"),\"\")))","v":""},"",{"$f":"IF(D1896<>\"\",D1896,\"\")","v":""},{"$f":"IF(E1896<>\"\",E1896,\"\")","v":""},{"$f":"IF(F1896<>\"\",F1896,\"\")","v":""},{"$f":"IF(N1896<>\"\",IF(D1897<>\"\",D1897,D1896),\"\")","v":""},{"$f":"IF(N1896<>\"\",IF(E1897<>\"\",E1897,E1896),\"\")","v":""},{"$f":"IF(N1896<>\"\",IF(F1897<>\"\",F1897,F1896),\"\")","v":""}]
[null,null,null,null,null,null,null,null,null,null,null,null,null,null,null,""]
[null,null,null,null,null,null,null,null,null,null,null,null,null,{"$f":"IF(A1898<>\"\",TEXT(A1898,\"\"),\"\")","v":""},{"$f":"IF(N1898=\"\",\"\",CONCATENATE(IF(C1898<>\"\",TEXT(C1898,\"\"),\"\"),\" - \",IF(K1898<>\"\",TEXT(K1898,\"\"),\"\")))","v":""},"",{"$f":"IF(D1898<>\"\",D1898,\"\")","v":""},{"$f":"IF(E1898<>\"\",E1898,\"\")","v":""},{"$f":"IF(F1898<>\"\",F1898,\"\")","v":""},{"$f":"IF(N1898<>\"\",IF(D1899<>\"\",D1899,D1898),\"\")","v":""},{"$f":"IF(N1898<>\"\",IF(E1899<>\"\",E1899,E1898),\"\")","v":""},{"$f":"IF(N1898<>\"\",IF(F1899<>\"\",F1899,F1898),\"\")","v":""}]
[null,null,null,null,null,null,null,null,null,null,null,null,null,null,null,""]
[null,null,null,null,null,null,null,null,null,null,null,null,null,{"$f":"IF(A1900<>\"\",TEXT(A1900,\"\"),\"\")","v":""},{"$f":"IF(N1900=\"\",\"\",CONCATENATE(IF(C1900<>\"\",TEXT(C1900,\"\"),\"\"),\" - \",IF(K1900<>\"\",TEXT(K1900,\"\"),\"\")))","v":""},"",{"$f":"IF(D1900<>\"\",D1900,\"\")","v":""},{"$f":"IF(E1900<>\"\",E1900,\"\")","v":""},{"$f":"IF(F1900<>\"\",F1900,\"\")","v":""},{"$f":"IF(N1900<>\"\",IF(D1901<>\"\",D1901,D1900),\"\")","v":""},{"$f":"IF(N1900<>\"\",IF(E1901<>\"\",E1901,E1900),\"\")","v":""},{"$f":"IF(N1900<>\"\",IF(F1901<>\"\",F1901,F1900),\"\")","v":""}]
[null,null,null,null,null,null,null,null,null,null,null,null,null,null,null,""]
[null,null,null,null,null,null,null,null,null,null,null,null,null,{"$f":"IF(A1902<>\"\",TEXT(A1902,\"\"),\"\")","v":""},{"$f":"IF(N1902=\"\",\"\",CONCATENATE(IF(C1902<>\"\",TEXT(C1902,\"\"),\"\"),\" - \",IF(K1902<>\"\",TEXT(K1902,\"\"),\"\")))","v":""},"",{"$f":"IF(D1902<>\"\",D1902,\"\")","v":""},{"$f":"IF(E1902<>\"\",E1902,\"\")","v":""},{"$f":"IF(F1902<>\"\",F1902,\"\")","v":""},{"$f":"IF(N1902<>\"\",IF(D1903<>\"\",D1903,D1902),\"\")","v":""},{"$f":"IF(N1902<>\"\",IF(E1903<>\"\",E1903,E1902),\"\")","v":""},{"$f":"IF(N1902<>\"\",IF(F1903<>\"\",F1903,F1902),\"\")","v":""}]
[null,null,null,null,null,null,null,null,null,null,null,null,null,null,null,""]
[null,null,null,null,null,null,null,null,null,null,null,null,null,{"$f":"IF(A1904<>\"\",TEXT(A1904,\"\"),\"\")","v":""},{"$f":"IF(N1904=\"\",\"\",CONCATENATE(IF(C1904<>\"\",TEXT(C1904,\"\"),\"\"),\" - \",IF(K1904<>\"\",TEXT(K1904,\"\"),\"\")))","v":""},"",{"$f":"IF(D1904<>\"\",D1904,\"\")","v":""},{"$f":"IF(E1904<>\"\",E1904,\"\")","v":""},{"$f":"IF(F1904<>\"\",F1904,\"\")","v":""},{"$f":"IF(N1904<>\"\",IF(D1905<>\"\",D1905,D1904),\"\")","v":""},{"$f":"IF(N1904<>\"\",IF(E1905<>\"\",E1905,E1904),\"\")","v":""},{"$f":"IF(N1904<>\"\",IF(F1905<>\"\",F1905,F1904),\"\")","v":""}]
[null,null,null,null,null,null,null,null,null,null,null,null,null,null,null,""]
[null,null,null,null,null,null,null,null,null,null,null,null,null,{"$f":"IF(A1906<>\"\",TEXT(A1906,\"\"),\"\")","v":""},{"$f":"IF(N1906=\"\",\"\",CONCATENATE(IF(C1906<>\"\",TEXT(C1906,\"\"),\"\"),\" - \",IF(K1906<>\"\",TEXT(K1906,\"\"),\"\")))","v":""},"",{"$f":"IF(D1906<>\"\",D1906,\"\")","v":""},{"$f":"IF(E1906<>\"\",E1906,\"\")","v":""},{"$f":"IF(F1906<>\"\",F1906,\"\")","v":""},{"$f":"IF(N1906<>\"\",IF(D1907<>\"\",D1907,D1906),\"\")","v":""},{"$f":"IF(N1906<>\"\",IF(E1907<>\"\",E1907,E1906),\"\")","v":""},{"$f":"IF(N1906<>\"\",IF(F1907<>\"\",F1907,F1906),\"\")","v":""}]
[null,null,null,null,null,null,null,null,null,null,null,null,null,null,null,""]
[null,null,null,null,null,null,null,null,null,null,null,null,null,{"$f":"IF(A1908<>\"\",TEXT(A1908,\"\"),\"\")","v":""},{"$f":"IF(N1908=\"\",\"\",CONCATENATE(IF(C1908<>\"\",TEXT(C1908,\"\"),\"\"),\" - \",IF(K1908<>\"\",TEXT(K1908,\"\"),\"\")))","v":""},"",{"$f":"IF(D1908<>\"\",D1908,\"\")","v":""},{"$f":"IF(E1908<>\"\",E1908,\"\")","v":""},{"$f":"IF(F1908<>\"\",F1908,\"\")","v":""},{"$f":"IF(N1908<>\"\",IF(D1909<>\"\",D1909,D1908),\"\")","v":""},{"$f":"IF(N1908<>\"\",IF(E1909<>\"\",E1909,E1908),\"\")","v":""},{"$f":"IF(N1908<>\"\",IF(F1909<>\"\",F1909,F1908),\"\")","v":""}]
[null,null,null,null,null,null,null,null,null,null,null,null,null,null,null,""]
[null,null,null,null,null,null,null,null,null,null,null,null,null,{"$f":"IF(A1910<>\"\",TEXT(A1910,\"\"),\"\")","v":""},{"$f":"IF(N1910=\"\",\"\",CONCATENATE(IF(C1910<>\"\",TEXT(C1910,\"\"),\"\"),\" - \",IF(K1910<>\"\",TEXT(K1910,\"\"),\"\")))","v":""},"",{"$f":"IF(D1910<>\"\",D1910,\"\")","v":""},{"$f":"IF(E1910<>\"\",E1910,\"\")","v":""},{"$f":"IF(F1910<>\"\",F1910,\"\")","v":""},{"$f":"IF(N1910<>\"\",IF(D1911<>\"\",D1911,D1910),\"\")","v":""},{"$f":"IF(N1910<>\"\",IF(E1911<>\"\",E1911,E1910),\"\")","v":""},{"$f":"IF(N1910<>\"\",IF(F1911<>\"\",F1911,F1910),\"\")","v":""}]
[null,null,null,null,null,null,null,null,null,null,null,null,null,null,null,""]
[null,null,null,null,null,null,null,null,null,null,null,null,null,{"$f":"IF(A1912<>\"\",TEXT(A1912,\"\"),\"\")","v":""},{"$f":"IF(N1912=\"\",\"\",CONCATENATE(IF(C1912<>\"\",TEXT(C1912,\"\"),\"\"),\" - \",IF(K1912<>\"\",TEXT(K1912,\"\"),\"\")))","v":""},"",{"$f":"IF(D1912<>\"\",D1912,\"\")","v":""},{"$f":"IF(E1912<>\"\",E1912,\"\")","v":""},{"$f":"IF(F1912<>\"\",F1912,\"\")","v":""},{"$f":"IF(N1912<>\"\",IF(D1913<>\"\",D1913,D1912),\"\")","v":""},{"$f":"IF(N1912<>\"\",IF(E1913<>\"\",E1913,E1912),\"\")","v":""},{"$f":"IF(N1912<>\"\",IF(F1913<>\"\",F1913,F1912),\"\")","v":""}]
[null,null,null,null,null,null,null,null,null,null,null,null,null,null,null,""]
[null,null,null,null,null,null,null,null,null,null,null,null,null,{"$f":"IF(A1914<>\"\",TEXT(A1914,\"\"),\"\")","v":""},{"$f":"IF(N1914=\"\",\"\",CONCATENATE(IF(C1914<>\"\",TEXT(C1914,\"\"),\"\"),\" - \",IF(K1914<>\"\",TEXT(K1914,\"\"),\"\")))","v":""},"",{"$f":"IF(D1914<>\"\",D1914,\"\")","v":""},{"$f":"IF(E1914<>\"\",E1914,\"\")","v":""},{"$f":"IF(F1914<>\"\",F1914,\"\")","v":""},{"$f":"IF(N1914<>\"\",IF(D1915<>\"\",D1915,D1914),\"\")","v":""},{"$f":"IF(N1914<>\"\",IF(E1915<>\"\",E1915,E1914),\"\")","v":""},{"$f":"IF(N1914<>\"\",IF(F1915<>\"\",F1915,F1914),\"\")","v":""}]
[null,null,null,null,null,null,null,null,null,null,null,null,null,null,null,""]
[null,null,null,null,null,null,null,null,null,null,null,null,null,{"$f":"IF(A1916<>\"\",TEXT(A1916,\"\"),\"\")","v":""},{"$f":"IF(N1916=\"\",\"\",CONCATENATE(IF(C1916<>\"\",TEXT(C1916,\"\"),\"\"),\" - \",IF(K1916<>\"\",TEXT(K1916,\"\"),\"\")))","v":""},"",{"$f":"IF(D1916<>\"\",D1916,\"\")","v":""},{"$f":"IF(E1916<>\"\",E1916,\"\")","v":""},{"$f":"IF(F1916<>\"\",F1916,\"\")","v":""},{"$f":"IF(N1916<>\"\",IF(D1917<>\"\",D1917,D1916),\"\")","v":""},{"$f":"IF(N1916<>\"\",IF(E1917<>\"\",E1917,E1916),\"\")","v":""},{"$f":"IF(N1916<>\"\",IF(F1917<>\"\",F1917,F1916),\"\")","v":""}]
[null,null,null,null,null,null,null,null,null,null,null,null,null,null,null,""]
[null,null,null,null,null,null,null,null,null,null,null,null,null,{"$f":"IF(A1918<>\"\",TEXT(A1918,\"\"),\"\")","v":""},{"$f":"IF(N1918=\"\",\"\",CONCATENATE(IF(C1918<>\"\",TEXT(C1918,\"\"),\"\"),\" - \",IF(K1918<>\"\",TEXT(K1918,\"\"),\"\")))","v":""},"",{"$f":"IF(D1918<>\"\",D1918,\"\")","v":""},{"$f":"IF(E1918<>\"\",E1918,\"\")","v":""},{"$f":"IF(F1918<>\"\",F1918,\"\")","v":""},{"$f":"IF(N1918<>\"\",IF(D1919<>\"\",D1919,D1918),\"\")","v":""},{"$f":"IF(N1918<>\"\",IF(E1919<>\"\",E1919,E1918),\"\")","v":""},{"$f":"IF(N1918<>\"\",IF(F1919<>\"\",F1919,F1918),\"\")","v":""}]
[null,null,null,null,null,null,null,null,null,null,null,null,null,null,null,""]
[null,null,null,null,null,null,null,null,null,null,null,null,null,{"$f":"IF(A1920<>\"\",TEXT(A1920,\"\"),\"\")","v":""},{"$f":"IF(N1920=\"\",\"\",CONCATENATE(IF(C1920<>\"\",TEXT(C1920,\"\"),\"\"),\" - \",IF(K1920<>\"\",TEXT(K1920,\"\"),\"\")))","v":""},"",{"$f":"IF(D1920<>\"\",D1920,\"\")","v":""},{"$f":"IF(E1920<>\"\",E1920,\"\")","v":""},{"$f":"IF(F1920<>\"\",F1920,\"\")","v":""},{"$f":"IF(N1920<>\"\",IF(D1921<>\"\",D1921,D1920),\"\")","v":""},{"$f":"IF(N1920<>\"\",IF(E1921<>\"\",E1921,E1920),\"\")","v":""},{"$f":"IF(N1920<>\"\",IF(F1921<>\"\",F1921,F1920),\"\")","v":""}]
[null,null,null,null,null,null,null,null,null,null,null,null,null,null,null,""]
[null,null,null,null,null,null,null,null,null,null,null,null,null,{"$f":"IF(A1922<>\"\",TEXT(A1922,\"\"),\"\")","v":""},{"$f":"IF(N1922=\"\",\"\",CONCATENATE(IF(C1922<>\"\",TEXT(C1922,\"\"),\"\"),\" - \",IF(K1922<>\"\",TEXT(K1922,\"\"),\"\")))","v":""},"",{"$f":"IF(D1922<>\"\",D1922,\"\")","v":""},{"$f":"IF(E1922<>\"\",E1922,\"\")","v":""},{"$f":"IF(F1922<>\"\",F1922,\"\")","v":""},{"$f":"IF(N1922<>\"\",IF(D1923<>\"\",D1923,D1922),\"\")","v":""},{"$f":"IF(N1922<>\"\",IF(E1923<>\"\",E1923,E1922),\"\")","v":""},{"$f":"IF(N1922<>\"\",IF(F1923<>\"\",F1923,F1922),\"\")","v":""}]
[null,null,null,null,null,null,null,null,null,null,null,null,null,null,null,{"$f":"SUBSTITUTE(SUBSTITUTE(SUBSTITUTE(SUBSTITUTE(IF(L1923<>\"\",HLink(L1923),\"\"),\"htm\",\"html\"),\"1x2\",\"analysis\"),\"www\",\"www\"),\"com\",\"vip\")","v":""}]
[null,null,null,null,null,null,null,null,null,null,null,null,null,{"$f":"IF(A1924<>\"\",TEXT(A1924,\"\"),\"\")","v":""},{"$f":"IF(N1924=\"\",\"\",CONCATENATE(IF(C1924<>\"\",TEXT(C1924,\"\"),\"\"),\" - \",IF(K1924<>\"\",TEXT(K1924,\"\"),\"\")))","v":""},"",{"$f":"IF(D1924<>\"\",D1924,\"\")","v":""},{"$f":"IF(E1924<>\"\",E1924,\"\")","v":""},{"$f":"IF(F1924<>\"\",F1924,\"\")","v":""},{"$f":"IF(N1924<>\"\",IF(D1925<>\"\",D1925,D1924),\"\")","v":""},{"$f":"IF(N1924<>\"\",IF(E1925<>\"\",E1925,E1924),\"\")","v":""},{"$f":"IF(N1924<>\"\",IF(F1925<>\"\",F1925,F1924),\"\")","v":""}]
[null,null,null,null,null,null,null,null,null,null,null,null,null,null,null,""]
[null,null,null,null,null,null,null,null,null,null,null,null,null,{"$f":"IF(A1926<>\"\",TEXT(A1926,\"\"),\"\")","v":""},{"$f":"IF(N1926=\"\",\"\",CONCATENATE(IF(C1926<>\"\",TEXT(C1926,\"\"),\"\"),\" - \",IF(K1926<>\"\",TEXT(K1926,\"\"),\"\")))","v":""},"",{"$f":"IF(D1926<>\"\",D1926,\"\")","v":""},{"$f":"IF(E1926<>\"\",E1926,\"\")","v":""},{"$f":"IF(F1926<>\"\",F1926,\"\")","v":""},{"$f":"IF(N1926<>\"\",IF(D1927<>\"\",D1927,D1926),\"\")","v":""},{"$f":"IF(N1926<>\"\",IF(E1927<>\"\",E1927,E1926),\"\")","v":""},{"$f":"IF(N1926<>\"\",IF(F1927<>\"\",F1927,F1926),\"\")","v":""}]
[null,null,null,null,null,null,null,null,null,null,null,null,null,null,null,""]
[null,null,null,null,null,null,null,null,null,null,null,null,null,{"$f":"IF(A1928<>\"\",TEXT(A1928,\"\"),\"\")","v":""},{"$f":"IF(N1928=\"\",\"\",CONCATENATE(IF(C1928<>\"\",TEXT(C1928,\"\"),\"\"),\" - \",IF(K1928<>\"\",TEXT(K1928,\"\"),\"\")))","v":""},"",{"$f":"IF(D1928<>\"\",D1928,\"\")","v":""},{"$f":"IF(E1928<>\"\",E1928,\"\")","v":""},{"$f":"IF(F1928<>\"\",F1928,\"\")","v":""},{"$f":"IF(N1928<>\"\",IF(D1929<>\"\",D1929,D1928),\"\")","v":""},{"$f":"IF(N1928<>\"\",IF(E1929<>\"\",E1929,E1928),\"\")","v":""},{"$f":"IF(N1928<>\"\",IF(F1929<>\"\",F1929,F1928),\"\")","v":""}]
[null,null,null,null,null,null,null,null,null,null,null,null,null,null,null,""]
[null,null,null,null,null,null,null,null,null,null,null,null,null,{"$f":"IF(A1930<>\"\",TEXT(A1930,\"\"),\"\")","v":""},{"$f":"IF(N1930=\"\",\"\",CONCATENATE(IF(C1930<>\"\",TEXT(C1930,\"\"),\"\"),\" - \",IF(K1930<>\"\",TEXT(K1930,\"\"),\"\")))","v":""},"",{"$f":"IF(D1930<>\"\",D1930,\"\")","v":""},{"$f":"IF(E1930<>\"\",E1930,\"\")","v":""},{"$f":"IF(F1930<>\"\",F1930,\"\")","v":""},{"$f":"IF(N1930<>\"\",IF(D1931<>\"\",D1931,D1930),\"\")","v":""},{"$f":"IF(N1930<>\"\",IF(E1931<>\"\",E1931,E1930),\"\")","v":""},{"$f":"IF(N1930<>\"\",IF(F1931<>\"\",F1931,F1930),\"\")","v":""}]
[null,null,null,null,null,null,null,null,null,null,null,null,null,null,null,""]
[null,null,null,null,null,null,null,null,null,null,null,null,null,{"$f":"IF(A1932<>\"\",TEXT(A1932,\"\"),\"\")","v":""},{"$f":"IF(N1932=\"\",\"\",CONCATENATE(IF(C1932<>\"\",TEXT(C1932,\"\"),\"\"),\" - \",IF(K1932<>\"\",TEXT(K1932,\"\"),\"\")))","v":""},"",{"$f":"IF(D1932<>\"\",D1932,\"\")","v":""},{"$f":"IF(E1932<>\"\",E1932,\"\")","v":""},{"$f":"IF(F1932<>\"\",F1932,\"\")","v":""},{"$f":"IF(N1932<>\"\",IF(D1933<>\"\",D1933,D1932),\"\")","v":""},{"$f":"IF(N1932<>\"\",IF(E1933<>\"\",E1933,E1932),\"\")","v":""},{"$f":"IF(N1932<>\"\",IF(F1933<>\"\",F1933,F1932),\"\")","v":""}]
[null,null,null,null,null,null,null,null,null,null,null,null,null,null,null,""]
[null,null,null,null,null,null,null,null,null,null,null,null,null,{"$f":"IF(A1934<>\"\",TEXT(A1934,\"\"),\"\")","v":""},{"$f":"IF(N1934=\"\",\"\",CONCATENATE(IF(C1934<>\"\",TEXT(C1934,\"\"),\"\"),\" - \",IF(K1934<>\"\",TEXT(K1934,\"\"),\"\")))","v":""},"",{"$f":"IF(D1934<>\"\",D1934,\"\")","v":""},{"$f":"IF(E1934<>\"\",E1934,\"\")","v":""},{"$f":"IF(F1934<>\"\",F1934,\"\")","v":""},{"$f":"IF(N1934<>\"\",IF(D1935<>\"\",D1935,D1934),\"\")","v":""},{"$f":"IF(N1934<>\"\",IF(E1935<>\"\",E1935,E1934),\"\")","v":""},{"$f":"IF(N1934<>\"\",IF(F1935<>\"\",F1935,F1934),\"\")","v":""}]
[null,null,null,null,null,null,null,null,null,null,null,null,null,null,null,""]
[null,null,null,null,null,null,null,null,null,null,null,null,null,{"$f":"IF(A1936<>\"\",TEXT(A1936,\"\"),\"\")","v":""},{"$f":"IF(N1936=\"\",\"\",CONCATENATE(IF(C1936<>\"\",TEXT(C1936,\"\"),\"\"),\" - \",IF(K1936<>\"\",TEXT(K1936,\"\"),\"\")))","v":""},"",{"$f":"IF(D1936<>\"\",D1936,\"\")","v":""},{"$f":"IF(E1936<>\"\",E1936,\"\")","v":""},{"$f":"IF(F1936<>\"\",F1936,\"\")","v":""},{"$f":"IF(N1936<>\"\",IF(D1937<>\"\",D1937,D1936),\"\")","v":""},{"$f":"IF(N1936<>\"\",IF(E1937<>\"\",E1937,E1936),\"\")","v":""},{"$f":"IF(N1936<>\"\",IF(F1937<>\"\",F1937,F1936),\"\")","v":""}]
[null,null,null,null,null,null,null,null,null,null,null,null,null,null,null,""]
[null,null,null,null,null,null,null,null,null,null,null,null,null,{"$f":"IF(A1938<>\"\",TEXT(A1938,\"\"),\"\")","v":""},{"$f":"IF(N1938=\"\",\"\",CONCATENATE(IF(C1938<>\"\",TEXT(C1938,\"\"),\"\"),\" - \",IF(K1938<>\"\",TEXT(K1938,\"\"),\"\")))","v":""},"",{"$f":"IF(D1938<>\"\",D1938,\"\")","v":""},{"$f":"IF(E1938<>\"\",E1938,\"\")","v":""},{"$f":"IF(F1938<>\"\",F1938,\"\")","v":""},{"$f":"IF(N1938<>\"\",IF(D1939<>\"\",D1939,D1938),\"\")","v":""},{"$f":"IF(N1938<>\"\",IF(E1939<>\"\",E1939,E1938),\"\")","v":""},{"$f":"IF(N1938<>\"\",IF(F1939<>\"\",F1939,F1938),\"\")","v":""}]
[null,null,null,null,null,null,null,null,null,null,null,null,null,null,null,""]
[null,null,null,null,null,null,null,null,null,null,null,null,null,{"$f":"IF(A1940<>\"\",TEXT(A1940,\"\"),\"\")","v":""},{"$f":"IF(N1940=\"\",\"\",CONCATENATE(IF(C1940<>\"\",TEXT(C1940,\"\"),\"\"),\" - \",IF(K1940<>\"\",TEXT(K1940,\"\"),\"\")))","v":""},"",{"$f":"IF(D1940<>\"\",D1940,\"\")","v":""},{"$f":"IF(E1940<>\"\",E1940,\"\")","v":""},{"$f":"IF(F1940<>\"\",F1940,\"\")","v":""},{"$f":"IF(N1940<>\"\",IF(D1941<>\"\",D1941,D1940),\"\")","v":""},{"$f":"IF(N1940<>\"\",IF(E1941<>\"\",E1941,E1940),\"\")","v":""},{"$f":"IF(N1940<>\"\",IF(F1941<>\"\",F1941,F1940),\"\")","v":""}]
[null,null,null,null,null,null,null,null,null,null,null,null,null,null,null,""]
[null,null,null,null,null,null,null,null,null,null,null,null,null,{"$f":"IF(A1942<>\"\",TEXT(A1942,\"\"),\"\")","v":""},{"$f":"IF(N1942=\"\",\"\",CONCATENATE(IF(C1942<>\"\",TEXT(C1942,\"\"),\"\"),\" - \",IF(K1942<>\"\",TEXT(K1942,\"\"),\"\")))","v":""},"",{"$f":"IF(D1942<>\"\",D1942,\"\")","v":""},{"$f":"IF(E1942<>\"\",E1942,\"\")","v":""},{"$f":"IF(F1942<>\"\",F1942,\"\")","v":""},{"$f":"IF(N1942<>\"\",IF(D1943<>\"\",D1943,D1942),\"\")","v":""},{"$f":"IF(N1942<>\"\",IF(E1943<>\"\",E1943,E1942),\"\")","v":""},{"$f":"IF(N1942<>\"\",IF(F1943<>\"\",F1943,F1942),\"\")","v":""}]
[null,null,null,null,null,null,null,null,null,null,null,null,null,null,null,""]
[null,null,null,null,null,null,null,null,null,null,null,null,null,{"$f":"IF(A1944<>\"\",TEXT(A1944,\"\"),\"\")","v":""},{"$f":"IF(N1944=\"\",\"\",CONCATENATE(IF(C1944<>\"\",TEXT(C1944,\"\"),\"\"),\" - \",IF(K1944<>\"\",TEXT(K1944,\"\"),\"\")))","v":""},"",{"$f":"IF(D1944<>\"\",D1944,\"\")","v":""},{"$f":"IF(E1944<>\"\",E1944,\"\")","v":""},{"$f":"IF(F1944<>\"\",F1944,\"\")","v":""},{"$f":"IF(N1944<>\"\",IF(D1945<>\"\",D1945,D1944),\"\")","v":""},{"$f":"IF(N1944<>\"\",IF(E1945<>\"\",E1945,E1944),\"\")","v":""},{"$f":"IF(N1944<>\"\",IF(F1945<>\"\",F1945,F1944),\"\")","v":""}]
[null,null,null,null,null,null,null,null,null,null,null,null,null,null,null,""]
[null,null,null,null,null,null,null,null,null,null,null,null,null,{"$f":"IF(A1946<>\"\",TEXT(A1946,\"\"),\"\")","v":""},{"$f":"IF(N1946=\"\",\"\",CONCATENATE(IF(C1946<>\"\",TEXT(C1946,\"\"),\"\"),\" - \",IF(K1946<>\"\",TEXT(K1946,\"\"),\"\")))","v":""},"",{"$f":"IF(D1946<>\"\",D1946,\"\")","v":""},{"$f":"IF(E1946<>\"\",E1946,\"\")","v":""},{"$f":"IF(F1946<>\"\",F1946,\"\")","v":""},{"$f":"IF(N1946<>\"\",IF(D1947<>\"\",D1947,D1946),\"\")","v":""},{"$f":"IF(N1946<>\"\",IF(E1947<>\"\",E1947,E1946),\"\")","v":""},{"$f":"IF(N1946<>\"\",IF(F1947<>\"\",F1947,F1946),\"\")","v":""}]
[null,null,null,null,null,null,null,null,null,null,null,null,null,null,null,""]
[null,null,null,null,null,null,null,null,null,null,null,null,null,{"$f":"IF(A1948<>\"\",TEXT(A1948,\"\"),\"\")","v":""},{"$f":"IF(N1948=\"\",\"\",CONCATENATE(IF(C1948<>\"\",TEXT(C1948,\"\"),\"\"),\" - \",IF(K1948<>\"\",TEXT(K1948,\"\"),\"\")))","v":""},"",{"$f":"IF(D1948<>\"\",D1948,\"\")","v":""},{"$f":"IF(E1948<>\"\",E1948,\"\")","v":""},{"$f":"IF(F1948<>\"\",F1948,\"\")","v":""},{"$f":"IF(N1948<>\"\",IF(D1949<>\"\",D1949,D1948),\"\")","v":""},{"$f":"IF(N1948<>\"\",IF(E1949<>\"\",E1949,E1948),\"\")","v":""},{"$f":"IF(N1948<>\"\",IF(F1949<>\"\",F1949,F1948),\"\")","v":""}]
[null,null,null,null,null,null,null,null,null,null,null,null,null,null,null,""]
[null,null,null,null,null,null,null,null,null,null,null,null,null,{"$f":"IF(A1950<>\"\",TEXT(A1950,\"\"),\"\")","v":""},{"$f":"IF(N1950=\"\",\"\",CONCATENATE(IF(C1950<>\"\",TEXT(C1950,\"\"),\"\"),\" - \",IF(K1950<>\"\",TEXT(K1950,\"\"),\"\")))","v":""},"",{"$f":"IF(D1950<>\"\",D1950,\"\")","v":""},{"$f":"IF(E1950<>\"\",E1950,\"\")","v":""},{"$f":"IF(F1950<>\"\",F1950,\"\")","v":""},{"$f":"IF(N1950<>\"\",IF(D1951<>\"\",D1951,D1950),\"\")","v":""},{"$f":"IF(N1950<>\"\",IF(E1951<>\"\",E1951,E1950),\"\")","v":""},{"$f":"IF(N1950<>\"\",IF(F1951<>\"\",F1951,F1950),\"\")","v":""}]
[null,null,null,null,null,null,null,null,null,null,null,null,null,null,null,""]
[null,null,null,null,null,null,null,null,null,null,null,null,null,{"$f":"IF(A1952<>\"\",TEXT(A1952,\"\"),\"\")","v":""},{"$f":"IF(N1952=\"\",\"\",CONCATENATE(IF(C1952<>\"\",TEXT(C1952,\"\"),\"\"),\" - \",IF(K1952<>\"\",TEXT(K1952,\"\"),\"\")))","v":""},"",{"$f":"IF(D1952<>\"\",D1952,\"\")","v":""},{"$f":"IF(E1952<>\"\",E1952,\"\")","v":""},{"$f":"IF(F1952<>\"\",F1952,\"\")","v":""},{"$f":"IF(N1952<>\"\",IF(D1953<>\"\",D1953,D1952),\"\")","v":""},{"$f":"IF(N1952<>\"\",IF(E1953<>\"\",E1953,E1952),\"\")","v":""},{"$f":"IF(N1952<>\"\",IF(F1953<>\"\",F1953,F1952),\"\")","v":""}]
[null,null,null,null,null,null,null,null,null,null,null,null,null,null,null,""]
[null,null,null,null,null,null,null,null,null,null,null,null,null,{"$f":"IF(A1954<>\"\",TEXT(A1954,\"\"),\"\")","v":""},{"$f":"IF(N1954=\"\",\"\",CONCATENATE(IF(C1954<>\"\",TEXT(C1954,\"\"),\"\"),\" - \",IF(K1954<>\"\",TEXT(K1954,\"\"),\"\")))","v":""},"",{"$f":"IF(D1954<>\"\",D1954,\"\")","v":""},{"$f":"IF(E1954<>\"\",E1954,\"\")","v":""},{"$f":"IF(F1954<>\"\",F1954,\"\")","v":""},{"$f":"IF(N1954<>\"\",IF(D1955<>\"\",D1955,D1954),\"\")","v":""},{"$f":"IF(N1954<>\"\",IF(E1955<>\"\",E1955,E1954),\"\")","v":""},{"$f":"IF(N1954<>\"\",IF(F1955<>\"\",F1955,F1954),\"\")","v":""}]
[null,null,null,null,null,null,null,null,null,null,null,null,null,null,null,""]
[null,null,null,null,null,null,null,null,null,null,null,null,null,{"$f":"IF(A1956<>\"\",TEXT(A1956,\"\"),\"\")","v":""},{"$f":"IF(N1956=\"\",\"\",CONCATENATE(IF(C1956<>\"\",TEXT(C1956,\"\"),\"\"),\" - \",IF(K1956<>\"\",TEXT(K1956,\"\"),\"\")))","v":""},"",{"$f":"IF(D1956<>\"\",D1956,\"\")","v":""},{"$f":"IF(E1956<>\"\",E1956,\"\")","v":""},{"$f":"IF(F1956<>\"\",F1956,\"\")","v":""},{"$f":"IF(N1956<>\"\",IF(D1957<>\"\",D1957,D1956),\"\")","v":""},{"$f":"IF(N1956<>\"\",IF(E1957<>\"\",E1957,E1956),\"\")","v":""},{"$f":"IF(N1956<>\"\",IF(F1957<>\"\",F1957,F1956),\"\")","v":""}]
[null,null,null,null,null,null,null,null,null,null,null,null,null,null,null,""]
[null,null,null,null,null,null,null,null,null,null,null,null,null,{"$f":"IF(A1958<>\"\",TEXT(A1958,\"\"),\"\")","v":""},{"$f":"IF(N1958=\"\",\"\",CONCATENATE(IF(C1958<>\"\",TEXT(C1958,\"\"),\"\"),\" - \",IF(K1958<>\"\",TEXT(K1958,\"\"),\"\")))","v":""},"",{"$f":"IF(D1958<>\"\",D1958,\"\")","v":""},{"$f":"IF(E1958<>\"\",E1958,\"\")","v":""},{"$f":"IF(F1958<>\"\",F1958,\"\")","v":""},{"$f":"IF(N1958<>\"\",IF(D1959<>\"\",D1959,D1958),\"\")","v":""},{"$f":"IF(N1958<>\"\",IF(E1959<>\"\",E1959,E1958),\"\")","v":""},{"$f":"IF(N1958<>\"\",IF(F1959<>\"\",F1959,F1958),\"\")","v":""}]
[null,null,null,null,null,null,null,null,null,null,null,null,null,null,null,""]
[null,null,null,null,null,null,null,null,null,null,null,null,null,{"$f":"IF(A1960<>\"\",TEXT(A1960,\"\"),\"\")","v":""},{"$f":"IF(N1960=\"\",\"\",CONCATENATE(IF(C1960<>\"\",TEXT(C1960,\"\"),\"\"),\" - \",IF(K1960<>\"\",TEXT(K1960,\"\"),\"\")))","v":""},"",{"$f":"IF(D1960<>\"\",D1960,\"\")","v":""},{"$f":"IF(E1960<>\"\",E1960,\"\")","v":""},{"$f":"IF(F1960<>\"\",F1960,\"\")","v":""},{"$f":"IF(N1960<>\"\",IF(D1961<>\"\",D1961,D1960),\"\")","v":""},{"$f":"IF(N1960<>\"\",IF(E1961<>\"\",E1961,E1960),\"\")","v":""},{"$f":"IF(N1960<>\"\",IF(F1961<>\"\",F1961,F1960),\"\")","v":""}]
[null,null,null,null,null,null,null,null,null,null,null,null,null,null,null,""]
[null,null,null,null,null,null,null,null,null,null,null,null,null,{"$f":"IF(A1962<>\"\",TEXT(A1962,\"\"),\"\")","v":""},{"$f":"IF(N1962=\"\",\"\",CONCATENATE(IF(C1962<>\"\",TEXT(C1962,\"\"),\"\"),\" - \",IF(K1962<>\"\",TEXT(K1962,\"\"),\"\")))","v":""},"",{"$f":"IF(D1962<>\"\",D1962,\"\")","v":""},{"$f":"IF(E1962<>\"\",E1962,\"\")","v":""},{"$f":"IF(F1962<>\"\",F1962,\"\")","v":""},{"$f":"IF(N1962<>\"\",IF(D1963<>\"\",D1963,D1962),\"\")","v":""},{"$f":"IF(N1962<>\"\",IF(E1963<>\"\",E1963,E1962),\"\")","v":""},{"$f":"IF(N1962<>\"\",IF(F1963<>\"\",F1963,F1962),\"\")","v":""}]
[null,null,null,null,null,null,null,null,null,null,null,null,null,null,null,""]
[null,null,null,null,null,null,null,null,null,null,null,null,null,{"$f":"IF(A1964<>\"\",TEXT(A1964,\"\"),\"\")","v":""},{"$f":"IF(N1964=\"\",\"\",CONCATENATE(IF(C1964<>\"\",TEXT(C1964,\"\"),\"\"),\" - \",IF(K1964<>\"\",TEXT(K1964,\"\"),\"\")))","v":""},"",{"$f":"IF(D1964<>\"\",D1964,\"\")","v":""},{"$f":"IF(E1964<>\"\",E1964,\"\")","v":""},{"$f":"IF(F1964<>\"\",F1964,\"\")","v":""},{"$f":"IF(N1964<>\"\",IF(D1965<>\"\",D1965,D1964),\"\")","v":""},{"$f":"IF(N1964<>\"\",IF(E1965<>\"\",E1965,E1964),\"\")","v":""},{"$f":"IF(N1964<>\"\",IF(F1965<>\"\",F1965,F1964),\"\")","v":""}]
[null,null,null,null,null,null,null,null,null,null,null,null,null,null,null,""]
[null,null,null,null,null,null,null,null,null,null,null,null,null,{"$f":"IF(A1966<>\"\",TEXT(A1966,\"\"),\"\")","v":""},{"$f":"IF(N1966=\"\",\"\",CONCATENATE(IF(C1966<>\"\",TEXT(C1966,\"\"),\"\"),\" - \",IF(K1966<>\"\",TEXT(K1966,\"\"),\"\")))","v":""},"",{"$f":"IF(D1966<>\"\",D1966,\"\")","v":""},{"$f":"IF(E1966<>\"\",E1966,\"\")","v":""},{"$f":"IF(F1966<>\"\",F1966,\"\")","v":""},{"$f":"IF(N1966<>\"\",IF(D1967<>\"\",D1967,D1966),\"\")","v":""},{"$f":"IF(N1966<>\"\",IF(E1967<>\"\",E1967,E1966),\"\")","v":""},{"$f":"IF(N1966<>\"\",IF(F1967<>\"\",F1967,F1966),\"\")","v":""}]
[null,null,null,null,null,null,null,null,null,null,null,null,null,null,null,""]
[null,null,null,null,null,null,null,null,null,null,null,null,null,{"$f":"IF(A1968<>\"\",TEXT(A1968,\"\"),\"\")","v":""},{"$f":"IF(N1968=\"\",\"\",CONCATENATE(IF(C1968<>\"\",TEXT(C1968,\"\"),\"\"),\" - \",IF(K1968<>\"\",TEXT(K1968,\"\"),\"\")))","v":""},"",{"$f":"IF(D1968<>\"\",D1968,\"\")","v":""},{"$f":"IF(E1968<>\"\",E1968,\"\")","v":""},{"$f":"IF(F1968<>\"\",F1968,\"\")","v":""},{"$f":"IF(N1968<>\"\",IF(D1969<>\"\",D1969,D1968),\"\")","v":""},{"$f":"IF(N1968<>\"\",IF(E1969<>\"\",E1969,E1968),\"\")","v":""},{"$f":"IF(N1968<>\"\",IF(F1969<>\"\",F1969,F1968),\"\")","v":""}]
[null,null,null,null,null,null,null,null,null,null,null,null,null,null,null,""]
[null,null,null,null,null,null,null,null,null,null,null,null,null,{"$f":"IF(A1970<>\"\",TEXT(A1970,\"\"),\"\")","v":""},{"$f":"IF(N1970=\"\",\"\",CONCATENATE(IF(C1970<>\"\",TEXT(C1970,\"\"),\"\"),\" - \",IF(K1970<>\"\",TEXT(K1970,\"\"),\"\")))","v":""},"",{"$f":"IF(D1970<>\"\",D1970,\"\")","v":""},{"$f":"IF(E1970<>\"\",E1970,\"\")","v":""},{"$f":"IF(F1970<>\"\",F1970,\"\")","v":""},{"$f":"IF(N1970<>\"\",IF(D1971<>\"\",D1971,D1970),\"\")","v":""},{"$f":"IF(N1970<>\"\",IF(E1971<>\"\",E1971,E1970),\"\")","v":""},{"$f":"IF(N1970<>\"\",IF(F1971<>\"\",F1971,F1970),\"\")","v":""}]
[null,null,null,null,null,null,null,null,null,null,null,null,null,null,null,""]
[null,null,null,null,null,null,null,null,null,null,null,null,null,{"$f":"IF(A1972<>\"\",TEXT(A1972,\"\"),\"\")","v":""},{"$f":"IF(N1972=\"\",\"\",CONCATENATE(IF(C1972<>\"\",TEXT(C1972,\"\"),\"\"),\" - \",IF(K1972<>\"\",TEXT(K1972,\"\"),\"\")))","v":""},"",{"$f":"IF(D1972<>\"\",D1972,\"\")","v":""},{"$f":"IF(E1972<>\"\",E1972,\"\")","v":""},{"$f":"IF(F1972<>\"\",F1972,\"\")","v":""},{"$f":"IF(N1972<>\"\",IF(D1973<>\"\",D1973,D1972),\"\")","v":""},{"$f":"IF(N1972<>\"\",IF(E1973<>\"\",E1973,E1972),\"\")","v":""},{"$f":"IF(N1972<>\"\",IF(F1973<>\"\",F1973,F1972),\"\")","v":""}]
[null,null,null,null,null,null,null,null,null,null,null,null,null,null,null,""]
[null,null,null,null,null,null,null,null,null,null,null,null,null,{"$f":"IF(A1974<>\"\",TEXT(A1974,\"\"),\"\")","v":""},{"$f":"IF(N1974=\"\",\"\",CONCATENATE(IF(C1974<>\"\",TEXT(C1974,\"\"),\"\"),\" - \",IF(K1974<>\"\",TEXT(K1974,\"\"),\"\")))","v":""},"",{"$f":"IF(D1974<>\"\",D1974,\"\")","v":""},{"$f":"IF(E1974<>\"\",E1974,\"\")","v":""},{"$f":"IF(F1974<>\"\",F1974,\"\")","v":""},{"$f":"IF(N1974<>\"\",IF(D1975<>\"\",D1975,D1974),\"\")","v":""},{"$f":"IF(N1974<>\"\",IF(E1975<>\"\",E1975,E1974),\"\")","v":""},{"$f":"IF(N1974<>\"\",IF(F1975<>\"\",F1975,F1974),\"\")","v":""}]
[null,null,null,null,null,null,null,null,null,null,null,null,null,null,null,""]
[null,null,null,null,null,null,null,null,null,null,null,null,null,{"$f":"IF(A1976<>\"\",TEXT(A1976,\"\"),\"\")","v":""},{"$f":"IF(N1976=\"\",\"\",CONCATENATE(IF(C1976<>\"\",TEXT(C1976,\"\"),\"\"),\" - \",IF(K1976<>\"\",TEXT(K1976,\"\"),\"\")))","v":""},"",{"$f":"IF(D1976<>\"\",D1976,\"\")","v":""},{"$f":"IF(E1976<>\"\",E1976,\"\")","v":""},{"$f":"IF(F1976<>\"\",F1976,\"\")","v":""},{"$f":"IF(N1976<>\"\",IF(D1977<>\"\",D1977,D1976),\"\")","v":""},{"$f":"IF(N1976<>\"\",IF(E1977<>\"\",E1977,E1976),\"\")","v":""},{"$f":"IF(N1976<>\"\",IF(F1977<>\"\",F1977,F1976),\"\")","v":""}]
[null,null,null,null,null,null,null,null,null,null,null,null,null,null,null,""]
[null,null,null,null,null,null,null,null,null,null,null,null,null,{"$f":"IF(A1978<>\"\",TEXT(A1978,\"\"),\"\")","v":""},{"$f":"IF(N1978=\"\",\"\",CONCATENATE(IF(C1978<>\"\",TEXT(C1978,\"\"),\"\"),\" - \",IF(K1978<>\"\",TEXT(K1978,\"\"),\"\")))","v":""},"",{"$f":"IF(D1978<>\"\",D1978,\"\")","v":""},{"$f":"IF(E1978<>\"\",E1978,\"\")","v":""},{"$f":"IF(F1978<>\"\",F1978,\"\")","v":""},{"$f":"IF(N1978<>\"\",IF(D1979<>\"\",D1979,D1978),\"\")","v":""},{"$f":"IF(N1978<>\"\",IF(E1979<>\"\",E1979,E1978),\"\")","v":""},{"$f":"IF(N1978<>\"\",IF(F1979<>\"\",F1979,F1978),\"\")","v":""}]
[null,null,null,null,null,null,null,null,null,null,null,null,null,null,null,""]
[null,null,null,null,null,null,null,null,null,null,null,null,null,{"$f":"IF(A1980<>\"\",TEXT(A1980,\"\"),\"\")","v":""},{"$f":"IF(N1980=\"\",\"\",CONCATENATE(IF(C1980<>\"\",TEXT(C1980,\"\"),\"\"),\" - \",IF(K1980<>\"\",TEXT(K1980,\"\"),\"\")))","v":""},"",{"$f":"IF(D1980<>\"\",D1980,\"\")","v":""},{"$f":"IF(E1980<>\"\",E1980,\"\")","v":""},{"$f":"IF(F1980<>\"\",F1980,\"\")","v":""},{"$f":"IF(N1980<>\"\",IF(D1981<>\"\",D1981,D1980),\"\")","v":""},{"$f":"IF(N1980<>\"\",IF(E1981<>\"\",E1981,E1980),\"\")","v":""},{"$f":"IF(N1980<>\"\",IF(F1981<>\"\",F1981,F1980),\"\")","v":""}]
[null,null,null,null,null,null,null,null,null,null,null,null,null,null,null,""]
[null,null,null,null,null,null,null,null,null,null,null,null,null,{"$f":"IF(A1982<>\"\",TEXT(A1982,\"\"),\"\")","v":""},{"$f":"IF(N1982=\"\",\"\",CONCATENATE(IF(C1982<>\"\",TEXT(C1982,\"\"),\"\"),\" - \",IF(K1982<>\"\",TEXT(K1982,\"\"),\"\")))","v":""},"",{"$f":"IF(D1982<>\"\",D1982,\"\")","v":""},{"$f":"IF(E1982<>\"\",E1982,\"\")","v":""},{"$f":"IF(F1982<>\"\",F1982,\"\")","v":""},{"$f":"IF(N1982<>\"\",IF(D1983<>\"\",D1983,D1982),\"\")","v":""},{"$f":"IF(N1982<>\"\",IF(E1983<>\"\",E1983,E1982),\"\")","v":""},{"$f":"IF(N1982<>\"\",IF(F1983<>\"\",F1983,F1982),\"\")","v":""}]
[null,null,null,null,null,null,null,null,null,null,null,null,null,null,null,""]
[null,null,null,null,null,null,null,null,null,null,null,null,null,{"$f":"IF(A1984<>\"\",TEXT(A1984,\"\"),\"\")","v":""},{"$f":"IF(N1984=\"\",\"\",CONCATENATE(IF(C1984<>\"\",TEXT(C1984,\"\"),\"\"),\" - \",IF(K1984<>\"\",TEXT(K1984,\"\"),\"\")))","v":""},"",{"$f":"IF(D1984<>\"\",D1984,\"\")","v":""},{"$f":"IF(E1984<>\"\",E1984,\"\")","v":""},{"$f":"IF(F1984<>\"\",F1984,\"\")","v":""},{"$f":"IF(N1984<>\"\",IF(D1985<>\"\",D1985,D1984),\"\")","v":""},{"$f":"IF(N1984<>\"\",IF(E1985<>\"\",E1985,E1984),\"\")","v":""},{"$f":"IF(N1984<>\"\",IF(F1985<>\"\",F1985,F1984),\"\")","v":""}]
[null,null,null,null,null,null,null,null,null,null,null,null,null,null,null,""]
[null,null,null,null,null,null,null,null,null,null,null,null,null,{"$f":"IF(A1986<>\"\",TEXT(A1986,\"\"),\"\")","v":""},{"$f":"IF(N1986=\"\",\"\",CONCATENATE(IF(C1986<>\"\",TEXT(C1986,\"\"),\"\"),\" - \",IF(K1986<>\"\",TEXT(K1986,\"\"),\"\")))","v":""},"",{"$f":"IF(D1986<>\"\",D1986,\"\")","v":""},{"$f":"IF(E1986<>\"\",E1986,\"\")","v":""},{"$f":"IF(F1986<>\"\",F1986,\"\")","v":""},{"$f":"IF(N1986<>\"\",IF(D1987<>\"\",D1987,D1986),\"\")","v":""},{"$f":"IF(N1986<>\"\",IF(E1987<>\"\",E1987,E1986),\"\")","v":""},{"$f":"IF(N1986<>\"\",IF(F1987<>\"\",F1987,F1986),\"\")","v":""}]
[null,null,null,null,null,null,null,null,null,null,null,null,null,null,null,{"$f":"SUBSTITUTE(SUBSTITUTE(SUBSTITUTE(SUBSTITUTE(IF(L1987<>\"\",HLink(L1987),\"\"),\"htm\",\"html\"),\"1x2\",\"analysis\"),\"www\",\"www\"),\"com\",\"vip\")","v":""}]
[null,null,null,null,null,null,null,null,null,null,null,null,null,{"$f":"IF(A1988<>\"\",TEXT(A1988,\"\"),\"\")","v":""},{"$f":"IF(N1988=\"\",\"\",CONCATENATE(IF(C1988<>\"\",TEXT(C1988,\"\"),\"\"),\" - \",IF(K1988<>\"\",TEXT(K1988,\"\"),\"\")))","v":""},"",{"$f":"IF(D1988<>\"\",D1988,\"\")","v":""},{"$f":"IF(E1988<>\"\",E1988,\"\")","v":""},{"$f":"IF(F1988<>\"\",F1988,\"\")","v":""},{"$f":"IF(N1988<>\"\",IF(D1989<>\"\",D1989,D1988),\"\")","v":""},{"$f":"IF(N1988<>\"\",IF(E1989<>\"\",E1989,E1988),\"\")","v":""},{"$f":"IF(N1988<>\"\",IF(F1989<>\"\",F1989,F1988),\"\")","v":""}]
[null,null,null,null,null,null,null,null,null,null,null,null,null,null,null,""]
[null,null,null,null,null,null,null,null,null,null,null,null,null,{"$f":"IF(A1990<>\"\",TEXT(A1990,\"\"),\"\")","v":""},{"$f":"IF(N1990=\"\",\"\",CONCATENATE(IF(C1990<>\"\",TEXT(C1990,\"\"),\"\"),\" - \",IF(K1990<>\"\",TEXT(K1990,\"\"),\"\")))","v":""},"",{"$f":"IF(D1990<>\"\",D1990,\"\")","v":""},{"$f":"IF(E1990<>\"\",E1990,\"\")","v":""},{"$f":"IF(F1990<>\"\",F1990,\"\")","v":""},{"$f":"IF(N1990<>\"\",IF(D1991<>\"\",D1991,D1990),\"\")","v":""},{"$f":"IF(N1990<>\"\",IF(E1991<>\"\",E1991,E1990),\"\")","v":""},{"$f":"IF(N1990<>\"\",IF(F1991<>\"\",F1991,F1990),\"\")","v":""}]
[null,null,null,null,null,null,null,null,null,null,null,null,null,null,null,""]
[null,null,null,null,null,null,null,null,null,null,null,null,null,{"$f":"IF(A1992<>\"\",TEXT(A1992,\"\"),\"\")","v":""},{"$f":"IF(N1992=\"\",\"\",CONCATENATE(IF(C1992<>\"\",TEXT(C1992,\"\"),\"\"),\" - \",IF(K1992<>\"\",TEXT(K1992,\"\"),\"\")))","v":""},"",{"$f":"IF(D1992<>\"\",D1992,\"\")","v":""},{"$f":"IF(E1992<>\"\",E1992,\"\")","v":""},{"$f":"IF(F1992<>\"\",F1992,\"\")","v":""},{"$f":"IF(N1992<>\"\",IF(D1993<>\"\",D1993,D1992),\"\")","v":""},{"$f":"IF(N1992<>\"\",IF(E1993<>\"\",E1993,E1992),\"\")","v":""},{"$f":"IF(N1992<>\"\",IF(F1993<>\"\",F1993,F1992),\"\")","v":""}]
[null,null,null,null,null,null,null,null,null,null,null,null,null,null,null,""]
[null,null,null,null,null,null,null,null,null,null,null,null,null,{"$f":"IF(A1994<>\"\",TEXT(A1994,\"\"),\"\")","v":""},{"$f":"IF(N1994=\"\",\"\",CONCATENATE(IF(C1994<>\"\",TEXT(C1994,\"\"),\"\"),\" - \",IF(K1994<>\"\",TEXT(K1994,\"\"),\"\")))","v":""},"",{"$f":"IF(D1994<>\"\",D1994,\"\")","v":""},{"$f":"IF(E1994<>\"\",E1994,\"\")","v":""},{"$f":"IF(F1994<>\"\",F1994,\"\")","v":""},{"$f":"IF(N1994<>\"\",IF(D1995<>\"\",D1995,D1994),\"\")","v":""},{"$f":"IF(N1994<>\"\",IF(E1995<>\"\",E1995,E1994),\"\")","v":""},{"$f":"IF(N1994<>\"\",IF(F1995<>\"\",F1995,F1994),\"\")","v":""}]
[null,null,null,null,null,null,null,null,null,null,null,null,null,null,null,""]
[null,null,null,null,null,null,null,null,null,null,null,null,null,{"$f":"IF(A1996<>\"\",TEXT(A1996,\"\"),\"\")","v":""},{"$f":"IF(N1996=\"\",\"\",CONCATENATE(IF(C1996<>\"\",TEXT(C1996,\"\"),\"\"),\" - \",IF(K1996<>\"\",TEXT(K1996,\"\"),\"\")))","v":""},"",{"$f":"IF(D1996<>\"\",D1996,\"\")","v":""},{"$f":"IF(E1996<>\"\",E1996,\"\")","v":""},{"$f":"IF(F1996<>\"\",F1996,\"\")","v":""},{"$f":"IF(N1996<>\"\",IF(D1997<>\"\",D1997,D1996),\"\")","v":""},{"$f":"IF(N1996<>\"\",IF(E1997<>\"\",E1997,E1996),\"\")","v":""},{"$f":"IF(N1996<>\"\",IF(F1997<>\"\",F1997,F1996),\"\")","v":""}]
[null,null,null,null,null,null,null,null,null,null,null,null,null,null,null,""]
[null,null,null,null,null,null,null,null,null,null,null,null,null,{"$f":"IF(A1998<>\"\",TEXT(A1998,\"\"),\"\")","v":""},{"$f":"IF(N1998=\"\",\"\",CONCATENATE(IF(C1998<>\"\",TEXT(C1998,\"\"),\"\"),\" - \",IF(K1998<>\"\",TEXT(K1998,\"\"),\"\")))","v":""},"",{"$f":"IF(D1998<>\"\",D1998,\"\")","v":""},{"$f":"IF(E1998<>\"\",E1998,\"\")","v":""},{"$f":"IF(F1998<>\"\",F1998,\"\")","v":""},{"$f":"IF(N1998<>\"\",IF(D1999<>\"\",D1999,D1998),\"\")","v":""},{"$f":"IF(N1998<>\"\",IF(E1999<>\"\",E1999,E1998),\"\")","v":""},{"$f":"IF(N1998<>\"\",IF(F1999<>\"\",F1999,F1998),\"\")","v":""}]
[null,null,null,null,null,null,null,null,null,null,null,null,null,null,null,""]
[null,null,null,null,null,null,null,null,null,null,null,null,null,null,null,""]
[null,null,null,null,null,null,null,null,null,null,null,null,null,null,null,""]
[null,null,null,null,null,null,null,null,null,null,null,null,null,null,null,""]
[null,null,null,null,null,null,null,null,null,null,null,null,null,null,null,""]
[null,null,null,null,null,null,null,null,null,null,null,null,null,null,null,""]
[null,null,null,null,null,null,null,null,null,null,null,null,null,null,null,""]
[null,null,null,null,null,null,null,null,null,null,null,null,null,null,null,""]
[null,null,null,null,null,null,null,null,null,null,null,null,null,null,null,""]
[null,null,null,null,null,null,null,null,null,null,null,null,null,null,null,""]
[null,null,null,null,null,null,null,null,null,null,null,null,null,null,null,""]
[null,null,null,null,null,null,null,null,null,null,null,null,null,null,null,""]
[null,null,null,null,null,null,null,null,null,null,null,null,null,null,null,""]
[null,null,null,null,null,null,null,null,null,null,null,null,null,null,null,""]
[null,null,null,null,null,null,null,null,null,null,null,null,null,null,null,""]
[null,null,null,null,null,null,null,null,null,null,null,null,null,null,null,""]
[null,null,null,null,null,null,null,null,null,null,null,null,null,null,null,""]
[null,null,null,null,null,null,null,null,null,null,null,null,null,null,null,""]
[null,null,null,null,null,null,null,null,null,null,null,null,null,null,null,""]
[null,null,null,null,null,null,null,null,null,null,null,null,null,null,null,""]
[null,null,null,null,null,null,null,null,null,null,null,null,null,null,null,""]
[null,null,null,null,null,null,null,null,null,null,null,null,null,null,null,""]
[null,null,null,null,null,null,null,null,null,null,null,null,null,null,null,""]
[null,null,null,null,null,null,null,null,null,null,null,null,null,null,null,""]
[null,null,null,null,null,null,null,null,null,null,null,null,null,null,null,""]
[null,null,null,null,null,null,null,null,null,null,null,null,null,null,null,""]
[null,null,null,null,null,null,null,null,null,null,null,null,null,null,null,""]
[null,null,null,null,null,null,null,null,null,null,null,null,null,null,null,""]

{"sheet":"Veri1","index":1,"n_rows":24,"n_cols":7229,"rows_kept":7,"cut":true,"hidden":false,"merged":[[0,6572,2,6587]],"bounds":{"rows_first":3,"rows_last":1,"rows_between":3,"halvings":9}}
[null,null,null,null,null,null,null,null,null,null,null,null,null,null,null,null,null,null,null,null,null,null,null,null,null,null,null,null,null,null,null,null,null,null,null,null,null,null,null,null,null,null,null,null,null,null,null,null,null,null,null,null,null,null,null,null,null,null,null,null,null,null,null,null,null,null,null,null,null,null,null,null,null,null,null,null,null,null,null,null,null,null,null,null,null,null,null,null,null,null,null,null,null,null,null,null,null,null,null,null,null,null,null,null,null,null,null,null,null,null,null,null,null,null,null,null,null,null,null,null,null,null,null,null,null,null,null,null,null,null,null,null,null,null,null,null,null,null,null,null,null,null,null,null,null,null,null,null,null,null,null,null,null,null,null,null,null,null,null,null,null,null,null,null,null,null,null,null,null,null,null,null,null,null,null,null,null,null,null,null,null,null,null,null,null,null,null,null,null,null,null,null,null,null,null,null,null,null,null,null,null,null,null,null,null,null,null,null,null,null,null,null,null,null,null,null,null,null,null,null,null,null,null,null,null,null,null,null,null,null,null,null,null,null,null,null,null,null,null,null,null,null,null,null,null,null,null,null,null,null,null,null,null,null,null,null,null,null,null,null,null,null,null,null,null,null,null,null,null,null,null,null,null,null,null,null,null,null,null,null,null,null,null,null,null,null,null,null,null,null,null,null,null,null,null,null,null,null,null,null,null,null,null,null,null,null,null,null,null,null,null,null,null,null,null,null,null,null,null,null,null,null,null,null,null,null,null,null,null,null,null,null,null,null,null,null,null,null,null,null,null,null,null,null,null,null,null,null,null,null,null,null,null,null,null,null,null,null,null,null,null,null,null,null,null,null,null,null,null,null,null,null,null,null,null,null,null,null,null,null,null,null,null,null,null,null,null,null,null,null,null,null,null,null,null,null,null,null,null,null,null,null,null,null,null,null,null,null,null,null,null,null,null,null,null,null,null,null,null,null,null,null,null,null,null,null,null,null,null,null,null,null,null,null,null,null,null,null,null,null,null,null,null,null,null,null,null,null,null,null,null,null,null,null,null,null,null,null,null,null,null,null,null,null,null,null,null,null,null,null,null,null,null,null,null,null,null,null,null,null,null,null,null,null,null,null,null,null,null,null,null,null,null,null,null,null,null,null,null,null,null,null,null,null,null,null,null,null,null,null,null,null,null,null,null,null,null,null,null,null,null,null,null,null,null,null,null,null,null,null,null,null,null,null,null,null,null,null,null,null,null,null,null,null,null,null,null,null,null,null,null,null,null,null,null,null,null,null,null,null,null,null,null,null,null,null,null,null,null,null,null,null,null,null,null,null,null,null,null,null,null,null,null,null,null,null,null,null,null,null,null,null,null,null,null,null,null,null,null,null,null,null,null,null,null,null,null,null,null,null,null,null,null,null,null,null,null,null,null,null,null,null,null,null,null,null,null,null,null,null,null,null,null,null,null,null,null,null,null,null,null,null,null,null,null,null,null,null,null,null,null,null,null,null,null,null,null,null,null,null,null,null,null,null,null,null,null,null,null,null,null,null,null,null,null,null,null,null,null,null,null,null,null,null,null,null,null,null,null,null,null,null,null,null,null,null,null,null,null,null,null,null,null,null,null,null,null,null,null,null,null,null,null,null,null,null,null,null,null,null,null,null,null,null,null,null,null,null,null,null,null,null,null,null,null,null,null,null,null,null,null,null,null,null,null,null,null,null,null,null,null,null,null,null,null,null,null,null,null,null,null,null,null,null,null,null,null,null,null,null,null,null,null,null,null,null,null,null,null,null,null,null,null,null,null,null,null,null,null,null,null,null,null,null,null,null,null,null,null,null,null,null,null,null,null,null,null,null,null,null,null,null,null,null,null,null,null,null,null,null,null,null,null,null,null,null,null,null,null,null,null,null,null,null,null,null,null,null,null,null,null,null,null,null,null,null,null,null,null,null,null,null,null,null,null,null,null,null,null,null,null,null,null,null,null,null,null,null,null,null,null,null,null,null,null,null,null,null,null,null,null,null,null,null,null,null,null,null,null,null,null,null,null,null,null,null,null,null,null,null,null,null,null,null,null,null,null,null,null,null,null,null,null,null,null,null,null,null,null,null,null,null,null,null,null,null,null,null,null,null,null,null,null,null,null,null,null,null,null,null,null,null,null,null,null,null,null,null,null,null,null,null,null,null,null,null,null,null,null,null,null,null,null,null,null,null,null,null,null,null,null,null,null,null,null,null,null,null,null,null,null,null,null,null,null,null,null,null,null,null,null,null,null,null,null,null,null,null,null,null,null,null,null,null,null,null,null,null,null,null,null,null,null,null,null,null,null,null,null,null,null,null,null,null,null,null,null,null,null,null,null,null,null,null,null,null,null,null,null,null,null,null,null,null,null,null,null,null,null,null,null,null,null,null,null,null,null,null,null,null,null,null,null,null,null,null,null,null,null,null,null,null,null,null,null,null,null,null,null,null,null,null,null,null,null,null,null,null,null,null,null,null,null,null,null,null,null,null,null,null,null,null,null,null,null,null,null,null,null,null,null,null,null,null,null,null,null,null,null,null,null,null,null,null,null,null,null,null,null,null,null,null,null,null,null,null,null,null,null,null,null,null,null,null,null,null,null,null,null,null,null,null,null,null,null,null,null,null,null,null,null,null,null,null,null,null,null,null,null,null,null,null,null,null,null,null,null,null,null,null,null,null,null,null,null,null,null,null,null,null,null,null,null,null,null,null,null,null,null,null,null,null,null,null,null,null,null,null,null,null,null,null,null,null,null,null,null,null,null,null,null,null,null,null,null,null,null,null,null,null,null,null,null,null,null,null,null,null,null,null,null,null,null,null,null,null,null,null,null,null,null,null,null,null,null,null,null,null,null,null,null,null,null,null,null,null,null,null,null,null,null,null,null,null,null,null,null,null,null,null,null,null,null,null,null,null,null,null,null,null,null,null,null,null,null,null,null,null,null,null,null,null,null,null,null,null,null,null,null,null,null,null,null,null,null,null,null,null,null,null,null,null,null,null,null,null,null,null,null,null,null,null,null,null,null,null,null,null,null,null,null,null,null,null,null,null,null,null,null,null,null,null,null,null,null,null,null,null,null,null,null,null,null,null,null,null,null,null,null,null,null,null,null,null,null,null,null,null,null,null,null,null,null,null,null,null,null,null,null,null,null,null,null,null,null,null,null,null,null,null,null,null,null,null,null,null,null,null,null,null,null,null,null,null,null,null,null,null,null,null,null,null,null,null,null,null,null,null,null,null,null,null,null,null,null,null,null,null,null,null,null,null,null,null,null,null,null,null,null,null,null,null,null,null,null,null,null,null,null,null,null,null,null,null,null,null,null,null,null,null,null,null,null,null,null,null,null,null,null,null,null,null,null,null,null,null,null,null,null,null,null,null,null,null,null,null,null,null,null,null,null,null,null,null,null,null,null,null,null,null,null,null,null,null,null,null,null,null,null,null,null,null,null,null,null,null,null,null,null,null,null,null,null,null,null,null,null,null,null,null,null,null,null,null,null,null,null,null,null,null,null,null,null,null,null,null,null,null,null,null,null,null,null,null,null,null,null,null,null,null,null,null,null,null,null,null,null,null,null,null,null,null,null,null,null,null,null,null,null,null,null,null,null,null,null,null,null,null,null,null,null,null,null,null,null,null,null,null,null,null,null,null,null,null,null,null,null,null,null,null,null,null,null,null,null,null,null,null,null,null,null,null,null,null,null,null,null,null,null,null,null,null,null,null,null,null,null,null,null,null,null,null,null,null,null,null,null,null,null,null,null,null,null,null,null,null,null,null,null,null,null,null,null,null,null,null,null,null,null,null,null,null,null,null,null,null,null,null,null,null,null,null,null,null,null,null,null,null,null,null,null,null,null,null,null,null,null,null,null,null,null,null,null,null,null,null,null,null,null,null,null,null,null,null,null,null,null,null,null,null,null,null,null,null,null,null,null,null,null,null,null,null,null,null,null,null,null,null,null,null,null,null,null,null,null,null,null,null,null,null,null,null,null,null,null,null,null,null,null,null,null,null,null,null,null,null,null,null,null,null,null,null,null,null,null,null,null,null,null,null,null,null,null,null,null,null,null,null,null,null,null,null,null,null,null,null,null,null,null,null,null,null,null,null,null,null,null,null,null,null,null,null,null,null,null,null,null,null,null,null,null,null,null,null,null,null,null,null,null,null,null,null,null,null,null,null,null,null,null,null,null,null,null,null,null,null,null,null,null,null,null,null,null,null,null,null,null,null,null,null,null,null,null,null,null,null,null,null,null,null,null,null,null,null,null,null,null,null,null,null,null,null,null,null,null,null,null,null,null,null,null,null,null,null,null,null,null,null,null,null,null,null,null,null,null,null,null,null,null,null,null,null,null,null,null,null,null,null,null,null,null,null,null,null,null,null,null,null,null,null,null,null,null,null,null,null,null,null,null,null,null,null,null,null,null,null,null,null,null,null,null,null,null,null,null,null,null,null,null,null,null,null,null,null,null,null,null,null,null,null,null,null,null,null,null,null,null,null,null,null,null,null,null,null,null,null,null,null,null,null,null,null,null,null,null,null,null,null,null,null,null,null,null,null,null,null,null,null,null,null,null,null,null,null,null,null,null,null,null,null,null,null,null,null,null,null,null,null,null,null,null,null,null,null,null,null,null,null,null,null,null,null,null,null,null,null,null,null,null,null,null,null,null,null,null,null,null,null,null,null,null,null,null,null,null,null,null,null,null,null,null,null,null,null,null,null,null,null,null,null,null,null,null,null,null,null,null,null,null,null,null,null,null,null,null,null,null,null,null,null,null,null,null,null,null,null,null,null,null,null,null,null,null,null,null,null,null,null,null,null,null,null,null,null,null,null,null,null,null,null,null,null,null,null,null,null,null,null,null,null,null,null,null,null,null,null,null,null,null,null,null,null,null,null,null,null,null,null,null,null,null,null,null,null,null,null,null,null,null,null,null,null,null,null,null,null,null,null,null,null,null,null,null,null,null,null,null,null,null,null,null,null,null,null,null,null,null,null,null,null,null,null,null,null,null,null,null,null,null,null,null,null,null,null,null,null,null,null,null,null,null,null,null,null,null,null,null,null,null,null,null,null,null,null,null,null,null,null,null,null,null,null,null,null,null,null,null,null,null,null,null,null,null,null,null,null,null,null,null,null,null,null,null,null,null,null,null,null,null,null,null,null,null,null,null,null,null,null,null,null,null,null,null,null,null,null,null,null,null,null,null,null,null,null,null,null,null,null,null,null,null,null,null,null,null,null,null,null,null,null,null,null,null,null,null,null,null,null,null,null,null,null,null,null,null,null,null,null,null,null,null,null,null,null,null,null,null,null,null,null,null,null,null,null,null,null,null,null,null,null,null,null,null,null,null,null,null,null,null,null,null,null,null,null,null,null,null,null,null,null,null,null,null,null,null,null,null,null,null,null,null,null,null,null,null,null,null,null,null,null,null,null,null,null,null,null,null,null,null,null,null,null,null,null,null,null,null,null,null,null,null,null,null,null,null,null,null,null,null,null,null,null,null,null,null,null,null,null,null,null,null,null,null,null,"[RWA D1-4]  APR FC",null,null,null,null,null,null,null,null,null,"[RWA D1-17] Musanze FC",null,null,null,null,null,null,null,null,null,null,null,null,null,null,null,null,null,null,null,null,null,null,null,null,null,null,null,null,null,null,"[RWA D1-4]  APR FC",null,null,null,null,null,null,null,null,null,"[RWA D1-17] Musanze FC",null,null,null,null,null,null,null,null,null,null,null,null,null,null,null,null,null,null,null,null,null,null,null,null,null,null,null,null,null,null,null,null,null,null,null,null,null,null,null,null,null,null,null,null,null,null,null,null,null,null,null,null,null,null,null,null,null,null,null,null,null,null,null,null,null,null,null,null,null,null,null,null,null,null,null,null,null,null,null,null,null,null,null,null,null,null,null,null,null,null,null,null,null,null,null,null,null,null,null,null,null,null,null,null,null,null,null,null,null,null,null,null,null,null,null,null,null,null,null,null,null,null,null,null,null,null,null,null,null,null,null,null,null,null,null,null,null,null,null,null,null,null,null,null,null,null,null,null,null,null,null,null,null,null,null,null,null,null,null,null,null,null,null,null,null,null,null,null,null,null,null,null,null,null,null,null,null,null,null,null,null,null,null,null,null,null,null,null,null,null,null,null,null,null,null,null,null,null,null,null,null,null,null,null,null,null,null,null,null,null,null,null,null,null,null,null,null,null,null,null,null,null,null,null,null,null,null,null,null,null,null,null,null,null,null,null,null,null,null,null,null,null,null,null,null,"[SPA D1-9]  Valencia",null,null,null,null,null,null,null,null,null,"[SCO PR-1] Celtic FC",null,null,null,null,null,null,null,null,null,null,null,null,null,null,null,null,null,null,null,null,null,null,null,null,null,null,null,null,null,null,"[SPA D1-9]  Valencia",null,null,null,null,null,null,null,null,null,"[SCO PR-1] Celtic FC",null,null,null,null,null,null,null,null,null,null,null,null,null,null,null,null,null,null,null,null,null,null,null,null,null,null,null,null,null,null,null,null,null,null,null,null,null,null,null,null,null,null,null,null,null,null,null,null,null,null,null,null,null,null,null,null,null,null,null,null,null,null,null,null,null,null,null,null,null,null,null,null,null,null,null,null,null,null,null,null,null,null,null,null,null,null,null,null,null,null,null,null,null,null,null,null,null,null,null,null,null,null,null,null,null,null,null,null,null,null,null,null,null,null,null,null,null,null,null,null,null,null,null,null,null,null,null,null,null,null,null,null,null,null,null,null,null,null,null,null,null,null,null,null,null,null,null,null,null,null,null,null,null,null,null,null,null,null,null,null,null,null,null,null,null,null,null,null,null,null,null,null,null,null,null,null,null,null,null,null,null,null,null,null,null,null,null,null,null,null,null,null,null,null,null,null,null,null,null,null,null,null,null,null,null,null,null,null,null,null,null,null,null,null,null,null,null,null,null,null,null,null,null,null,null,null,null,null,null,null,null,null,null,null,null,null,null,null,null,null,null,null,null,null,null,null,null,null,null,null,null,null,null,null,null,null,null,null,null,null,null,null,null,null,null,null,null,null,null,null,null,null,null,null,null,null,null,null,null,null,null,null,null,null,null,null,null,null,null,null,null,null,null,null,null,null,null,null,null,null,null,null,null,null,null,null,null,null,null,null,null,null,null,null,null,null,null,null,null,null,null,null,null,null,null,null,null,null,null,null,null,null,null,null,null,null,null,null,null,null,null,null,null,null,null,null,null,null,null,null,null,null,null,null,null,null,null,null,null,null,null,null,null,null,null,null,null,null,null,null,null,null,null,null,null,null,null,null,null,null,null,null,null,null,null,null,null,null,null,null,null,null,null,null,null,null,null,null,null,null,null,null,null,null,null,null,null,null,null,null,null,null,null,null,null,null,null,null,null,null,null,null,null,null,null,null,null,null,null,null,null,null,null,null,null,null,null,null,null,null,null,null,null,null,null,null,null,null,null,null,null,null,null,null,null,null,null,null,null,null,null,null,null,null,null,null,null,null,null,null,null,null,null,null,null,null,null,null,null,null,null,null,null,null,null,null,null,null,null,null,null,null,null,null,null,null,null,null,null,null,null,null,null,null,null,null,null,null,null,null,null,null,null,null,null,null,null,null,null,null,null,null,null,null,null,null,null,null,null,null,null,null,null,null,null,null,null,null,null,null,null,null,null,null,null,null,null,null,null,null,null,null,null,null,null,null,null,null,null,null,null,null,null,null,null,null,null,null,null,null,null,null,null,null,null,null,null,null,null,null,null,null,null,null,null,null,null,null,null,null,null,null,null,null,null,null,null,null,null,null,null,null,"[ACT M-5]  Deportivo Laferrere",null,null,null,null,null,null,null,null,null,"[ACT M-16] El Porvenir",null,null,null,null,null,null,null,null,null,null,null,null,null,null,null,null,null,null,null,null,null,null,null,null,null,null,null,null,null,null,"[ACT M-5]  Deportivo Laferrere",null,null,null,null,null,null,null,null,null,"[ACT M-16] El Porvenir",null,null,null,null,null,null,null,null,null,null,null,null,null,null,null,null,null,null,null,null,null,null,null,null,null,null,null,null,null,null,null,null,null,null,null,null,null,null,null,null,null,null,null,null,null,null,null,null,null,null,null,null,null,null,null,null,null,null,null,null,null,null,null,null,null,null,null,null,null,null,null,null,null,null,null,null,null,null,null,null,null,null,null,null,null,null,null,null,null,null,null,null,null,null,null,null,null,null,null,null,null,null,null,null,null,null,null,null,null,null,null,null,null,null,null,null,null,null,null,null,null,null,null,null,null,null,null,null,null,null,null,null,null,null,null,null,null,null,null,null,null,null,null,null,null,null,null,null,null,null,null,null,null,null,null,null,null,null,null,null,null,null,null,null,null,null,null,null,null,null,null,null,null,null,null,null,null,null,null,null,null,null,null,null,null,null,null,null,null,null,null,null,null,null,null,null,null,null,null,null,null,null,null,null,null,null,null,null,null,null,null,null,null,null,null,null,null,null,null,null,null,null,null,null,null,null,null,null,null,null,null,null,null,null,null,null,null,null,null,null,null,null,null,null,null,null,null,null,null,null,null,null,null,null,null,null,null,null,null,null,null,null,null,null,null,null,null,null,null,null,null,null,null,null,null,null,null,null,null,null,null,null,null,null,null,null,null,null,null,null,null,null,null,null,null,null,null,null,null,null,null,null,null,null,null,null,null,null,null,null,null,null,null,null,null,null,null,null,null,null,null,null,null,null,null,null,null,null,null,null,null,null,null,null,null,null,null,null,null,null,null,null,null,null,null,null,null,null,null,null,null,null,null,null,null,null,null,null,null,null,null,null,null,null,null,null,null,null,null,null,null,null,null,null,null,null,null,null,null,null,null,null,null,null,null,null,null,null,null,null,null,null,null,null,null,null,null,null,null,null,null,null,null,null,null,null,null,null,null,null,null,null,null,null,null,null,null,null,null,null,null,null,null,null,null,null,null,null,null,null,null,null,null,null,null,null,null,null,null,null,null,null,null,null,null,null,null,null,null,null,null,null,null,null,null,null,null,null,null,null,null,null,null,null,null,null,null,null,null,null,null,null,null,null,null,null,null,null,null,null,null,null,null,null,null,null,null,null,null,null,null,null,null,null,null,null,null,null,null,null,null,null,null,null,null,null,null,null,null,null,null,null,null,null,null,null,null,null,null,null,null,null,null,null,null,null,null,null,null,null,null,null,null,null,null,null,null,null,null,null,null,null,null,null,null,null,null,null,null,null,null,null,null,null,null,null,null,null,null,null,null,null,null,null,null,null,null,null,null,null,null,null,null,null,null,null,null,null,null,null,null,null,null,null,null,null,null,null,null,null,null,null,null,null,null,null,null,null,null,null,null,null,null,null,null,null,null,null,null,null,null,null,null,null,null,null,null,null,null,null,null,null,null,null,null,null,null,null,null,null,null,null,null,null,null,null,null,null,null,null,null,null,null,null,null,null,null,null,null,null,null,null,null,null,null,null,null,null,null,null,null,null,null,null,null,null,null,null,null,null,null,null,null,null,null,null,null,null,null,null,null,null,null,null,null,null,null,null,null,null,null,null,null,null,null,null,null,null,null,null,null,null,null,null,null,null,null,null,null,null,null,null,null,null,null,null,null,null,null,null,null,null,null,null,null,null,null,null,null,null,null,null,null,null,null,null,null,null,null,null,null,null,null,null,null,null,null,null,null,null,null,null,null,null,null,null,null,null,null,null,null,null,null,null,null,null,null,null,null,null,null,null,null,null,null,null,null,null,null,null,null,null,null,null,null,null,null,null,null,null,null,null,null,null,null,null,null,null,null,null,null,null,null,null,null,null,null,null,null,null,null,null,null,null,null,null,null,null,null,null,null,null,null,null,null,null,null,null,null,null,null,null,null,null,null,null,null,null,null,null,null,null,null,null,null,null,null,null,null,null,null,null,null,null,null,null,null,null,null,null,null,null,null,null,null,null,null,null,null,null,null,null,null,null,null,null,null,null,null,null,null,null,null,null,null,null,null,null,null,null,null,null,null,null,null,null,null,null,null,null,null,null,null,null,null,null,null,null,null,null,null,null,null,null,null,null,null,null,null,null,null,null,null,null,null,null,null,null,null,null,null,null,null,null,null,null,null,null,null,null,null,null,null,null,null,null,null,null,null,null,null,null,null,null,null,null,null,null,null,null,null,null,null,null,null,null,null,null,null,null,null,null,null,null,null,null,null,null,null,null,null,null,null,null,null,null,null,null,null,null,null,null,null,null,null,null,null,null,null,null,null,null,null,null,null,null,null,null,null,null,null,null,null,null,null,null,null,null,null,null,null,null,null,null,null,null,null,null,null,null,null,null,null,null,null,null,null,null,null,null,null,null,null,null,null,null,null,null,null,null,null,null,null,null,null,null,null,null,null,null,null,null,null,null,null,null,null,null,null,null,null,null,null,null,null,null,null,null,null,null,null,null,null,null,null,null,null,null,null,null,null,null,null,null,null,null,null,null,null,null,null,null,null,null,null,null,null,null,null,null,null,null,null,null,null,null,null,null,null,null,null,null,null,null,null,null,null,null,null,null,null,null,null,null,null,null,null,null,null,null,null,null,null,null,null,null,null,null,null,null,null,null,null,null,null,null,null,null,null,null,null,null,null,null,null,null,null,null,null,null,null,null,null,null,null,null,null,null,null,null,null,null,null,null,null,null,null,null,null,null,null,null,null,null,null,null,null,null,null,null,null,null,null,null,null,null,null,null,null,null,null,null,null,null,null,null,null,null,null,null,null,null,null,null,null,null,null,null,null,null,null,null,null,null,null,null,null,null,null,null,null,null,null,null,null,null,null,null,null,null,null,null,null,null,null,null,null,null,null,null,null,null,null,null,null,null,null,null,null,null,null,null,null,null,null,null,null,null,null,null,null,null,null,null,null,null,null,null,null,null,null,null,null,null,null,null,null,null,null,null,null,null,null,null,null,null,null,null,null,null,null,null,null,null,null,null,null,null,null,null,null,null,null,null,null,null,null,null,null,null,null,null,null,null,null,null,null,null,null,null,null,null,null,null,null,null,null,null,null,null,null,null,null,null,null,null,null,null,null,null,null,null,null,null,null,null,null,null,null,null,null,null,null,null,null,null,null,null,null,null,null,null,null,null,null,null,null,null,null,null,null,null,null,null,null,null,null,null,null,null,null,null,null,null,null,null,null,null,null,null,null,null,null,null,null,null,null,null,null,null,null,null,null,null,null,null,null,null,null,null,null,null,null,null,null,null,null,null,null,null,null,null,null,null,null,null,null,null,null,null,null,null,null,null,null,null,null,null,null,null,null,null,null,null,null,null,null,null,null,null,null,null,null,null,null,null,null,null,null,null,null,null,null,null,null,null,null,null,null,null,null,null,null,null,null,null,null,null,null,null,null,null,null,null,null,null,null,null,null,null,null,null,null,null,null,null,null,null,null,null,null,null,null,null,null,null,null,null,null,null,null,null,null,null,null,null,null,null,null,null,null,null,null,null,null,null,null,null,null,null,null,null,null,null,null,null,null,null,null,null,null,null,null,null,null,null,null,null,null,null,null,null,null,null,null,null,null,null,null,null,null,null,null,null,null,null,null,null,null,null,null,null,null,null,null,null,null,null,null,null,null,null,null,null,null,null,null,null,null,null,null,null,null,null,null,null,null,null,null,null,null,null,null,null,null,null,null,null,null,null,null,null,null,null,null,null,null,null,null,null,null,null,null,null,null,null,null,null,null,null,null,null,null,null,null,null,null,null,null,null,null,null,null,null,null,null,null,null,null,null,null,null,null,null,null,null,null,null,null,null,null,null,null,null,null,null,null,null,null,null,null,null,null,null,null,null,null,null,null,null,null,null,null,null,null,null,null,null,null,null,null,null,null,null,null,null,null,null,null,null,null,null,null,null,null,null,null,null,null,null,null,null,null,null,null,null,null,null,null,null,null,null,null,null,null,null,null,null,null,null,null,null,null,null,null,null,null,null,null,null,null,null,null,null,null,null,null,null,null,null,null,null,null,null,null,null,null,null,null,null,null,null,null,null,null,null,null,null,null,null,null,null,null,null,null,null,null,null,null,null,null,null,null,null,null,null,null,null,null,null,null,null,null,null,null,null,null,null,null,null,null,null,null,null,null,null,null,null,null,null,null,null,null,null,null,null,null,null,null,null,null,null,null,null,null,null,null,null,null,null,null,null,null,null,null,null,null,null,null,null,null,null,null,null,null,null,null,null,null,null,null,null,null,null,null,null,null,null,null,null,null,null,null,null,null,null,null,null,null,null,null,null,null,null,null,null,null,null,null,null,null,null,null,null,null,null,null,null,null,null,null,null,null,null,null,null,null,null,null,null,null,null,null,null,null,null,null,null,null,null,null,null,null,null,null,null,null,null,null,null,null,null,null,null,null,null,null,null,null,null,null,null,null,null,null,null,null,null,null,null,null,null,null,null,null,null,null,null,null,null,null,null,null,null,null,null,null,null,null,null,null,null,null,null,null,null,null,null,null,null,null,null,null,null,null,null,null,null,null,null,null,null,null,null,null,null,null,null,null,null,null,null,null,null,null,null,null,null,null,null,null,null,null,null,null,null,null,null,null,null,null,null,null,null,null,null,null,null,null,null,null,null,null,null,null,null,null,null,null,null,null,null,null,null,null,null,null,null,null,null,null,null,null,null,null,null,null,null,null,null,null,null,null,null,null,null,null,null,null,null,null,null,null,null,null,null,null,null,null,null,null,null,null,null,null,null,null,null,null,null,null,null,null,null,null,null,null,null,null,null,null,null,null,null,null,null,null,null,null,null,null,null,null,null,null,null,null,null,null,null,null,null,null,null,null,null,null,null,null,null,null,null,null,null,null,null,null,null,null,null,null,null,null,null,null,null,null,null,null,null,null,null,null,null,null,null,null,null,null,null,null,null,null,null,null,null,null,null,null,null,null,null,null,null,null,null,null,null,null,null,null,null,null,null,null,null,null,null,null,null,null,null,null,null,null,null,null,null,null,null,null,null,null,null,null,null,null,null,null,null,null,null,null,null,null,null,null,null,null,null,null,null,null,null,null,null,null,null,null,null,null,null,null,null,null,null,null,null,null,null,null,null,null,null,null,null,null,null,null,null,null,null,null,null,null,null,null,null,null,null,null,null,null,null,null,null,null,null,null,null,null,null,null,null,null,null,null,null,null,null,null,null,null,null,null,null,null,null,null,null,null,null,null,null,null,null,null,null,null,null,null,null,null,null,null,null,null,null,null,null,null,null,null,null,null,null,null,null,null,null,null,null,null,null,null,null,null,null,null,null,null,null,null,null,null,null,null,null,null,null,null,null,null,null,null,null,null,null,null,null,null,null,null,null,null,null,null,null,null,null,null,null,null,null,null,null,null,null,null,null,null,null,null,null,null,null,null,null,null,null,null,null,null,null,null,null,null,null,null,null,null,null,null,null,null,null,null,null,null,null,null,null,null,null,null,null,null,null,null,null,null,null,null,null,null,null,null,null,null,null,null,null,null,null,null,null,null,null,null,null,null,null,null,null,null,null,null,null,null,null,"[GER D1-1]  Borussia Dortmund",null,null,null,null,null,null,null,null,null,"[GER D1-10] Werder Bremen",null,null,null,null,null,null,null,null,null,null,null,null,null,null,null,null,null,null,null,null,null,null,null,null,null,null,null,null,null,null,"[GER D1-1]  Borussia Dortmund",null,null,null,null,null,null,null,null,null,"[GER D1-10] Werder Bremen",null,null,null,null,null,null,null,null,null,null,null,null,null,null,null,null,null,null,null,null,null,null,null,null,null,null,null,null,null,null,null,null,null,null,null,null,null,null,null,null,null,null,null,null,null,null,null,null,null,null,null,null,null,null,null,null,null,null,null,null,null,null,null,null,null,null,null,null,null,null,null,null,null,null,null,null,null,null,null,null,null,null,null,null,null,null,null,null,null,null,null,null,null,null,null,null,null,null,null,null,null,null,null,null,null,null,null,null,null,null,null,null,null,null,null,null,null,null,null,null,null,null,null,null,null,null,null,null,null,null,null,null,null,null,null,null,null,null,null,null,null,null,null,null,null,null,null,null,null,null,null,null,null,null,null,null,null,null,null,null,null,null,null,null,null,null,null,null,null,null,null,null,null,null,null,null,null,null,null,null,null,null,null,null,null,null,null,null,null,null,null,null,null,null,null,null,null,null,null,null,null,null,null,null,null,null,null,null,null,null,null,null,null,null,null,null,null,null,null,null,null,null,null,null,null,null,null,null,null,null,null,null,null,null,null,null,null,null,null,null,null,null,null,null,null,null,null,null,null,null,null,null,null,null,null,null,null,null,null,null,null,null,null,null,null,null,null,null,null,null,null,null,null,null,null,null,null,null,null,null,null,null,null,null,null,null,null,null,null,null,null,null,null,null,null,null,null,null,null,null,null,null,null,null,null,null,null,null,"[HOL D2-6]  Jong PSV Eindhoven (Youth)",null,null,null,null,null,null,null,null,null,"[HOL D2-7] FC Oss",null,null,null,null,null,null,null,null,null,null,null,null,null,null,null,null,null,null,null,null,null,null,null,null,null,null,null,null,null,null,"[HOL D2-6]  Jong PSV Eindhoven (Youth)",null,null,null,null,null,null,null,null,null,"[HOL D2-7] FC Oss",null,null,null,null,null,null,null,null,null,null,null,null,null,null,null,null,null,null,null,null,null,null,null,null,null,null,null,null,null,null,null,null,null,null,null,null,null,null,null,null,null,null,null,null,null,null,null,null,null,null,null,null,null,null,null,null,null,null,null,null,null,null,null,null,null,null,null,null,null,null,null,null,null,null,null,null,null,null,null,null,null,null,null,null,null,null,null,null,null,null,null,null,null,null,null,null,null,null,null,null,null,null,null,null,null,null,null,null,null,null,null,null,null,null,null,null,null,null,null,null,null,null,null,null,null,null,null,null,null,null,null,null,null,null,null,null,null,null,null,null,null,null,null,null,null,null,null,null,null,null,null,null,null,null,null,null,null,null,null,null,null,null,null,null,null,null,null,null,null,null,null,null,null,null,null,null,null,null,null,null,null,null,null,null,null,null,null,null,null,null,null,null,null,null,null,null,null,null,null,null,null,null,null,null,null,null,null,null,null,null,null,null,null,null,null,null,null,null,null,null,null,null,null,null,null,null,null,null,null,null,null,null,null,null,null,null,null,null,null,null,null,null,null,null,null,null,null,null,null,null,null,null,null,null,null,null,null,null,null,null,null,null,null,"pro analiz andsi v 19 . 02",null,null,null,null,null,null,null,null,null,null,null,null,null,null,null,null,null,null,null,null,null,null,null,null,null,null,null,null,null,null,null,null,null,null,null,null,null,null,null,null,null,null,null,null,null,null,null,null,null,null,null,null,null,null,null,null,null,null,null,null,null,null,null,null,null,null,null,null,null,null,null,null,null,null,null,null,null,null,null,null,null,null,null,null,null,null,null,null,null,null,null,null,null,null,null,null,null,null,null,null,null,null,null,null,null,null,null,null,null,null,null,null,null,null,null,null,null,null,null,null,null,null,null,null,null,null,null,null,null,null,null,null,null,null,null,null,null,null,null,null,null,null,null,null,null,null,null,null,null,null,null,null,null,null,null,null,null,null,null,null,null,null,null,null,null,null,null,null,null,null,null,null,null,null,null,null,null,null,null,null,null,null,null,null,null,null,null,null,null,null,null,null,null,null,null,null,null,null,null,null,null,null,null,null,null,null,null,null,null,null,null,null,null,null,null,null,null,null,null,null,null,null,null,null,null,null,null,null,null,null,null,null,null,null,null,null,null,null,null,null,null,null,null,null,null,null,null,null,null,null,null,null,null,null,null,null,null,null,null,null,null,null,null,null,null,null,null,null,null,null,null,null,null,null,null,null,null,null,null,null,null,null,null,null,null,null,null,null,null,null,null,null,null,null,null,null,null,null,null,null,null,null,null,null,null,null,null,null,null,null,null,null,null,null,null,null,null,null,null,null,null,null,null,null,null,null,null,null,null,null,null,null,null,null,null,null,null,null,null,null,null,null,null,null,null,null,null,null,null,null,null,null,null,null,null,null,null,null,null,null,null,null,null,null,null,null,null,null,null,null,null,null,null,null,null,null,null,null,null,null,null,null,null,null,null,null,null,null,null,null,null,null,null,null,null,null,null,null,null,null,null,null,null,null,null,null,null,null,null,null,null,null,null,null,null,null,null,null,null,null,null,null,null,null,null,null,null,null,null,null,null,null,null,null,null,null,null,null,null,null,null,null,null,null,null,null,null,null,null,null,null,null,null,null,null,null,null,null,null,null,null,null,null,null,null,null,null,null,null,null,null,null,null,null,null,null,null,null,null,null,null,null,null,null,null,null,null,null,null,null,null,null,null,null,null,null,null,null,null,null,null,null,null,null,null,null,null,null,null,null,null,null,null,null,null,null,null,null,null,null,null,null,null,null,null,null,null,null,null,null,null,null,null,null,null,null,null,null,null,null,null,null,null,null,null,null,null,null,null,null,null,null,null,null,null,null,null,null,null,null,null,null,null,null,null,null,null,null,null,null,null,null,null,null,null,null,null,null,null,null,null,null,"[ALG D2-2] ASO Chlef",null,null,null,null,null,null,null,null,null,null,null,null,null,null,null,null,null,null,null,null,null,null,null,null,null,null,null,null,null,null,null,null,null,null,null,null,null,null,null,null,null,null,"[AUS D3M-13] SC Kalsdorf",null,null,null,null,null,null,null,null,null,null,null,null,null,null,null,null,null,null,null,null,"[AUS D3M-13] SC Kalsdorf"]
[null,null,null,null,null,null,null,null,null,null,null,null,null,null,null,null,null,null,null,null,null,null,null,null,null,null,null,null,null,null,null,null,null,null,null,null,null,null,null,null,null,null,null,null,null,null,null,null,null,null,null,null,null,null,null,null,null,null,null,null,null,null,null,null,null,null,null,null,null,null,null,null,null,null,null,null,null,null,null,null,null,null,null,null,null,null,null,null,null,null,null,null,null,null,null,null,null,null,null,null,null,null,null,null,null,null,null,null,null,null,null,null,null,null,null,null,null,null,null,null,null,null,null,null,null,null,null,null,null,null,null,null,null,null,null,null,null,null,null,null,null,null,null,null,null,null,null,null,null,null,null,null,null,null,null,null,null,null,null,null,null,null,null,null,null,null,null,null,null,null,null,null,null,null,null,null,null,null,null,null,null,null,null,null,null,null,null,null,null,null,null,null,null,null,null,null,null,null,null,null,null,null,null,null,null,null,null,null,null,null,null,null,null,null,null,null,null,null,null,null,null,null,null,null,null,null,null,null,null,null,null,null,null,null,null,null,null,null,null,null,null,null,null,null,null,null,null,null,null,null,null,null,null,null,null,null,null,null,null,null,null,null,null,null,null,null,null,null,null,null,null,null,null,null,null,null,null,null,null,null,null,null,null,null,null,null,null,null,null,null,null,null,null,null,null,null,null,null,null,null,null,null,null,null,null,null,null,null,null,null,null,null,null,null,null,null,null,null,null,null,null,null,null,null,null,null,null,null,null,null,null,null,null,null,null,null,null,null,null,null,null,null,null,null,null,null,null,null,null,null,null,null,null,null,null,null,null,null,null,null,null,null,null,null,null,null,null,null,null,null,null,null,null,null,null,null,null,null,null,null,null,null,null,null,null,null,null,null,null,null,null,null,null,null,null,null,null,null,null,null,null,null,null,null,null,null,null,null,null,null,null,null,null,null,null,null,null,null,null,null,null,null,null,null,null,null,null,null,null,null,null,null,null,null,null,null,null,null,null,null,null,null,null,null,null,null,null,null,null,null,null,null,null,null,null,null,null,null,null,null,null,null,null,null,null,null,null,null,null,null,null,null,null,null,null,null,null,null,null,null,null,null,null,null,null,null,null,null,null,null,null,null,null,null,null,null,null,null,null,null,null,null,null,null,null,null,null,null,null,null,null,null,null,null,null,null,null,null,null,null,null,null,null,null,null,null,null,null,null,null,null,null,null,null,null,null,null,null,null,null,null,null,null,null,null,null,null,null,null,null,null,null,null,null,null,null,null,null,null,null,null,null,null,null,null,null,null,null,null,null,null,null,null,null,null,null,null,null,null,null,null,null,null,null,null,null,null,null,null,null,null,null,null,null,null,null,null,null,null,null,null,null,null,null,null,null,null,null,null,null,null,null,null,null,null,null,null,null,null,null,null,null,null,null,null,null,null,null,null,null,null,null,null,null,null,null,null,null,null,null,null,null,null,null,null,null,null,null,null,null,null,null,null,null,null,null,null,null,null,null,null,null,null,null,null,null,null,null,null,null,null,null,null,null,null,null,null,null,null,null,null,null,null,null,null,null,null,null,null,null,null,null,null,null,null,null,null,null,null,null,null,null,null,null,null,null,null,null,null,null,null,null,null,null,null,null,null,null,null,null,null,null,null,null,null,null,null,null,null,null,null,null,null,null,null,null,null,null,null,null,null,null,null,null,null,null,null,null,null,null,null,null,null,null,null,null,null,null,null,null,null,null,null,null,null,null,null,null,null,null,null,null,null,null,null,null,null,null,null,null,null,null,null,null,null,null,null,null,null,null,null,null,null,null,null,null,null,null,null,null,null,null,null,null,null,null,null,null,null,null,null,null,null,null,null,null,null,null,null,null,null,null,null,null,null,null,null,null,null,null,null,null,null,null,null,null,null,null,null,null,null,null,null,null,null,null,null,null,null,null,null,null,null,null,null,null,null,null,null,null,null,null,null,null,null,null,null,null,null,null,null,null,null,null,null,null,null,null,null,null,null,null,null,null,null,null,null,null,null,null,null,null,null,null,null,null,null,null,null,null,null,null,null,null,null,null,null,null,null,null,null,null,null,null,null,null,null,null,null,null,null,null,null,null,null,null,null,null,null,null,null,null,null,null,null,null,null,null,null,null,null,null,null,null,null,null,null,null,null,null,null,null,null,null,null,null,null,null,null,null,null,null,null,null,null,null,null,null,null,null,null,null,null,null,null,null,null,null,null,null,null,null,null,null,null,null,null,null,null,null,null,null,null,null,null,null,null,null,null,null,null,null,null,null,null,null,null,null,null,null,null,null,null,null,null,null,null,null,null,null,null,null,null,null,null,null,null,null,null,null,null,null,null,null,null,null,null,null,null,null,null,null,null,null,null,null,null,null,null,null,null,null,null,null,null,null,null,null,null,null,null,null,null,null,null,null,null,null,null,null,null,null,null,null,null,null,null,null,null,null,null,null,null,null,null,null,null,null,null,null,null,null,null,null,null,null,null,null,null,null,null,null,null,null,null,null,null,null,null,null,null,null,null,null,null,null,null,null,null,null,null,null,null,null,null,null,null,null,null,null,null,null,null,null,null,null,null,null,null,null,null,null,null,null,null,null,null,null,null,null,null,null,null,null,null,null,null,null,null,null,null,null,null,null,null,null,null,null,null,null,null,null,null,null,null,null,null,null,null,null,null,null,null,null,null,null,null,null,null,null,null,null,null,null,null,null,null,null,null,null,null,null,null,null,null,null,null,null,null,null,null,null,null,null,null,null,null,null,null,null,null,null,null,null,null,null,null,null,null,null,null,null,null,null,null,null,null,null,null,null,null,null,null,null,null,null,null,null,null,null,null,null,null,null,null,null,null,null,null,null,null,null,null,null,null,null,null,null,null,null,null,null,null,null,null,null,null,null,null,null,null,null,null,null,null,null,null,null,null,null,null,null,null,null,null,null,null,null,null,null,null,null,null,null,null,null,null,null,null,null,null,null,null,null,null,null,null,null,null,null,null,null,null,null,null,null,null,null,null,null,null,null,null,null,null,null,null,null,null,null,null,null,null,null,null,null,null,null,null,null,null,null,null,null,null,null,null,null,null,null,null,null,null,null,null,null,null,null,null,null,null,null,null,null,null,null,null,null,null,null,null,null,null,null,null,null,null,null,null,null,null,null,null,null,null,null,null,null,null,null,null,null,null,null,null,null,null,null,null,null,null,null,null,null,null,null,null,null,null,null,null,null,null,null,null,null,null,null,null,null,null,null,null,null,null,null,null,null,null,null,null,null,null,null,null,null,null,null,null,null,null,null,null,null,null,null,null,null,null,null,null,null,null,null,null,null,null,null,null,null,null,null,null,null,null,null,null,null,null,null,null,null,null,null,null,null,null,null,null,null,null,null,null,null,null,null,null,null,null,null,null,null,null,null,null,null,null,null,null,null,null,null,null,null,null,null,null,null,null,null,null,null,null,null,null,null,null,null,null,null,null,null,null,null,null,null,null,null,null,null,null,null,null,null,null,null,null,null,null,null,null,null,null,null,null,null,null,null,null,null,null,null,null,null,null,null,null,null,null,null,null,null,null,null,null,null,null,null,null,null,null,null,null,null,null,null,null,null,null,null,null,null,null,null,null,null,null,null,null,null,null,null,null,null,null,null,null,null,null,null,null,null,null,null,null,null,null,null,null,null,null,null,null,null,null,null,null,null,null,null,null,null,null,null,null,null,null,null,null,null,null,null,null,null,null,null,null,null,null,null,null,null,null,null,null,null,null,null,null,null,null,null,null,null,null,null,null,null,null,null,null,null,null,null,null,null,null,null,null,null,null,null,null,null,null,null,null,null,null,null,null,null,null,null,null,null,null,null,null,null,null,null,null,null,null,null,null,null,null,null,null,null,null,null,null,null,null,null,null,null,null,null,null,null,null,null,null,null,null,null,null,null,null,null,null,null,null,null,null,null,null,null,null,null,null,null,null,null,null,null,null,null,null,null,null,null,null,null,null,null,null,null,null,null,null,null,null,null,null,null,null,null,null,null,null,null,null,null,null,null,null,null,null,null,null,null,null,null,null,null,null,null,null,null,null,null,null,null,null,null,null,null,null,null,null,null,null,null,null,null,null,null,null,null,null,null,null,null,null,null,null,null,null,null,null,null,null,null,null,null,null,null,null,null,null,null,null,null,null,null,null,null,null,null,null,null,null,null,null,null,null,null,null,null,null,null,null,null,null,null,null,null,null,null,null,null,null,null,null,null,null,null,null,null,null,null,null,null,null,null,null,null,null,null,null,null,null,null,null,null,null,null,null,null,null,null,null,null,null,null,null,null,null,null,null,null,null,null,null,null,null,null,null,null,null,null,null,null,null,null,null,null,null,null,null,null,null,null,null,null,null,null,null,null,null,null,null,null,null,null,null,null,null,null,null,null,null,null,null,null,null,null,null,null,null,null,null,null,null,null,null,null,null,null,null,null,null,null,null,null,null,null,null,null,null,null,null,null,null,null,null,null,null,null,null,null,null,null,null,null,null,null,null,null,null,null,null,null,null,null,null,null,null,null,null,null,null,null,null,null,null,null,null,null,null,null,null,null,null,null,null,null,null,null,null,null,null,null,null,null,null,null,null,null,null,null,null,null,null,null,null,null,null,null,null,null,null,null,null,null,null,null,null,null,null,null,null,null,null,null,null,null,null,null,null,null,null,null,null,null,null,null,null,null,null,null,null,null,null,null,null,null,null,null,null,null,null,null,null,null,null,null,null,null,null,null,null,null,null,null,null,null,null,null,null,null,null,null,null,null,null,null,null,null,null,null,null,null,null,null,null,null,null,null,null,null,null,null,null,null,null,null,null,null,null,null,null,null,null,null,null,null,null,null,null,null,null,null,null,null,null,null,null,null,null,null,null,null,null,null,null,null,null,null,null,null,null,null,null,null,null,null,null,null,null,null,null,null,null,null,null,null,null,null,null,null,null,null,null,null,null,null,null,null,null,null,null,null,null,null,null,null,null,null,null,null,null,null,null,null,null,null,null,null,null,null,null,null,null,null,null,null,null,null,null,null,null,null,null,null,null,null,null,null,null,null,null,null,null,null,null,null,null,null,null,null,null,null,null,null,null,null,null,null,null,null,null,null,null,null,null,null,null,null,null,null,null,null,null,null,null,null,null,null,null,null,null,null,null,null,null,null,null,null,null,null,null,null,null,null,null,null,null,null,null,null,null,null,null,null,null,null,null,null,null,null,null,null,null,null,null,null,null,null,null,null,null,null,null,null,null,null,null,null,null,null,null,null,null,null,null,null,null,null,null,null,null,null,null,null,null,null,null,null,null,null,null,null,null,null,null,null,null,null,null,null,null,null,null,null,null,null,null,null,null,null,null,null,null,null,null,null,null,null,null,null,null,null,null,null,null,null,null,null,null,null,null,null,null,null,null,null,null,null,null,null,null,null,null,null,null,null,null,null,null,null,null,null,null,null,null,null,null,null,null,null,null,null,null,null,null,null,null,null,null,null,null,null,null,null,null,null,null,null,null,null,null,null,null,null,null,null,null,null,"FT","Matches","Win","Draw","Loss","Get","Miss","Pts","Rank","Rate","FT","Matches","Win","Draw","Loss","Get","Miss","Pts","Rank","Rate",null,null,null,null,null,null,null,null,null,null,null,null,null,null,null,null,null,null,null,null,null,"FT","Matches","Win","Draw","Loss","Get","Miss","Pts","Rank","Rate","FT","Matches","Win","Draw","Loss","Get","Miss","Pts","Rank","Rate",null,null,null,null,null,null,null,null,null,null,null,null,null,null,null,null,null,null,null,null,null,null,null,null,null,null,null,null,null,null,null,null,null,null,null,null,null,null,null,null,null,null,null,null,null,null,null,null,null,null,null,null,null,null,null,null,null,null,null,null,null,null,null,null,null,null,null,null,null,null,null,null,null,null,null,null,null,null,null,null,null,null,null,null,null,null,null,null,null,null,null,null,null,null,null,null,null,null,null,null,null,null,null,null,null,null,null,null,null,null,null,null,null,null,null,null,null,null,null,null,null,null,null,null,null,null,null,null,null,null,null,null,null,null,null,null,null,null,null,null,null,null,null,null,null,null,null,null,null,null,null,null,null,null,null,null,null,null,null,null,null,null,null,null,null,null,null,null,null,null,null,null,null,null,null,null,null,null,null,null,null,null,null,null,null,null,null,null,null,null,null,null,null,null,null,null,null,null,null,null,null,null,null,null,null,null,null,null,null,null,null,null,null,null,null,null,null,null,null,null,null,null,null,null,null,null,null,null,null,null,null,null,null,null,null,null,"FT","Matches","Win","Draw","Loss","Get","Miss","Pts","Rank","Rate","FT","Matches","Win","Draw","Loss","Get","Miss","Pts","Rank","Rate",null,null,null,null,null,null,null,null,null,null,null,null,null,null,null,null,null,null,null,null,null,"FT","Matches","Win","Draw","Loss","Get","Miss","Pts","Rank","Rate","FT","Matches","Win","Draw","Loss","Get","Miss","Pts","Rank","Rate",null,null,null,null,null,null,null,null,null,null,null,null,null,null,null,null,null,null,null,null,null,null,null,null,null,null,null,null,null,null,null,null,null,null,null,null,null,null,null,null,null,null,null,null,null,null,null,null,null,null,null,null,null,null,null,null,null,null,null,null,null,null,null,null,null,null,null,null,null,null,null,null,null,null,null,null,null,null,null,null,null,null,null,null,null,null,null,null,null,null,null,null,null,null,null,null,null,null,null,null,null,null,null,null,null,null,null,null,null,null,null,null,null,null,null,null,null,null,null,null,null,null,null,null,null,null,null,null,null,null,null,null,null,null,null,null,null,null,null,null,null,null,null,null,null,null,null,null,null,null,null,null,null,null,null,null,null,null,null,null,null,null,null,null,null,null,null,null,null,null,null,null,null,null,null,null,null,null,null,null,null,null,null,null,null,null,null,null,null,null,null,null,null,null,null,null,null,null,null,null,null,null,null,null,null,null,null,null,null,null,null,null,null,null,null,null,null,null,null,null,null,null,null,null,null,null,null,null,null,null,null,null,null,null,null,null,null,null,null,null,null,null,null,null,null,null,null,null,null,null,null,null,null,null,null,null,null,null,null,null,null,null,null,null,null,null,null,null,null,null,null,null,null,null,null,null,null,null,null,null,null,null,null,null,null,null,null,null,null,null,null,null,null,null,null,null,null,null,null,null,null,null,null,null,null,null,null,null,null,null,null,null,null,null,null,null,null,null,null,null,null,null,null,null,null,null,null,null,null,null,null,null,null,null,null,null,null,null,null,null,null,null,null,null,null,null,null,null,null,null,null,null,null,null,null,null,null,null,null,null,null,null,null,null,null,null,null,null,null,null,null,null,null,null,null,null,null,null,null,null,null,null,null,null,null,null,null,null,null,null,null,null,null,null,null,null,null,null,null,null,null,null,null,null,null,null,null,null,null,null,null,null,null,null,null,null,null,null,null,null,null,null,null,null,null,null,null,null,null,null,null,null,null,null,null,null,null,null,null,null,null,null,null,null,null,null,null,null,null,null,null,null,null,null,null,null,null,null,null,null,null,null,null,null,null,null,null,null,null,null,null,null,null,null,null,null,null,null,null,null,null,null,null,null,null,null,null,null,null,null,null,null,null,null,null,null,null,null,null,null,null,null,null,null,null,null,null,null,null,null,null,null,null,null,null,null,null,null,null,null,null,null,null,null,null,null,null,null,null,null,null,null,null,null,null,null,null,null,null,null,null,null,null,null,null,null,null,null,null,null,null,null,null,null,null,null,null,null,null,null,null,null,null,null,null,null,null,null,null,null,null,null,null,null,null,null,null,null,null,null,null,null,null,null,null,null,null,null,null,null,null,null,null,"FT","Matches","Win","Draw","Loss","Get","Miss","Pts","Rank","Rate","FT","Matches","Win","Draw","Loss","Get","Miss","Pts","Rank","Rate",null,null,null,null,null,null,null,null,null,null,null,null,null,null,null,null,null,null,null,null,null,"FT","Matches","Win","Draw","Loss","Get","Miss","Pts","Rank","Rate","FT","Matches","Win","Draw","Loss","Get","Miss","Pts","Rank","Rate",null,null,null,null,null,null,null,null,null,null,null,null,null,null,null,null,null,null,null,null,null,null,null,null,null,null,null,null,null,null,null,null,null,null,null,null,null,null,null,null,null,null,null,null,null,null,null,null,null,null,null,null,null,null,null,null,null,null,null,null,null,null,null,null,null,null,null,null,null,null,null,null,null,null,null,null,null,null,null,null,null,null,null,null,null,null,null,null,null,null,null,null,null,null,null,null,null,null,null,null,null,null,null,null,null,null,null,null,null,null,null,null,null,null,null,null,null,null,null,null,null,null,null,null,null,null,null,null,null,null,null,null,null,null,null,null,null,null,null,null,null,null,null,null,null,null,null,null,null,null,null,null,null,null,null,null,null,null,null,null,null,null,null,null,null,null,null,null,null,null,null,null,null,null,null,null,null,null,null,null,null,null,null,null,null,null,null,null,null,null,null,null,null,null,null,null,null,null,null,null,null,null,null,null,null,null,null,null,null,null,null,null,null,null,null,null,null,null,null,null,null,null,null,null,null,null,null,null,null,null,null,null,null,null,null,null,null,null,null,null,null,null,null,null,null,null,null,null,null,null,null,null,null,null,null,null,null,null,null,null,null,null,null,null,null,null,null,null,null,null,null,null,null,null,null,null,null,null,null,null,null,null,null,null,null,null,null,null,null,null,null,null,null,null,null,null,null,null,null,null,null,null,null,null,null,null,null,null,null,null,null,null,null,null,null,null,null,null,null,null,null,null,null,null,null,null,null,null,null,null,null,null,null,null,null,null,null,null,null,null,null,null,null,null,null,null,null,null,null,null,null,null,null,null,null,null,null,null,null,null,null,null,null,null,null,null,null,null,null,null,null,null,null,null,null,null,null,null,null,null,null,null,null,null,null,null,null,null,null,null,null,null,null,null,null,null,null,null,null,null,null,null,null,null,null,null,null,null,null,null,null,null,null,null,null,null,null,null,null,null,null,null,null,null,null,null,null,null,null,null,null,null,null,null,null,null,null,null,null,null,null,null,null,null,null,null,null,null,null,null,null,null,null,null,null,null,null,null,null,null,null,null,null,null,null,null,null,null,null,null,null,null,null,null,null,null,null,null,null,null,null,null,null,null,null,null,null,null,null,null,null,null,null,null,null,null,null,null,null,null,null,null,null,null,null,null,null,null,null,null,null,null,null,null,null,null,null,null,null,null,null,null,null,null,null,null,null,null,null,null,null,null,null,null,null,null,null,null,null,null,null,null,null,null,null,null,null,null,null,null,null,null,null,null,null,null,null,null,null,null,null,null,null,null,null,null,null,null,null,null,null,null,null,null,null,null,null,null,null,null,null,null,null,null,null,null,null,null,null,null,null,null,null,null,null,null,null,null,null,null,null,null,null,null,null,null,null,null,null,null,null,null,null,null,null,null,null,null,null,null,null,null,null,null,null,null,null,null,null,null,null,null,null,null,null,null,null,null,null,null,null,null,null,null,null,null,null,null,null,null,null,null,null,null,null,null,null,null,null,null,null,null,null,null,null,null,null,null,null,null,null,null,null,null,null,null,null,null,null,null,null,null,null,null,null,null,null,null,null,null,null,null,null,null,null,null,null,null,null,null,null,null,null,null,null,null,null,null,null,null,null,null,null,null,null,null,null,null,null,null,null,null,null,null,null,null,null,null,null,null,null,null,null,null,null,null,null,null,null,null,null,null,null,null,null,null,null,null,null,null,null,null,null,null,null,null,null,null,null,null,null,null,null,null,null,null,null,null,null,null,null,null,null,null,null,null,null,null,null,null,null,null,null,null,null,null,null,null,null,null,null,null,null,null,null,null,null,null,null,null,null,null,null,null,null,null,null,null,null,null,null,null,null,null,null,null,null,null,null,null,null,null,null,null,null,null,null,null,null,null,null,null,null,null,null,null,null,null,null,null,null,null,null,null,null,null,null,null,null,null,null,null,null,null,null,null,null,null,null,null,null,null,null,null,null,null,null,null,null,null,null,null,null,null,null,null,null,null,null,null,null,null,null,null,null,null,null,null,null,null,null,null,null,null,null,null,null,null,null,null,null,null,null,null,null,null,null,null,null,null,null,null,null,null,null,null,null,null,null,null,null,null,null,null,null,null,null,null,null,null,null,null,null,null,null,null,null,null,null,null,null,null,null,null,null,null,null,null,null,null,null,null,null,null,null,null,null,null,null,null,null,null,null,null,null,null,null,null,null,null,null,null,null,null,null,null,null,null,null,null,null,null,null,null,null,null,null,null,null,null,null,null,null,null,null,null,null,null,null,null,null,null,null,null,null,null,null,null,null,null,null,null,null,null,null,null,null,null,null,null,null,null,null,null,null,null,null,null,null,null,null,null,null,null,null,null,null,null,null,null,null,null,null,null,null,null,null,null,null,null,null,null,null,null,null,null,null,null,null,null,null,null,null,null,null,null,null,null,null,null,null,null,null,null,null,null,null,null,null,null,null,null,null,null,null,null,null,null,null,null,null,null,null,null,null,null,null,null,null,null,null,null,null,null,null,null,null,null,null,null,null,null,null,null,null,null,null,null,null,null,null,null,null,null,null,null,null,null,null,null,null,null,null,null,null,null,null,null,null,null,null,null,null,null,null,null,null,null,null,null,null,null,null,null,null,null,null,null,null,null,null,null,null,null,null,null,null,null,null,null,null,null,null,null,null,null,null,null,null,null,null,null,null,null,null,null,null,null,null,null,null,null,null,null,null,null,null,null,null,null,null,null,null,null,null,null,null,null,null,null,null,null,null,null,null,null,null,null,null,null,null,null,null,null,null,null,null,null,null,null,null,null,null,null,null,null,null,null,null,null,null,null,null,null,null,null,null,null,null,null,null,null,null,null,null,null,null,null,null,null,null,null,null,null,null,null,null,null,null,null,null,null,null,null,null,null,null,null,null,null,null,null,null,null,null,null,null,null,null,null,null,null,null,null,null,null,null,null,null,null,null,null,null,null,null,null,null,null,null,null,null,null,null,null,null,null,null,null,null,null,null,null,null,null,null,null,null,null,null,null,null,null,null,null,null,null,null,null,null,null,null,null,null,null,null,null,null,null,null,null,null,null,null,null,null,null,null,null,null,null,null,null,null,null,null,null,null,null,null,null,null,null,null,null,null,null,null,null,null,null,null,null,null,null,null,null,null,null,null,null,null,null,null,null,null,null,null,null,null,null,null,null,null,null,null,null,null,null,null,null,null,null,null,null,null,null,null,null,null,null,null,null,null,null,null,null,null,null,null,null,null,null,null,null,null,null,null,null,null,null,null,null,null,null,null,null,null,null,null,null,null,null,null,null,null,null,null,null,null,null,null,null,null,null,null,null,null,null,null,null,null,null,null,null,null,null,null,null,null,null,null,null,null,null,null,null,null,null,null,null,null,null,null,null,null,null,null,null,null,null,null,null,null,null,null,null,null,null,null,null,null,null,null,null,null,null,null,null,null,null,null,null,null,null,null,null,null,null,null,null,null,null,null,null,null,null,null,null,null,null,null,null,null,null,null,null,null,null,null,null,null,null,null,null,null,null,null,null,null,null,null,null,null,null,null,null,null,null,null,null,null,null,null,null,null,null,null,null,null,null,null,null,null,null,null,null,null,null,null,null,null,null,null,null,null,null,null,null,null,null,null,null,null,null,null,null,null,null,null,null,null,null,null,null,null,null,null,null,null,null,null,null,null,null,null,null,null,null,null,null,null,null,null,null,null,null,null,null,null,null,null,null,null,null,null,null,null,null,null,null,null,null,null,null,null,null,null,null,null,null,null,null,null,null,null,null,null,null,null,null,null,null,null,null,null,null,null,null,null,null,null,null,null,null,null,null,null,null,null,null,null,null,null,null,null,null,null,null,null,null,null,null,null,null,null,null,null,null,null,null,null,null,null,null,null,null,null,null,null,null,null,null,null,null,null,null,null,null,null,null,null,null,null,null,null,null,null,null,null,null,null,null,null,null,null,null,null,null,null,null,null,null,null,null,null,null,null,null,null,null,null,null,null,null,null,null,null,null,null,null,null,null,null,null,null,null,null,null,null,null,null,null,null,null,null,null,null,null,null,null,null,null,null,null,null,null,null,null,null,null,null,null,null,null,null,null,null,null,null,null,null,null,null,null,null,null,null,null,null,null,null,null,null,null,null,null,null,null,null,null,null,null,null,null,null,null,null,null,null,null,null,null,null,null,null,null,null,null,null,null,null,null,null,null,null,null,null,null,null,null,null,null,null,null,null,null,null,null,null,null,null,null,null,null,null,null,null,null,null,null,null,null,null,null,null,null,null,null,null,null,null,null,null,null,null,null,null,null,null,null,null,null,null,null,null,null,null,null,null,null,null,null,null,null,null,null,null,null,null,null,null,null,null,null,null,null,null,null,null,null,null,null,null,null,null,null,null,null,null,null,null,null,null,null,null,null,null,null,null,null,null,null,null,null,null,null,null,null,null,null,null,null,null,null,null,null,null,null,null,null,null,null,null,null,null,null,null,null,null,null,null,null,null,null,null,null,null,null,null,null,null,null,null,null,null,null,null,null,null,null,null,null,null,null,null,null,null,null,null,null,null,null,null,null,null,null,null,null,null,null,null,null,null,null,null,null,null,null,null,null,null,null,null,null,null,null,null,null,null,null,null,null,null,null,null,null,null,null,null,null,null,null,null,null,null,null,null,null,null,null,null,null,null,null,null,null,null,null,null,null,null,null,null,null,null,null,null,null,null,null,null,null,null,null,null,null,null,null,null,null,null,null,null,null,null,null,null,null,null,null,null,null,null,null,null,null,null,null,null,null,null,null,null,null,null,null,null,null,null,null,null,null,null,null,null,null,null,null,null,null,null,null,null,null,null,null,null,null,null,null,null,null,null,null,null,null,null,null,null,null,null,null,null,null,null,null,null,null,null,null,null,null,null,null,null,null,null,null,null,null,null,null,null,null,null,null,null,null,null,null,null,null,null,null,null,null,null,null,null,null,null,null,null,null,null,null,null,null,null,null,null,null,null,null,null,null,null,null,null,null,null,null,null,null,null,null,null,null,null,null,null,null,null,null,null,null,null,null,null,null,null,null,null,null,null,null,null,null,null,null,null,null,null,null,null,null,null,null,null,null,null,null,null,null,null,null,null,null,null,null,null,null,null,null,null,null,null,null,null,null,null,null,null,null,null,null,null,null,null,null,null,null,null,null,null,null,null,null,null,null,null,null,null,null,null,null,null,null,null,null,null,null,null,null,null,null,null,null,null,null,null,null,null,null,null,null,null,null,null,null,null,null,null,null,null,null,null,null,null,null,null,null,null,null,null,null,null,null,null,null,null,null,null,null,null,null,null,null,null,null,null,null,null,null,null,null,null,null,null,null,null,null,null,null,null,null,null,null,null,null,null,null,null,null,null,null,null,null,null,null,null,null,null,null,null,null,null,null,null,null,null,null,null,null,null,null,null,null,null,null,null,null,null,null,null,null,null,null,null,null,null,null,null,null,null,null,null,null,null,null,null,null,null,null,null,null,null,null,null,null,null,null,null,null,null,null,null,null,null,null,null,"FT","Matches","Win","Draw","Loss","Get","Miss","Pts","Rank","Rate","FT","Matches","Win","Draw","Loss","Get","Miss","Pts","Rank","Rate",null,null,null,null,null,null,null,null,null,null,null,null,null,null,null,null,null,null,null,null,null,"FT","Matches","Win","Draw","Loss","Get","Miss","Pts","Rank","Rate","FT","Matches","Win","Draw","Loss","Get","Miss","Pts","Rank","Rate",null,null,null,null,null,null,null,null,null,null,null,null,null,null,null,null,null,null,null,null,null,null,null,null,null,null,null,null,null,null,null,null,null,null,null,null,null,null,null,null,null,null,null,null,null,null,null,null,null,null,null,null,null,null,null,null,null,null,null,null,null,null,null,null,null,null,null,null,null,null,null,null,null,null,null,null,null,null,null,null,null,null,null,null,null,null,null,null,null,null,null,null,null,null,null,null,null,null,null,null,null,null,null,null,null,null,null,null,null,null,null,null,null,null,null,null,null,null,null,null,null,null,null,null,null,null,null,null,null,null,null,null,null,null,null,null,null,null,null,null,null,null,null,null,null,null,null,null,null,null,null,null,null,null,null,null,null,null,null,null,null,null,null,null,null,null,null,null,null,null,null,null,null,null,null,null,null,null,null,null,null,null,null,null,null,null,null,null,null,null,null,null,null,null,null,null,null,null,null,null,null,null,null,null,null,null,null,null,null,null,null,null,null,null,null,null,null,null,null,null,null,null,null,null,null,null,null,null,null,null,null,null,null,null,null,null,null,null,null,null,null,null,null,null,null,null,null,null,null,null,null,null,null,null,null,null,null,null,null,null,null,null,null,null,null,null,null,null,null,null,null,null,null,null,null,null,null,null,null,null,null,null,null,null,null,null,null,null,null,null,null,null,null,null,null,null,null,null,null,"FT","Matches","Win","Draw","Loss","Get","Miss","Pts","Rank","Rate","FT","Matches","Win","Draw","Loss","Get","Miss","Pts","Rank","Rate",null,null,null,null,null,null,null,null,null,null,null,null,null,null,null,null,null,null,null,null,null,"FT","Matches","Win","Draw","Loss","Get","Miss","Pts","Rank","Rate","FT","Matches","Win","Draw","Loss","Get","Miss","Pts","Rank","Rate",null,null,null,null,null,null,null,null,null,null,null,null,null,null,null,null,null,null,null,null,null,null,null,null,null,null,null,null,null,null,null,null,null,null,null,null,null,null,null,null,null,null,null,null,null,null,null,null,null,null,null,null,null,null,null,null,null,null,null,null,null,null,null,null,null,null,null,null,null,null,null,null,null,null,null,null,null,null,null,null,null,null,null,null,null,null,null,null,null,null,null,null,null,null,null,null,null,null,null,null,null,null,null,null,null,null,null,null,null,null,null,null,null,null,null,null,null,null,null,null,null,null,null,null,null,null,null,null,null,null,null,null,null,null,null,null,null,null,null,null,null,null,null,null,null,null,null,null,null,null,null,null,null,null,null,null,null,null,null,null,null,null,null,null,null,null,null,null,null,null,null,null,null,null,null,null,null,null,null,null,null,null,null,null,null,null,null,null,null,null,null,null,null,null,null,null,null,null,null,null,null,null,null,null,null,null,null,null,null,null,null,null,null,null,null,null,null,null,null,null,null,null,null,null,null,null,null,null,null,null,null,null,null,null,null,null,null,null,null,null,null,null,null,null,null,null,null,null,null,null,null,null,null,null,null,null,null,null,null,null,null,null,null,null,null,null,null,null,null,null,null,null,null,null,null,null,null,null,null,null,null,null,null,null,null,null,null,null,null,null,null,null,null,null,null,null,null,null,null,null,null,null,null,null,null,null,null,null,null,null,null,null,null,null,null,null,null,null,null,null,null,null,null,null,null,null,null,null,null,null,null,null,null,null,null,null,null,null,null,null,null,null,null,null,null,null,null,null,null,null,null,null,null,null,null,null,null,null,null,null,null,null,null,null,null,null,null,null,null,null,null,null,null,null,null,null,null,null,null,null,null,null,null,null,null,null,null,null,null,null,null,null,null,null,null,null,null,null,null,null,null,null,null,null,null,null,null,null,null,null,null,null,null,null,null,null,null,null,null,null,null,null,null,null,null,null,null,null,null,null,null,null,null,null,null,null,null,null,null,null,null,null,null,null,null,null,null,null,null,null,null,null,null,null,null,null,null,null,null,null,null,null,null,null,null,null,null,null,null,null,null,null,null,null,null,null,null,null,null,null,null,null,null,null,null,null,null,null,null,null,null,null,null,null,null,null,null,null,null,null,null,null,null,null,null,null,null,null,null,null,null,null,null,null,null,null,null,null,null,null,null,null,null,null,null,null,null,null,null,null,null,null,null,null,null,null,null,null,null,null,null,null,null,null,null,null,null,null,null,null,null,null,null,null,null,null,null,null,null,null,null,null,null,null,null,null,null,null,null,null,null,null,null,null,null,null,null,null,null,null,null,null,null,null,null,null,null,null,null,null,null,null,null,null,null,null,null,null,null,null,null,null,null,null,null,null,null,null,null,null,null,null,null,null,null,null,null,null,null,null,null,null,null,null,null,null,null,null,null,null,null,null,null,null,null,null,null,null,null,null,null,null,null,null,null,null,null,null,null,null,null,null,null,null,null,null,null,null,null,null,null,null,null,null,null,null,null,null,null,null,null,null,null,null,null,null,null,null,null,null,null,null,null,null,null,null,null,null,null,null,null,null,null,null,null,null,null,null,null,null,null,null,null,null,null,null,null,null,null,null,null,null,null,null,null,null,null,null,null,null,null,null,null,null,null,null,null,null,null,null,null,null,null,null,null,null,null,null,null,null,null,null,null,null,null,null,null,null,null,null,null,null,null,null,null,null,null,null,null,null,null,null,null,null,null,null,null,null,null,null,null,null,null,null,null,null,null,null,null,null,null,null,null,null,null,null,null,null,null,null,null,null,null,null,null,null,null,null,null,null,null,null,null,null,null,null,null,null,null,null,null,null,null,null,null,null,null,null,null,null,"Loss","Get","Miss","Pts","Rank","Rate",null,null,"Matches","Win","Draw","Loss","Get","Miss","Pts","Rank","Rate","FT","Matches","Win","Draw","Loss","Get","Miss","Pts","Rank","Rate",null,null,null,null,null,null,null,null,null,null,null,null,null,null,null,null,null,null,null,null,null,null,null,null,"Matches","Win","Draw","Loss","Get","Miss","Pts","Rank","Rate","FT","Matches","Win","Draw","Loss","Get","Miss","Pts","Rank","Rate",null,null,"Matches","Win","Draw","Loss","Get","Miss","Pts","Rank","Rate","FT","Matches","Win","Draw","Loss","Get","Miss","Pts","Rank","Rate"]
[null,null,null,null,null,null,null,null,null,null,null,null,null,null,null,null,null,null,null,null,null,null,null,null,null,null,null,null,null,null,null,null,null,null,null,null,null,null,null,null,null,null,null,null,null,null,null,null,null,null,null,null,null,null,null,null,null,null,null,null,null,null,null,null,null,null,null,null,null,null,null,null,null,null,null,null,null,null,null,null,null,null,null,null,null,null,null,null,null,null,null,null,null,null,null,null,null,null,null,null,null,null,null,null,null,null,null,null,null,null,null,null,null,null,null,null,null,null,null,null,null,null,null,null,null,null,null,null,null,null,null,null,null,null,null,null,null,null,null,null,null,null,null,null,null,null,null,null,null,null,null,null,null,null,null,null,null,null,null,null,null,null,null,null,null,null,null,null,null,null,null,null,null,null,null,null,null,null,null,null,null,null,null,null,null,null,null,null,null,null,null,null,null,null,null,null,null,null,null,null,null,null,null,null,null,null,null,null,null,null,null,null,null,null,null,null,null,null,null,null,null,null,null,null,null,null,null,null,null,null,null,null,null,null,null,null,null,null,null,null,null,null,null,null,null,null,null,null,null,null,null,null,null,null,null,null,null,null,null,null,null,null,null,null,null,null,null,null,null,null,null,null,null,null,null,null,null,null,null,null,null,null,null,null,null,null,null,null,null,null,null,null,null,null,null,null,null,null,null,null,null,null,null,null,null,null,null,null,null,null,null,null,null,null,null,null,null,null,null,null,null,null,null,null,null,null,null,null,null,null,null,null,null,null,null,null,null,null,null,null,null,null,null,null,null,null,null,null,null,null,null,null,null,null,null,null,null,null,null,null,null,null,null,null,null,null,null,null,null,null,null,null,null,null,null,null,null,null,null,null,null,null,null,null,null,null,null,null,null,null,null,null,null,null,null,null,null,null,null,null,null,null,null,null,null,null,null,null,null,null,null,null,null,null,null,null,null,null,null,null,null,null,null,null,null,null,null,null,null,null,null,null,null,null,null,null,null,null,null,null,null,null,null,null,null,null,null,null,null,null,null,null,null,null,null,null,null,null,null,null,null,null,null,null,null,null,null,null,null,null,null,null,null,null,null,null,null,null,null,null,null,null,null,null,null,null,null,null,null,null,null,null,null,null,null,null,null,null,null,null,null,null,null,null,null,null,null,null,null,null,null,null,null,null,null,null,null,null,null,null,null,null,null,null,null,null,null,null,null,null,null,null,null,null,null,null,null,null,null,null,null,null,null,null,null,null,null,null,null,null,null,null,null,null,null,null,null,null,null,null,null,null,null,null,null,null,null,null,null,null,null,null,null,null,null,null,null,null,null,null,null,null,null,null,null,null,null,null,null,null,null,null,null,null,null,null,null,null,null,null,null,null,null,null,null,null,null,null,null,null,null,null,null,null,null,null,null,null,null,null,null,null,null,null,null,null,null,null,null,null,null,null,null,null,null,null,null,null,null,null,null,null,null,null,null,null,null,null,null,null,null,null,null,null,null,null,null,null,null,null,null,null,null,null,null,null,null,null,null,null,null,null,null,null,null,null,null,null,null,null,null,null,null,null,null,null,null,null,null,null,null,null,null,null,null,null,null,null,null,null,null,null,null,null,null,null,null,null,null,null,null,null,null,null,null,null,null,null,null,null,null,null,null,null,null,null,null,null,null,null,null,null,null,null,null,null,null,null,null,null,null,null,null,null,null,null,null,null,null,null,null,null,null,null,null,null,null,null,null,null,null,null,null,null,null,null,null,null,null,null,null,null,null,null,null,null,null,null,null,null,null,null,null,null,null,null,null,null,null,null,null,null,null,null,null,null,null,null,null,null,null,null,null,null,null,null,null,null,null,null,null,null,null,null,null,null,null,null,null,null,null,null,null,null,null,null,null,null,null,null,null,null,null,null,null,null,null,null,null,null,null,null,null,null,null,null,null,null,null,null,null,null,null,null,null,null,null,null,null,null,null,null,null,null,null,null,null,null,null,null,null,null,null,null,null,null,null,null,null,null,null,null,null,null,null,null,null,null,null,null,null,null,null,null,null,null,null,null,null,null,null,null,null,null,null,null,null,null,null,null,null,null,null,null,null,null,null,null,null,null,null,null,null,null,null,null,null,null,null,null,null,null,null,null,null,null,null,null,null,null,null,null,null,null,null,null,null,null,null,null,null,null,null,null,null,null,null,null,null,null,null,null,null,null,null,null,null,null,null,null,null,null,null,null,null,null,null,null,null,null,null,null,null,null,null,null,null,null,null,null,null,null,null,null,null,null,null,null,null,null,null,null,null,null,null,null,null,null,null,null,null,null,null,null,null,null,null,null,null,null,null,null,null,null,null,null,null,null,null,null,null,null,null,null,null,null,null,null,null,null,null,null,null,null,null,null,null,null,null,null,null,null,null,null,null,null,null,null,null,null,null,null,null,null,null,null,null,null,null,null,null,null,null,null,null,null,null,null,null,null,null,null,null,null,null,null,null,null,null,null,null,null,null,null,null,null,null,null,null,null,null,null,null,null,null,null,null,null,null,null,null,null,null,null,null,null,null,null,null,null,null,null,null,null,null,null,null,null,null,null,null,null,null,null,null,null,null,null,null,null,null,null,null,null,null,null,null,null,null,null,null,null,null,null,null,null,null,null,null,null,null,null,null,null,null,null,null,null,null,null,null,null,null,null,null,null,null,null,null,null,null,null,null,null,null,null,null,null,null,null,null,null,null,null,null,null,null,null,null,null,null,null,null,null,null,null,null,null,null,null,null,null,null,null,null,null,null,null,null,null,null,null,null,null,null,null,null,null,null,null,null,null,null,null,null,null,null,null,null,null,null,null,null,null,null,null,null,null,null,null,null,null,null,null,null,null,null,null,null,null,null,null,null,null,null,null,null,null,null,null,null,null,null,null,null,null,null,null,null,null,null,null,null,null,null,null,null,null,null,null,null,null,null,null,null,null,null,null,null,null,null,null,null,null,null,null,null,null,null,null,null,null,null,null,null,null,null,null,null,null,null,null,null,null,null,null,null,null,null,null,null,null,null,null,null,null,null,null,null,null,null,null,null,null,null,null,null,null,null,null,null,null,null,null,null,null,null,null,null,null,null,null,null,null,null,null,null,null,null,null,null,null,null,null,null,null,null,null,null,null,null,null,null,null,null,null,null,null,null,null,null,null,null,null,null,null,null,null,null,null,null,null,null,null,null,null,null,null,null,null,null,null,null,null,null,null,null,null,null,null,null,null,null,null,null,null,null,null,null,null,null,null,null,null,null,null,null,null,null,null,null,null,null,null,null,null,null,null,null,null,null,null,null,null,null,null,null,null,null,null,null,null,null,null,null,null,null,null,null,null,null,null,null,null,null,null,null,null,null,null,null,null,null,null,null,null,null,null,null,null,null,null,null,null,null,null,null,null,null,null,null,null,null,null,null,null,null,null,null,null,null,null,null,null,null,null,null,null,null,null,null,null,null,null,null,null,null,null,null,null,null,null,null,null,null,null,null,null,null,null,null,null,null,null,null,null,null,null,null,null,null,null,null,null,null,null,null,null,null,null,null,null,null,null,null,null,null,null,null,null,null,null,null,null,null,null,null,null,null,null,null,null,null,null,null,null,null,null,null,null,null,null,null,null,null,null,null,null,null,null,null,null,null,null,null,null,null,null,null,null,null,null,null,null,null,null,null,null,null,null,null,null,null,null,null,null,null,null,null,null,null,null,null,null,null,null,null,null,null,null,null,null,null,null,null,null,null,null,null,null,null,null,null,null,null,null,null,null,null,null,null,null,null,null,null,null,null,null,null,null,null,null,null,null,null,null,null,null,null,null,null,null,null,null,null,null,null,null,null,null,null,null,null,null,null,null,null,null,null,null,null,null,null,null,null,null,null,null,null,null,null,null,null,null,null,null,null,null,null,null,null,null,null,null,null,null,null,null,null,null,null,null,null,null,null,null,null,null,null,null,null,null,null,null,null,null,null,null,null,null,null,null,null,null,null,null,null,null,null,null,null,null,null,null,null,null,null,null,null,null,null,null,null,null,null,null,null,null,null,null,null,null,null,null,null,null,null,null,null,null,null,null,null,null,null,null,null,null,null,null,null,null,null,null,null,null,null,null,null,null,null,null,null,null,null,null,null,null,null,null,null,null,null,null,null,null,null,null,null,null,null,null,null,null,null,null,null,null,null,null,null,null,null,null,null,null,null,null,null,null,null,null,null,null,null,null,null,null,null,null,null,null,null,null,null,null,null,null,null,null,null,null,null,null,null,null,null,null,null,null,null,null,null,null,null,null,null,null,null,null,null,null,null,null,null,null,null,null,null,null,null,null,null,null,null,null,null,null,null,null,null,null,null,null,null,null,null,null,null,null,null,null,null,null,null,null,null,null,null,null,null,null,null,null,null,null,null,null,null,null,null,null,null,null,null,null,null,null,null,null,null,null,null,null,null,null,null,null,null,null,null,null,null,null,null,null,null,null,null,null,null,null,null,null,null,null,null,null,null,null,null,null,null,null,null,null,null,null,null,null,null,null,null,null,null,null,null,null,null,null,null,null,null,null,null,null,null,null,null,null,null,null,null,null,null,null,null,null,null,null,null,null,null,null,null,null,null,null,null,null,null,null,null,null,null,null,null,null,null,null,null,null,null,null,null,null,null,null,null,null,null,null,null,null,null,null,null,null,null,null,null,null,null,null,null,null,null,null,null,null,null,null,null,null,null,null,null,null,null,null,null,null,null,null,null,null,null,null,null,null,null,null,null,null,null,null,null,null,null,null,null,null,null,null,null,null,null,null,null,null,null,null,null,null,null,null,null,null,null,null,null,null,null,null,null,null,null,null,null,null,null,null,null,null,null,null,null,null,null,null,null,null,null,null,null,null,null,null,null,null,null,null,null,null,null,null,null,null,null,null,null,null,null,null,null,null,null,null,null,null,null,null,null,null,null,null,null,null,null,null,null,null,null,null,null,null,null,null,null,null,null,null,null,null,null,null,null,null,null,null,null,null,null,null,null,null,null,null,null,null,null,null,null,null,null,null,null,null,null,null,null,null,null,null,null,null,null,null,null,null,null,null,null,null,null,null,null,null,null,null,null,null,null,null,null,null,null,null,null,null,null,null,null,null,null,null,null,null,null,null,null,null,null,null,null,null,null,null,null,null,null,null,null,null,null,null,null,null,null,null,null,null,null,null,null,null,null,null,null,null,null,null,null,null,null,null,null,null,null,null,null,null,null,null,null,null,null,null,null,null,null,null,null,null,null,null,null,null,null,null,null,null,null,null,null,null,null,null,null,null,null,null,null,null,null,null,null,null,null,null,null,null,null,null,null,null,null,null,null,null,null,null,null,null,null,null,null,null,null,null,null,null,null,null,null,null,null,null,null,null,null,null,null,null,null,null,null,null,null,null,null,null,null,null,null,null,null,null,null,null,null,null,null,null,null,null,null,null,null,null,null,null,null,null,null,null,null,null,null,null,null,null,null,null,null,null,null,null,null,null,null,null,null,null,null,null,null,null,null,null,null,null,null,null,null,null,null,null,null,null,null,null,null,"W/L","Total",6,4,0,2,9,6,12,4,"66.7%","Total",5,1,2,2,5,6,5,17,"20.0%","Odds","O/U",null,null,null,null,null,null,null,null,null,null,null,null,null,null,null,null,null,null,null,"Total",6,4,0,2,9,6,12,4,"66.7%","Total",5,1,2,2,5,6,5,17,"20.0%",null,null,null,null,null,null,null,null,null,null,null,null,null,null,null,null,null,null,null,null,null,null,null,null,null,null,null,null,null,null,null,null,null,null,null,null,null,null,null,null,null,null,null,null,null,null,null,null,null,null,null,null,null,null,null,null,null,null,null,null,null,null,null,null,null,null,null,null,null,null,null,null,null,null,null,null,null,null,null,null,null,null,null,null,null,null,null,null,null,null,null,null,null,null,null,null,null,null,null,null,null,null,null,null,null,null,null,null,null,null,null,null,null,null,null,null,null,null,null,null,null,null,null,null,null,null,null,null,null,null,null,null,null,null,null,null,null,null,null,null,null,null,null,null,null,null,null,null,null,null,null,null,null,null,null,null,null,null,null,null,null,null,null,null,null,null,null,null,null,null,null,null,null,null,null,null,null,null,null,null,null,null,null,null,null,null,null,null,null,null,null,null,null,null,null,null,null,null,null,null,null,null,null,null,null,null,null,null,null,null,null,null,null,null,null,null,null,null,null,null,null,null,null,null,null,null,null,null,null,null,null,null,null,null,null,"W/L","Total",24,6,14,4,24,20,32,9,"25.0%","Total",26,19,3,4,60,14,60,1,"73.1%","Odds","O/U",null,null,null,null,null,null,null,null,null,null,null,null,null,null,null,null,null,null,null,"Total",24,6,14,4,24,20,32,9,"25.0%","Total",26,19,3,4,60,14,60,1,"73.1%",null,null,null,null,null,null,null,null,null,null,null,null,null,null,null,null,null,null,null,null,null,null,null,null,null,null,null,null,null,null,null,null,null,null,null,null,null,null,null,null,null,null,null,null,null,null,null,null,null,null,null,null,null,null,null,null,null,null,null,null,null,null,null,null,null,null,null,null,null,null,null,null,null,null,null,null,null,null,null,null,null,null,null,null,null,null,null,null,null,null,null,null,null,null,null,null,null,null,null,null,null,null,null,null,null,null,null,null,null,null,null,null,null,null,null,null,null,null,null,null,null,null,null,null,null,null,null,null,null,null,null,null,null,null,null,null,null,null,null,null,null,null,null,null,null,null,null,null,null,null,null,null,null,null,null,null,null,null,null,null,null,null,null,null,null,null,null,null,null,null,null,null,null,null,null,null,null,null,null,null,null,null,null,null,null,null,null,null,null,null,null,null,null,null,null,null,null,null,null,null,null,null,null,null,null,null,null,null,null,null,null,null,null,null,null,null,null,null,null,null,null,null,null,null,null,null,null,null,null,null,null,null,null,null,null,null,null,null,null,null,null,null,null,null,null,null,null,null,null,null,null,null,null,null,null,null,null,null,null,null,null,null,null,null,null,null,null,null,null,null,null,null,null,null,null,null,null,null,null,null,null,null,null,null,null,null,null,null,null,null,null,null,null,null,null,null,null,null,null,null,null,null,null,null,null,null,null,null,null,null,null,null,null,null,null,null,null,null,null,null,null,null,null,null,null,null,null,null,null,null,null,null,null,null,null,null,null,null,null,null,null,null,null,null,null,null,null,null,null,null,null,null,null,null,null,null,null,null,null,null,null,null,null,null,null,null,null,null,null,null,null,null,null,null,null,null,null,null,null,null,null,null,null,null,null,null,null,null,null,null,null,null,null,null,null,null,null,null,null,null,null,null,null,null,null,null,null,null,null,null,null,null,null,null,null,null,null,null,null,null,null,null,null,null,null,null,null,null,null,null,null,null,null,null,null,null,null,null,null,null,null,null,null,null,null,null,null,null,null,null,null,null,null,null,null,null,null,null,null,null,null,null,null,null,null,null,null,null,null,null,null,null,null,null,null,null,null,null,null,null,null,null,null,null,null,null,null,null,null,null,null,null,null,null,null,null,null,null,null,null,null,null,null,null,null,null,null,null,null,null,null,null,null,null,null,null,null,null,null,null,null,null,null,null,null,null,null,null,null,null,null,null,null,null,null,null,null,null,null,null,null,null,null,null,null,null,null,null,null,null,null,null,null,null,null,null,null,null,null,null,null,null,null,null,null,null,null,null,null,null,null,null,null,null,null,null,null,null,null,null,null,null,null,null,null,null,null,null,null,null,null,null,"W/L","Total",23,9,9,5,29,21,36,5,"39.1%","Total",23,6,8,9,23,32,26,16,"26.1%","Odds","O/U",null,null,null,null,null,null,null,null,null,null,null,null,null,null,null,null,null,null,null,"Total",23,9,9,5,29,21,36,5,"39.1%","Total",23,6,8,9,23,32,26,16,"26.1%",null,null,null,null,null,null,null,null,null,null,null,null,null,null,null,null,null,null,null,null,null,null,null,null,null,null,null,null,null,null,null,null,null,null,null,null,null,null,null,null,null,null,null,null,null,null,null,null,null,null,null,null,null,null,null,null,null,null,null,null,null,null,null,null,null,null,null,null,null,null,null,null,null,null,null,null,null,null,null,null,null,null,null,null,null,null,null,null,null,null,null,null,null,null,null,null,null,null,null,null,null,null,null,null,null,null,null,null,null,null,null,null,null,null,null,null,null,null,null,null,null,null,null,null,null,null,null,null,null,null,null,null,null,null,null,null,null,null,null,null,null,null,null,null,null,null,null,null,null,null,null,null,null,null,null,null,null,null,null,null,null,null,null,null,null,null,null,null,null,null,null,null,null,null,null,null,null,null,null,null,null,null,null,null,null,null,null,null,null,null,null,null,null,null,null,null,null,null,null,null,null,null,null,null,null,null,null,null,null,null,null,null,null,null,null,null,null,null,null,null,null,null,null,null,null,null,null,null,null,null,null,null,null,null,null,null,null,null,null,null,null,null,null,null,null,null,null,null,null,null,null,null,null,null,null,null,null,null,null,null,null,null,null,null,null,null,null,null,null,null,null,null,null,null,null,null,null,null,null,null,null,null,null,null,null,null,null,null,null,null,null,null,null,null,null,null,null,null,null,null,null,null,null,null,null,null,null,null,null,null,null,null,null,null,null,null,null,null,null,null,null,null,null,null,null,null,null,null,null,null,null,null,null,null,null,null,null,null,null,null,null,null,null,null,null,null,null,null,null,null,null,null,null,null,null,null,null,null,null,null,null,null,null,null,null,null,null,null,null,null,null,null,null,null,null,null,null,null,null,null,null,null,null,null,null,null,null,null,null,null,null,null,null,null,null,null,null,null,null,null,null,null,null,null,null,null,null,null,null,null,null,null,null,null,null,null,null,null,null,null,null,null,null,null,null,null,null,null,null,null,null,null,null,null,null,null,null,null,null,null,null,null,null,null,null,null,null,null,null,null,null,null,null,null,null,null,null,null,null,null,null,null,null,null,null,null,null,null,null,null,null,null,null,null,null,null,null,null,null,null,null,null,null,null,null,null,null,null,null,null,null,null,null,null,null,null,null,null,null,null,null,null,null,null,null,null,null,null,null,null,null,null,null,null,null,null,null,null,null,null,null,null,null,null,null,null,null,null,null,null,null,null,null,null,null,null,null,null,null,null,null,null,null,null,null,null,null,null,null,null,null,null,null,null,null,null,null,null,null,null,null,null,null,null,null,null,null,null,null,null,null,null,null,null,null,null,null,null,null,null,null,null,null,null,null,null,null,null,null,null,null,null,null,null,null,null,null,null,null,null,null,null,null,null,null,null,null,null,null,null,null,null,null,null,null,null,null,null,null,null,null,null,null,null,null,null,null,null,null,null,null,null,null,null,null,null,null,null,null,null,null,null,null,null,null,null,null,null,null,null,null,null,null,null,null,null,null,null,null,null,null,null,null,null,null,null,null,null,null,null,null,null,null,null,null,null,null,null,null,null,null,null,null,null,null,null,null,null,null,null,null,null,null,null,null,null,null,null,null,null,null,null,null,null,null,null,null,null,null,null,null,null,null,null,null,null,null,null,null,null,null,null,null,null,null,null,null,null,null,null,null,null,null,null,null,null,null,null,null,null,null,null,null,null,null,null,null,null,null,null,null,null,null,null,null,null,null,null,null,null,null,null,null,null,null,null,null,null,null,null,null,null,null,null,null,null,null,null,null,null,null,null,null,null,null,null,null,null,null,null,null,null,null,null,null,null,null,null,null,null,null,null,null,null,null,null,null,null,null,null,null,null,null,null,null,null,null,null,null,null,null,null,null,null,null,null,null,null,null,null,null,null,null,null,null,null,null,null,null,null,null,null,null,null,null,null,null,null,null,null,null,null,null,null,null,null,null,null,null,null,null,null,null,null,null,null,null,null,null,null,null,null,null,null,null,null,null,null,null,null,null,null,null,null,null,null,null,null,null,null,null,null,null,null,null,null,null,null,null,null,null,null,null,null,null,null,null,null,null,null,null,null,null,null,null,null,null,null,null,null,null,null,null,null,null,null,null,null,null,null,null,null,null,null,null,null,null,null,null,null,null,null,null,null,null,null,null,null,null,null,null,null,null,null,null,null,null,null,null,null,null,null,null,null,null,null,null,null,null,null,null,null,null,null,null,null,null,null,null,null,null,null,null,null,null,null,null,null,null,null,null,null,null,null,null,null,null,null,null,null,null,null,null,null,null,null,null,null,null,null,null,null,null,null,null,null,null,null,null,null,null,null,null,null,null,null,null,null,null,null,null,null,null,null,null,null,null,null,null,null,null,null,null,null,null,null,null,null,null,null,null,null,null,null,null,null,null,null,null,null,null,null,null,null,null,null,null,null,null,null,null,null,null,null,null,null,null,null,null,null,null,null,null,null,null,null,null,null,null,null,null,null,null,null,null,null,null,null,null,null,null,null,null,null,null,null,null,null,null,null,null,null,null,null,null,null,null,null,null,null,null,null,null,null,null,null,null,null,null,null,null,null,null,null,null,null,null,null,null,null,null,null,null,null,null,null,null,null,null,null,null,null,null,null,null,null,null,null,null,null,null,null,null,null,null,null,null,null,null,null,null,null,null,null,null,null,null,null,null,null,null,null,null,null,null,null,null,null,null,null,null,null,null,null,null,null,null,null,null,null,null,null,null,null,null,null,null,null,null,null,null,null,null,null,null,null,null,null,null,null,null,null,null,null,null,null,null,null,null,null,null,null,null,null,null,null,null,null,null,null,null,null,null,null,null,null,null,null,null,null,null,null,null,null,null,null,null,null,null,null,null,null,null,null,null,null,null,null,null,null,null,null,null,null,null,null,null,null,null,null,null,null,null,null,null,null,null,null,null,null,null,null,null,null,null,null,null,null,null,null,null,null,null,null,null,null,null,null,null,null,null,null,null,null,null,null,null,null,null,null,null,null,null,null,null,null,null,null,null,null,null,null,null,null,null,null,null,null,null,null,null,null,null,null,null,null,null,null,null,null,null,null,null,null,null,null,null,null,null,null,null,null,null,null,null,null,null,null,null,null,null,null,null,null,null,null,null,null,null,null,null,null,null,null,null,null,null,null,null,null,null,null,null,null,null,null,null,null,null,null,null,null,null,null,null,null,null,null,null,null,null,null,null,null,null,null,null,null,null,null,null,null,null,null,null,null,null,null,null,null,null,null,null,null,null,null,null,null,null,null,null,null,null,null,null,null,null,null,null,null,null,null,null,null,null,null,null,null,null,null,null,null,null,null,null,null,null,null,null,null,null,null,null,null,null,null,null,null,null,null,null,null,null,null,null,null,null,null,null,null,null,null,null,null,null,null,null,null,null,null,null,null,null,null,null,null,null,null,null,null,null,null,null,null,null,null,null,null,null,null,null,null,null,null,null,null,null,null,null,null,null,null,null,null,null,null,null,null,null,null,null,null,null,null,null,null,null,null,null,null,null,null,null,null,null,null,null,null,null,null,null,null,null,null,null,null,null,null,null,null,null,null,null,null,null,null,null,null,null,null,null,null,null,null,null,null,null,null,null,null,null,null,null,null,null,null,null,null,null,null,null,null,null,null,null,null,null,null,null,null,null,null,null,null,null,null,null,null,null,null,null,null,null,null,null,null,null,null,null,null,null,null,null,null,null,null,null,null,null,null,null,null,null,null,null,null,null,null,null,null,null,null,null,null,null,null,null,null,null,null,null,null,null,null,null,null,null,null,null,null,null,null,null,null,null,null,null,null,null,null,null,null,null,null,null,null,null,null,null,null,null,null,null,null,null,null,null,null,null,null,null,null,null,null,null,null,null,null,null,null,null,null,null,null,null,null,null,null,null,null,null,null,null,null,null,null,null,null,null,null,null,null,null,null,null,null,null,null,null,null,null,null,null,null,null,null,null,null,null,null,null,null,null,null,null,null,null,null,null,null,null,null,null,null,null,null,null,null,null,null,null,null,null,null,null,null,null,null,null,null,null,null,null,null,null,null,null,null,null,null,null,null,null,null,null,null,null,null,null,null,null,null,null,null,null,null,null,null,null,null,null,null,null,null,null,null,null,null,null,null,null,null,null,null,null,null,null,null,null,null,null,null,null,null,null,null,null,null,null,null,null,null,null,null,null,null,null,null,null,null,null,null,null,null,null,null,null,null,null,null,null,null,null,null,null,null,null,null,null,null,null,null,null,null,null,null,null,null,null,null,null,null,null,null,null,null,null,null,null,null,null,null,null,null,null,null,null,null,null,null,null,null,null,null,null,null,null,null,null,null,null,null,null,null,null,null,null,null,null,null,null,null,null,null,null,null,null,null,null,null,null,null,null,null,null,null,null,null,null,null,null,null,null,null,null,null,null,null,null,null,null,null,null,null,null,null,null,null,null,null,null,null,null,null,null,null,null,null,null,null,null,null,null,null,null,null,null,null,null,null,null,null,null,null,null,null,null,null,null,null,null,null,null,null,null,null,null,null,null,null,null,null,null,null,null,null,null,null,null,null,null,null,null,null,null,null,null,null,null,null,null,null,null,null,null,null,null,null,null,null,null,null,null,null,null,null,null,null,null,null,null,null,null,null,null,null,null,null,null,null,null,null,null,null,null,null,null,null,null,null,null,null,null,null,null,null,null,null,null,null,null,null,null,null,null,null,null,null,null,null,null,null,null,null,null,null,null,null,null,null,null,null,null,null,null,null,null,null,null,null,null,null,null,null,null,null,null,null,null,null,null,null,null,null,null,null,null,null,null,null,null,null,null,null,null,null,null,null,null,null,null,null,null,null,null,null,null,null,null,null,null,null,null,null,null,null,null,null,null,null,null,null,null,null,null,null,null,null,null,null,null,null,null,null,null,null,null,null,null,null,null,null,null,null,null,null,null,null,null,null,null,null,null,null,null,null,null,null,null,null,null,null,null,null,null,null,null,null,null,null,null,null,null,null,null,null,null,null,null,null,null,null,null,null,null,null,null,null,null,null,null,null,null,null,null,null,null,null,null,null,null,null,null,null,null,null,null,null,null,null,null,null,null,null,null,null,null,null,null,null,null,null,null,null,null,null,null,null,null,null,null,null,null,null,null,null,null,null,null,null,null,null,null,null,null,null,null,null,null,null,null,null,null,null,null,null,null,null,null,null,null,null,null,null,null,null,null,null,null,null,null,null,null,null,null,null,null,null,null,null,null,null,null,null,null,null,null,null,null,null,null,null,null,null,null,null,null,null,null,null,null,null,null,null,null,null,null,null,null,null,null,null,null,null,null,null,null,null,null,null,null,null,null,null,null,null,null,null,null,null,null,null,null,null,null,null,null,null,null,null,null,null,null,null,null,null,null,null,null,null,null,null,null,null,null,null,null,null,null,null,null,null,null,null,null,null,null,null,null,null,null,null,null,null,null,null,null,null,null,null,null,null,null,null,null,null,null,null,null,null,null,null,null,null,null,null,null,null,null,null,null,null,null,null,null,null,null,null,null,null,"W/L","Total",20,15,4,1,51,20,49,1,0.75,"Total",20,7,6,7,32,32,27,10,0.35,"Odds","O/U",null,null,null,null,null,null,null,null,null,null,null,null,null,null,null,null,null,null,null,"Total",20,15,4,1,51,20,49,1,0.75,"Total",20,7,6,7,32,32,27,10,0.35,null,null,null,null,null,null,null,null,null,null,null,null,null,null,null,null,null,null,null,null,null,null,null,null,null,null,null,null,null,null,null,null,null,null,null,null,null,null,null,null,null,null,null,null,null,null,null,null,null,null,null,null,null,null,null,null,null,null,null,null,null,null,null,null,null,null,null,null,null,null,null,null,null,null,null,null,null,null,null,null,null,null,null,null,null,null,null,null,null,null,null,null,null,null,null,null,null,null,null,null,null,null,null,null,null,null,null,null,null,null,null,null,null,null,null,null,null,null,null,null,null,null,null,null,null,null,null,null,null,null,null,null,null,null,null,null,null,null,null,null,null,null,null,null,null,null,null,null,null,null,null,null,null,null,null,null,null,null,null,null,null,null,null,null,null,null,null,null,null,null,null,null,null,null,null,null,null,null,null,null,null,null,null,null,null,null,null,null,null,null,null,null,null,null,null,null,null,null,null,null,null,null,null,null,null,null,null,null,null,null,null,null,null,null,null,null,null,null,null,null,null,null,null,null,null,null,null,null,null,null,null,null,null,null,null,null,null,null,null,null,null,null,null,null,null,null,null,null,null,null,null,null,null,null,null,null,null,null,null,null,null,null,null,null,null,null,null,null,null,null,null,null,null,null,null,null,null,null,null,null,null,null,null,null,null,null,null,null,null,null,null,null,null,null,null,null,null,null,"W/L","Total",22,10,7,5,51,39,37,6,0.45500000000000002,"Total",22,10,5,7,28,23,35,7,0.45500000000000002,"Odds","O/U",null,null,null,null,null,null,null,null,null,null,null,null,null,null,null,null,null,null,null,"Total",22,10,7,5,51,39,37,6,0.45500000000000002,"Total",22,10,5,7,28,23,35,7,0.45500000000000002,null,null,null,null,null,null,null,null,null,null,null,null,null,null,null,null,null,null,null,null,null,null,null,null,null,null,null,null,null,null,null,null,null,null,null,null,null,null,null,null,null,null,null,null,null,null,null,null,null,null,null,null,null,null,null,null,null,null,null,null,null,null,null,null,null,null,null,null,null,null,null,null,null,null,null,null,null,null,null,null,null,null,null,null,null,null,null,null,null,null,null,null,null,null,null,null,null,null,null,null,null,null,null,null,null,null,null,null,null,null,null,null,null,null,null,null,null,null,null,null,null,null,null,null,null,null,null,null,null,null,null,null,null,null,null,null,null,null,null,null,null,null,null,null,null,null,null,null,null,null,null,null,null,null,null,null,null,null,null,null,null,null,null,null,null,null,null,null,null,null,null,null,null,null,null,null,null,null,null,null,null,null,null,null,null,null,null,null,null,null,null,null,null,null,null,null,null,null,null,null,null,null,null,null,null,null,null,null,null,null,null,null,null,null,null,null,null,null,null,null,null,null,null,null,null,null,null,null,null,null,null,null,null,null,null,null,null,null,null,null,null,null,null,null,null,null,null,null,null,null,null,null,null,null,null,null,null,null,null,null,null,null,null,null,null,null,null,null,null,null,null,null,null,null,null,null,null,null,null,null,null,null,null,null,null,null,null,null,null,null,null,null,null,null,null,null,null,null,null,null,null,null,null,null,null,null,null,null,null,null,null,null,null,null,null,null,null,null,null,null,null,null,null,null,null,null,null,null,null,null,null,null,null,null,null,null,null,null,null,null,null,null,null,null,null,null,null,null,null,null,null,null,null,null,null,null,null,null,null,null,null,null,null,null,null,null,null,null,null,null,null,null,null,null,null,null,null,null,null,null,null,null,null,null,null,null,null,null,null,null,null,null,null,null,null,null,null,null,null,null,null,null,null,null,null,null,null,null,null,null,null,null,null,null,null,null,null,null,null,null,null,null,null,null,null,null,null,null,null,null,null,null,null,null,null,null,null,null,null,null,null,null,null,null,null,null,null,null,null,null,null,null,null,null,null,null,null,null,null,null,null,null,null,null,null,null,null,null,null,null,null,null,null,null,null,null,null,null,null,null,null,null,null,null,null,null,null,null,null,null,null,null,null,null,null,null,null,null,null,null,null,null,null,null,null,null,null,null,null,null,null,null,null,null,null,null,null,null,null,null,null,null,null,null,null,null,null,null,null,null,null,null,null,null,null,null,null,null,null,null,null,null,null,null,null,null,null,null,null,null,null,null,null,null,null,null,null,null,null,null,null,null,null,null,null,null,null,null,null,null,null,null,null,null,null,null,null,null,null,null,null,null,null,null,null,null,null,null,null,null,null,null,null,null,null,null,null,null,null,null,null,null,null,null,null,null,null,null,null,null,null,null,null,null,null,null,null,null,null,null,null,null,null,null,null,null,null,null,null,null,null,null,null,null,null,null,null,null,null,null,null,null,null,null,null,null,null,null,null,null,null,null,null,null,null,null,null,null,null,null,null,null,null,null,null,null,null,null,null,null,null,null,null,null,null,null,null,null,null,null,null,null,null,null,null,null,null,null,null,null,null,null,null,null,null,null,null,null,null,null,null,null,null,null,null,null,null,null,null,null,null,null,null,null,null,null,null,null,null,null,null,null,null,null,null,null,null,null,null,null,null,null,null,null,null,null,null,null,null,null,null,null,null,null,null,null,null,null,null,null,null,null,null,null,null,null,null,null,null,null,null,null,null,null,null,null,null,null,null,null,null,null,null,null,null,null,null,null,null,null,null,null,null,null,null,null,null,null,null,null,null,null,null,null,null,null,null,null,null,null,null,null,null,null,null,null,null,null,null,null,null,null,null,null,null,null,null,null,null,null,3,26,17,34,2,0.47399999999999998,null,null,19,7,7,5,20,18,28,6,0.36799999999999999,"Total",19,9,7,3,26,17,34,2,0.47399999999999998,null,null,null,null,null,null,null,null,null,null,null,null,null,null,null,null,null,null,null,null,null,null,null,null,15,3,6,6,17,20,15,13,0.2,"Total",15,4,2,9,23,37,14,13,0.26700000000000002,null,null,15,3,6,6,17,20,15,13,0.2,"Total",15,4,2,9,23,37,14,13,0.26700000000000002]
[null,null,null,null,null,null,null,null,null,null,null,null,null,null,null,null,null,null,null,null,null,null,null,null,null,null,null,null,null,null,null,null,null,null,null,null,null,null,null,null,null,null,null,null,null,null,null,null,null,null,null,null,null,null,null,null,null,null,null,null,null,null,null,null,null,null,null,null,null,null,null,null,null,null,null,null,null,null,null,null,null,null,null,null,null,null,null,null,null,null,null,null,null,null,null,null,null,null,null,null,null,null,null,null,null,null,null,null,null,null,null,null,null,null,null,null,null,null,null,null,null,null,null,null,null,null,null,null,null,null,null,null,null,null,null,null,null,null,null,null,null,null,null,null,null,null,null,null,null,null,null,null,null,null,null,null,null,null,null,null,null,null,null,null,null,null,null,null,null,null,null,null,null,null,null,null,null,null,null,null,null,null,null,null,null,null,null,null,null,null,null,null,null,null,null,null,null,null,null,null,null,null,null,null,null,null,null,null,null,null,null,null,null,null,null,null,null,null,null,null,null,null,null,null,null,null,null,null,null,null,null,null,null,null,null,null,null,null,null,null,null,null,null,null,null,null,null,null,null,null,null,null,null,null,null,null,null,null,null,null,null,null,null,null,null,null,null,null,null,null,null,null,null,null,null,null,null,null,null,null,null,null,null,null,null,null,null,null,null,null,null,null,null,null,null,null,null,null,null,null,null,null,null,null,null,null,null,null,null,null,null,null,null,null,null,null,null,null,null,null,null,null,null,null,null,null,null,null,null,null,null,null,null,null,null,null,null,null,null,null,null,null,null,null,null,null,null,null,null,null,null,null,null,null,null,null,null,null,null,null,null,null,null,null,null,null,null,null,null,null,null,null,null,null,null,null,null,null,null,null,null,null,null,null,null,null,null,null,null,null,null,null,null,null,null,null,null,null,null,null,null,null,null,null,null,null,null,null,null,null,null,null,null,null,null,null,null,null,null,null,null,null,null,null,null,null,null,null,null,null,null,null,null,null,null,null,null,null,null,null,null,null,null,null,null,null,null,null,null,null,null,null,null,null,null,null,null,null,null,null,null,null,null,null,null,null,null,null,null,null,null,null,null,null,null,null,null,null,null,null,null,null,null,null,null,null,null,null,null,null,null,null,null,null,null,null,null,null,null,null,null,null,null,null,null,null,null,null,null,null,null,null,null,null,null,null,null,null,null,null,null,null,null,null,null,null,null,null,null,null,null,null,null,null,null,null,null,null,null,null,null,null,null,null,null,null,null,null,null,null,null,null,null,null,null,null,null,null,null,null,null,null,null,null,null,null,null,null,null,null,null,null,null,null,null,null,null,null,null,null,null,null,null,null,null,null,null,null,null,null,null,null,null,null,null,null,null,null,null,null,null,null,null,null,null,null,null,null,null,null,null,null,null,null,null,null,null,null,null,null,null,null,null,null,null,null,null,null,null,null,null,null,null,null,null,null,null,null,null,null,null,null,null,null,null,null,null,null,null,null,null,null,null,null,null,null,null,null,null,null,null,null,null,null,null,null,null,null,null,null,null,null,null,null,null,null,null,null,null,null,null,null,null,null,null,null,null,null,null,null,null,null,null,null,null,null,null,null,null,null,null,null,null,null,null,null,null,null,null,null,null,null,null,null,null,null,null,null,null,null,null,null,null,null,null,null,null,null,null,null,null,null,null,null,null,null,null,null,null,null,null,null,null,null,null,null,null,null,null,null,null,null,null,null,null,null,null,null,null,null,null,null,null,null,null,null,null,null,null,null,null,null,null,null,null,null,null,null,null,null,null,null,null,null,null,null,null,null,null,null,null,null,null,null,null,null,null,null,null,null,null,null,null,null,null,null,null,null,null,null,null,null,null,null,null,null,null,null,null,null,null,null,null,null,null,null,null,null,null,null,null,null,null,null,null,null,null,null,null,null,null,null,null,null,null,null,null,null,null,null,null,null,null,null,null,null,null,null,null,null,null,null,null,null,null,null,null,null,null,null,null,null,null,null,null,null,null,null,null,null,null,null,null,null,null,null,null,null,null,null,null,null,null,null,null,null,null,null,null,null,null,null,null,null,null,null,null,null,null,null,null,null,null,null,null,null,null,null,null,null,null,null,null,null,null,null,null,null,null,null,null,null,null,null,null,null,null,null,null,null,null,null,null,null,null,null,null,null,null,null,null,null,null,null,null,null,null,null,null,null,null,null,null,null,null,null,null,null,null,null,null,null,null,null,null,null,null,null,null,null,null,null,null,null,null,null,null,null,null,null,null,null,null,null,null,null,null,null,null,null,null,null,null,null,null,null,null,null,null,null,null,null,null,null,null,null,null,null,null,null,null,null,null,null,null,null,null,null,null,null,null,null,null,null,null,null,null,null,null,null,null,null,null,null,null,null,null,null,null,null,null,null,null,null,null,null,null,null,null,null,null,null,null,null,null,null,null,null,null,null,null,null,null,null,null,null,null,null,null,null,null,null,null,null,null,null,null,null,null,null,null,null,null,null,null,null,null,null,null,null,null,null,null,null,null,null,null,null,null,null,null,null,null,null,null,null,null,null,null,null,null,null,null,null,null,null,null,null,null,null,null,null,null,null,null,null,null,null,null,null,null,null,null,null,null,null,null,null,null,null,null,null,null,null,null,null,null,null,null,null,null,null,null,null,null,null,null,null,null,null,null,null,null,null,null,null,null,null,null,null,null,null,null,null,null,null,null,null,null,null,null,null,null,null,null,null,null,null,null,null,null,null,null,null,null,null,null,null,null,null,null,null,null,null,null,null,null,null,null,null,null,null,null,null,null,null,null,null,null,null,null,null,null,null,null,null,null,null,null,null,null,null,null,null,null,null,null,null,null,null,null,null,null,null,null,null,null,null,null,null,null,null,null,null,null,null,null,null,null,null,null,null,null,null,null,null,null,null,null,null,null,null,null,null,null,null,null,null,null,null,null,null,null,null,null,null,null,null,null,null,null,null,null,null,null,null,null,null,null,null,null,null,null,null,null,null,null,null,null,null,null,null,null,null,null,null,null,null,null,null,null,null,null,null,null,null,null,null,null,null,null,null,null,null,null,null,null,null,null,null,null,null,null,null,null,null,null,null,null,null,null,null,null,null,null,null,null,null,null,null,null,null,null,null,null,null,null,null,null,null,null,null,null,null,null,null,null,null,null,null,null,null,null,null,null,null,null,null,null,null,null,null,null,null,null,null,null,null,null,null,null,null,null,null,null,null,null,null,null,null,null,null,null,null,null,null,null,null,null,null,null,null,null,null,null,null,null,null,null,null,null,null,null,null,null,null,null,null,null,null,null,null,null,null,null,null,null,null,null,null,null,null,null,null,null,null,null,null,null,null,null,null,null,null,null,null,null,null,null,null,null,null,null,null,null,null,null,null,null,null,null,null,null,null,null,null,null,null,null,null,null,null,null,null,null,null,null,null,null,null,null,null,null,null,null,null,null,null,null,null,null,null,null,null,null,null,null,null,null,null,null,null,null,null,null,null,null,null,null,null,null,null,null,null,null,null,null,null,null,null,null,null,null,null,null,null,null,null,null,null,null,null,null,null,null,null,null,null,null,null,null,null,null,null,null,null,null,null,null,null,null,null,null,null,null,null,null,null,null,null,null,null,null,null,null,null,null,null,null,null,null,null,null,null,null,null,null,null,null,null,null,null,null,null,null,null,null,null,null,null,null,null,null,null,null,null,null,null,null,null,null,null,null,null,null,null,null,null,null,null,null,null,null,null,null,null,null,null,null,null,null,null,null,null,null,null,null,null,null,null,null,null,null,null,null,null,null,null,null,null,null,null,null,null,null,null,null,null,null,null,null,null,null,null,null,null,null,null,null,null,null,null,null,null,null,null,null,null,null,null,null,null,null,null,null,null,null,null,null,null,null,null,null,null,null,null,null,null,null,null,null,null,null,null,null,null,null,null,null,null,null,null,null,null,null,null,null,null,null,null,null,null,null,null,null,null,null,null,null,null,null,null,null,null,null,null,null,null,null,null,null,null,null,null,null,null,null,null,null,null,null,null,null,null,null,null,null,null,null,null,null,null,null,null,null,null,null,null,null,null,null,null,null,null,null,null,null,null,null,null,null,null,null,null,null,null,null,null,null,null,null,null,null,null,null,null,null,null,null,null,null,null,null,null,null,null,null,null,null,null,null,null,null,null,null,null,null,null,null,null,null,null,null,null,null,null,null,null,null,null,null,null,null,null,null,null,null,null,null,null,null,null,null,null,null,null,null,null,null,null,null,null,null,null,null,null,null,null,null,null,null,null,null,null,null,null,null,null,null,null,null,null,null,null,null,null,null,null,null,null,null,null,null,null,null,null,null,null,null,null,null,null,null,null,null,null,null,null,null,null,null,null,null,null,null,null,null,null,null,null,null,null,null,null,null,null,null,null,null,null,null,null,null,null,null,null,null,null,null,null,null,null,null,null,null,null,null,null,null,null,null,null,null,null,null,null,null,null,null,null,null,null,null,null,null,null,null,null,null,null,null,null,null,null,null,null,null,null,null,null,null,null,null,null,null,null,null,null,null,null,null,null,null,null,null,null,null,null,null,null,null,null,null,null,null,null,null,null,null,null,null,null,null,null,null,null,null,null,null,null,null,null,null,null,null,null,null,null,null,null,null,null,null,null,null,null,null,null,null,null,null,null,null,null,null,null,null,null,null,null,null,null,null,null,null,null,null,null,null,null,null,null,null,null,null,null,null,null,null,null,null,null,null,null,null,null,null,null,null,null,null,null,null,null,null,null,null,null,null,null,null,null,null,null,null,null,null,null,null,null,null,null,null,null,null,null,null,null,null,null,null,null,null,null,null,null,null,null,null,null,null,null,null,null,null,null,null,null,null,null,null,null,null,null,null,null,null,null,null,null,null,null,null,null,null,null,null,null,null,null,null,null,null,null,null,null,null,null,null,null,null,null,null,null,null,null,null,null,null,null,null,null,null,null,null,null,null,null,null,null,null,null,null,null,null,null,null,null,null,null,null,null,null,null,null,null,null,null,null,null,null,null,null,null,null,null,null,null,null,null,null,null,null,null,null,null,null,null,null,null,null,null,null,null,null,null,null,null,null,null,null,null,null,null,null,null,null,null,null,null,null,null,null,null,null,null,null,null,null,null,null,null,null,null,null,null,null,null,null,null,null,null,null,null,null,null,null,null,null,null,null,null,null,null,null,null,null,null,null,null,null,null,null,null,null,null,null,null,null,null,null,null,null,null,null,null,null,null,null,null,null,null,null,null,null,null,null,null,null,null,null,null,null,null,null,null,null,null,null,null,null,null,null,null,null,null,null,null,null,null,null,null,null,null,null,null,null,null,null,null,null,null,null,null,null,null,null,null,null,null,null,null,null,null,null,null,null,null,null,null,null,null,null,null,null,null,null,null,null,null,null,null,null,null,null,null,null,null,null,null,null,null,null,null,null,null,null,null,null,null,null,null,null,null,null,null,null,null,null,null,null,null,null,null,null,null,null,null,null,null,null,null,null,null,null,null,null,null,null,null,null,null,null,null,null,null,null,null,null,null,null,null,null,"W","HT","Matches","Win","Draw","Loss","Get","Miss","Pts","Rank","Rate","HT","Matches","Win","Draw","Loss","Get","Miss","Pts","Rank","Rate",null,null,null,null,null,null,null,null,null,null,null,null,null,null,null,null,null,null,null,null,null,"HT","Matches","Win","Draw","Loss","Get","Miss","Pts","Rank","Rate","HT","Matches","Win","Draw","Loss","Get","Miss","Pts","Rank","Rate",null,null,null,null,null,null,null,null,null,null,null,null,null,null,null,null,null,null,null,null,null,null,null,null,null,null,null,null,null,null,null,null,null,null,null,null,null,null,null,null,null,null,null,null,null,null,null,null,null,null,null,null,null,null,null,null,null,null,null,null,null,null,null,null,null,null,null,null,null,null,null,null,null,null,null,null,null,null,null,null,null,null,null,null,null,null,null,null,null,null,null,null,null,null,null,null,null,null,null,null,null,null,null,null,null,null,null,null,null,null,null,null,null,null,null,null,null,null,null,null,null,null,null,null,null,null,null,null,null,null,null,null,null,null,null,null,null,null,null,null,null,null,null,null,null,null,null,null,null,null,null,null,null,null,null,null,null,null,null,null,null,null,null,null,null,null,null,null,null,null,null,null,null,null,null,null,null,null,null,null,null,null,null,null,null,null,null,null,null,null,null,null,null,null,null,null,null,null,null,null,null,null,null,null,null,null,null,null,null,null,null,null,null,null,null,null,null,null,null,null,null,null,null,null,null,null,null,null,null,null,null,null,null,null,null,"D","HT","Matches","Win","Draw","Loss","Get","Miss","Pts","Rank","Rate","HT","Matches","Win","Draw","Loss","Get","Miss","Pts","Rank","Rate",null,null,null,null,null,null,null,null,null,null,null,null,null,null,null,null,null,null,null,null,null,"HT","Matches","Win","Draw","Loss","Get","Miss","Pts","Rank","Rate","HT","Matches","Win","Draw","Loss","Get","Miss","Pts","Rank","Rate",null,null,null,null,null,null,null,null,null,null,null,null,null,null,null,null,null,null,null,null,null,null,null,null,null,null,null,null,null,null,null,null,null,null,null,null,null,null,null,null,null,null,null,null,null,null,null,null,null,null,null,null,null,null,null,null,null,null,null,null,null,null,null,null,null,null,null,null,null,null,null,null,null,null,null,null,null,null,null,null,null,null,null,null,null,null,null,null,null,null,null,null,null,null,null,null,null,null,null,null,null,null,null,null,null,null,null,null,null,null,null,null,null,null,null,null,null,null,null,null,null,null,null,null,null,null,null,null,null,null,null,null,null,null,null,null,null,null,null,null,null,null,null,null,null,null,null,null,null,null,null,null,null,null,null,null,null,null,null,null,null,null,null,null,null,null,null,null,null,null,null,null,null,null,null,null,null,null,null,null,null,null,null,null,null,null,null,null,null,null,null,null,null,null,null,null,null,null,null,null,null,null,null,null,null,null,null,null,null,null,null,null,null,null,null,null,null,null,null,null,null,null,null,null,null,null,null,null,null,null,null,null,null,null,null,null,null,null,null,null,null,null,null,null,null,null,null,null,null,null,null,null,null,null,null,null,null,null,null,null,null,null,null,null,null,null,null,null,null,null,null,null,null,null,null,null,null,null,null,null,null,null,null,null,null,null,null,null,null,null,null,null,null,null,null,null,null,null,null,null,null,null,null,null,null,null,null,null,null,null,null,null,null,null,null,null,null,null,null,null,null,null,null,null,null,null,null,null,null,null,null,null,null,null,null,null,null,null,null,null,null,null,null,null,null,null,null,null,null,null,null,null,null,null,null,null,null,null,null,null,null,null,null,null,null,null,null,null,null,null,null,null,null,null,null,null,null,null,null,null,null,null,null,null,null,null,null,null,null,null,null,null,null,null,null,null,null,null,null,null,null,null,null,null,null,null,null,null,null,null,null,null,null,null,null,null,null,null,null,null,null,null,null,null,null,null,null,null,null,null,null,null,null,null,null,null,null,null,null,null,null,null,null,null,null,null,null,null,null,null,null,null,null,null,null,null,null,null,null,null,null,null,null,null,null,null,null,null,null,null,null,null,null,null,null,null,null,null,null,null,null,null,null,null,null,null,null,null,null,null,null,null,null,null,null,null,null,null,null,null,null,null,null,null,null,null,null,null,null,null,null,null,null,null,null,null,null,null,null,null,null,null,null,null,null,null,null,null,null,null,null,null,null,null,null,null,null,null,null,null,null,null,null,null,null,null,null,null,null,null,null,null,null,null,null,null,null,null,null,null,null,null,null,null,null,null,null,null,null,null,null,null,null,null,null,null,null,null,null,null,null,null,null,null,null,null,null,null,null,null,null,null,"L","HT","Matches","Win","Draw","Loss","Get","Miss","Pts","Rank","Rate","HT","Matches","Win","Draw","Loss","Get","Miss","Pts","Rank","Rate",null,null,null,null,null,null,null,null,null,null,null,null,null,null,null,null,null,null,null,null,null,"HT","Matches","Win","Draw","Loss","Get","Miss","Pts","Rank","Rate","HT","Matches","Win","Draw","Loss","Get","Miss","Pts","Rank","Rate",null,null,null,null,null,null,null,null,null,null,null,null,null,null,null,null,null,null,null,null,null,null,null,null,null,null,null,null,null,null,null,null,null,null,null,null,null,null,null,null,null,null,null,null,null,null,null,null,null,null,null,null,null,null,null,null,null,null,null,null,null,null,null,null,null,null,null,null,null,null,null,null,null,null,null,null,null,null,null,null,null,null,null,null,null,null,null,null,null,null,null,null,null,null,null,null,null,null,null,null,null,null,null,null,null,null,null,null,null,null,null,null,null,null,null,null,null,null,null,null,null,null,null,null,null,null,null,null,null,null,null,null,null,null,null,null,null,null,null,null,null,null,null,null,null,null,null,null,null,null,null,null,null,null,null,null,null,null,null,null,null,null,null,null,null,null,null,null,null,null,null,null,null,null,null,null,null,null,null,null,null,null,null,null,null,null,null,null,null,null,null,null,null,null,null,null,null,null,null,null,null,null,null,null,null,null,null,null,null,null,null,null,null,null,null,null,null,null,null,null,null,null,null,null,null,null,null,null,null,null,null,null,null,null,null,null,null,null,null,null,null,null,null,null,null,null,null,null,null,null,null,null,null,null,null,null,null,null,null,null,null,null,null,null,null,null,null,null,null,null,null,null,null,null,null,null,null,null,null,null,null,null,null,null,null,null,null,null,null,null,null,null,null,null,null,null,null,null,null,null,null,null,null,null,null,null,null,null,null,null,null,null,null,null,null,null,null,null,null,null,null,null,null,null,null,null,null,null,null,null,null,null,null,null,null,null,null,null,null,null,null,null,null,null,null,null,null,null,null,null,null,null,null,null,null,null,null,null,null,null,null,null,null,null,null,null,null,null,null,null,null,null,null,null,null,null,null,null,null,null,null,null,null,null,null,null,null,null,null,null,null,null,null,null,null,null,null,null,null,null,null,null,null,null,null,null,null,null,null,null,null,null,null,null,null,null,null,null,null,null,null,null,null,null,null,null,null,null,null,null,null,null,null,null,null,null,null,null,null,null,null,null,null,null,null,null,null,null,null,null,null,null,null,null,null,null,null,null,null,null,null,null,null,null,null,null,null,null,null,null,null,null,null,null,null,null,null,null,null,null,null,null,null,null,null,null,null,null,null,null,null,null,null,null,null,null,null,null,null,null,null,null,null,null,null,null,null,null,null,null,null,null,null,null,null,null,null,null,null,null,null,null,null,null,null,null,null,null,null,null,null,null,null,null,null,null,null,null,null,null,null,null,null,null,null,null,null,null,null,null,null,null,null,null,null,null,null,null,null,null,null,null,null,null,null,null,null,null,null,null,null,null,null,null,null,null,null,null,null,null,null,null,null,null,null,null,null,null,null,null,null,null,null,null,null,null,null,null,null,null,null,null,null,null,null,null,null,null,null,null,null,null,null,null,null,null,null,null,null,null,null,null,null,null,null,null,null,null,null,null,null,null,null,null,null,null,null,null,null,null,null,null,null,null,null,null,null,null,null,null,null,null,null,null,null,null,null,null,null,null,null,null,null,null,null,null,null,null,null,null,null,null,null,null,null,null,null,null,null,null,null,null,null,null,null,null,null,null,null,null,null,null,null,null,null,null,null,null,null,null,null,null,null,null,null,null,null,null,null,null,null,null,null,null,null,null,null,null,null,null,null,null,null,null,null,null,null,null,null,null,null,null,null,null,null,null,null,null,null,null,null,null,null,null,null,null,null,null,null,null,null,null,null,null,null,null,null,null,null,null,null,null,null,null,null,null,null,null,null,null,null,null,null,null,null,null,null,null,null,null,null,null,null,null,null,null,null,null,null,null,null,null,null,null,null,null,null,null,null,null,null,null,null,null,null,null,null,null,null,null,null,null,null,null,null,null,null,null,null,null,null,null,null,null,null,null,null,null,null,null,null,null,null,null,null,null,null,null,null,null,null,null,null,null,null,null,null,null,null,null,null,null,null,null,null,null,null,null,null,null,null,null,null,null,null,null,null,null,null,null,null,null,null,null,null,null,null,null,null,null,null,null,null,null,null,null,null,null,null,null,null,null,null,null,null,null,null,null,null,null,null,null,null,null,null,null,null,null,null,null,null,null,null,null,null,null,null,null,null,null,null,null,null,null,null,null,null,null,null,null,null,null,null,null,null,null,null,null,null,null,null,null,null,null,null,null,null,null,null,null,null,null,null,null,null,null,null,null,null,null,null,null,null,null,null,null,null,null,null,null,null,null,null,null,null,null,null,null,null,null,null,null,null,null,null,null,null,null,null,null,null,null,null,null,null,null,null,null,null,null,null,null,null,null,null,null,null,null,null,null,null,null,null,null,null,null,null,null,null,null,null,null,null,null,null,null,null,null,null,null,null,null,null,null,null,null,null,null,null,null,null,null,null,null,null,null,null,null,null,null,null,null,null,null,null,null,null,null,null,null,null,null,null,null,null,null,null,null,null,null,null,null,null,null,null,null,null,null,null,null,null,null,null,null,null,null,null,null,null,null,null,null,null,null,null,null,null,null,null,null,null,null,null,null,null,null,null,null,null,null,null,null,null,null,null,null,null,null,null,null,null,null,null,null,null,null,null,null,null,null,null,null,null,null,null,null,null,null,null,null,null,null,null,null,null,null,null,null,null,null,null,null,null,null,null,null,null,null,null,null,null,null,null,null,null,null,null,null,null,null,null,null,null,null,null,null,null,null,null,null,null,null,null,null,null,null,null,null,null,null,null,null,null,null,null,null,null,null,null,null,null,null,null,null,null,null,null,null,null,null,null,null,null,null,null,null,null,null,null,null,null,null,null,null,null,null,null,null,null,null,null,null,null,null,null,null,null,null,null,null,null,null,null,null,null,null,null,null,null,null,null,null,null,null,null,null,null,null,null,null,null,null,null,null,null,null,null,null,null,null,null,null,null,null,null,null,null,null,null,null,null,null,null,null,null,null,null,null,null,null,null,null,null,null,null,null,null,null,null,null,null,null,null,null,null,null,null,null,null,null,null,null,null,null,null,null,null,null,null,null,null,null,null,null,null,null,null,null,null,null,null,null,null,null,null,null,null,null,null,null,null,null,null,null,null,null,null,null,null,null,null,null,null,null,null,null,null,null,null,null,null,null,null,null,null,null,null,null,null,null,null,null,null,null,null,null,null,null,null,null,null,null,null,null,null,null,null,null,null,null,null,null,null,null,null,null,null,null,null,null,null,null,null,null,null,null,null,null,null,null,null,null,null,null,null,null,null,null,null,null,null,null,null,null,null,null,null,null,null,null,null,null,null,null,null,null,null,null,null,null,null,null,null,null,null,null,null,null,null,null,null,null,null,null,null,null,null,null,null,null,null,null,null,null,null,null,null,null,null,null,null,null,null,null,null,null,null,null,null,null,null,null,null,null,null,null,null,null,null,null,null,null,null,null,null,null,null,null,null,null,null,null,null,null,null,null,null,null,null,null,null,null,null,null,null,null,null,null,null,null,null,null,null,null,null,null,null,null,null,null,null,null,null,null,null,null,null,null,null,null,null,null,null,null,null,null,null,null,null,null,null,null,null,null,null,null,null,null,null,null,null,null,null,null,null,null,null,null,null,null,null,null,null,null,null,null,null,null,null,null,null,null,null,null,null,null,null,null,null,null,null,null,null,null,null,null,null,null,null,null,null,null,null,null,null,null,null,null,null,null,null,null,null,null,null,null,null,null,null,null,null,null,null,null,null,null,null,null,null,null,null,null,null,null,null,null,null,null,null,null,null,null,null,null,null,null,null,null,null,null,null,null,null,null,null,null,null,null,null,null,null,null,null,null,null,null,null,null,null,null,null,null,null,null,null,null,null,null,null,null,null,null,null,null,null,null,null,null,null,null,null,null,null,null,null,null,null,null,null,null,null,null,null,null,null,null,null,null,null,null,null,null,null,null,null,null,null,null,null,null,null,null,null,null,null,null,null,null,null,null,null,null,null,null,null,null,null,null,null,null,null,null,null,null,null,null,null,null,null,null,null,null,null,null,null,null,null,null,null,null,null,null,null,null,null,null,null,null,null,null,null,null,null,null,null,null,null,null,null,null,null,null,null,null,null,null,null,null,null,null,null,null,null,null,null,null,null,null,null,null,null,null,null,null,null,null,null,null,null,null,null,null,null,null,null,null,null,null,null,null,null,null,null,null,null,null,null,null,null,null,null,null,null,null,null,null,null,null,null,null,null,null,null,null,null,null,null,null,null,null,null,null,null,null,null,null,null,null,null,null,null,null,null,null,null,null,null,null,null,null,null,null,null,null,null,null,null,null,null,null,null,null,null,null,null,null,null,null,null,null,null,null,null,null,null,null,null,null,null,null,null,null,null,null,null,null,null,null,null,null,null,null,null,null,null,null,null,null,null,null,null,null,null,null,null,null,null,null,null,null,null,null,null,null,null,null,null,null,null,null,null,null,null,null,null,null,null,null,null,null,null,null,null,null,null,null,null,null,null,null,null,null,null,null,null,null,null,null,null,null,null,null,null,null,null,null,null,null,null,null,null,null,null,null,null,null,null,null,null,null,null,null,null,null,null,null,null,null,null,null,null,null,null,null,null,null,null,null,null,null,null,null,null,null,null,null,null,null,null,null,null,null,null,null,null,null,null,null,null,null,null,null,null,null,null,null,null,null,null,null,null,null,null,null,null,null,null,null,null,null,null,null,null,null,null,null,null,null,null,null,null,null,null,null,null,null,null,null,null,null,null,null,null,null,null,null,null,null,null,null,null,null,null,null,null,null,null,null,null,null,null,null,null,null,null,null,null,null,null,null,null,null,null,null,null,null,null,null,null,null,null,null,null,null,null,null,null,null,null,null,null,null,null,null,null,null,null,null,null,null,null,null,null,null,null,null,null,null,null,null,null,null,null,null,null,null,null,null,null,null,null,null,null,null,null,null,null,null,null,null,null,null,null,null,null,null,null,null,null,null,null,null,null,null,null,null,null,null,null,null,null,null,null,null,null,null,null,null,null,null,null,null,null,null,null,null,null,null,null,null,null,null,null,null,null,null,null,null,null,null,null,null,null,null,null,null,null,null,null,null,null,null,null,null,null,null,null,null,null,null,null,null,null,null,null,null,null,null,null,null,null,null,null,null,null,null,null,null,null,null,null,null,null,null,null,null,null,null,null,null,null,null,null,null,null,null,null,null,null,null,null,null,null,null,null,null,null,null,null,null,null,null,null,null,null,null,null,null,null,null,null,null,null,null,null,null,null,null,null,null,null,null,null,null,null,null,null,null,null,null,null,null,null,null,null,null,null,null,null,null,null,null,null,null,null,null,null,null,null,null,null,null,null,null,null,null,null,null,null,null,null,null,null,null,null,null,null,null,null,null,null,null,null,null,null,null,null,null,null,null,null,null,null,null,null,null,null,null,null,null,null,null,null,null,null,null,null,null,null,null,null,null,null,null,null,null,null,null,null,null,null,null,null,null,null,null,null,null,null,null,null,null,null,null,null,null,null,null,null,null,null,null,null,null,null,null,null,null,null,null,null,null,null,null,null,null,null,null,null,null,null,null,null,null,null,null,null,null,null,null,"W","HT","Matches","Win","Draw","Loss","Get","Miss","Pts","Rank","Rate","HT","Matches","Win","Draw","Loss","Get","Miss","Pts","Rank","Rate",null,null,null,null,null,null,null,null,null,null,null,null,null,null,null,null,null,null,null,null,null,"HT","Matches","Win","Draw","Loss","Get","Miss","Pts","Rank","Rate","HT","Matches","Win","Draw","Loss","Get","Miss","Pts","Rank","Rate",null,null,null,null,null,null,null,null,null,null,null,null,null,null,null,null,null,null,null,null,null,null,null,null,null,null,null,null,null,null,null,null,null,null,null,null,null,null,null,null,null,null,null,null,null,null,null,null,null,null,null,null,null,null,null,null,null,null,null,null,null,null,null,null,null,null,null,null,null,null,null,null,null,null,null,null,null,null,null,null,null,null,null,null,null,null,null,null,null,null,null,null,null,null,null,null,null,null,null,null,null,null,null,null,null,null,null,null,null,null,null,null,null,null,null,null,null,null,null,null,null,null,null,null,null,null,null,null,null,null,null,null,null,null,null,null,null,null,null,null,null,null,null,null,null,null,null,null,null,null,null,null,null,null,null,null,null,null,null,null,null,null,null,null,null,null,null,null,null,null,null,null,null,null,null,null,null,null,null,null,null,null,null,null,null,null,null,null,null,null,null,null,null,null,null,null,null,null,null,null,null,null,null,null,null,null,null,null,null,null,null,null,null,null,null,null,null,null,null,null,null,null,null,null,null,null,null,null,null,null,null,null,null,null,null,null,null,null,null,null,null,null,null,null,null,null,null,null,null,null,null,null,null,null,null,null,null,null,null,null,null,null,null,null,null,null,null,null,null,null,null,null,null,null,null,null,null,null,null,null,null,null,null,null,null,null,null,null,null,null,null,null,null,null,null,null,null,null,"D","HT","Matches","Win","Draw","Loss","Get","Miss","Pts","Rank","Rate","HT","Matches","Win","Draw","Loss","Get","Miss","Pts","Rank","Rate",null,null,null,null,null,null,null,null,null,null,null,null,null,null,null,null,null,null,null,null,null,"HT","Matches","Win","Draw","Loss","Get","Miss","Pts","Rank","Rate","HT","Matches","Win","Draw","Loss","Get","Miss","Pts","Rank","Rate",null,null,null,null,null,null,null,null,null,null,null,null,null,null,null,null,null,null,null,null,null,null,null,null,null,null,null,null,null,null,null,null,null,null,null,null,null,null,null,null,null,null,null,null,null,null,null,null,null,null,null,null,null,null,null,null,null,null,null,null,null,null,null,null,null,null,null,null,null,null,null,null,null,null,null,null,null,null,null,null,null,null,null,null,null,null,null,null,null,null,null,null,null,null,null,null,null,null,null,null,null,null,null,null,null,null,null,null,null,null,null,null,null,null,null,null,null,null,null,null,null,null,null,null,null,null,null,null,null,null,null,null,null,null,null,null,null,null,null,null,null,null,null,null,null,null,null,null,null,null,null,null,null,null,null,null,null,null,null,null,null,null,null,null,null,null,null,null,null,null,null,null,null,null,null,null,null,null,null,null,null,null,null,null,null,null,null,null,null,null,null,null,null,null,null,null,null,null,null,null,null,null,null,null,null,null,null,null,null,null,null,null,null,null,null,null,null,null,null,null,null,null,null,null,null,null,null,null,null,null,null,null,null,null,null,null,null,null,null,null,null,null,null,null,null,null,null,null,null,null,null,null,null,null,null,null,null,null,null,null,null,null,null,null,null,null,null,null,null,null,null,null,null,null,null,null,null,null,null,null,null,null,null,null,null,null,null,null,null,null,null,null,null,null,null,null,null,null,null,null,null,null,null,null,null,null,null,null,null,null,null,null,null,null,null,null,null,null,null,null,null,null,null,null,null,null,null,null,null,null,null,null,null,null,null,null,null,null,null,null,null,null,null,null,null,null,null,null,null,null,null,null,null,null,null,null,null,null,null,null,null,null,null,null,null,null,null,null,null,null,null,null,null,null,null,null,null,null,null,null,null,null,null,null,null,null,null,null,null,null,null,null,null,null,null,null,null,null,null,null,null,null,null,null,null,null,null,null,null,null,null,null,null,null,null,null,null,null,null,null,null,null,null,null,null,null,null,null,null,null,null,null,null,null,null,null,null,null,null,null,null,null,null,null,null,null,null,null,null,null,null,null,null,null,null,null,null,null,null,null,null,null,null,null,null,null,null,null,null,null,null,null,null,null,null,null,null,null,null,null,null,null,null,null,null,null,null,null,null,null,null,null,null,null,null,null,null,null,null,null,null,null,null,null,null,null,null,null,null,null,null,null,null,null,null,null,null,null,null,null,null,null,null,null,null,null,null,null,null,null,null,null,null,null,null,null,null,null,null,null,null,null,null,null,null,null,null,null,null,null,null,null,null,null,null,null,null,null,null,null,null,null,null,null,null,null,null,null,null,null,null,null,null,null,null,null,null,null,null,null,null,null,null,null,null,null,null,null,null,null,null,null,null,null,null,null,null,null,null,null,null,null,null,null,null,null,null,null,null,null,null,null,null,null,null,null,null,null,null,null,null,null,null,null,null,null,null,null,null,null,null,null,null,null,null,null,null,null,null,null,null,null,null,null,null,null,null,null,null,null,null,null,null,null,null,null,null,null,null,null,null,null,null,null,null,null,null,null,null,null,null,null,null,null,null,null,null,null,null,null,null,null,null,null,null,null,null,null,null,null,null,null,null,null,null,null,null,null,null,null,null,null,null,null,null,null,null,null,null,null,null,null,null,null,null,null,null,null,null,null,null,null,null,null,null,null,null,null,null,null,null,null,null,null,null,null,null,null,null,null,null,null,null,null,null,null,null,null,null,null,null,null,null,null,null,null,null,null,null,null,null,null,null,null,null,null,null,null,null,null,null,null,null,null,null,null,null,null,null,null,null,null,null,null,null,null,null,null,null,null,null,null,null,null,null,null,null,null,null,null,null,null,null,null,null,null,null,null,null,null,null,null,null,null,null,null,null,null,null,null,"Loss","Get","Miss","Pts","Rank","Rate",null,null,"Matches","Win","Draw","Loss","Get","Miss","Pts","Rank","Rate","HT","Matches","Win","Draw","Loss","Get","Miss","Pts","Rank","Rate",null,null,null,null,null,null,null,null,null,null,null,null,null,null,null,null,null,null,null,null,null,null,null,null,"Matches","Win","Draw","Loss","Get","Miss","Pts","Rank","Rate","HT","Matches","Win","Draw","Loss","Get","Miss","Pts","Rank","Rate",null,null,"Matches","Win","Draw","Loss","Get","Miss","Pts","Rank","Rate","HT","Matches","Win","Draw","Loss","Get","Miss","Pts","Rank","Rate"]
[null,null,null,null,null,null,null,null,null,null,null,null,null,null,null,null,null,null,null,null,null,null,null,null,null,null,null,null,null,null,null,null,null,null,null,null,null,null,null,null,null,null,null,null,null,null,null,null,null,null,null,null,null,null,null,null,null,null,null,null,null,null,null,null,null,null,null,null,null,null,null,null,null,null,null,null,null,null,null,null,null,null,null,null,null,null,null,null,null,null,null,null,null,null,null,null,null,null,null,null,null,null,null,null,null,null,null,null,null,null,null,null,null,null,null,null,null,null,null,null,null,null,null,null,null,null,null,null,null,null,null,null,null,null,null,null,null,null,null,null,null,null,null,null,null,null,null,null,null,null,null,null,null,null,null,null,null,null,null,null,null,null,null,null,null,null,null,null,null,null,null,null,null,null,null,null,null,null,null,null,null,null,null,null,null,null,null,null,null,null,null,null,null,null,null,null,null,null,null,null,null,null,null,null,null,null,null,null,null,null,null,null,null,null,null,null,null,null,null,null,null,null,null,null,null,null,null,null,null,null,null,null,null,null,null,null,null,null,null,null,null,null,null,null,null,null,null,null,null,null,null,null,null,null,null,null,null,null,null,null,null,null,null,null,null,null,null,null,null,null,null,null,null,null,null,null,null,null,null,null,null,null,null,null,null,null,null,null,null,null,null,null,null,null,null,null,null,null,null,null,null,null,null,null,null,null,null,null,null,null,null,null,null,null,null,null,null,null,null,null,null,null,null,null,null,null,null,null,null,null,null,null,null,null,null,null,null,null,null,null,null,null,null,null,null,null,null,null,null,null,null,null,null,null,null,null,null,null,null,null,null,null,null,null,null,null,null,null,null,null,null,null,null,null,null,null,null,null,null,null,null,null,null,null,null,null,null,null,null,null,null,null,null,null,null,null,null,null,null,null,null,null,null,null,null,null,null,null,null,null,null,null,null,null,null,null,null,null,null,null,null,null,null,null,null,null,null,null,null,null,null,null,null,null,null,null,null,null,null,null,null,null,null,null,null,null,null,null,null,null,null,null,null,null,null,null,null,null,null,null,null,null,null,null,null,null,null,null,null,null,null,null,null,null,null,null,null,null,null,null,null,null,null,null,null,null,null,null,null,null,null,null,null,null,null,null,null,null,null,null,null,null,null,null,null,null,null,null,null,null,null,null,null,null,null,null,null,null,null,null,null,null,null,null,null,null,null,null,null,null,null,null,null,null,null,null,null,null,null,null,null,null,null,null,null,null,null,null,null,null,null,null,null,null,null,null,null,null,null,null,null,null,null,null,null,null,null,null,null,null,null,null,null,null,null,null,null,null,null,null,null,null,null,null,null,null,null,null,null,null,null,null,null,null,null,null,null,null,null,null,null,null,null,null,null,null,null,null,null,null,null,null,null,null,null,null,null,null,null,null,null,null,null,null,null,null,null,null,null,null,null,null,null,null,null,null,null,null,null,null,null,null,null,null,null,null,null,null,null,null,null,null,null,null,null,null,null,null,null,null,null,null,null,null,null,null,null,null,null,null,null,null,null,null,null,null,null,null,null,null,null,null,null,null,null,null,null,null,null,null,null,null,null,null,null,null,null,null,null,null,null,null,null,null,null,null,null,null,null,null,null,null,null,null,null,null,null,null,null,null,null,null,null,null,null,null,null,null,null,null,null,null,null,null,null,null,null,null,null,null,null,null,null,null,null,null,null,null,null,null,null,null,null,null,null,null,null,null,null,null,null,null,null,null,null,null,null,null,null,null,null,null,null,null,null,null,null,null,null,null,null,null,null,null,null,null,null,null,null,null,null,null,null,null,null,null,null,null,null,null,null,null,null,null,null,null,null,null,null,null,null,null,null,null,null,null,null,null,null,null,null,null,null,null,null,null,null,null,null,null,null,null,null,null,null,null,null,null,null,null,null,null,null,null,null,null,null,null,null,null,null,null,null,null,null,null,null,null,null,null,null,null,null,null,null,null,null,null,null,null,null,null,null,null,null,null,null,null,null,null,null,null,null,null,null,null,null,null,null,null,null,null,null,null,null,null,null,null,null,null,null,null,null,null,null,null,null,null,null,null,null,null,null,null,null,null,null,null,null,null,null,null,null,null,null,null,null,null,null,null,null,null,null,null,null,null,null,null,null,null,null,null,null,null,null,null,null,null,null,null,null,null,null,null,null,null,null,null,null,null,null,null,null,null,null,null,null,null,null,null,null,null,null,null,null,null,null,null,null,null,null,null,null,null,null,null,null,null,null,null,null,null,null,null,null,null,null,null,null,null,null,null,null,null,null,null,null,null,null,null,null,null,null,null,null,null,null,null,null,null,null,null,null,null,null,null,null,null,null,null,null,null,null,null,null,null,null,null,null,null,null,null,null,null,null,null,null,null,null,null,null,null,null,null,null,null,null,null,null,null,null,null,null,null,null,null,null,null,null,null,null,null,null,null,null,null,null,null,null,null,null,null,null,null,null,null,null,null,null,null,null,null,null,null,null,null,null,null,null,null,null,null,null,null,null,null,null,null,null,null,null,null,null,null,null,null,null,null,null,null,null,null,null,null,null,null,null,null,null,null,null,null,null,null,null,null,null,null,null,null,null,null,null,null,null,null,null,null,null,null,null,null,null,null,null,null,null,null,null,null,null,null,null,null,null,null,null,null,null,null,null,null,null,null,null,null,null,null,null,null,null,null,null,null,null,null,null,null,null,null,null,null,null,null,null,null,null,null,null,null,null,null,null,null,null,null,null,null,null,null,null,null,null,null,null,null,null,null,null,null,null,null,null,null,null,null,null,null,null,null,null,null,null,null,null,null,null,null,null,null,null,null,null,null,null,null,null,null,null,null,null,null,null,null,null,null,null,null,null,null,null,null,null,null,null,null,null,null,null,null,null,null,null,null,null,null,null,null,null,null,null,null,null,null,null,null,null,null,null,null,null,null,null,null,null,null,null,null,null,null,null,null,null,null,null,null,null,null,null,null,null,null,null,null,null,null,null,null,null,null,null,null,null,null,null,null,null,null,null,null,null,null,null,null,null,null,null,null,null,null,null,null,null,null,null,null,null,null,null,null,null,null,null,null,null,null,null,null,null,null,null,null,null,null,null,null,null,null,null,null,null,null,null,null,null,null,null,null,null,null,null,null,null,null,null,null,null,null,null,null,null,null,null,null,null,null,null,null,null,null,null,null,null,null,null,null,null,null,null,null,null,null,null,null,null,null,null,null,null,null,null,null,null,null,null,null,null,null,null,null,null,null,null,null,null,null,null,null,null,null,null,null,null,null,null,null,null,null,null,null,null,null,null,null,null,null,null,null,null,null,null,null,null,null,null,null,null,null,null,null,null,null,null,null,null,null,null,null,null,null,null,null,null,null,null,null,null,null,null,null,null,null,null,null,null,null,null,null,null,null,null,null,null,null,null,null,null,null,null,null,null,null,null,null,null,null,null,null,null,null,null,null,null,null,null,null,null,null,null,null,null,null,null,null,null,null,null,null,null,null,null,null,null,null,null,null,null,null,null,null,null,null,null,null,null,null,null,null,null,null,null,null,null,null,null,null,null,null,null,null,null,null,null,null,null,null,null,null,null,null,null,null,null,null,null,null,null,null,null,null,null,null,null,null,null,null,null,null,null,null,null,null,null,null,null,null,null,null,null,null,null,null,null,null,null,null,null,null,null,null,null,null,null,null,null,null,null,null,null,null,null,null,null,null,null,null,null,null,null,null,null,null,null,null,null,null,null,null,null,null,null,null,null,null,null,null,null,null,null,null,null,null,null,null,null,null,null,null,null,null,null,null,null,null,null,null,null,null,null,null,null,null,null,null,null,null,null,null,null,null,null,null,null,null,null,null,null,null,null,null,null,null,null,null,null,null,null,null,null,null,null,null,null,null,null,null,null,null,null,null,null,null,null,null,null,null,null,null,null,null,null,null,null,null,null,null,null,null,null,null,null,null,null,null,null,null,null,null,null,null,null,null,null,null,null,null,null,null,null,null,null,null,null,null,null,null,null,null,null,null,null,null,null,null,null,null,null,null,null,null,null,null,null,null,null,null,null,null,null,null,null,null,null,null,null,null,null,null,null,null,null,null,null,null,null,null,null,null,null,null,null,null,null,null,null,null,null,null,null,null,null,null,null,null,null,null,null,null,null,null,null,null,null,null,null,null,null,null,null,null,null,null,null,null,null,null,null,null,null,null,null,null,null,null,null,null,null,null,null,null,null,null,null,null,null,null,null,null,null,null,null,null,null,null,null,null,null,null,null,null,null,null,null,null,null,null,null,null,null,null,null,null,null,null,null,null,null,null,null,null,null,null,null,null,null,null,null,null,null,null,null,null,null,null,null,null,null,null,null,null,null,null,null,null,null,null,null,null,null,null,null,null,null,null,null,null,null,null,null,null,null,null,null,null,null,null,null,null,null,null,null,null,null,null,null,null,null,null,null,null,null,null,null,null,null,null,null,null,null,null,null,null,null,null,null,null,null,null,null,null,null,null,null,null,null,null,null,null,null,null,null,null,null,null,null,null,null,null,null,null,null,null,null,null,null,null,null,null,null,null,null,null,null,null,null,null,null,null,null,null,null,null,null,null,null,null,null,null,null,null,null,null,null,null,null,null,null,null,null,null,null,null,null,null,null,null,null,null,null,null,null,null,null,null,null,null,null,null,null,null,null,null,null,null,null,null,null,null,null,null,null,null,null,null,null,null,null,null,null,null,null,null,null,null,null,null,null,null,null,null,null,null,null,null,null,null,null,null,null,null,null,null,null,null,null,null,null,null,null,null,null,null,null,null,null,null,null,null,null,null,null,null,null,null,null,null,null,null,null,null,null,null,null,null,null,null,null,null,null,null,null,null,null,null,null,null,null,null,null,null,null,null,null,null,null,null,null,null,null,null,null,null,null,null,null,null,null,null,null,null,null,null,null,null,null,null,null,null,null,null,null,null,null,null,null,null,null,null,null,null,null,null,null,null,null,null,null,null,null,null,null,null,null,null,null,null,null,null,null,null,null,null,null,null,null,null,null,null,null,null,null,null,null,null,null,null,null,null,null,null,null,null,null,null,null,null,null,null,null,null,null,null,null,null,null,null,null,null,null,null,null,null,null,null,null,null,null,null,null,null,null,null,null,null,null,null,null,null,null,null,null,null,null,null,null,null,null,null,null,null,null,null,null,null,null,null,null,null,null,null,null,null,null,null,null,null,null,null,null,null,null,null,null,null,null,null,null,null,null,null,null,null,null,null,null,null,null,null,null,null,null,null,null,null,null,null,null,null,null,null,null,null,null,null,null,null,null,null,null,null,null,null,null,null,null,null,null,null,null,null,null,null,null,null,null,null,null,null,null,null,null,null,null,null,null,null,null,null,null,null,null,null,null,null,null,null,null,null,null,null,null,null,null,null,null,null,null,null,null,null,null,null,null,null,null,null,null,null,null,null,null,null,null,null,null,null,null,null,null,null,null,null,null,null,null,null,null,null,null,null,null,null,null,null,null,null,null,null,null,null,null,null,null,null,null,null,null,null,null,null,null,null,null,"W",null,null,null,null,null,null,null,null,null,null,null,null,null,null,null,null,null,null,null,null,null,null,null,null,null,null,null,null,null,null,null,null,null,null,null,null,null,null,null,null,null,null,null,null,null,null,null,null,null,null,null,null,null,null,null,null,null,null,null,null,null,null,null,null,null,null,null,null,null,null,null,null,null,null,null,null,null,null,null,null,null,null,null,null,null,null,null,null,null,null,null,null,null,null,null,null,null,null,null,null,null,null,null,null,null,null,null,null,null,null,null,null,null,null,null,null,null,null,null,null,null,null,null,null,null,null,null,null,null,null,null,null,null,null,null,null,null,null,null,null,null,null,null,null,null,null,null,null,null,null,null,null,null,null,null,null,null,null,null,null,null,null,null,null,null,null,null,null,null,null,null,null,null,null,null,null,null,null,null,null,null,null,null,null,null,null,null,null,null,null,null,null,null,null,null,null,null,null,null,null,null,null,null,null,null,null,null,null,null,null,null,null,null,null,null,null,null,null,null,null,null,null,null,null,null,null,null,null,null,null,null,null,null,null,null,null,null,null,null,null,null,null,null,null,null,null,null,null,null,null,null,null,null,null,null,null,null,null,null,null,null,null,null,null,null,null,null,null,null,null,null,null,null,null,null,null,null,null,null,null,null,null,null,null,null,null,null,null,null,null,null,null,null,null,null,null,"L",null,null,null,null,null,null,null,null,null,null,null,null,null,null,null,null,null,null,null,null,null,null,null,null,null,null,null,null,null,null,null,null,null,null,null,null,null,null,null,null,null,null,null,null,null,null,null,null,null,null,null,null,null,null,null,null,null,null,null,null,null,null,null,null,null,null,null,null,null,null,null,null,null,null,null,null,null,null,null,null,null,null,null,null,null,null,null,null,null,null,null,null,null,null,null,null,null,null,null,null,null,null,null,null,null,null,null,null,null,null,null,null,null,null,null,null,null,null,null,null,null,null,null,null,null,null,null,null,null,null,null,null,null,null,null,null,null,null,null,null,null,null,null,null,null,null,null,null,null,null,null,null,null,null,null,null,null,null,null,null,null,null,null,null,null,null,null,null,null,null,null,null,null,null,null,null,null,null,null,null,null,null,null,null,null,null,null,null,null,null,null,null,null,null,null,null,null,null,null,null,null,null,null,null,null,null,null,null,null,null,null,null,null,null,null,null,null,null,null,null,null,null,null,null,null,null,null,null,null,null,null,null,null,null,null,null,null,null,null,null,null,null,null,null,null,null,null,null,null,null,null,null,null,null,null,null,null,null,null,null,null,null,null,null,null,null,null,null,null,null,null,null,null,null,null,null,null,null,null,null,null,null,null,null,null,null,null,null,null,null,null,null,null,null,null,null,null,null,null,null,null,null,null,null,null,null,null,null,null,null,null,null,null,null,null,null,null,null,null,null,null,null,null,null,null,null,null,null,null,null,null,null,null,null,null,null,null,null,null,null,null,null,null,null,null,null,null,null,null,null,null,null,null,null,null,null,null,null,null,null,null,null,null,null,null,null,null,null,null,null,null,null,null,null,null,null,null,null,null,null,null,null,null,null,null,null,null,null,null,null,null,null,null,null,null,null,null,null,null,null,null,null,null,null,null,null,null,null,null,null,null,null,null,null,null,null,null,null,null,null,null,null,null,null,null,null,null,null,null,null,null,null,null,null,null,null,null,null,null,null,null,null,null,null,null,null,null,null,null,null,null,null,null,null,null,null,null,null,null,null,null,null,null,null,null,null,null,null,null,null,null,null,null,null,null,null,null,null,null,null,null,null,null,null,null,null,null,null,null,null,null,null,null,null,null,null,null,null,null,null,null,null,null,null,null,null,null,null,null,null,null,null,null,null,null,null,null,null,null,null,null,null,null,null,null,null,null,null,null,null,null,null,null,null,null,null,null,null,null,null,null,null,null,null,null,null,null,null,null,null,null,null,null,null,null,null,null,null,null,null,null,null,null,null,null,null,null,null,null,null,null,null,null,null,null,null,null,null,null,null,null,null,null,null,null,null,null,null,null,null,null,null,null,null,null,null,null,null,null,null,null,null,null,null,null,null,null,null,null,null,null,null,null,null,null,null,null,null,null,null,null,null,null,null,null,null,null,null,null,null,null,null,null,null,null,null,null,null,null,null,null,null,null,null,null,null,null,null,null,null,null,null,null,"D",null,null,null,null,null,null,null,null,null,null,null,null,null,null,null,null,null,null,null,null,null,null,null,null,null,null,null,null,null,null,null,null,null,null,null,null,null,null,null,null,null,null,null,null,null,null,null,null,null,null,null,null,null,null,null,null,null,null,null,null,null,null,null,null,null,null,null,null,null,null,null,null,null,null,null,null,null,null,null,null,null,null,null,null,null,null,null,null,null,null,null,null,null,null,null,null,null,null,null,null,null,null,null,null,null,null,null,null,null,null,null,null,null,null,null,null,null,null,null,null,null,null,null,null,null,null,null,null,null,null,null,null,null,null,null,null,null,null,null,null,null,null,null,null,null,null,null,null,null,null,null,null,null,null,null,null,null,null,null,null,null,null,null,null,null,null,null,null,null,null,null,null,null,null,null,null,null,null,null,null,null,null,null,null,null,null,null,null,null,null,null,null,null,null,null,null,null,null,null,null,null,null,null,null,null,null,null,null,null,null,null,null,null,null,null,null,null,null,null,null,null,null,null,null,null,null,null,null,null,null,null,null,null,null,null,null,null,null,null,null,null,null,null,null,null,null,null,null,null,null,null,null,null,null,null,null,null,null,null,null,null,null,null,null,null,null,null,null,null,null,null,null,null,null,null,null,null,null,null,null,null,null,null,null,null,null,null,null,null,null,null,null,null,null,null,null,null,null,null,null,null,null,null,null,null,null,null,null,null,null,null,null,null,null,null,null,null,null,null,null,null,null,null,null,null,null,null,null,null,null,null,null,null,null,null,null,null,null,null,null,null,null,null,null,null,null,null,null,null,null,null,null,null,null,null,null,null,null,null,null,null,null,null,null,null,null,null,null,null,null,null,null,null,null,null,null,null,null,null,null,null,null,null,null,null,null,null,null,null,null,null,null,null,null,null,null,null,null,null,null,null,null,null,null,null,null,null,null,null,null,null,null,null,null,null,null,null,null,null,null,null,null,null,null,null,null,null,null,null,null,null,null,null,null,null,null,null,null,null,null,null,null,null,null,null,null,null,null,null,null,null,null,null,null,null,null,null,null,null,null,null,null,null,null,null,null,null,null,null,null,null,null,null,null,null,null,null,null,null,null,null,null,null,null,null,null,null,null,null,null,null,null,null,null,null,null,null,null,null,null,null,null,null,null,null,null,null,null,null,null,null,null,null,null,null,null,null,null,null,null,null,null,null,null,null,null,null,null,null,null,null,null,null,null,null,null,null,null,null,null,null,null,null,null,null,null,null,null,null,null,null,null,null,null,null,null,null,null,null,null,null,null,null,null,null,null,null,null,null,null,null,null,null,null,null,null,null,null,null,null,null,null,null,null,null,null,null,null,null,null,null,null,null,null,null,null,null,null,null,null,null,null,null,null,null,null,null,null,null,null,null,null,null,null,null,null,null,null,null,null,null,null,null,null,null,null,null,null,null,null,null,null,null,null,null,null,null,null,null,null,null,null,null,null,null,null,null,null,null,null,null,null,null,null,null,null,null,null,null,null,null,null,null,null,null,null,null,null,null,null,null,null,null,null,null,null,null,null,null,null,null,null,null,null,null,null,null,null,null,null,null,null,null,null,null,null,null,null,null,null,null,null,null,null,null,null,null,null,null,null,null,null,null,null,null,null,null,null,null,null,null,null,null,null,null,null,null,null,null,null,null,null,null,null,null,null,null,null,null,null,null,null,null,null,null,null,null,null,null,null,null,null,null,null,null,null,null,null,null,null,null,null,null,null,null,null,null,null,null,null,null,null,null,null,null,null,null,null,null,null,null,null,null,null,null,null,null,null,null,null,null,null,null,null,null,null,null,null,null,null,null,null,null,null,null,null,null,null,null,null,null,null,null,null,null,null,null,null,null,null,null,null,null,null,null,null,null,null,null,null,null,null,null,null,null,null,null,null,null,null,null,null,null,null,null,null,null,null,null,null,null,null,null,null,null,null,null,null,null,null,null,null,null,null,null,null,null,null,null,null,null,null,null,null,null,null,null,null,null,null,null,null,null,null,null,null,null,null,null,null,null,null,null,null,null,null,null,null,null,null,null,null,null,null,null,null,null,null,null,null,null,null,null,null,null,null,null,null,null,null,null,null,null,null,null,null,null,null,null,null,null,null,null,null,null,null,null,null,null,null,null,null,null,null,null,null,null,null,null,null,null,null,null,null,null,null,null,null,null,null,null,null,null,null,null,null,null,null,null,null,null,null,null,null,null,null,null,null,null,null,null,null,null,null,null,null,null,null,null,null,null,null,null,null,null,null,null,null,null,null,null,null,null,null,null,null,null,null,null,null,null,null,null,null,null,null,null,null,null,null,null,null,null,null,null,null,null,null,null,null,null,null,null,null,null,null,null,null,null,null,null,null,null,null,null,null,null,null,null,null,null,null,null,null,null,null,null,null,null,null,null,null,null,null,null,null,null,null,null,null,null,null,null,null,null,null,null,null,null,null,null,null,null,null,null,null,null,null,null,null,null,null,null,null,null,null,null,null,null,null,null,null,null,null,null,null,null,null,null,null,null,null,null,null,null,null,null,null,null,null,null,null,null,null,null,null,null,null,null,null,null,null,null,null,null,null,null,null,null,null,null,null,null,null,null,null,null,null,null,null,null,null,null,null,null,null,null,null,null,null,null,null,null,null,null,null,null,null,null,null,null,null,null,null,null,null,null,null,null,null,null,null,null,null,null,null,null,null,null,null,null,null,null,null,null,null,null,null,null,null,null,null,null,null,null,null,null,null,null,null,null,null,null,null,null,null,null,null,null,null,null,null,null,null,null,null,null,null,null,null,null,null,null,null,null,null,null,null,null,null,null,null,null,null,null,null,null,null,null,null,null,null,null,null,null,null,null,null,null,null,null,null,null,null,null,null,null,null,null,null,null,null,null,null,null,null,null,null,null,null,null,null,null,null,null,null,null,null,null,null,null,null,null,null,null,null,null,null,null,null,null,null,null,null,null,null,null,null,null,null,null,null,null,null,null,null,null,null,null,null,null,null,null,null,null,null,null,null,null,null,null,null,null,null,null,null,null,null,null,null,null,null,null,null,null,null,null,null,null,null,null,null,null,null,null,null,null,null,null,null,null,null,null,null,null,null,null,null,null,null,null,null,null,null,null,null,null,null,null,null,null,null,null,null,null,null,null,null,null,null,null,null,null,null,null,null,null,null,null,null,null,null,null,null,null,null,null,null,null,null,null,null,null,null,null,null,null,null,null,null,null,null,null,null,null,null,null,null,null,null,null,null,null,null,null,null,null,null,null,null,null,null,null,null,null,null,null,null,null,null,null,null,null,null,null,null,null,null,null,null,null,null,null,null,null,null,null,null,null,null,null,null,null,null,null,null,null,null,null,null,null,null,null,null,null,null,null,null,null,null,null,null,null,null,null,null,null,null,null,null,null,null,null,null,null,null,null,null,null,null,null,null,null,null,null,null,null,null,null,null,null,null,null,null,null,null,null,null,null,null,null,null,null,null,null,null,null,null,null,null,null,null,null,null,null,null,null,null,null,null,null,null,null,null,null,null,null,null,null,null,null,null,null,null,null,null,null,null,null,null,null,null,null,null,null,null,null,null,null,null,null,null,null,null,null,null,null,null,null,null,null,null,null,null,null,null,null,null,null,null,null,null,null,null,null,null,null,null,null,null,null,null,null,null,null,null,null,null,null,null,null,null,null,null,null,null,null,null,null,null,null,null,null,null,null,null,null,null,null,null,null,null,null,null,null,null,null,null,null,null,null,null,null,null,null,null,null,null,null,null,null,null,null,null,null,null,null,null,null,null,null,null,null,null,null,null,null,null,null,null,null,null,null,null,null,null,null,null,null,null,null,null,null,null,null,null,null,null,null,null,null,null,null,null,null,null,null,null,null,null,null,null,null,null,null,null,null,null,null,null,null,null,null,null,null,null,null,null,null,null,null,null,null,null,null,null,null,null,null,null,null,null,null,null,null,null,null,null,null,null,null,null,null,null,null,null,null,null,null,null,null,null,null,null,null,null,null,null,null,null,null,null,null,null,null,null,null,null,null,null,null,null,null,null,null,null,null,null,null,null,null,null,null,null,null,null,null,null,null,null,null,null,null,null,null,null,null,null,null,null,null,null,null,null,null,null,null,null,null,null,null,null,null,null,null,null,null,null,null,null,null,null,null,null,null,null,null,null,null,null,null,null,null,null,null,null,null,null,null,null,null,null,null,null,null,null,null,null,null,null,null,null,null,null,null,null,null,null,null,null,null,null,null,null,null,null,null,null,null,null,null,null,null,null,null,null,null,null,null,null,null,null,null,null,null,null,null,null,null,null,null,null,null,null,null,null,null,null,null,null,null,null,null,null,null,null,null,null,null,null,null,null,null,null,null,null,null,null,null,null,null,null,null,null,null,null,null,null,null,null,null,null,null,null,null,null,null,null,null,null,null,null,null,null,null,null,null,null,null,null,null,null,null,null,null,null,null,null,null,null,null,null,null,null,null,null,null,null,null,null,null,null,null,null,null,null,null,null,null,null,null,null,null,null,null,null,null,null,null,null,null,null,null,null,null,null,null,null,null,null,null,null,null,null,null,null,null,null,null,null,null,null,null,null,null,null,null,null,null,null,null,null,null,null,null,null,null,null,null,null,null,null,null,null,null,null,null,null,null,null,null,null,null,null,null,null,null,null,null,null,null,null,null,null,null,null,null,null,null,null,null,null,null,null,null,null,null,null,null,null,null,null,null,null,null,null,null,null,null,null,null,null,null,null,null,null,null,null,null,null,null,null,null,null,null,null,null,null,null,null,null,null,null,null,null,null,null,null,null,null,null,null,null,null,null,null,null,null,null,null,null,null,null,null,null,null,null,null,null,null,null,null,null,null,null,null,null,null,null,null,null,null,null,null,null,null,null,null,null,null,null,null,null,null,null,null,null,null,null,null,null,null,null,null,null,null,null,null,null,null,null,null,null,null,null,null,null,null,null,null,null,null,null,null,null,null,null,null,null,null,null,null,null,null,null,null,null,null,null,null,null,null,null,null,null,null,null,null,null,null,null,null,null,null,null,null,null,null,null,null,null,null,null,null,null,null,null,null,null,null,null,null,null,null,null,null,null,null,null,null,null,null,null,null,null,null,null,null,null,null,null,null,null,null,null,null,null,null,null,null,null,null,null,null,null,null,null,null,null,null,null,null,null,null,null,null,null,null,null,null,null,null,null,null,null,null,null,null,null,null,null,null,null,null,null,null,null,null,null,null,null,null,null,null,null,null,null,null,null,null,null,null,null,null,null,null,null,null,null,null,null,null,null,null,null,null,null,null,null,null,null,null,null,null,null,null,null,null,null,null,null,null,null,null,null,null,null,null,null,null,null,null,null,null,null,null,null,null,null,null,null,null,null,null,null,null,null,null,null,null,null,null,null,null,null,null,null,null,null,null,null,null,null,null,null,null,null,null,null,null,null,null,null,null,null,null,null,null,null,null,null,null,null,null,null,null,null,null,null,null,null,null,null,null,null,null,null,null,null,null,null,null,null,null,null,null,null,null,null,null,null,null,null,null,null,null,null,null,null,null,null,null,null,null,null,null,null,null,null,null,null,null,null,null,null,null,null,null,null,null,null,null,null,null,null,null,null,null,null,null,null,null,null,null,null,null,null,null,null,null,null,null,null,null,null,null,null,null,null,null,null,"W",null,null,null,null,null,null,null,null,null,null,null,null,null,null,null,null,null,null,null,null,null,null,null,null,null,null,null,null,null,null,null,null,null,null,null,null,null,null,null,null,null,null,null,null,null,null,null,null,null,null,null,null,null,null,null,null,null,null,null,null,null,null,null,null,null,null,null,null,null,null,null,null,null,null,null,null,null,null,null,null,null,null,null,null,null,null,null,null,null,null,null,null,null,null,null,null,null,null,null,null,null,null,null,null,null,null,null,null,null,null,null,null,null,null,null,null,null,null,null,null,null,null,null,null,null,null,null,null,null,null,null,null,null,null,null,null,null,null,null,null,null,null,null,null,null,null,null,null,null,null,null,null,null,null,null,null,null,null,null,null,null,null,null,null,null,null,null,null,null,null,null,null,null,null,null,null,null,null,null,null,null,null,null,null,null,null,null,null,null,null,null,null,null,null,null,null,null,null,null,null,null,null,null,null,null,null,null,null,null,null,null,null,null,null,null,null,null,null,null,null,null,null,null,null,null,null,null,null,null,null,null,null,null,null,null,null,null,null,null,null,null,null,null,null,null,null,null,null,null,null,null,null,null,null,null,null,null,null,null,null,null,null,null,null,null,null,null,null,null,null,null,null,null,null,null,null,null,null,null,null,null,null,null,null,null,null,null,null,null,null,null,null,null,null,null,null,null,null,null,null,null,null,null,null,null,null,null,null,null,null,null,null,null,null,null,null,null,null,null,null,null,null,null,null,null,null,null,null,null,null,null,null,null,null,null,null,null,null,null,null,null,null,null,null,null,null,null,null,null,null,null,null,null,null,null,null,null,null,null,"W"]
[null,null,null,null,null,null,null,null,null,null,null,null,null,null,null,null,null,null,null,null,null,null,null,null,null,null,null,null,null,null,null,null,null,null,null,null,null,null,null,null,null,null,null,null,null,null,null,null,null,null,null,null,null,null,null,null,null,null,null,null,null,null,null,null,null,null,null,null,null,null,null,null,null,null,null,null,null,null,null,null,null,null,null,null,null,null,null,null,null,null,null,null,null,null,null,null,null,null,null,null,null,null,null,null,null,null,null,null,null,null,null,null,null,null,null,null,null,null,null,null,null,null,null,null,null,null,null,null,null,null,null,null,null,null,null,null,null,null,null,null,null,null,null,null,null,null,null,null,null,null,null,null,null,null,null,null,null,null,null,null,null,null,null,null,null,null,null,null,null,null,null,null,null,null,null,null,null,null,null,null,null,null,null,null,null,null,null,null,null,null,null,null,null,null,null,null,null,null,null,null,null,null,null,null,null,null,null,null,null,null,null,null,null,null,null,null,null,null,null,null,null,null,null,null,null,null,null,null,null,null,null,null,null,null,null,null,null,null,null,null,null,null,null,null,null,null,null,null,null,null,null,null,null,null,null,null,null,null,null,null,null,null,null,null,null,null,null,null,null,null,null,null,null,null,null,null,null,null,null,null,null,null,null,null,null,null,null,null,null,null,null,null,null,null,null,null,null,null,null,null,null,null,null,null,null,null,null,null,null,null,null,null,null,null,null,null,null,null,null,null,null,null,null,null,null,null,null,null,null,null,null,null,null,null,null,null,null,null,null,null,null,null,null,null,null,null,null,null,null,null,null,null,null,null,null,null,null,null,null,null,null,null,null,null,null,null,null,null,null,null,null,null,null,null,null,null,null,null,null,null,null,null,null,null,null,null,null,null,null,null,null,null,null,null,null,null,null,null,null,null,null,null,null,null,null,null,null,null,null,null,null,null,null,null,null,null,null,null,null,null,null,null,null,null,null,null,null,null,null,null,null,null,null,null,null,null,null,null,null,null,null,null,null,null,null,null,null,null,null,null,null,null,null,null,null,null,null,null,null,null,null,null,null,null,null,null,null,null,null,null,null,null,null,null,null,null,null,null,null,null,null,null,null,null,null,null,null,null,null,null,null,null,null,null,null,null,null,null,null,null,null,null,null,null,null,null,null,null,null,null,null,null,null,null,null,null,null,null,null,null,null,null,null,null,null,null,null,null,null,null,null,null,null,null,null,null,null,null,null,null,null,null,null,null,null,null,null,null,null,null,null,null,null,null,null,null,null,null,null,null,null,null,null,null,null,null,null,null,null,null,null,null,null,null,null,null,null,null,null,null,null,null,null,null,null,null,null,null,null,null,null,null,null,null,null,null,null,null,null,null,null,null,null,null,null,null,null,null,null,null,null,null,null,null,null,null,null,null,null,null,null,null,null,null,null,null,null,null,null,null,null,null,null,null,null,null,null,null,null,null,null,null,null,null,null,null,null,null,null,null,null,null,null,null,null,null,null,null,null,null,null,null,null,null,null,null,null,null,null,null,null,null,null,null,null,null,null,null,null,null,null,null,null,null,null,null,null,null,null,null,null,null,null,null,null,null,null,null,null,null,null,null,null,null,null,null,null,null,null,null,null,null,null,null,null,null,null,null,null,null,null,null,null,null,null,null,null,null,null,null,null,null,null,null,null,null,null,null,null,null,null,null,null,null,null,null,null,null,null,null,null,null,null,null,null,null,null,null,null,null,null,null,null,null,null,null,null,null,null,null,null,null,null,null,null,null,null,null,null,null,null,null,null,null,null,null,null,null,null,null,null,null,null,null,null,null,null,null,null,null,null,null,null,null,null,null,null,null,null,null,null,null,null,null,null,null,null,null,null,null,null,null,null,null,null,null,null,null,null,null,null,null,null,null,null,null,null,null,null,null,null,null,null,null,null,null,null,null,null,null,null,null,null,null,null,null,null,null,null,null,null,null,null,null,null,null,null,null,null,null,null,null,null,null,null,null,null,null,null,null,null,null,null,null,null,null,null,null,null,null,null,null,null,null,null,null,null,null,null,null,null,null,null,null,null,null,null,null,null,null,null,null,null,null,null,null,null,null,null,null,null,null,null,null,null,null,null,null,null,null,null,null,null,null,null,null,null,null,null,null,null,null,null,null,null,null,null,null,null,null,null,null,null,null,null,null,null,null,null,null,null,null,null,null,null,null,null,null,null,null,null,null,null,null,null,null,null,null,null,null,null,null,null,null,null,null,null,null,null,null,null,null,null,null,null,null,null,null,null,null,null,null,null,null,null,null,null,null,null,null,null,null,null,null,null,null,null,null,null,null,null,null,null,null,null,null,null,null,null,null,null,null,null,null,null,null,null,null,null,null,null,null,null,null,null,null,null,null,null,null,null,null,null,null,null,null,null,null,null,null,null,null,null,null,null,null,null,null,null,null,null,null,null,null,null,null,null,null,null,null,null,null,null,null,null,null,null,null,null,null,null,null,null,null,null,null,null,null,null,null,null,null,null,null,null,null,null,null,null,null,null,null,null,null,null,null,null,null,null,null,null,null,null,null,null,null,null,null,null,null,null,null,null,null,null,null,null,null,null,null,null,null,null,null,null,null,null,null,null,null,null,null,null,null,null,null,null,null,null,null,null,null,null,null,null,null,null,null,null,null,null,null,null,null,null,null,null,null,null,null,null,null,null,null,null,null,null,null,null,null,null,null,null,null,null,null,null,null,null,null,null,null,null,null,null,null,null,null,null,null,null,null,null,null,null,null,null,null,null,null,null,null,null,null,null,null,null,null,null,null,null,null,null,null,null,null,null,null,null,null,null,null,null,null,null,null,null,null,null,null,null,null,null,null,null,null,null,null,null,null,null,null,null,null,null,null,null,null,null,null,null,null,null,null,null,null,null,null,null,null,null,null,null,null,null,null,null,null,null,null,null,null,null,null,null,null,null,null,null,null,null,null,null,null,null,null,null,null,null,null,null,null,null,null,null,null,null,null,null,null,null,null,null,null,null,null,null,null,null,null,null,null,null,null,null,null,null,null,null,null,null,null,null,null,null,null,null,null,null,null,null,null,null,null,null,null,null,null,null,null,null,null,null,null,null,null,null,null,null,null,null,null,null,null,null,null,null,null,null,null,null,null,null,null,null,null,null,null,null,null,null,null,null,null,null,null,null,null,null,null,null,null,null,null,null,null,null,null,null,null,null,null,null,null,null,null,null,null,null,null,null,null,null,null,null,null,null,null,null,null,null,null,null,null,null,null,null,null,null,null,null,null,null,null,null,null,null,null,null,null,null,null,null,null,null,null,null,null,null,null,null,null,null,null,null,null,null,null,null,null,null,null,null,null,null,null,null,null,null,null,null,null,null,null,null,null,null,null,null,null,null,null,null,null,null,null,null,null,null,null,null,null,null,null,null,null,null,null,null,null,null,null,null,null,null,null,null,null,null,null,null,null,null,null,null,null,null,null,null,null,null,null,null,null,null,null,null,null,null,null,null,null,null,null,null,null,null,null,null,null,null,null,null,null,null,null,null,null,null,null,null,null,null,null,null,null,null,null,null,null,null,null,null,null,null,null,null,null,null,null,null,null,null,null,null,null,null,null,null,null,null,null,null,null,null,null,null,null,null,null,null,null,null,null,null,null,null,null,null,null,null,null,null,null,null,null,null,null,null,null,null,null,null,null,null,null,null,null,null,null,null,null,null,null,null,null,null,null,null,null,null,null,null,null,null,null,null,null,null,null,null,null,null,null,null,null,null,null,null,null,null,null,null,null,null,null,null,null,null,null,null,null,null,null,null,null,null,null,null,null,null,null,null,null,null,null,null,null,null,null,null,null,null,null,null,null,null,null,null,null,null,null,null,null,null,null,null,null,null,null,null,null,null,null,null,null,null,null,null,null,null,null,null,null,null,null,null,null,null,null,null,null,null,null,null,null,null,null,null,null,null,null,null,null,null,null,null,null,null,null,null,null,null,null,null,null,null,null,null,null,null,null,null,null,null,null,null,null,null,null,null,null,null,null,null,null,null,null,null,null,null,null,null,null,null,null,null,null,null,null,null,null,null,null,null,null,null,null,null,null,null,null,null,null,null,null,null,null,null,null,null,null,null,null,null,null,null,null,null,null,null,null,null,null,null,null,null,null,null,null,null,null,null,null,null,null,null,null,null,null,null,null,null,null,null,null,null,null,null,null,null,null,null,null,null,null,null,null,null,null,null,null,null,null,null,null,null,null,null,null,null,null,null,null,null,null,null,null,null,null,null,null,null,null,null,null,null,null,null,null,null,null,null,null,null,null,null,null,null,null,null,null,null,null,null,null,null,null,null,null,null,null,null,null,null,null,null,null,null,null,null,null,null,null,null,null,null,null,null,null,null,null,null,null,null,null,null,null,null,null,null,null,null,null,null,null,null,null,null,null,null,null,null,null,null,null,null,null,null,null,null,null,null,null,null,null,null,null,null,null,null,null,null,null,null,null,null,null,null,null,null,null,null,null,null,null,null,null,null,null,null,null,null,null,null,null,null,null,null,null,null,null,null,null,null,null,null,null,null,null,null,null,null,null,null,null,null,null,null,null,null,null,null,null,null,null,null,null,null,null,null,null,null,null,null,null,null,null,null,null,null,null,null,null,null,null,null,null,null,null,null,null,null,null,null,null,null,null,null,null,null,null,null,null,null,null,null,null,null,null,null,null,null,null,null,null,null,null,null,null,null,null,null,null,null,null,null,null,null,null,null,null,null,null,null,null,null,null,null,null,null,null,null,null,null,null,null,null,null,null,null,null,null,null,null,null,null,null,null,null,null,null,null,null,null,null,null,null,null,null,null,null,null,null,null,null,null,null,null,null,null,null,null,null,null,null,null,null,null,null,null,null,null,null,null,null,null,null,null,null,null,null,null,null,null,null,null,null,null,null,null,null,null,null,null,null,null,null,null,null,null,null,null,null,null,null,null,null,null,null,null,null,null,null,null,null,null,null,null,null,null,null,null,null,null,null,null,null,null,null,null,null,null,null,null,null,null,null,null,null,null,null,null,null,null,null,null,null,null,null,null,null,null,null,null,null,null,null,null,null,null,null,null,null,null,null,null,null,null,null,null,null,null,null,null,null,null,null,null,null,null,null,null,null,null,null,null,null,null,null,null,null,null,null,null,null,null,null,null,null,null,null,null,null,null,null,null,null,null,null,null,null,null,null,null,null,null,null,null,null,null,null,null,null,null,null,null,null,null,null,null,null,null,null,null,null,null,null,null,null,null,null,null,null,null,null,null,null,null,null,null,null,null,null,null,null,null,null,null,null,null,null,null,null,null,null,null,null,null,null,null,null,null,null,null,null,null,null,null,null,null,null,null,null,null,null,null,null,null,null,null,null,null,null,null,null,null,null,null,null,null,null,null,null,null,null,null,null,null,null,null,null,null,null,null,null,null,null,null,null,null,null,null,null,null,null,null,null,null,null,null,null,null,null,null,null,null,null,null,null,null,null,null,null,null,null,null,null,null,null,null,null,null,null,null,null,null,null,null,null,null,null,null,"D",null,null,null,null,null,null,null,null,null,null,null,null,null,null,null,null,null,null,null,null,null,null,null,null,null,null,null,null,null,null,null,null,null,null,null,null,null,null,null,null,null,null,null,null,null,null,null,null,null,null,null,null,null,null,null,null,null,null,null,null,null,null,null,null,null,null,null,null,null,null,null,null,null,null,null,null,null,null,null,null,null,null,null,null,null,null,null,null,null,null,null,null,null,null,null,null,null,null,null,null,null,null,null,null,null,null,null,null,null,null,null,null,null,null,null,null,null,null,null,null,null,null,null,null,null,null,null,null,null,null,null,null,null,null,null,null,null,null,null,null,null,null,null,null,null,null,null,null,null,null,null,null,null,null,null,null,null,null,null,null,null,null,null,null,null,null,null,null,null,null,null,null,null,null,null,null,null,null,null,null,null,null,null,null,null,null,null,null,null,null,null,null,null,null,null,null,null,null,null,null,null,null,null,null,null,null,null,null,null,null,null,null,null,null,null,null,null,null,null,null,null,null,null,null,null,null,null,null,null,null,null,null,null,null,null,null,null,null,null,null,null,null,null,null,null,null,null,null,null,null,null,null,null,null,null,null,null,null,null,null,null,null,null,null,null,null,null,null,null,null,null,null,null,null,null,null,null,null,null,null,null,null,null,null,null,null,null,null,null,null,null,null,null,null,null,null,"W",null,null,null,null,null,null,null,null,null,null,null,null,null,null,null,null,null,null,null,null,null,null,null,null,null,null,null,null,null,null,null,null,null,null,null,null,null,null,null,null,null,null,null,null,null,null,null,null,null,null,null,null,null,null,null,null,null,null,null,null,null,null,null,null,null,null,null,null,null,null,null,null,null,null,null,null,null,null,null,null,null,null,null,null,null,null,null,null,null,null,null,null,null,null,null,null,null,null,null,null,null,null,null,null,null,null,null,null,null,null,null,null,null,null,null,null,null,null,null,null,null,null,null,null,null,null,null,null,null,null,null,null,null,null,null,null,null,null,null,null,null,null,null,null,null,null,null,null,null,null,null,null,null,null,null,null,null,null,null,null,null,null,null,null,null,null,null,null,null,null,null,null,null,null,null,null,null,null,null,null,null,null,null,null,null,null,null,null,null,null,null,null,null,null,null,null,null,null,null,null,null,null,null,null,null,null,null,null,null,null,null,null,null,null,null,null,null,null,null,null,null,null,null,null,null,null,null,null,null,null,null,null,null,null,null,null,null,null,null,null,null,null,null,null,null,null,null,null,null,null,null,null,null,null,null,null,null,null,null,null,null,null,null,null,null,null,null,null,null,null,null,null,null,null,null,null,null,null,null,null,null,null,null,null,null,null,null,null,null,null,null,null,null,null,null,null,null,null,null,null,null,null,null,null,null,null,null,null,null,null,null,null,null,null,null,null,null,null,null,null,null,null,null,null,null,null,null,null,null,null,null,null,null,null,null,null,null,null,null,null,null,null,null,null,null,null,null,null,null,null,null,null,null,null,null,null,null,null,null,null,null,null,null,null,null,null,null,null,null,null,null,null,null,null,null,null,null,null,null,null,null,null,null,null,null,null,null,null,null,null,null,null,null,null,null,null,null,null,null,null,null,null,null,null,null,null,null,null,null,null,null,null,null,null,null,null,null,null,null,null,null,null,null,null,null,null,null,null,null,null,null,null,null,null,null,null,null,null,null,null,null,null,null,null,null,null,null,null,null,null,null,null,null,null,null,null,null,null,null,null,null,null,null,null,null,null,null,null,null,null,null,null,null,null,null,null,null,null,null,null,null,null,null,null,null,null,null,null,null,null,null,null,null,null,null,null,null,null,null,null,null,null,null,null,null,null,null,null,null,null,null,null,null,null,null,null,null,null,null,null,null,null,null,null,null,null,null,null,null,null,null,null,null,null,null,null,null,null,null,null,null,null,null,null,null,null,null,null,null,null,null,null,null,null,null,null,null,null,null,null,null,null,null,null,null,null,null,null,null,null,null,null,null,null,null,null,null,null,null,null,null,null,null,null,null,null,null,null,null,null,null,null,null,null,null,null,null,null,null,null,null,null,null,null,null,null,null,null,null,null,null,null,null,null,null,null,null,null,null,null,null,null,null,null,null,null,null,null,null,null,null,null,null,null,null,null,null,null,null,null,null,null,null,null,null,null,null,null,null,null,null,null,null,"D",null,null,null,null,null,null,null,null,null,null,null,null,null,null,null,null,null,null,null,null,null,null,null,null,null,null,null,null,null,null,null,null,null,null,null,null,null,null,null,null,null,null,null,null,null,null,null,null,null,null,null,null,null,null,null,null,null,null,null,null,null,null,null,null,null,null,null,null,null,null,null,null,null,null,null,null,null,null,null,null,null,null,null,null,null,null,null,null,null,null,null,null,null,null,null,null,null,null,null,null,null,null,null,null,null,null,null,null,null,null,null,null,null,null,null,null,null,null,null,null,null,null,null,null,null,null,null,null,null,null,null,null,null,null,null,null,null,null,null,null,null,null,null,null,null,null,null,null,null,null,null,null,null,null,null,null,null,null,null,null,null,null,null,null,null,null,null,null,null,null,null,null,null,null,null,null,null,null,null,null,null,null,null,null,null,null,null,null,null,null,null,null,null,null,null,null,null,null,null,null,null,null,null,null,null,null,null,null,null,null,null,null,null,null,null,null,null,null,null,null,null,null,null,null,null,null,null,null,null,null,null,null,null,null,null,null,null,null,null,null,null,null,null,null,null,null,null,null,null,null,null,null,null,null,null,null,null,null,null,null,null,null,null,null,null,null,null,null,null,null,null,null,null,null,null,null,null,null,null,null,null,null,null,null,null,null,null,null,null,null,null,null,null,null,null,null,null,null,null,null,null,null,null,null,null,null,null,null,null,null,null,null,null,null,null,null,null,null,null,null,null,null,null,null,null,null,null,null,null,null,null,null,null,null,null,null,null,null,null,null,null,null,null,null,null,null,null,null,null,null,null,null,null,null,null,null,null,null,null,null,null,null,null,null,null,null,null,null,null,null,null,null,null,null,null,null,null,null,null,null,null,null,null,null,null,null,null,null,null,null,null,null,null,null,null,null,null,null,null,null,null,null,null,null,null,null,null,null,null,null,null,null,null,null,null,null,null,null,null,null,null,null,null,null,null,null,null,null,null,null,null,null,null,null,null,null,null,null,null,null,null,null,null,null,null,null,null,null,null,null,null,null,null,null,null,null,null,null,null,null,null,null,null,null,null,null,null,null,null,null,null,null,null,null,null,null,null,null,null,null,null,null,null,null,null,null,null,null,null,null,null,null,null,null,null,null,null,null,null,null,null,null,null,null,null,null,null,null,null,null,null,null,null,null,null,null,null,null,null,null,null,null,null,null,null,null,null,null,null,null,null,null,null,null,null,null,null,null,null,null,null,null,null,null,null,null,null,null,null,null,null,null,null,null,null,null,null,null,null,null,null,null,null,null,null,null,null,null,null,null,null,null,null,null,null,null,null,null,null,null,null,null,null,null,null,null,null,null,null,null,null,null,null,null,null,null,null,null,null,null,null,null,null,null,null,null,null,null,null,null,null,null,null,null,null,null,null,null,null,null,null,null,null,null,null,null,null,null,null,null,null,null,null,null,null,null,null,null,null,null,null,null,null,null,null,null,null,null,null,null,null,null,null,null,null,null,null,null,null,null,null,null,null,null,null,null,null,null,null,null,null,null,null,null,null,null,null,null,null,null,null,null,null,null,null,null,null,null,null,null,null,null,null,null,null,null,null,null,null,null,null,null,null,null,null,null,null,null,null,null,null,null,null,null,null,null,null,null,null,null,null,null,null,null,null,null,null,null,null,null,null,null,null,null,null,null,null,null,null,null,null,null,null,null,null,null,null,null,null,null,null,null,null,null,null,null,null,null,null,null,null,null,null,null,null,null,null,null,null,null,null,null,null,null,null,null,null,null,null,null,null,null,null,null,null,null,null,null,null,null,null,null,null,null,null,null,null,null,null,null,null,null,null,null,null,null,null,null,null,null,null,null,null,null,null,null,null,null,null,null,null,null,null,null,null,null,null,null,null,null,null,null,null,null,null,null,null,null,null,null,null,null,null,null,null,null,null,null,null,null,null,null,null,null,null,null,null,null,null,null,null,null,null,null,null,null,null,null,null,null,null,null,null,null,null,null,null,null,null,null,null,null,null,null,null,null,null,null,null,null,null,null,null,null,null,null,null,null,null,null,null,null,null,null,null,null,null,null,null,null,null,null,null,null,null,null,null,null,null,null,null,null,null,null,null,null,null,null,null,null,null,null,null,null,null,null,null,null,null,null,null,null,null,null,null,null,null,null,null,null,null,null,null,null,null,null,null,null,null,null,null,null,null,null,null,null,null,null,null,null,null,null,null,null,null,null,null,null,null,null,null,null,null,null,null,null,null,null,null,null,null,null,null,null,null,null,null,null,null,null,null,null,null,null,null,null,null,null,null,null,null,null,null,null,null,null,null,null,null,null,null,null,null,null,null,null,null,null,null,null,null,null,null,null,null,null,null,null,null,null,null,null,null,null,null,null,null,null,null,null,null,null,null,null,null,null,null,null,null,null,null,null,null,null,null,null,null,null,null,null,null,null,null,null,null,null,null,null,null,null,null,null,null,null,null,null,null,null,null,null,null,null,null,null,null,null,null,null,null,null,null,null,null,null,null,null,null,null,null,null,null,null,null,null,null,null,null,null,null,null,null,null,null,null,null,null,null,null,null,null,null,null,null,null,null,null,null,null,null,null,null,null,null,null,null,null,null,null,null,null,null,null,null,null,null,null,null,null,null,null,null,null,null,null,null,null,null,null,null,null,null,null,null,null,null,null,null,null,null,null,null,null,null,null,null,null,null,null,null,null,null,null,null,null,null,null,null,null,null,null,null,null,null,null,null,null,null,null,null,null,null,null,null,null,null,null,null,null,null,null,null,null,null,null,null,null,null,null,null,null,null,null,null,null,null,null,null,null,null,null,null,null,null,null,null,null,null,null,null,null,null,null,null,null,null,null,null,null,null,null,null,null,null,null,null,null,null,null,null,null,null,null,null,null,null,null,null,null,null,null,null,null,null,null,null,null,null,null,null,null,null,null,null,null,null,null,null,null,null,null,null,null,null,null,null,null,null,null,null,null,null,null,null,null,null,null,null,null,null,null,null,null,null,null,null,null,null,null,null,null,null,null,null,null,null,null,null,null,null,null,null,null,null,null,null,null,null,null,null,null,null,null,null,null,null,null,null,null,null,null,null,null,null,null,null,null,null,null,null,null,null,null,null,null,null,null,null,null,null,null,null,null,null,null,null,null,null,null,null,null,null,null,null,null,null,null,null,null,null,null,null,null,null,null,null,null,null,null,null,null,null,null,null,null,null,null,null,null,null,null,null,null,null,null,null,null,null,null,null,null,null,null,null,null,null,null,null,null,null,null,null,null,null,null,null,null,null,null,null,null,null,null,null,null,null,null,null,null,null,null,null,null,null,null,null,null,null,null,null,null,null,null,null,null,null,null,null,null,null,null,null,null,null,null,null,null,null,null,null,null,null,null,null,null,null,null,null,null,null,null,null,null,null,null,null,null,null,null,null,null,null,null,null,null,null,null,null,null,null,null,null,null,null,null,null,null,null,null,null,null,null,null,null,null,null,null,null,null,null,null,null,null,null,null,null,null,null,null,null,null,null,null,null,null,null,null,null,null,null,null,null,null,null,null,null,null,null,null,null,null,null,null,null,null,null,null,null,null,null,null,null,null,null,null,null,null,null,null,null,null,null,null,null,null,null,null,null,null,null,null,null,null,null,null,null,null,null,null,null,null,null,null,null,null,null,null,null,null,null,null,null,null,null,null,null,null,null,null,null,null,null,null,null,null,null,null,null,null,null,null,null,null,null,null,null,null,null,null,null,null,null,null,null,null,null,null,null,null,null,null,null,null,null,null,null,null,null,null,null,null,null,null,null,null,null,null,null,null,null,null,null,null,null,null,null,null,null,null,null,null,null,null,null,null,null,null,null,null,null,null,null,null,null,null,null,null,null,null,null,null,null,null,null,null,null,null,null,null,null,null,null,null,null,null,null,null,null,null,null,null,null,null,null,null,null,null,null,null,null,null,null,null,null,null,null,null,null,null,null,null,null,null,null,null,null,null,null,null,null,null,null,null,null,null,null,null,null,null,null,null,null,null,null,null,null,null,null,null,null,null,null,null,null,null,null,null,null,null,null,null,null,null,null,null,null,null,null,null,null,null,null,null,null,null,null,null,null,null,null,null,null,null,null,null,null,null,null,null,null,null,null,null,null,null,null,null,null,null,null,null,null,null,null,null,null,null,null,null,null,null,null,null,null,null,null,null,null,null,null,null,null,null,null,null,null,null,null,null,null,null,null,null,null,null,null,null,null,null,null,null,null,null,null,null,null,null,null,null,null,null,null,null,null,null,null,null,null,null,null,null,null,null,null,null,null,null,null,null,null,null,null,null,null,null,null,null,null,null,null,null,null,null,null,null,null,null,null,null,null,null,null,null,null,null,null,null,null,null,null,null,null,null,null,null,null,null,null,null,null,null,null,null,null,null,null,null,null,null,null,null,null,null,null,null,null,null,null,null,null,null,null,null,null,null,null,null,null,null,null,null,null,null,null,null,null,null,null,null,null,null,null,null,null,null,null,null,null,null,null,null,null,null,null,null,null,null,null,null,null,null,null,null,null,null,null,null,null,null,null,null,null,null,null,null,null,null,null,null,null,null,null,null,null,null,null,null,null,null,null,null,null,null,null,null,null,null,null,null,null,null,null,null,null,null,null,null,null,null,null,null,null,null,null,null,null,null,null,null,null,null,null,null,null,null,null,null,null,null,null,null,null,null,null,null,null,null,null,null,null,null,null,null,null,null,null,null,null,null,null,null,null,null,null,null,null,null,null,null,null,null,null,null,null,null,null,null,null,null,null,null,null,null,null,null,null,null,null,null,null,null,null,null,null,null,null,null,null,null,null,null,null,null,null,null,null,null,null,null,null,null,null,null,null,null,null,null,null,null,null,null,null,null,null,null,null,null,null,null,null,null,null,null,null,null,null,null,null,null,null,null,null,null,null,null,null,null,null,null,null,null,null,null,null,null,null,null,null,null,null,null,null,null,null,null,null,null,null,null,null,null,null,null,null,null,null,null,null,null,null,null,null,null,null,null,null,null,null,null,null,null,null,null,null,null,null,null,null,null,null,null,null,null,null,null,null,null,null,null,null,null,null,null,null,null,null,null,null,null,null,null,null,null,null,null,null,null,null,null,null,null,null,null,null,null,null,null,null,null,null,null,null,null,null,null,null,null,null,null,null,null,null,null,null,null,null,null,null,null,null,null,null,null,null,null,null,null,null,null,null,null,null,null,null,null,null,null,null,null,null,null,null,null,null,null,null,null,null,null,null,null,null,null,null,null,null,null,null,null,null,null,null,null,null,null,null,null,null,null,null,null,null,null,null,null,null,null,null,null,null,null,null,null,null,null,null,null,null,null,null,null,null,null,null,null,null,null,null,null,null,null,null,null,null,null,null,null,null,null,null,null,null,null,null,null,null,null,null,null,null,null,null,null,null,null,null,null,null,null,null,null,null,null,null,null,null,null,null,null,null,null,null,null,null,null,null,null,null,null,null,null,null,null,null,null,null,null,null,null,null,null,null,null,null,null,null,null,null,null,null,null,null,null,null,null,null,null,null,null,null,null,null,null,null,null,null,null,null,null,null,null,null,null,null,null,null,null,null,null,null,null,null,null,null,null,null,null,null,null,null,null,null,null,null,null,null,null,null,null,null,null,null,null,null,null,null,null,null,null,null,null,null,"L",null,null,null,null,null,null,null,null,null,null,null,null,null,null,null,null,null,null,null,null,null,null,null,null,null,null,null,null,null,null,null,null,null,null,null,null,null,null,null,null,null,null,null,null,null,null,null,null,null,null,null,null,null,null,null,null,null,null,null,null,null,null,null,null,null,null,null,null,null,null,null,null,null,null,null,null,null,null,null,null,null,null,null,null,null,null,null,null,null,null,null,null,null,null,null,null,null,null,null,null,null,null,null,null,null,null,null,null,null,null,null,null,null,null,null,null,null,null,null,null,null,null,null,null,null,null,null,null,null,null,null,null,null,null,null,null,null,null,null,null,null,null,null,null,null,null,null,null,null,null,null,null,null,null,null,null,null,null,null,null,null,null,null,null,null,null,null,null,null,null,null,null,null,null,null,null,null,null,null,null,null,null,null,null,null,null,null,null,null,null,null,null,null,null,null,null,null,null,null,null,null,null,null,null,null,null,null,null,null,null,null,null,null,null,null,null,null,null,null,null,null,null,null,null,null,null,null,null,null,null,null,null,null,null,null,null,null,null,null,null,null,null,null,null,null,null,null,null,null,null,null,null,null,null,null,null,null,null,null,null,null,null,null,null,null,null,null,null,null,null,null,null,null,null,null,null,null,null,null,null,null,null,null,null,null,null,null,null,null,null,null,null,null,null,null,null,null,null,null,null,null,null,null,null,null,null,null,null,null,null,null,null,null,null,null,null,null,null,null,null,null,null,null,null,null,null,null,null,null,null,null,null,null,null,null,null,null,null,null,null,null,null,null,null,null,null,null,null,null,null,null,null,null,null,null,null,null,null,null,"D"]
[null,null,null,null,null,null,null,null,null,null,null,null,null,null,null,null,null,null,null,null,null,null,null,null,null,null,null,null,null,null,null,null,null,null,null,null,null,null,null,null,null,null,null,null,null,null,null,null,null,null,null,null,null,null,null,null,null,null,null,null,null,null,null,null,null,null,null,null,null,null,null,null,null,null,null,null,null,null,null,null,null,null,null,null,null,null,null,null,null,null,null,null,null,null,null,null,null,null,null,null,null,null,null,null,null,null,null,null,null,null,null,null,null,null,null,null,null,null,null,null,null,null,null,null,null,null,null,null,null,null,null,null,null,null,null,null,null,null,null,null,null,null,null,null,null,null,null,null,null,null,null,null,null,null,null,null,null,null,null,null,null,null,null,null,null,null,null,null,null,null,null,null,null,null,null,null,null,null,null,null,null,null,null,null,null,null,null,null,null,null,null,null,null,null,null,null,null,null,null,null,null,null,null,null,null,null,null,null,null,null,null,null,null,null,null,null,null,null,null,null,null,null,null,null,null,null,null,null,null,null,null,null,null,null,null,null,null,null,null,null,null,null,null,null,null,null,null,null,null,null,null,null,null,null,null,null,null,null,null,null,null,null,null,null,null,null,null,null,null,null,null,null,null,null,null,null,null,null,null,null,null,null,null,null,null,null,null,null,null,null,null,null,null,null,null,null,null,null,null,null,null,null,null,null,null,null,null,null,null,null,null,null,null,null,null,null,null,null,null,null,null,null,null,null,null,null,null,null,null,null,null,null,null,null,null,null,null,null,null,null,null,null,null,null,null,null,null,null,null,null,null,null,null,null,null,null,null,null,null,null,null,null,null,null,null,null,null,null,null,null,null,null,null,null,null,null,null,null,null,null,null,null,null,null,null,null,null,null,null,null,null,null,null,null,null,null,null,null,null,null,null,null,null,null,null,null,null,null,null,null,null,null,null,null,null,null,null,null,null,null,null,null,null,null,null,null,null,null,null,null,null,null,null,null,null,null,null,null,null,null,null,null,null,null,null,null,null,null,null,null,null,null,null,null,null,null,null,null,null,null,null,null,null,null,null,null,null,null,null,null,null,null,null,null,null,null,null,null,null,null,null,null,null,null,null,null,null,null,null,null,null,null,null,null,null,null,null,null,null,null,null,null,null,null,null,null,null,null,null,null,null,null,null,null,null,null,null,null,null,null,null,null,null,null,null,null,null,null,null,null,null,null,null,null,null,null,null,null,null,null,null,null,null,null,null,null,null,null,null,null,null,null,null,null,null,null,null,null,null,null,null,null,null,null,null,null,null,null,null,null,null,null,null,null,null,null,null,null,null,null,null,null,null,null,null,null,null,null,null,null,null,null,null,null,null,null,null,null,null,null,null,null,null,null,null,null,null,null,null,null,null,null,null,null,null,null,null,null,null,null,null,null,null,null,null,null,null,null,null,null,null,null,null,null,null,null,null,null,null,null,null,null,null,null,null,null,null,null,null,null,null,null,null,null,null,null,null,null,null,null,null,null,null,null,null,null,null,null,null,null,null,null,null,null,null,null,null,null,null,null,null,null,null,null,null,null,null,null,null,null,null,null,null,null,null,null,null,null,null,null,null,null,null,null,null,null,null,null,null,null,null,null,null,null,null,null,null,null,null,null,null,null,null,null,null,null,null,null,null,null,null,null,null,null,null,null,null,null,null,null,null,null,null,null,null,null,null,null,null,null,null,null,null,null,null,null,null,null,null,null,null,null,null,null,null,null,null,null,null,null,null,null,null,null,null,null,null,null,null,null,null,null,null,null,null,null,null,null,null,null,null,null,null,null,null,null,null,null,null,null,null,null,null,null,null,null,null,null,null,null,null,null,null,null,null,null,null,null,null,null,null,null,null,null,null,null,null,null,null,null,null,null,null,null,null,null,null,null,null,null,null,null,null,null,null,null,null,null,null,null,null,null,null,null,null,null,null,null,null,null,null,null,null,null,null,null,null,null,null,null,null,null,null,null,null,null,null,null,null,null,null,null,null,null,null,null,null,null,null,null,null,null,null,null,null,null,null,null,null,null,null,null,null,null,null,null,null,null,null,null,null,null,null,null,null,null,null,null,null,null,null,null,null,null,null,null,null,null,null,null,null,null,null,null,null,null,null,null,null,null,null,null,null,null,null,null,null,null,null,null,null,null,null,null,null,null,null,null,null,null,null,null,null,null,null,null,null,null,null,null,null,null,null,null,null,null,null,null,null,null,null,null,null,null,null,null,null,null,null,null,null,null,null,null,null,null,null,null,null,null,null,null,null,null,null,null,null,null,null,null,null,null,null,null,null,null,null,null,null,null,null,null,null,null,null,null,null,null,null,null,null,null,null,null,null,null,null,null,null,null,null,null,null,null,null,null,null,null,null,null,null,null,null,null,null,null,null,null,null,null,null,null,null,null,null,null,null,null,null,null,null,null,null,null,null,null,null,null,null,null,null,null,null,null,null,null,null,null,null,null,null,null,null,null,null,null,null,null,null,null,null,null,null,null,null,null,null,null,null,null,null,null,null,null,null,null,null,null,null,null,null,null,null,null,null,null,null,null,null,null,null,null,null,null,null,null,null,null,null,null,null,null,null,null,null,null,null,null,null,null,null,null,null,null,null,null,null,null,null,null,null,null,null,null,null,null,null,null,null,null,null,null,null,null,null,null,null,null,null,null,null,null,null,null,null,null,null,null,null,null,null,null,null,null,null,null,null,null,null,null,null,null,null,null,null,null,null,null,null,null,null,null,null,null,null,null,null,null,null,null,null,null,null,null,null,null,null,null,null,null,null,null,null,null,null,null,null,null,null,null,null,null,null,null,null,null,null,null,null,null,null,null,null,null,null,null,null,null,null,null,null,null,null,null,null,null,null,null,null,null,null,null,null,null,null,null,null,null,null,null,null,null,null,null,null,null,null,null,null,null,null,null,null,null,null,null,null,null,null,null,null,null,null,null,null,null,null,null,null,null,null,null,null,null,null,null,null,null,null,null,null,null,null,null,null,null,null,null,null,null,null,null,null,null,null,null,null,null,null,null,null,null,null,null,null,null,null,null,null,null,null,null,null,null,null,null,null,null,null,null,null,null,null,null,null,null,null,null,null,null,null,null,null,null,null,null,null,null,null,null,null,null,null,null,null,null,null,null,null,null,null,null,null,null,null,null,null,null,null,null,null,null,null,null,null,null,null,null,null,null,null,null,null,null,null,null,null,null,null,null,null,null,null,null,null,null,null,null,null,null,null,null,null,null,null,null,null,null,null,null,null,null,null,null,null,null,null,null,null,null,null,null,null,null,null,null,null,null,null,null,null,null,null,null,null,null,null,null,null,null,null,null,null,null,null,null,null,null,null,null,null,null,null,null,null,null,null,null,null,null,null,null,null,null,null,null,null,null,null,null,null,null,null,null,null,null,null,null,null,null,null,null,null,null,null,null,null,null,null,null,null,null,null,null,null,null,null,null,null,null,null,null,null,null,null,null,null,null,null,null,null,null,null,null,null,null,null,null,null,null,null,null,null,null,null,null,null,null,null,null,null,null,null,null,null,null,null,null,null,null,null,null,null,null,null,null,null,null,null,null,null,null,null,null,null,null,null,null,null,null,null,null,null,null,null,null,null,null,null,null,null,null,null,null,null,null,null,null,null,null,null,null,null,null,null,null,null,null,null,null,null,null,null,null,null,null,null,null,null,null,null,null,null,null,null,null,null,null,null,null,null,null,null,null,null,null,null,null,null,null,null,null,null,null,null,null,null,null,null,null,null,null,null,null,null,null,null,null,null,null,null,null,null,null,null,null,null,null,null,null,null,null,null,null,null,null,null,null,null,null,null,null,null,null,null,null,null,null,null,null,null,null,null,null,null,null,null,null,null,null,null,null,null,null,null,null,null,null,null,null,null,null,null,null,null,null,null,null,null,null,null,null,null,null,null,null,null,null,null,null,null,null,null,null,null,null,null,null,null,null,null,null,null,null,null,null,null,null,null,null,null,null,null,null,null,null,null,null,null,null,null,null,null,null,null,null,null,null,null,null,null,null,null,null,null,null,null,null,null,null,null,null,null,null,null,null,null,null,null,null,null,null,null,null,null,null,null,null,null,null,null,null,null,null,null,null,null,null,null,null,null,null,null,null,null,null,null,null,null,null,null,null,null,null,null,null,null,null,null,null,null,null,null,null,null,null,null,null,null,null,null,null,null,null,null,null,null,null,null,null,null,null,null,null,null,null,null,null,null,null,null,null,null,null,null,null,null,null,null,null,null,null,null,null,null,null,null,null,null,null,null,null,null,null,null,null,null,null,null,null,null,null,null,null,null,null,null,null,null,null,null,null,null,null,null,null,null,null,null,null,null,null,null,null,null,null,null,null,null,null,null,null,null,null,null,null,null,null,null,null,null,null,null,null,null,null,null,null,null,null,null,null,null,null,null,null,null,null,null,null,null,null,null,null,null,null,null,null,null,null,null,null,null,null,null,null,null,null,null,null,null,null,null,null,null,null,null,null,null,null,null,null,null,null,null,null,null,null,null,null,null,null,null,null,null,null,null,null,null,null,null,null,null,null,null,null,null,null,null,null,null,null,null,null,null,null,null,null,null,null,null,null,null,null,null,null,null,null,null,null,null,null,null,null,null,null,null,null,null,null,null,null,null,null,null,null,null,null,null,null,null,null,null,null,null,null,null,null,null,null,null,null,null,null,null,null,null,null,null,null,null,null,null,null,null,null,null,null,null,null,null,null,null,null,null,null,null,null,null,null,null,null,null,null,null,null,null,null,null,null,null,null,null,null,null,null,null,null,null,null,null,null,null,null,null,null,null,null,null,null,null,null,null,null,null,null,null,null,null,null,null,null,null,null,null,null,null,null,null,null,null,null,null,null,null,null,null,null,null,null,null,null,null,null,null,null,null,null,null,null,null,null,null,null,null,null,null,null,null,null,null,null,null,null,null,null,null,null,null,null,null,null,null,null,null,null,null,null,null,null,null,null,null,null,null,null,null,null,null,null,null,null,null,null,null,null,null,null,null,null,null,null,null,null,null,null,null,null,null,null,null,null,null,null,null,null,null,null,null,null,null,null,null,null,null,null,null,null,null,null,null,null,null,null,null,null,null,null,null,null,null,null,null,null,null,null,null,null,null,null,null,null,null,null,null,null,null,null,null,null,null,null,null,null,null,null,null,null,null,null,null,null,null,null,null,null,null,null,null,null,null,null,null,null,null,null,null,null,null,null,null,null,null,null,null,null,null,null,null,null,null,null,null,null,null,null,null,null,null,null,null,null,null,null,null,null,null,null,null,null,null,null,null,null,null,null,null,null,null,null,null,null,null,null,null,null,null,null,null,null,null,null,null,null,null,null,null,null,null,null,null,null,null,null,null,null,null,null,null,null,null,null,null,null,null,null,null,null,null,null,null,null,null,null,null,null,null,null,null,null,null,null,null,null,null,null,null,null,null,null,null,null,null,null,null,null,null,null,null,null,null,null,null,null,null,null,null,null,null,null,null,null,null,null,null,null,null,null,null,null,null,null,null,"W",null,null,null,null,null,null,null,null,null,null,null,null,null,null,null,null,null,null,null,null,null,null,null,null,null,null,null,null,null,null,null,null,null,null,null,null,null,null,null,null,null,null,null,null,null,null,null,null,null,null,null,null,null,null,null,null,null,null,null,null,null,null,null,null,null,null,null,null,null,null,null,null,null,null,null,null,null,null,null,null,null,null,null,null,null,null,null,null,null,null,null,null,null,null,null,null,null,null,null,null,null,null,null,null,null,null,null,null,null,null,null,null,null,null,null,null,null,null,null,null,null,null,null,null,null,null,null,null,null,null,null,null,null,null,null,null,null,null,null,null,null,null,null,null,null,null,null,null,null,null,null,null,null,null,null,null,null,null,null,null,null,null,null,null,null,null,null,null,null,null,null,null,null,null,null,null,null,null,null,null,null,null,null,null,null,null,null,null,null,null,null,null,null,null,null,null,null,null,null,null,null,null,null,null,null,null,null,null,null,null,null,null,null,null,null,null,null,null,null,null,null,null,null,null,null,null,null,null,null,null,null,null,null,null,null,null,null,null,null,null,null,null,null,null,null,null,null,null,null,null,null,null,null,null,null,null,null,null,null,null,null,null,null,null,null,null,null,null,null,null,null,null,null,null,null,null,null,null,null,null,null,null,null,null,null,null,null,null,null,null,null,null,null,null,null,null,"L",null,null,null,null,null,null,null,null,null,null,null,null,null,null,null,null,null,null,null,null,null,null,null,null,null,null,null,null,null,null,null,null,null,null,null,null,null,null,null,null,null,null,null,null,null,null,null,null,null,null,null,null,null,null,null,null,null,null,null,null,null,null,null,null,null,null,null,null,null,null,null,null,null,null,null,null,null,null,null,null,null,null,null,null,null,null,null,null,null,null,null,null,null,null,null,null,null,null,null,null,null,null,null,null,null,null,null,null,null,null,null,null,null,null,null,null,null,null,null,null,null,null,null,null,null,null,null,null,null,null,null,null,null,null,null,null,null,null,null,null,null,null,null,null,null,null,null,null,null,null,null,null,null,null,null,null,null,null,null,null,null,null,null,null,null,null,null,null,null,null,null,null,null,null,null,null,null,null,null,null,null,null,null,null,null,null,null,null,null,null,null,null,null,null,null,null,null,null,null,null,null,null,null,null,null,null,null,null,null,null,null,null,null,null,null,null,null,null,null,null,null,null,null,null,null,null,null,null,null,null,null,null,null,null,null,null,null,null,null,null,null,null,null,null,null,null,null,null,null,null,null,null,null,null,null,null,null,null,null,null,null,null,null,null,null,null,null,null,null,null,null,null,null,null,null,null,null,null,null,null,null,null,null,null,null,null,null,null,null,null,null,null,null,null,null,null,null,null,null,null,null,null,null,null,null,null,null,null,null,null,null,null,null,null,null,null,null,null,null,null,null,null,null,null,null,null,null,null,null,null,null,null,null,null,null,null,null,null,null,null,null,null,null,null,null,null,null,null,null,null,null,null,null,null,null,null,null,null,null,null,null,null,null,null,null,null,null,null,null,null,null,null,null,null,null,null,null,null,null,null,null,null,null,null,null,null,null,null,null,null,null,null,null,null,null,null,null,null,null,null,null,null,null,null,null,null,null,null,null,null,null,null,null,null,null,null,null,null,null,null,null,null,null,null,null,null,null,null,null,null,null,null,null,null,null,null,null,null,null,null,null,null,null,null,null,null,null,null,null,null,null,null,null,null,null,null,null,null,null,null,null,null,null,null,null,null,null,null,null,null,null,null,null,null,null,null,null,null,null,null,null,null,null,null,null,null,null,null,null,null,null,null,null,null,null,null,null,null,null,null,null,null,null,null,null,null,null,null,null,null,null,null,null,null,null,null,null,null,null,null,null,null,null,null,null,null,null,null,null,null,null,null,null,null,null,null,null,null,null,null,null,null,null,null,null,null,null,null,null,null,null,null,null,null,null,null,null,null,null,null,null,null,null,null,null,null,null,null,null,null,null,null,null,null,null,null,null,null,null,null,null,null,null,null,null,null,null,null,null,null,null,null,null,null,null,null,null,null,null,null,null,null,null,null,null,null,null,null,null,null,null,null,null,null,null,null,null,null,null,null,null,null,null,null,null,null,null,null,null,null,null,null,null,null,null,null,null,null,null,null,null,null,null,null,null,null,null,null,null,null,null,null,null,"D",null,null,null,null,null,null,null,null,null,null,null,null,null,null,null,null,null,null,null,null,null,null,null,null,null,null,null,null,null,null,null,null,null,null,null,null,null,null,null,null,null,null,null,null,null,null,null,null,null,null,null,null,null,null,null,null,null,null,null,null,null,null,null,null,null,null,null,null,null,null,null,null,null,null,null,null,null,null,null,null,null,null,null,null,null,null,null,null,null,null,null,null,null,null,null,null,null,null,null,null,null,null,null,null,null,null,null,null,null,null,null,null,null,null,null,null,null,null,null,null,null,null,null,null,null,null,null,null,null,null,null,null,null,null,null,null,null,null,null,null,null,null,null,null,null,null,null,null,null,null,null,null,null,null,null,null,null,null,null,null,null,null,null,null,null,null,null,null,null,null,null,null,null,null,null,null,null,null,null,null,null,null,null,null,null,null,null,null,null,null,null,null,null,null,null,null,null,null,null,null,null,null,null,null,null,null,null,null,null,null,null,null,null,null,null,null,null,null,null,null,null,null,null,null,null,null,null,null,null,null,null,null,null,null,null,null,null,null,null,null,null,null,null,null,null,null,null,null,null,null,null,null,null,null,null,null,null,null,null,null,null,null,null,null,null,null,null,null,null,null,null,null,null,null,null,null,null,null,null,null,null,null,null,null,null,null,null,null,null,null,null,null,null,null,null,null,null,null,null,null,null,null,null,null,null,null,null,null,null,null,null,null,null,null,null,null,null,null,null,null,null,null,null,null,null,null,null,null,null,null,null,null,null,null,null,null,null,null,null,null,null,null,null,null,null,null,null,null,null,null,null,null,null,null,null,null,null,null,null,null,null,null,null,null,null,null,null,null,null,null,null,null,null,null,null,null,null,null,null,null,null,null,null,null,null,null,null,null,null,null,null,null,null,null,null,null,null,null,null,null,null,null,null,null,null,null,null,null,null,null,null,null,null,null,null,null,null,null,null,null,null,null,null,null,null,null,null,null,null,null,null,null,null,null,null,null,null,null,null,null,null,null,null,null,null,null,null,null,null,null,null,null,null,null,null,null,null,null,null,null,null,null,null,null,null,null,null,null,null,null,null,null,null,null,null,null,null,null,null,null,null,null,null,null,null,null,null,null,null,null,null,null,null,null,null,null,null,null,null,null,null,null,null,null,null,null,null,null,null,null,null,null,null,null,null,null,null,null,null,null,null,null,null,null,null,null,null,null,null,null,null,null,null,null,null,null,null,null,null,null,null,null,null,null,null,null,null,null,null,null,null,null,null,null,null,null,null,null,null,null,null,null,null,null,null,null,null,null,null,null,null,null,null,null,null,null,null,null,null,null,null,null,null,null,null,null,null,null,null,null,null,null,null,null,null,null,null,null,null,null,null,null,null,null,null,null,null,null,null,null,null,null,null,null,null,null,null,null,null,null,null,null,null,null,null,null,null,null,null,null,null,null,null,null,null,null,null,null,null,null,null,null,null,null,null,null,null,null,null,null,null,null,null,null,null,null,null,null,null,null,null,null,null,null,null,null,null,null,null,null,null,null,null,null,null,null,null,null,null,null,null,null,null,null,null,null,null,null,null,null,null,null,null,null,null,null,null,null,null,null,null,null,null,null,null,null,null,null,null,null,null,null,null,null,null,null,null,null,null,null,null,null,null,null,null,null,null,null,null,null,null,null,null,null,null,null,null,null,null,null,null,null,null,null,null,null,null,null,null,null,null,null,null,null,null,null,null,null,null,null,null,null,null,null,null,null,null,null,null,null,null,null,null,null,null,null,null,null,null,null,null,null,null,null,null,null,null,null,null,null,null,null,null,null,null,null,null,null,null,null,null,null,null,null,null,null,null,null,null,null,null,null,null,null,null,null,null,null,null,null,null,null,null,null,null,null,null,null,null,null,null,null,null,null,null,null,null,null,null,null,null,null,null,null,null,null,null,null,null,null,null,null,null,null,null,null,null,null,null,null,null,null,null,null,null,null,null,null,null,null,null,null,null,null,null,null,null,null,null,null,null,null,null,null,null,null,null,null,null,null,null,null,null,null,null,null,null,null,null,null,null,null,null,null,null,null,null,null,null,null,null,null,null,null,null,null,null,null,null,null,null,null,null,null,null,null,null,null,null,null,null,null,null,null,null,null,null,null,null,null,null,null,null,null,null,null,null,null,null,null,null,null,null,null,null,null,null,null,null,null,null,null,null,null,null,null,null,null,null,null,null,null,null,null,null,null,null,null,null,null,null,null,null,null,null,null,null,null,null,null,null,null,null,null,null,null,null,null,null,null,null,null,null,null,null,null,null,null,null,null,null,null,null,null,null,null,null,null,null,null,null,null,null,null,null,null,null,null,null,null,null,null,null,null,null,null,null,null,null,null,null,null,null,null,null,null,null,null,null,null,null,null,null,null,null,null,null,null,null,null,null,null,null,null,null,null,null,null,null,null,null,null,null,null,null,null,null,null,null,null,null,null,null,null,null,null,null,null,null,null,null,null,null,null,null,null,null,null,null,null,null,null,null,null,null,null,null,null,null,null,null,null,null,null,null,null,null,null,null,null,null,null,null,null,null,null,null,null,null,null,null,null,null,null,null,null,null,null,null,null,null,null,null,null,null,null,null,null,null,null,null,null,null,null,null,null,null,null,null,null,null,null,null,null,null,null,null,null,null,null,null,null,null,null,null,null,null,null,null,null,null,null,null,null,null,null,null,null,null,null,null,null,null,null,null,null,null,null,null,null,null,null,null,null,null,null,null,null,null,null,null,null,null,null,null,null,null,null,null,null,null,null,null,null,null,null,null,null,null,null,null,null,null,null,null,null,null,null,null,null,null,null,null,null,null,null,null,null,null,null,null,null,null,null,null,null,null,null,null,null,null,null,null,null,null,null,null,null,null,null,null,null,null,null,null,null,null,null,null,null,null,null,null,null,null,null,null,null,null,null,null,null,null,null,null,null,null,null,null,null,null,null,null,null,null,null,null,null,null,null,null,null,null,null,null,null,null,null,null,null,null,null,null,null,null,null,null,null,null,null,null,null,null,null,null,null,null,null,null,null,null,null,null,null,null,null,null,null,null,null,null,null,null,null,null,null,null,null,null,null,null,null,null,null,null,null,null,null,null,null,null,null,null,null,null,null,null,null,null,null,null,null,null,null,null,null,null,null,null,null,null,null,null,null,null,null,null,null,null,null,null,null,null,null,null,null,null,null,null,null,null,null,null,null,null,null,null,null,null,null,null,null,null,null,null,null,null,null,null,null,null,null,null,null,null,null,null,null,null,null,null,null,null,null,null,null,null,null,null,null,null,null,null,null,null,null,null,null,null,null,null,null,null,null,null,null,null,null,null,null,null,null,null,null,null,null,null,null,null,null,null,null,null,null,null,null,null,null,null,null,null,null,null,null,null,null,null,null,null,null,null,null,null,null,null,null,null,null,null,null,null,null,null,null,null,null,null,null,null,null,null,null,null,null,null,null,null,null,null,null,null,null,null,null,null,null,null,null,null,null,null,null,null,null,null,null,null,null,null,null,null,null,null,null,null,null,null,null,null,null,null,null,null,null,null,null,null,null,null,null,null,null,null,null,null,null,null,null,null,null,null,null,null,null,null,null,null,null,null,null,null,null,null,null,null,null,null,null,null,null,null,null,null,null,null,null,null,null,null,null,null,null,null,null,null,null,null,null,null,null,null,null,null,null,null,null,null,null,null,null,null,null,null,null,null,null,null,null,null,null,null,null,null,null,null,null,null,null,null,null,null,null,null,null,null,null,null,null,null,null,null,null,null,null,null,null,null,null,null,null,null,null,null,null,null,null,null,null,null,null,null,null,null,null,null,null,null,null,null,null,null,null,null,null,null,null,null,null,null,null,null,null,null,null,null,null,null,null,null,null,null,null,null,null,null,null,null,null,null,null,null,null,null,null,null,null,null,null,null,null,null,null,null,null,null,null,null,null,null,null,null,null,null,null,null,null,null,null,null,null,null,null,null,null,null,null,null,null,null,null,null,null,null,null,null,null,null,null,null,null,null,null,null,null,null,null,null,null,null,null,null,null,null,null,null,null,null,null,null,null,null,null,null,null,null,null,null,null,null,null,null,null,null,null,null,null,null,null,null,null,null,null,null,null,null,null,null,null,null,null,null,null,null,null,null,null,null,null,null,null,null,null,null,null,null,null,null,null,null,null,null,null,null,null,null,null,null,null,null,null,null,null,null,null,null,null,null,null,null,null,null,null,null,null,null,null,null,null,null,null,null,null,null,null,null,null,null,null,null,null,null,null,null,null,null,null,null,null,null,null,null,null,null,null,null,null,null,null,null,null,null,null,null,null,null,null,null,null,null,null,null,null,null,null,null,null,null,null,null,null,null,null,null,null,null,null,null,null,null,null,null,null,null,null,null,null,null,null,null,null,null,null,null,null,null,null,null,null,null,null,null,null,null,null,null,null,null,null,null,null,null,null,null,null,null,null,null,null,null,null,null,null,null,null,null,null,null,null,null,null,null,null,null,null,null,null,null,null,null,null,null,null,null,null,null,null,null,null,null,null,null,null,null,null,null,null,null,null,null,null,null,null,null,null,null,null,null,null,null,null,null,null,null,null,null,null,null,null,null,null,null,null,null,null,null,null,null,null,null,null,null,null,null,null,null,null,null,null,null,null,null,null,null,null,null,null,null,null,null,null,null,null,null,null,null,null,null,null,null,null,null,null,null,null,null,null,null,null,null,null,null,null,null,null,null,null,null,null,null,null,null,null,null,null,null,null,null,null,null,null,null,null,null,null,null,null,null,null,null,null,null,null,null,null,null,null,null,null,null,null,null,null,null,null,null,null,null,null,null,null,null,null,null,null,null,null,null,null,null,null,null,null,null,null,null,null,null,null,null,null,null,null,null,null,null,null,null,null,null,null,null,null,null,null,null,null,null,null,null,null,null,null,null,null,null,null,null,null,null,null,null,null,null,null,null,null,null,null,null,null,null,null,null,null,null,null,null,null,null,null,null,null,null,null,null,null,null,null,null,null,null,null,null,null,null,null,null,null,null,null,null,null,null,null,null,null,null,null,null,null,null,null,null,null,null,null,null,null,null,null,null,null,null,null,null,null,null,null,null,null,null,null,null,null,null,null,null,null,null,null,null,null,null,null,null,null,null,null,null,null,null,null,null,null,null,null,null,null,null,null,null,null,null,null,null,null,null,null,null,null,null,null,null,null,null,null,null,null,null,null,null,null,null,null,null,null,null,null,null,null,null,null,null,null,null,null,null,null,null,null,null,null,null,null,null,null,null,null,null,null,null,null,null,null,null,null,null,null,null,null,null,null,null,null,null,null,null,null,null,null,null,null,null,null,null,null,null,null,null,null,null,null,null,null,null,null,null,null,null,null,null,null,null,null,null,null,null,null,null,null,null,null,null,null,null,null,null,null,null,null,null,null,null,null,null,null,null,null,null,null,null,null,null,null,null,null,null,null,null,null,null,null,null,null,null,null,null,null,null,null,null,null,null,null,null,null,null,null,null,null,null,null,null,null,null,null,null,null,null,null,null,null,null,null,null,null,null,null,null,null,null,null,null,null,null,null,null,null,null,null,null,null,null,null,null,null,null,null,null,null,null,null,null,null,null,null,null,null,null,null,null,null,null,null,null,null,null,null,null,null,null,null,null,null,null,null,null,null,null,null,null,"W",null,null,null,null,null,null,null,null,null,null,null,null,null,null,null,null,null,null,null,null,null,null,null,null,null,null,null,null,null,null,null,null,null,null,null,null,null,null,null,null,null,null,null,null,null,null,null,null,null,null,null,null,null,null,null,null,null,null,null,null,null,null,null,null,null,null,null,null,null,null,null,null,null,null,null,null,null,null,null,null,null,null,null,null,null,null,null,null,null,null,null,null,null,null,null,null,null,null,null,null,null,null,null,null,null,null,null,null,null,null,null,null,null,null,null,null,null,null,null,null,null,null,null,null,null,null,null,null,null,null,null,null,null,null,null,null,null,null,null,null,null,null,null,null,null,null,null,null,null,null,null,null,null,null,null,null,null,null,null,null,null,null,null,null,null,null,null,null,null,null,null,null,null,null,null,null,null,null,null,null,null,null,null,null,null,null,null,null,null,null,null,null,null,null,null,null,null,null,null,null,null,null,null,null,null,null,null,null,null,null,null,null,null,null,null,null,null,null,null,null,null,null,null,null,null,null,null,null,null,null,null,null,null,null,null,null,null,null,null,null,null,null,null,null,null,null,null,null,null,null,null,null,null,null,null,null,null,null,null,null,null,null,null,null,null,null,null,null,null,null,null,null,null,null,null,null,null,null,null,null,null,null,null,null,null,null,null,null,null,null,null,null,null,null,null,null,null,null,null,null,null,null,null,null,null,null,null,null,null,null,null,null,null,null,null,null,null,null,null,null,null,null,null,null,null,null,null,null,null,null,null,null,null,null,null,null,null,null,null,null,null,null,null,null,null,null,null,null,null,null,null,null,null,null,null,null,null,null,null,"W"]

{"sheet":"Veri","index":2,"n_rows":25,"n_cols":108,"rows_kept":25,"cut":false,"hidden":false,"merged":[[0,135,2,150]]}
["  H-A Same  SUI Sl",null,null,null,null,null,null,null,null,null,null,null,null,null,null,null,null,"Lugano   ",null,null,null,null,null,null,null,null,null,null,null,null,null,null,null,"Thun   ",null,null,null,null,null,null,null,null,null,null,null,null,null,"[SUI Sl-3]  Thun",null,null,null,null,null,null,null,null,null,"[SUI Sl-8] Lugano",null,null,null,null,null,null,null,null,null,null,null,null,null,null,null,null,null,null,null,null,null,null,null,null,null,null,null,null,null,null,"[SUI Sl-3]  Thun",null,null,null,null,null,null,null,null,null,"[SUI Sl-8] Lugano"]
["League/Cup","Date","Home","Score","H T","Corner","Away",null,null,null,null,null,null,"W/L","Odds","O/U",null,"  H-A Same  SUI Sl   INT CF   SUI Cup",null,null,null,null,null,null,null,null,null,null,null,null,null,null,null,"  H-A Same  SUI Sl   INT CF   SUI Cup",null,null,null,null,null,null,null,null,null,null,null,null,null,"FT","Matches","Win","Draw","Loss","Get","Miss","Pts","Rank","Rate","FT","Matches","Win","Draw","Loss","Get","Miss","Pts","Rank","Rate",null,null,null,null,null,null,null,null,null,null,null,null,null,null,null,null,null,null,null,null,null,"FT","Matches","Win","Draw","Loss","Get","Miss","Pts","Rank","Rate","FT","Matches","Win","Draw","Loss","Get","Miss","Pts","Rank","Rate"]
[null,null,null,null,null,null,null,"HW","D","AW","H","Odds","A",null,null,null,null,"League","Date","Home","Score","H T","Corner","Away",null,null,null,null,null,null,"W/L","Odds","O/U","League","Date","Home","Score","H T","Corner","Away",null,null,null,null,null,null,"W/L","Total",22,10,6,6,44,31,36,3,0.45500000000000002,"Total",22,5,8,9,32,38,23,8,0.22700000000000001,"Odds","O/U",null,null,null,null,null,null,null,null,null,null,null,null,null,null,null,null,null,null,null,"Total",22,10,6,6,44,31,36,3,0.45500000000000002,"Total",22,5,8,9,32,38,23,8,0.22700000000000001]
["SUI Sl",null,"Lugano","1-3","0-1","2-6","Thun",null,null,null,null,null,null,"W",null,null,null,null,null,null,null,null,null,null,"HW","D","AW","H","Odds","A",null,null,null,null,null,null,null,null,null,null,"HW","D","AW","H","Odds","A",null,"Home",11,5,5,1,21,15,20,3,0.45500000000000002,"Home",11,3,4,4,16,20,13,6,0.27300000000000002,null,null,null,null,null,null,null,null,null,null,null,null,null,null,null,null,null,null,null,null,null,"Home",11,5,5,1,21,15,20,3,0.45500000000000002,"Home",11,3,4,4,16,20,13,6,0.27300000000000002]
["SUI Sl",null,"Lugano","2-1","2-1","4-7","Thun",null,null,null,null,null,null,"L",null,null,null,"SUI Sl",null,"1Lugano","0-1","0-0","5-7","Young Boys",null,null,null,null,null,null,"L",null,null,"SUI Sl",null,"Thun","1-1","1-1","7-4","Grasshopper",null,null,null,null,null,null,"D","Away",11,5,1,5,23,16,16,3,0.45500000000000002,"Away",11,2,4,5,16,18,10,8,0.182,null,null,null,null,null,null,null,null,null,null,null,null,null,null,null,null,null,null,null,null,null,"Away",11,5,1,5,23,16,16,3,0.45500000000000002,"Away",11,2,4,5,16,18,10,8,0.182]
["SUI Sl",null,"Thun","1-1","0-0","7-7","Lugano",null,null,null,null,null,null,"D",null,null,null,"SUI Sl",null,"1Luzern","0-3","0-1","8-3","Lugano",null,null,null,null,null,null,"W",null,null,"SUI Sl",null,"St. Gallen","1-3","0-1","10-5","Thun",null,null,null,null,null,null,"W","Last 6",6,3,2,1,11,7,11,null,0.5,"Last 6",6,1,3,2,8,8,6,null,0.16700000000000001,null,null,null,null,null,null,null,null,null,null,null,null,null,null,null,null,null,null,null,null,null,"Last 6",6,3,2,1,11,7,11,null,0.5,"Last 6",6,1,3,2,8,8,6,null,0.16700000000000001]
["SUI Sl",null,"Lugano","1-1","1-0","7-4","Thun",null,null,null,null,null,null,"D",null,null,null,"SUI Sl",null,"FC Sion","2-2","1-1","6-2","Lugano",null,null,null,null,null,null,"D",null,null,"SUI Sl",null,"Thun","1-1","0-1","6-3","Young Boys",null,null,null,null,null,null,"D","HT","Matches","Win","Draw","Loss","Get","Miss","Pts","Rank","Rate","HT","Matches","Win","Draw","Loss","Get","Miss","Pts","Rank","Rate",null,null,null,null,null,null,null,null,null,null,null,null,null,null,null,null,null,null,null,null,null,"HT","Matches","Win","Draw","Loss","Get","Miss","Pts","Rank","Rate","HT","Matches","Win","Draw","Loss","Get","Miss","Pts","Rank","Rate"]
["SUI Sl",null,"Thun","0-2","0-0","6-7","Lugano",null,null,null,null,null,null,"L",null,null,null,"SUI Sl",null,"Lugano","1-3","0-1","2-6","Thun",null,null,null,null,null,null,"L",null,null,"SUI Sl",null,"Lugano","1-3","0-1","2-6","Thun",null,null,null,null,null,null,"W","Total",22,5,8,9,12,17,23,9,0.22700000000000001,"Total",22,7,6,9,14,16,27,5,0.318,null,null,null,null,null,null,null,null,null,null,null,null,null,null,null,null,null,null,null,null,null,"Total",22,5,8,9,12,17,23,9,0.22700000000000001,"Total",22,7,6,9,14,16,27,5,0.318]
["SUI Sl",null,"Thun","1-1","0-1","5-4","Lugano",null,null,null,null,null,null,"D",null,null,null,"INT CF",null,"Lugano","1-0","0-0",null,"FC Wacker Innsbruck",null,null,null,null,null,null,"W",null,null,"INT CF",null,"Thun","1-0","1-0",null,"Kriens",null,null,null,null,null,null,"W","Home",11,1,5,5,4,8,8,10,9.0999999999999998E-2,"Home",11,5,2,4,8,6,17,4,0.45500000000000002,null,null,null,null,null,null,null,null,null,null,null,null,null,null,null,null,null,null,null,null,null,"Home",11,1,5,5,4,8,8,10,9.0999999999999998E-2,"Home",11,5,2,4,8,6,17,4,0.45500000000000002]
["SUI Sl",null,"Lugano","4-1","2-1","12-1","Thun",null,null,null,null,null,null,"L",null,null,null,"INT CF",null,"Hamburger SV","1-0","0-0","5-4","Lugano",null,null,null,null,null,null,"L",null,null,"INT CF",null,"Bruhl SG","1-5","0-1","0-0","Thun",null,null,null,null,null,null,"W","Away",11,4,3,4,8,9,15,5,0.36399999999999999,"Away",11,2,4,5,6,10,10,8,0.182,null,null,null,null,null,null,null,null,null,null,null,null,null,null,null,null,null,null,null,null,null,"Away",11,4,3,4,8,9,15,5,0.36399999999999999,"Away",11,2,4,5,6,10,10,8,0.182]
["SUI Sl",null,"Lugano","2-1","0-0","2-3","Thun",null,null,null,null,null,null,"L",null,null,null,"INT CF",null,"Lugano(N)","3-0","1-0","8-1","Chiasso",null,null,null,null,null,null,"W",null,null,"INT CF",null,"Thun","2-0","1-0","4-5","FC Rapperswil-Jona",null,null,null,null,null,null,"W","Last 6",6,3,2,1,4,2,11,null,0.5,"Last 6",6,1,4,1,3,3,7,null,0.16700000000000001,null,null,null,null,null,null,null,null,null,null,null,null,null,null,null,null,null,null,null,null,null,"Last 6",6,3,2,1,4,2,11,null,0.5,"Last 6",6,1,4,1,3,3,7,null,0.16700000000000001]
["SUI Sl",null,"Thun","5-2","4-0","7-8","Lugano",null,null,null,null,null,null,"W",null,null,null,"SUI Sl",null,"FC Zurich","0-0","0-0","5-4","Lugano",null,null,null,null,null,null,"D",null,null,"SUI Sl",null,"Thun","1-0","0-0","6-6","Grasshopper",null,null,null,null,null,null,"W"]
["SUI Sl",null,"Lugano","1-1","0-0","1-12","Thun",null,null,null,null,null,null,"D",null,null,null,"SUI Sl",null,"Lugano","2-2","1-1","8-5","FC Sion",null,null,null,null,null,null,"D",null,null,"SUI Sl",null,"Young Boys","3-2","0-1","10-2","Thun",null,null,null,null,null,null,"L"]
[null,null,null,null,null,null,null,null,null,null,null,null,null,null,null,null,null,"SUI Sl",null,"Lugano","2-2","1-0","10-4","Neuchatel Xamax",null,null,null,null,null,null,"D",null,null,"SUI Sl",null,"Thun","2-0","0-0","7-5","St. Gallen",null,null,null,null,null,null,"W"]
[null,null,null,null,null,null,null,null,null,null,null,null,null,null,null,null,null,"SUI Sl",null,"Young Boys","1-0","0-0","5-2","Lugano",null,null,null,null,null,null,"L",null,null,"SUI Sl",null,"FC Sion","2-1","1-0","8-2","Thun",null,null,null,null,null,null,"L"]
[null,null,null,null,null,null,null,null,null,null,null,null,null,null,null,null,null,"SUI Sl",null,"Lugano","1-4","0-1","5-5","Luzern",null,null,null,null,null,null,"L",null,null,"SUI Sl",null,"Thun","4-2","1-2","3-4","Basel",null,null,null,null,null,null,"W"]
[null,null,null,null,null,null,null,null,null,null,null,null,null,null,null,null,null,"SUI Sl",null,"Basel","3-2","2-0","6-2","Lugano",null,null,null,null,null,null,"L",null,null,"SUI Sl",null,"Thun","2-2","1-0","6-1","Neuchatel Xamax",null,null,null,null,null,null,"D"]
[null,null,null,null,null,null,null,null,null,null,null,null,null,null,null,null,null,"SUI Cup",null,"Lugano","1-1","0-0","10-6","Neuchatel Xamax",null,null,null,null,null,null,"D",null,null,"SUI Cup",null,"FC Wil 1900","1-1","0-0","2-9","Thun",null,null,null,null,null,null,"D"]
[null,null,null,null,null,null,null,null,null,null,null,null,null,null,null,null,null,"SUI Sl",null,"Lugano","2-1","2-1","4-7","Thun",null,null,null,null,null,null,"W",null,null,"SUI Sl",null,"Lugano","2-1","2-1","4-7","Thun",null,null,null,null,null,null,"L"]
[null,null,null,null,null,null,null,null,null,null,null,null,null,null,null,null,null,"SUI Sl",null,"Lugano","3-1","2-0","5-2","St. Gallen",null,null,null,null,null,null,"W",null,null,"SUI Sl",null,"1Luzern","0-2","0-0","7-7","Thun",null,null,null,null,null,null,"W"]
[null,null,null,null,null,null,null,null,null,null,null,null,null,null,null,null,null,"INT CF",null,"Lugano","1-1","1-1","3-9","ACD Virtus Entella",null,null,null,null,null,null,"D",null,null,"SUI Sl",null,"Thun","2-2","0-1","2-3","FC Zurich",null,null,null,null,null,null,"D"]
[null,null,null,null,null,null,null,null,null,null,null,null,null,null,null,null,null,"SUI Sl",null,"Grasshopper","2-1","2-1","8-4","Lugano",null,null,null,null,null,null,"L",null,null,"SUI Sl",null,"Thun","1-4","1-2","8-4","Young Boys",null,null,null,null,null,null,"L"]
[null,null,null,null,null,null,null,null,null,null,null,null,null,null,null,null,null,"SUI Sl",null,"Lugano","2-2","0-1","2-8","Basel",null,null,null,null,null,null,"D",null,null,"SUI Sl",null,"Grasshopper","0-2","0-0","2-9","Thun",null,null,null,null,null,null,"W"]
[null,null,null,null,null,null,null,null,null,null,null,null,null,null,null,null,null,"SUI Sl",null,"Neuchatel Xamax","2-1","1-0","8-3","Lugano",null,null,null,null,null,null,"L",null,null,"SUI Sl",null,"Thun","4-1","0-0","4-6","FC Sion",null,null,null,null,null,null,"W"]
[null,null,null,null,null,null,null,null,null,null,null,null,null,null,null,null,null,"Last 20 matches, Win rate：25.0% Odds win rate：0.0% Over 2.5 rate：0.0% Odd rate：55.0%",null,null,null,null,null,null,null,null,null,null,null,null,null,null,null,"Last 20 matches, Win rate：55.0% Odds win rate：0.0% Over 2.5 rate：0.0% Odd rate：35.0%"]

{"sheet":"CLAUS","index":3,"n_rows":235,"n_cols":28,"rows_kept":235,"cut":false,"hidden":false,"merged":[[0,31,2,46],[226,6,226,7],[138,4,138,5],[138,6,138,7],[138,8,138,10],[138,11,138,13],[138,14,138,15],[137,16,137,17],[129,16,129,17],[130,4,130,5],[130,6,130,7],[130,8,130,10],[130,11,130,13],[130,14,130,15],[0,16,0,19],[0,22,0,25],[118,16,118,17],[126,16,126,17],[55,10,55,13],[56,10,56,11],[56,12,56,13]]}
[{"$f":"COUNTIF(A4:B23,A4)","v":20},{"$f":"COUNTIF(A4:B23,B4)","v":3},"İY","MS","İY - EV","İY - DEP",null,"MS - EV","MS - DEP","EV | DEP","İY Takımımız","İY Rakip","MS Takımımız","MS Rakip"]
[{"$f":"IF(A1>B1,A4,B4)","v":"Thun"},null,null,null,null,null,null,null,null,null,null,null,null,null,null,null,"EV SAHIBI",null,2.5,3.5,null,null,null,"DEP",null,2.5,3.5]
[null,null,"IY","MS",{"$f":"COUNT(G4:G23)","v":20},{"$f":"IF(E3>9,\"OK\",\"YETERSIZ VERI\")","v":"OK"}]
[{"$f":"Veri!AJ5","v":"Thun"},{"$f":"Veri!AN5","v":"Grasshopper"},{"$f":"Veri!AL5","v":"1-1"},{"$f":"Veri!AK5","v":"1-1"},{"$f":"MID(C4,1,FIND(\"-\",C4)-1)","v":"1"},{"$f":"MID(C4,FIND(\"-\",C4)+1,10)","v":"1"},{"$f":"F4+0","v":1},{"$f":"MID(D4,1,FIND(\"-\",D4)-1)","v":"1"},{"$f":"MID(D4,FIND(\"-\",D4)+1,10)","v":"1"},{"$f":"IF(A4=$A$2,\"EV\",\"DEP\")","v":"EV"},{"$f":"IF(J4=\"EV\",E4,F4)","v":"1"},{"$f":"IF(J4=\"DEP\",E4,F4)","v":"1"},{"$f":"IF(J4=\"EV\",H4,I4)","v":"1"},{"$f":"IF(J4=\"DEP\",H4,I4)","v":"1"},null,{"$f":"Q4+R4","v":2},{"$f":"IF(J4=\"EV\",M4,\"A\")","v":"1"},{"$f":"IF(J4=\"EV\",N4,\"A\")","v":"1"},{"$f":"IF(Q4=\"A\",\"\",P4)","v":2},{"$f":"IF(U4>$S$2,\"UST\",\"ALT\")","v":"ALT"},{"$f":"VALUE(S4)","v":2},null,{"$f":"X4+Y4","v":1},{"$f":"IF(J30=\"DEP\",M30,\"A\")","v":"1"},{"$f":"IF(J30=\"DEP\",N30,\"A\")","v":0},{"$f":"IF(X4=\"A\",\"\",W4)","v":1},{"$f":"IF(AB4>$S$2,\"UST\",\"ALT\")","v":"ALT"},{"$f":"VALUE(Z4)","v":1}]
[{"$f":"Veri!AJ6","v":"St. Gallen"},{"$f":"Veri!AN6","v":"Thun"},{"$f":"Veri!AL6","v":"0-1"},{"$f":"Veri!AK6","v":"1-3"},{"$f":"MID(C5,1,FIND(\"-\",C5)-1)","v":"0"},{"$f":"MID(C5,FIND(\"-\",C5)+1,10)","v":"1"},{"$f":"F5+0","v":1},{"$f":"MID(D5,1,FIND(\"-\",D5)-1)","v":"1"},{"$f":"MID(D5,FIND(\"-\",D5)+1,10)","v":"3"},{"$f":"IF(A5=$A$2,\"EV\",\"DEP\")","v":"DEP"},{"$f":"IF(J5=\"EV\",E5,F5)","v":"1"},{"$f":"IF(J5=\"DEP\",E5,F5)","v":"0"},{"$f":"IF(J5=\"EV\",H5,I5)","v":"3"},{"$f":"IF(J5=\"DEP\",H5,I5)","v":"1"},null,{"$f":"Q5+R5","v":{"$error":"#VALUE!"}},{"$f":"IF(J5=\"EV\",M5,\"A\")","v":"A"},{"$f":"IF(J5=\"EV\",N5,\"A\")","v":"A"},{"$f":"IF(Q5=\"A\",\"\",P5)","v":""},{"$f":"IF(U5>$S$2,\"UST\",\"ALT\")","v":{"$error":"#VALUE!"}},{"$f":"VALUE(S5)","v":{"$error":"#VALUE!"}},null,{"$f":"X5+Y5","v":3},{"$f":"IF(J31=\"DEP\",M31,\"A\")","v":"3"},{"$f":"IF(J31=\"DEP\",N31,\"A\")","v":"0"},{"$f":"IF(X5=\"A\",\"\",W5)","v":3},{"$f":"IF(AB5>$S$2,\"UST\",\"ALT\")","v":"UST"},{"$f":"VALUE(Z5)","v":3}]
[{"$f":"Veri!AJ7","v":"Thun"},{"$f":"Veri!AN7","v":"Young Boys"},{"$f":"Veri!AL7","v":"0-1"},{"$f":"Veri!AK7","v":"1-1"},"0","1",1,"1","1","EV","0","1","1","1",null,2,"1","1",2,"ALT",2,null,4,"2","2",4,"UST",4]
[{"$f":"Veri!AJ8","v":"Lugano"},{"$f":"Veri!AN8","v":"Thun"},{"$f":"Veri!AL8","v":"0-1"},{"$f":"Veri!AK8","v":"1-3"},"0","1",1,"1","3","DEP","1","0","3","1",null,{"$error":"#VALUE!"},"A","A","",{"$error":"#VALUE!"},{"$error":"#VALUE!"},null,4,"3","1",4,"UST",4]
[{"$f":"Veri!AJ9","v":"Thun"},{"$f":"Veri!AN9","v":"Kriens"},{"$f":"Veri!AL9","v":"1-0"},{"$f":"Veri!AK9","v":"1-0"},"1","0",0,"1","0","EV","1","0","1","0",null,1,"1","0",1,"ALT",1,null,1,"0","1",1,"ALT",1]
[{"$f":"Veri!AJ10","v":"Bruhl SG"},{"$f":"Veri!AN10","v":"Thun"},{"$f":"Veri!AL10","v":"0-1"},{"$f":"Veri!AK10","v":"1-5"},"0","1",1,"1","5",{"$f":"IF(A9=$A$2,\"EV\",\"DEP\")","v":"DEP"},"1","0","5","1",null,{"$error":"#VALUE!"},"A","A","",{"$error":"#VALUE!"},{"$error":"#VALUE!"},null,1,"0","1",1,"ALT",1]
[{"$f":"Veri!AJ11","v":"Thun"},{"$f":"Veri!AN11","v":"FC Rapperswil-Jona"},{"$f":"Veri!AL11","v":"1-0"},{"$f":"Veri!AK11","v":"2-0"},"1","0",0,"2","0","EV","1","0","2","0",null,2,"2","0",2,"ALT",2,null,3,"0","3",3,"UST",3]
[{"$f":"Veri!AJ12","v":"Thun"},{"$f":"Veri!AN12","v":"Grasshopper"},{"$f":"Veri!AL12","v":"0-0"},{"$f":"Veri!AK12","v":"1-0"},"0","0",0,"1","0","EV","0","0","1","0",null,1,"1","0",1,"ALT",1,null,0,"0","0",0,"ALT",0]
[{"$f":"Veri!AJ13","v":"Young Boys"},{"$f":"Veri!AN13","v":"Thun"},{"$f":"Veri!AL13","v":"0-1"},{"$f":"Veri!AK13","v":"3-2"},"0","1",1,"3","2","DEP","1","0","2","3",null,{"$error":"#VALUE!"},"A","A","",{"$error":"#VALUE!"},{"$error":"#VALUE!"},null,4,"2","2",4,"UST",4]
[{"$f":"Veri!AJ14","v":"Thun"},{"$f":"Veri!AN14","v":"St. Gallen"},{"$f":"Veri!AL14","v":"0-0"},{"$f":"Veri!AK14","v":"2-0"},"0","0",0,"2","0",{"$f":"IF(A13=$A$2,\"EV\",\"DEP\")","v":"EV"},"0","0","2","0",null,2,"2","0",2,"ALT",2,null,4,"2","2",4,"UST",4]
[{"$f":"Veri!AJ15","v":"FC Sion"},{"$f":"Veri!AN15","v":"Thun"},{"$f":"Veri!AL15","v":"1-0"},{"$f":"Veri!AK15","v":"2-1"},{"$f":"MID(C14,1,FIND(\"-\",C14)-1)","v":"1"},{"$f":"MID(C14,FIND(\"-\",C14)+1,10)","v":"0"},{"$f":"F14+0","v":0},{"$f":"MID(D14,1,FIND(\"-\",D14)-1)","v":"2"},{"$f":"MID(D14,FIND(\"-\",D14)+1,10)","v":"1"},{"$f":"IF(A14=$A$2,\"EV\",\"DEP\")","v":"DEP"},{"$f":"IF(J14=\"EV\",E14,F14)","v":"0"},{"$f":"IF(J14=\"DEP\",E14,F14)","v":"1"},{"$f":"IF(J14=\"EV\",H14,I14)","v":"1"},{"$f":"IF(J14=\"DEP\",H14,I14)","v":"2"},null,{"$error":"#VALUE!"},"A","A","",{"$error":"#VALUE!"},{"$error":"#VALUE!"},null,{"$error":"#VALUE!"},"A","A","",{"$error":"#VALUE!"},{"$error":"#VALUE!"}]
[{"$f":"Veri!AJ16","v":"Thun"},{"$f":"Veri!AN16","v":"Basel"},{"$f":"Veri!AL16","v":"1-2"},{"$f":"Veri!AK16","v":"4-2"},"1","2",2,"4","2","EV","1","2","4","2",null,6,"4","2",6,"UST",6,null,5,"4","1",5,"UST",5]
[{"$f":"Veri!AJ17","v":"Thun"},{"$f":"Veri!AN17","v":"Neuchatel Xamax"},{"$f":"Veri!AL17","v":"1-0"},{"$f":"Veri!AK17","v":"2-2"},"1","0",0,"2","2","EV","1","0","2","2",null,4,"2","2",4,"UST",4,null,5,"2","3",5,"UST",5]
[{"$f":"Veri!AJ18","v":"FC Wil 1900"},{"$f":"Veri!AN18","v":"Thun"},{"$f":"Veri!AL18","v":"0-0"},{"$f":"Veri!AK18","v":"1-1"},"0","0",0,"1","1","DEP","0","0","1","1",null,{"$error":"#VALUE!"},"A","A","",{"$error":"#VALUE!"},{"$error":"#VALUE!"},null,2,"1","1",2,"ALT",2]
[{"$f":"Veri!AJ19","v":"Lugano"},{"$f":"Veri!AN19","v":"Thun"},{"$f":"Veri!AL19","v":"2-1"},{"$f":"Veri!AK19","v":"2-1"},"2","1",1,"2","1","DEP","1","2","1","2",null,{"$error":"#VALUE!"},"A","A","",{"$error":"#VALUE!"},{"$error":"#VALUE!"},null,3,"1","2",3,"UST",3]
[{"$f":"Veri!AJ20","v":"1Luzern"},{"$f":"Veri!AN20","v":"Thun"},{"$f":"Veri!AL20","v":"0-0"},{"$f":"Veri!AK20","v":"0-2"},"0","0",0,"0","2","DEP","0","0","2","0",null,{"$error":"#VALUE!"},"A","A","",{"$error":"#VALUE!"},{"$error":"#VALUE!"},null,4,"1","3",4,"UST",4]
[{"$f":"Veri!AJ21","v":"Thun"},{"$f":"Veri!AN21","v":"FC Zurich"},{"$f":"Veri!AL21","v":"0-1"},{"$f":"Veri!AK21","v":"2-2"},"0","1",1,"2","2","EV","0","1","2","2",null,4,"2","2",4,"UST",4,null,2,"1","1",2,"ALT",2]
[{"$f":"Veri!AJ22","v":"Thun"},{"$f":"Veri!AN22","v":"Young Boys"},{"$f":"Veri!AL22","v":"1-2"},{"$f":"Veri!AK22","v":"1-4"},"1","2",2,"1","4","EV","1","2","1","4",null,5,"1","4",5,"UST",5,null,3,"1","2",3,"UST",3]
[{"$f":"Veri!AJ23","v":"Grasshopper"},{"$f":"Veri!AN23","v":"Thun"},{"$f":"Veri!AL23","v":"0-0"},{"$f":"Veri!AK23","v":"0-2"},"0","0",0,"0","2",{"$f":"IF(A22=$A$2,\"EV\",\"DEP\")","v":"DEP"},"0","0","2","0",null,{"$error":"#VALUE!"},"A","A","",{"$error":"#VALUE!"},{"$error":"#VALUE!"},null,4,"2","2",4,"UST",4]
[{"$f":"Veri!AJ24","v":"Thun"},{"$f":"Veri!AN24","v":"FC Sion"},{"$f":"Veri!AL24","v":"0-0"},{"$f":"Veri!AK24","v":"4-1"},"0","0",0,"4","1",{"$f":"IF(A23=$A$2,\"EV\",\"DEP\")","v":"EV"},"0","0","4","1",null,5,"4","1",5,"UST",5,null,{"$error":"#VALUE!"},"A","A","",{"$error":"#VALUE!"},{"$error":"#VALUE!"}]
[null,null,null,null,null,null,null,null,null,{"$f":"COUNTIF(J4:J23,\"DEP\")","v":9},{"$f":"K4+K5+K6+K7+K8+K9+K10+K11+K12+K13+K14+K15+K16+K17+K18+K19+K20+K21+K22+K23","v":11},{"$f":"L4+L5+L6+L7+L8+L9+L10+L11+L12+L13+L14+L15+L16+L17+L18+L19+L20+L21+L22+L23","v":10},{"$f":"M4+M5+M6+M7+M8+M9+M10+M11+M12+M13+M14+M15+M16+M17+M18+M19+M20+M21+M22+M23","v":41},{"$f":"N4+N5+N6+N7+N8+N9+N10+N11+N12+N13+N14+N15+N16+N17+N18+N19+N20+N21+N22+N23","v":24}]
[null,null,null,null,null,null,null,null,null,null,{"$f":"K24/10","v":1.1000000000000001},{"$f":"L24/10","v":1},{"$f":"M24/10","v":4.0999999999999996},{"$f":"N24/10","v":2.4},null,null,{"$f":"COUNTIF(Q4:Q23,\"A\")","v":9},"UST","ALT",null,null,null,null,{"$f":"COUNTIF(X4:X23,\"A\")","v":2},"UST","ALT"]
[null,null,null,null,null,null,null,null,null,null,null,null,null,null,null,null,{"$f":"20-Q25","v":11},{"$f":"COUNTIF(T4:T23,\"UST\")","v":5},{"$f":"COUNTIF(T4:T23,\"ALT\")","v":6},null,null,null,null,{"$f":"20-X25","v":18},{"$f":"COUNTIF(AA4:AA23,\"UST\")","v":12},{"$f":"COUNTIF(AA4:AA23,\"ALT\")","v":6}]
[{"$f":"COUNTIF(A30:B49,A30)","v":1},{"$f":"COUNTIF(A30:B49,B30)","v":2},"İY","MS","İY - EV","İY - DEP",null,"MS - EV","MS - DEP","EV | DEP","İY Takımımız","İY Rakip","MS Takımımız","MS Rakip"]
[{"$f":"IF(A27>B27,A30,B30)","v":"Young Boys"}]
[null,null,"IY","MS",{"$f":"COUNT(G30:G49)+0","v":19},{"$f":"IF(E29>9,\"OK\",\"YETERSIZ VERI\")","v":"OK"}]
[{"$f":"Veri!T5","v":"1Lugano"},{"$f":"Veri!X5","v":"Young Boys"},{"$f":"Veri!V5","v":"0-0"},{"$f":"Veri!U5","v":"0-1"},{"$f":"MID(C30,1,FIND(\"-\",C30)-1)","v":"0"},{"$f":"MID(C30,FIND(\"-\",C30)+1,10)","v":"0"},{"$f":"F30+0","v":0},{"$f":"MID(D30,1,FIND(\"-\",D30)-1)+0","v":0},{"$f":"MID(D30,FIND(\"-\",D30)+1,10)","v":"1"},{"$f":"IF(A30=$A$28,\"EV\",\"DEP\")","v":"DEP"},{"$f":"IF(J30=\"EV\",E30,F30)","v":"0"},{"$f":"IF(J30=\"DEP\",E30,F30)","v":"0"},{"$f":"IF(J30=\"EV\",H30,I30)","v":"1"},{"$f":"IF(J30=\"DEP\",H30,I30)","v":0}]
[{"$f":"Veri!T6","v":"1Luzern"},{"$f":"Veri!X6","v":"Lugano"},{"$f":"Veri!V6","v":"0-1"},{"$f":"Veri!U6","v":"0-3"},{"$f":"MID(C31,1,FIND(\"-\",C31)-1)","v":"0"},{"$f":"MID(C31,FIND(\"-\",C31)+1,10)","v":"1"},{"$f":"F31+0","v":1},{"$f":"MID(D31,1,FIND(\"-\",D31)-1)","v":"0"},{"$f":"MID(D31,FIND(\"-\",D31)+1,10)","v":"3"},{"$f":"IF(A31=$A$28,\"EV\",\"DEP\")","v":"DEP"},{"$f":"IF(J31=\"EV\",E31,F31)","v":"1"},{"$f":"IF(J31=\"DEP\",E31,F31)","v":"0"},{"$f":"IF(J31=\"EV\",H31,I31)","v":"3"},{"$f":"IF(J31=\"DEP\",H31,I31)","v":"0"}]
[{"$f":"Veri!T7","v":"FC Sion"},{"$f":"Veri!X7","v":"Lugano"},{"$f":"Veri!V7","v":"1-1"},{"$f":"Veri!U7","v":"2-2"},"1","1",1,"2","2",{"$f":"IF(A32=$A$28,\"EV\",\"DEP\")","v":"DEP"},"1","1","2","2"]
[{"$f":"Veri!T8","v":"Lugano"},{"$f":"Veri!X8","v":"Thun"},{"$f":"Veri!V8","v":"0-1"},{"$f":"Veri!U8","v":"1-3"},"0","1",1,"1","3","DEP","1","0","3","1"]
[{"$f":"Veri!T9","v":"Lugano"},{"$f":"Veri!X9","v":"FC Wacker Innsbruck"},{"$f":"Veri!V9","v":"0-0"},{"$f":"Veri!U9","v":"1-0"},"0","0",0,"1","0","DEP","0","0","0","1",null,null,{"$f":"Q26","v":11},{"$f":"R26","v":5},{"$f":"X26","v":18},{"$f":"Y26","v":12},{"$f":"(R34+T34)/(Q34+S34)","v":0.58620689655172409},{"$f":"Q26","v":11},{"$f":"S26","v":6},{"$f":"X26","v":18},{"$f":"Z26","v":6},{"$f":"(W34+Y34)/(Q34+S34)","v":0.41379310344827586},{"$f":"Z34-U34","v":-0.17241379310344823},{"$f":"IF(AA34=\"\",\"\",IF(AA34>=0.45,\"2,5 ALT\",IF(AA34<=-0.45,\"2,5 UST\",IF(0.25<=AA34,\"3,5 ALT\",IF(AA34<=-0.25,\"1,5 UST\",\"RISKLI\")))))","v":"RISKLI"}]
[{"$f":"Veri!T10","v":"Hamburger SV"},{"$f":"Veri!X10","v":"Lugano"},{"$f":"Veri!V10","v":"0-0"},{"$f":"Veri!U10","v":"1-0"},"0","0",0,"1","0","DEP","0","0","0","1"]
[{"$f":"Veri!T11","v":"Lugano(N)"},{"$f":"Veri!X11","v":"Chiasso"},{"$f":"Veri!V11","v":"1-0"},{"$f":"Veri!U11","v":"3-0"},"1","0",0,"3","0","DEP","0","1","0","3"]
[{"$f":"Veri!T12","v":"FC Zurich"},{"$f":"Veri!X12","v":"Lugano"},{"$f":"Veri!V12","v":"0-0"},{"$f":"Veri!U12","v":"0-0"},"0","0",0,"0","0","DEP","0","0","0","0"]
[{"$f":"Veri!T13","v":"Lugano"},{"$f":"Veri!X13","v":"FC Sion"},{"$f":"Veri!V13","v":"1-1"},{"$f":"Veri!U13","v":"2-2"},"1","1",1,"2","2","DEP","1","1","2","2"]
[{"$f":"Veri!T14","v":"Lugano"},{"$f":"Veri!X14","v":"Neuchatel Xamax"},{"$f":"Veri!V14","v":"1-0"},{"$f":"Veri!U14","v":"2-2"},"1","0",0,"2","2",{"$f":"IF(A39=$A$28,\"EV\",\"DEP\")","v":"DEP"},"0","1","2","2"]
[{"$f":"Veri!T15","v":"Young Boys"},{"$f":"Veri!X15","v":"Lugano"},{"$f":"Veri!V15","v":"0-0"},{"$f":"Veri!U15","v":"1-0"},{"$f":"MID(C40,1,FIND(\"-\",C40)-1)","v":"0"},{"$f":"MID(C40,FIND(\"-\",C40)+1,10)","v":"0"},{"$f":"F40+0","v":0},{"$f":"MID(D40,1,FIND(\"-\",D40)-1)","v":"1"},{"$f":"MID(D40,FIND(\"-\",D40)+1,10)","v":"0"},{"$f":"IF(A40=$A$28,\"EV\",\"DEP\")","v":"EV"},{"$f":"IF(J40=\"EV\",E40,F40)","v":"0"},{"$f":"IF(J40=\"DEP\",E40,F40)","v":"0"},{"$f":"IF(J40=\"EV\",H40,I40)","v":"1"},{"$f":"IF(J40=\"DEP\",H40,I40)","v":"0"},null,null,{"$f":"A2","v":"Thun"},{"$f":"A28","v":"Young Boys"},{"$f":"TODAY()","v":"2019-02-27"},{"$f":"AB34","v":"RISKLI"}]
[{"$f":"Veri!T16","v":"Lugano"},{"$f":"Veri!X16","v":"Luzern"},{"$f":"Veri!V16","v":"0-1"},{"$f":"Veri!U16","v":"1-4"},"0","1",1,"1","4","DEP","1","0","4","1"]
[{"$f":"Veri!T17","v":"Basel"},{"$f":"Veri!X17","v":"Lugano"},{"$f":"Veri!V17","v":"2-0"},{"$f":"Veri!U17","v":"3-2"},"2","0",0,"3","2","DEP","0","2","2","3"]
[{"$f":"Veri!T18","v":"Lugano"},{"$f":"Veri!X18","v":"Neuchatel Xamax"},{"$f":"Veri!V18","v":"0-0"},{"$f":"Veri!U18","v":"1-1"},"0","0",0,"1","1","DEP","0","0","1","1"]
[{"$f":"Veri!T19","v":"Lugano"},{"$f":"Veri!X19","v":"Thun"},{"$f":"Veri!V19","v":"2-1"},{"$f":"Veri!U19","v":"2-1"},"2","1",1,"2","1","DEP","1","2","1","2"]
[{"$f":"Veri!T20","v":"Lugano"},{"$f":"Veri!X20","v":"St. Gallen"},{"$f":"Veri!V20","v":"2-0"},{"$f":"Veri!U20","v":"3-1"},"2","0",0,"3","1","DEP","0","2","1","3"]
[{"$f":"Veri!T21","v":"Lugano"},{"$f":"Veri!X21","v":"ACD Virtus Entella"},{"$f":"Veri!V21","v":"1-1"},{"$f":"Veri!U21","v":"1-1"},"1","1",1,"1","1","DEP","1","1","1","1"]
[{"$f":"Veri!T22","v":"Grasshopper"},{"$f":"Veri!X22","v":"Lugano"},{"$f":"Veri!V22","v":"2-1"},{"$f":"Veri!U22","v":"2-1"},"2","1",1,"2","1","DEP","1","2","1","2"]
[{"$f":"Veri!T23","v":"Lugano"},{"$f":"Veri!X23","v":"Basel"},{"$f":"Veri!V23","v":"0-1"},{"$f":"Veri!U23","v":"2-2"},"0","1",1,"2","2","DEP","1","0","2","2"]
[]
[null,null,null,null,null,null,null,null,null,{"$f":"COUNTIF(J30:J49,\"DEP\")","v":18},{"$f":"K30+K31+K32+K33+K34+K35+K36+K37+K38+K39+K40+K41+K42+K43+K44+K45+K46+K47+K48+K49","v":9},{"$f":"L30+L31+L32+L33+L34+L35+L36+L37+L38+L39+L40+L41+L42+L43+L44+L45+L46+L47+L48+L49","v":13},{"$f":"M30+M31+M32+M33+M34+M35+M36+M37+M38+M39+M40+M41+M42+M43+M44+M45+M46+M47+M48+M49","v":27},{"$f":"N30+N31+N32+N33+N34+N35+N36+N37+N38+N39+N40+N41+N42+N43+N44+N45+N46+N47+N48+N49","v":27}]
[null,null,null,null,null,null,null,null,null,null,{"$f":"K50/10","v":0.9},{"$f":"L50/10","v":1.3},{"$f":"M50/10","v":2.7},{"$f":"N50/10","v":2.7}]
[]
[]
[]
[null,null,null,null,"0","1","2","3","4","5"]
[null,null,null,null,null,null,null,null,null,null,"SKOR TAHMINI"]
[null,null,null,null,"0","0.69","1.22","2.19","3.19","9.99","IY",null,"MS"]
[null,null,null,null,null,null,null,null,null,null,{"$f":"AVERAGE(K25,L51)","v":1.2000000000000002},{"$f":"(L25+K51)/2","v":0.95},{"$f":"(M25+N51)/2","v":3.4},{"$f":"(N25+M51)/2","v":2.5499999999999998}]
[null,null,null,null,null,null,null,null,null,null,{"$f":"AVERAGEA(K58)","v":1.2000000000000002},{"$f":"AVERAGEA(L58)","v":0.95},{"$f":"AVERAGEA(M58)","v":3.4},{"$f":"AVERAGEA(N58)","v":2.5499999999999998}]
[]
[]
[]
[]
[]
[]
[]
[]
[]
[]
[]
[]
[]
[]
[]
[]
[]
[]
[]
[]
[]
[]
[]
[]
[]
[]
[]
[]
[]
[]
[]
[]
[]
[]
[]
[]
[]
[]
[]
[]
[]
[]
[]
[]
[]
[]
[]
[]
[]
[]
[]
[]
[]
[]
[]
[]
[]
[]
[]
[]
[]
[]
[]
[]
[]
[]
[]
[]
["GENEL ANALIZ"]
[]
[null,null,null,null,null,null,null,null,null,null,null,null,null,null,null,null,"KG VAR ",null,null,"TOPLAM GOL"]
["EV SAHIBI","DEPLASMAN","TARIH","ANALIZ TURU","EN IYI TAHMIN ",null,"MS SKOR                                                                   EV                         DEP",null,"IY UZDELERI                                              1                  X                  2",null,null,"MS YUZDELERI                                              1                  X                  2",null,null,"IY GOL TAHMINI",null,{"$f":"AX67","v":0},{"$f":"BD69","v":0},{"$f":"BC187","v":0},{"$f":"AX233","v":0}]
[{"$f":"A2","v":"Thun"},{"$f":"A28","v":"Young Boys"},{"$f":"TODAY()","v":"2019-02-27"},{"$f":"A128","v":"GENEL ANALIZ"},{"$f":"AI28","v":0},{"$f":"AH28","v":0},{"$f":"M59","v":3.4},{"$f":"N59","v":2.5499999999999998},{"$f":"BG81","v":0},{"$f":"BG82","v":0},{"$f":"BG83","v":0},{"$f":"BI81","v":0},{"$f":"BI82","v":0},{"$f":"BI83","v":0},{"$f":"AX18","v":0},{"$f":"BD20","v":0},{"$f":"BD68","v":0},{"$f":"BD69","v":0},{"$f":"S131","v":0}]
[null,null,null,null,null,null,null,null,null,null,null,null,null,null,{"$f":"BD19","v":0},{"$f":"BD20","v":0}]
[]
[]
[]
[]
[null,null,null,null,null,null,null,null,null,null,null,null,null,null,null,null,"KG VAR ",null,null,"TOPLAM GOL"]
["EV SAHIBI","DEPLASMAN","TARIH","ANALIZ TURU","EN IYI TAHMIN ",null,"MS SKOR                                                                   EV                         DEP",null,"IY UZDELERI                                              1                  X                  2",null,null,"MS YUZDELERI                                              1                  X                  2",null,null,"IY GOL TAHMINI",null,{"$f":"Q131","v":"00:00:00"},0,0,"00:00:00"]
[{"$f":"A2","v":"Thun"},{"$f":"A28","v":"Young Boys"},{"$f":"C132","v":"2019-02-27"},"GENEL ANALIZ","00:00:00",0,3.4,2.5499999999999998,0,0,0,0,0,0,"00:00:00",0,{"$f":"CU132","v":0},{"$f":"CV132","v":0},{"$f":"DB132","v":0},{"$f":"DC132","v":0}]
[{"$f":"CC132","v":0},0,"00:00:00",0,0,0,0,0,0,0,0,0,0,0,0,0,{"$f":"GZ132","v":0},{"$f":"HA132","v":0},{"$f":"HG132","v":0},{"$f":"HH132","v":0}]
[{"$f":"GH132","v":0},0,"00:00:00",0,0,0,0,0,0,0,0,0,0,0,0,0,{"$f":"LF10","v":0},{"$f":"LG10","v":0},{"$f":"LM10","v":0},{"$f":"LN10","v":0}]
[{"$f":"KN10","v":0},0,"00:00:00",0,0,0,0,0,0,0,0,0,0,0,0,0]
[]
[]
[]
[]
[]
[null,null,"EV SAHIBI"]
["IY0,5UST",{"$f":"A2","v":"Thun"},"SON 10 MACIN  ",null,{"$f":"#REF!","v":{"$error":"#REF!"}},"   TANESI  ","ILK YARISI 0,5 UST","   BITTI",{"$f":"E150/10","v":{"$error":"#REF!"}},{"$f":"_xlfn.CONCAT(C150:H150)","v":{"$error":"#REF!"}},null,null,null,null,{"$f":"LARGE(I150:I167,1)","v":{"$error":"#REF!"}},{"$f":"VLOOKUP(O150,I150:J167,2,)","v":{"$error":"#REF!"}}]
["IY1,5UST",{"$f":"B150","v":"Thun"},"SON 10 MACIN  ",null,{"$f":"10-E152","v":{"$error":"#REF!"}},"   TANESI  ","ILK YARISI 1,5 UST","   BITTI",{"$f":"E151/10","v":{"$error":"#REF!"}},{"$f":"_xlfn.CONCAT(C151:H151)","v":{"$error":"#REF!"}},null,null,null,null,{"$f":"LARGE(I150:I167,2)","v":{"$error":"#REF!"}},{"$f":"VLOOKUP(O151,I149:M167,2,)","v":{"$error":"#REF!"}}]
["IY1,5ALT",{"$f":"B150","v":"Thun"},"SON 10 MACIN  ",null,{"$f":"#REF!","v":{"$error":"#REF!"}},"   TANESI  ","ILK YARISI 1,5 ALT","   BITTI",{"$error":"#REF!"},{"$error":"#REF!"},null,null,null,null,{"$f":"LARGE(I150:I167,3)","v":{"$error":"#REF!"}},{"$f":"VLOOKUP(O152,I150:M168,2,)","v":{"$error":"#REF!"}}]
["MS1,5UST",{"$f":"B151","v":"Thun"},"SON 10 MACIN  ",null,{"$f":"#REF!","v":{"$error":"#REF!"}},"   TANESI  ","MS 1,5 UST","   BITTI",{"$error":"#REF!"},{"$error":"#REF!"},null,null,null,null,{"$f":"LARGE(I150:I167,4)","v":{"$error":"#REF!"}},{"$f":"VLOOKUP(O153,I151:M169,2,)","v":{"$error":"#REF!"}}]
["MS2,5UST","Thun","SON 10 MACIN  ",null,{"$f":"S14","v":""},"   TANESI  ","MS 2,5 UST","   BITTI",{"$error":"#VALUE!"},"SON 10 MACIN     TANESI  MS 2,5 UST   BITTI"]
["MS2,5ALT",{"$f":"B150","v":"Thun"},"SON 10 MACIN  ",null,{"$f":"10-E154","v":{"$error":"#VALUE!"}},"   TANESI  ","MS 2,5 ALT","   BITTI",{"$error":"#VALUE!"},{"$error":"#VALUE!"}]
["MS3,5ALT",{"$f":"A8","v":"Thun"},"SON 10 MACIN  ",null,{"$f":"T14","v":{"$error":"#VALUE!"}},"   TANESI  ","MS 3,5 ALT","   BITTI",{"$error":"#VALUE!"},{"$error":"#VALUE!"}]
["IY1",{"$f":"B150","v":"Thun"},"SON 10 MACIN  ",null,{"$f":"#REF!","v":{"$error":"#REF!"}},"   TANESI  ","IY 1","   BITTI",{"$error":"#REF!"},{"$error":"#REF!"}]
["IYX",{"$f":"B151","v":"Thun"},"SON 10 MACIN  ",null,{"$f":"#REF!","v":{"$error":"#REF!"}},"   TANESI  ","IY X","   BITTI",{"$error":"#REF!"},{"$error":"#REF!"}]
["IY2","Thun","SON 10 MACIN  ",null,{"$f":"#REF!","v":{"$error":"#REF!"}},"   TANESI  ","IY 2","   BITTI",{"$error":"#REF!"},{"$error":"#REF!"}]
["MS1","Thun","SON 10 MACIN  ",null,{"$f":"#REF!","v":{"$error":"#REF!"}},"   TANESINDE ","GALIB ","GELDI",{"$error":"#REF!"},{"$error":"#REF!"}]
["MSX","Thun","SON 10 MACIN  ",null,{"$f":"#REF!","v":{"$error":"#REF!"}},"   TANESI  ","BERABERE","   BITTI",{"$error":"#REF!"},{"$error":"#REF!"}]
["MS2","Thun","SON 10 MACIN  ",null,{"$f":"#REF!","v":{"$error":"#REF!"}},"   TANESI  ","MAGLUB ","OLDU",{"$error":"#REF!"},{"$error":"#REF!"}]
["KGVAR","Thun","SON 10 MACIN  ",null,{"$f":"#REF!","v":{"$error":"#REF!"}},"   TANESI  ","KG VAR","   OLDU",{"$error":"#REF!"},{"$error":"#REF!"}]
["GOL ATTI",{"$f":"B154","v":"Thun"},"SON 10 MACIN  ",null,{"$f":"#REF!","v":{"$error":"#REF!"}},"   TANESI  ","GOL ATTI",null,{"$error":"#REF!"},{"$error":"#REF!"}]
["GOL YEDI","Thun","SON 10 MACIN  ",null,{"$f":"#REF!","v":{"$error":"#REF!"}},"   TANESI  ","GOL YEDI",null,{"$error":"#REF!"},{"$error":"#REF!"}]
["YENILMIYOR","Thun","SON 10 MACIN  ",null,{"$f":"E160+E161","v":{"$error":"#REF!"}},"  MACINDA","  YENILMEDI","  (BERABERLIKLER DAHIL)",{"$error":"#REF!"},{"$f":"_xlfn.CONCAT(C166:H166)","v":{"$error":"#REF!"}}]
["KAZANAMIYOR ","Thun","SON 10 MACIN  ",null,{"$f":"E161+E162","v":{"$error":"#REF!"}}," MACTIR","GALIB GELEMIYOR","(BERABERLIKLER DAHIL)",{"$error":"#REF!"},{"$f":"_xlfn.CONCAT(C167:H167)","v":{"$error":"#REF!"}}]
[]
[]
[]
[]
[]
[null,null,"DEPLAMAN"]
["IY0,5UST",{"$f":"A28","v":"Young Boys"},"SON 10 MACIN  ",null,{"$f":"#REF!","v":{"$error":"#REF!"}},"   TANESI  ","ILK YARISI 0,5 UST","   BITTI",{"$f":"E174/10","v":{"$error":"#REF!"}},{"$f":"_xlfn.CONCAT(C174:H174)","v":{"$error":"#REF!"}},null,null,null,null,{"$f":"LARGE(I174:I191,1)","v":{"$error":"#REF!"}},{"$f":"VLOOKUP(O174,I174:M191,2,)","v":{"$error":"#REF!"}}]
["IY1,5UST",{"$f":"B174","v":"Young Boys"},"SON 10 MACIN  ",null,{"$f":"10-E176","v":{"$error":"#REF!"}},"   TANESI  ","ILK YARISI 1,5 UST","   BITTI",{"$f":"E175/10","v":{"$error":"#REF!"}},{"$f":"_xlfn.CONCAT(C175:H175)","v":{"$error":"#REF!"}},null,null,null,null,{"$f":"LARGE(I174:I191,2)","v":{"$error":"#REF!"}},{"$f":"VLOOKUP(O175,I174:M191,2,)","v":{"$error":"#REF!"}}]
["IY1,5ALT",{"$f":"B174","v":"Young Boys"},"SON 10 MACIN  ",null,{"$f":"#REF!","v":{"$error":"#REF!"}},"   TANESI  ","ILK YARISI 1,5 ALT","   BITTI",{"$error":"#REF!"},{"$error":"#REF!"},null,null,null,null,{"$f":"LARGE(I174:I191,3)","v":{"$error":"#REF!"}},{"$f":"VLOOKUP(O176,I174:M191,2,)","v":{"$error":"#REF!"}}]
["MS1,5UST",{"$f":"B175","v":"Young Boys"},"SON 10 MACIN  ",null,{"$f":"#REF!","v":{"$error":"#REF!"}},"   TANESI  ","MS 1,5 UST","   BITTI",{"$error":"#REF!"},{"$error":"#REF!"},null,null,null,null,{"$f":"LARGE(I174:I191,4)","v":{"$error":"#REF!"}},{"$f":"VLOOKUP(O177,I174:M191,2,)","v":{"$error":"#REF!"}}]
["MS2,5UST",{"$f":"B174","v":"Young Boys"},"SON 10 MACIN  ",null,{"$f":"Y14","v":"A"},"   TANESI  ","MS 2,5 UST","   BITTI",{"$error":"#VALUE!"},"SON 10 MACIN  A   TANESI  MS 2,5 UST   BITTI"]
["MS2,5ALT",{"$f":"B175","v":"Young Boys"},"SON 10 MACIN  ",null,{"$f":"10-E178","v":{"$error":"#VALUE!"}},"   TANESI  ","MS 2,5 ALT","   BITTI",{"$error":"#VALUE!"},{"$error":"#VALUE!"}]
["MS3,5ALT","Young Boys","SON 10 MACIN  ",null,{"$f":"Z14","v":""},"   TANESI  ","MS 3,5 ALT","   BITTI",{"$error":"#VALUE!"},"SON 10 MACIN     TANESI  MS 3,5 ALT   BITTI"]
["IY1","Young Boys","SON 10 MACIN  ",null,{"$f":"AG15","v":0},"   TANESI  ","IY 1","   BITTI",0,"SON 10 MACIN  0   TANESI  IY 1   BITTI"]
["IYX","Young Boys","SON 10 MACIN  ",null,{"$f":"AH15","v":0},"   TANESI  ","IY X","   BITTI",0,"SON 10 MACIN  0   TANESI  IY X   BITTI"]
["IY2","Young Boys","SON 10 MACIN  ",null,{"$f":"AI15","v":0},"   TANESI  ","IY 2","   BITTI",0,"SON 10 MACIN  0   TANESI  IY 2   BITTI"]
["MS1","Young Boys","SON 10 MACIN  ",null,{"$f":"AJ15","v":0},"   TANESINDE ","GALIB ","GELDI",0,"SON 10 MACIN  0   TANESINDE GALIB GELDI"]
["MSX","Young Boys","SON 10 MACIN  ",null,{"$f":"AK15","v":0},"   TANESI  ","BERABERE","   BITTI",0,"SON 10 MACIN  0   TANESI  BERABERE   BITTI"]
["MS2","Young Boys","SON 10 MACIN  ",null,{"$f":"AL15","v":0},"   TANESI  ","MAGLUB ","OLDU",0,"SON 10 MACIN  0   TANESI  MAGLUB OLDU"]
["KGVAR","Young Boys","SON 10 MACIN  ",null,{"$f":"AD15","v":0},"   TANESI  ","KG VAR","   OLDU",0,"SON 10 MACIN  0   TANESI  KG VAR   OLDU"]
["GOL ATTI","Young Boys","SON 10 MACIN  ",null,{"$f":"AB15","v":5},"   TANESI  ","GOL ATTI",null,0.5,"SON 10 MACIN  5   TANESI  GOL ATTI"]
["GOL YEDI","Young Boys","SON 10 MACIN  ",null,{"$f":"AC15","v":0},"   TANESI  ","GOL YEDI",null,0,"SON 10 MACIN  0   TANESI  GOL YEDI"]
["YENILMIYOR","Young Boys","SON 10 MACIN  ",null,{"$f":"E184+E185","v":0},"  MACINDA","  YENILMEDI","  (BERABERLIKLER DAHIL)",0,{"$f":"_xlfn.CONCAT(C190:H190)","v":"SON 10 MACIN  0  MACINDA  YENILMEDI  (BERABERLIKLER DAHIL)"}]
["KAZANAMIYOR ","Young Boys","SON 10 MACIN  ",null,{"$f":"E186+E185","v":0}," MACTIR GALIB GELEMIYOR(BERABERLIKLER DAHIL)",null,null,0,{"$f":"_xlfn.CONCAT(C191:H191)","v":"SON 10 MACIN  0 MACTIR GALIB GELEMIYOR(BERABERLIKLER DAHIL)"}]
[]
[]
[]
[]
[]
[]
[]
[]
[{"$f":"A2","v":"Thun"}]
[0]
["Thun","Grasshopper",{"$f":"Veri!AM5","v":"7-4"},{"$f":"MID(C202,1,FIND(\"-\",C202)-1)","v":"7"},{"$f":"MID(C202,FIND(\"-\",C202)+1,10)","v":"4"}]
["St. Gallen","Thun",{"$f":"Veri!AM6","v":"10-5"},{"$f":"MID(C203,1,FIND(\"-\",C203)-1)","v":"10"},{"$f":"MID(C203,FIND(\"-\",C203)+1,10)","v":"5"}]
["Thun","Young Boys",{"$f":"Veri!AM7","v":"6-3"},{"$f":"MID(C204,1,FIND(\"-\",C204)-1)","v":"6"},"3"]
["Lugano","Thun",{"$f":"Veri!AM8","v":"2-6"},"2","6"]
["Thun","Kriens",{"$f":"Veri!AM9","v":0},{"$error":"#VALUE!"},{"$error":"#VALUE!"}]
["Bruhl SG","Thun",{"$f":"Veri!AM10","v":"0-0"},"0","0"]
["Thun","FC Rapperswil-Jona",{"$f":"Veri!AM11","v":"4-5"},"4","5"]
["Thun","Grasshopper",{"$f":"Veri!AM12","v":"6-6"},"6","6"]
["Young Boys","Thun",{"$f":"Veri!AM13","v":"10-2"},"10","2"]
["Thun","St. Gallen",{"$f":"Veri!AM14","v":"7-5"},"7","5"]
[]
[]
[]
[]
[]
[]
[]
[]
[]
[]
[null,null,null,{"$f":"D202+D203+D204+D205+D206+D207+D208+D209+D210+D212+D211+D213+D214+D215+D216","v":{"$error":"#VALUE!"}},{"$f":"E202+E203+E204+E205+E206+E207+E208+E209+E210+E212+E211+E213+E214+E215+E216","v":{"$error":"#VALUE!"}}]
[null,null,null,{"$f":"D222/10","v":{"$error":"#VALUE!"}},{"$f":"E222/10","v":{"$error":"#VALUE!"}}]
[null,null,null,null,null,{"$f":"D223+E249","v":{"$error":"#VALUE!"}},{"$f":"E223+D249","v":{"$error":"#VALUE!"}}]
[]
[{"$f":"A28","v":"Young Boys"}]
[null,null,null,null,null,null,"KORNER TAHMIN"]
[{"$f":"A30","v":"1Lugano"},"Young Boys",{"$f":"Veri!W5","v":"5-7"},"5","7",null,{"$f":"F224/2","v":{"$error":"#VALUE!"}},{"$f":"G224/2","v":{"$error":"#VALUE!"}}]
["1Luzern","Lugano",{"$f":"Veri!W6","v":"8-3"},"8","3"]
["FC Sion","Lugano",{"$f":"Veri!W7","v":"6-2"},"6","2",null,"TOPLAM ",{"$f":"G228+H228","v":{"$error":"#VALUE!"}}]
["Lugano","Thun",{"$f":"Veri!W8","v":"2-6"},"2","6"]
["Lugano","FC Wacker Innsbruck",{"$f":"Veri!W9","v":0},{"$error":"#VALUE!"},{"$error":"#VALUE!"}]
["Hamburger SV","Lugano",{"$f":"Veri!W10","v":"5-4"},"5","4"]
["Lugano(N)","Chiasso",{"$f":"Veri!W11","v":"8-1"},"8","1"]
["FC Zurich","Lugano",{"$f":"Veri!W12","v":"5-4"},"5","4"]

{"sheet":"ANALIZANDSI","index":4,"n_rows":249,"n_cols":362,"rows_kept":249,"cut":false,"hidden":false,"merged":[[0,354,0,355],[0,356,0,357],[0,358,0,359],[0,360,0,361],[8,332,8,333],[8,334,8,335],[8,336,8,338],[8,339,8,341],[8,342,8,343],[8,344,8,345],[8,346,8,347],[8,348,8,349],[8,350,8,351],[8,352,8,353],[8,354,8,355],[8,356,8,357],[8,358,8,359],[8,360,8,361],[0,334,0,335],[0,336,0,338],[0,339,0,341],[0,342,0,343],[0,344,0,345],[0,346,0,347],[0,348,0,349],[0,350,0,351],[0,352,0,353],[0,98,0,101],[169,73,170,73],[169,75,170,75],[169,76,170,76],[169,77,170,77],[0,86,0,89],[0,177,0,178],[0,195,0,198],[0,207,0,210],[1,129,2,130],[1,136,2,136],[1,137,2,139],[1,157,2,158],[1,164,2,164],[1,165,2,167],[2,161,2,162],[2,177,2,180],[0,153,0,163],[0,165,0,167],[0,168,0,169],[0,170,0,172],[0,332,0,333],[119,24,119,25],[119,20,119,21],[119,22,119,23],[127,20,127,21],[127,22,127,23],[127,24,127,25],[15,17,15,20],[0,44,0,54],[15,45,15,48],[0,16,0,26],[1,20,2,21],[2,16,3,19],[2,22,2,23],[2,24,2,25],[0,31,0,32],[0,33,0,35],[1,48,2,49],[2,44,3,47],[2,50,2,51],[0,36,0,38],[73,68,73,69],[0,68,0,69],[2,68,2,71],[169,72,170,72],[130,28,130,29],[130,30,130,31],[130,32,130,33],[130,26,130,27],[138,16,138,17],[138,18,138,19],[138,20,138,21],[138,22,138,23],[138,24,138,25],[138,26,138,27],[138,28,138,29],[130,20,130,21],[130,22,130,23],[130,24,130,25],[138,4,138,5],[138,6,138,7],[138,8,138,10],[138,11,138,13],[138,14,138,15],[226,6,226,7],[130,4,130,5],[130,6,130,7],[130,8,130,10],[130,14,130,15],[119,18,119,19],[130,11,130,13],[119,16,119,17],[127,16,127,17],[127,18,127,19],[130,16,130,17],[130,18,130,19],[55,10,55,13],[56,10,56,11],[56,12,56,13],[1,27,2,27],[0,28,0,30],[1,28,2,30],[0,56,0,58],[1,55,2,55],[1,56,2,58],[0,59,0,60],[0,61,0,63],[0,64,0,66],[191,68,191,69],[210,68,210,69],[2,52,2,53],[25,68,25,71],[26,68,26,71],[29,68,29,71],[30,68,30,71],[47,68,47,69],[53,68,53,71],[54,68,54,71],[49,68,49,71],[50,68,50,71],[121,68,121,69],[140,68,140,69],[92,68,92,69],[7,68,7,71],[168,68,168,69],[169,71,170,71],[3,68,3,71],[6,68,6,71],[23,68,23,69],[0,173,0,175],[0,125,0,135],[0,137,0,139],[0,140,0,141],[0,142,0,144],[0,145,0,147],[3,177,3,180],[6,177,6,180],[7,177,7,180],[15,126,15,129],[15,154,15,157],[2,125,3,128],[2,131,2,132],[2,133,2,134],[2,153,3,156],[2,159,2,160],[47,177,47,178],[49,177,49,180],[50,177,50,180],[53,177,53,180],[54,177,54,180],[23,177,23,178],[25,177,25,180],[26,177,26,180],[29,177,29,180],[30,177,30,180],[119,125,119,126],[119,127,119,128],[119,129,119,130],[119,131,119,132],[119,133,119,134],[55,119,55,122],[56,119,56,120],[56,121,56,122],[73,177,73,178],[92,177,92,178],[130,113,130,114],[130,115,130,116],[130,117,130,119],[130,120,130,122],[130,123,130,124],[121,177,121,178],[127,125,127,126],[127,127,127,128],[127,129,127,130],[127,131,127,132],[127,133,127,134],[138,129,138,130],[138,131,138,132],[138,133,138,134],[138,135,138,136],[138,137,138,138],[130,125,130,126],[130,127,130,128],[130,129,130,130],[130,131,130,132],[130,133,130,134],[226,115,226,116],[138,30,138,31],[138,32,138,33],[130,139,130,140],[130,141,130,142],[169,184,170,184],[169,185,170,185],[169,186,170,186],[191,177,191,178],[210,177,210,178],[140,177,140,178],[168,177,168,178],[169,180,170,180],[169,181,170,181],[169,182,170,182],[130,135,130,136],[130,137,130,138],[138,113,138,114],[138,115,138,116],[138,117,138,119],[138,120,138,122],[138,123,138,124],[138,125,138,126],[138,127,138,128],[0,286,0,287],[0,304,0,307],[0,316,0,319],[1,238,2,239],[1,245,2,245],[1,246,2,248],[1,266,2,267],[1,273,2,273],[1,274,2,276],[2,270,2,271],[2,286,2,289],[0,262,0,272],[0,274,0,276],[0,277,0,278],[0,279,0,281],[0,282,0,284],[0,234,0,244],[0,246,0,248],[0,249,0,250],[0,251,0,253],[0,254,0,256],[23,286,23,287],[25,286,25,289],[26,286,26,289],[29,286,29,289],[30,286,30,289],[3,286,3,289],[6,286,6,289],[7,286,7,289],[15,235,15,238],[15,263,15,266],[2,234,3,237],[2,240,2,241],[2,242,2,243],[2,262,3,265],[2,268,2,269],[130,248,130,249],[130,250,130,251],[55,228,55,231],[56,228,56,229],[56,230,56,231],[73,286,73,287],[92,286,92,287],[47,286,47,287],[49,286,49,289],[50,286,50,289],[53,286,53,289],[54,286,54,289],[121,286,121,287],[127,234,127,235],[127,236,127,237],[127,238,127,239],[127,240,127,241],[127,242,127,243],[119,234,119,235],[119,236,119,237],[119,238,119,239],[119,240,119,241],[119,242,119,243],[138,242,138,243],[138,244,138,245],[138,246,138,247],[130,234,130,235],[130,236,130,237],[130,238,130,239],[130,240,130,241],[130,242,130,243],[130,222,130,223],[130,224,130,225],[130,226,130,228],[138,222,138,223],[138,224,138,225],[138,226,138,228],[138,229,138,231],[138,232,138,233],[138,234,138,235],[138,236,138,237],[138,238,138,239],[138,240,138,241],[130,229,130,231],[130,232,130,233],[130,244,130,245],[130,246,130,247],[226,224,226,225],[169,293,170,293],[169,294,170,294],[169,295,170,295],[191,286,191,287],[210,286,210,287],[140,286,140,287],[168,286,168,287],[169,289,170,289],[169,290,170,290],[169,291,170,291]]}
[{"$f":"COUNTIF(A4:B23,A4)","v":10},{"$f":"COUNTIF(A4:B23,B4)","v":2},"İY","MS","İY - EV","İY - DEP",null,"MS - EV","MS - DEP","EV | DEP","İY Takımımız","İY Rakip","MS Takımımız","MS Rakip",null,null,"  EV SAHIBI",null,null,null,null,null,null,null,null,null,null,"KG","KG VAR GOLE GORE",null,null,"ILK YARI ICIN ",null,"IY SONUC",null,null,"MS SONUC",null,null,null,null,null,null,null,"DEPLASMAN",null,null,null,null,null,null,null,null,null,null,"KG","KG VAR GOLE GORE",null,null,"ILK YARI ICIN ",null,"IY SONUC",null,null,"MS SONUC",null,null,null,"IY 0,5 UST",null,null,null,null,-1,0.19,0.28999999999999998,0.59,0.79,1,-1,1.9,3.9,5.9,7.9,10,null,"EV SAHIBI ",null,null,null,null,null,null,null,null,null,null,null,"DEPLASMAN",null,null,null,null,null,null,null,null,null,null,{"$f":"COUNTIF(DF4:DG23,DF4)","v":5},{"$f":"COUNTIF(DF4:DG23,DG4)","v":1},"İY","MS","İY - EV","İY - DEP",null,"MS - EV","MS - DEP","EV | DEP","İY Takımımız","İY Rakip","MS Takımımız","MS Rakip",null,null,"  EV SAHIBI",null,null,null,null,null,null,null,null,null,null,"KG","KG VAR GOLE GORE",null,null,"ILK YARI ICIN ",null,"IY SONUC",null,null,"MS SONUC",null,null,null,null,null,null,null,"DEPLASMAN",null,null,null,null,null,null,null,null,null,null,"KG","KG VAR GOLE GORE",null,null,"ILK YARI ICIN ",null,"IY SONUC",null,null,"MS SONUC",null,null,null,"IY 0,5 UST",null,null,null,null,{"$f":"BV1","v":-1},{"$f":"BW1","v":0.19},0.28999999999999998,0.59,0.79,1,-1,1.9,3.9,5.9,7.9,10,null,"EV SAHIBI ",null,null,null,null,null,null,null,null,null,null,null,"DEPLASMAN",null,null,null,null,null,null,null,null,null,null,{"$f":"COUNTIF(HK4:HL23,HK4)","v":5},{"$f":"COUNTIF(HK4:HL23,HL4)","v":5},"İY","MS","İY - EV","İY - DEP",null,"MS - EV","MS - DEP","EV | DEP","İY Takımımız","İY Rakip","MS Takımımız","MS Rakip",null,null,"  EV SAHIBI",null,null,null,null,null,null,null,null,null,null,"KG","KG VAR GOLE GORE",null,null,"ILK YARI ICIN ",null,"IY SONUC",null,null,"MS SONUC",null,null,null,null,null,null,null,"DEPLASMAN",null,null,null,null,null,null,null,null,null,null,"KG","KG VAR GOLE GORE",null,null,"ILK YARI ICIN ",null,"IY SONUC",null,null,"MS SONUC",null,null,null,"IY 0,5 UST",null,null,null,null,{"$f":"GA1","v":-1},{"$f":"GB1","v":0.19},0.28999999999999998,0.59,0.79,1,-1,1.9,3.9,5.9,7.9,10,null,"EV SAHIBI ",null,null,null,null,null,null,null,null,null,null,null,"DEPLASMAN",null,null,null,null,null,null,null,null,null,null,null,"EV SAHIBI","DEPLASMAN","TARIH","ANALIZ TURU","EN IYI TAHMIN ",null,"MS SKOR                                                                   EV                         DEP",null,"IY UZDELERI                                              1                  X                  2",null,null,"MS YUZDELERI                                              1                  X                  2",null,null,"IY GOL TAHMINI",null,"MS GOL TAHMINI",null,"KG VAR ",null,"IY  TAHMINI",null,"MS  TAHMINI",null,"IY - MS ",null,"TOPLAM GOL",null,"1,5 VE 3,5 TAHMINI",null,"EV 2,5 UST ",null,"DEP 2,5 UST "]
[{"$f":"IF(A1>B1,A4,B4)","v":"Thun"},null,null,null,null,null,null,null,null,null,null,null,null,null,null,null,"İY Takımımız","İY Rakip","MS Takımımız","MS Rakip",null,null,0.5,1.5,1.5,2.5,3.5,"MS GORE ","EV SAHIBI",null,null,null,null,null,null,null,null,null,null,null,null,null,null,null,"İY Takımımız","İY Rakip","MS Takımımız","MS Rakip",null,null,0.5,1.5,1.5,2.5,3.5,"MS GORE ","DEPASMAN",null,null,null,null,null,null,null,null,null,null,null,null,null,null,null,null,"0-20","20-40","40-60","60-80","80-100","TOPLAM",null,null,null,null,null,null,null,"IY 0.5 UST",{"$f":"S17","v":0.8},"IY 0.5 ALT",{"$f":"U17","v":0.19999999999999996},null,null,null,null,null,null,null,null,"IY 0.5 UST",{"$f":"AU17","v":0.6},"IY 0.5 ALT",{"$f":"AW17","v":0.4},null,null,null,null,null,null,null,{"$f":"IF(DF1>DG1,DF4,DG4)","v":"Thun"},null,null,null,null,null,null,null,null,null,null,null,null,null,null,null,"İY Takımımız","İY Rakip","MS Takımımız","MS Rakip",null,null,0.5,1.5,1.5,2.5,3.5,"MS GORE ","EV SAHIBI",null,null,null,null,null,null,null,null,null,null,null,null,null,null,null,"İY Takımımız","İY Rakip","MS Takımımız","MS Rakip",null,null,0.5,1.5,1.5,2.5,3.5,"MS GORE ","DEPASMAN",null,null,null,null,null,null,null,null,null,null,null,null,null,null,null,null,"0-20","20-40","40-60","60-80","80-100","TOPLAM",null,null,null,null,null,null,null,"IY 0.5 UST",{"$f":"DX17","v":1},"IY 0.5 ALT",{"$f":"DZ17","v":0},null,null,null,null,null,null,null,null,"IY 0.5 UST",{"$f":"EZ17","v":0.6},"IY 0.5 ALT",{"$f":"FB17","v":0.4},null,null,null,null,null,null,null,{"$f":"DF2","v":"Thun"},null,null,null,null,null,null,null,null,null,null,null,null,null,null,null,"İY Takımımız","İY Rakip","MS Takımımız","MS Rakip",null,null,0.5,1.5,1.5,2.5,3.5,"MS GORE ","EV SAHIBI",null,null,null,null,null,null,null,null,null,null,null,null,null,null,null,"İY Takımımız","İY Rakip","MS Takımımız","MS Rakip",null,null,0.5,1.5,1.5,2.5,3.5,"MS GORE ","DEPASMAN",null,null,null,null,null,null,null,null,null,null,null,null,null,null,null,null,"0-20","20-40","40-60","60-80","80-100","TOPLAM",null,null,null,null,null,null,null,"IY 0.5 UST",{"$f":"IC17","v":0.6},"IY 0.5 ALT",{"$f":"IE17","v":0.4},null,null,null,null,null,null,null,null,"IY 0.5 UST",{"$f":"JE17","v":0.6},"IY 0.5 ALT",{"$f":"JG17","v":0.4},null,null,null,null,null,null,null,"PROANDSI",{"$f":"A140","v":"Thun"},{"$f":"B140","v":"Young Boys"},"2019-02-27","GENEL ANALIZ","KG VAR",0.66428571428571426,1.65,1.05,0.4,0.44999999999999996,0.15000000000000002,0.5,0.30000000000000004,0.2,"IY 1.5 ALT","RISKLI","MS 2.5 UST","RISKLI","KG VAR",0.66428571428571426,"IY 1 ","RISKLI","MS 2","RISKLI","1 -1 /2","RISKLI","2-3 GOL",0.51875000000000004,"1,5 UST",0.67500000000000004,4,0.4,6,0.6]
[null,null,"IY","MS",{"$f":"COUNT(G4:G23)","v":10},{"$f":"IF(E3>9,\"OK\",\"YETERSIZ VERI\")","v":"OK"},null,null,null,null,null,null,null,null,null,null,"EV SAHIBI",null,null,null,null,null,"ILK YARI",null,"MAC SONU",null,null,null,null,null,null,null,null,1,"X",2,1,"X",2,null,null,null,null,null,"DEPLASMAN",null,null,null,null,null,"ILK YARI",null,"MAC SONU",null,null,null,null,null,null,null,null,1,"X",2,1,"X",2,null,"IY EV SAHIBI GOL ATAR ORTALAMA",null,null,null,{"$f":"Q15","v":0.7},{"$f":"IF(BU3>BV1,IF(BU3<BW1,\"10\",\"0\"))","v":"0"},{"$f":"IF(BU3>BW1,IF(BU3<BX1,\"30\",\"0\"))","v":"0"},{"$f":"IF(BU3>BX1,IF(BU3<BY1,\"50\",\"0\"))","v":"0"},{"$f":"IF(BU3>BY1,IF(BU3<BZ1,\"70\",\"0\"))","v":"70"},{"$f":"IF(BU3>BZ1,IF(BU3<CA1,\"90\",\"0\"))","v":false},{"$f":"BV3+BW3+BX3+BY3+BZ3","v":70},null,null,null,null,null,null,null,"IY 1.5 ALT",{"$f":"S18","v":0.9},"IY 1.5 UST",{"$f":"U18","v":9.9999999999999978E-2},null,null,"IY 1",{"$f":"Y18","v":0.6},"MS 1",{"$f":"AA18","v":0.7},null,null,"IY 1.5 ALT",{"$f":"AU18","v":0.8},"IY 1.5 UST",{"$f":"AW18","v":0.19999999999999996},"IY 1",{"$f":"BA18","v":0.2},"MS 1",{"$f":"BC18","v":0.3},null,null,null,null,null,"IY","MS",{"$f":"COUNT(DL4:DL23)","v":5},{"$f":"IF(DJ3>4,\"OK\",\"YETERSIZ VERI\")","v":"OK"},null,null,null,null,null,null,null,null,null,null,"EV SAHIBI",null,null,null,null,null,"ILK YARI",null,"MAC SONU",null,null,null,null,null,null,null,null,1,"X",2,1,"X",2,null,null,null,null,null,"DEPLASMAN",null,null,null,null,null,"ILK YARI",null,"MAC SONU",null,null,null,null,null,null,null,null,1,"X",2,1,"X",2,null,"IY EV SAHIBI GOL ATAR ORTALAMA",null,null,null,{"$f":"DV15","v":0.8},{"$f":"IF(FZ3>GA1,IF(FZ3<GB1,\"10\",\"0\"))","v":"0"},{"$f":"IF(FZ3>GB1,IF(FZ3<GC1,\"30\",\"0\"))","v":"0"},{"$f":"IF(FZ3>GC1,IF(FZ3<GD1,\"50\",\"0\"))","v":"0"},{"$f":"IF(FZ3>GD1,IF(FZ3<GE1,\"70\",\"0\"))","v":"0"},{"$f":"IF(FZ3>GE1,IF(FZ3<GF1,\"90\",\"0\"))","v":"90"},{"$f":"GA3+GB3+GC3+GD3+GE3","v":90},null,null,null,null,null,null,null,"IY 1.5 ALT",{"$f":"DX18","v":0.8},"IY 1.5 UST",{"$f":"DZ18","v":0.19999999999999996},null,null,"IY 1",{"$f":"ED18","v":0.6},"MS 1",{"$f":"EF18","v":0.6},null,null,"IY 1.5 ALT",{"$f":"EZ18","v":0.8},"IY 1.5 UST",{"$f":"FB18","v":0.19999999999999996},"IY 1",{"$f":"FF18","v":0.4},"MS 1",{"$f":"FH18","v":0.6},null,null,null,null,null,"IY","MS",{"$f":"COUNT(HQ4:HQ23)","v":5},{"$f":"IF(HO3>4,\"OK\",\"TAKIMLAR KENDI ARALARINDA YETERLI MAC OYNAMAMISTIR  DIGER SONUCLARA BAKINIZ\")","v":"OK"},null,null,null,null,null,null,null,null,null,null,"EV SAHIBI",null,null,null,null,null,"ILK YARI",null,"MAC SONU",null,null,null,null,null,null,null,null,1,"X",2,1,"X",2,null,null,null,null,null,"DEPLASMAN",null,null,null,null,null,"ILK YARI",null,"MAC SONU",null,null,null,null,null,null,null,null,1,"X",2,1,"X",2,null,"IY EV SAHIBI GOL ATAR ORTALAMA",null,null,null,{"$f":"IA15","v":0.4},{"$f":"IF(KE3>KF1,IF(KE3<KG1,\"10\",\"0\"))","v":"0"},{"$f":"IF(KE3>KG1,IF(KE3<KH1,\"30\",\"0\"))","v":"0"},{"$f":"IF(KE3>KH1,IF(KE3<KI1,\"50\",\"0\"))","v":"50"},{"$f":"IF(KE3>KI1,IF(KE3<KJ1,\"70\",\"0\"))","v":false},{"$f":"IF(KE3>KJ1,IF(KE3<KK1,\"90\",\"0\"))","v":false},{"$f":"KF3+KG3+KH3+KI3+KJ3","v":50},null,null,null,null,null,null,null,"IY 1.5 ALT",{"$f":"IC18","v":0.8},"IY 1.5 UST",{"$f":"IE18","v":0.19999999999999996},null,null,"IY 1",{"$f":"II18","v":0.2},"MS 1",{"$f":"IK18","v":0.2},null,null,"IY 1.5 ALT",{"$f":"JE18","v":0.8},"IY 1.5 UST",{"$f":"JG18","v":0.19999999999999996},"IY 1",{"$f":"JK18","v":0.2},"MS 1",{"$f":"JM18","v":0.4},null,null,null,null,{"$f":"A141","v":"Thun"},{"$f":"B141","v":"Young Boys"},{"$f":"C141","v":"2019-02-27"},{"$f":"D141","v":"FORM"},{"$f":"E141","v":"MS 1"},{"$f":"F141","v":0.59687500000000004},{"$f":"G141","v":1.3},{"$f":"H141","v":1.3},{"$f":"I141","v":0.3},{"$f":"J141","v":0.4},{"$f":"K141","v":0.30000000000000004},{"$f":"L141","v":0.4},{"$f":"M141","v":0.30000000000000004},{"$f":"N141","v":0.3},{"$f":"O141","v":"IY 1.5 ALT"},{"$f":"P141","v":"RISKLI"},{"$f":"Q141","v":"MS 2.5 UST"},{"$f":"R141","v":"RISKLI"},{"$f":"S141","v":"KG YOK"},{"$f":"T141","v":"RISKLI"},{"$f":"U141","v":"IY 2"},{"$f":"V141","v":"RISKLI"},{"$f":"W141","v":"MS 1"},{"$f":"X141","v":0.59687500000000004},{"$f":"Y141","v":"2 -1"},{"$f":"Z141","v":"RISKLI"},{"$f":"AA141","v":"2-3 GOL"},{"$f":"AB141","v":0.52500000000000002},{"$f":"AC141","v":"1,5 UST"},{"$f":"AD141","v":0.6333333333333333},{"$f":"AE141","v":2},{"$f":"AF141","v":0.4},{"$f":"AG141","v":3},{"$f":"AH141","v":0.6}]
[{"$f":"Veri!AJ5","v":"Thun"},{"$f":"Veri!AN5","v":"Grasshopper"},{"$f":"Veri!AL5","v":"1-1"},{"$f":"Veri!AK5","v":"1-1"},{"$f":"MID(C4,1,FIND(\"-\",C4)-1)","v":"1"},{"$f":"MID(C4,FIND(\"-\",C4)+1,10)","v":"1"},{"$f":"F4+0","v":1},{"$f":"MID(D4,1,FIND(\"-\",D4)-1)","v":"1"},{"$f":"MID(D4,FIND(\"-\",D4)+1,10)","v":"1"},{"$f":"IF(A4=$A$2,\"EV\",\"DEP\")","v":"EV"},{"$f":"IF(J4=\"EV\",E4,F4)","v":"1"},{"$f":"IF(J4=\"DEP\",E4,F4)","v":"1"},{"$f":"IF(J4=\"EV\",H4,I4)","v":"1"},{"$f":"IF(J4=\"DEP\",H4,I4)","v":"1"},null,null,null,null,null,null,"IY","MS","0,5 UST","1,5 ALT","1,5 UST","2,5UST","3,5 ALT",null,"ATAR","YER","SONUC ","ATAR","YER",null,null,null,null,null,null,null,null,null,null,null,null,null,null,null,"IY","MS","0,5 UST","1,5 ALT","1,5 UST","2,5UST","3,5 ALT",null,"ATAR","YER","SONUC ","ATAR","YER",null,null,null,null,null,null,null,"IY EV SAHIBI GOL YER ORTALAMA",null,null,null,{"$f":"R15","v":0.2},{"$f":"IF(BU4>BV1,IF(BU4<BW1,\"10\",\"0\"))","v":"0"},{"$f":"IF(BU4>BW1,IF(BU4<BX1,\"30\",\"0\"))","v":"30"},{"$f":"IF(BU4>BX1,IF(BU4<BY1,\"50\",\"0\"))","v":false},{"$f":"IF(BU4>BY1,IF(BU4<BZ1,\"70\",\"0\"))","v":false},{"$f":"IF(BU4>BZ1,IF(BU4<CA1,\"90\",\"0\"))","v":false},30,null,null,null,null,null,null,null,null,0,null,0,null,null,"IY X",{"$f":"Y19","v":0.3},"MS X",{"$f":"AA19","v":0.2},null,null,null,0,null,0,"IY X",{"$f":"BA19","v":0.6},"MS X",{"$f":"BC19","v":0.4},null,null,null,{"$f":"A4","v":"Thun"},{"$f":"B4","v":"Grasshopper"},"1-1","1-1",{"$f":"MID(DH4,1,FIND(\"-\",DH4)-1)","v":"1"},{"$f":"MID(DH4,FIND(\"-\",DH4)+1,10)","v":"1"},{"$f":"DK4+0","v":1},{"$f":"MID(DI4,1,FIND(\"-\",DI4)-1)","v":"1"},{"$f":"MID(DI4,FIND(\"-\",DI4)+1,10)","v":"1"},{"$f":"IF(DF4=$DF$2,\"EV\",\"DEP\")","v":"EV"},{"$f":"IF(DO4=\"EV\",DJ4,DK4)","v":"1"},{"$f":"IF(DO4=\"DEP\",DJ4,DK4)","v":"1"},{"$f":"IF(DO4=\"EV\",DM4,DN4)","v":"1"},{"$f":"IF(DO4=\"DEP\",DM4,DN4)","v":"1"},null,null,null,null,null,null,"IY","MS","0,5 UST","1,5 ALT","1,5 UST","2,5UST","3,5 ALT",null,"ATAR","YER","SONUC ","ATAR","YER",null,null,null,null,null,null,null,null,null,null,null,null,null,null,null,"IY","MS","0,5 UST","1,5 ALT","1,5 UST","2,5UST","3,5 ALT",null,"ATAR","YER","SONUC ","ATAR","YER",null,null,null,null,null,null,null,"IY EV SAHIBI GOL YER ORTALAMA",null,null,null,{"$f":"DW15","v":0.4},{"$f":"IF(FZ4>GA1,IF(FZ4<GB1,\"10\",\"0\"))","v":"0"},{"$f":"IF(FZ4>GB1,IF(FZ4<GC1,\"30\",\"0\"))","v":"0"},{"$f":"IF(FZ4>GC1,IF(FZ4<GD1,\"50\",\"0\"))","v":"50"},{"$f":"IF(FZ4>GD1,IF(FZ4<GE1,\"70\",\"0\"))","v":false},{"$f":"IF(FZ4>GE1,IF(FZ4<GF1,\"90\",\"0\"))","v":false},50,null,null,null,null,null,null,null,null,0,null,0,null,null,"IY X",{"$f":"ED19","v":0.2},"MS X",{"$f":"EF19","v":0.4},null,null,null,0,null,0,"IY X",{"$f":"FF19","v":0.6},"MS X",{"$f":"FH19","v":0.2},null,null,null,{"$f":"Veri!C4","v":"Lugano"},{"$f":"Veri!G4","v":"Thun"},{"$f":"Veri!E4","v":"0-1"},{"$f":"Veri!D4","v":"1-3"},{"$f":"IF(HM4=0,\"\",MID(HM4,1,FIND(\"-\",HM4)-1))","v":"0"},{"$f":"IF(HM4=0,\"\",MID(HM4,FIND(\"-\",HM4)+1,10))","v":"1"},{"$f":"IF(HP4=\"\",\"\",HP4+0)","v":1},{"$f":"IF(HN4=0,\"\",MID(HN4,1,FIND(\"-\",HN4)-1))","v":"1"},{"$f":"IF(HN4=0,\"\",MID(HN4,FIND(\"-\",HN4)+1,10))","v":"3"},{"$f":"IF(HK4=$HK$2,\"EV\",\"DEP\")","v":"DEP"},{"$f":"IF(HT4=\"EV\",HO4,HP4)","v":"1"},{"$f":"IF(HT4=\"DEP\",HO4,HP4)","v":"0"},{"$f":"IF(HT4=\"EV\",HR4,HS4)","v":"3"},{"$f":"IF(HT4=\"DEP\",HR4,HS4)","v":"1"},null,null,null,null,null,null,"IY","MS","0,5 UST","1,5 ALT","1,5 UST","2,5UST","3,5 ALT",null,"ATAR","YER","SONUC ","ATAR","YER",null,null,null,null,null,null,null,null,null,null,null,null,null,null,null,"IY","MS","0,5 UST","1,5 ALT","1,5 UST","2,5UST","3,5 ALT",null,"ATAR","YER","SONUC ","ATAR","YER",null,null,null,null,null,null,null,"IY EV SAHIBI GOL YER ORTALAMA",null,null,null,{"$f":"IB15","v":0.6},{"$f":"IF(KE4>KF1,IF(KE4<KG1,\"10\",\"0\"))","v":"0"},{"$f":"IF(KE4>KG1,IF(KE4<KH1,\"30\",\"0\"))","v":"0"},{"$f":"IF(KE4>KH1,IF(KE4<KI1,\"50\",\"0\"))","v":"0"},{"$f":"IF(KE4>KI1,IF(KE4<KJ1,\"70\",\"0\"))","v":"70"},{"$f":"IF(KE4>KJ1,IF(KE4<KK1,\"90\",\"0\"))","v":false},70,null,null,null,null,null,null,null,null,0,null,0,null,null,"IY X",{"$f":"II19","v":0.4},"MS X",{"$f":"IK19","v":0.4},null,null,null,0,null,0,"IY X",{"$f":"JK19","v":0.4},"MS X",{"$f":"JM19","v":0.4},null,null,null,null,"Thun","Young Boys","2019-02-27","H2H","2-3 GOL",0.48750000000000004,1.1000000000000001,1.5,0.30000000000000004,0.4,0.30000000000000004,0.2,0.4,0.4,"IY 1.5 ALT","RISKLI","MS 2.5 UST","RISKLI","KG YOK","RISKLI","IY 2","RISKLI","MS 2","RISKLI","2 -X /2","RISKLI","2-3 GOL",0.48750000000000004,"1,5 UST",0.68333333333333324,2,0.4,2,0.4]
[{"$f":"Veri!AJ6","v":"St. Gallen"},{"$f":"Veri!AN6","v":"Thun"},{"$f":"Veri!AL6","v":"0-1"},{"$f":"Veri!AK6","v":"1-3"},{"$f":"MID(C5,1,FIND(\"-\",C5)-1)","v":"0"},{"$f":"MID(C5,FIND(\"-\",C5)+1,10)","v":"1"},{"$f":"F5+0","v":1},{"$f":"MID(D5,1,FIND(\"-\",D5)-1)","v":"1"},{"$f":"MID(D5,FIND(\"-\",D5)+1,10)","v":"3"},{"$f":"IF(A5=$A$2,\"EV\",\"DEP\")","v":"DEP"},{"$f":"IF(J5=\"EV\",E5,F5)","v":"1"},{"$f":"IF(J5=\"DEP\",E5,F5)","v":"0"},{"$f":"IF(J5=\"EV\",H5,I5)","v":"3"},{"$f":"IF(J5=\"DEP\",H5,I5)","v":"1"},null,null,{"$f":"K4+0","v":1},{"$f":"L4+0","v":1},{"$f":"M4+0","v":1},{"$f":"N4+0","v":1},{"$f":"Q5+R5","v":2},{"$f":"S5+T5","v":2},{"$f":"IF(U5>$W$2,\"UST\",\"ALT\")","v":"UST"},{"$f":"IF(U5>$X$2,\"UST\",\"ALT\")","v":"UST"},{"$f":"IF(V5>$Y$2,\"UST\",\"ALT\")","v":"UST"},{"$f":"IF(V5>$Z$2,\"UST\",\"ALT\")","v":"ALT"},{"$f":"IF(V5>$AA$2,\"UST\",\"ALT\")","v":"ALT"},{"$f":"IF(V5>1,\"VAR\",\"YOK\")","v":"VAR"},{"$f":"IF(S5>0,\"1\",\"0\")","v":"1"},{"$f":"IF(T5>0,\"1\",\"0\")","v":"1"},{"$f":"IF(AC5+AD5=2,\"VAR\",\"YOK\")","v":"VAR"},{"$f":"IF(Q5>0,\"1\",\"0\")","v":"1"},{"$f":"IF(R5>0,\"1\",\"0\")","v":"1"},{"$f":"IF(Q5>R5,\"1\",\"0\")","v":"0"},{"$f":"IF(Q5=R5,\"1\",\"0\")","v":"1"},{"$f":"IF(Q5<R5,\"1\",\"0\")","v":"0"},{"$f":"IF(S5>T5,\"1\",\"0\")","v":"0"},{"$f":"IF(S5=T5,\"1\",\"0\")","v":"1"},{"$f":"IF(S5<T5,\"1\",\"0\")","v":"0"},null,null,null,null,null,{"$f":"K30+0","v":0},{"$f":"L30+0","v":0},{"$f":"M30+0","v":1},{"$f":"N30+0","v":0},{"$f":"AS5+AT5","v":0},{"$f":"AU5+AV5","v":1},{"$f":"IF(AW5>$W$2,\"UST\",\"ALT\")","v":"ALT"},{"$f":"IF(AW5>$X$2,\"UST\",\"ALT\")","v":"ALT"},{"$f":"IF(AX5>$Y$2,\"UST\",\"ALT\")","v":"ALT"},{"$f":"IF(AX5>$Z$2,\"UST\",\"ALT\")","v":"ALT"},{"$f":"IF(AX5>$AA$2,\"UST\",\"ALT\")","v":"ALT"},{"$f":"IF(AX5>1,\"VAR\",\"YOK\")","v":"YOK"},{"$f":"IF(AU5>0,\"1\",\"0\")","v":"1"},{"$f":"IF(AV5>0,\"1\",\"0\")","v":"0"},{"$f":"IF(BE5+BF5=2,\"VAR\",\"YOK\")","v":"YOK"},{"$f":"IF(AS5>0,\"1\",\"0\")","v":"0"},{"$f":"IF(AT5>0,\"1\",\"0\")","v":"0"},{"$f":"IF(AS5>AT5,\"1\",\"0\")","v":"0"},{"$f":"IF(AS5=AT5,\"1\",\"0\")","v":"1"},{"$f":"IF(AS5<AT5,\"1\",\"0\")","v":"0"},{"$f":"IF(AU5>AV5,\"1\",\"0\")","v":"1"},{"$f":"IF(AU5=AV5,\"1\",\"0\")","v":"0"},{"$f":"IF(AU5<AV5,\"1\",\"0\")","v":"0"},null,"IY DEP GOL ATAR ORTALAMA",null,null,null,{"$f":"AS15","v":0.4},{"$f":"IF(BU5>BV1,IF(BU5<BW1,\"10\",\"0\"))","v":"0"},{"$f":"IF(BU5>BW1,IF(BU5<BX1,\"30\",\"0\"))","v":"0"},{"$f":"IF(BU5>BX1,IF(BU5<BY1,\"50\",\"0\"))","v":"50"},{"$f":"IF(BU5>BY1,IF(BU5<BZ1,\"70\",\"0\"))","v":false},{"$f":"IF(BU5>BZ1,IF(BU5<CA1,\"90\",\"0\"))","v":false},50,null,null,null,null,null,null,null,"IY GOL ATAR",0.7,"IY GOL YER",0.2,null,null,"IY 2",0.1,"MS 2",0.1,null,null,"IY GOL ATAR",0.4,"IY GOL YER",0.4,"IY 2",{"$f":"BA20","v":0.2},"MS 2",{"$f":"BC20","v":0.3},null,null,null,{"$f":"A5","v":"St. Gallen"},{"$f":"B5","v":"Thun"},{"$f":"C5","v":"0-1"},{"$f":"D5","v":"1-3"},{"$f":"MID(DH5,1,FIND(\"-\",DH5)-1)","v":"0"},{"$f":"MID(DH5,FIND(\"-\",DH5)+1,10)","v":"1"},{"$f":"DK5+0","v":1},{"$f":"MID(DI5,1,FIND(\"-\",DI5)-1)","v":"1"},{"$f":"MID(DI5,FIND(\"-\",DI5)+1,10)","v":"3"},{"$f":"IF(DF5=$DF$2,\"EV\",\"DEP\")","v":"DEP"},{"$f":"IF(DO5=\"EV\",DJ5,DK5)","v":"1"},{"$f":"IF(DO5=\"DEP\",DJ5,DK5)","v":"0"},{"$f":"IF(DO5=\"EV\",DM5,DN5)","v":"3"},{"$f":"IF(DO5=\"DEP\",DM5,DN5)","v":"1"},null,null,{"$f":"DP4+0","v":1},{"$f":"DQ4+0","v":1},{"$f":"DR4+0","v":1},{"$f":"DS4+0","v":1},{"$f":"DV5+DW5","v":2},{"$f":"DX5+DY5","v":2},{"$f":"IF(DZ5>$W$2,\"UST\",\"ALT\")","v":"UST"},{"$f":"IF(DZ5>$X$2,\"UST\",\"ALT\")","v":"UST"},{"$f":"IF(EA5>$Y$2,\"UST\",\"ALT\")","v":"UST"},{"$f":"IF(EA5>$Z$2,\"UST\",\"ALT\")","v":"ALT"},{"$f":"IF(EA5>$AA$2,\"UST\",\"ALT\")","v":"ALT"},{"$f":"IF(EA5>1,\"VAR\",\"YOK\")","v":"VAR"},{"$f":"IF(DX5>0,\"1\",\"0\")","v":"1"},{"$f":"IF(DY5>0,\"1\",\"0\")","v":"1"},{"$f":"IF(EH5+EI5=2,\"VAR\",\"YOK\")","v":"VAR"},{"$f":"IF(DV5>0,\"1\",\"0\")","v":"1"},{"$f":"IF(DW5>0,\"1\",\"0\")","v":"1"},{"$f":"IF(DV5>DW5,\"1\",\"0\")","v":"0"},{"$f":"IF(DV5=DW5,\"1\",\"0\")","v":"1"},{"$f":"IF(DV5<DW5,\"1\",\"0\")","v":"0"},{"$f":"IF(DX5>DY5,\"1\",\"0\")","v":"0"},{"$f":"IF(DX5=DY5,\"1\",\"0\")","v":"1"},{"$f":"IF(DX5<DY5,\"1\",\"0\")","v":"0"},null,null,null,null,null,{"$f":"DP30+0","v":0},{"$f":"DQ30+0","v":0},{"$f":"DR30+0","v":1},{"$f":"DS30+0","v":0},{"$f":"EX5+EY5","v":0},{"$f":"EZ5+FA5","v":1},{"$f":"IF(FB5>$W$2,\"UST\",\"ALT\")","v":"ALT"},{"$f":"IF(FB5>$X$2,\"UST\",\"ALT\")","v":"ALT"},{"$f":"IF(FC5>$Y$2,\"UST\",\"ALT\")","v":"ALT"},{"$f":"IF(FC5>$Z$2,\"UST\",\"ALT\")","v":"ALT"},{"$f":"IF(FC5>$AA$2,\"UST\",\"ALT\")","v":"ALT"},{"$f":"IF(FC5>1,\"VAR\",\"YOK\")","v":"YOK"},{"$f":"IF(EZ5>0,\"1\",\"0\")","v":"1"},{"$f":"IF(FA5>0,\"1\",\"0\")","v":"0"},{"$f":"IF(FJ5+FK5=2,\"VAR\",\"YOK\")","v":"YOK"},{"$f":"IF(EX5>0,\"1\",\"0\")","v":"0"},{"$f":"IF(EY5>0,\"1\",\"0\")","v":"0"},{"$f":"IF(EX5>EY5,\"1\",\"0\")","v":"0"},{"$f":"IF(EX5=EY5,\"1\",\"0\")","v":"1"},{"$f":"IF(EX5<EY5,\"1\",\"0\")","v":"0"},{"$f":"IF(EZ5>FA5,\"1\",\"0\")","v":"1"},{"$f":"IF(EZ5=FA5,\"1\",\"0\")","v":"0"},{"$f":"IF(EZ5<FA5,\"1\",\"0\")","v":"0"},null,"IY DEP GOL ATAR ORTALAMA",null,null,null,{"$f":"EX15","v":0.6},{"$f":"IF(FZ5>GA1,IF(FZ5<GB1,\"10\",\"0\"))","v":"0"},{"$f":"IF(FZ5>GB1,IF(FZ5<GC1,\"30\",\"0\"))","v":"0"},{"$f":"IF(FZ5>GC1,IF(FZ5<GD1,\"50\",\"0\"))","v":"0"},{"$f":"IF(FZ5>GD1,IF(FZ5<GE1,\"70\",\"0\"))","v":"70"},{"$f":"IF(FZ5>GE1,IF(FZ5<GF1,\"90\",\"0\"))","v":false},70,null,null,null,null,null,null,null,"IY GOL ATAR",0.8,"IY GOL YER",0.4,null,null,"IY 2",0.2,"MS 2",0,null,null,"IY GOL ATAR",0.6,"IY GOL YER",0.2,"IY 2",{"$f":"FF20","v":0},"MS 2",{"$f":"FH20","v":0.2},null,null,null,{"$f":"Veri!C5","v":"Lugano"},{"$f":"Veri!G5","v":"Thun"},{"$f":"Veri!E5","v":"2-1"},{"$f":"Veri!D5","v":"2-1"},{"$f":"IF(HM5=0,\"\",MID(HM5,1,FIND(\"-\",HM5)-1))","v":"2"},{"$f":"IF(HM5=0,\"\",MID(HM5,FIND(\"-\",HM5)+1,10))","v":"1"},{"$f":"IF(HP5=\"\",\"\",HP5+0)","v":1},{"$f":"IF(HN5=0,\"\",MID(HN5,1,FIND(\"-\",HN5)-1))","v":"2"},{"$f":"IF(HN5=0,\"\",MID(HN5,FIND(\"-\",HN5)+1,10))","v":"1"},{"$f":"IF(HK5=$HK$2,\"EV\",\"DEP\")","v":"DEP"},{"$f":"IF(HT5=\"EV\",HO5,HP5)","v":"1"},{"$f":"IF(HT5=\"DEP\",HO5,HP5)","v":"2"},{"$f":"IF(HT5=\"EV\",HR5,HS5)","v":"1"},{"$f":"IF(HT5=\"DEP\",HR5,HS5)","v":"2"},null,null,{"$f":"IF(HU8=\"\",\"\",HU4+0)","v":1},{"$f":"IF(HV8=\"\",\"\",HV4+0)","v":0},{"$f":"IF(HW8=\"\",\"\",HW4+0)","v":3},{"$f":"IF(HX8=\"\",\"\",HX4+0)","v":1},{"$f":"IF(IA5=\"\",\"\",IA5+IB5)","v":1},{"$f":"IF(IC5=\"\",\"\",IC5+ID5)","v":4},{"$f":"IF(IE5=\"\",\"\",IF(IE5>$W$2,\"UST\",\"ALT\"))","v":"UST"},{"$f":"IF(IE5=\"\",\"\",IF(IE5>$X$2,\"UST\",\"ALT\"))","v":"ALT"},{"$f":"IF(IF5=\"\",\"\",IF(IF5>$Y$2,\"UST\",\"ALT\"))","v":"UST"},{"$f":"IF(IF5=\"\",\"\",IF(IF5>$Z$2,\"UST\",\"ALT\"))","v":"UST"},{"$f":"IF(IF5=\"\",\"\",IF(IF5>$AA$2,\"UST\",\"ALT\"))","v":"UST"},{"$f":"IF(IF5=\"\",\"\",IF(IF5>1,\"VAR\",\"YOK\"))","v":"VAR"},{"$f":"IF(IC5=\"\",\"\",IF(IC5>0,\"1\",\"0\"))","v":"1"},{"$f":"IF(ID5=\"\",\"\",IF(ID5>0,\"1\",\"0\"))","v":"1"},{"$f":"IF(IM5=\"\",\"\",IF(IM5+IN5=2,\"VAR\",\"YOK\"))","v":"VAR"},{"$f":"IF(IA5=\"\",\"\",IF(IA5>0,\"1\",\"0\"))","v":"1"},{"$f":"IF(IB5=\"\",\"\",IF(IB5>0,\"1\",\"0\"))","v":"0"},{"$f":"IF(IA5=\"\",\"\",IF(IA5>IB5,\"1\",\"0\"))","v":"1"},{"$f":"IF(IA5=\"\",\"\",IF(IA5=IB5,\"1\",\"0\"))","v":"0"},{"$f":"IF(IA5=\"\",\"\",IF(IA5<IB5,\"1\",\"0\"))","v":"0"},{"$f":"IF(IC5=\"\",\"\",IF(IC5>ID5,\"1\",\"0\"))","v":"1"},{"$f":"IF(IC5=\"\",\"\",IF(IC5=ID5,\"1\",\"0\"))","v":"0"},{"$f":"IF(IC5=\"\",\"\",IF(IC5<ID5,\"1\",\"0\"))","v":"0"},null,null,null,null,null,{"$f":"IF(HU34=\"\",\"\",HU30+0)","v":1},{"$f":"IF(HU34=\"\",\"\",HV30+0)","v":0},{"$f":"IF(HU34=\"\",\"\",HW30+0)","v":3},{"$f":"IF(HU34=\"\",\"\",HX30+0)","v":1},{"$f":"IF(JC5=\"\",\"\",JC5+JD5)","v":1},{"$f":"IF(JE5=\"\",\"\",JE5+JF5)","v":4},{"$f":"IF(JG5=\"\",\"\",IF(JG5>$W$2,\"UST\",\"ALT\"))","v":"UST"},{"$f":"IF(JG5=\"\",\"\",IF(JG5>$X$2,\"UST\",\"ALT\"))","v":"ALT"},{"$f":"IF(JH5=\"\",\"\",IF(JH5>$Y$2,\"UST\",\"ALT\"))","v":"UST"},{"$f":"IF(JH5=\"\",\"\",IF(JH5>$Z$2,\"UST\",\"ALT\"))","v":"UST"},{"$f":"IF(JH5=\"\",\"\",IF(JH5>$AA$2,\"UST\",\"ALT\"))","v":"UST"},{"$f":"IF(JH5=\"\",\"\",IF(JH5>1,\"VAR\",\"YOK\"))","v":"VAR"},{"$f":"IF(JE5=\"\",\"\",IF(JE5>0,\"1\",\"0\"))","v":"1"},{"$f":"IF(JF5=\"\",\"\",IF(JF5>0,\"1\",\"0\"))","v":"1"},{"$f":"IF(JO5=\"\",\"\",IF(JO5+JP5=2,\"VAR\",\"YOK\"))","v":"VAR"},{"$f":"IF(JC5=\"\",\"\",IF(JC5>0,\"1\",\"0\"))","v":"1"},{"$f":"IF(JD5=\"\",\"\",IF(JD5>0,\"1\",\"0\"))","v":"0"},{"$f":"IF(JC5=\"\",\"\",IF(JC5>JD5,\"1\",\"0\"))","v":"1"},{"$f":"IF(JC5=\"\",\"\",IF(JC5=JD5,\"1\",\"0\"))","v":"0"},{"$f":"IF(JC5=\"\",\"\",IF(JC5<JD5,\"1\",\"0\"))","v":"0"},{"$f":"IF(JE5=\"\",\"\",IF(JE5>JF5,\"1\",\"0\"))","v":"1"},{"$f":"IF(JE5=\"\",\"\",IF(JE5=JF5,\"1\",\"0\"))","v":"0"},{"$f":"IF(JE5=\"\",\"\",IF(JE5<JF5,\"1\",\"0\"))","v":"0"},null,"IY DEP GOL ATAR ORTALAMA",null,null,null,{"$f":"JC15","v":0.4},{"$f":"IF(KE5>KF1,IF(KE5<KG1,\"10\",\"0\"))","v":"0"},{"$f":"IF(KE5>KG1,IF(KE5<KH1,\"30\",\"0\"))","v":"0"},{"$f":"IF(KE5>KH1,IF(KE5<KI1,\"50\",\"0\"))","v":"50"},{"$f":"IF(KE5>KI1,IF(KE5<KJ1,\"70\",\"0\"))","v":false},{"$f":"IF(KE5>KJ1,IF(KE5<KK1,\"90\",\"0\"))","v":false},50,null,null,null,null,null,null,null,"IY GOL ATAR",0.4,"IY GOL YER",0.4,null,null,"IY 2",0.4,"MS 2",0.4,null,null,"IY GOL ATAR",0.4,"IY GOL YER",0.4,"IY 2",{"$f":"JK20","v":0.4},"MS 2",{"$f":"JM20","v":0.2},null,null,null,null,null,null,null,null,{"$f":"LV2","v":0.66428571428571426},{"$f":"LU2","v":"KG VAR"},null,null,null,null,null,null,null,null,{"$f":"IF(ME2=ME3,ME2,\"RISKLI\")","v":"IY 1.5 ALT"},null,{"$f":"IF(MG2=MG3,MG2,\"RISKLI\")","v":"MS 2.5 UST"},null,{"$f":"IF(MI2=MI3,MI2,\"RISKLI\")","v":"RISKLI"},null,{"$f":"IF(MK2=MK3,MK2,\"RISKLI\")","v":"RISKLI"},null,{"$f":"IF(MM2=MM3,MM2,\"RISKLI\")","v":"RISKLI"},null,{"$f":"IF(MO2=MO3,MO2,\"RISKLI\")","v":"RISKLI"},null,{"$f":"IF(MQ2=MQ3,MQ2,\"RISKLI\")","v":"2-3 GOL"},null,{"$f":"IF(MS2=MS3,MS2,\"RISKLI\")","v":"1,5 UST"}]
[{"$f":"Veri!AJ7","v":"Thun"},{"$f":"Veri!AN7","v":"Young Boys"},{"$f":"Veri!AL7","v":"0-1"},{"$f":"Veri!AK7","v":"1-1"},"0","1",1,"1","1","EV","0","1","1","1",null,null,{"$f":"K5+0","v":1},{"$f":"L5+0","v":0},{"$f":"M5+0","v":3},{"$f":"N5+0","v":1},{"$f":"Q6+R6","v":1},{"$f":"S6+T6","v":4},{"$f":"IF(U6>$W$2,\"UST\",\"ALT\")","v":"UST"},{"$f":"IF(U6>$X$2,\"UST\",\"ALT\")","v":"ALT"},{"$f":"IF(V6>$Y$2,\"UST\",\"ALT\")","v":"UST"},{"$f":"IF(V6>$Z$2,\"UST\",\"ALT\")","v":"UST"},{"$f":"IF(V6>$AA$2,\"UST\",\"ALT\")","v":"UST"},{"$f":"IF(V6>1,\"VAR\",\"YOK\")","v":"VAR"},{"$f":"IF(S6>0,\"1\",\"0\")","v":"1"},{"$f":"IF(T6>0,\"1\",\"0\")","v":"1"},{"$f":"IF(AC6+AD6=2,\"VAR\",\"YOK\")","v":"VAR"},{"$f":"IF(Q6>0,\"1\",\"0\")","v":"1"},{"$f":"IF(R6>0,\"1\",\"0\")","v":"0"},{"$f":"IF(Q6>R6,\"1\",\"0\")","v":"1"},{"$f":"IF(Q6=R6,\"1\",\"0\")","v":"0"},{"$f":"IF(Q6<R6,\"1\",\"0\")","v":"0"},{"$f":"IF(S6>T6,\"1\",\"0\")","v":"1"},{"$f":"IF(S6=T6,\"1\",\"0\")","v":"0"},{"$f":"IF(S6<T6,\"1\",\"0\")","v":"0"},null,null,null,null,null,1,0,3,0,{"$f":"AS6+AT6","v":1},{"$f":"AU6+AV6","v":3},{"$f":"IF(AW6>$W$2,\"UST\",\"ALT\")","v":"UST"},{"$f":"IF(AW6>$X$2,\"UST\",\"ALT\")","v":"ALT"},{"$f":"IF(AX6>$Y$2,\"UST\",\"ALT\")","v":"UST"},{"$f":"IF(AX6>$Z$2,\"UST\",\"ALT\")","v":"UST"},{"$f":"IF(AX6>$AA$2,\"UST\",\"ALT\")","v":"ALT"},{"$f":"IF(AX6>1,\"VAR\",\"YOK\")","v":"VAR"},{"$f":"IF(AU6>0,\"1\",\"0\")","v":"1"},{"$f":"IF(AV6>0,\"1\",\"0\")","v":"0"},{"$f":"IF(BE6+BF6=2,\"VAR\",\"YOK\")","v":"YOK"},{"$f":"IF(AS6>0,\"1\",\"0\")","v":"1"},{"$f":"IF(AT6>0,\"1\",\"0\")","v":"0"},{"$f":"IF(AS6>AT6,\"1\",\"0\")","v":"1"},{"$f":"IF(AS6=AT6,\"1\",\"0\")","v":"0"},{"$f":"IF(AS6<AT6,\"1\",\"0\")","v":"0"},{"$f":"IF(AU6>AV6,\"1\",\"0\")","v":"1"},{"$f":"IF(AU6=AV6,\"1\",\"0\")","v":"0"},{"$f":"IF(AU6<AV6,\"1\",\"0\")","v":"0"},null,"IY DEP GOL YER ORTALAMA",null,null,null,{"$f":"AT15","v":0.4},{"$f":"IF(BU6>BV1,IF(BU6<BW1,\"10\",\"0\"))","v":"0"},{"$f":"IF(BU6>BW1,IF(BU6<BX1,\"30\",\"0\"))","v":"0"},{"$f":"IF(BU6>BX1,IF(BU6<BY1,\"50\",\"0\"))","v":"50"},{"$f":"IF(BU6>BY1,IF(BU6<BZ1,\"70\",\"0\"))","v":false},{"$f":"IF(BU6>BZ1,IF(BU6<CA1,\"90\",\"0\"))","v":false},50,null,null,null,null,null,null,null,null,0,null,0,null,null,null,null,null,null,null,null,null,0,null,0,null,null,null,null,null,null,null,"Thun","Young Boys","0-1","1-1","0","1",1,"1","1","EV","0","1","1","1",null,null,{"$f":"DP5+0","v":1},{"$f":"DQ5+0","v":0},{"$f":"DR5+0","v":3},{"$f":"DS5+0","v":1},{"$f":"DV6+DW6","v":1},{"$f":"DX6+DY6","v":4},{"$f":"IF(DZ6>$W$2,\"UST\",\"ALT\")","v":"UST"},{"$f":"IF(DZ6>$X$2,\"UST\",\"ALT\")","v":"ALT"},{"$f":"IF(EA6>$Y$2,\"UST\",\"ALT\")","v":"UST"},{"$f":"IF(EA6>$Z$2,\"UST\",\"ALT\")","v":"UST"},{"$f":"IF(EA6>$AA$2,\"UST\",\"ALT\")","v":"UST"},{"$f":"IF(EA6>1,\"VAR\",\"YOK\")","v":"VAR"},{"$f":"IF(DX6>0,\"1\",\"0\")","v":"1"},{"$f":"IF(DY6>0,\"1\",\"0\")","v":"1"},{"$f":"IF(EH6+EI6=2,\"VAR\",\"YOK\")","v":"VAR"},{"$f":"IF(DV6>0,\"1\",\"0\")","v":"1"},{"$f":"IF(DW6>0,\"1\",\"0\")","v":"0"},{"$f":"IF(DV6>DW6,\"1\",\"0\")","v":"1"},{"$f":"IF(DV6=DW6,\"1\",\"0\")","v":"0"},{"$f":"IF(DV6<DW6,\"1\",\"0\")","v":"0"},{"$f":"IF(DX6>DY6,\"1\",\"0\")","v":"1"},{"$f":"IF(DX6=DY6,\"1\",\"0\")","v":"0"},{"$f":"IF(DX6<DY6,\"1\",\"0\")","v":"0"},null,null,null,null,null,1,0,3,0,{"$f":"EX6+EY6","v":1},{"$f":"EZ6+FA6","v":3},{"$f":"IF(FB6>$W$2,\"UST\",\"ALT\")","v":"UST"},{"$f":"IF(FB6>$X$2,\"UST\",\"ALT\")","v":"ALT"},{"$f":"IF(FC6>$Y$2,\"UST\",\"ALT\")","v":"UST"},{"$f":"IF(FC6>$Z$2,\"UST\",\"ALT\")","v":"UST"},{"$f":"IF(FC6>$AA$2,\"UST\",\"ALT\")","v":"ALT"},{"$f":"IF(FC6>1,\"VAR\",\"YOK\")","v":"VAR"},{"$f":"IF(EZ6>0,\"1\",\"0\")","v":"1"},{"$f":"IF(FA6>0,\"1\",\"0\")","v":"0"},{"$f":"IF(FJ6+FK6=2,\"VAR\",\"YOK\")","v":"YOK"},{"$f":"IF(EX6>0,\"1\",\"0\")","v":"1"},{"$f":"IF(EY6>0,\"1\",\"0\")","v":"0"},{"$f":"IF(EX6>EY6,\"1\",\"0\")","v":"1"},{"$f":"IF(EX6=EY6,\"1\",\"0\")","v":"0"},{"$f":"IF(EX6<EY6,\"1\",\"0\")","v":"0"},{"$f":"IF(EZ6>FA6,\"1\",\"0\")","v":"1"},{"$f":"IF(EZ6=FA6,\"1\",\"0\")","v":"0"},{"$f":"IF(EZ6<FA6,\"1\",\"0\")","v":"0"},null,"IY DEP GOL YER ORTALAMA",null,null,null,{"$f":"EY15","v":0.2},{"$f":"IF(FZ6>GA1,IF(FZ6<GB1,\"10\",\"0\"))","v":"0"},{"$f":"IF(FZ6>GB1,IF(FZ6<GC1,\"30\",\"0\"))","v":"30"},{"$f":"IF(FZ6>GC1,IF(FZ6<GD1,\"50\",\"0\"))","v":false},{"$f":"IF(FZ6>GD1,IF(FZ6<GE1,\"70\",\"0\"))","v":false},{"$f":"IF(FZ6>GE1,IF(FZ6<GF1,\"90\",\"0\"))","v":false},30,null,null,null,null,null,null,null,null,0,null,0,null,null,null,null,null,null,null,null,null,0,null,0,null,null,null,null,null,null,null,{"$f":"Veri!C6","v":"Thun"},{"$f":"Veri!G6","v":"Lugano"},{"$f":"Veri!E6","v":"0-0"},{"$f":"Veri!D6","v":"1-1"},{"$f":"IF(HM6=0,\"\",MID(HM6,1,FIND(\"-\",HM6)-1))","v":"0"},{"$f":"IF(HM6=0,\"\",MID(HM6,FIND(\"-\",HM6)+1,10))","v":"0"},0,"1","1","EV","0","0","1","1",null,null,{"$f":"IF(HU8=\"\",\"\",HU5+0)","v":1},{"$f":"IF(HV8=\"\",\"\",HV5+0)","v":2},{"$f":"IF(HW8=\"\",\"\",HW5+0)","v":1},{"$f":"IF(HX8=\"\",\"\",HX5+0)","v":2},{"$f":"IF(IA6=\"\",\"\",IA6+IB6)","v":3},{"$f":"IF(IC6=\"\",\"\",IC6+ID6)","v":3},{"$f":"IF(IE6=\"\",\"\",IF(IE6>$W$2,\"UST\",\"ALT\"))","v":"UST"},{"$f":"IF(IE6=\"\",\"\",IF(IE6>$X$2,\"UST\",\"ALT\"))","v":"UST"},{"$f":"IF(IF6=\"\",\"\",IF(IF6>$Y$2,\"UST\",\"ALT\"))","v":"UST"},{"$f":"IF(IF6=\"\",\"\",IF(IF6>$Z$2,\"UST\",\"ALT\"))","v":"UST"},{"$f":"IF(IF6=\"\",\"\",IF(IF6>$AA$2,\"UST\",\"ALT\"))","v":"ALT"},{"$f":"IF(IF6=\"\",\"\",IF(IF6>1,\"VAR\",\"YOK\"))","v":"VAR"},{"$f":"IF(IC6=\"\",\"\",IF(IC6>0,\"1\",\"0\"))","v":"1"},{"$f":"IF(ID6=\"\",\"\",IF(ID6>0,\"1\",\"0\"))","v":"1"},{"$f":"IF(IM6=\"\",\"\",IF(IM6+IN6=2,\"VAR\",\"YOK\"))","v":"VAR"},{"$f":"IF(IA6=\"\",\"\",IF(IA6>0,\"1\",\"0\"))","v":"1"},{"$f":"IF(IB6=\"\",\"\",IF(IB6>0,\"1\",\"0\"))","v":"1"},{"$f":"IF(IA6=\"\",\"\",IF(IA6>IB6,\"1\",\"0\"))","v":"0"},{"$f":"IF(IA6=\"\",\"\",IF(IA6=IB6,\"1\",\"0\"))","v":"0"},{"$f":"IF(IA6=\"\",\"\",IF(IA6<IB6,\"1\",\"0\"))","v":"1"},{"$f":"IF(IC6=\"\",\"\",IF(IC6>ID6,\"1\",\"0\"))","v":"0"},{"$f":"IF(IC6=\"\",\"\",IF(IC6=ID6,\"1\",\"0\"))","v":"0"},{"$f":"IF(IC6=\"\",\"\",IF(IC6<ID6,\"1\",\"0\"))","v":"1"},null,null,null,null,null,{"$f":"IF(HU34=\"\",\"\",HU31+0)","v":1},{"$f":"IF(HU34=\"\",\"\",HV31+0)","v":2},{"$f":"IF(HU34=\"\",\"\",HW31+0)","v":1},{"$f":"IF(HU34=\"\",\"\",HX31+0)","v":2},{"$f":"IF(JC6=\"\",\"\",JC6+JD6)","v":3},{"$f":"IF(JE6=\"\",\"\",JE6+JF6)","v":3},{"$f":"IF(JG6=\"\",\"\",IF(JG6>$W$2,\"UST\",\"ALT\"))","v":"UST"},{"$f":"IF(JG6=\"\",\"\",IF(JG6>$X$2,\"UST\",\"ALT\"))","v":"UST"},{"$f":"IF(JH6=\"\",\"\",IF(JH6>$Y$2,\"UST\",\"ALT\"))","v":"UST"},{"$f":"IF(JH6=\"\",\"\",IF(JH6>$Z$2,\"UST\",\"ALT\"))","v":"UST"},{"$f":"IF(JH6=\"\",\"\",IF(JH6>$AA$2,\"UST\",\"ALT\"))","v":"ALT"},{"$f":"IF(JH6=\"\",\"\",IF(JH6>1,\"VAR\",\"YOK\"))","v":"VAR"},{"$f":"IF(JE6=\"\",\"\",IF(JE6>0,\"1\",\"0\"))","v":"1"},{"$f":"IF(JF6=\"\",\"\",IF(JF6>0,\"1\",\"0\"))","v":"1"},{"$f":"IF(JO6=\"\",\"\",IF(JO6+JP6=2,\"VAR\",\"YOK\"))","v":"VAR"},{"$f":"IF(JC6=\"\",\"\",IF(JC6>0,\"1\",\"0\"))","v":"1"},{"$f":"IF(JD6=\"\",\"\",IF(JD6>0,\"1\",\"0\"))","v":"1"},{"$f":"IF(JC6=\"\",\"\",IF(JC6>JD6,\"1\",\"0\"))","v":"0"},{"$f":"IF(JC6=\"\",\"\",IF(JC6=JD6,\"1\",\"0\"))","v":"0"},{"$f":"IF(JC6=\"\",\"\",IF(JC6<JD6,\"1\",\"0\"))","v":"1"},{"$f":"IF(JE6=\"\",\"\",IF(JE6>JF6,\"1\",\"0\"))","v":"0"},{"$f":"IF(JE6=\"\",\"\",IF(JE6=JF6,\"1\",\"0\"))","v":"0"},{"$f":"IF(JE6=\"\",\"\",IF(JE6<JF6,\"1\",\"0\"))","v":"1"},null,"IY DEP GOL YER ORTALAMA",null,null,null,{"$f":"JD15","v":0.6},{"$f":"IF(KE6>KF1,IF(KE6<KG1,\"10\",\"0\"))","v":"0"},{"$f":"IF(KE6>KG1,IF(KE6<KH1,\"30\",\"0\"))","v":"0"},{"$f":"IF(KE6>KH1,IF(KE6<KI1,\"50\",\"0\"))","v":"0"},{"$f":"IF(KE6>KI1,IF(KE6<KJ1,\"70\",\"0\"))","v":"70"},{"$f":"IF(KE6>KJ1,IF(KE6<KK1,\"90\",\"0\"))","v":false},70,null,null,null,null,null,null,null,null,0,null,0,null,null,null,null,null,null,null,null,null,0,null,0,null,null,null,null,null,null,null,null,null,null,null,null,{"$f":"LV3","v":0.59687500000000004},{"$f":"LU3","v":"MS 1"},null,null,null,null,null,null,null,null,{"$f":"IF(ME5=ME4,ME4,\"RISKLI\")","v":"IY 1.5 ALT"},null,{"$f":"IF(MG5=MG4,MG4,\"RISKLI\")","v":"MS 2.5 UST"},null,{"$f":"IF(MI5=MI4,MI4,\"RISKLI\")","v":"RISKLI"},null,{"$f":"IF(MK5=MK4,MK4,\"RISKLI\")","v":"RISKLI"},null,{"$f":"IF(MM5=MM4,MM4,\"RISKLI\")","v":"RISKLI"},null,{"$f":"IF(MO5=MO4,MO4,\"RISKLI\")","v":"RISKLI"},null,{"$f":"IF(MQ5=MQ4,MQ4,\"RISKLI\")","v":"2-3 GOL"},null,{"$f":"IF(MS5=MS4,MS4,\"RISKLI\")","v":"1,5 UST"}]
[{"$f":"Veri!AJ8","v":"Lugano"},{"$f":"Veri!AN8","v":"Thun"},{"$f":"Veri!AL8","v":"0-1"},{"$f":"Veri!AK8","v":"1-3"},"0","1",1,"1","3","DEP","1","0","3","1",null,null,0,1,1,1,{"$f":"Q7+R7","v":1},{"$f":"S7+T7","v":2},"UST","ALT","UST","ALT","ALT","VAR","1","1","VAR","0","1","0","0","1","0","1","0",null,null,null,null,null,1,1,2,2,2,{"$f":"AU7+AV7","v":4},"UST","UST","UST","UST","UST","VAR","1","1","VAR","1","1","0","1","0","0","1","0",null,"IY EV SAHIBI GOL ATAR MACA GORE",null,null,null,{"$f":"AF15","v":7},{"$f":"IF(BU7>CB1,IF(BU7<CC1,\"10\",\"0\"))","v":"0"},{"$f":"IF(BU7>CC1,IF(BU7<CD1,\"30\",\"0\"))","v":"0"},{"$f":"IF(BU7>CD1,IF(BU7<CE1,\"50\",\"0\"))","v":"0"},{"$f":"IF(BU7>CE1,IF(BU7<CF1,\"70\",\"0\"))","v":"70"},{"$f":"IF(BU7>CF1,IF(BU7<CG1,\"90\",\"0\"))","v":false},70,null,null,null,null,null,null,null,"MS 1.5 UST",0.8,"MS 1.5 ALT",0.19999999999999996,null,null,null,null,null,null,null,null,"MS 1.5 UST",0.6,"MS 1.5 ALT",0.4,null,null,null,null,null,null,null,"Lugano","Thun","0-1","1-3","0","1",1,"1","3","DEP","1","0","3","1",null,null,0,1,1,1,{"$f":"DV7+DW7","v":1},{"$f":"DX7+DY7","v":2},"UST","ALT","UST","ALT","ALT","VAR","1","1","VAR","0","1","0","0","1","0","1","0",null,null,null,null,null,1,1,2,2,2,{"$f":"EZ7+FA7","v":4},"UST","UST","UST","UST","UST","VAR","1","1","VAR","1","1","0","1","0","0","1","0",null,"IY EV SAHIBI GOL ATAR MACA GORE",null,null,null,{"$f":"EK15","v":4},{"$f":"IF(FZ7>GG1,IF(FZ7<GH1,\"10\",\"0\"))","v":"0"},{"$f":"IF(FZ7>GH1,IF(FZ7<GI1,\"30\",\"0\"))","v":"0"},{"$f":"IF(FZ7>GI1,IF(FZ7<GJ1,\"50\",\"0\"))","v":"50"},{"$f":"IF(FZ7>GJ1,IF(FZ7<GK1,\"70\",\"0\"))","v":false},{"$f":"IF(FZ7>GK1,IF(FZ7<GL1,\"90\",\"0\"))","v":false},50,null,null,null,null,null,null,null,"MS 1.5 UST",0.8,"MS 1.5 ALT",0.19999999999999996,null,null,null,null,null,null,null,null,"MS 1.5 UST",0.6,"MS 1.5 ALT",0.4,null,null,null,null,null,null,null,{"$f":"Veri!C7","v":"Lugano"},{"$f":"Veri!G7","v":"Thun"},{"$f":"Veri!E7","v":"1-0"},{"$f":"Veri!D7","v":"1-1"},"1","0",0,"1","1","DEP","0","1","1","1",null,null,{"$f":"IF(HU8=\"\",\"\",HU6+0)","v":0},{"$f":"IF(HV8=\"\",\"\",HV6+0)","v":0},{"$f":"IF(HW8=\"\",\"\",HW6+0)","v":1},{"$f":"IF(HX8=\"\",\"\",HX6+0)","v":1},{"$f":"IF(IA7=\"\",\"\",IA7+IB7)","v":0},{"$f":"IF(IC7=\"\",\"\",IC7+ID7)","v":2},"ALT","ALT","UST","ALT","ALT","VAR","1","1","VAR","0","0","0","1","0","0","1","0",null,null,null,null,null,{"$f":"IF(HU34=\"\",\"\",HU32+0)","v":0},{"$f":"IF(HU34=\"\",\"\",HV32+0)","v":0},{"$f":"IF(HU34=\"\",\"\",HW32+0)","v":1},{"$f":"IF(HU34=\"\",\"\",HX32+0)","v":1},{"$f":"IF(JC7=\"\",\"\",JC7+JD7)","v":0},2,"ALT","ALT","UST","ALT","ALT","VAR","1","1","VAR","0","0","0","1","0","0","1","0",null,"IY EV SAHIBI GOL ATAR MACA GORE",null,null,null,{"$f":"IP15","v":2},{"$f":"IF(KE7>KL1,IF(KE7<KM1,\"10\",\"0\"))","v":"0"},{"$f":"IF(KE7>KM1,IF(KE7<KN1,\"30\",\"0\"))","v":"30"},{"$f":"IF(KE7>KN1,IF(KE7<KO1,\"50\",\"0\"))","v":false},{"$f":"IF(KE7>KO1,IF(KE7<KP1,\"70\",\"0\"))","v":false},{"$f":"IF(KE7>KP1,IF(KE7<KQ1,\"90\",\"0\"))","v":false},30,null,null,null,null,null,null,null,"MS 1.5 UST",1,"MS 1.5 ALT",0,null,null,null,null,null,null,null,null,"MS 1.5 UST",1,"MS 1.5 ALT",0,null,null,null,null,null,null,null,null,null,null,null,null,0.48750000000000004,"2-3 GOL"]
[{"$f":"Veri!AJ9","v":"Thun"},{"$f":"Veri!AN9","v":"Kriens"},{"$f":"Veri!AL9","v":"1-0"},{"$f":"Veri!AK9","v":"1-0"},"1","0",0,"1","0","EV","1","0","1","0",null,null,1,0,3,1,1,4,"UST","ALT","UST","UST","UST","VAR","1","1","VAR","1","0","1","0","0","1","0","0",null,null,null,null,null,1,0,3,1,1,{"$f":"AU8+AV8","v":4},"UST","ALT","UST","UST","UST","VAR","1","1","VAR","1","0","1","0","0","1","0","0",null,"IY EV SAHIBI GOL YER MACA GORE",null,null,null,{"$f":"AG15","v":2},{"$f":"IF(BU8>CB1,IF(BU8<CC1,\"10\",\"0\"))","v":"0"},{"$f":"IF(BU8>CC1,IF(BU8<CD1,\"30\",\"0\"))","v":"30"},{"$f":"IF(BU8>CD1,IF(BU8<CE1,\"50\",\"0\"))","v":false},{"$f":"IF(BU8>CE1,IF(BU8<CF1,\"70\",\"0\"))","v":false},{"$f":"IF(BU8>CF1,IF(BU8<CG1,\"90\",\"0\"))","v":false},30,null,null,null,null,null,null,null,"MS 2.5 UST",0.4,"MS 2.5 ALT",0.6,null,null,null,null,null,null,null,null,"MS 2.5 UST",0.6,"MS 2.5 ALT",0.4,null,null,null,null,null,null,null,"Thun","Kriens","1-0","1-0","1","0",0,"1","0","EV","1","0","1","0",null,null,1,0,3,1,1,{"$f":"DX8+DY8","v":4},"UST","ALT","UST","UST","UST","VAR","1","1","VAR","1","0","1","0","0","1","0","0",null,null,null,null,null,1,0,3,1,1,{"$f":"EZ8+FA8","v":4},"UST","ALT","UST","UST","UST","VAR","1","1","VAR","1","0","1","0","0","1","0","0",null,"IY EV SAHIBI GOL YER MACA GORE",null,null,null,{"$f":"EL15","v":2},{"$f":"IF(FZ8>GG1,IF(FZ8<GH1,\"10\",\"0\"))","v":"0"},{"$f":"IF(FZ8>GH1,IF(FZ8<GI1,\"30\",\"0\"))","v":"30"},{"$f":"IF(FZ8>GI1,IF(FZ8<GJ1,\"50\",\"0\"))","v":false},{"$f":"IF(FZ8>GJ1,IF(FZ8<GK1,\"70\",\"0\"))","v":false},{"$f":"IF(FZ8>GK1,IF(FZ8<GL1,\"90\",\"0\"))","v":false},30,null,null,null,null,null,null,null,"MS 2.5 UST",0.4,"MS 2.5 ALT",0.6,null,null,null,null,null,null,null,null,"MS 2.5 UST",0.6,"MS 2.5 ALT",0.4,null,null,null,null,null,null,null,{"$f":"Veri!C8","v":"Thun"},{"$f":"Veri!G8","v":"Lugano"},{"$f":"Veri!E8","v":"0-0"},{"$f":"Veri!D8","v":"0-2"},"0","0",0,"0","2","EV","0","0","0","2",null,null,{"$f":"IF(HU8=\"\",\"\",HU7+0)","v":0},{"$f":"IF(HV8=\"\",\"\",HV7+0)","v":1},{"$f":"IF(HW8=\"\",\"\",HW7+0)","v":1},{"$f":"IF(HX8=\"\",\"\",HX7+0)","v":1},1,2,"UST",{"$f":"IF(IE8=\"\",\"\",IF(IE8>$X$2,\"UST\",\"ALT\"))","v":"ALT"},"UST","ALT","ALT","VAR","1","1","VAR","0","1","0","0","1","0","1","0",null,null,null,null,null,{"$f":"IF(HU34=\"\",\"\",HU33+0)","v":0},{"$f":"IF(HU34=\"\",\"\",HV33+0)","v":1},{"$f":"IF(HU34=\"\",\"\",HW33+0)","v":1},{"$f":"IF(HU34=\"\",\"\",HX33+0)","v":1},1,2,"UST","ALT","UST","ALT","ALT","VAR","1","1","VAR","0","1","0","0","1","0","1","0",null,"IY EV SAHIBI GOL YER MACA GORE",null,null,null,{"$f":"IQ15","v":2},{"$f":"IF(KE8>KL1,IF(KE8<KM1,\"10\",\"0\"))","v":"0"},{"$f":"IF(KE8>KM1,IF(KE8<KN1,\"30\",\"0\"))","v":"30"},{"$f":"IF(KE8>KN1,IF(KE8<KO1,\"50\",\"0\"))","v":false},{"$f":"IF(KE8>KO1,IF(KE8<KP1,\"70\",\"0\"))","v":false},{"$f":"IF(KE8>KP1,IF(KE8<KQ1,\"90\",\"0\"))","v":false},30,null,null,null,null,null,null,null,"MS 2.5 UST",0.4,"MS 2.5 ALT",0.6,null,null,null,null,null,null,null,null,"MS 2.5 UST",0.4,"MS 2.5 ALT",0.6]
[{"$f":"Veri!AJ10","v":"Bruhl SG"},{"$f":"Veri!AN10","v":"Thun"},{"$f":"Veri!AL10","v":"0-1"},{"$f":"Veri!AK10","v":"1-5"},"0","1",1,"1","5",{"$f":"IF(A9=$A$2,\"EV\",\"DEP\")","v":"DEP"},"1","0","5","1",null,null,1,0,1,0,1,1,"UST","ALT","ALT","ALT","ALT","YOK","1","0","YOK","1","0","1","0","0","1","0","0",null,null,null,null,null,0,0,0,1,0,1,"ALT","ALT","ALT","ALT","ALT","YOK","0","1","YOK","0","0","0","1","0","0","0","1",null,"IY DEP GOL ATAR MACA GORE",null,null,null,{"$f":"BH15","v":4},{"$f":"IF(BU9>CB1,IF(BU9<CC1,\"10\",\"0\"))","v":"0"},{"$f":"IF(BU9>CC1,IF(BU9<CD1,\"30\",\"0\"))","v":"0"},{"$f":"IF(BU9>CD1,IF(BU9<CE1,\"50\",\"0\"))","v":"50"},{"$f":"IF(BU9>CE1,IF(BU9<CF1,\"70\",\"0\"))","v":false},{"$f":"IF(BU9>CF1,IF(BU9<CG1,\"90\",\"0\"))","v":false},{"$f":"BV9+BW9+BX9+BY9+BZ9","v":50},null,null,null,null,null,null,null,"MS 3.5 ALT",0.6,"MS 3.5 UST",0.4,null,null,null,null,null,null,null,null,"MS 3.5 ALT",0.6,"MS 3.5 UST",0.4,null,null,null,null,null,null,null,null,null,null,null,null,null,null,null,null,null,null,null,null,null,null,null,{"$f":"DP8+0","v":1},{"$f":"DQ8+0","v":0},{"$f":"DR8+0","v":1},{"$f":"DS8+0","v":0},{"$f":"DV9+DW9","v":1},{"$f":"DX9+DY9","v":1},{"$f":"IF(DZ9>$W$2,\"UST\",\"ALT\")","v":"UST"},{"$f":"IF(DZ9>$X$2,\"UST\",\"ALT\")","v":"ALT"},{"$f":"IF(EA9>$Y$2,\"UST\",\"ALT\")","v":"ALT"},{"$f":"IF(EA9>$Z$2,\"UST\",\"ALT\")","v":"ALT"},{"$f":"IF(EA9>$AA$2,\"UST\",\"ALT\")","v":"ALT"},{"$f":"IF(EA9>1,\"VAR\",\"YOK\")","v":"YOK"},{"$f":"IF(DX9>0,\"1\",\"0\")","v":"1"},{"$f":"IF(DY9>0,\"1\",\"0\")","v":"0"},{"$f":"IF(EH9+EI9=2,\"VAR\",\"YOK\")","v":"YOK"},{"$f":"IF(DV9>0,\"1\",\"0\")","v":"1"},{"$f":"IF(DW9>0,\"1\",\"0\")","v":"0"},{"$f":"IF(DV9>DW9,\"1\",\"0\")","v":"1"},{"$f":"IF(DV9=DW9,\"1\",\"0\")","v":"0"},{"$f":"IF(DV9<DW9,\"1\",\"0\")","v":"0"},{"$f":"IF(DX9>DY9,\"1\",\"0\")","v":"1"},{"$f":"IF(DX9=DY9,\"1\",\"0\")","v":"0"},{"$f":"IF(DX9<DY9,\"1\",\"0\")","v":"0"},null,null,null,null,null,{"$f":"DP34+0","v":0},{"$f":"DQ34+0","v":0},{"$f":"DR34+0","v":0},{"$f":"DS34+0","v":1},{"$f":"EX9+EY9","v":0},{"$f":"EZ9+FA9","v":1},{"$f":"IF(FB9>$W$2,\"UST\",\"ALT\")","v":"ALT"},{"$f":"IF(FB9>$X$2,\"UST\",\"ALT\")","v":"ALT"},{"$f":"IF(FC9>$Y$2,\"UST\",\"ALT\")","v":"ALT"},{"$f":"IF(FC9>$Z$2,\"UST\",\"ALT\")","v":"ALT"},{"$f":"IF(FC9>$AA$2,\"UST\",\"ALT\")","v":"ALT"},{"$f":"IF(FC9>1,\"VAR\",\"YOK\")","v":"YOK"},{"$f":"IF(EZ9>0,\"1\",\"0\")","v":"0"},{"$f":"IF(FA9>0,\"1\",\"0\")","v":"1"},{"$f":"IF(FJ9+FK9=2,\"VAR\",\"YOK\")","v":"YOK"},{"$f":"IF(EX9>0,\"1\",\"0\")","v":"0"},{"$f":"IF(EY9>0,\"1\",\"0\")","v":"0"},{"$f":"IF(EX9>EY9,\"1\",\"0\")","v":"0"},{"$f":"IF(EX9=EY9,\"1\",\"0\")","v":"1"},{"$f":"IF(EX9<EY9,\"1\",\"0\")","v":"0"},{"$f":"IF(EZ9>FA9,\"1\",\"0\")","v":"0"},{"$f":"IF(EZ9=FA9,\"1\",\"0\")","v":"0"},{"$f":"IF(EZ9<FA9,\"1\",\"0\")","v":"1"},null,"IY DEP GOL ATAR MACA GORE",null,null,null,{"$f":"FM15","v":3},{"$f":"IF(FZ9>GG1,IF(FZ9<GH1,\"10\",\"0\"))","v":"0"},{"$f":"IF(FZ9>GH1,IF(FZ9<GI1,\"30\",\"0\"))","v":"30"},{"$f":"IF(FZ9>GI1,IF(FZ9<GJ1,\"50\",\"0\"))","v":false},{"$f":"IF(FZ9>GJ1,IF(FZ9<GK1,\"70\",\"0\"))","v":false},{"$f":"IF(FZ9>GK1,IF(FZ9<GL1,\"90\",\"0\"))","v":false},30,null,null,null,null,null,null,null,"MS 3.5 ALT",{"$f":"DX24","v":0.6},"MS 3.5 UST",0.4,null,null,null,null,null,null,null,null,"MS 3.5 ALT",0.6,"MS 3.5 UST",0.4,null,null,null,null,null,null,null,null,null,null,null,null,null,null,null,null,null,null,null,null,null,null,null,{"$f":"IF(HU8=\"\",\"\",HU8+0)","v":0},{"$f":"IF(HV8=\"\",\"\",HV8+0)","v":0},{"$f":"IF(HW8=\"\",\"\",HW8+0)","v":0},{"$f":"IF(HX8=\"\",\"\",HX8+0)","v":2},0,2,"ALT","ALT","UST","ALT","ALT","VAR","0","1","YOK","0","0","0","1","0","0","0","1",null,null,null,null,null,{"$f":"IF(HU34=\"\",\"\",HU34+0)","v":0},{"$f":"IF(HU34=\"\",\"\",HV34+0)","v":0},{"$f":"IF(HU34=\"\",\"\",HW34+0)","v":2},{"$f":"IF(HU34=\"\",\"\",HX34+0)","v":0},0,2,"ALT","ALT","UST","ALT","ALT","VAR","1","0","YOK","0","0","0","1","0","1","0","0",null,"IY DEP GOL ATAR MACA GORE",null,null,null,{"$f":"JR15","v":2},{"$f":"IF(KE9>KL1,IF(KE9<KM1,\"10\",\"0\"))","v":"0"},{"$f":"IF(KE9>KM1,IF(KE9<KN1,\"30\",\"0\"))","v":"30"},{"$f":"IF(KE9>KN1,IF(KE9<KO1,\"50\",\"0\"))","v":false},{"$f":"IF(KE9>KO1,IF(KE9<KP1,\"70\",\"0\"))","v":false},{"$f":"IF(KE9>KP1,IF(KE9<KQ1,\"90\",\"0\"))","v":false},30,null,null,null,null,null,null,null,"MS 3.5 ALT",{"$f":"IC24","v":0.8},"MS 3.5 UST",0.19999999999999996,null,null,null,null,null,null,null,null,"MS 3.5 ALT",0.8,"MS 3.5 UST",0.19999999999999996,null,null,null,null,null,null,null,null,"EV SAHIBI","DEPLASMAN","TARIH","ANALIZ TURU","EN IYI TAHMIN ",null,"MS SKOR                                                                   EV                         DEP",null,"IY UZDELERI                                              1                  X                  2",null,null,"MS YUZDELERI                                              1                  X                  2",null,null,"IY GOL TAHMINI",null,"MS GOL TAHMINI",null,"KG VAR ",null,"IY  TAHMINI",null,"MS  TAHMINI",null,"IY - MS ",null,"TOPLAM GOL",null,"1,5 VE 3,5 TAHMINI",null,"EV 2,5 UST ",null,"DEP 2,5 UST "]
[{"$f":"Veri!AJ11","v":"Thun"},{"$f":"Veri!AN11","v":"FC Rapperswil-Jona"},{"$f":"Veri!AL11","v":"1-0"},{"$f":"Veri!AK11","v":"2-0"},"1","0",0,"2","0","EV","1","0","2","0",null,null,1,0,5,1,1,6,"UST","ALT","UST","UST","UST","VAR","1","1","VAR","1","0","1","0","0","1","0","0",null,null,null,null,null,0,0,0,1,0,1,"ALT","ALT","ALT","ALT","ALT","YOK","0","1","YOK","0","0","0","1","0","0","0","1",null,"IY DEP GOL YER MACA GORE",null,null,null,{"$f":"BI15","v":4},{"$f":"IF(BU10>CB1,IF(BU10<CC1,\"10\",\"0\"))","v":"0"},{"$f":"IF(BU10>CC1,IF(BU10<CD1,\"30\",\"0\"))","v":"0"},{"$f":"IF(BU10>CD1,IF(BU10<CE1,\"50\",\"0\"))","v":"50"},{"$f":"IF(BU10>CE1,IF(BU10<CF1,\"70\",\"0\"))","v":false},{"$f":"IF(BU10>CF1,IF(BU10<CG1,\"90\",\"0\"))","v":false},50,null,null,null,null,null,null,null,null,0,null,0,null,null,null,null,null,null,null,null,null,0,null,0,null,null,null,null,null,null,null,null,null,null,null,null,null,null,null,null,null,null,null,null,null,null,null,null,null,null,null,null,null,null,null,null,null,null,null,null,null,null,null,null,null,null,null,null,null,null,null,null,null,null,null,null,null,null,null,null,null,null,null,null,null,null,null,null,null,null,null,null,null,null,null,null,null,null,null,"IY DEP GOL YER MACA GORE",null,null,null,{"$f":"FN15","v":1},{"$f":"IF(FZ10>GG1,IF(FZ10<GH1,\"10\",\"0\"))","v":"10"},{"$f":"IF(FZ10>GH1,IF(FZ10<GI1,\"30\",\"0\"))","v":false},{"$f":"IF(FZ10>GI1,IF(FZ10<GJ1,\"50\",\"0\"))","v":false},{"$f":"IF(FZ10>GJ1,IF(FZ10<GK1,\"70\",\"0\"))","v":false},{"$f":"IF(FZ10>GK1,IF(FZ10<GL1,\"90\",\"0\"))","v":false},10,null,null,null,null,null,null,null,null,0,null,0,null,null,null,null,null,null,null,null,null,0,null,0,null,null,null,null,null,null,null,null,null,null,null,null,null,null,null,null,null,null,null,null,null,null,null,null,null,null,null,null,null,null,null,null,null,null,null,null,null,null,null,null,null,null,null,null,null,null,null,null,null,null,null,null,null,null,null,null,null,null,null,null,null,null,null,null,null,null,null,null,null,null,null,null,null,null,null,"IY DEP GOL YER MACA GORE",null,null,null,{"$f":"JS15","v":2},{"$f":"IF(KE10>KL1,IF(KE10<KM1,\"10\",\"0\"))","v":"0"},{"$f":"IF(KE10>KM1,IF(KE10<KN1,\"30\",\"0\"))","v":"30"},{"$f":"IF(KE10>KN1,IF(KE10<KO1,\"50\",\"0\"))","v":false},{"$f":"IF(KE10>KO1,IF(KE10<KP1,\"70\",\"0\"))","v":false},{"$f":"IF(KE10>KP1,IF(KE10<KQ1,\"90\",\"0\"))","v":false},30,null,null,null,null,null,null,null,null,{"$f":"IC25","v":0},null,0,null,null,null,null,null,null,null,null,null,0,null,0,null,null,null,null,null,null,null,null,{"$f":"LQ4","v":"Thun"},{"$f":"LR4","v":"Young Boys"},"2019-02-27",{"$f":"LP2","v":"PROANDSI"},{"$f":"VLOOKUP(LV10,LU5:LV7,2,FALSE)","v":"KG VAR"},{"$f":"MAX(LU5:LU7)","v":0.66428571428571426},{"$f":"AVERAGE(LW2:LW4)","v":1.3500000000000003},{"$f":"AVERAGE(LX2:LX4)","v":1.2833333333333334},{"$f":"AVERAGE(LY2:LY4)","v":0.33333333333333331},{"$f":"AVERAGE(LZ2:LZ4)","v":0.41666666666666669},0.25000000000000006,0.3666666666666667,0.33333333333333331,0.3,{"$f":"ME6","v":"IY 1.5 ALT"},null,{"$f":"MG6","v":"MS 2.5 UST"},null,{"$f":"MI6","v":"RISKLI"},null,{"$f":"MK6","v":"RISKLI"},null,{"$f":"MM6","v":"RISKLI"},null,{"$f":"MO6","v":"RISKLI"},null,{"$f":"MQ6","v":"2-3 GOL"},null,{"$f":"MS6","v":"1,5 UST"},null,null,{"$f":"AVERAGE(MV2:MV4)","v":0.40000000000000008},null,{"$f":"AVERAGE(MX2:MX4)","v":0.53333333333333333}]
[{"$f":"Veri!AJ12","v":"Thun"},{"$f":"Veri!AN12","v":"Grasshopper"},{"$f":"Veri!AL12","v":"0-0"},{"$f":"Veri!AK12","v":"1-0"},"0","0",0,"1","0","EV","0","0","1","0",null,null,1,0,2,0,1,2,"UST","ALT","UST","ALT","ALT","VAR","1","0","YOK","1","0","1","0","0","1","0","0",null,null,null,null,null,0,1,0,3,1,3,"UST","ALT","UST","UST","ALT","VAR","0","1","YOK","0","1","0","0","1","0","0","1",null,"EV IY SONUCUNA GORE TOPLAM GOL",null,null,null,{"$f":"W15","v":8},{"$f":"IF(BU11>CB1,IF(BU11<CC1,\"10\",\"0\"))","v":"0"},{"$f":"IF(BU11>CC1,IF(BU11<CD1,\"30\",\"0\"))","v":"0"},{"$f":"IF(BU11>CD1,IF(BU11<CE1,\"50\",\"0\"))","v":"0"},{"$f":"IF(BU11>CE1,IF(BU11<CF1,\"70\",\"0\"))","v":"0"},{"$f":"IF(BU11>CF1,IF(BU11<CG1,\"90\",\"0\"))","v":"90"},90,null,null,null,null,null,null,null,"EV GOL ATAR",1,"EV GOL YER",0.6,null,null,null,null,null,null,null,null,"EV GOL ATAR",0.6,"EV GOL YER",0.7,null,null,null,null,null,null,null,null,null,null,null,null,null,null,null,null,null,null,null,null,null,null,null,null,null,null,null,null,null,null,null,null,null,null,null,null,null,null,null,null,null,null,null,null,null,null,null,null,null,null,null,null,null,null,null,null,null,null,null,null,null,null,null,null,null,null,null,null,null,null,null,null,null,null,null,"EV IY SONUCUNA GORE TOPLAM GOL",null,null,null,{"$f":"EB15","v":5},{"$f":"IF(FZ11>GG1,IF(FZ11<GH1,\"10\",\"0\"))","v":"0"},{"$f":"IF(FZ11>GH1,IF(FZ11<GI1,\"30\",\"0\"))","v":"0"},{"$f":"IF(FZ11>GI1,IF(FZ11<GJ1,\"50\",\"0\"))","v":"50"},{"$f":"IF(FZ11>GJ1,IF(FZ11<GK1,\"70\",\"0\"))","v":false},{"$f":"IF(FZ11>GK1,IF(FZ11<GL1,\"90\",\"0\"))","v":false},50,null,null,null,null,null,null,null,"EV GOL ATAR",1,"EV GOL YER",0.8,null,null,null,null,null,null,null,null,"EV GOL ATAR",0.8,"EV GOL YER",0.6,null,null,null,null,null,null,null,null,null,null,null,null,null,null,null,null,null,null,null,null,null,null,null,null,null,null,null,null,null,null,null,null,null,null,null,null,null,null,null,null,null,null,null,null,null,null,null,null,null,null,null,null,null,null,null,null,null,null,null,null,null,null,null,null,null,null,null,null,null,null,null,null,null,null,null,"EV IY SONUCUNA GORE TOPLAM GOL",null,null,null,{"$f":"IG15","v":3},{"$f":"IF(KE11>KL1,IF(KE11<KM1,\"10\",\"0\"))","v":"0"},{"$f":"IF(KE11>KM1,IF(KE11<KN1,\"30\",\"0\"))","v":"30"},{"$f":"IF(KE11>KN1,IF(KE11<KO1,\"50\",\"0\"))","v":false},{"$f":"IF(KE11>KO1,IF(KE11<KP1,\"70\",\"0\"))","v":false},{"$f":"IF(KE11>KP1,IF(KE11<KQ1,\"90\",\"0\"))","v":false},30,null,null,null,null,null,null,null,"EV GOL ATAR",0.8,"EV GOL YER",1,null,null,null,null,null,null,null,null,"EV GOL ATAR",1,"EV GOL YER",0.8]
[{"$f":"Veri!AJ13","v":"Young Boys"},{"$f":"Veri!AN13","v":"Thun"},{"$f":"Veri!AL13","v":"0-1"},{"$f":"Veri!AK13","v":"3-2"},"0","1",1,"3","2","DEP","1","0","2","3",null,null,0,0,1,0,0,1,"ALT","ALT","ALT","ALT","ALT","YOK","1","0","YOK","0","0","0","1","0","1","0","0",null,null,null,null,null,0,0,0,0,0,0,"ALT","ALT","ALT","ALT","ALT","YOK","0","0","YOK","0","0","0","1","0","0","1","0",null,"DEP IY SONUCUNA GORE TOPLAM GOL",null,null,null,{"$f":"AY15","v":6},{"$f":"IF(BU12>CB1,IF(BU12<CC1,\"10\",\"0\"))","v":"0"},{"$f":"IF(BU12>CC1,IF(BU12<CD1,\"30\",\"0\"))","v":"0"},{"$f":"IF(BU12>CD1,IF(BU12<CE1,\"50\",\"0\"))","v":"0"},{"$f":"IF(BU12>CE1,IF(BU12<CF1,\"70\",\"0\"))","v":"70"},{"$f":"IF(BU12>CF1,IF(BU12<CG1,\"90\",\"0\"))","v":false},70,null,null,null,null,null,null,null,null,0,null,0,null,{"$f":"CJ2","v":0.8},{"$f":"CI2","v":"IY 0.5 UST"},null,{"$f":"CV2","v":0.6},{"$f":"CU2","v":"IY 0.5 UST"},null,null,null,0,null,0,null,null,null,null,null,null,null,null,null,null,null,null,null,null,null,null,null,null,null,null,null,null,null,null,null,null,null,null,null,null,null,null,null,null,null,null,null,null,null,null,null,null,null,null,null,null,null,null,null,null,null,null,null,null,null,null,null,null,null,null,null,null,null,null,null,null,null,null,null,null,null,null,null,null,null,"DEP IY SONUCUNA GORE TOPLAM GOL",null,null,null,{"$f":"FD15","v":3},{"$f":"IF(FZ12>GG1,IF(FZ12<GH1,\"10\",\"0\"))","v":"0"},{"$f":"IF(FZ12>GH1,IF(FZ12<GI1,\"30\",\"0\"))","v":"30"},{"$f":"IF(FZ12>GI1,IF(FZ12<GJ1,\"50\",\"0\"))","v":false},{"$f":"IF(FZ12>GJ1,IF(FZ12<GK1,\"70\",\"0\"))","v":false},{"$f":"IF(FZ12>GK1,IF(FZ12<GL1,\"90\",\"0\"))","v":false},30,null,null,null,null,null,null,null,null,0,null,0,null,{"$f":"GO2","v":1},{"$f":"GN2","v":"IY 0.5 UST"},null,{"$f":"HA2","v":0.6},{"$f":"GZ2","v":"IY 0.5 UST"},null,null,null,0,null,0,null,null,null,null,null,null,null,null,null,null,null,null,null,null,null,null,null,null,null,null,null,null,null,null,null,null,null,null,null,null,null,null,null,null,null,null,null,null,null,null,null,null,null,null,null,null,null,null,null,null,null,null,null,null,null,null,null,null,null,null,null,null,null,null,null,null,null,null,null,null,null,null,null,null,null,"DEP IY SONUCUNA GORE TOPLAM GOL",null,null,null,{"$f":"JI15","v":3},{"$f":"IF(KE12>KL1,IF(KE12<KM1,\"10\",\"0\"))","v":"0"},{"$f":"IF(KE12>KM1,IF(KE12<KN1,\"30\",\"0\"))","v":"30"},{"$f":"IF(KE12>KN1,IF(KE12<KO1,\"50\",\"0\"))","v":false},{"$f":"IF(KE12>KO1,IF(KE12<KP1,\"70\",\"0\"))","v":false},{"$f":"IF(KE12>KP1,IF(KE12<KQ1,\"90\",\"0\"))","v":false},30,null,null,null,null,null,null,null,null,0,null,0,null,{"$f":"KT2","v":0.6},{"$f":"KS2","v":"IY 0.5 UST"},null,{"$f":"LF2","v":0.6},{"$f":"LE2","v":"IY 0.5 UST"},null,null,null,0,null,0]
[{"$f":"Veri!AJ14","v":"Thun"},{"$f":"Veri!AN14","v":"St. Gallen"},{"$f":"Veri!AL14","v":"0-0"},{"$f":"Veri!AK14","v":"2-0"},"0","0",0,"2","0",{"$f":"IF(A13=$A$2,\"EV\",\"DEP\")","v":"EV"},"0","0","2","0",null,null,1,0,2,3,1,5,"UST","ALT","UST","UST","UST","VAR","1",{"$f":"IF(T13>0,\"1\",\"0\")","v":"1"},"VAR",{"$f":"IF(Q13>0,\"1\",\"0\")","v":"1"},"0","1","0","0","0","0","1",null,null,null,null,null,1,1,2,2,2,4,"UST","UST","UST","UST","UST","VAR","1",{"$f":"IF(AV13>0,\"1\",\"0\")","v":"1"},"VAR","1","1","0","1","0","0","1","0",null,"EV IY TOPLAM GOL",null,null,null,{"$f":"U15","v":0.9},{"$f":"IF(BU13>BV1,IF(BU13<BX1,\"10\",\"0\"))","v":"0"},{"$f":"IF(BU13>BX1,IF(BU13<BY1,\"30\",\"0\"))","v":"0"},{"$f":"IF(BU13>BY1,IF(BU13<BZ1,\"50\",\"0\"))","v":"0"},{"$f":"IF(BU13>BZ1,IF(BU13<CA1,\"70\",\"0\"))","v":"70"},{"$f":"IF(BU13>CA1,IF(BU13<CG1,\"90\",\"0\"))","v":false},70,null,null,null,null,null,null,null,"KG VAR MS ",0.8,"KG YOK MS ",0.19999999999999996,null,{"$f":"CL2","v":0.19999999999999996},{"$f":"CK2","v":"IY 0.5 ALT"},null,{"$f":"CX2","v":0.4},{"$f":"CW2","v":"IY 0.5 ALT"},null,null,"KG VAR MS ",0.6,"KG YOK MS ",0.4,null,null,null,null,null,null,null,null,null,null,null,null,null,null,null,null,null,null,null,null,null,null,null,null,null,null,null,null,null,null,null,null,null,null,null,null,null,null,null,null,null,null,null,null,null,null,null,null,null,null,null,null,null,null,null,null,null,null,null,null,null,null,null,null,null,null,null,null,null,null,null,null,null,null,null,"EV IY TOPLAM GOL",null,null,null,{"$f":"DZ15","v":1.2},{"$f":"IF(FZ13>GA1,IF(FZ13<GC1,\"10\",\"0\"))","v":"0"},{"$f":"IF(FZ13>GC1,IF(FZ13<GD1,\"30\",\"0\"))","v":"0"},{"$f":"IF(FZ13>GD1,IF(FZ13<GE1,\"50\",\"0\"))","v":"0"},{"$f":"IF(FZ13>GE1,IF(FZ13<GF1,\"70\",\"0\"))","v":"0"},{"$f":"IF(FZ13>GF1,IF(FZ13<GH1,\"90\",\"0\"))","v":"90"},90,null,null,null,null,null,null,null,"KG VAR MS ",0.8,"KG YOK MS ",0.19999999999999996,null,{"$f":"GQ2","v":0},{"$f":"GP2","v":"IY 0.5 ALT"},null,{"$f":"HC2","v":0.4},{"$f":"HB2","v":"IY 0.5 ALT"},null,null,"KG VAR MS ",0.6,"KG YOK MS ",0.4,null,null,null,null,null,null,null,null,null,null,null,null,null,null,null,null,null,null,null,null,null,null,null,null,null,null,null,null,null,null,null,null,null,null,null,null,null,null,null,null,null,null,null,null,null,null,null,null,null,null,null,null,null,null,null,null,null,null,null,null,null,null,null,null,null,null,null,null,null,null,null,null,null,null,null,"EV IY TOPLAM GOL",null,null,null,{"$f":"IE15","v":1},{"$f":"IF(KE13>KF1,IF(KE13<KH1,\"10\",\"0\"))","v":"0"},{"$f":"IF(KE13>KH1,IF(KE13<KI1,\"30\",\"0\"))","v":"0"},{"$f":"IF(KE13>KI1,IF(KE13<KJ1,\"50\",\"0\"))","v":"0"},{"$f":"IF(KE13>KJ1,IF(KE13<KK1,\"70\",\"0\"))","v":"0"},{"$f":"IF(KE13>KK1,IF(KE13<KQ1,\"90\",\"0\"))","v":false},0,null,null,null,null,null,null,null,"KG VAR MS ",1,"KG YOK MS ",0,null,{"$f":"KV2","v":0.4},{"$f":"KU2","v":"IY 0.5 ALT"},null,{"$f":"LH2","v":0.4},{"$f":"LG2","v":"IY 0.5 ALT"},null,null,"KG VAR MS ",1,"KG YOK MS ",0]
[null,null,null,null,null,null,null,null,null,null,null,null,null,null,null,null,{"$f":"K13+0","v":0},{"$f":"L13+0","v":0},{"$f":"M13+0","v":2},{"$f":"N13+0","v":0},{"$f":"Q14+R14","v":0},{"$f":"S14+T14","v":2},{"$f":"IF(U14>$W$2,\"UST\",\"ALT\")","v":"ALT"},{"$f":"IF(U14>$X$2,\"UST\",\"ALT\")","v":"ALT"},{"$f":"IF(V14>$Y$2,\"UST\",\"ALT\")","v":"UST"},{"$f":"IF(V14>$Z$2,\"UST\",\"ALT\")","v":"ALT"},{"$f":"IF(V14>$AA$2,\"UST\",\"ALT\")","v":"ALT"},{"$f":"IF(V14>1,\"VAR\",\"YOK\")","v":"VAR"},"1","0","YOK","0","0","0","1","0","1","0","0",null,null,null,null,null,0,1,2,2,{"$f":"AS14+AT14","v":1},4,"UST","ALT","UST","UST","UST","VAR","1",{"$f":"IF(AV14>0,\"1\",\"0\")","v":"1"},"VAR","0","1","0","0","1","0","1","0",null,"DEP IY TOPLAM GOL",null,null,null,{"$f":"AW15","v":0.8},{"$f":"IF(BU14>BV1,IF(BU14<BX1,\"10\",\"0\"))","v":"0"},{"$f":"IF(BU14>BX1,IF(BU14<BY1,\"30\",\"0\"))","v":"0"},{"$f":"IF(BU14>BY1,IF(BU14<BZ1,\"50\",\"0\"))","v":"0"},{"$f":"IF(BU14>BZ1,IF(BU14<CA1,\"70\",\"0\"))","v":"70"},{"$f":"IF(BU14>CA1,IF(BU14<CG1,\"90\",\"0\"))","v":false},70,null,null,null,null,null,null,null,"KG VAR GOL",{"$f":"S29","v":0.6},"KG YOK GOL",0.4,null,null,null,null,null,null,null,null,"KG VAR GOL",0.4,"KG YOK GOL",0.6,null,null,null,null,null,null,null,null,null,null,null,null,null,null,null,null,null,null,null,null,null,null,null,null,null,null,null,null,null,null,null,null,null,null,null,null,null,null,null,null,null,null,null,null,null,null,null,null,null,null,null,null,null,null,null,null,null,null,null,null,null,null,null,null,null,null,null,null,null,null,null,null,null,null,null,"DEP IY TOPLAM GOL",null,null,null,{"$f":"FB15","v":0.8},{"$f":"IF(FZ14>GA1,IF(FZ14<GC1,\"10\",\"0\"))","v":"0"},{"$f":"IF(FZ14>GC1,IF(FZ14<GD1,\"30\",\"0\"))","v":"0"},{"$f":"IF(FZ14>GD1,IF(FZ14<GE1,\"50\",\"0\"))","v":"0"},{"$f":"IF(FZ14>GE1,IF(FZ14<GF1,\"70\",\"0\"))","v":"70"},{"$f":"IF(FZ14>GF1,IF(FZ14<GH1,\"90\",\"0\"))","v":false},70,null,null,null,null,null,null,null,"KG VAR GOL",{"$f":"DX29","v":0.8},"KG YOK GOL",0.19999999999999996,null,null,null,null,null,null,null,null,"KG VAR GOL",0.4,"KG YOK GOL",0.6,null,null,null,null,null,null,null,null,null,null,null,null,null,null,null,null,null,null,null,null,null,null,null,null,null,null,null,null,null,null,null,null,null,null,null,null,null,null,null,null,null,null,null,null,null,null,null,null,null,null,null,null,null,null,null,null,null,null,null,null,null,null,null,null,null,null,null,null,null,null,null,null,null,null,null,"DEP IY TOPLAM GOL",null,null,null,{"$f":"JG15","v":1},{"$f":"IF(KE14>KF1,IF(KE14<KH1,\"10\",\"0\"))","v":"0"},{"$f":"IF(KE14>KH1,IF(KE14<KI1,\"30\",\"0\"))","v":"0"},{"$f":"IF(KE14>KI1,IF(KE14<KJ1,\"50\",\"0\"))","v":"0"},{"$f":"IF(KE14>KJ1,IF(KE14<KK1,\"70\",\"0\"))","v":"0"},{"$f":"IF(KE14>KK1,IF(KE14<KQ1,\"90\",\"0\"))","v":false},0,null,null,null,null,null,null,null,"KG VAR GOL",{"$f":"IC29","v":0.8},"KG YOK GOL",0.19999999999999996,null,null,null,null,null,null,null,null,"KG VAR GOL",0.8,"KG YOK GOL",0.19999999999999996,null,null,null,null,null,null,null,null,{"$f":"O150","v":1},{"$f":"P150","v":"SON 10 MACIN  10   TANESI  GOL ATTI"},null,null,null,null,null,null,{"$f":"O174","v":0.7},{"$f":"P174","v":"SON 10 MACIN  7   TANESI  GOL YEDI"}]
[null,null,null,null,null,null,null,null,null,null,null,null,null,null,null,null,{"$f":"AVERAGE(Q5:Q14)","v":0.7},0.2,2.1,0.8,{"$f":"AVERAGE(U5:U14)","v":0.9},2.9,{"$f":"COUNTIF(W5:W14,\"UST\")","v":8},{"$f":"COUNTIF(X5:X14,\"ALT\")","v":9},{"$f":"COUNTIF(Y5:Y14,\"UST\")","v":8},{"$f":"COUNTIF(Z5:Z14,\"UST\")","v":4},{"$f":"COUNTIF(AA5:AA14,\"ALT\")","v":6},{"$f":"COUNTIF(AB5:AB14,\"VAR\")","v":8},{"$f":"COUNTIF(AC5:AC14,\"1\")","v":10},{"$f":"COUNTIF(AD5:AD14,\"1\")","v":6},{"$f":"COUNTIF(AE5:AE14,\"VAR\")","v":6},{"$f":"COUNTIF(AF5:AF14,\"1\")","v":7},2,6,3,1,7,2,1,null,null,null,null,null,{"$f":"AVERAGE(AS5:AS14)","v":0.4},0.4,{"$f":"AVERAGE(AU5:AU14)","v":1.3},{"$f":"AVERAGE(AV5:AV14)","v":1.2},0.8,2.5,{"$f":"COUNTIF(AY5:AY14,\"UST\")","v":6},{"$f":"COUNTIF(AZ5:AZ14,\"ALT\")","v":8},{"$f":"COUNTIF(BA5:BA14,\"UST\")","v":6},{"$f":"COUNTIF(BB5:BB14,\"UST\")","v":6},{"$f":"COUNTIF(BC5:BC14,\"ALT\")","v":6},{"$f":"COUNTIF(BD5:BD14,\"VAR\")","v":6},{"$f":"COUNTIF(BE5:BE14,\"1\")","v":6},{"$f":"COUNTIF(BF5:BF14,\"1\")","v":7},{"$f":"COUNTIF(BG5:BG14,\"VAR\")","v":4},{"$f":"COUNTIF(BH5:BH14,\"1\")","v":4},4,2,6,2,3,4,3,null,null,null,null,null,null,null,null,null,null,null,{"$f":"CA3+CA4+CA5+CA6+CA7+CA8+CA9+CA10+CA11+CA12+CA13+CA14","v":700},null,null,null,null,null,null,null,null,null,null,null,null,null,null,{"$f":"AVERAGE(CN16,CQ16)","v":0.7},{"$f":"AVERAGE(CA19,CP15)","v":0.7},null,null,null,null,null,null,null,null,null,null,null,null,null,null,null,null,null,null,null,null,null,null,null,null,null,null,null,null,null,null,{"$f":"AVERAGE(DV5:DV14)","v":0.8},0.4,1.8,0.8,{"$f":"AVERAGE(DZ5:DZ14)","v":1.2},2.6,{"$f":"COUNTIF(EB5:EB14,\"UST\")","v":5},{"$f":"COUNTIF(EC5:EC14,\"ALT\")","v":4},{"$f":"COUNTIF(ED5:ED14,\"UST\")","v":4},{"$f":"COUNTIF(EE5:EE14,\"UST\")","v":2},{"$f":"COUNTIF(EF5:EF14,\"ALT\")","v":3},{"$f":"COUNTIF(EG5:EG14,\"VAR\")","v":4},{"$f":"COUNTIF(EH5:EH14,\"1\")","v":5},{"$f":"COUNTIF(EI5:EI14,\"1\")","v":4},{"$f":"COUNTIF(EJ5:EJ14,\"VAR\")","v":4},{"$f":"COUNTIF(EK5:EK14,\"1\")","v":4},2,3,1,1,{"$f":"COUNTIF(EP5:EP14,\"1\")","v":3},2,0,null,null,null,null,null,{"$f":"AVERAGE(EX5:EX14)","v":0.6},0.2,{"$f":"AVERAGE(EZ5:EZ14)","v":1.8},{"$f":"AVERAGE(FA5:FA14)","v":0.8},{"$f":"AVERAGE(FB5:FB14)","v":0.8},2.6,{"$f":"COUNTIF(FD5:FD14,\"UST\")","v":3},{"$f":"COUNTIF(FE5:FE14,\"ALT\")","v":4},{"$f":"COUNTIF(FF5:FF14,\"UST\")","v":3},{"$f":"COUNTIF(FG5:FG14,\"UST\")","v":3},{"$f":"COUNTIF(FH5:FH14,\"ALT\")","v":3},{"$f":"COUNTIF(FI5:FI14,\"VAR\")","v":3},{"$f":"COUNTIF(FJ5:FJ14,\"1\")","v":4},{"$f":"COUNTIF(FK5:FK14,\"1\")","v":3},{"$f":"COUNTIF(FL5:FL14,\"VAR\")","v":2},{"$f":"COUNTIF(FM5:FM14,\"1\")","v":3},1,2,3,0,3,1,1,null,null,null,null,null,null,null,null,null,null,null,{"$f":"GF3+GF4+GF5+GF6+GF7+GF8+GF9+GF10+GF11+GF12+GF13+GF14","v":600},null,null,null,null,null,null,null,null,null,null,null,null,null,null,{"$f":"AVERAGE(GS16,GV16)","v":0.8},{"$f":"AVERAGE(GF19,GU15)","v":0.8},null,null,null,null,null,null,null,null,null,null,null,null,null,null,null,null,null,null,null,null,null,null,null,null,null,null,null,null,null,null,{"$f":"AVERAGE(IA5:IA14)","v":0.4},0.6,1.2,1.4,{"$f":"AVERAGE(IE5:IE14)","v":1},{"$f":"AVERAGE(IF5:IF14)","v":2.6},{"$f":"COUNTIF(IG5:IG14,\"UST\")","v":3},{"$f":"COUNTIF(IH5:IH14,\"ALT\")","v":4},{"$f":"COUNTIF(II5:II14,\"UST\")","v":5},{"$f":"IF(HU34=\"\",\"\",COUNTIF(IJ5:IJ14,\"UST\"))","v":2},{"$f":"COUNTIF(IK5:IK14,\"ALT\")","v":4},{"$f":"COUNTIF(IL5:IL14,\"VAR\")","v":5},{"$f":"COUNTIF(IM5:IM14,\"1\")","v":4},{"$f":"COUNTIF(IN5:IN14,\"1\")","v":5},{"$f":"COUNTIF(IO5:IO14,\"VAR\")","v":4},{"$f":"COUNTIF(IP5:IP14,\"1\")","v":2},2,1,2,2,{"$f":"COUNTIF(IU5:IU14,\"1\")","v":1},{"$f":"COUNTIF(IV5:IV14,\"1\")","v":2},2,null,null,null,null,null,{"$f":"AVERAGE(JC5:JC14)","v":0.4},0.6,{"$f":"AVERAGE(JE5:JE14)","v":1.6},{"$f":"AVERAGE(JF5:JF14)","v":1},{"$f":"AVERAGE(JG5:JG14)","v":1},2.6,{"$f":"COUNTIF(JI5:JI14,\"UST\")","v":3},{"$f":"COUNTIF(JJ5:JJ14,\"ALT\")","v":4},{"$f":"COUNTIF(JK5:JK14,\"UST\")","v":5},{"$f":"IF(HU34=\"\",\"\",COUNTIF(JL5:JL14,\"UST\"))","v":2},{"$f":"COUNTIF(JM5:JM14,\"ALT\")","v":4},{"$f":"COUNTIF(JN5:JN14,\"VAR\")","v":5},{"$f":"COUNTIF(JO5:JO14,\"1\")","v":5},{"$f":"COUNTIF(JP5:JP14,\"1\")","v":4},{"$f":"COUNTIF(JQ5:JQ14,\"VAR\")","v":4},{"$f":"COUNTIF(JR5:JR14,\"1\")","v":2},2,1,2,2,2,2,1,null,null,null,null,null,null,null,null,null,null,null,{"$f":"KK3+KK4+KK5+KK6+KK7+KK8+KK9+KK10+KK11+KK12+KK13+KK14","v":420},null,null,null,null,null,null,null,null,null,null,null,null,null,null,{"$f":"AVERAGE(KX16,LA16)","v":0.6},{"$f":"AVERAGE(KK19,KZ15)","v":0.6},null,null,null,null,null,null,null,null,null,null,null,null,null,null,null,{"$f":"O151","v":0.9},{"$f":"P151","v":"SON 10 MACIN  9  MACINDA  YENILMEDI  (BERABERLIKLER DAHIL)"},null,null,null,null,null,null,{"$f":"O175","v":0.7},{"$f":"P175","v":"SON 10 MACIN  7   TANESI  GOL YEDI"}]
[null,null,null,null,null,null,null,null,null,null,null,null,null,null,null,null,null,"EV SAHIBI ",null,null,null,null,null,null,null,{"$f":"Z15/10","v":0.4},null,null,null,null,null,null,null,null,null,null,null,null,null,null,null,null,null,null,null,"DEPLASMAN",null,null,null,null,null,null,null,{"$f":"BB15/10","v":0.6},null,null,null,null,null,null,null,null,null,null,null,null,null,null,null,null,null,null,null,null,null,null,{"$f":"1-BZ16","v":0.41666666666666663},{"$f":"CA17/100","v":0.58333333333333337},null,null,null,null,null,null,null,null,null,null,null,null,null,{"$f":"MAX(CN12:CN13)","v":0.8},{"$f":"VLOOKUP(CN16,CN12:CO13,2,FALSE)","v":"IY 0.5 UST"},null,{"$f":"MAX(CQ12:CQ13)","v":0.6},{"$f":"VLOOKUP(CQ16,CQ12:CR13,2,FALSE)","v":"IY 0.5 UST"},null,null,null,null,null,null,null,null,null,null,null,null,null,null,null,null,null,null,null,null,null,null,null,null,null,null,null,null,null,null,"EV SAHIBI ",null,null,null,null,null,null,null,{"$f":"EE15/5","v":0.4},null,null,null,null,null,null,null,null,null,null,null,null,null,null,null,null,null,null,null,"DEPLASMAN",null,null,null,null,null,null,null,{"$f":"FG15/5","v":0.6},null,null,null,null,null,null,null,null,null,null,null,null,null,null,null,null,null,null,null,null,null,null,{"$f":"1-GE16","v":0.5},{"$f":"GF17/100","v":0.5},null,null,null,null,null,null,null,null,null,null,null,null,null,{"$f":"MAX(GS12:GS13)","v":1},{"$f":"VLOOKUP(GS16,GS12:GT13,2,FALSE)","v":"IY 0.5 UST"},null,{"$f":"MAX(GV12:GV13)","v":0.6},{"$f":"VLOOKUP(GV16,GV12:GW13,2,FALSE)","v":"IY 0.5 UST"},null,null,null,null,null,null,null,null,null,null,null,null,null,null,null,null,null,null,null,null,null,null,null,null,null,null,null,null,null,null,"EV SAHIBI ",null,null,null,null,null,null,null,{"$f":"IF(HU34=\"\",\"\",IJ15/5)","v":0.4},null,null,null,null,null,null,null,null,null,null,null,null,null,null,null,null,null,null,null,"DEPLASMAN",null,null,null,null,null,null,null,{"$f":"IF(HU34=\"\",\"\",JL15/5)","v":0.4},null,null,null,null,null,null,null,null,null,null,null,null,null,null,null,null,null,null,null,null,null,null,{"$f":"1-KJ16","v":0.65},{"$f":"KK17/100","v":0.35},null,null,null,null,null,null,null,null,null,null,null,null,null,{"$f":"MAX(KX12:KX13)","v":0.6},{"$f":"VLOOKUP(KX16,KX12:KY13,2,FALSE)","v":"IY 0.5 UST"},null,{"$f":"MAX(LA12:LA13)","v":0.6},{"$f":"VLOOKUP(LA16,LA12:LB13,2,FALSE)","v":"IY 0.5 UST"}]
[null,null,null,null,null,null,null,null,null,null,null,null,null,null,null,null,null,"IY 0,5 UST",{"$f":"W15/10","v":0.8},"IY 0,5 ALT",{"$f":"1-S17","v":0.19999999999999996},null,null,0,30,50,70,100,null,null,null,null,null,null,null,null,null,null,null,null,null,null,null,null,null,"IY 0,5 UST",{"$f":"AY15/10","v":0.6},"IY 0,5 ALT",{"$f":"1-AU17","v":0.4},null,null,null,null,null,null,null,null,null,null,null,null,null,null,null,null,null,null,null,null,null,null,0,24.77,59.9,90,100,null,null,{"$f":"AVERAGE(CA3:CA14)","v":58.333333333333336},null,"IY 0.5 ALT","IY 1.5 ALT","IY 0.5 UST","IY 1.5 UST",null,null,null,null,null,null,null,null,{"$f":"IF(CO16=CR16,CO16,\"RISKLI\")","v":"IY 0.5 UST"},{"$f":"IF(CO16=CR16,CP15,\"RISKLI\")","v":0.7},null,null,null,null,null,null,null,null,null,null,null,null,null,null,null,null,null,null,null,null,null,null,null,null,null,null,null,null,null,null,null,null,"IY 0,5 UST",{"$f":"EB15/5","v":1},"IY 0,5 ALT",{"$f":"1-DX17","v":0},null,null,null,null,null,null,null,null,null,null,null,null,null,null,null,null,null,null,null,null,null,null,null,null,"IY 0,5 UST",{"$f":"FD15/5","v":0.6},"IY 0,5 ALT",{"$f":"1-EZ17","v":0.4},null,null,null,null,null,null,null,null,null,null,null,null,null,null,null,null,null,null,null,null,null,null,{"$f":"BT17","v":0},{"$f":"BU17","v":24.77},59.9,90,100,null,null,{"$f":"AVERAGE(GF3:GF14)","v":50},null,{"$f":"CC17","v":"IY 0.5 ALT"},{"$f":"CD17","v":"IY 1.5 ALT"},"IY 0.5 UST","IY 1.5 UST",null,null,null,null,null,null,null,null,{"$f":"IF(GT16=GW16,GT16,\"RISKLI\")","v":"IY 0.5 UST"},{"$f":"IF(GT16=GW16,GU15,\"RISKLI\")","v":0.8},null,null,null,null,null,null,null,null,null,null,null,null,null,null,null,null,null,null,null,null,null,null,null,null,null,null,null,null,null,null,null,null,"IY 0,5 UST",{"$f":"IG15/5","v":0.6},"IY 0,5 ALT",{"$f":"1-IC17","v":0.4},null,null,null,null,null,null,null,null,null,null,null,null,null,null,null,null,null,null,null,null,null,null,null,null,"IY 0,5 UST",{"$f":"JI15/5","v":0.6},"IY 0,5 ALT",{"$f":"1-JE17","v":0.4},null,null,null,null,null,null,null,null,null,null,null,null,null,null,null,null,null,null,null,null,null,null,{"$f":"FY17","v":0},{"$f":"FZ17","v":24.77},59.9,90,100,null,null,{"$f":"IF(HU34=\"\",\"\",AVERAGE(KK3:KK14))","v":35},null,{"$f":"GH17","v":"IY 0.5 ALT"},{"$f":"GI17","v":"IY 1.5 ALT"},"IY 0.5 UST","IY 1.5 UST",null,null,null,null,null,null,null,null,{"$f":"IF(KY16=LB16,KY16,\"RISKLI\")","v":"IY 0.5 UST"},{"$f":"IF(KY16=LB16,KZ15,\"RISKLI\")","v":0.6},null,null,null,null,null,null,null,null,null,null,null,null,null,null,null,null,0.7,"SON 10 MACIN  7   TANESINDE GALIB GELDI",null,null,null,null,null,null,{"$f":"O177","v":0.6},{"$f":"P177","v":"SON 10 MACIN  6   TANESI  MS 1,5 UST   BITTI"}]
[null,null,null,null,null,null,null,null,null,null,null,null,null,null,null,null,null,"IY 1,5 ALT",{"$f":"X15/10","v":0.9},"IY 1,5 UST",{"$f":"1-S18","v":9.9999999999999978E-2},null,null,"IY 1",{"$f":"AH15/10","v":0.6},"MS 1",{"$f":"AK15/10","v":0.7},null,null,null,null,null,null,null,null,null,null,null,null,null,null,null,null,null,null,"IY 1,5 ALT",{"$f":"AZ15/10","v":0.8},"IY 1,5 UST",{"$f":"1-AU18","v":0.19999999999999996},null,null,"IY 1",{"$f":"BJ15/10","v":0.2},"MS 1",{"$f":"BM15/10","v":0.3},null,null,null,null,null,null,null,null,null,null,null,null,null,null,null,null,null,null,null,null,null,null,null,{"$f":"IF(CA17>BT17,IF(CA17<BU17,CC17,IF(CA17>BU17,IF(CA17<BV17,CD17,IF(CA17>BV17,IF(CA17<BW17,CE17,IF(CA17>BW17,IF(CA17<BX17,CF17,CC13))))))))","v":"IY 1.5 ALT"},null,null,null,null,null,null,null,null,null,null,"BAHIS YAP",null,null,null,null,null,null,null,null,null,null,null,null,null,null,null,null,null,null,null,null,null,null,null,null,null,null,null,null,null,null,null,null,null,null,null,null,"IY 1,5 ALT",{"$f":"EC15/5","v":0.8},"IY 1,5 UST",{"$f":"1-DX18","v":0.19999999999999996},null,null,"IY 1",{"$f":"EM15/5","v":0.6},"MS 1",{"$f":"EP15/5","v":0.6},null,null,null,null,null,null,null,null,null,null,null,null,null,null,null,null,null,null,"IY 1,5 ALT",{"$f":"FE15/5","v":0.8},"IY 1,5 UST",{"$f":"1-EZ18","v":0.19999999999999996},null,null,"IY 1",{"$f":"FO15/5","v":0.4},"MS 1",{"$f":"FR15/5","v":0.6},null,null,null,null,null,null,null,null,null,null,null,null,null,null,null,null,null,null,null,null,null,null,null,{"$f":"IF(GF17>FY17,IF(GF17<FZ17,GH17,IF(GF17>FZ17,IF(GF17<GA17,GI17,IF(GF17>GA17,IF(GF17<GB17,GJ17,IF(GF17>GB17,IF(GF17<GC17,GK17,GH13))))))))","v":"IY 1.5 ALT"},null,null,null,null,null,null,null,null,null,null,"BAHIS YAP",null,null,null,null,null,null,null,null,null,null,null,null,null,null,null,null,null,null,null,null,null,null,null,null,null,null,null,null,null,null,null,null,null,null,null,null,"IY 1,5 ALT",{"$f":"IH15/5","v":0.8},"IY 1,5 UST",{"$f":"1-IC18","v":0.19999999999999996},null,null,"IY 1",{"$f":"IR15/5","v":0.2},"MS 1",{"$f":"IU15/5","v":0.2},null,null,null,null,null,null,null,null,null,null,null,null,null,null,null,null,null,null,"IY 1,5 ALT",{"$f":"JJ15/5","v":0.8},"IY 1,5 UST",{"$f":"1-JE18","v":0.19999999999999996},null,null,"IY 1",{"$f":"JT15/5","v":0.2},"MS 1",{"$f":"JW15/5","v":0.4},null,null,null,null,null,null,null,null,null,null,null,null,null,null,null,null,null,null,null,null,null,null,null,{"$f":"IF(HU34=\"\",\"\",IF(KK17>KD17,IF(KK17<KE17,KM17,IF(KK17>KE17,IF(KK17<KF17,KN17,IF(KK17>KF17,IF(KK17<KG17,KO17,IF(KK17>KG17,IF(KK17<KH17,KP17,KM13)))))))))","v":"IY 1.5 ALT"},null,null,null,null,null,null,null,null,null,null,"BAHIS YAP",null,null,null,null,null,null,null,null,null,null,null,null,null,null,null,null,null,null,null,null,{"$f":"DT150","v":1},{"$f":"DU150","v":"SON 5 MACIN  5   TANESI  GOL ATTI"},null,null,null,null,null,null,{"$f":"DT174","v":0.4},{"$f":"DU174","v":"SON 5 MACIN  4   TANESI  GOL ATTI"}]
[null,null,null,null,null,null,null,null,null,null,null,null,null,null,null,null,null,null,null,null,null,null,null,"IY X",{"$f":"AI15/10","v":0.3},"MS X",{"$f":"AL15/10","v":0.2},null,null,null,null,null,null,null,null,null,null,null,null,null,null,null,null,null,null,null,null,null,null,null,null,"IY X",{"$f":"BK15/10","v":0.6},"MS X",{"$f":"BN15/10","v":0.4},null,null,null,null,null,null,null,null,null,null,null,null,null,null,null,null,null,null,null,null,null,null,null,{"$f":"IF(CA17>BT17,IF(CA17<BU17,BY16,IF(CA17>BU17,IF(CA17<BV17,CD17,IF(CA17>BV17,IF(CA17<BW17,BZ16,IF(CA17>BW17,IF(CA17<BX17,0.4))))))))","v":"IY 1.5 ALT"},null,null,null,null,{"$f":"CN19","v":"BAHIS "},{"$f":"CO19","v":"RISKLI"},null,null,null,null,"RISKLI",null,"BAHIS ",{"$f":"IF(CA18=CO17,\"BAHIS YAP\",\"RISKLI\")","v":"RISKLI"},null,null,null,null,null,null,null,null,null,null,null,null,null,null,null,null,null,null,null,null,null,null,null,null,null,null,null,null,null,null,null,null,null,null,null,null,null,null,null,"IY X",{"$f":"EN15/5","v":0.2},"MS X",{"$f":"EQ15/5","v":0.4},null,null,null,null,null,null,null,null,null,null,null,null,null,null,null,null,null,null,null,null,null,null,null,null,"IY X",{"$f":"FP15/5","v":0.6},"MS X",{"$f":"FS15/5","v":0.2},null,null,null,null,null,null,null,null,null,null,null,null,null,null,null,null,null,null,null,null,null,null,null,{"$f":"IF(GF17>FY17,IF(GF17<FZ17,GD16,IF(GF17>FZ17,IF(GF17<GA17,GI17,IF(GF17>GA17,IF(GF17<GB17,GE16,IF(GF17>GB17,IF(GF17<GC17,0.4))))))))","v":"IY 1.5 ALT"},null,null,null,null,{"$f":"GS19","v":"BAHIS "},{"$f":"GT19","v":"RISKLI"},null,null,null,null,"RISKLI",null,"BAHIS ",{"$f":"IF(GF18=GT17,\"BAHIS YAP\",\"RISKLI\")","v":"RISKLI"},null,null,null,null,null,null,null,null,null,null,null,null,null,null,null,null,null,null,null,null,null,null,null,null,null,null,null,null,null,null,null,null,null,null,null,null,null,null,null,"IY X",{"$f":"IS15/5","v":0.4},"MS X",{"$f":"IV15/5","v":0.4},null,null,null,null,null,null,null,null,null,null,null,null,null,null,null,null,null,null,null,null,null,null,null,null,"IY X",{"$f":"JU15/5","v":0.4},"MS X",{"$f":"JX15/5","v":0.4},null,null,null,null,null,null,null,null,null,null,null,null,null,null,null,null,null,null,null,null,null,null,null,{"$f":"IF(HU34=\"\",\"\",IF(KK17>KD17,IF(KK17<KE17,KI16,IF(KK17>KE17,IF(KK17<KF17,KN17,IF(KK17>KF17,IF(KK17<KG17,KJ16,IF(KK17>KG17,IF(KK17<KH17,0.4)))))))))","v":"IY 1.5 ALT"},null,null,null,null,{"$f":"KX19","v":"BAHIS "},{"$f":"IF(HU34=\"\",\"\",KY19)","v":"RISKLI"},null,null,null,null,"RISKLI",null,"BAHIS ",{"$f":"IF(KK18=KY17,\"BAHIS YAP\",\"RISKLI\")","v":"RISKLI"}]
[null,null,null,null,null,null,null,null,null,null,null,null,null,null,null,null,null,"IY GOL ATAR",{"$f":"AF15/10","v":0.7},"IY GOL YER",{"$f":"AG15/10","v":0.2},null,null,"IY 2",{"$f":"AJ15/10","v":0.1},"MS 2",{"$f":"AM15/10","v":0.1},null,null,null,null,null,null,null,null,null,null,null,null,null,null,null,null,null,null,"IY GOL ATAR",{"$f":"BH15/10","v":0.4},"IY GOL YER",{"$f":"BI15/10","v":0.4},null,null,"IY 2",{"$f":"BL15/10","v":0.2},"MS 2",{"$f":"BO15/10","v":0.3},null,null,null,null,null,null,null,"IY ",{"$f":"CG20","v":"RISKLI"},{"$f":"CA18","v":"IY 1.5 ALT"},null,null,null,null,null,null,null,null,null,null,null,null,null,null,null,null,null,null,{"$f":"CN20","v":"GUVEN"},{"$f":"CO20","v":"RISKLI"},null,null,null,null,null,null,"GUVEN",{"$f":"IF(CO19=CL18,CQ15,CL19)","v":"RISKLI"},null,null,null,null,null,null,null,null,null,null,null,null,null,null,null,null,null,null,null,null,null,null,null,null,null,null,null,null,null,null,null,null,null,"IY GOL ATAR",{"$f":"EK15/5","v":0.8},"IY GOL YER",{"$f":"EL15/5","v":0.4},null,null,"IY 2",{"$f":"EO15/5","v":0.2},"MS 2",{"$f":"ER15/5","v":0},null,null,null,null,null,null,null,null,null,null,null,null,null,null,null,null,null,null,"IY GOL ATAR",{"$f":"FM15/5","v":0.6},"IY GOL YER",{"$f":"FN15/5","v":0.2},null,null,"IY 2",{"$f":"FQ15/5","v":0},"MS 2",{"$f":"FT15/5","v":0.2},null,null,null,null,null,null,null,"IY ",{"$f":"GL20","v":"RISKLI"},{"$f":"GF18","v":"IY 1.5 ALT"},null,null,null,null,null,null,null,null,null,null,null,null,null,null,null,null,null,null,{"$f":"GS20","v":"GUVEN"},{"$f":"GT20","v":"RISKLI"},null,null,null,null,null,null,"GUVEN",{"$f":"IF(GT19=GQ18,GV15,GQ19)","v":"RISKLI"},null,null,null,null,null,null,null,null,null,null,null,null,null,null,null,null,null,null,null,null,null,null,null,null,null,null,null,null,null,null,null,null,null,"IY GOL ATAR",{"$f":"IP15/5","v":0.4},"IY GOL YER",{"$f":"IQ15/5","v":0.4},null,null,"IY 2",{"$f":"IT15/5","v":0.4},"MS 2",{"$f":"IW15/5","v":0.4},null,null,null,null,null,null,null,null,null,null,null,null,null,null,null,null,null,null,"IY GOL ATAR",{"$f":"JR15/5","v":0.4},"IY GOL YER",{"$f":"JS15/5","v":0.4},null,null,"IY 2",{"$f":"JV15/5","v":0.4},"MS 2",{"$f":"JY15/5","v":0.2},null,null,null,null,null,null,null,"IY ",{"$f":"KQ20","v":"RISKLI"},{"$f":"KK18","v":"IY 1.5 ALT"},null,null,null,null,null,null,null,null,null,null,null,null,null,null,null,null,null,null,{"$f":"KX20","v":"GUVEN"},{"$f":"IF(HU34=\"\",\"\",KY20)","v":"RISKLI"},null,null,null,null,null,null,"GUVEN",{"$f":"IF(KY19=KV18,LA15,KV19)","v":"RISKLI"},null,null,null,null,null,null,null,null,null,null,null,null,null,null,null,null,null,{"$f":"DT152","v":0.8},{"$f":"DU152","v":"SON 5 MACIN  4   TANESI  MS 1,5 UST   BITTI"},null,null,null,null,null,null,{"$f":"DT176","v":0.3},{"$f":"DU176","v":"SON 5 MACIN  3   TANESI  MS 1,5 UST   BITTI"}]
[null,null,null,null,null,null,null,null,null,null,null,null,null,null,null,null,null,null,null,null,null,null,null,null,null,null,null,null,null,null,null,null,null,null,null,null,null,null,null,null,null,null,null,null,null,null,null,null,null,null,null,null,null,null,null,null,null,null,null,null,null,null,"MS ",{"$f":"CG43","v":"RISKLI"},{"$f":"CA41","v":"MS 2.5 UST"},null,null,null,null,null,null,null,null,null,null,null,null,null,null,null,null,null,null,null,null,null,null,null,null,null,null,null,null,null,null,null,null,null,null,null,null,null,null,null,null,null,null,null,null,null,null,null,null,null,null,null,null,null,null,null,null,null,null,null,null,null,null,null,null,null,null,null,null,null,null,null,null,null,null,null,null,null,null,null,null,null,null,null,null,null,null,null,null,null,null,null,null,null,null,null,null,null,null,null,null,null,null,null,null,null,null,"MS ",{"$f":"GL43","v":"RISKLI"},{"$f":"GF41","v":"MS 2.5 UST"},null,null,null,null,null,null,null,null,null,null,null,null,null,null,null,null,null,null,null,null,null,null,null,null,null,null,null,null,null,null,null,null,null,null,null,null,null,null,null,null,null,null,null,null,null,null,null,null,null,null,null,null,null,null,null,null,null,null,null,null,null,null,null,null,null,null,null,null,null,null,null,null,null,null,null,null,null,null,null,null,null,null,null,null,null,null,null,null,null,null,null,null,null,null,null,null,null,null,null,null,null,null,null,null,null,null,"MS ",{"$f":"KQ43","v":"RISKLI"},{"$f":"KK41","v":"MS 2.5 UST"},null,null,null,null,null,null,null,null,null,null,null,null,null,null,null,null,null,null,null,null,null,null,null,null,null,null,null,null,null,null,null,null,null,null,null,null,null,null,null,null,null,null,null,null,null,{"$f":"DT153","v":0.8},{"$f":"DU153","v":"SON 5 MACIN  4   TANESI  MS 1,5 UST   BITTI"},null,null,null,null,null,null,{"$f":"DT177","v":0.3},{"$f":"DU177","v":"SON 5 MACIN  3   TANESI  MS 1,5 UST   BITTI"}]
[null,null,null,null,null,null,null,null,null,null,null,null,null,null,null,null,null,"MS 1,5 UST",{"$f":"Y15/10","v":0.8},"MS 1,5 ALT",{"$f":"1-S22","v":0.19999999999999996},null,null,null,null,null,null,null,null,null,null,null,null,null,null,null,null,null,null,null,null,null,null,null,null,"MS 1,5 UST",{"$f":"BA15/10","v":0.6},"MS 1,5 ALT",{"$f":"1-AU22","v":0.4},null,null,null,null,null,null,null,null,null,null,null,null,null,"KG",{"$f":"CG69","v":0.66428571428571426},{"$f":"CA67","v":"KG VAR"},null,null,null,null,null,null,null,null,null,null,null,null,null,null,null,null,null,null,null,null,null,null,null,null,null,null,null,null,null,null,null,null,null,null,null,null,null,null,null,null,null,null,null,null,null,null,null,null,null,null,null,null,null,null,null,null,null,null,null,null,null,"MS 1,5 UST",{"$f":"ED15/5","v":0.8},"MS 1,5 ALT",{"$f":"1-DX22","v":0.19999999999999996},null,null,null,null,null,null,null,null,null,null,null,null,null,null,null,null,null,null,null,null,null,null,null,null,"MS 1,5 UST",{"$f":"FF15/5","v":0.6},"MS 1,5 ALT",{"$f":"1-EZ22","v":0.4},null,null,null,null,null,null,null,null,null,null,null,null,null,"KG",{"$f":"GL69","v":"RISKLI"},{"$f":"GF67","v":"KG YOK"},null,null,null,null,null,null,null,null,null,null,null,null,null,null,null,null,null,null,null,null,null,null,null,null,null,null,null,null,null,null,null,null,null,null,null,null,null,null,null,null,null,null,null,null,null,null,null,null,null,null,null,null,null,null,null,null,null,null,null,null,null,"MS 1,5 UST",{"$f":"II15/5","v":1},"MS 1,5 ALT",{"$f":"1-IC22","v":0},null,null,null,null,null,null,null,null,null,null,null,null,null,null,null,null,null,null,null,null,null,null,null,null,"MS 1,5 UST",{"$f":"JK15/5","v":1},"MS 1,5 ALT",{"$f":"1-JE22","v":0},null,null,null,null,null,null,null,null,null,null,null,null,null,"KG",{"$f":"KQ69","v":"RISKLI"},{"$f":"KK67","v":"KG YOK"},null,null,null,null,null,null,null,null,null,null,null,null,null,null,null,null,null,null,null,null,null,null,null,null,null,null,null,null,null,null,null,null,null,null,null,null,null,null,null,null,null,null,null,null,null,{"$f":"O152","v":0.8},{"$f":"P152","v":"SON 10 MACIN  8   TANESI  MS 1,5 UST   BITTI"},null,null,null,null,null,null,{"$f":"O176","v":0.7},{"$f":"P176","v":"SON 10 MACIN  7   TANESI  GOL YEDI"}]
[null,null,null,null,null,null,null,null,null,null,null,null,null,null,null,null,null,"MS 2,5 UST",{"$f":"Z15/10","v":0.4},"MS 2,5 ALT",{"$f":"1-S23","v":0.6},null,null,null,null,null,null,null,null,null,null,null,null,null,null,null,null,null,null,null,null,null,null,null,null,"MS 2,5 UST",{"$f":"BB15/10","v":0.6},"MS 2,5 ALT",{"$f":"1-AU23","v":0.4},null,null,null,null,null,null,null,null,null,null,null,null,null,"IY ",{"$f":"CF118","v":"RISKLI"},{"$f":"CF110","v":"IY 1 "},null,null,null,null,null,null,null,null,null,null,null,null,null,null,10,null,null,null,null,null,null,null,null,null,null,null,null,null,null,null,null,null,null,null,null,null,null,null,null,null,null,null,null,null,null,null,null,null,null,null,null,null,null,null,null,null,null,null,null,null,null,"MS 2,5 UST",{"$f":"EE15/5","v":0.4},"MS 2,5 ALT",{"$f":"1-DX23","v":0.6},null,null,null,null,null,null,null,null,null,null,null,null,null,null,null,null,null,null,null,null,null,null,null,null,"MS 2,5 UST",{"$f":"FG15/5","v":0.6},"MS 2,5 ALT",{"$f":"1-EZ23","v":0.4},null,null,null,null,null,null,null,null,null,null,null,null,null,"IY ",{"$f":"GK118","v":"RISKLI"},{"$f":"GK110","v":"IY 2"},null,null,null,null,null,null,null,null,null,null,null,null,null,null,{"$f":"CB23","v":10},null,null,null,null,null,null,null,null,null,null,null,null,null,null,null,null,null,null,null,null,null,null,null,null,null,null,null,null,null,null,null,null,null,null,null,null,null,null,null,null,null,null,null,null,null,null,"MS 2,5 UST",{"$f":"IJ15/5","v":0.4},"MS 2,5 ALT",{"$f":"1-IC23","v":0.6},null,null,null,null,null,null,null,null,null,null,null,null,null,null,null,null,null,null,null,null,null,null,null,null,"MS 2,5 UST",{"$f":"JL15/5","v":0.4},"MS 2,5 ALT",{"$f":"1-JE23","v":0.6},null,null,null,null,null,null,null,null,null,null,null,null,null,"IY ",{"$f":"KP118","v":"RISKLI"},{"$f":"KP110","v":"IY 2"},null,null,null,null,null,null,null,null,null,null,null,null,null,null,{"$f":"GG23","v":10},null,null,null,null,null,null,null,null,null,null,null,null,null,null,null,null,null,null,null,null,null,null,null,null,null,null,null,null,null,null,{"$f":"DT151","v":1},{"$f":"DU151","v":"SON 5 MACIN  5   TANESI  GOL ATTI"},null,null,null,null,null,null,{"$f":"DT175","v":0.4},{"$f":"DU175","v":"SON 5 MACIN  4   TANESI  GOL ATTI"}]
[null,null,null,null,null,null,null,null,null,{"$f":"COUNTIF(J4:J23,\"DEP\")","v":4},{"$f":"K4+K5+K6+K7+K8+K9+K10+K11+K12+K13+K14+K15+K16+K17+K18+K19+K20+K21+K22+K23","v":7},{"$f":"L4+L5+L6+L7+L8+L9+L10+L11+L12+L13+L14+L15+L16+L17+L18+L19+L20+L21+L22+L23","v":2},{"$f":"M4+M5+M6+M7+M8+M9+M10+M11+M12+M13+M14+M15+M16+M17+M18+M19+M20+M21+M22+M23","v":21},{"$f":"N4+N5+N6+N7+N8+N9+N10+N11+N12+N13+N14+N15+N16+N17+N18+N19+N20+N21+N22+N23","v":8},null,null,null,"MS 3,5 ALT",{"$f":"AA15/10","v":0.6},"MS 3,5 UST",{"$f":"1-S24","v":0.4},null,null,null,null,null,null,null,null,null,null,null,null,null,null,null,null,null,null,null,null,null,null,null,null,"MS 3,5 ALT",{"$f":"BC15/10","v":0.6},"MS 3,5 UST",{"$f":"1-AU24","v":0.4},null,null,null,null,null,null,null,null,null,null,null,null,null,"MS ",{"$f":"CF166","v":"RISKLI"},{"$f":"CF158","v":"MS 2"},null,null,null,"MS  2,5 UST",null,null,null,null,-1,0.79,1.24,1.59,2.39,2.79,-1,1.9,3.9,5.9,7.9,10,null,"2.5 UST ALT",null,null,null,null,null,null,null,null,null,null,null,null,null,null,null,null,null,null,null,null,null,null,null,null,null,null,null,null,null,null,null,{"$f":"COUNTIF(DO4:DO23,\"DEP\")","v":2},{"$f":"DP4+DP5+DP6+DP7+DP8+DP9+DP10+DP11+DP12+DP13+DP14+DP15+DP16+DP17+DP18+DP19+DP20+DP21+DP22+DP23","v":4},{"$f":"DQ4+DQ5+DQ6+DQ7+DQ8+DQ9+DQ10+DQ11+DQ12+DQ13+DQ14+DQ15+DQ16+DQ17+DQ18+DQ19+DQ20+DQ21+DQ22+DQ23","v":2},{"$f":"DR4+DR5+DR6+DR7+DR8+DR9+DR10+DR11+DR12+DR13+DR14+DR15+DR16+DR17+DR18+DR19+DR20+DR21+DR22+DR23","v":9},{"$f":"DS4+DS5+DS6+DS7+DS8+DS9+DS10+DS11+DS12+DS13+DS14+DS15+DS16+DS17+DS18+DS19+DS20+DS21+DS22+DS23","v":4},null,null,null,"MS 3,5 ALT",{"$f":"EF15/5","v":0.6},"MS 3,5 UST",{"$f":"1-DX24","v":0.4},null,null,null,null,null,null,null,null,null,null,null,null,null,null,null,null,null,null,null,null,null,null,null,null,"MS 3,5 ALT",{"$f":"FH15/5","v":0.6},"MS 3,5 UST",{"$f":"1-EZ24","v":0.4},null,null,null,null,null,null,null,null,null,null,null,null,null,"MS ",{"$f":"GK166","v":0.59687500000000004},{"$f":"GK158","v":"MS 1"},null,null,null,"MS  2,5 UST",null,null,null,null,{"$f":"BV24","v":-1},0.79,1.24,1.59,2.39,2.79,-1,1.9,3.9,5.9,7.9,10,null,"2.5 UST ALT",null,null,null,null,null,null,null,null,null,null,null,null,null,null,null,null,null,null,null,null,null,null,null,null,null,null,null,null,null,null,null,{"$f":"COUNTIF(HT4:HT23,\"DEP\")","v":3},{"$f":"HU4+HU5+HU6+HU7+HU8+HU9+HU10+HU11+HU12+HU13+HU14+HU15+HU16+HU17+HU18+HU19+HU20+HU21+HU22+HU23","v":2},{"$f":"HV4+HV5+HV6+HV7+HV8+HV9+HV10+HV11+HV12+HV13+HV14+HV15+HV16+HV17+HV18+HV19+HV20+HV21+HV22+HV23","v":3},{"$f":"HW4+HW5+HW6+HW7+HW8+HW9+HW10+HW11+HW12+HW13+HW14+HW15+HW16+HW17+HW18+HW19+HW20+HW21+HW22+HW23","v":6},{"$f":"HX4+HX5+HX6+HX7+HX8+HX9+HX10+HX11+HX12+HX13+HX14+HX15+HX16+HX17+HX18+HX19+HX20+HX21+HX22+HX23","v":7},null,null,null,"MS 3,5 ALT",{"$f":"IK15/5","v":0.8},"MS 3,5 UST",{"$f":"1-IC24","v":0.19999999999999996},null,null,null,null,null,null,null,null,null,null,null,null,null,null,null,null,null,null,null,null,null,null,null,null,"MS 3,5 ALT",{"$f":"JM15/5","v":0.8},"MS 3,5 UST",{"$f":"1-JE24","v":0.19999999999999996},null,null,null,null,null,null,null,null,null,null,null,null,null,"MS ",{"$f":"KP166","v":"RISKLI"},{"$f":"KP158","v":"MS 2"},null,null,null,"MS  2,5 UST",null,null,null,null,{"$f":"GA24","v":-1},0.79,1.24,1.59,2.39,2.79,-1,1.9,3.9,5.9,7.9,10,null,"2.5 UST ALT",null,null,null,null,null,null,null,null,null,null,null,null,null,null,null,null,null,null,null,null,null,null,null,{"$f":"HY152","v":0.8},{"$f":"HZ152","v":"H2H MACLARININ 4   TANESI  ILK YARISI 1,5 ALT   BITTI"},null,null,null,null,null,null,{"$f":"HY176","v":0.8},{"$f":"HZ176","v":"H2H MACLARININ4   TANESI  MS 3,5 ALT   BITTI"}]
[null,null,null,null,null,null,null,null,null,null,{"$f":"K24/10","v":0.7},{"$f":"L24/10","v":0.2},{"$f":"M24/10","v":2.1},{"$f":"N24/10","v":0.8},null,null,null,null,null,null,null,null,null,null,null,null,null,null,null,null,null,null,null,null,null,null,null,null,null,null,null,null,null,null,null,null,null,null,null,null,null,null,null,null,null,null,null,null,null,null,null,null,"GOL",{"$f":"CA234","v":0.51875000000000004},{"$f":"CA233","v":"2-3 GOL"},null,null,null,null,null,null,null,null,"0-20","20-40","40-60","60-80","80-100","TOPLAM",null,null,null,null,null,null,null,null,null,null,null,null,null,null,null,null,null,null,null,null,null,null,null,null,null,null,null,null,null,null,null,null,null,null,null,null,null,null,null,null,{"$f":"DP24/5","v":0.8},{"$f":"DQ24/5","v":0.4},1.8,0.8,null,null,null,null,null,null,null,null,null,null,null,null,null,null,null,null,null,null,null,null,null,null,null,null,null,null,null,null,null,null,null,null,null,null,null,null,null,null,null,null,null,null,null,null,null,null,null,null,"GOL",{"$f":"GF234","v":0.52500000000000002},{"$f":"GF233","v":"2-3 GOL"},null,null,null,null,null,null,null,null,"0-20","20-40","40-60","60-80","80-100","TOPLAM",null,null,null,null,null,null,null,null,null,null,null,null,null,null,null,null,null,null,null,null,null,null,null,null,null,null,null,null,null,null,null,null,null,null,null,null,null,null,null,null,{"$f":"HU24/5","v":0.4},{"$f":"HV24/5","v":0.6},{"$f":"HW24/5","v":1.2},{"$f":"HX24/5","v":1.4},null,null,null,null,null,null,null,null,null,null,null,null,null,null,null,null,null,null,null,null,null,null,null,null,null,null,null,null,null,null,null,null,null,null,null,null,null,null,null,null,null,null,null,null,null,null,null,null,"GOL",{"$f":"KK234","v":0.48750000000000004},{"$f":"KK233","v":"2-3 GOL"},null,null,null,null,null,null,null,null,"0-20","20-40","40-60","60-80","80-100","TOPLAM",null,null,null,null,null,null,null,null,null,null,null,null,null,null,null,null,null,null,null,null,null,null,null,null,null,null,null,null,null,null,null,{"$f":"HY153","v":0.8},{"$f":"HZ153","v":"H2H MACLARININ 4   TANESI  ILK YARISI 1,5 ALT   BITTI"},null,null,null,null,null,null,{"$f":"HY177","v":0.8},{"$f":"HZ177","v":"H2H MACLARININ4   TANESI  MS 3,5 ALT   BITTI"}]
[null,null,null,null,null,null,null,null,null,null,null,null,null,null,null,null,null,"EV GOL ATAR",{"$f":"AC15/10","v":1},"EV GOL YER",{"$f":"AD15/10","v":0.6},null,null,null,null,null,null,null,null,null,null,null,null,null,null,null,null,null,null,null,null,null,null,null,null,"EV GOL ATAR",{"$f":"BE15/10","v":0.6},"EV GOL YER",{"$f":"BF15/10","v":0.7},null,null,null,null,null,null,null,null,null,null,null,null,null,null,null,null,null,null,null,"MS EV SAHIBI GOL ATAR ORTALAMA",null,null,null,{"$f":"S15","v":2.1},{"$f":"IF(BU26>BV24,IF(BU26<BW24,\"10\",\"0\"))","v":"0"},{"$f":"IF(BU26>BW24,IF(BU26<BX24,\"30\",\"0\"))","v":"0"},{"$f":"IF(BU26>BX24,IF(BU26<BY24,\"50\",\"0\"))","v":"0"},{"$f":"IF(BU26>BY24,IF(BU26<BZ24,\"70\",\"0\"))","v":"70"},{"$f":"IF(BU26>BZ24,IF(BU26<CA24,\"90\",\"0\"))","v":false},{"$f":"BV26+BW26+BX26+BY26+BZ26","v":70},null,null,null,null,null,null,null,{"$f":"CJ7","v":0.8},{"$f":"CI7","v":"MS 1.5 UST"},null,{"$f":"CV7","v":0.6},{"$f":"CU7","v":"MS 1.5 UST"},null,{"$f":"CJ8","v":0.4},{"$f":"CI8","v":"MS 2.5 UST"},null,{"$f":"CV8","v":0.6},{"$f":"CU8","v":"MS 2.5 UST"},null,{"$f":"CJ9","v":0.6},{"$f":"CI9","v":"MS 3.5 ALT"},null,{"$f":"CV9","v":0.6},{"$f":"CU9","v":"MS 3.5 ALT"},null,null,null,null,null,null,null,null,null,null,null,null,null,null,null,null,null,null,null,null,null,null,null,"EV GOL ATAR",{"$f":"EH15/5","v":1},"EV GOL YER",{"$f":"EI15/5","v":0.8},null,null,null,null,null,null,null,null,null,null,null,null,null,null,null,null,null,null,null,null,null,null,null,null,"EV GOL ATAR",{"$f":"FJ15/5","v":0.8},"EV GOL YER",{"$f":"FK15/5","v":0.6},null,null,null,null,null,null,null,null,null,null,null,null,null,null,null,null,null,null,null,"MS EV SAHIBI GOL ATAR ORTALAMA",null,null,null,{"$f":"DX15","v":1.8},{"$f":"IF(FZ26>GA24,IF(FZ26<GB24,\"10\",\"0\"))","v":"0"},{"$f":"IF(FZ26>GB24,IF(FZ26<GC24,\"30\",\"0\"))","v":"0"},{"$f":"IF(FZ26>GC24,IF(FZ26<GD24,\"50\",\"0\"))","v":"0"},{"$f":"IF(FZ26>GD24,IF(FZ26<GE24,\"70\",\"0\"))","v":"70"},{"$f":"IF(FZ26>GE24,IF(FZ26<GF24,\"90\",\"0\"))","v":false},{"$f":"GA26+GB26+GC26+GD26+GE26","v":70},null,null,null,null,null,null,null,{"$f":"GO7","v":0.8},{"$f":"GN7","v":"MS 1.5 UST"},null,{"$f":"HA7","v":0.6},{"$f":"GZ7","v":"MS 1.5 UST"},null,{"$f":"GO8","v":0.4},{"$f":"GN8","v":"MS 2.5 UST"},null,{"$f":"HA8","v":0.6},{"$f":"GZ8","v":"MS 2.5 UST"},null,{"$f":"GO9","v":0.6},{"$f":"GN9","v":"MS 3.5 ALT"},null,{"$f":"HA9","v":0.6},{"$f":"GZ9","v":"MS 3.5 ALT"},null,null,null,null,null,null,null,null,null,null,null,null,null,null,null,null,null,null,null,null,null,null,null,"EV GOL ATAR",{"$f":"IM15/5","v":0.8},"EV GOL YER",{"$f":"IN15/5","v":1},null,null,null,null,null,null,null,null,null,null,null,null,null,null,null,null,null,null,null,null,null,null,null,null,"EV GOL ATAR",{"$f":"JO15/5","v":1},"EV GOL YER",{"$f":"JP15/5","v":0.8},null,null,null,null,null,null,null,null,null,null,null,null,null,null,null,null,null,null,null,"MS EV SAHIBI GOL ATAR ORTALAMA",null,null,null,{"$f":"IC15","v":1.2},{"$f":"IF(KE26>KF24,IF(KE26<KG24,\"10\",\"0\"))","v":"0"},{"$f":"IF(KE26>KG24,IF(KE26<KH24,\"30\",\"0\"))","v":"30"},{"$f":"IF(KE26>KH24,IF(KE26<KI24,\"50\",\"0\"))","v":false},{"$f":"IF(KE26>KI24,IF(KE26<KJ24,\"70\",\"0\"))","v":false},{"$f":"IF(KE26>KJ24,IF(KE26<KK24,\"90\",\"0\"))","v":false},{"$f":"KF26+KG26+KH26+KI26+KJ26","v":30},null,null,null,null,null,null,null,{"$f":"KT7","v":1},{"$f":"KS7","v":"MS 1.5 UST"},null,{"$f":"LF7","v":1},{"$f":"LE7","v":"MS 1.5 UST"},null,{"$f":"KT8","v":0.4},{"$f":"KS8","v":"MS 2.5 UST"},null,{"$f":"LF8","v":0.4},{"$f":"LE8","v":"MS 2.5 UST"},null,{"$f":"KT9","v":0.8},{"$f":"KS9","v":"MS 3.5 ALT"},null,{"$f":"LF9","v":0.8},{"$f":"LE9","v":"MS 3.5 ALT"}]
[{"$f":"COUNTIF(A30:B49,A30)","v":1},{"$f":"COUNTIF(A30:B49,B30)","v":1},"İY","MS","İY - EV","İY - DEP",null,"MS - EV","MS - DEP","EV | DEP","İY Takımımız","İY Rakip","MS Takımımız","MS Rakip",null,null,null,null,null,null,null,null,null,null,null,null,null,null,null,null,null,null,null,null,null,null,null,null,null,null,null,null,null,null,null,null,null,null,null,null,null,null,null,null,null,null,null,null,null,null,null,null,null,null,null,null,null,null,"MS EV SAHIBI GOL YER ORTALAMA",null,null,null,{"$f":"T15","v":0.8},{"$f":"IF(BU27>BV24,IF(BU27<BW24,\"10\",\"0\"))","v":"0"},{"$f":"IF(BU27>BW24,IF(BU27<BX24,\"30\",\"0\"))","v":"30"},{"$f":"IF(BU27>BX24,IF(BU27<BY24,\"50\",\"0\"))","v":false},{"$f":"IF(BU27>BY24,IF(BU27<BZ24,\"70\",\"0\"))","v":false},{"$f":"IF(BU27>BZ24,IF(BU27<CB23,\"90\",\"0\"))","v":false},30,null,null,null,null,null,null,null,{"$f":"CL7","v":0.19999999999999996},{"$f":"CK7","v":"MS 1.5 ALT"},null,{"$f":"CX7","v":0.4},{"$f":"CW7","v":"MS 1.5 ALT"},null,{"$f":"CL8","v":0.6},{"$f":"CK8","v":"MS 2.5 ALT"},null,{"$f":"CX8","v":0.4},{"$f":"CW8","v":"MS 2.5 ALT"},null,{"$f":"CL9","v":0.4},{"$f":"CK9","v":"MS 3.5 UST"},null,{"$f":"CX9","v":0.4},{"$f":"CV27","v":"MS 3.5 UST"},null,null,null,null,null,null,{"$f":"COUNTIF(DF30:DG49,DF30)","v":1},{"$f":"COUNTIF(DF30:DG49,DG30)","v":1},"İY","MS","İY - EV","İY - DEP",null,"MS - EV","MS - DEP","EV | DEP","İY Takımımız","İY Rakip","MS Takımımız","MS Rakip",null,null,null,null,null,null,null,null,null,null,null,null,null,null,null,null,null,null,null,null,null,null,null,null,null,null,null,null,null,null,null,null,null,null,null,null,null,null,null,null,null,null,null,null,null,null,null,null,null,null,null,null,null,null,"MS EV SAHIBI GOL YER ORTALAMA",null,null,null,{"$f":"DY15","v":0.8},{"$f":"IF(FZ27>GA24,IF(FZ27<GB24,\"10\",\"0\"))","v":"0"},{"$f":"IF(FZ27>GB24,IF(FZ27<GC24,\"30\",\"0\"))","v":"30"},{"$f":"IF(FZ27>GC24,IF(FZ27<GD24,\"50\",\"0\"))","v":false},{"$f":"IF(FZ27>GD24,IF(FZ27<GE24,\"70\",\"0\"))","v":false},{"$f":"IF(FZ27>GE24,IF(FZ27<GG23,\"90\",\"0\"))","v":false},30,null,null,null,null,null,null,null,{"$f":"GQ7","v":0.19999999999999996},{"$f":"GP7","v":"MS 1.5 ALT"},null,{"$f":"HC7","v":0.4},{"$f":"HB7","v":"MS 1.5 ALT"},null,{"$f":"GQ8","v":0.6},{"$f":"GP8","v":"MS 2.5 ALT"},null,{"$f":"HC8","v":0.4},{"$f":"HB8","v":"MS 2.5 ALT"},null,{"$f":"GQ9","v":0.4},{"$f":"GP9","v":"MS 3.5 UST"},null,{"$f":"HC9","v":0.4},{"$f":"HA27","v":"MS 3.5 UST"},null,null,null,null,null,null,{"$f":"COUNTIF(HK30:HL49,HK30)","v":5},{"$f":"COUNTIF(HK30:HL49,HL30)","v":5},"İY","MS","İY - EV","İY - DEP",null,"MS - EV","MS - DEP","EV | DEP","İY Takımımız","İY Rakip","MS Takımımız","MS Rakip",null,null,null,null,null,null,null,null,null,null,null,null,null,null,null,null,null,null,null,null,null,null,null,null,null,null,null,null,null,null,null,null,null,null,null,null,null,null,null,null,null,null,null,null,null,null,null,null,null,null,null,null,null,null,"MS EV SAHIBI GOL YER ORTALAMA",null,null,null,{"$f":"ID15","v":1.4},{"$f":"IF(KE27>KF24,IF(KE27<KG24,\"10\",\"0\"))","v":"0"},{"$f":"IF(KE27>KG24,IF(KE27<KH24,\"30\",\"0\"))","v":"0"},{"$f":"IF(KE27>KH24,IF(KE27<KI24,\"50\",\"0\"))","v":"50"},{"$f":"IF(KE27>KI24,IF(KE27<KJ24,\"70\",\"0\"))","v":false},{"$f":"IF(KE27>KJ24,IF(KE27<KL23,\"90\",\"0\"))","v":false},50,null,null,null,null,null,null,null,{"$f":"KV7","v":0},{"$f":"KU7","v":"MS 1.5 ALT"},null,{"$f":"LH7","v":0},{"$f":"LG7","v":"MS 1.5 ALT"},null,{"$f":"KV8","v":0.6},{"$f":"KU8","v":"MS 2.5 ALT"},null,{"$f":"LH8","v":0.6},{"$f":"LG8","v":"MS 2.5 ALT"},null,{"$f":"KV9","v":0.19999999999999996},{"$f":"KU9","v":"MS 3.5 UST"},null,{"$f":"LH9","v":0.19999999999999996},{"$f":"LF27","v":"MS 3.5 UST"}]
[{"$f":"IF(A27>B27,A30,B30)","v":"Young Boys"},null,null,null,null,null,null,null,null,null,null,null,null,null,null,null,null,"KG VAR MS ",{"$f":"AB15/10","v":0.8},"KG YOK MS ",{"$f":"1-S28","v":0.19999999999999996},null,null,null,null,null,null,null,null,null,null,null,null,null,null,null,null,null,null,null,null,null,null,null,null,"KG VAR MS ",{"$f":"BD15/10","v":0.6},"KG YOK MS ",{"$f":"1-AU28","v":0.4},null,null,null,null,null,null,null,null,null,null,null,null,"BANKO ",{"$f":"MAX(BL20:BL25)","v":0.66428571428571426},{"$f":"VLOOKUP(BK28,BL20:BM25,2,FALSE)","v":"KG VAR"},null,null,null,null,"MS DEP GOL ATAR ORTALAMA",null,null,null,{"$f":"AU15","v":1.3},{"$f":"IF(BU28>BV24,IF(BU28<BW24,\"10\",\"0\"))","v":"0"},{"$f":"IF(BU28>BW24,IF(BU28<BX24,\"30\",\"0\"))","v":"0"},{"$f":"IF(BU28>BX24,IF(BU28<BY24,\"50\",\"0\"))","v":"50"},{"$f":"IF(BU28>BY24,IF(BU28<BZ24,\"70\",\"0\"))","v":false},{"$f":"IF(BU28>BZ24,IF(BU28<CB23,\"90\",\"0\"))","v":false},50,null,null,null,null,null,null,null,null,null,null,null,null,null,null,null,null,null,null,null,null,null,null,null,null,null,null,null,null,null,null,{"$f":"IF(DF27>DG27,DF30,DG30)","v":"Young Boys"},null,null,null,null,null,null,null,null,null,null,null,null,null,null,null,null,"KG VAR MS ",{"$f":"EG15/5","v":0.8},"KG YOK MS ",{"$f":"1-DX28","v":0.19999999999999996},null,null,null,null,null,null,null,null,null,null,null,null,null,null,null,null,null,null,null,null,null,null,null,null,"KG VAR MS ",{"$f":"FI15/5","v":0.6},"KG YOK MS ",{"$f":"1-EZ28","v":0.4},null,null,null,null,null,null,null,null,null,null,null,null,"BANKO ",{"$f":"MAX(FQ20:FQ25)","v":0.59687500000000004},{"$f":"VLOOKUP(FP28,FQ20:FR25,2,FALSE)","v":"MS 1"},null,null,null,null,"MS DEP GOL ATAR ORTALAMA",null,null,null,{"$f":"EZ15","v":1.8},{"$f":"IF(FZ28>GA24,IF(FZ28<GB24,\"10\",\"0\"))","v":"0"},{"$f":"IF(FZ28>GB24,IF(FZ28<GC24,\"30\",\"0\"))","v":"0"},{"$f":"IF(FZ28>GC24,IF(FZ28<GD24,\"50\",\"0\"))","v":"0"},{"$f":"IF(FZ28>GD24,IF(FZ28<GE24,\"70\",\"0\"))","v":"70"},{"$f":"IF(FZ28>GE24,IF(FZ28<GG23,\"90\",\"0\"))","v":false},70,null,null,null,null,null,null,null,null,null,null,null,null,null,null,null,null,null,null,null,null,null,null,null,null,null,null,null,null,null,null,{"$f":"DF28","v":"Young Boys"},null,null,null,null,null,null,null,null,null,null,null,null,null,null,null,null,"KG VAR MS ",{"$f":"IL15/5","v":1},"KG YOK MS ",{"$f":"1-IC28","v":0},null,null,null,null,null,null,null,null,null,null,null,null,null,null,null,null,null,null,null,null,null,null,null,null,"KG VAR MS ",{"$f":"JN15/5","v":1},"KG YOK MS ",{"$f":"1-JE28","v":0},null,null,null,null,null,null,null,null,null,null,null,null,"BANKO ",{"$f":"IF(HU34=\"\",\"\",MAX(JV20:JV25))","v":0.48750000000000004},{"$f":"VLOOKUP(JU28,JV20:JW25,2,FALSE)","v":"2-3 GOL"},null,null,null,null,"MS DEP GOL ATAR ORTALAMA",null,null,null,{"$f":"JE15","v":1.6},{"$f":"IF(KE28>KF24,IF(KE28<KG24,\"10\",\"0\"))","v":"0"},{"$f":"IF(KE28>KG24,IF(KE28<KH24,\"30\",\"0\"))","v":"0"},{"$f":"IF(KE28>KH24,IF(KE28<KI24,\"50\",\"0\"))","v":"0"},{"$f":"IF(KE28>KI24,IF(KE28<KJ24,\"70\",\"0\"))","v":"70"},{"$f":"IF(KE28>KJ24,IF(KE28<KL23,\"90\",\"0\"))","v":false},70,null,null,null,null,null,null,null,null,null,null,null,null,null,null,null,null,null,null,null,null,null,null,null,null,null,null,null,null,null,null,null,{"$f":"LARGE(LQ14:LQ21,1)","v":1},{"$f":"VLOOKUP(LQ28,LQ14:LR23,2,)","v":"SON 10 MACIN  10   TANESI  GOL ATTI"},null,null,null,null,null,null,{"$f":"LARGE(LY14:LY21,1)","v":0.7},{"$f":"VLOOKUP(LY28,LY14:LZ23,2,)","v":"SON 10 MACIN  7   TANESI  GOL YEDI"}]
[null,null,"IY","MS",{"$f":"COUNT(G30:G49)+0","v":10},{"$f":"IF(E29>9,\"OK\",\"YETERSIZ VERI\")","v":"OK"},null,null,null,null,null,null,null,null,null,null,null,"KG VAR GOL",{"$f":"AE15/10","v":0.6},"KG YOK GOL",{"$f":"1-S29","v":0.4},null,null,null,null,null,null,null,null,null,null,null,null,null,null,null,null,null,null,null,null,null,null,null,null,"KG VAR GOL",{"$f":"BG15/10","v":0.4},"KG YOK GOL",{"$f":"1-AU29","v":0.6},null,null,null,null,null,null,null,null,null,null,null,null,null,{"$f":"LARGE(BL20:BL25,2)","v":0.51875000000000004},{"$f":"VLOOKUP(BK29,BL20:BM25,2,FALSE)","v":"2-3 GOL"},null,null,null,null,"MS DEP GOL YER ORTALAMA",null,null,null,{"$f":"AV15","v":1.2},{"$f":"IF(BU29>BV24,IF(BU29<BW24,\"10\",\"0\"))","v":"0"},{"$f":"IF(BU29>BW24,IF(BU29<BX24,\"30\",\"0\"))","v":"30"},{"$f":"IF(BU29>BX24,IF(BU29<BY24,\"50\",\"0\"))","v":false},{"$f":"IF(BU29>BY24,IF(BU29<BZ24,\"70\",\"0\"))","v":false},{"$f":"IF(BU29>BZ24,IF(BU29<CB23,\"90\",\"0\"))","v":false},30,null,null,null,null,null,null,null,null,null,null,null,null,null,null,null,null,null,null,null,null,null,null,null,null,null,null,null,null,null,null,null,null,"IY","MS",{"$f":"COUNT(DL30:DL49)+0","v":5},{"$f":"IF(DJ29>4,\"OK\",\"YETERSIZ VERI\")","v":"OK"},null,null,null,null,null,null,null,null,null,null,null,"KG VAR GOL",{"$f":"EJ15/5","v":0.8},"KG YOK GOL",{"$f":"1-DX29","v":0.19999999999999996},null,null,null,null,null,null,null,null,null,null,null,null,null,null,null,null,null,null,null,null,null,null,null,null,"KG VAR GOL",{"$f":"FL15/5","v":0.4},"KG YOK GOL",{"$f":"1-EZ29","v":0.6},null,null,null,null,null,null,null,null,null,null,null,null,null,{"$f":"LARGE(FQ20:FQ25,2)","v":0.52500000000000002},{"$f":"VLOOKUP(FP29,FQ20:FR25,2,FALSE)","v":"2-3 GOL"},null,null,null,null,"MS DEP GOL YER ORTALAMA",null,null,null,{"$f":"FA15","v":0.8},{"$f":"IF(FZ29>GA24,IF(FZ29<GB24,\"10\",\"0\"))","v":"0"},{"$f":"IF(FZ29>GB24,IF(FZ29<GC24,\"30\",\"0\"))","v":"30"},{"$f":"IF(FZ29>GC24,IF(FZ29<GD24,\"50\",\"0\"))","v":false},{"$f":"IF(FZ29>GD24,IF(FZ29<GE24,\"70\",\"0\"))","v":false},{"$f":"IF(FZ29>GE24,IF(FZ29<GG23,\"90\",\"0\"))","v":false},30,null,null,null,null,null,null,null,null,null,null,null,null,null,null,null,null,null,null,null,null,null,null,null,null,null,null,null,null,null,null,null,null,"IY","MS",{"$f":"COUNT(HQ30:HQ49)+0","v":5},{"$f":"IF(HO29>4,\"OK\",\"TAKIMLAR KENDI ARALARINDA YETERLI MAC OYNAMAMISTIR  DIGER SONUCLARA BAKINIZ\")","v":"OK"},null,null,null,null,null,null,null,null,null,null,null,"KG VAR GOL",{"$f":"IO15/5","v":0.8},"KG YOK GOL",{"$f":"1-IC29","v":0.19999999999999996},null,null,null,null,null,null,null,null,null,null,null,null,null,null,null,null,null,null,null,null,null,null,null,null,"KG VAR GOL",{"$f":"JQ15/5","v":0.8},"KG YOK GOL",{"$f":"1-JE29","v":0.19999999999999996},null,null,null,null,null,null,null,null,null,null,null,null,null,{"$f":"IF(HU34=\"\",\"\",LARGE(JV20:JV25,2))","v":{"$error":"#NUM!"}},{"$f":"VLOOKUP(JU29,JV20:JW25,2,FALSE)","v":{"$error":"#NUM!"}},null,null,null,null,"MS DEP GOL YER ORTALAMA",null,null,null,{"$f":"JF15","v":1},{"$f":"IF(KE29>KF24,IF(KE29<KG24,\"10\",\"0\"))","v":"0"},{"$f":"IF(KE29>KG24,IF(KE29<KH24,\"30\",\"0\"))","v":"30"},{"$f":"IF(KE29>KH24,IF(KE29<KI24,\"50\",\"0\"))","v":false},{"$f":"IF(KE29>KI24,IF(KE29<KJ24,\"70\",\"0\"))","v":false},{"$f":"IF(KE29>KJ24,IF(KE29<KL23,\"90\",\"0\"))","v":false},30,null,null,null,null,null,null,null,null,null,null,null,null,null,null,null,null,null,null,null,null,null,null,null,null,null,null,null,null,null,null,null,{"$f":"LARGE(LQ14:LQ21,2)","v":1},{"$f":"VLOOKUP(LQ29,LQ14:LR23,2,)","v":"SON 10 MACIN  10   TANESI  GOL ATTI"},null,null,null,null,null,null,{"$f":"LARGE(LY14:LY21,2)","v":0.7},{"$f":"VLOOKUP(LY29,LY14:LZ23,2,)","v":"SON 10 MACIN  7   TANESI  GOL YEDI"}]
[{"$f":"Veri!T5","v":"1Lugano"},{"$f":"Veri!X5","v":"Young Boys"},{"$f":"Veri!V5","v":"0-0"},{"$f":"Veri!U5","v":"0-1"},{"$f":"MID(C30,1,FIND(\"-\",C30)-1)","v":"0"},{"$f":"MID(C30,FIND(\"-\",C30)+1,10)","v":"0"},{"$f":"F30+0","v":0},{"$f":"MID(D30,1,FIND(\"-\",D30)-1)+0","v":0},{"$f":"MID(D30,FIND(\"-\",D30)+1,10)","v":"1"},{"$f":"IF(A30=$A$28,\"EV\",\"DEP\")","v":"DEP"},{"$f":"IF(J30=\"EV\",E30,F30)","v":"0"},{"$f":"IF(J30=\"DEP\",E30,F30)","v":"0"},{"$f":"IF(J30=\"EV\",H30,I30)","v":"1"},{"$f":"IF(J30=\"DEP\",H30,I30)","v":0},null,null,null,null,null,null,null,null,null,null,null,null,null,null,null,null,null,null,null,null,null,null,null,null,null,null,null,null,null,null,null,null,null,null,null,null,null,null,null,null,null,null,null,null,null,null,null,null,{"$f":"LARGE(BL20:BL25,3)","v":{"$error":"#NUM!"}},{"$f":"VLOOKUP(BK30,BL20:BM25,2,FALSE)","v":{"$error":"#NUM!"}},null,null,null,null,"MS EV SAHIBI GOL ATAR MACA GORE",null,null,null,{"$f":"AC15","v":10},{"$f":"IF(BU30>BV24,IF(BU30<BW24,\"10\",\"0\"))","v":"0"},{"$f":"IF(BU30>BW24,IF(BU30<BX24,\"30\",\"0\"))","v":"0"},{"$f":"IF(BU30>BX24,IF(BU30<BZ24,\"50\",\"0\"))","v":"0"},{"$f":"IF(BU30>BZ24,IF(BU30<CD24,\"70\",\"0\"))","v":"0"},{"$f":"IF(BU30>CD24,IF(BU30<CG24,\"90\",\"0\"))","v":"0"},0,null,null,null,null,null,null,null,null,null,{"$f":"AVERAGE(CI31,CL31)","v":0.7},{"$f":"AVERAGE(BV34,CK30)","v":0.7},null,null,null,null,{"$f":"AVERAGE(CO31,CR31)","v":0.6},{"$f":"AVERAGE(CB34,CQ30)","v":0.6},null,null,null,null,{"$f":"AVERAGE(CU31,CX31)","v":0.6},{"$f":"AVERAGE(CH34,CW30)","v":0.6},null,null,null,null,null,null,null,{"$f":"A30","v":"1Lugano"},{"$f":"B30","v":"Young Boys"},"0-0","0-1",{"$f":"MID(DH30,1,FIND(\"-\",DH30)-1)","v":"0"},{"$f":"MID(DH30,FIND(\"-\",DH30)+1,10)","v":"0"},{"$f":"DK30+0","v":0},{"$f":"MID(DI30,1,FIND(\"-\",DI30)-1)+0","v":0},{"$f":"MID(DI30,FIND(\"-\",DI30)+1,10)","v":"1"},{"$f":"IF(DF30=$DF$28,\"EV\",\"DEP\")","v":"DEP"},{"$f":"IF(DO30=\"EV\",DJ30,DK30)","v":"0"},{"$f":"IF(DO30=\"DEP\",DJ30,DK30)","v":"0"},{"$f":"IF(DO30=\"EV\",DM30,DN30)","v":"1"},{"$f":"IF(DO30=\"DEP\",DM30,DN30)","v":0},null,null,null,null,null,null,null,null,null,null,null,null,null,null,null,null,null,null,null,null,null,null,null,null,null,null,null,null,null,null,null,null,null,null,null,null,null,null,null,null,null,null,null,null,null,null,null,null,{"$f":"LARGE(FQ20:FQ25,3)","v":{"$error":"#NUM!"}},{"$f":"VLOOKUP(FP30,FQ20:FR25,2,FALSE)","v":{"$error":"#NUM!"}},null,null,null,null,"MS EV SAHIBI GOL ATAR MACA GORE",null,null,null,{"$f":"EH15","v":5},{"$f":"IF(FZ30>GA24,IF(FZ30<GB24,\"10\",\"0\"))","v":"0"},{"$f":"IF(FZ30>GB24,IF(FZ30<GC24,\"30\",\"0\"))","v":"0"},{"$f":"IF(FZ30>GC24,IF(FZ30<GE24,\"50\",\"0\"))","v":"0"},{"$f":"IF(FZ30>GE24,IF(FZ30<GI24,\"70\",\"0\"))","v":"0"},{"$f":"IF(FZ30>GI24,IF(FZ30<GL24,\"90\",\"0\"))","v":"90"},90,null,null,null,null,null,null,null,null,null,{"$f":"AVERAGE(GN31,GQ31)","v":0.7},{"$f":"AVERAGE(GA34,GP30)","v":0.7},null,null,null,null,{"$f":"AVERAGE(GT31,GW31)","v":0.6},{"$f":"AVERAGE(GG34,GV30)","v":0.6},null,null,null,null,{"$f":"AVERAGE(GZ31,HC31)","v":0.6},{"$f":"AVERAGE(GM34,HB30)","v":0.6},null,null,null,null,null,null,null,{"$f":"Veri!C4","v":"Lugano"},{"$f":"Veri!G4","v":"Thun"},{"$f":"Veri!E4","v":"0-1"},{"$f":"Veri!D4","v":"1-3"},{"$f":"IF(HM30=0,\"\",MID(HM30,1,FIND(\"-\",HM30)-1))","v":"0"},{"$f":"IF(HM30=0,\"\",MID(HM30,FIND(\"-\",HM30)+1,10))","v":"1"},{"$f":"IF(HP30=\"\",\"\",HP30+0)","v":1},{"$f":"IF(HN30=0,\"\",MID(HN30,1,FIND(\"-\",HN30)-1))","v":"1"},{"$f":"IF(HN30=0,\"\",MID(HN30,FIND(\"-\",HN30)+1,10))","v":"3"},{"$f":"IF(HK30=$HK$28,\"EV\",\"DEP\")","v":"DEP"},{"$f":"IF(HT30=\"EV\",HO30,HP30)","v":"1"},{"$f":"IF(HT30=\"DEP\",HO30,HP30)","v":"0"},{"$f":"IF(HT30=\"EV\",HR30,HS30)","v":"3"},{"$f":"IF(HT30=\"DEP\",HR30,HS30)","v":"1"},null,null,null,null,null,null,null,null,null,null,null,null,null,null,null,null,null,null,null,null,null,null,null,null,null,null,null,null,null,null,null,null,null,null,null,null,null,null,null,null,null,null,null,null,null,null,null,null,{"$f":"IF(HU34=\"\",\"\",LARGE(JV20:JV25,3))","v":{"$error":"#NUM!"}},{"$f":"VLOOKUP(JU30,JV20:JW25,2,FALSE)","v":{"$error":"#NUM!"}},null,null,null,null,"MS EV SAHIBI GOL ATAR MACA GORE",null,null,null,{"$f":"IM15","v":4},{"$f":"IF(KE30>KF24,IF(KE30<KG24,\"10\",\"0\"))","v":"0"},{"$f":"IF(KE30>KG24,IF(KE30<KH24,\"30\",\"0\"))","v":"0"},{"$f":"IF(KE30>KH24,IF(KE30<KJ24,\"50\",\"0\"))","v":"0"},{"$f":"IF(KE30>KJ24,IF(KE30<KN24,\"70\",\"0\"))","v":"0"},{"$f":"IF(KE30>KN24,IF(KE30<KQ24,\"90\",\"0\"))","v":"90"},90,null,null,null,null,null,null,null,null,null,{"$f":"AVERAGE(KS31,KV31)","v":1},{"$f":"AVERAGE(KF34,KU30)","v":1},null,null,null,null,{"$f":"AVERAGE(KY31,LB31)","v":0.6},{"$f":"AVERAGE(KL34,LA30)","v":0.6},null,null,null,null,{"$f":"AVERAGE(LE31,LH31)","v":0.8},{"$f":"AVERAGE(KR34,LG30)","v":0.8},null,null,null,null,null,null,null,null,{"$f":"LARGE(LQ14:LQ21,3)","v":0.9},{"$f":"VLOOKUP(LQ30,LQ14:LR23,2,)","v":"SON 10 MACIN  9  MACINDA  YENILMEDI  (BERABERLIKLER DAHIL)"},null,null,null,null,null,null,{"$f":"LARGE(LY14:LY21,3)","v":0.6},{"$f":"VLOOKUP(LY30,LY14:LZ23,2,)","v":"SON 10 MACIN  6   TANESI  MS 1,5 UST   BITTI"}]
[{"$f":"Veri!T6","v":"1Luzern"},{"$f":"Veri!X6","v":"Lugano"},{"$f":"Veri!V6","v":"0-1"},{"$f":"Veri!U6","v":"0-3"},{"$f":"MID(C31,1,FIND(\"-\",C31)-1)","v":"0"},{"$f":"MID(C31,FIND(\"-\",C31)+1,10)","v":"1"},{"$f":"F31+0","v":1},{"$f":"MID(D31,1,FIND(\"-\",D31)-1)","v":"0"},{"$f":"MID(D31,FIND(\"-\",D31)+1,10)","v":"3"},{"$f":"IF(A31=$A$28,\"EV\",\"DEP\")","v":"DEP"},{"$f":"IF(J31=\"EV\",E31,F31)","v":"1"},{"$f":"IF(J31=\"DEP\",E31,F31)","v":"0"},{"$f":"IF(J31=\"EV\",H31,I31)","v":"3"},{"$f":"IF(J31=\"DEP\",H31,I31)","v":"0"},null,null,null,null,null,null,null,null,null,null,null,null,null,null,null,null,null,null,null,null,null,null,null,null,null,null,null,null,null,null,null,null,null,null,null,null,null,null,null,null,null,null,null,null,null,null,null,null,null,null,null,null,null,null,"MS EV SAHIBI GOL YER MACA GORE",null,null,null,{"$f":"AD15","v":6},{"$f":"IF(BU31>BV24,IF(BU31<BW24,\"10\",\"0\"))","v":"0"},{"$f":"IF(BU31>BW24,IF(BU31<BX24,\"30\",\"0\"))","v":"0"},{"$f":"IF(BU31>BX24,IF(BU31<BY24,\"50\",\"0\"))","v":"0"},{"$f":"IF(BU31>BZ24,IF(BU31<CD24,\"70\",\"0\"))","v":"0"},{"$f":"IF(BU31>CD24,IF(BU31<CG24,\"90\",\"0\"))","v":"90"},90,null,null,null,null,null,null,null,{"$f":"MAX(CI26:CI27)","v":0.8},{"$f":"VLOOKUP(CI31,CI26:CJ27,2,FALSE)","v":"MS 1.5 UST"},null,{"$f":"MAX(CL26:CL27)","v":0.6},{"$f":"VLOOKUP(CL31,CL26:CM27,2,FALSE)","v":"MS 1.5 UST"},null,{"$f":"MAX(CO26:CO27)","v":0.6},{"$f":"VLOOKUP(CO31,CO26:CP27,2,FALSE)","v":"MS 2.5 ALT"},null,{"$f":"MAX(CR26:CR27)","v":0.6},{"$f":"VLOOKUP(CR31,CR26:CS27,2,FALSE)","v":"MS 2.5 UST"},null,{"$f":"MAX(CU26:CU27)","v":0.6},{"$f":"VLOOKUP(CU31,CU26:CV27,2,FALSE)","v":"MS 3.5 ALT"},null,{"$f":"MAX(CX26:CX27)","v":0.6},{"$f":"VLOOKUP(CX31,CX26:CY27,2,FALSE)","v":"MS 3.5 ALT"},null,null,null,null,null,null,{"$f":"A31","v":"1Luzern"},{"$f":"B31","v":"Lugano"},{"$f":"C31","v":"0-1"},{"$f":"D31","v":"0-3"},{"$f":"MID(DH31,1,FIND(\"-\",DH31)-1)","v":"0"},{"$f":"MID(DH31,FIND(\"-\",DH31)+1,10)","v":"1"},{"$f":"DK31+0","v":1},{"$f":"MID(DI31,1,FIND(\"-\",DI31)-1)","v":"0"},{"$f":"MID(DI31,FIND(\"-\",DI31)+1,10)","v":"3"},{"$f":"IF(DF31=$DF$28,\"EV\",\"DEP\")","v":"DEP"},{"$f":"IF(DO31=\"EV\",DJ31,DK31)","v":"1"},{"$f":"IF(DO31=\"DEP\",DJ31,DK31)","v":"0"},{"$f":"IF(DO31=\"EV\",DM31,DN31)","v":"3"},{"$f":"IF(DO31=\"DEP\",DM31,DN31)","v":"0"},null,null,null,null,null,null,null,null,null,null,null,null,null,null,null,null,null,null,null,null,null,null,null,null,null,null,null,null,null,null,null,null,null,null,null,null,null,null,null,null,null,null,null,null,null,null,null,null,null,null,null,null,null,null,"MS EV SAHIBI GOL YER MACA GORE",null,null,null,{"$f":"EH16","v":0},{"$f":"IF(FZ31>GA24,IF(FZ31<GB24,\"10\",\"0\"))","v":"10"},{"$f":"IF(FZ31>GB24,IF(FZ31<GC24,\"30\",\"0\"))","v":false},{"$f":"IF(FZ31>GC24,IF(FZ31<GD24,\"50\",\"0\"))","v":false},{"$f":"IF(FZ31>GE24,IF(FZ31<GI24,\"70\",\"0\"))","v":false},{"$f":"IF(FZ31>GI24,IF(FZ31<GL24,\"90\",\"0\"))","v":false},10,null,null,null,null,null,null,null,{"$f":"MAX(GN26:GN27)","v":0.8},{"$f":"VLOOKUP(GN31,GN26:GO27,2,FALSE)","v":"MS 1.5 UST"},null,{"$f":"MAX(GQ26:GQ27)","v":0.6},{"$f":"VLOOKUP(GQ31,GQ26:GR27,2,FALSE)","v":"MS 1.5 UST"},null,{"$f":"MAX(GT26:GT27)","v":0.6},{"$f":"VLOOKUP(GT31,GT26:GU27,2,FALSE)","v":"MS 2.5 ALT"},null,{"$f":"MAX(GW26:GW27)","v":0.6},{"$f":"VLOOKUP(GW31,GW26:GX27,2,FALSE)","v":"MS 2.5 UST"},null,{"$f":"MAX(GZ26:GZ27)","v":0.6},{"$f":"VLOOKUP(GZ31,GZ26:HA27,2,FALSE)","v":"MS 3.5 ALT"},null,{"$f":"MAX(HC26:HC27)","v":0.6},{"$f":"VLOOKUP(HC31,HC26:HD27,2,FALSE)","v":"MS 3.5 ALT"},null,null,null,null,null,null,{"$f":"Veri!C5","v":"Lugano"},{"$f":"Veri!G5","v":"Thun"},{"$f":"Veri!E5","v":"2-1"},{"$f":"Veri!D5","v":"2-1"},{"$f":"IF(HM31=0,\"\",MID(HM31,1,FIND(\"-\",HM31)-1))","v":"2"},{"$f":"IF(HM31=0,\"\",MID(HM31,FIND(\"-\",HM31)+1,10))","v":"1"},{"$f":"IF(HP31=\"\",\"\",HP31+0)","v":1},{"$f":"IF(HN31=0,\"\",MID(HN31,1,FIND(\"-\",HN31)-1))","v":"2"},{"$f":"IF(HN31=0,\"\",MID(HN31,FIND(\"-\",HN31)+1,10))","v":"1"},{"$f":"IF(HK31=$HK$28,\"EV\",\"DEP\")","v":"DEP"},{"$f":"IF(HT31=\"EV\",HO31,HP31)","v":"1"},{"$f":"IF(HT31=\"DEP\",HO31,HP31)","v":"2"},{"$f":"IF(HT31=\"EV\",HR31,HS31)","v":"1"},{"$f":"IF(HT31=\"DEP\",HR31,HS31)","v":"2"},null,null,null,null,null,null,null,null,null,null,null,null,null,null,null,null,null,null,null,null,null,null,null,null,null,null,null,null,null,null,null,null,null,null,null,null,null,null,null,null,null,null,null,null,null,null,null,null,null,null,null,null,null,null,"MS EV SAHIBI GOL YER MACA GORE",null,null,null,{"$f":"IN15","v":5},{"$f":"IF(KE31>KF24,IF(KE31<KG24,\"10\",\"0\"))","v":"0"},{"$f":"IF(KE31>KG24,IF(KE31<KH24,\"30\",\"0\"))","v":"0"},{"$f":"IF(KE31>KH24,IF(KE31<KI24,\"50\",\"0\"))","v":"0"},{"$f":"IF(KE31>KJ24,IF(KE31<KN24,\"70\",\"0\"))","v":"0"},{"$f":"IF(KE31>KN24,IF(KE31<KQ24,\"90\",\"0\"))","v":"90"},90,null,null,null,null,null,null,null,{"$f":"MAX(KS26:KS27)","v":1},{"$f":"VLOOKUP(KS31,KS26:KT27,2,FALSE)","v":"MS 1.5 UST"},null,{"$f":"MAX(KV26:KV27)","v":1},{"$f":"VLOOKUP(KV31,KV26:KW27,2,FALSE)","v":"MS 1.5 UST"},null,{"$f":"MAX(KY26:KY27)","v":0.6},{"$f":"VLOOKUP(KY31,KY26:KZ27,2,FALSE)","v":"MS 2.5 ALT"},null,{"$f":"MAX(LB26:LB27)","v":0.6},{"$f":"VLOOKUP(LB31,LB26:LC27,2,FALSE)","v":"MS 2.5 ALT"},null,{"$f":"MAX(LE26:LE27)","v":0.8},{"$f":"VLOOKUP(LE31,LE26:LF27,2,FALSE)","v":"MS 3.5 ALT"},null,{"$f":"MAX(LH26:LH27)","v":0.8},{"$f":"VLOOKUP(LH31,LH26:LI27,2,FALSE)","v":"MS 3.5 ALT"},null,null,null,null,null,null,null,{"$f":"LARGE(LQ14:LQ21,4)","v":0.8},{"$f":"VLOOKUP(LQ31,LQ14:LR23,2,)","v":"SON 5 MACIN  4   TANESI  MS 1,5 UST   BITTI"},null,null,null,null,null,null,{"$f":"LARGE(LY14:LY21,4)","v":0.4},{"$f":"VLOOKUP(LY31,LY14:LZ23,2,)","v":"SON 5 MACIN  4   TANESI  GOL ATTI"}]
[{"$f":"Veri!T7","v":"FC Sion"},{"$f":"Veri!X7","v":"Lugano"},{"$f":"Veri!V7","v":"1-1"},{"$f":"Veri!U7","v":"2-2"},"1","1",1,"2","2",{"$f":"IF(A32=$A$28,\"EV\",\"DEP\")","v":"DEP"},"1","1","2","2",null,null,null,null,null,null,null,null,null,null,null,null,null,null,null,null,null,null,null,null,null,null,null,null,null,null,null,null,null,null,null,null,null,null,null,null,null,null,null,null,null,null,null,null,null,null,null,null,null,null,null,null,null,null,"MS DEP GOL ATAR MACA GORE",null,null,null,{"$f":"BE15","v":6},{"$f":"IF(BU32>BV24,IF(BU32<BW24,\"10\",\"0\"))","v":"0"},{"$f":"IF(BU32>BW24,IF(BU32<BX24,\"30\",\"0\"))","v":"0"},{"$f":"IF(BU32>BX24,IF(BU32<BZ24,\"50\",\"0\"))","v":"0"},{"$f":"IF(BU32>BZ24,IF(BU32<CD24,\"70\",\"0\"))","v":"0"},{"$f":"IF(BU32>CD24,IF(BU32<CG24,\"90\",\"0\"))","v":"90"},90,null,"1,5 UST","3,5 ALT",null,null,null,null,null,{"$f":"IF(CJ31=CM31,CJ31,\"RISKLI\")","v":"MS 1.5 UST"},{"$f":"IF(CJ31=CM31,CK30,\"RISKLI\")","v":0.7},null,null,null,null,{"$f":"IF(CP31=CS31,CP31,\"RISKLI\")","v":"RISKLI"},{"$f":"IF(CP31=CS31,CQ30,\"RISKLI\")","v":"RISKLI"},null,null,null,null,{"$f":"IF(CV31=CY31,CV31,\"RISKLI\")","v":"MS 3.5 ALT"},{"$f":"IF(CV31=CY31,CW30,\"RISKLI\")","v":0.6},null,null,null,null,null,null,null,null,"FC Sion","Lugano","1-1","2-2","1","1",1,"2","2","DEP","1","1","2","2",null,null,null,null,null,null,null,null,null,null,null,null,null,null,null,null,null,null,null,null,null,null,null,null,null,null,null,null,null,null,null,null,null,null,null,null,null,null,null,null,null,null,null,null,null,null,null,null,null,null,null,null,null,null,"MS DEP GOL ATAR MACA GORE",null,null,null,{"$f":"FJ15","v":4},{"$f":"IF(FZ32>GA24,IF(FZ32<GB24,\"10\",\"0\"))","v":"0"},{"$f":"IF(FZ32>GB24,IF(FZ32<GC24,\"30\",\"0\"))","v":"0"},{"$f":"IF(FZ32>GC24,IF(FZ32<GE24,\"50\",\"0\"))","v":"0"},{"$f":"IF(FZ32>GE24,IF(FZ32<GI24,\"70\",\"0\"))","v":"0"},{"$f":"IF(FZ32>GI24,IF(FZ32<GL24,\"90\",\"0\"))","v":"90"},90,null,"1,5 UST","3,5 ALT",null,null,null,null,null,{"$f":"IF(GO31=GR31,GO31,\"RISKLI\")","v":"MS 1.5 UST"},{"$f":"IF(GO31=GR31,GP30,\"RISKLI\")","v":0.7},null,null,null,null,{"$f":"IF(GU31=GX31,GU31,\"RISKLI\")","v":"RISKLI"},{"$f":"IF(GU31=GX31,GV30,\"RISKLI\")","v":"RISKLI"},null,null,null,null,{"$f":"IF(HA31=HD31,HA31,\"RISKLI\")","v":"MS 3.5 ALT"},{"$f":"IF(HA31=HD31,HB30,\"RISKLI\")","v":0.6},null,null,null,null,null,null,null,null,{"$f":"Veri!C6","v":"Thun"},{"$f":"Veri!G6","v":"Lugano"},{"$f":"Veri!E6","v":"0-0"},{"$f":"Veri!D6","v":"1-1"},{"$f":"IF(HM32=0,\"\",MID(HM32,1,FIND(\"-\",HM32)-1))","v":"0"},{"$f":"IF(HM32=0,\"\",MID(HM32,FIND(\"-\",HM32)+1,10))","v":"0"},0,"1","1","DEP","0","0","1","1",null,null,null,null,null,null,null,null,null,null,null,null,null,null,null,null,null,null,null,null,null,null,null,null,null,null,null,null,null,null,null,null,null,null,null,null,null,null,null,null,null,null,null,null,null,null,null,null,null,null,null,null,null,null,"MS DEP GOL ATAR MACA GORE",null,null,null,{"$f":"JO15","v":5},{"$f":"IF(KE32>KF24,IF(KE32<KG24,\"10\",\"0\"))","v":"0"},{"$f":"IF(KE32>KG24,IF(KE32<KH24,\"30\",\"0\"))","v":"0"},{"$f":"IF(KE32>KH24,IF(KE32<KJ24,\"50\",\"0\"))","v":"0"},{"$f":"IF(KE32>KJ24,IF(KE32<KN24,\"70\",\"0\"))","v":"0"},{"$f":"IF(KE32>KN24,IF(KE32<KQ24,\"90\",\"0\"))","v":"90"},90,null,"1,5 UST","3,5 ALT",null,null,null,null,null,{"$f":"IF(KT31=KW31,KT31,\"RISKLI\")","v":"MS 1.5 UST"},{"$f":"IF(KT31=KW31,KU30,\"RISKLI\")","v":1},null,null,null,null,{"$f":"IF(KZ31=LC31,KZ31,\"RISKLI\")","v":"MS 2.5 ALT"},{"$f":"IF(KZ31=LC31,LA30,\"RISKLI\")","v":0.6},null,null,null,null,{"$f":"IF(LF31=LI31,LF31,\"RISKLI\")","v":"MS 3.5 ALT"},{"$f":"IF(LF31=LI31,LG30,\"RISKLI\")","v":0.8}]
[{"$f":"Veri!T8","v":"Lugano"},{"$f":"Veri!X8","v":"Thun"},{"$f":"Veri!V8","v":"0-1"},{"$f":"Veri!U8","v":"1-3"},"0","1",1,"1","3","DEP","1","0","3","1",null,null,null,null,null,null,null,null,null,null,null,null,null,null,null,null,null,null,null,null,null,null,null,null,null,null,null,null,null,null,null,null,null,null,null,null,null,null,null,null,null,null,null,null,null,null,null,null,null,null,null,null,null,null,"MS DEP GOL YER MACA GORE",null,null,null,{"$f":"BF15","v":7},{"$f":"IF(BU33>BV24,IF(BU33<BW24,\"10\",\"0\"))","v":"0"},{"$f":"IF(BU33>BW24,IF(BU33<BX24,\"30\",\"0\"))","v":"0"},{"$f":"IF(BU33>BX24,IF(BU33<BZ24,\"50\",\"0\"))","v":"0"},{"$f":"IF(BU33>BZ24,IF(BU33<CD24,\"70\",\"0\"))","v":"0"},{"$f":"IF(BU33>CD24,IF(BU33<CG24,\"90\",\"0\"))","v":"90"},90,null,null,null,null,null,null,null,null,null,null,null,null,null,null,null,null,null,null,null,null,null,null,null,null,null,null,null,null,null,null,"Lugano","Thun","0-1","1-3","0","1",1,"1","3","DEP","1","0","3","1",null,null,null,null,null,null,null,null,null,null,null,null,null,null,null,null,null,null,null,null,null,null,null,null,null,null,null,null,null,null,null,null,null,null,null,null,null,null,null,null,null,null,null,null,null,null,null,null,null,null,null,null,null,null,"MS DEP GOL YER MACA GORE",null,null,null,{"$f":"FK15","v":3},{"$f":"IF(FZ33>GA24,IF(FZ33<GB24,\"10\",\"0\"))","v":"0"},{"$f":"IF(FZ33>GB24,IF(FZ33<GC24,\"30\",\"0\"))","v":"0"},{"$f":"IF(FZ33>GC24,IF(FZ33<GE24,\"50\",\"0\"))","v":"0"},{"$f":"IF(FZ33>GE24,IF(FZ33<GI24,\"70\",\"0\"))","v":"70"},{"$f":"IF(FZ33>GI24,IF(FZ33<GL24,\"90\",\"0\"))","v":false},70,null,null,null,null,null,null,null,null,null,null,null,null,null,null,null,null,null,null,null,null,null,null,null,null,null,null,null,null,null,null,{"$f":"Veri!C7","v":"Lugano"},{"$f":"Veri!G7","v":"Thun"},{"$f":"Veri!E7","v":"1-0"},{"$f":"Veri!D7","v":"1-1"},"1","0",0,"1","1","DEP","0","1","1","1",null,null,null,null,null,null,null,null,null,null,null,null,null,null,null,null,null,null,null,null,null,null,null,null,null,null,null,null,null,null,null,null,null,null,null,null,null,null,null,null,null,null,null,null,null,null,null,null,null,null,null,null,null,null,"MS DEP GOL YER MACA GORE",null,null,null,{"$f":"JP15","v":4},{"$f":"IF(KE33>KF24,IF(KE33<KG24,\"10\",\"0\"))","v":"0"},{"$f":"IF(KE33>KG24,IF(KE33<KH24,\"30\",\"0\"))","v":"0"},{"$f":"IF(KE33>KH24,IF(KE33<KJ24,\"50\",\"0\"))","v":"0"},{"$f":"IF(KE33>KJ24,IF(KE33<KN24,\"70\",\"0\"))","v":"0"},{"$f":"IF(KE33>KN24,IF(KE33<KQ24,\"90\",\"0\"))","v":"90"},90]
[{"$f":"Veri!T9","v":"Lugano"},{"$f":"Veri!X9","v":"FC Wacker Innsbruck"},{"$f":"Veri!V9","v":"0-0"},{"$f":"Veri!U9","v":"1-0"},"0","0",0,"1","0","DEP","0","0","0","1",null,null,null,null,null,null,null,null,null,null,null,null,null,null,null,null,null,null,null,null,null,null,null,null,null,null,null,null,null,null,null,null,null,null,null,null,null,null,null,null,null,null,null,null,null,null,null,null,null,null,null,null,null,null,"EV MS SONUCUNA GORE TOPLAM GOL",null,null,null,{"$f":"Z15","v":4},{"$f":"IF(BU34>BV24,IF(BU34<BW24,\"10\",\"0\"))","v":"0"},{"$f":"IF(BU34>BW24,IF(BU34<BX24,\"30\",\"0\"))","v":"0"},{"$f":"IF(BU34>BX24,IF(BU34<BZ24,\"50\",\"0\"))","v":"0"},{"$f":"IF(BU34>BZ24,IF(BU34<CD24,\"70\",\"0\"))","v":"0"},{"$f":"IF(BU34>CD24,IF(BU34<CG24,\"90\",\"0\"))","v":"90"},90,null,null,null,null,null,null,null,null,null,null,null,null,null,null,null,null,null,null,null,null,null,null,null,null,null,null,null,null,null,null,"Lugano","FC Wacker Innsbruck","0-0","1-0","0","0",0,"1","0","DEP","0","0","0","1",null,null,null,null,null,null,null,null,null,null,null,null,null,null,null,null,null,null,null,null,null,null,null,null,null,null,null,null,null,null,null,null,null,null,null,null,null,null,null,null,null,null,null,null,null,null,null,null,null,null,null,null,null,null,"EV MS SONUCUNA GORE TOPLAM GOL",null,null,null,{"$f":"EE15","v":2},{"$f":"IF(FZ34>GA24,IF(FZ34<GB24,\"10\",\"0\"))","v":"0"},{"$f":"IF(FZ34>GB24,IF(FZ34<GC24,\"30\",\"0\"))","v":"0"},{"$f":"IF(FZ34>GC24,IF(FZ34<GE24,\"50\",\"0\"))","v":"50"},{"$f":"IF(FZ34>GE24,IF(FZ34<GI24,\"70\",\"0\"))","v":false},{"$f":"IF(FZ34>GI24,IF(FZ34<GL24,\"90\",\"0\"))","v":false},50,null,null,null,null,null,null,null,null,null,null,null,null,null,null,null,null,null,null,null,null,null,null,null,null,null,null,null,null,null,null,{"$f":"Veri!C8","v":"Thun"},{"$f":"Veri!G8","v":"Lugano"},{"$f":"Veri!E8","v":"0-0"},{"$f":"Veri!D8","v":"0-2"},"0","0",0,"0","2","DEP","0","0","2","0",null,null,null,null,null,null,null,null,null,null,null,null,null,null,null,null,null,null,null,null,null,null,null,null,null,null,null,null,null,null,null,null,null,null,null,null,null,null,null,null,null,null,null,null,null,null,null,null,null,null,null,null,null,null,"EV MS SONUCUNA GORE TOPLAM GOL",null,null,null,{"$f":"IJ15","v":2},{"$f":"IF(KE34>KF24,IF(KE34<KG24,\"10\",\"0\"))","v":"0"},{"$f":"IF(KE34>KG24,IF(KE34<KH24,\"30\",\"0\"))","v":"0"},{"$f":"IF(KE34>KH24,IF(KE34<KJ24,\"50\",\"0\"))","v":"50"},{"$f":"IF(KE34>KJ24,IF(KE34<KN24,\"70\",\"0\"))","v":false},{"$f":"IF(KE34>KN24,IF(KE34<KQ24,\"90\",\"0\"))","v":false},50]
[{"$f":"Veri!T10","v":"Hamburger SV"},{"$f":"Veri!X10","v":"Lugano"},{"$f":"Veri!V10","v":"0-0"},{"$f":"Veri!U10","v":"1-0"},"0","0",0,"1","0","DEP","0","0","0","1",null,null,null,null,null,null,null,null,null,null,null,null,null,null,null,null,null,null,null,null,null,null,null,null,null,null,null,null,null,null,null,null,null,null,null,null,null,null,null,null,null,null,null,null,null,null,null,null,null,null,null,null,null,null,"DEP MS SONUCUNA GORE TOPLAM GOL",null,null,null,{"$f":"BB15","v":6},{"$f":"IF(BU35>BV24,IF(BU35<BW24,\"10\",\"0\"))","v":"0"},{"$f":"IF(BU35>BW24,IF(BU35<BX24,\"30\",\"0\"))","v":"0"},{"$f":"IF(BU35>BX24,IF(BU35<BZ24,\"50\",\"0\"))","v":"0"},{"$f":"IF(BU35>BZ24,IF(BU35<CD24,\"70\",\"0\"))","v":"0"},{"$f":"IF(BU35>CD24,IF(BU35<CG24,\"90\",\"0\"))","v":"90"},90,null,null,null,"1,5 UST TAHMINI",null,null,null,"BAHIS YAP",null,{"$f":"AVERAGE(CK32,CA42)","v":0.6875},null,null,null,null,{"$f":"AVERAGE(CA42,CF42)","v":0.67500000000000004},null,null,null,null,null,{"$f":"AVERAGE(CW32,CA42)","v":0.63749999999999996},null,null,null,null,null,null,null,null,null,null,null,null,null,null,null,null,null,null,null,null,null,null,null,null,null,null,null,null,null,null,null,null,null,null,null,null,null,null,null,null,null,null,null,null,null,null,null,null,null,null,null,null,null,null,null,null,null,null,null,null,null,null,null,null,null,null,null,null,null,null,null,null,null,null,null,null,null,"DEP MS SONUCUNA GORE TOPLAM GOL",null,null,null,{"$f":"FG15","v":3},{"$f":"IF(FZ35>GA24,IF(FZ35<GB24,\"10\",\"0\"))","v":"0"},{"$f":"IF(FZ35>GB24,IF(FZ35<GC24,\"30\",\"0\"))","v":"0"},{"$f":"IF(FZ35>GC24,IF(FZ35<GE24,\"50\",\"0\"))","v":"0"},{"$f":"IF(FZ35>GE24,IF(FZ35<GI24,\"70\",\"0\"))","v":"70"},{"$f":"IF(FZ35>GI24,IF(FZ35<GL24,\"90\",\"0\"))","v":false},70,null,null,null,"1,5 UST TAHMINI",null,null,null,"BAHIS YAP",null,{"$f":"AVERAGE(GP32,GF42)","v":0.66666666666666663},null,null,null,null,{"$f":"AVERAGE(GF42,GK42)","v":0.6333333333333333},null,null,null,null,null,{"$f":"AVERAGE(HB32,GF42)","v":0.6166666666666667},null,null,null,null,null,null,null,null,null,null,null,null,null,null,null,null,null,null,null,null,null,null,null,null,null,null,null,null,null,null,null,null,null,null,null,null,null,null,null,null,null,null,null,null,null,null,null,null,null,null,null,null,null,null,null,null,null,null,null,null,null,null,null,null,null,null,null,null,null,null,null,null,null,null,null,null,null,"DEP MS SONUCUNA GORE TOPLAM GOL",null,null,null,{"$f":"JL15","v":2},{"$f":"IF(KE35>KF24,IF(KE35<KG24,\"10\",\"0\"))","v":"0"},{"$f":"IF(KE35>KG24,IF(KE35<KH24,\"30\",\"0\"))","v":"0"},{"$f":"IF(KE35>KH24,IF(KE35<KJ24,\"50\",\"0\"))","v":"50"},{"$f":"IF(KE35>KJ24,IF(KE35<KN24,\"70\",\"0\"))","v":false},{"$f":"IF(KE35>KN24,IF(KE35<KQ24,\"90\",\"0\"))","v":false},50,null,null,null,"1,5 UST TAHMINI",null,null,null,"BAHIS YAP",null,{"$f":"AVERAGE(KU32,KK42)","v":0.84166666666666656},null,null,null,null,{"$f":"AVERAGE(KK42,KP42)","v":0.68333333333333324},null,null,null,null,null,{"$f":"AVERAGE(LG32,KK42)","v":0.7416666666666667}]
[{"$f":"Veri!T11","v":"Lugano(N)"},{"$f":"Veri!X11","v":"Chiasso"},{"$f":"Veri!V11","v":"1-0"},{"$f":"Veri!U11","v":"3-0"},"1","0",0,"3","0","DEP","0","1","0","3",null,null,null,null,null,null,null,null,null,null,null,null,null,null,null,null,null,null,null,null,null,null,null,null,null,null,null,null,null,null,null,null,null,null,null,null,null,null,null,null,null,null,null,null,null,null,null,null,null,null,null,null,null,null,"EV MS TOPLAM GOL",null,null,null,{"$f":"V15","v":2.9},{"$f":"IF(BU36>BV24,IF(BU36<BW24,\"10\",\"0\"))","v":"0"},{"$f":"IF(BU36>BW24,IF(BU36<BX24,\"30\",\"0\"))","v":"0"},{"$f":"IF(BU36>BX24,IF(BU36<BY24,\"50\",\"0\"))","v":"0"},{"$f":"IF(BU36>BY24,IF(BU36<BZ24,\"70\",\"0\"))","v":"0"},{"$f":"IF(BU36>BZ24,IF(BU36<CB23,\"90\",\"0\"))","v":"90"},90,null,null,null,{"$f":"IF(CA41=CC40,CD32,IF(CA41=CD40,CD32,IF(CA41=CE40,CC32,IF(CA41=CF40,CC32))))","v":"1,5 UST"},null,null,null,"RISKLI",null,{"$f":"IF(CJ32=CA41,CI35,CJ32)","v":"MS 1.5 UST"},null,null,null,null,{"$f":"IF(CP32=CA41,CI35,CO32)","v":0},null,null,null,null,null,{"$f":"IF(CV32=CA41,CI35,CV32)","v":"MS 3.5 ALT"},null,null,null,null,null,null,null,null,null,null,null,null,null,null,null,null,null,null,null,null,null,null,null,null,null,null,null,null,null,null,null,null,null,null,null,null,null,null,null,null,null,null,null,null,null,null,null,null,null,null,null,null,null,null,null,null,null,null,null,null,null,null,null,null,null,null,null,null,null,null,null,null,null,null,null,null,null,"EV MS TOPLAM GOL",null,null,null,{"$f":"EA15","v":2.6},{"$f":"IF(FZ36>GA24,IF(FZ36<GB24,\"10\",\"0\"))","v":"0"},{"$f":"IF(FZ36>GB24,IF(FZ36<GC24,\"30\",\"0\"))","v":"0"},{"$f":"IF(FZ36>GC24,IF(FZ36<GD24,\"50\",\"0\"))","v":"0"},{"$f":"IF(FZ36>GD24,IF(FZ36<GE24,\"70\",\"0\"))","v":"0"},{"$f":"IF(FZ36>GE24,IF(FZ36<GG23,\"90\",\"0\"))","v":"90"},90,null,null,null,{"$f":"IF(GF41=GH40,GI32,IF(GF41=GI40,GI32,IF(GF41=GJ40,GH32,IF(GF41=GK40,GH32))))","v":"1,5 UST"},null,null,null,"RISKLI",null,{"$f":"IF(GO32=GF41,GN35,GO32)","v":"MS 1.5 UST"},null,null,null,null,{"$f":"IF(GU32=GF41,GN35,GT32)","v":0},null,null,null,null,null,{"$f":"IF(HA32=GF41,GN35,HA32)","v":"MS 3.5 ALT"},null,null,null,null,null,null,null,null,null,null,null,null,null,null,null,null,null,null,null,null,null,null,null,null,null,null,null,null,null,null,null,null,null,null,null,null,null,null,null,null,null,null,null,null,null,null,null,null,null,null,null,null,null,null,null,null,null,null,null,null,null,null,null,null,null,null,null,null,null,null,null,null,null,null,null,null,null,"EV MS TOPLAM GOL",null,null,null,{"$f":"IF15","v":2.6},{"$f":"IF(KE36>KF24,IF(KE36<KG24,\"10\",\"0\"))","v":"0"},{"$f":"IF(KE36>KG24,IF(KE36<KH24,\"30\",\"0\"))","v":"0"},{"$f":"IF(KE36>KH24,IF(KE36<KI24,\"50\",\"0\"))","v":"0"},{"$f":"IF(KE36>KI24,IF(KE36<KJ24,\"70\",\"0\"))","v":"0"},{"$f":"IF(KE36>KJ24,IF(KE36<KL23,\"90\",\"0\"))","v":"90"},90,null,null,null,{"$f":"IF(HU34=\"\",\"\",IF(KK41=KM40,KN32,IF(KK41=KN40,KN32,IF(KK41=KO40,KM32,IF(KK41=KP40,KM32)))))","v":"1,5 UST"},null,null,null,"RISKLI",null,{"$f":"IF(KT32=KK41,KS35,KT32)","v":"MS 1.5 UST"},null,null,null,null,{"$f":"IF(KZ32=KK41,KS35,KY32)","v":0},null,null,null,null,null,{"$f":"IF(LF32=KK41,KS35,LF32)","v":"MS 3.5 ALT"}]
[{"$f":"Veri!T12","v":"FC Zurich"},{"$f":"Veri!X12","v":"Lugano"},{"$f":"Veri!V12","v":"0-0"},{"$f":"Veri!U12","v":"0-0"},"0","0",0,"0","0","DEP","0","0","0","0",null,null,null,null,null,null,null,null,null,null,null,null,null,null,null,null,null,null,null,null,null,null,null,null,null,null,null,null,null,null,null,null,null,null,null,null,null,null,null,null,null,null,null,null,null,null,null,null,null,null,null,null,null,null,"DEP MS TOPLAM GOL",null,null,null,{"$f":"AX15","v":2.5},{"$f":"IF(BU37>BV24,IF(BU37<BW24,\"10\",\"0\"))","v":"0"},{"$f":"IF(BU37>BW24,IF(BU37<BX24,\"30\",\"0\"))","v":"0"},{"$f":"IF(BU37>BX24,IF(BU37<BY24,\"50\",\"0\"))","v":"0"},{"$f":"IF(BU37>BY24,IF(BU37<BZ24,\"70\",\"0\"))","v":"0"},{"$f":"IF(BU37>BZ24,IF(BU37<CB23,\"90\",\"0\"))","v":"90"},90,null,null,null,null,null,null,null,null,null,null,null,null,null,null,null,null,null,null,null,null,null,null,null,null,null,null,null,null,null,null,null,null,null,null,null,null,null,null,null,null,null,null,null,null,null,null,null,null,null,null,null,null,null,null,null,null,null,null,null,null,null,null,null,null,null,null,null,null,null,null,null,null,null,null,null,null,null,null,null,null,null,null,null,null,null,null,null,null,null,null,null,null,null,null,null,null,null,null,"DEP MS TOPLAM GOL",null,null,null,{"$f":"FC15","v":2.6},{"$f":"IF(FZ37>GA24,IF(FZ37<GB24,\"10\",\"0\"))","v":"0"},{"$f":"IF(FZ37>GB24,IF(FZ37<GC24,\"30\",\"0\"))","v":"0"},{"$f":"IF(FZ37>GC24,IF(FZ37<GD24,\"50\",\"0\"))","v":"0"},{"$f":"IF(FZ37>GD24,IF(FZ37<GE24,\"70\",\"0\"))","v":"0"},{"$f":"IF(FZ37>GE24,IF(FZ37<GG23,\"90\",\"0\"))","v":"90"},90,null,null,null,null,null,null,null,null,null,null,null,null,null,null,null,null,null,null,null,null,null,null,null,null,null,null,null,null,null,null,null,null,null,null,null,null,null,null,null,null,null,null,null,null,null,null,null,null,null,null,null,null,null,null,null,null,null,null,null,null,null,null,null,null,null,null,null,null,null,null,null,null,null,null,null,null,null,null,null,null,null,null,null,null,null,null,null,null,null,null,null,null,null,null,null,null,null,null,"DEP MS TOPLAM GOL",null,null,null,{"$f":"JH15","v":2.6},{"$f":"IF(KE37>KF24,IF(KE37<KG24,\"10\",\"0\"))","v":"0"},{"$f":"IF(KE37>KG24,IF(KE37<KH24,\"30\",\"0\"))","v":"0"},{"$f":"IF(KE37>KH24,IF(KE37<KI24,\"50\",\"0\"))","v":"0"},{"$f":"IF(KE37>KI24,IF(KE37<KJ24,\"70\",\"0\"))","v":"0"},{"$f":"IF(KE37>KJ24,IF(KE37<KL23,\"90\",\"0\"))","v":"90"},90]
[{"$f":"Veri!T13","v":"Lugano"},{"$f":"Veri!X13","v":"FC Sion"},{"$f":"Veri!V13","v":"1-1"},{"$f":"Veri!U13","v":"2-2"},"1","1",1,"2","2","DEP","1","1","2","2",null,null,null,null,null,null,null,null,null,null,null,null,null,null,null,null,null,null,null,null,null,null,null,null,null,null,null,null,null,null,null,null,null,null,null,null,null,null,null,null,null,null,null,null,null,null,null,null,null,null,null,null,null,null,null,null,null,null,null,null,null,null,null,null,{"$f":"CA26+CA27+CA28+CA29+CA30+CA31+CA32+CA33+CA34+CA35+CA36+CA37","v":810},null,null,null,null,null,null,null,null,null,null,null,null,null,null,null,null,null,null,null,null,null,null,null,null,null,null,null,null,null,null,null,null,null,null,null,null,null,null,null,null,null,null,null,null,null,null,null,null,null,null,null,null,null,null,null,null,null,null,null,null,null,null,null,null,null,null,null,null,null,null,null,null,null,null,null,null,null,null,null,null,null,null,null,null,null,null,null,null,null,null,null,null,null,null,null,null,null,null,null,null,null,null,null,null,null,null,null,null,{"$f":"GF26+GF27+GF28+GF29+GF30+GF31+GF32+GF33+GF34+GF35+GF36+GF37","v":760},null,null,null,null,null,null,null,null,null,null,null,null,null,null,null,null,null,null,null,null,null,null,null,null,null,null,null,null,null,null,null,null,null,null,null,null,null,null,null,null,null,null,null,null,null,null,null,null,null,null,null,null,null,null,null,null,null,null,null,null,null,null,null,null,null,null,null,null,null,null,null,null,null,null,null,null,null,null,null,null,null,null,null,null,null,null,null,null,null,null,null,null,null,null,null,null,null,null,null,null,null,null,null,null,null,null,null,null,{"$f":"KK26+KK27+KK28+KK29+KK30+KK31+KK32+KK33+KK34+KK35+KK36+KK37","v":820}]
[{"$f":"Veri!T14","v":"Lugano"},{"$f":"Veri!X14","v":"Neuchatel Xamax"},{"$f":"Veri!V14","v":"1-0"},{"$f":"Veri!U14","v":"2-2"},"1","0",0,"2","2",{"$f":"IF(A39=$A$28,\"EV\",\"DEP\")","v":"DEP"},"0","1","2","2",null,null,null,null,null,null,null,null,null,null,null,null,null,null,null,null,null,null,null,null,null,null,null,null,null,null,null,null,null,null,null,null,null,null,null,null,null,null,null,null,null,null,null,null,null,null,null,null,null,null,null,null,null,null,null,null,null,null,null,null,null,null,{"$f":"1-BZ39","v":0.32499999999999996},{"$f":"CA40/100","v":0.67500000000000004},null,null,null,null,null,null,null,null,null,null,null,null,"BAHIS",{"$f":"IF(CJ32=CA41,CI35,IF(CP32=CA41,CI35,IF(CV32=CA41,CI35,CI36)))","v":"RISKLI"},null,null,null,null,null,null,null,null,null,null,null,null,null,null,null,null,null,null,null,null,null,null,null,null,null,null,null,null,null,null,null,null,null,null,null,null,null,null,null,null,null,null,null,null,null,null,null,null,null,null,null,null,null,null,null,null,null,null,null,null,null,null,null,null,null,null,null,null,null,null,null,null,null,null,null,null,null,null,null,null,null,null,null,null,null,null,null,null,null,null,null,null,null,{"$f":"1-GE39","v":0.3666666666666667},{"$f":"GF40/100","v":0.6333333333333333},null,null,null,null,null,null,null,null,null,null,null,null,"BAHIS",{"$f":"IF(GO32=GF41,GN35,IF(GU32=GF41,GN35,IF(HA32=GF41,GN35,GN36)))","v":"RISKLI"},null,null,null,null,null,null,null,null,null,null,null,null,null,null,null,null,null,null,null,null,null,null,null,null,null,null,null,null,null,null,null,null,null,null,null,null,null,null,null,null,null,null,null,null,null,null,null,null,null,null,null,null,null,null,null,null,null,null,null,null,null,null,null,null,null,null,null,null,null,null,null,null,null,null,null,null,null,null,null,null,null,null,null,null,null,null,null,null,null,null,null,null,null,{"$f":"1-KJ39","v":0.31666666666666676},{"$f":"KK40/100","v":0.68333333333333324},null,null,null,null,null,null,null,null,null,null,null,null,"BAHIS",{"$f":"IF(KT32=KK41,KS35,IF(KZ32=KK41,KS35,IF(LF32=KK41,KS35,KS36)))","v":"RISKLI"}]
[null,null,null,null,null,null,null,null,null,null,null,null,null,null,null,null,null,null,null,null,null,null,null,null,null,null,null,null,null,null,null,null,null,null,null,null,null,null,null,null,null,null,null,null,null,null,null,null,null,null,null,null,null,null,null,null,null,null,null,null,null,null,null,null,null,null,null,null,null,null,null,0,25.77,59.9,90,100,null,null,{"$f":"AVERAGE(CA26:CA37)","v":67.5},null,"MS 1.5 ALT","MS 3.5 ALT","MS 2.5 UST","MS 3.5 UST",null,null,null,null,null,null,"GUVEN",{"$f":"IF(CK36=CN39,CK35,IF(CN39=CP36,CP35,IF(CN39=CV36,CV35,CI36)))","v":"RISKLI"},null,null,null,null,null,null,null,null,null,null,null,null,null,null,null,null,null,null,null,null,null,null,null,null,null,null,null,null,null,null,null,null,null,null,null,null,null,null,null,null,null,null,null,null,null,null,null,null,null,null,null,null,null,null,null,null,null,null,null,null,null,null,null,null,null,null,null,null,null,null,null,null,null,null,null,null,null,null,null,null,null,null,null,null,null,null,null,null,{"$f":"BT40","v":0},{"$f":"BU40","v":25.77},59.9,90,100,null,null,{"$f":"AVERAGE(GF26:GF37)","v":63.333333333333336},null,{"$f":"CC40","v":"MS 1.5 ALT"},{"$f":"CD40","v":"MS 3.5 ALT"},"MS 2.5 UST","MS 3.5 UST",null,null,null,null,null,null,"GUVEN",{"$f":"IF(GP36=GS39,GP35,IF(GS39=GU36,GU35,IF(GS39=HA36,HA35,GN36)))","v":"RISKLI"},null,null,null,null,null,null,null,null,null,null,null,null,null,null,null,null,null,null,null,null,null,null,null,null,null,null,null,null,null,null,null,null,null,null,null,null,null,null,null,null,null,null,null,null,null,null,null,null,null,null,null,null,null,null,null,null,null,null,null,null,null,null,null,null,null,null,null,null,null,null,null,null,null,null,null,null,null,null,null,null,null,null,null,null,null,null,null,null,{"$f":"FY40","v":0},{"$f":"FZ40","v":25.77},59.9,90,100,null,null,{"$f":"IF(HU34=\"\",\"\",AVERAGE(KK26:KK37))","v":68.333333333333329},null,{"$f":"GH40","v":"MS 1.5 ALT"},{"$f":"GI40","v":"MS 3.5 ALT"},"MS 2.5 UST","MS 3.5 UST",null,null,null,null,null,null,"GUVEN",{"$f":"IF(KU36=KX39,KU35,IF(KX39=KZ36,KZ35,IF(KX39=LF36,LF35,KS36)))","v":"RISKLI"}]
[null,null,null,null,null,null,null,null,null,null,null,null,null,null,null,null,null,null,null,null,null,null,null,null,null,null,null,null,null,null,null,null,null,null,null,null,null,null,null,null,null,null,null,null,null,null,null,null,null,null,null,null,null,null,null,null,null,null,null,null,null,null,null,null,null,null,null,null,null,null,null,null,null,null,null,null,null,null,{"$f":"IF(CA40>BT40,IF(CA40<BU40,CC40,IF(CA40>BU40,IF(CA40<BV40,CD40,IF(CA40>BV40,IF(CA40<BW40,CE40,IF(CA40>BW40,IF(CA40<BX40,CF40,CC36))))))))","v":"MS 2.5 UST"},null,null,null,null,null,null,null,null,null,null,null,null,null,null,null,null,null,null,null,null,null,null,null,null,null,null,null,null,null,null,null,null,null,null,null,null,null,null,null,null,null,null,null,null,null,null,null,null,null,null,null,null,null,null,null,null,null,null,null,null,null,null,null,null,null,null,null,null,null,null,null,null,null,null,null,null,null,null,null,null,null,null,null,null,null,null,null,null,null,null,null,null,null,null,null,null,null,null,null,null,null,null,null,null,null,null,null,null,{"$f":"IF(GF40>FY40,IF(GF40<FZ40,GH40,IF(GF40>FZ40,IF(GF40<GA40,GI40,IF(GF40>GA40,IF(GF40<GB40,GJ40,IF(GF40>GB40,IF(GF40<GC40,GK40,GH36))))))))","v":"MS 2.5 UST"},null,null,null,null,null,null,null,null,null,null,null,null,null,null,null,null,null,null,null,null,null,null,null,null,null,null,null,null,null,null,null,null,null,null,null,null,null,null,null,null,null,null,null,null,null,null,null,null,null,null,null,null,null,null,null,null,null,null,null,null,null,null,null,null,null,null,null,null,null,null,null,null,null,null,null,null,null,null,null,null,null,null,null,null,null,null,null,null,null,null,null,null,null,null,null,null,null,null,null,null,null,null,null,null,null,null,null,null,{"$f":"IF(HU34=\"\",\"\",IF(KK40>KD40,IF(KK40<KE40,KM40,IF(KK40>KE40,IF(KK40<KF40,KN40,IF(KK40>KF40,IF(KK40<KG40,KO40,IF(KK40>KG40,IF(KK40<KH40,KP40,KM36)))))))))","v":"MS 2.5 UST"}]
[null,null,null,null,null,null,null,null,null,null,null,null,null,null,null,null,null,null,null,null,null,null,null,null,null,null,null,null,null,null,null,null,null,null,null,null,null,null,null,null,null,null,null,null,null,null,null,null,null,null,null,null,null,null,null,null,null,null,null,null,null,null,null,null,null,null,null,null,null,null,null,null,null,null,null,null,null,null,{"$f":"IF(CA40>BT40,IF(CA40<BU40,BY39,IF(CA40>BU40,IF(CA40<BV40,BZ39,IF(CA40>BV40,IF(CA40<BW40,BZ39,IF(CA40>BW40,IF(CA40<BX40,0.4))))))))","v":0.67500000000000004},null,null,null,null,"BAHIS",{"$f":"CN39","v":"RISKLI"},null,null,null,null,null,null,null,null,null,null,null,null,null,null,null,null,null,null,null,null,null,null,null,null,null,null,null,null,null,null,null,null,null,null,null,null,null,null,null,null,null,null,null,null,null,null,null,null,null,null,null,null,null,null,null,null,null,null,null,null,null,null,null,null,null,null,null,null,null,null,null,null,null,null,null,null,null,null,null,null,null,null,null,null,null,null,null,null,null,null,null,null,null,null,null,null,null,null,null,null,null,null,{"$f":"IF(GF40>FY40,IF(GF40<FZ40,GD39,IF(GF40>FZ40,IF(GF40<GA40,GE39,IF(GF40>GA40,IF(GF40<GB40,GE39,IF(GF40>GB40,IF(GF40<GC40,0.4))))))))","v":0.6333333333333333},null,null,null,null,"BAHIS",{"$f":"GS39","v":"RISKLI"},null,null,null,null,null,null,null,null,null,null,null,null,null,null,null,null,null,null,null,null,null,null,null,null,null,null,null,null,null,null,null,null,null,null,null,null,null,null,null,null,null,null,null,null,null,null,null,null,null,null,null,null,null,null,null,null,null,null,null,null,null,null,null,null,null,null,null,null,null,null,null,null,null,null,null,null,null,null,null,null,null,null,null,null,null,null,null,null,null,null,null,null,null,null,null,null,null,null,null,null,null,null,{"$f":"IF(HU34=\"\",\"\",IF(KK40>KD40,IF(KK40<KE40,KI39,IF(KK40>KE40,IF(KK40<KF40,KJ39,IF(KK40>KF40,IF(KK40<KG40,KJ39,IF(KK40>KG40,IF(KK40<KH40,0.4)))))))))","v":0.68333333333333324},null,null,null,null,"BAHIS",{"$f":"IF(HU34=\"\",\"\",KX39)","v":"RISKLI"}]
[null,null,null,null,null,null,null,null,null,null,null,null,null,null,null,null,null,null,null,null,null,null,null,null,null,null,null,null,null,null,null,null,null,null,null,null,null,null,null,null,null,null,null,null,null,null,null,null,null,null,null,null,null,null,null,null,null,null,null,null,null,null,null,null,null,null,null,null,null,null,null,null,null,null,null,null,null,null,null,null,null,null,null,"GUVEN",{"$f":"CN40","v":"RISKLI"},null,null,null,null,null,null,null,null,null,null,null,null,null,null,null,null,null,null,null,null,null,null,null,null,null,null,null,null,null,null,null,null,null,null,null,null,null,null,null,null,null,null,null,null,null,null,null,null,null,null,null,null,null,null,null,null,null,null,null,null,null,null,null,null,null,null,null,null,null,null,null,null,null,null,null,null,null,null,null,null,null,null,null,null,null,null,null,null,null,null,null,null,null,null,null,null,null,null,null,null,null,null,null,null,null,null,null,"GUVEN",{"$f":"GS40","v":"RISKLI"},null,null,null,null,null,null,null,null,null,null,null,null,null,null,null,null,null,null,null,null,null,null,null,null,null,null,null,null,null,null,null,null,null,null,null,null,null,null,null,null,null,null,null,null,null,null,null,null,null,null,null,null,null,null,null,null,null,null,null,null,null,null,null,null,null,null,null,null,null,null,null,null,null,null,null,null,null,null,null,null,null,null,null,null,null,null,null,null,null,null,null,null,null,null,null,null,null,null,null,null,null,null,null,null,null,null,null,"GUVEN",{"$f":"IF(HU34=\"\",\"\",KX40)","v":"RISKLI"}]
[]
[]
[]
[null,null,null,null,null,null,null,null,null,null,null,null,null,null,null,null,null,null,null,null,null,null,null,null,null,null,null,null,null,null,null,null,null,null,null,null,null,null,null,null,null,null,null,null,null,null,null,null,null,null,null,null,null,null,null,null,null,null,null,null,null,null,null,null,null,null,null,null,null,null,null,null,null,null,null,null,null,null,null,10,null,null,null,null,null,null,null,null,null,null,null,null,null,null,null,null,null,null,null,null,null,null,null,null,null,null,null,null,null,null,null,null,null,null,null,null,null,null,null,null,null,null,null,null,null,null,null,null,null,null,null,null,null,null,null,null,null,null,null,null,null,null,null,null,null,null,null,null,null,null,null,null,null,null,null,null,null,null,null,null,null,null,null,null,null,null,null,null,null,null,null,null,null,null,null,null,null,null,null,null,null,null,null,null,null,null,null,null,{"$f":"CB47","v":10},null,null,null,null,null,null,null,null,null,null,null,null,null,null,null,null,null,null,null,null,null,null,null,null,null,null,null,null,null,null,null,null,null,null,null,null,null,null,null,null,null,null,null,null,null,null,null,null,null,null,null,null,null,null,null,null,null,null,null,null,null,null,null,null,null,null,null,null,null,null,null,null,null,null,null,null,null,null,null,null,null,null,null,null,null,null,null,null,null,null,null,null,null,null,null,null,null,null,null,null,null,null,null,null,null,null,null,null,{"$f":"GG47","v":10}]
[null,null,null,null,null,null,null,null,null,null,null,null,null,null,null,null,null,null,null,null,null,null,null,null,null,null,null,null,null,null,null,null,null,null,null,null,null,null,null,null,null,null,null,null,null,null,null,null,null,null,null,null,null,null,null,null,null,null,null,null,null,null,null,null,null,null,null,null,"KG VAR YOK ",null,null,null,null,-1,0.79,1.24,1.59,2.39,2.79,-1,1.9,3.9,5.9,7.9,22,null,"KG VAR YOK ",null,null,null,null,null,null,null,null,null,null,null,null,null,null,null,null,null,null,null,null,null,null,null,null,null,null,null,null,null,null,null,null,null,null,null,null,null,null,null,null,null,null,null,null,null,null,null,null,null,null,null,null,null,null,null,null,null,null,null,null,null,null,null,null,null,null,null,null,null,null,null,null,null,null,null,null,null,null,null,null,null,null,null,null,null,null,null,null,null,null,"KG VAR YOK ",null,null,null,null,{"$f":"BV48","v":-1},0.79,1.24,1.59,2.39,2.79,-1,1.9,3.9,5.9,7.9,22,null,"KG VAR YOK ",null,null,null,null,null,null,null,null,null,null,null,null,null,null,null,null,null,null,null,null,null,null,null,null,null,null,null,null,null,null,null,null,null,null,null,null,null,null,null,null,null,null,null,null,null,null,null,null,null,null,null,null,null,null,null,null,null,null,null,null,null,null,null,null,null,null,null,null,null,null,null,null,null,null,null,null,null,null,null,null,null,null,null,null,null,null,null,null,null,null,"KG VAR YOK ",null,null,null,null,{"$f":"GA48","v":-1},0.79,1.24,1.59,2.39,2.79,-1,1.9,3.9,5.9,7.9,22,null,"KG VAR YOK "]
[null,null,null,null,null,null,null,null,null,null,null,null,null,null,null,null,null,null,null,null,null,null,null,null,null,null,null,null,null,null,null,null,null,null,null,null,null,null,null,null,null,null,null,null,null,null,null,null,null,null,null,null,null,null,null,null,null,null,null,null,null,null,null,null,null,null,null,null,null,null,null,null,null,"0-20","20-40","40-60","60-80","80-100","TOPLAM",null,null,null,null,null,null,null,null,null,null,null,null,null,null,null,null,null,null,null,null,null,null,null,null,null,null,null,null,null,null,null,null,null,null,null,null,null,null,null,null,null,null,null,null,null,null,null,null,null,null,null,null,null,null,null,null,null,null,null,null,null,null,null,null,null,null,null,null,null,null,null,null,null,null,null,null,null,null,null,null,null,null,null,null,null,null,null,null,null,null,null,null,null,null,null,null,null,null,null,null,null,null,null,"0-20","20-40","40-60","60-80","80-100","TOPLAM",null,null,null,null,null,null,null,null,null,null,null,null,null,null,null,null,null,null,null,null,null,null,null,null,null,null,null,null,null,null,null,null,null,null,null,null,null,null,null,null,null,null,null,null,null,null,null,null,null,null,null,null,null,null,null,null,null,null,null,null,null,null,null,null,null,null,null,null,null,null,null,null,null,null,null,null,null,null,null,null,null,null,null,null,null,null,null,null,null,null,null,null,null,null,null,null,null,null,null,null,null,null,null,"0-20","20-40","40-60","60-80","80-100","TOPLAM"]
[null,null,null,null,null,null,null,null,null,{"$f":"COUNTIF(J30:J49,\"DEP\")","v":10},{"$f":"K30+K31+K32+K33+K34+K35+K36+K37+K38+K39+K40+K41+K42+K43+K44+K45+K46+K47+K48+K49","v":4},{"$f":"L30+L31+L32+L33+L34+L35+L36+L37+L38+L39+L40+L41+L42+L43+L44+L45+L46+L47+L48+L49","v":4},{"$f":"M30+M31+M32+M33+M34+M35+M36+M37+M38+M39+M40+M41+M42+M43+M44+M45+M46+M47+M48+M49","v":13},{"$f":"N30+N31+N32+N33+N34+N35+N36+N37+N38+N39+N40+N41+N42+N43+N44+N45+N46+N47+N48+N49","v":12},null,null,null,null,null,null,null,null,null,null,null,null,null,null,null,null,null,null,null,null,null,null,null,null,null,null,null,null,null,null,null,null,null,null,null,null,null,null,null,null,null,null,null,null,null,null,null,null,null,null,null,null,null,null,"EV SAHIBI GOL ATAR ORTALAMA",null,null,null,{"$f":"BU26","v":2.1},{"$f":"IF(BU50>BV48,IF(BU50<BW48,\"10\",\"0\"))","v":"0"},{"$f":"IF(BU50>BW48,IF(BU50<BX48,\"30\",\"0\"))","v":"0"},{"$f":"IF(BU50>BX48,IF(BU50<BY48,\"50\",\"0\"))","v":"0"},{"$f":"IF(BU50>BY48,IF(BU50<BZ48,\"70\",\"0\"))","v":"70"},{"$f":"IF(BU50>BZ48,IF(BU50<CA48,\"90\",\"0\"))","v":false},{"$f":"BV50+BW50+BX50+BY50+BZ50","v":70},null,null,null,null,null,null,null,null,null,null,{"$f":"CJ13","v":0.8},"KG VAR",null,{"$f":"CV13","v":0.6},"KG VAR",null,null,null,null,null,null,null,null,null,null,null,null,null,null,null,null,null,null,null,null,null,null,null,null,{"$f":"COUNTIF(DO30:DO49,\"DEP\")","v":5},{"$f":"DP30+DP31+DP32+DP33+DP34+DP35+DP36+DP37+DP38+DP39+DP40+DP41+DP42+DP43+DP44+DP45+DP46+DP47+DP48+DP49","v":3},{"$f":"DQ30+DQ31+DQ32+DQ33+DQ34+DQ35+DQ36+DQ37+DQ38+DQ39+DQ40+DQ41+DQ42+DQ43+DQ44+DQ45+DQ46+DQ47+DQ48+DQ49","v":1},{"$f":"DR30+DR31+DR32+DR33+DR34+DR35+DR36+DR37+DR38+DR39+DR40+DR41+DR42+DR43+DR44+DR45+DR46+DR47+DR48+DR49","v":9},{"$f":"DS30+DS31+DS32+DS33+DS34+DS35+DS36+DS37+DS38+DS39+DS40+DS41+DS42+DS43+DS44+DS45+DS46+DS47+DS48+DS49","v":4},null,null,null,null,null,null,null,null,null,null,null,null,null,null,null,null,null,null,null,null,null,null,null,null,null,null,null,null,null,null,null,null,null,null,null,null,null,null,null,null,null,null,null,null,null,null,null,null,null,null,null,null,null,null,"EV SAHIBI GOL ATAR ORTALAMA",null,null,null,{"$f":"FZ26","v":1.8},{"$f":"IF(FZ50>GA48,IF(FZ50<GB48,\"10\",\"0\"))","v":"0"},{"$f":"IF(FZ50>GB48,IF(FZ50<GC48,\"30\",\"0\"))","v":"0"},{"$f":"IF(FZ50>GC48,IF(FZ50<GD48,\"50\",\"0\"))","v":"0"},{"$f":"IF(FZ50>GD48,IF(FZ50<GE48,\"70\",\"0\"))","v":"70"},{"$f":"IF(FZ50>GE48,IF(FZ50<GF48,\"90\",\"0\"))","v":false},{"$f":"GA50+GB50+GC50+GD50+GE50","v":70},null,null,null,null,null,null,null,null,null,null,{"$f":"GO13","v":0.8},"KG VAR",null,{"$f":"HA13","v":0.6},"KG VAR",null,null,null,null,null,null,null,null,null,null,null,null,null,null,null,null,null,null,null,null,null,null,null,null,{"$f":"COUNTIF(HT30:HT49,\"DEP\")","v":5},{"$f":"HU30+HU31+HU32+HU33+HU34+HU35+HU36+HU37+HU38+HU39+HU40+HU41+HU42+HU43+HU44+HU45+HU46+HU47+HU48+HU49","v":2},{"$f":"HV30+HV31+HV32+HV33+HV34+HV35+HV36+HV37+HV38+HV39+HV40+HV41+HV42+HV43+HV44+HV45+HV46+HV47+HV48+HV49","v":3},{"$f":"HW30+HW31+HW32+HW33+HW34+HW35+HW36+HW37+HW38+HW39+HW40+HW41+HW42+HW43+HW44+HW45+HW46+HW47+HW48+HW49","v":8},{"$f":"HX30+HX31+HX32+HX33+HX34+HX35+HX36+HX37+HX38+HX39+HX40+HX41+HX42+HX43+HX44+HX45+HX46+HX47+HX48+HX49","v":5},null,null,null,null,null,null,null,null,null,null,null,null,null,null,null,null,null,null,null,null,null,null,null,null,null,null,null,null,null,null,null,null,null,null,null,null,null,null,null,null,null,null,null,null,null,null,null,null,null,null,null,null,null,null,"EV SAHIBI GOL ATAR ORTALAMA",null,null,null,{"$f":"KE26","v":1.2},{"$f":"IF(KE50>KF48,IF(KE50<KG48,\"10\",\"0\"))","v":"0"},{"$f":"IF(KE50>KG48,IF(KE50<KH48,\"30\",\"0\"))","v":"30"},{"$f":"IF(KE50>KH48,IF(KE50<KI48,\"50\",\"0\"))","v":false},{"$f":"IF(KE50>KI48,IF(KE50<KJ48,\"70\",\"0\"))","v":false},{"$f":"IF(KE50>KJ48,IF(KE50<KK48,\"90\",\"0\"))","v":false},{"$f":"KF50+KG50+KH50+KI50+KJ50","v":30},null,null,null,null,null,null,null,null,null,null,{"$f":"KT13","v":1},"KG VAR",null,{"$f":"LF13","v":1},"KG VAR"]
[null,null,null,null,null,null,null,null,null,null,{"$f":"K50/10","v":0.4},{"$f":"L50/10","v":0.4},{"$f":"M50/10","v":1.3},{"$f":"N50/10","v":1.2},null,null,null,null,null,null,null,null,null,null,null,null,null,null,null,null,null,null,null,null,null,null,null,null,null,null,null,null,null,null,null,null,null,null,null,null,null,null,null,null,null,null,null,null,null,null,null,null,null,null,null,null,null,null,"EV SAHIBI GOL YER ORTALAMA",null,null,null,{"$f":"BU27","v":0.8},{"$f":"IF(BU51>BV48,IF(BU51<BW48,\"10\",\"0\"))","v":"0"},{"$f":"IF(BU51>BW48,IF(BU51<BX48,\"30\",\"0\"))","v":"30"},{"$f":"IF(BU51>BX48,IF(BU51<BY48,\"50\",\"0\"))","v":false},{"$f":"IF(BU51>BY48,IF(BU51<BZ48,\"70\",\"0\"))","v":false},{"$f":"IF(BU51>BZ48,IF(BU51<CB47,\"90\",\"0\"))","v":false},30,null,null,null,null,null,null,null,null,null,null,{"$f":"CL13","v":0.19999999999999996},"KG YOK",null,{"$f":"CX13","v":0.4},"KG YOK",null,null,null,null,null,null,null,null,null,null,null,null,null,null,null,null,null,null,null,null,null,null,null,null,null,{"$f":"DP50/5","v":0.6},{"$f":"DQ50/5","v":0.2},1.8,0.8,null,null,null,null,null,null,null,null,null,null,null,null,null,null,null,null,null,null,null,null,null,null,null,null,null,null,null,null,null,null,null,null,null,null,null,null,null,null,null,null,null,null,null,null,null,null,null,null,null,null,null,null,null,null,"EV SAHIBI GOL YER ORTALAMA",null,null,null,{"$f":"FZ27","v":0.8},{"$f":"IF(FZ51>GA48,IF(FZ51<GB48,\"10\",\"0\"))","v":"0"},{"$f":"IF(FZ51>GB48,IF(FZ51<GC48,\"30\",\"0\"))","v":"30"},{"$f":"IF(FZ51>GC48,IF(FZ51<GD48,\"50\",\"0\"))","v":false},{"$f":"IF(FZ51>GD48,IF(FZ51<GE48,\"70\",\"0\"))","v":false},{"$f":"IF(FZ51>GE48,IF(FZ51<GG47,\"90\",\"0\"))","v":false},30,null,null,null,null,null,null,null,null,null,null,{"$f":"GQ13","v":0.19999999999999996},"KG YOK",null,{"$f":"HC13","v":0.4},"KG YOK",null,null,null,null,null,null,null,null,null,null,null,null,null,null,null,null,null,null,null,null,null,null,null,null,null,{"$f":"HU50/5","v":0.4},{"$f":"HV50/5","v":0.6},{"$f":"HW50/5","v":1.6},{"$f":"HX50/5","v":1},null,null,null,null,null,null,null,null,null,null,null,null,null,null,null,null,null,null,null,null,null,null,null,null,null,null,null,null,null,null,null,null,null,null,null,null,null,null,null,null,null,null,null,null,null,null,null,null,null,null,null,null,null,null,"EV SAHIBI GOL YER ORTALAMA",null,null,null,{"$f":"KE27","v":1.4},{"$f":"IF(KE51>KF48,IF(KE51<KG48,\"10\",\"0\"))","v":"0"},{"$f":"IF(KE51>KG48,IF(KE51<KH48,\"30\",\"0\"))","v":"0"},{"$f":"IF(KE51>KH48,IF(KE51<KI48,\"50\",\"0\"))","v":"50"},{"$f":"IF(KE51>KI48,IF(KE51<KJ48,\"70\",\"0\"))","v":false},{"$f":"IF(KE51>KJ48,IF(KE51<KL47,\"90\",\"0\"))","v":false},50,null,null,null,null,null,null,null,null,null,null,{"$f":"KV13","v":0},"KG YOK",null,{"$f":"LH13","v":0},"KG YOK"]
[null,null,null,null,null,null,null,null,null,null,null,null,null,null,null,null,null,null,null,null,null,null,null,null,null,null,null,null,null,null,null,null,null,null,null,null,null,null,null,null,null,null,null,null,null,null,null,null,null,null,null,null,null,null,null,null,null,null,null,null,null,null,null,null,null,null,null,null,"DEP GOL ATAR ORTALAMA",null,null,null,1.3,{"$f":"IF(BU52>BV48,IF(BU52<BW48,\"10\",\"0\"))","v":"0"},{"$f":"IF(BU52>BW48,IF(BU52<BX48,\"30\",\"0\"))","v":"0"},{"$f":"IF(BU52>BX48,IF(BU52<BY48,\"50\",\"0\"))","v":"50"},{"$f":"IF(BU52>BY48,IF(BU52<BZ48,\"70\",\"0\"))","v":false},{"$f":"IF(BU52>BZ48,IF(BU52<CB47,\"90\",\"0\"))","v":false},50,null,null,null,null,null,null,null,null,null,null,null,null,null,null,null,null,null,null,null,null,null,null,null,null,null,null,null,null,null,null,null,null,null,null,null,null,null,null,null,null,null,null,null,null,null,null,null,null,null,null,null,null,null,null,null,null,null,null,null,null,null,null,null,null,null,null,null,null,null,null,null,null,null,null,null,null,null,null,null,null,null,null,null,null,null,null,null,null,null,null,null,null,null,null,null,null,null,null,"DEP GOL ATAR ORTALAMA",null,null,null,1.8,{"$f":"IF(FZ52>GA48,IF(FZ52<GB48,\"10\",\"0\"))","v":"0"},{"$f":"IF(FZ52>GB48,IF(FZ52<GC48,\"30\",\"0\"))","v":"0"},{"$f":"IF(FZ52>GC48,IF(FZ52<GD48,\"50\",\"0\"))","v":"0"},{"$f":"IF(FZ52>GD48,IF(FZ52<GE48,\"70\",\"0\"))","v":"70"},{"$f":"IF(FZ52>GE48,IF(FZ52<GG47,\"90\",\"0\"))","v":false},70,null,null,null,null,null,null,null,null,null,null,null,null,null,null,null,null,null,null,null,null,null,null,null,null,null,null,null,null,null,null,null,null,null,null,null,null,null,null,null,null,null,null,null,null,null,null,null,null,null,null,null,null,null,null,null,null,null,null,null,null,null,null,null,null,null,null,null,null,null,null,null,null,null,null,null,null,null,null,null,null,null,null,null,null,null,null,null,null,null,null,null,null,null,null,null,null,null,null,"DEP GOL ATAR ORTALAMA",null,null,null,1.6,{"$f":"IF(KE52>KF48,IF(KE52<KG48,\"10\",\"0\"))","v":"0"},{"$f":"IF(KE52>KG48,IF(KE52<KH48,\"30\",\"0\"))","v":"0"},{"$f":"IF(KE52>KH48,IF(KE52<KI48,\"50\",\"0\"))","v":"0"},{"$f":"IF(KE52>KI48,IF(KE52<KJ48,\"70\",\"0\"))","v":"70"},{"$f":"IF(KE52>KJ48,IF(KE52<KL47,\"90\",\"0\"))","v":false},70]
[null,null,null,null,null,null,null,null,null,null,null,null,null,null,null,null,null,null,null,null,null,null,null,null,null,null,null,null,null,null,null,null,null,null,null,null,null,null,null,null,null,null,null,null,null,null,null,null,null,null,null,null,null,null,null,null,null,null,null,null,null,null,null,null,null,null,null,null,"DEP GOL YER ORTALAMA",null,null,null,1.2,{"$f":"IF(BU53>BV48,IF(BU53<BW48,\"10\",\"0\"))","v":"0"},{"$f":"IF(BU53>BW48,IF(BU53<BX48,\"30\",\"0\"))","v":"30"},{"$f":"IF(BU53>BX48,IF(BU53<BY48,\"50\",\"0\"))","v":false},{"$f":"IF(BU53>BY48,IF(BU53<BZ48,\"70\",\"0\"))","v":false},{"$f":"IF(BU53>BZ48,IF(BU53<CB47,\"90\",\"0\"))","v":false},30,null,null,null,null,null,null,null,null,null,null,null,null,null,null,null,null,null,null,null,null,null,null,null,null,null,null,null,null,null,null,null,null,null,null,null,null,null,null,null,null,null,null,null,null,null,null,null,null,null,null,null,null,null,null,null,null,null,null,null,null,null,null,null,null,null,null,null,null,null,null,null,null,null,null,null,null,null,null,null,null,null,null,null,null,null,null,null,null,null,null,null,null,null,null,null,null,null,null,"DEP GOL YER ORTALAMA",null,null,null,0.8,{"$f":"IF(FZ53>GA48,IF(FZ53<GB48,\"10\",\"0\"))","v":"0"},{"$f":"IF(FZ53>GB48,IF(FZ53<GC48,\"30\",\"0\"))","v":"30"},{"$f":"IF(FZ53>GC48,IF(FZ53<GD48,\"50\",\"0\"))","v":false},{"$f":"IF(FZ53>GD48,IF(FZ53<GE48,\"70\",\"0\"))","v":false},{"$f":"IF(FZ53>GE48,IF(FZ53<GG47,\"90\",\"0\"))","v":false},30,null,null,null,null,null,null,null,null,null,null,null,null,null,null,null,null,null,null,null,null,null,null,null,null,null,null,null,null,null,null,null,null,null,null,null,null,null,null,null,null,null,null,null,null,null,null,null,null,null,null,null,null,null,null,null,null,null,null,null,null,null,null,null,null,null,null,null,null,null,null,null,null,null,null,null,null,null,null,null,null,null,null,null,null,null,null,null,null,null,null,null,null,null,null,null,null,null,null,"DEP GOL YER ORTALAMA",null,null,null,1,{"$f":"IF(KE53>KF48,IF(KE53<KG48,\"10\",\"0\"))","v":"0"},{"$f":"IF(KE53>KG48,IF(KE53<KH48,\"30\",\"0\"))","v":"30"},{"$f":"IF(KE53>KH48,IF(KE53<KI48,\"50\",\"0\"))","v":false},{"$f":"IF(KE53>KI48,IF(KE53<KJ48,\"70\",\"0\"))","v":false},{"$f":"IF(KE53>KJ48,IF(KE53<KL47,\"90\",\"0\"))","v":false},30]
[null,null,null,null,null,null,null,null,null,null,null,null,null,null,null,null,null,null,null,null,null,null,null,null,null,null,null,null,null,null,null,null,null,null,null,null,null,null,null,null,null,null,null,null,null,null,null,null,null,null,null,null,null,null,null,null,null,null,null,null,null,null,null,null,null,null,null,null,"EV SAHIBI GOL ATAR MACA GORE",null,null,null,10,{"$f":"IF(BU54>CB48,IF(BU54<CC48,\"10\",\"0\"))","v":"0"},{"$f":"IF(BU54>CC48,IF(BU54<CD48,\"30\",\"0\"))","v":"0"},{"$f":"IF(BU54>CD48,IF(BU54<CE48,\"50\",\"0\"))","v":"0"},{"$f":"IF(BU54>CE48,IF(BU54<CF48,\"70\",\"0\"))","v":"0"},{"$f":"IF(BU54>CF48,IF(BU54<CG48,\"90\",\"0\"))","v":"90"},90,null,null,null,null,null,null,null,"BAHIS YAP",null,null,null,null,{"$f":"AVERAGE(CL55,CO55)","v":0.7},{"$f":"AVERAGE(BY58,CN54)","v":0.7},null,null,null,null,null,null,null,null,null,null,null,null,null,null,null,null,null,null,null,null,null,null,null,null,null,null,null,null,null,null,null,null,null,null,null,null,null,null,null,null,null,null,null,null,null,null,null,null,null,null,null,null,null,null,null,null,null,null,null,null,null,null,null,null,null,null,null,null,null,null,null,null,null,null,null,null,null,null,null,null,null,null,null,null,"EV SAHIBI GOL ATAR MACA GORE",null,null,null,5,{"$f":"IF(FZ54>GG48,IF(FZ54<GH48,\"10\",\"0\"))","v":"0"},{"$f":"IF(FZ54>GH48,IF(FZ54<GI48,\"30\",\"0\"))","v":"0"},{"$f":"IF(FZ54>GI48,IF(FZ54<GJ48,\"50\",\"0\"))","v":"50"},{"$f":"IF(FZ54>GJ48,IF(FZ54<GK48,\"70\",\"0\"))","v":false},{"$f":"IF(FZ54>GK48,IF(FZ54<GL48,\"90\",\"0\"))","v":false},50,null,null,null,null,null,null,null,"BAHIS YAP",null,null,null,null,{"$f":"AVERAGE(GQ55,GT55)","v":0.7},{"$f":"AVERAGE(GD58,GS54)","v":0.7},null,null,null,null,null,null,null,null,null,null,null,null,null,null,null,null,null,null,null,null,null,null,null,null,null,null,null,null,null,null,null,null,null,null,null,null,null,null,null,null,null,null,null,null,null,null,null,null,null,null,null,null,null,null,null,null,null,null,null,null,null,null,null,null,null,null,null,null,null,null,null,null,null,null,null,null,null,null,null,null,null,null,null,null,"EV SAHIBI GOL ATAR MACA GORE",null,null,null,4,{"$f":"IF(KE54>KL48,IF(KE54<KM48,\"10\",\"0\"))","v":"0"},{"$f":"IF(KE54>KM48,IF(KE54<KN48,\"30\",\"0\"))","v":"0"},{"$f":"IF(KE54>KN48,IF(KE54<KO48,\"50\",\"0\"))","v":"50"},{"$f":"IF(KE54>KO48,IF(KE54<KP48,\"70\",\"0\"))","v":false},{"$f":"IF(KE54>KP48,IF(KE54<KQ48,\"90\",\"0\"))","v":false},50,null,null,null,null,null,null,null,"BAHIS YAP",null,null,null,null,{"$f":"AVERAGE(KV55,KY55)","v":1},{"$f":"AVERAGE(KI58,KX54)","v":1}]
[null,null,null,null,"0","1","2","3","4","5",null,null,null,null,null,null,null,null,null,null,null,null,null,null,null,null,null,null,null,null,null,null,null,null,null,null,null,null,null,null,null,null,null,null,null,null,null,null,null,null,null,null,null,null,null,null,null,null,null,null,null,null,null,null,null,null,null,null,"EV SAHIBI GOL YER MACA GORE",null,null,null,6,{"$f":"IF(BU55>CB48,IF(BU55<CC48,\"10\",\"0\"))","v":"0"},{"$f":"IF(BU55>CC48,IF(BU55<CD48,\"30\",\"0\"))","v":"0"},{"$f":"IF(BU55>CD48,IF(BU55<CE48,\"50\",\"0\"))","v":"0"},{"$f":"IF(BU55>CE48,IF(BU55<CF48,\"70\",\"0\"))","v":"70"},{"$f":"IF(BU55>CF48,IF(BU55<CG48,\"90\",\"0\"))","v":false},70,null,null,null,null,null,null,null,"RISKLI",null,null,{"$f":"MAX(CL50:CL51)","v":0.8},{"$f":"VLOOKUP(CL55,CL50:CM51,2,FALSE)","v":"KG VAR"},null,{"$f":"MAX(CO50:CO51)","v":0.6},{"$f":"VLOOKUP(CO55,CO50:CP51,2,FALSE)","v":"KG VAR"},null,null,null,null,null,null,null,null,null,null,null,null,null,null,null,null,null,null,null,"0","1","2","3","4","5",null,null,null,null,null,null,null,null,null,null,null,null,null,null,null,null,null,null,null,null,null,null,null,null,null,null,null,null,null,null,null,null,null,null,null,null,null,null,null,null,null,null,null,null,null,null,null,null,null,null,null,null,null,null,null,null,null,null,"EV SAHIBI GOL YER MACA GORE",null,null,null,0,{"$f":"IF(FZ55>GG48,IF(FZ55<GH48,\"10\",\"0\"))","v":"10"},{"$f":"IF(FZ55>GH48,IF(FZ55<GI48,\"30\",\"0\"))","v":false},{"$f":"IF(FZ55>GI48,IF(FZ55<GJ48,\"50\",\"0\"))","v":false},{"$f":"IF(FZ55>GJ48,IF(FZ55<GK48,\"70\",\"0\"))","v":false},{"$f":"IF(FZ55>GK48,IF(FZ55<GL48,\"90\",\"0\"))","v":false},10,null,null,null,null,null,null,null,"RISKLI",null,null,{"$f":"MAX(GQ50:GQ51)","v":0.8},{"$f":"VLOOKUP(GQ55,GQ50:GR51,2,FALSE)","v":"KG VAR"},null,{"$f":"MAX(GT50:GT51)","v":0.6},{"$f":"VLOOKUP(GT55,GT50:GU51,2,FALSE)","v":"KG VAR"},null,null,null,null,null,null,null,null,null,null,null,null,null,null,null,null,null,null,null,"0","1","2","3","4","5",null,null,null,null,null,null,null,null,null,null,null,null,null,null,null,null,null,null,null,null,null,null,null,null,null,null,null,null,null,null,null,null,null,null,null,null,null,null,null,null,null,null,null,null,null,null,null,null,null,null,null,null,null,null,null,null,null,null,"EV SAHIBI GOL YER MACA GORE",null,null,null,5,{"$f":"IF(KE55>KL48,IF(KE55<KM48,\"10\",\"0\"))","v":"0"},{"$f":"IF(KE55>KM48,IF(KE55<KN48,\"30\",\"0\"))","v":"0"},{"$f":"IF(KE55>KN48,IF(KE55<KO48,\"50\",\"0\"))","v":"50"},{"$f":"IF(KE55>KO48,IF(KE55<KP48,\"70\",\"0\"))","v":false},{"$f":"IF(KE55>KP48,IF(KE55<KQ48,\"90\",\"0\"))","v":false},50,null,null,null,null,null,null,null,"RISKLI",null,null,{"$f":"MAX(KV50:KV51)","v":1},{"$f":"VLOOKUP(KV55,KV50:KW51,2,FALSE)","v":"KG VAR"},null,{"$f":"MAX(KY50:KY51)","v":1},{"$f":"VLOOKUP(KY55,KY50:KZ51,2,FALSE)","v":"KG VAR"}]
[null,null,null,null,null,null,null,null,null,null,"SKOR TAHMINI",null,null,null,null,null,null,null,null,null,null,null,null,null,null,null,null,null,null,null,null,null,null,null,null,null,null,null,null,null,null,null,null,null,null,null,null,null,null,null,null,null,null,null,null,null,null,null,null,null,null,null,null,null,null,null,null,null,"DEP GOL ATAR MACA GORE",null,null,null,6,{"$f":"IF(BU56>CB48,IF(BU56<CC48,\"10\",\"0\"))","v":"0"},{"$f":"IF(BU56>CC48,IF(BU56<CD48,\"30\",\"0\"))","v":"0"},{"$f":"IF(BU56>CD48,IF(BU56<CE48,\"50\",\"0\"))","v":"0"},{"$f":"IF(BU56>CE48,IF(BU56<CF48,\"70\",\"0\"))","v":"70"},{"$f":"IF(BU56>CF48,IF(BU56<CG48,\"90\",\"0\"))","v":false},70,null,null,null,null,null,null,null,null,null,null,null,{"$f":"IF(CM55=CP55,CM55,\"RISKLI\")","v":"KG VAR"},{"$f":"IF(CM55=CP55,CN54,\"RISKLI\")","v":0.7},null,null,null,null,null,null,null,null,null,null,null,null,null,null,null,null,null,null,null,null,null,null,null,null,null,null,null,"SKOR TAHMINI",null,null,null,null,null,null,null,null,null,null,null,null,null,null,null,null,null,null,null,null,null,null,null,null,null,null,null,null,null,null,null,null,null,null,null,null,null,null,null,null,null,null,null,null,null,null,null,null,null,null,null,null,null,null,null,null,null,"DEP GOL ATAR MACA GORE",null,null,null,4,{"$f":"IF(FZ56>GG48,IF(FZ56<GH48,\"10\",\"0\"))","v":"0"},{"$f":"IF(FZ56>GH48,IF(FZ56<GI48,\"30\",\"0\"))","v":"0"},{"$f":"IF(FZ56>GI48,IF(FZ56<GJ48,\"50\",\"0\"))","v":"50"},{"$f":"IF(FZ56>GJ48,IF(FZ56<GK48,\"70\",\"0\"))","v":false},{"$f":"IF(FZ56>GK48,IF(FZ56<GL48,\"90\",\"0\"))","v":false},50,null,null,null,null,null,null,null,null,null,null,null,{"$f":"IF(GR55=GU55,GR55,\"RISKLI\")","v":"KG VAR"},{"$f":"IF(GR55=GU55,GS54,\"RISKLI\")","v":0.7},null,null,null,null,null,null,null,null,null,null,null,null,null,null,null,null,null,null,null,null,null,null,null,null,null,null,null,"SKOR TAHMINI",null,null,null,null,null,null,null,null,null,null,null,null,null,null,null,null,null,null,null,null,null,null,null,null,null,null,null,null,null,null,null,null,null,null,null,null,null,null,null,null,null,null,null,null,null,null,null,null,null,null,null,null,null,null,null,null,null,"DEP GOL ATAR MACA GORE",null,null,null,5,{"$f":"IF(KE56>KL48,IF(KE56<KM48,\"10\",\"0\"))","v":"0"},{"$f":"IF(KE56>KM48,IF(KE56<KN48,\"30\",\"0\"))","v":"0"},{"$f":"IF(KE56>KN48,IF(KE56<KO48,\"50\",\"0\"))","v":"50"},{"$f":"IF(KE56>KO48,IF(KE56<KP48,\"70\",\"0\"))","v":false},{"$f":"IF(KE56>KP48,IF(KE56<KQ48,\"90\",\"0\"))","v":false},50,null,null,null,null,null,null,null,null,null,null,null,{"$f":"IF(KW55=KZ55,KW55,\"RISKLI\")","v":"KG VAR"},{"$f":"IF(KW55=KZ55,KX54,\"RISKLI\")","v":1}]
[null,null,null,null,"0","0.69","1.22","2.19","3.19","9.99","IY",null,"MS",null,null,null,null,null,null,null,null,null,null,null,null,null,null,null,null,null,null,null,null,null,null,null,null,null,null,null,null,null,null,null,null,null,null,null,null,null,null,null,null,null,null,null,null,null,null,null,null,null,null,null,null,null,null,null,"DEP GOL YER MACA GORE",null,null,null,7,{"$f":"IF(BU57>CB48,IF(BU57<CC48,\"10\",\"0\"))","v":"0"},{"$f":"IF(BU57>CC48,IF(BU57<CD48,\"30\",\"0\"))","v":"0"},{"$f":"IF(BU57>CD48,IF(BU57<CE48,\"50\",\"0\"))","v":"0"},{"$f":"IF(BU57>CE48,IF(BU57<CF48,\"70\",\"0\"))","v":"70"},{"$f":"IF(BU57>CF48,IF(BU57<CG48,\"90\",\"0\"))","v":false},70,null,null,null,null,null,null,null,null,null,null,null,null,null,null,null,null,null,null,null,null,null,null,null,null,null,null,null,null,null,null,null,null,null,null,"0","0.69","1.22","2.19","3.19","9.99","IY",null,"MS",null,null,null,null,null,null,null,null,null,null,null,null,null,null,null,null,null,null,null,null,null,null,null,null,null,null,null,null,null,null,null,null,null,null,null,null,null,null,null,null,null,null,null,null,null,null,null,null,null,null,null,null,null,null,null,"DEP GOL YER MACA GORE",null,null,null,3,{"$f":"IF(FZ57>GG48,IF(FZ57<GH48,\"10\",\"0\"))","v":"0"},{"$f":"IF(FZ57>GH48,IF(FZ57<GI48,\"30\",\"0\"))","v":"30"},{"$f":"IF(FZ57>GI48,IF(FZ57<GJ48,\"50\",\"0\"))","v":false},{"$f":"IF(FZ57>GJ48,IF(FZ57<GK48,\"70\",\"0\"))","v":false},{"$f":"IF(FZ57>GK48,IF(FZ57<GL48,\"90\",\"0\"))","v":false},30,null,null,null,null,null,null,null,null,null,null,null,null,null,null,null,null,null,null,null,null,null,null,null,null,null,null,null,null,null,null,null,null,null,null,"0","0.69","1.22","2.19","3.19","9.99","IY",null,"MS",null,null,null,null,null,null,null,null,null,null,null,null,null,null,null,null,null,null,null,null,null,null,null,null,null,null,null,null,null,null,null,null,null,null,null,null,null,null,null,null,null,null,null,null,null,null,null,null,null,null,null,null,null,null,null,"DEP GOL YER MACA GORE",null,null,null,4,{"$f":"IF(KE57>KL48,IF(KE57<KM48,\"10\",\"0\"))","v":"0"},{"$f":"IF(KE57>KM48,IF(KE57<KN48,\"30\",\"0\"))","v":"0"},{"$f":"IF(KE57>KN48,IF(KE57<KO48,\"50\",\"0\"))","v":"50"},{"$f":"IF(KE57>KO48,IF(KE57<KP48,\"70\",\"0\"))","v":false},{"$f":"IF(KE57>KP48,IF(KE57<KQ48,\"90\",\"0\"))","v":false},50]
[null,null,null,null,null,null,null,null,null,null,{"$f":"AVERAGE(K25,L51)","v":0.55000000000000004},{"$f":"(L25+K51)/2","v":0.30000000000000004},{"$f":"(M25+N51)/2","v":1.65},{"$f":"(N25+M51)/2","v":1.05},null,null,null,null,null,null,null,null,null,null,null,null,null,null,null,null,null,null,null,null,null,null,null,null,null,null,null,null,null,null,null,null,null,null,null,null,null,null,null,null,null,null,null,null,null,null,null,null,null,null,null,null,null,null,"MS SONUCUNA GORE TOPLAM GOL",null,null,null,4,{"$f":"IF(BU58>CB48,IF(BU58<CC48,\"10\",\"0\"))","v":"0"},{"$f":"IF(BU58>CC48,IF(BU58<CD48,\"30\",\"0\"))","v":"0"},{"$f":"IF(BU58>CD48,IF(BU58<CE48,\"50\",\"0\"))","v":"50"},{"$f":"IF(BU58>CE48,IF(BU58<CF48,\"70\",\"0\"))","v":false},{"$f":"IF(BU58>CF48,IF(BU58<CG48,\"90\",\"0\"))","v":false},50,null,null,null,null,null,null,null,null,null,null,null,null,null,null,null,null,null,null,null,null,null,null,null,null,null,null,null,null,null,null,null,null,null,null,null,null,null,null,null,null,{"$f":"AVERAGE(DP25,DQ51)","v":0.5},{"$f":"(DQ25+DP51)/2","v":0.5},{"$f":"(DR25+DS51)/2","v":1.3},{"$f":"(DS25+DR51)/2","v":1.3},null,null,null,null,null,null,null,null,null,null,null,null,null,null,null,null,null,null,null,null,null,null,null,null,null,null,null,null,null,null,null,null,null,null,null,null,null,null,null,null,null,null,null,null,null,null,null,null,null,null,null,null,null,null,"MS SONUCUNA GORE TOPLAM GOL",null,null,null,2,{"$f":"IF(FZ58>GG48,IF(FZ58<GH48,\"10\",\"0\"))","v":"0"},{"$f":"IF(FZ58>GH48,IF(FZ58<GI48,\"30\",\"0\"))","v":"30"},{"$f":"IF(FZ58>GI48,IF(FZ58<GJ48,\"50\",\"0\"))","v":false},{"$f":"IF(FZ58>GJ48,IF(FZ58<GK48,\"70\",\"0\"))","v":false},{"$f":"IF(FZ58>GK48,IF(FZ58<GL48,\"90\",\"0\"))","v":false},30,null,null,null,null,null,null,null,null,null,null,null,null,null,null,null,null,null,null,null,null,null,null,null,null,null,null,null,null,null,null,null,null,null,null,null,null,null,null,null,null,{"$f":"AVERAGE(HU25,HV51)","v":0.5},{"$f":"(HV25+HU51)/2","v":0.5},{"$f":"(HW25+HX51)/2","v":1.1000000000000001},{"$f":"(HX25+HW51)/2","v":1.5},null,null,null,null,null,null,null,null,null,null,null,null,null,null,null,null,null,null,null,null,null,null,null,null,null,null,null,null,null,null,null,null,null,null,null,null,null,null,null,null,null,null,null,null,null,null,null,null,null,null,null,null,null,null,"MS SONUCUNA GORE TOPLAM GOL",null,null,null,2,{"$f":"IF(KE58>KL48,IF(KE58<KM48,\"10\",\"0\"))","v":"0"},{"$f":"IF(KE58>KM48,IF(KE58<KN48,\"30\",\"0\"))","v":"30"},{"$f":"IF(KE58>KN48,IF(KE58<KO48,\"50\",\"0\"))","v":false},{"$f":"IF(KE58>KO48,IF(KE58<KP48,\"70\",\"0\"))","v":false},{"$f":"IF(KE58>KP48,IF(KE58<KQ48,\"90\",\"0\"))","v":false},30]
[null,null,null,null,null,null,null,null,null,null,{"$f":"AVERAGEA(K58)","v":0.55000000000000004},{"$f":"AVERAGEA(L58)","v":0.30000000000000004},{"$f":"AVERAGEA(M58)","v":1.65},{"$f":"AVERAGEA(N58)","v":1.05},null,null,null,null,null,null,null,null,null,null,null,null,null,null,null,null,null,null,null,null,null,null,null,null,null,null,null,null,null,null,null,null,null,null,null,null,null,null,null,null,null,null,null,null,null,null,null,null,null,null,null,null,null,null,"DEP MS SONUCUNA GORE TOPLAM GOL",null,null,null,6,{"$f":"IF(BU59>CB48,IF(BU59<CC48,\"10\",\"0\"))","v":"0"},{"$f":"IF(BU59>CC48,IF(BU59<CD48,\"30\",\"0\"))","v":"0"},{"$f":"IF(BU59>CD48,IF(BU59<CE48,\"50\",\"0\"))","v":"0"},{"$f":"IF(BU59>CE48,IF(BU59<CF48,\"70\",\"0\"))","v":"70"},{"$f":"IF(BU59>CF48,IF(BU59<CG48,\"90\",\"0\"))","v":false},70,null,null,null,null,null,null,null,null,null,null,null,null,{"$f":"AVERAGE(CN56,CA69)","v":0.66428571428571426},null,null,null,null,null,null,null,null,null,null,null,null,null,null,null,null,null,null,null,null,null,null,null,null,null,null,null,{"$f":"AVERAGEA(DP58)","v":0.5},{"$f":"AVERAGEA(DQ58)","v":0.5},{"$f":"AVERAGEA(DR58)","v":1.3},{"$f":"AVERAGEA(DS58)","v":1.3},null,null,null,null,null,null,null,null,null,null,null,null,null,null,null,null,null,null,null,null,null,null,null,null,null,null,null,null,null,null,null,null,null,null,null,null,null,null,null,null,null,null,null,null,null,null,null,null,null,null,null,null,null,null,"DEP MS SONUCUNA GORE TOPLAM GOL",null,null,null,3,{"$f":"IF(FZ59>GG48,IF(FZ59<GH48,\"10\",\"0\"))","v":"0"},{"$f":"IF(FZ59>GH48,IF(FZ59<GI48,\"30\",\"0\"))","v":"30"},{"$f":"IF(FZ59>GI48,IF(FZ59<GJ48,\"50\",\"0\"))","v":false},{"$f":"IF(FZ59>GJ48,IF(FZ59<GK48,\"70\",\"0\"))","v":false},{"$f":"IF(FZ59>GK48,IF(FZ59<GL48,\"90\",\"0\"))","v":false},30,null,null,null,null,null,null,null,null,null,null,null,null,{"$f":"AVERAGE(GS56,GF69)","v":0.5714285714285714},null,null,null,null,null,null,null,null,null,null,null,null,null,null,null,null,null,null,null,null,null,null,null,null,null,null,null,{"$f":"IF(HU34=\"\",\"\",AVERAGEA(HU58))","v":0.5},{"$f":"IF(HU34=\"\",\"\",AVERAGEA(HV58))","v":0.5},{"$f":"IF(HU34=\"\",\"\",AVERAGEA(HW58))","v":1.1000000000000001},{"$f":"IF(HU34=\"\",\"\",AVERAGEA(HX58))","v":1.5},null,null,null,null,null,null,null,null,null,null,null,null,null,null,null,null,null,null,null,null,null,null,null,null,null,null,null,null,null,null,null,null,null,null,null,null,null,null,null,null,null,null,null,null,null,null,null,null,null,null,null,null,null,null,"DEP MS SONUCUNA GORE TOPLAM GOL",null,null,null,2,{"$f":"IF(KE59>KL48,IF(KE59<KM48,\"10\",\"0\"))","v":"0"},{"$f":"IF(KE59>KM48,IF(KE59<KN48,\"30\",\"0\"))","v":"30"},{"$f":"IF(KE59>KN48,IF(KE59<KO48,\"50\",\"0\"))","v":false},{"$f":"IF(KE59>KO48,IF(KE59<KP48,\"70\",\"0\"))","v":false},{"$f":"IF(KE59>KP48,IF(KE59<KQ48,\"90\",\"0\"))","v":false},30,null,null,null,null,null,null,null,null,null,null,null,null,{"$f":"AVERAGE(KX56,KK69)","v":0.74285714285714288}]
[null,null,null,null,null,null,null,null,null,null,null,null,null,null,null,null,null,null,null,null,null,null,null,null,null,null,null,null,null,null,null,null,null,null,null,null,null,null,null,null,null,null,null,null,null,null,null,null,null,null,null,null,null,null,null,null,null,null,null,null,null,null,null,null,null,null,null,null,"EV MS TOPLAM GOL",null,null,null,2.9,{"$f":"IF(BU60>BV48,IF(BU60<BX48,\"10\",\"0\"))","v":"0"},{"$f":"IF(BU60>BX48,IF(BU60<BY48,\"30\",\"0\"))","v":"0"},{"$f":"IF(BU60>BY48,IF(BU60<BZ48,\"50\",\"0\"))","v":"0"},{"$f":"IF(BU60>BZ48,IF(BU60<CA48,\"70\",\"0\"))","v":"0"},{"$f":"IF(BU60>CA48,IF(BU60<CB47,\"90\",\"0\"))","v":"90"},90,null,null,null,null,null,null,null,null,null,null,"BAHIS",{"$f":"IF(CM56=CA67,CI54,CI55)","v":"BAHIS YAP"},null,null,null,null,null,null,null,null,null,null,null,null,null,null,null,null,null,null,null,null,null,null,null,null,null,null,null,null,null,null,null,null,null,null,null,null,null,null,null,null,null,null,null,null,null,null,null,null,null,null,null,null,null,null,null,null,null,null,null,null,null,null,null,null,null,null,null,null,null,null,null,null,null,null,null,null,null,null,null,null,null,null,null,null,null,null,"EV MS TOPLAM GOL",null,null,null,2.6,{"$f":"IF(FZ60>GA48,IF(FZ60<GC48,\"10\",\"0\"))","v":"0"},{"$f":"IF(FZ60>GC48,IF(FZ60<GD48,\"30\",\"0\"))","v":"0"},{"$f":"IF(FZ60>GD48,IF(FZ60<GE48,\"50\",\"0\"))","v":"0"},{"$f":"IF(FZ60>GE48,IF(FZ60<GF48,\"70\",\"0\"))","v":"70"},{"$f":"IF(FZ60>GF48,IF(FZ60<GG47,\"90\",\"0\"))","v":false},70,null,null,null,null,null,null,null,null,null,null,"BAHIS",{"$f":"IF(GR56=GF67,GN54,GN55)","v":"RISKLI"},null,null,null,null,null,null,null,null,null,null,null,null,null,null,null,null,null,null,null,null,null,null,null,null,null,null,null,null,null,null,null,null,null,null,null,null,null,null,null,null,null,null,null,null,null,null,null,null,null,null,null,null,null,null,null,null,null,null,null,null,null,null,null,null,null,null,null,null,null,null,null,null,null,null,null,null,null,null,null,null,null,null,null,null,null,null,"EV MS TOPLAM GOL",null,null,null,2.6,{"$f":"IF(KE60>KF48,IF(KE60<KH48,\"10\",\"0\"))","v":"0"},{"$f":"IF(KE60>KH48,IF(KE60<KI48,\"30\",\"0\"))","v":"0"},{"$f":"IF(KE60>KI48,IF(KE60<KJ48,\"50\",\"0\"))","v":"0"},{"$f":"IF(KE60>KJ48,IF(KE60<KK48,\"70\",\"0\"))","v":"70"},{"$f":"IF(KE60>KK48,IF(KE60<KL47,\"90\",\"0\"))","v":false},70,null,null,null,null,null,null,null,null,null,null,"BAHIS",{"$f":"IF(KW56=KK67,KS54,KS55)","v":"RISKLI"}]
[null,null,null,null,null,null,null,null,null,null,null,null,null,null,null,null,null,null,null,null,null,null,null,null,null,null,null,null,null,null,null,null,null,null,null,null,null,null,null,null,null,null,null,null,null,null,null,null,null,null,null,null,null,null,null,null,null,null,null,null,null,null,null,null,null,null,null,null,"DEP MS TOPLAM GOL",null,null,null,2.5,{"$f":"IF(BU61>BV48,IF(BU61<BX48,\"10\",\"0\"))","v":"0"},{"$f":"IF(BU61>BX48,IF(BU61<BY48,\"30\",\"0\"))","v":"0"},{"$f":"IF(BU61>BY48,IF(BU61<BZ48,\"50\",\"0\"))","v":"0"},{"$f":"IF(BU61>BZ48,IF(BU61<CA48,\"70\",\"0\"))","v":"70"},{"$f":"IF(BU61>CA48,IF(BU61<CB47,\"90\",\"0\"))","v":false},70,null,null,null,null,null,null,null,null,null,null,"GUVEN",{"$f":"IF(CM56=CA67,CN59,CI55)","v":0.66428571428571426},null,null,null,null,null,null,null,null,null,null,null,null,null,null,null,null,null,null,null,null,null,null,null,null,null,null,null,null,null,null,null,null,null,null,null,null,null,null,null,null,null,null,null,null,null,null,null,null,null,null,null,null,null,null,null,null,null,null,null,null,null,null,null,null,null,null,null,null,null,null,null,null,null,null,null,null,null,null,null,null,null,null,null,null,null,null,"DEP MS TOPLAM GOL",null,null,null,2.6,{"$f":"IF(FZ61>GA48,IF(FZ61<GC48,\"10\",\"0\"))","v":"0"},{"$f":"IF(FZ61>GC48,IF(FZ61<GD48,\"30\",\"0\"))","v":"0"},{"$f":"IF(FZ61>GD48,IF(FZ61<GE48,\"50\",\"0\"))","v":"0"},{"$f":"IF(FZ61>GE48,IF(FZ61<GF48,\"70\",\"0\"))","v":"70"},{"$f":"IF(FZ61>GF48,IF(FZ61<GG47,\"90\",\"0\"))","v":false},70,null,null,null,null,null,null,null,null,null,null,"GUVEN",{"$f":"IF(GR56=GF67,GS59,GN55)","v":"RISKLI"},null,null,null,null,null,null,null,null,null,null,null,null,null,null,null,null,null,null,null,null,null,null,null,null,null,null,null,null,null,null,null,null,null,null,null,null,null,null,null,null,null,null,null,null,null,null,null,null,null,null,null,null,null,null,null,null,null,null,null,null,null,null,null,null,null,null,null,null,null,null,null,null,null,null,null,null,null,null,null,null,null,null,null,null,null,null,"DEP MS TOPLAM GOL",null,null,null,2.6,{"$f":"IF(KE61>KF48,IF(KE61<KH48,\"10\",\"0\"))","v":"0"},{"$f":"IF(KE61>KH48,IF(KE61<KI48,\"30\",\"0\"))","v":"0"},{"$f":"IF(KE61>KI48,IF(KE61<KJ48,\"50\",\"0\"))","v":"0"},{"$f":"IF(KE61>KJ48,IF(KE61<KK48,\"70\",\"0\"))","v":"70"},{"$f":"IF(KE61>KK48,IF(KE61<KL47,\"90\",\"0\"))","v":false},70,null,null,null,null,null,null,null,null,null,null,"GUVEN",{"$f":"IF(KW56=KK67,KX59,KS55)","v":"RISKLI"}]
[null,null,null,null,null,null,null,null,null,null,null,null,null,null,null,null,null,null,null,null,null,null,null,null,null,null,null,null,null,null,null,null,null,null,null,null,null,null,null,null,null,null,null,null,null,null,null,null,null,null,null,null,null,null,null,null,null,null,null,null,null,null,null,null,null,null,null,null,"EV SAHIBI KG VAR",null,null,null,{"$f":"AE15","v":6},{"$f":"IF(BU62>CB48,IF(BU62<CC48,\"10\",\"0\"))","v":"0"},{"$f":"IF(BU62>CC48,IF(BU62<CD48,\"30\",\"0\"))","v":"0"},{"$f":"IF(BU62>CD48,IF(BU62<CE48,\"50\",\"0\"))","v":"0"},{"$f":"IF(BU62>CE48,IF(BU62<CF48,\"70\",\"0\"))","v":"70"},{"$f":"IF(BU62>CF48,IF(BU62<CG48,\"90\",\"0\"))","v":false},{"$f":"BV62+BW62+BX62+BY62+BZ62","v":70},null,null,null,null,null,null,null,null,null,null,null,null,null,null,null,null,null,null,null,null,null,null,null,null,null,null,null,null,null,null,null,null,null,null,null,null,null,null,null,null,null,null,null,null,null,null,null,null,null,null,null,null,null,null,null,null,null,null,null,null,null,null,null,null,null,null,null,null,null,null,null,null,null,null,null,null,null,null,null,null,null,null,null,null,null,null,null,null,null,null,null,null,null,null,null,null,null,null,"EV SAHIBI KG VAR",null,null,null,{"$f":"EJ15","v":4},{"$f":"IF(FZ62>GG48,IF(FZ62<GH48,\"10\",\"0\"))","v":"0"},{"$f":"IF(FZ62>GH48,IF(FZ62<GI48,\"30\",\"0\"))","v":"0"},{"$f":"IF(FZ62>GI48,IF(FZ62<GJ48,\"50\",\"0\"))","v":"50"},{"$f":"IF(FZ62>GJ48,IF(FZ62<GK48,\"70\",\"0\"))","v":false},{"$f":"IF(FZ62>GK48,IF(FZ62<GL48,\"90\",\"0\"))","v":false},50,null,null,null,null,null,null,null,null,null,null,null,null,null,null,null,null,null,null,null,null,null,null,null,null,null,null,null,null,null,null,null,null,null,null,null,null,null,null,null,null,null,null,null,null,null,null,null,null,null,null,null,null,null,null,null,null,null,null,null,null,null,null,null,null,null,null,null,null,null,null,null,null,null,null,null,null,null,null,null,null,null,null,null,null,null,null,null,null,null,null,null,null,null,null,null,null,null,null,"EV SAHIBI KG VAR",null,null,null,{"$f":"IO15","v":4},{"$f":"IF(KE62>KL48,IF(KE62<KM48,\"10\",\"0\"))","v":"0"},{"$f":"IF(KE62>KM48,IF(KE62<KN48,\"30\",\"0\"))","v":"0"},{"$f":"IF(KE62>KN48,IF(KE62<KO48,\"50\",\"0\"))","v":"50"},{"$f":"IF(KE62>KO48,IF(KE62<KP48,\"70\",\"0\"))","v":false},{"$f":"IF(KE62>KP48,IF(KE62<KQ48,\"90\",\"0\"))","v":false},50]
[null,null,null,null,null,null,null,null,null,null,null,null,null,null,null,null,null,null,null,null,null,null,null,null,null,null,null,null,null,null,null,null,null,null,null,null,null,null,null,null,null,null,null,null,null,null,null,null,null,null,null,null,null,null,null,null,null,null,null,null,null,null,null,null,null,null,null,null,"DEP KG VAR ",null,null,null,{"$f":"BG15","v":4},{"$f":"IF(BU63>CB48,IF(BU63<CC48,\"10\",\"0\"))","v":"0"},{"$f":"IF(BU63>CC48,IF(BU63<CD48,\"30\",\"0\"))","v":"0"},{"$f":"IF(BU63>CD48,IF(BU63<CE48,\"50\",\"0\"))","v":"50"},{"$f":"IF(BU63>CE48,IF(BU63<CF48,\"70\",\"0\"))","v":false},{"$f":"IF(BU63>CF48,IF(BU63<CG48,\"90\",\"0\"))","v":false},50,null,null,null,null,null,null,null,null,null,null,null,null,null,null,null,null,null,null,null,null,null,null,null,null,null,null,null,null,null,null,null,null,null,null,null,null,null,null,null,null,null,null,null,null,null,null,null,null,null,null,null,null,null,null,null,null,null,null,null,null,null,null,null,null,null,null,null,null,null,null,null,null,null,null,null,null,null,null,null,null,null,null,null,null,null,null,null,null,null,null,null,null,null,null,null,null,null,null,"DEP KG VAR ",null,null,null,{"$f":"FL15","v":2},{"$f":"IF(FZ63>GG48,IF(FZ63<GH48,\"10\",\"0\"))","v":"0"},{"$f":"IF(FZ63>GH48,IF(FZ63<GI48,\"30\",\"0\"))","v":"30"},{"$f":"IF(FZ63>GI48,IF(FZ63<GJ48,\"50\",\"0\"))","v":false},{"$f":"IF(FZ63>GJ48,IF(FZ63<GK48,\"70\",\"0\"))","v":false},{"$f":"IF(FZ63>GK48,IF(FZ63<GL48,\"90\",\"0\"))","v":false},30,null,null,null,null,null,null,null,null,null,null,null,null,null,null,null,null,null,null,null,null,null,null,null,null,null,null,null,null,null,null,null,null,null,null,null,null,null,null,null,null,null,null,null,null,null,null,null,null,null,null,null,null,null,null,null,null,null,null,null,null,null,null,null,null,null,null,null,null,null,null,null,null,null,null,null,null,null,null,null,null,null,null,null,null,null,null,null,null,null,null,null,null,null,null,null,null,null,null,"DEP KG VAR ",null,null,null,{"$f":"JQ15","v":4},{"$f":"IF(KE63>KL48,IF(KE63<KM48,\"10\",\"0\"))","v":"0"},{"$f":"IF(KE63>KM48,IF(KE63<KN48,\"30\",\"0\"))","v":"0"},{"$f":"IF(KE63>KN48,IF(KE63<KO48,\"50\",\"0\"))","v":"50"},{"$f":"IF(KE63>KO48,IF(KE63<KP48,\"70\",\"0\"))","v":false},{"$f":"IF(KE63>KP48,IF(KE63<KQ48,\"90\",\"0\"))","v":false},50]
[]
[null,null,null,null,null,null,null,null,null,null,null,null,null,null,null,null,null,null,null,null,null,null,null,null,null,null,null,null,null,null,null,null,null,null,null,null,null,null,null,null,null,null,null,null,null,null,null,null,null,null,null,null,null,null,null,null,null,null,null,null,null,null,null,null,null,null,null,null,null,null,null,null,null,null,null,null,{"$f":"1-BZ65","v":0.37142857142857144},{"$f":"CA66/100","v":0.62857142857142856},null,null,null,null,null,null,null,null,null,null,null,null,null,null,null,null,null,null,null,null,null,null,null,null,null,null,null,null,null,null,null,null,null,null,null,null,null,null,null,null,null,null,null,null,null,null,null,null,null,null,null,null,null,null,null,null,null,null,null,null,null,null,null,null,null,null,null,null,null,null,null,null,null,null,null,null,null,null,null,null,null,null,null,null,null,null,null,null,null,null,null,null,null,null,null,null,null,null,null,null,null,null,null,null,null,null,null,{"$f":"1-GE65","v":0.55714285714285716},{"$f":"GF66/100","v":0.44285714285714284},null,null,null,null,null,null,null,null,null,null,null,null,null,null,null,null,null,null,null,null,null,null,null,null,null,null,null,null,null,null,null,null,null,null,null,null,null,null,null,null,null,null,null,null,null,null,null,null,null,null,null,null,null,null,null,null,null,null,null,null,null,null,null,null,null,null,null,null,null,null,null,null,null,null,null,null,null,null,null,null,null,null,null,null,null,null,null,null,null,null,null,null,null,null,null,null,null,null,null,null,null,null,null,null,null,null,null,{"$f":"1-KJ65","v":0.51428571428571423},{"$f":"KK66/100","v":0.48571428571428571}]
[null,null,null,null,null,null,null,null,null,null,null,null,null,null,null,null,null,null,null,null,null,null,null,null,null,null,null,null,null,null,null,null,null,null,null,null,null,null,null,null,null,null,null,null,null,null,null,null,null,null,null,null,null,null,null,null,null,null,null,null,null,null,null,null,null,null,null,null,null,null,null,0,25.77,49.9,90,100,null,null,{"$f":"AVERAGE(CA50:CA63)","v":62.857142857142854},null,"KG YOK","KG YOK","KG VAR","KG VAR",null,null,null,null,null,null,null,null,null,null,null,null,null,null,null,null,null,null,null,null,null,null,null,null,null,null,null,null,null,null,null,null,null,null,null,null,null,null,null,null,null,null,null,null,null,null,null,null,null,null,null,null,null,null,null,null,null,null,null,null,null,null,null,null,null,null,null,null,null,null,null,null,null,null,null,null,null,null,null,null,null,null,null,null,null,null,null,null,null,null,null,null,null,null,null,null,{"$f":"BT66","v":0},{"$f":"BU66","v":25.77},49.9,90,100,null,null,{"$f":"AVERAGE(GF50:GF63)","v":44.285714285714285},null,{"$f":"CC66","v":"KG YOK"},{"$f":"CD66","v":"KG YOK"},"KG VAR","KG VAR",null,null,null,null,null,null,null,null,null,null,null,null,null,null,null,null,null,null,null,null,null,null,null,null,null,null,null,null,null,null,null,null,null,null,null,null,null,null,null,null,null,null,null,null,null,null,null,null,null,null,null,null,null,null,null,null,null,null,null,null,null,null,null,null,null,null,null,null,null,null,null,null,null,null,null,null,null,null,null,null,null,null,null,null,null,null,null,null,null,null,null,null,null,null,null,null,{"$f":"FY66","v":0},{"$f":"FZ66","v":25.77},49.9,90,100,null,null,{"$f":"IF(HU34=\"\",\"\",AVERAGE(KK50:KK63))","v":48.571428571428569},null,{"$f":"GH66","v":"KG YOK"},{"$f":"GI66","v":"KG YOK"},"KG VAR","KG VAR"]
[null,null,null,null,null,null,null,null,null,null,null,null,null,null,null,null,null,null,null,null,null,null,null,null,null,null,null,null,null,null,null,null,null,null,null,null,null,null,null,null,null,null,null,null,null,null,null,null,null,null,null,null,null,null,null,null,null,null,null,null,null,null,null,null,null,null,null,null,null,null,null,null,null,null,null,null,null,null,{"$f":"IF(CA66>BT66,IF(CA66<BU66,CC66,IF(CA66>BU66,IF(CA66<BV66,CD66,IF(CA66>BV66,IF(CA66<BW66,CE66,IF(CA66>BW66,IF(CA66<BX66,CF66,CC60))))))))","v":"KG VAR"},null,null,null,null,null,null,null,null,null,null,null,null,null,null,null,null,null,null,null,null,null,null,null,null,null,null,null,null,null,null,null,null,null,null,null,null,null,null,null,null,null,null,null,null,null,null,null,null,null,null,null,null,null,null,null,null,null,null,null,null,null,null,null,null,null,null,null,null,null,null,null,null,null,null,null,null,null,null,null,null,null,null,null,null,null,null,null,null,null,null,null,null,null,null,null,null,null,null,null,null,null,null,null,null,null,null,null,null,{"$f":"IF(GF66>FY66,IF(GF66<FZ66,GH66,IF(GF66>FZ66,IF(GF66<GA66,GI66,IF(GF66>GA66,IF(GF66<GB66,GJ66,IF(GF66>GB66,IF(GF66<GC66,GK66,GH60))))))))","v":"KG YOK"},null,null,null,null,null,null,null,null,null,null,null,null,null,null,null,null,null,null,null,null,null,null,null,null,null,null,null,null,null,null,null,null,null,null,null,null,null,null,null,null,null,null,null,null,null,null,null,null,null,null,null,null,null,null,null,null,null,null,null,null,null,null,null,null,null,null,null,null,null,null,null,null,null,null,null,null,null,null,null,null,null,null,null,null,null,null,null,null,null,null,null,null,null,null,null,null,null,null,null,null,null,null,null,null,null,null,null,null,{"$f":"IF(HU34=\"\",\"\",IF(KK66>KD66,IF(KK66<KE66,KM66,IF(KK66>KE66,IF(KK66<KF66,KN66,IF(KK66>KF66,IF(KK66<KG66,KO66,IF(KK66>KG66,IF(KK66<KH66,KP66,KM60)))))))))","v":"KG YOK"}]
[null,null,null,null,null,null,null,null,null,null,null,null,null,null,null,null,null,null,null,null,null,null,null,null,null,null,null,null,null,null,null,null,null,null,null,null,null,null,null,null,null,null,null,null,null,null,null,null,null,null,null,null,null,null,null,null,null,null,null,null,null,null,null,null,null,null,null,null,null,null,null,null,null,null,null,"RISKLI",null,null,{"$f":"IF(CA67=BX68,BX68,CA69)","v":0.62857142857142856},null,null,null,null,"BAHIS",{"$f":"CM60","v":"BAHIS YAP"},null,null,null,null,null,null,null,null,null,null,null,null,null,null,null,null,null,null,null,null,null,null,null,null,null,null,null,null,null,null,null,null,null,null,null,null,null,null,null,null,null,null,null,null,null,null,null,null,null,null,null,null,null,null,null,null,null,null,null,null,null,null,null,null,null,null,null,null,null,null,null,null,null,null,null,null,null,null,null,null,null,null,null,null,null,null,null,null,null,null,null,null,null,null,null,null,null,null,null,"RISKLI",null,null,{"$f":"IF(GF67=GC68,GC68,GF69)","v":0.44285714285714284},null,null,null,null,"BAHIS",{"$f":"GR60","v":"RISKLI"},null,null,null,null,null,null,null,null,null,null,null,null,null,null,null,null,null,null,null,null,null,null,null,null,null,null,null,null,null,null,null,null,null,null,null,null,null,null,null,null,null,null,null,null,null,null,null,null,null,null,null,null,null,null,null,null,null,null,null,null,null,null,null,null,null,null,null,null,null,null,null,null,null,null,null,null,null,null,null,null,null,null,null,null,null,null,null,null,null,null,null,null,null,null,null,null,null,null,null,"RISKLI",null,null,{"$f":"IF(HU34=\"\",\"\",IF(KK67=KH68,KH68,KK69))","v":0.48571428571428571},null,null,null,null,"BAHIS",{"$f":"IF(HU34=\"\",\"\",KW60)","v":"RISKLI"}]
[null,null,null,null,null,null,null,null,null,null,null,null,null,null,null,null,null,null,null,null,null,null,null,null,null,null,null,null,null,null,null,null,null,null,null,null,null,null,null,null,null,null,null,null,null,null,null,null,null,null,null,null,null,null,null,null,null,null,null,null,null,null,null,null,null,null,null,null,null,null,null,null,null,null,null,null,null,null,{"$f":"IF(CA66>BT66,IF(CA66<BU66,BY65,IF(CA66>BU66,IF(CA66<BV66,BZ65,IF(CA66>BV66,IF(CA66<BW66,BZ65,IF(CA66>BW66,IF(CA66<BX66,0.4))))))))","v":0.62857142857142856},null,null,null,null,"GUVEN",{"$f":"CM61","v":0.66428571428571426},null,null,null,null,null,null,null,null,null,null,null,null,null,null,null,null,null,null,null,null,null,null,null,null,null,null,null,null,null,null,null,null,null,null,null,null,null,null,null,null,null,null,null,null,null,null,null,null,null,null,null,null,null,null,null,null,null,null,null,null,null,null,null,null,null,null,null,null,null,null,null,null,null,null,null,null,null,null,null,null,null,null,null,null,null,null,null,null,null,null,null,null,null,null,null,null,null,null,null,null,null,null,{"$f":"IF(GF66>FY66,IF(GF66<FZ66,GD65,IF(GF66>FZ66,IF(GF66<GA66,GE65,IF(GF66>GA66,IF(GF66<GB66,GE65,IF(GF66>GB66,IF(GF66<GC66,0.4))))))))","v":0.44285714285714284},null,null,null,null,"GUVEN",{"$f":"GR61","v":"RISKLI"},null,null,null,null,null,null,null,null,null,null,null,null,null,null,null,null,null,null,null,null,null,null,null,null,null,null,null,null,null,null,null,null,null,null,null,null,null,null,null,null,null,null,null,null,null,null,null,null,null,null,null,null,null,null,null,null,null,null,null,null,null,null,null,null,null,null,null,null,null,null,null,null,null,null,null,null,null,null,null,null,null,null,null,null,null,null,null,null,null,null,null,null,null,null,null,null,null,null,null,null,null,null,{"$f":"IF(HU34=\"\",\"\",IF(KK66>KD66,IF(KK66<KE66,KI65,IF(KK66>KE66,IF(KK66<KF66,KJ65,IF(KK66>KF66,IF(KK66<KG66,KJ65,IF(KK66>KG66,IF(KK66<KH66,0.4)))))))))","v":0.48571428571428571},null,null,null,null,"GUVEN",{"$f":"IF(HU34=\"\",\"\",KW61)","v":"RISKLI"}]
[]
[]
[]
[null,null,null,null,null,null,null,null,null,null,null,null,null,null,null,null,null,null,null,null,null,null,null,null,null,null,null,null,null,null,null,null,null,null,null,null,null,null,null,null,null,null,null,null,null,null,null,null,null,null,null,null,null,null,null,null,null,null,null,null,null,null,null,null,null,null,null,null,null,null,null,null,null,null,null,null,null,null,null,"10",null,null,null,null,null,null,"IY MS ",null,null,null,null,null,null,null,null,null,null,null,null,null,null,null,null,null,null,null,null,null,null,null,null,null,null,null,null,null,null,null,null,null,null,null,null,null,null,null,null,null,null,null,null,null,null,null,null,null,null,null,null,null,null,null,null,null,null,null,null,null,null,null,null,null,null,null,null,null,null,null,null,null,null,null,null,null,null,null,null,null,null,null,null,null,null,null,null,null,null,null,null,null,null,null,null,null,null,null,null,null,{"$f":"CB73","v":"10"},null,null,null,null,null,null,"IY MS ",null,null,null,null,null,null,null,null,null,null,null,null,null,null,null,null,null,null,null,null,null,null,null,null,null,null,null,null,null,null,null,null,null,null,null,null,null,null,null,null,null,null,null,null,null,null,null,null,null,null,null,null,null,null,null,null,null,null,null,null,null,null,null,null,null,null,null,null,null,null,null,null,null,null,null,null,null,null,null,null,null,null,null,null,null,null,null,null,null,null,null,null,null,null,null,null,null,null,null,null,null,{"$f":"GG73","v":"10"},null,null,null,null,null,null,"IY MS "]
[null,null,null,null,null,null,null,null,null,null,null,null,null,null,null,null,null,null,null,null,null,null,null,null,null,null,null,null,null,null,null,null,null,null,null,null,null,null,null,null,null,null,null,null,null,null,null,null,null,null,null,null,null,null,null,null,null,null,null,null,null,null,null,null,null,null,null,null,"ILK YARI EV SAHIBI ",null,null,null,null,-1,0.59,1.24,1.99,2.7,3,-1,1.9,3.9,5.9,7.9,10,null,null,null,null,null,null,null,null,null,null,null,null,null,null,null,null,null,null,null,null,null,null,null,null,null,null,null,null,null,null,null,null,null,null,null,null,null,null,null,null,null,null,null,null,null,null,null,null,null,null,null,null,null,null,null,null,null,null,null,null,null,null,null,null,null,null,null,null,null,null,null,null,null,null,null,null,null,null,null,null,null,null,null,null,null,null,null,null,null,null,null,null,"ILK YARI EV SAHIBI ",null,null,null,null,{"$f":"BV74","v":-1},0.59,1.24,1.99,2.7,3,-1,1.9,3.9,5.9,7.9,10,null,null,null,null,null,null,null,null,null,null,null,null,null,null,null,null,null,null,null,null,null,null,null,null,null,null,null,null,null,null,null,null,null,null,null,null,null,null,null,null,null,null,null,null,null,null,null,null,null,null,null,null,null,null,null,null,null,null,null,null,null,null,null,null,null,null,null,null,null,null,null,null,null,null,null,null,null,null,null,null,null,null,null,null,null,null,null,null,null,null,null,null,"ILK YARI EV SAHIBI ",null,null,null,null,{"$f":"GA74","v":-1},0.59,1.24,1.99,2.7,3,-1,1.9,3.9,5.9,7.9,10]
[null,null,null,null,null,null,null,null,null,null,null,null,null,null,null,null,null,null,null,null,null,null,null,null,null,null,null,null,null,null,null,null,null,null,null,null,null,null,null,null,null,null,null,null,null,null,null,null,null,null,null,null,null,null,null,null,null,null,null,null,null,null,null,null,null,null,null,null,null,null,null,null,null,"0-20","20-40","40-60","60-80","80-100","TOPLAM",null,null,null,null,null,null,null,null,"IY 1",{"$f":"CP3","v":0.6},"MS 1",{"$f":"CR3","v":0.7},null,"IY 1",{"$f":"CZ3","v":0.2},"MS 1",{"$f":"DB3","v":0.3},null,null,null,null,null,null,null,null,null,null,null,null,null,null,null,null,null,null,null,null,null,null,null,null,null,null,null,null,null,null,null,null,null,null,null,null,null,null,null,null,null,null,null,null,null,null,null,null,null,null,null,null,null,null,null,null,null,null,null,null,null,null,null,null,null,null,null,null,null,null,null,null,null,null,null,null,null,null,null,null,null,null,null,null,null,null,"0-20","20-40","40-60","60-80","80-100","TOPLAM",null,null,null,null,null,null,null,null,"IY 1",{"$f":"GU3","v":0.6},"MS 1",{"$f":"GW3","v":0.6},null,"IY 1",{"$f":"HE3","v":0.4},"MS 1",{"$f":"HG3","v":0.6},null,null,null,null,null,null,null,null,null,null,null,null,null,null,null,null,null,null,null,null,null,null,null,null,null,null,null,null,null,null,null,null,null,null,null,null,null,null,null,null,null,null,null,null,null,null,null,null,null,null,null,null,null,null,null,null,null,null,null,null,null,null,null,null,null,null,null,null,null,null,null,null,null,null,null,null,null,null,null,null,null,null,null,null,null,null,"0-20","20-40","40-60","60-80","80-100","TOPLAM",null,null,null,null,null,null,null,null,"IY 1",{"$f":"KZ3","v":0.2},"MS 1",{"$f":"LB3","v":0.2},null,"IY 1",{"$f":"LJ3","v":0.2},"MS 1",{"$f":"LL3","v":0.4}]
[null,null,null,null,null,null,null,null,null,null,null,null,null,null,null,null,null,null,null,null,null,null,null,null,null,null,null,null,null,null,null,null,null,null,null,null,null,null,null,null,null,null,null,null,null,null,null,null,null,null,null,null,null,null,null,null,null,null,null,null,null,null,null,null,null,null,null,null,"GALIBIYET SAYISI",null,null,null,{"$f":"AH15","v":6},{"$f":"IF(BU76>BV74,IF(BU76<BW74,\"10\",\"0\"))","v":"0"},{"$f":"IF(BU76>BW74,IF(BU76<BX74,\"30\",\"0\"))","v":"0"},{"$f":"IF(BU76>BX74,IF(BU76<BZ74,\"50\",\"0\"))","v":"0"},{"$f":"IF(BU76>BZ74,IF(BU76<CD74,\"70\",\"0\"))","v":"0"},{"$f":"IF(BU76>CD74,IF(BU76<CG74,\"90\",\"0\"))","v":"90"},{"$f":"BV76+BW76+BX76+BY76+BZ76","v":90},null,null,null,null,null,null,null,null,"IY X",{"$f":"CP4","v":0.3},"MS X",{"$f":"CR4","v":0.2},null,"IY X",{"$f":"CZ4","v":0.6},"MS X",{"$f":"DB4","v":0.4},null,null,null,null,null,null,null,null,null,null,null,null,null,null,null,null,null,null,null,null,null,null,null,null,null,null,null,null,null,null,null,null,null,null,null,null,null,null,null,null,null,null,null,null,null,null,null,null,null,null,null,null,null,null,null,null,null,null,null,null,null,null,null,null,null,null,null,null,null,null,null,null,null,null,null,null,null,null,null,null,null,"GALIBIYET SAYISI",null,null,null,{"$f":"EM15","v":3},{"$f":"IF(FZ76>GA74,IF(FZ76<GB74,\"10\",\"0\"))","v":"0"},{"$f":"IF(FZ76>GB74,IF(FZ76<GC74,\"30\",\"0\"))","v":"0"},{"$f":"IF(FZ76>GC74,IF(FZ76<GE74,\"50\",\"0\"))","v":"0"},{"$f":"IF(FZ76>GE74,IF(FZ76<GI74,\"70\",\"0\"))","v":"70"},{"$f":"IF(FZ76>GI74,IF(FZ76<GL74,\"90\",\"0\"))","v":false},{"$f":"GA76+GB76+GC76+GD76+GE76","v":70},null,null,null,null,null,null,null,null,"IY X",{"$f":"GU4","v":0.2},"MS X",{"$f":"GW4","v":0.4},null,"IY X",{"$f":"HE4","v":0.6},"MS X",{"$f":"HG4","v":0.2},null,null,null,null,null,null,null,null,null,null,null,null,null,null,null,null,null,null,null,null,null,null,null,null,null,null,null,null,null,null,null,null,null,null,null,null,null,null,null,null,null,null,null,null,null,null,null,null,null,null,null,null,null,null,null,null,null,null,null,null,null,null,null,null,null,null,null,null,null,null,null,null,null,null,null,null,null,null,null,null,null,"GALIBIYET SAYISI",null,null,null,{"$f":"IR15","v":1},{"$f":"IF(KE76>KF74,IF(KE76<KG74,\"10\",\"0\"))","v":"0"},{"$f":"IF(KE76>KG74,IF(KE76<KH74,\"30\",\"0\"))","v":"30"},{"$f":"IF(KE76>KH74,IF(KE76<KJ74,\"50\",\"0\"))","v":false},{"$f":"IF(KE76>KJ74,IF(KE76<KN74,\"70\",\"0\"))","v":false},{"$f":"IF(KE76>KN74,IF(KE76<KQ74,\"90\",\"0\"))","v":false},{"$f":"KF76+KG76+KH76+KI76+KJ76","v":30},null,null,null,null,null,null,null,null,"IY X",{"$f":"KZ4","v":0.4},"MS X",{"$f":"LB4","v":0.4},null,"IY X",{"$f":"LJ4","v":0.4},"MS X",{"$f":"LL4","v":0.4}]
[null,null,null,null,null,null,null,null,null,null,null,null,null,null,null,null,null,null,null,null,null,null,null,null,null,null,null,null,null,null,null,null,null,null,null,null,null,null,null,null,null,null,null,null,null,null,null,null,null,null,null,null,null,null,null,null,null,null,null,null,null,null,null,null,null,null,null,null,"BERABERLIK SAYISI",null,null,null,{"$f":"AI15","v":3},{"$f":"IF(BU77>BV74,IF(BU77<BX74,\"10\",\"0\"))","v":"0"},{"$f":"IF(BU77>BX74,IF(BU77<BY74,\"30\",\"0\"))","v":"0"},{"$f":"IF(BU77>BX74,IF(BU77<BZ74,\"50\",\"0\"))","v":"0"},{"$f":"IF(BU77>BZ74,IF(BU77<CD74,\"70\",\"0\"))","v":"70"},{"$f":"IF(BU77>CD74,IF(BU77<CG74,\"90\",\"0\"))","v":false},{"$f":"BV77+BW77+BX77+BY77+BZ77","v":70},null,null,null,null,null,null,null,null,"IY 2",0.1,"MS 2",0.1,null,"IY 2",0.2,"MS 2",0.3,null,null,null,null,null,null,null,null,null,null,null,null,null,null,null,null,null,null,null,null,null,null,null,null,null,null,null,null,null,null,null,null,null,null,null,null,null,null,null,null,null,null,null,null,null,null,null,null,null,null,null,null,null,null,null,null,null,null,null,null,null,null,null,null,null,null,null,null,null,null,null,null,null,null,null,null,null,null,null,null,null,"BERABERLIK SAYISI",null,null,null,{"$f":"EN15","v":1},{"$f":"IF(FZ77>GA74,IF(FZ77<GC74,\"10\",\"0\"))","v":"10"},{"$f":"IF(FZ77>GC74,IF(FZ77<GD74,\"30\",\"0\"))","v":false},{"$f":"IF(FZ77>GC74,IF(FZ77<GE74,\"50\",\"0\"))","v":false},{"$f":"IF(FZ77>GE74,IF(FZ77<GI74,\"70\",\"0\"))","v":false},{"$f":"IF(FZ77>GI74,IF(FZ77<GL74,\"90\",\"0\"))","v":false},{"$f":"GA77+GB77+GC77+GD77+GE77","v":10},null,null,null,null,null,null,null,null,"IY 2",0.2,"MS 2",0,null,"IY 2",0,"MS 2",0.2,null,null,null,null,null,null,null,null,null,null,null,null,null,null,null,null,null,null,null,null,null,null,null,null,null,null,null,null,null,null,null,null,null,null,null,null,null,null,null,null,null,null,null,null,null,null,null,null,null,null,null,null,null,null,null,null,null,null,null,null,null,null,null,null,null,null,null,null,null,null,null,null,null,null,null,null,null,null,null,null,null,"BERABERLIK SAYISI",null,null,null,{"$f":"IS15","v":2},{"$f":"IF(KE77>KF74,IF(KE77<KH74,\"10\",\"0\"))","v":"0"},{"$f":"IF(KE77>KH74,IF(KE77<KI74,\"30\",\"0\"))","v":"0"},{"$f":"IF(KE77>KH74,IF(KE77<KJ74,\"50\",\"0\"))","v":"50"},{"$f":"IF(KE77>KJ74,IF(KE77<KN74,\"70\",\"0\"))","v":false},{"$f":"IF(KE77>KN74,IF(KE77<KQ74,\"90\",\"0\"))","v":false},{"$f":"KF77+KG77+KH77+KI77+KJ77","v":50},null,null,null,null,null,null,null,null,"IY 2",0.4,"MS 2",0.4,null,"IY 2",0.4,"MS 2",0.2]
[null,null,null,null,null,null,null,null,null,null,null,null,null,null,null,null,null,null,null,null,null,null,null,null,null,null,null,null,null,null,null,null,null,null,null,null,null,null,null,null,null,null,null,null,null,null,null,null,null,null,null,null,null,null,null,null,null,null,null,null,null,null,null,null,null,null,null,null,"MAGLUBIYET SAYISI ",null,null,null,{"$f":"AJ15","v":1},{"$f":"IF(BU78>CF74,IF(BU78<CG74,\"10\",\"0\"))","v":false},{"$f":"IF(BU78>CE74,IF(BU78<CF74,\"30\",\"0\"))","v":false},{"$f":"IF(BU78>CD74,IF(BU78<CE74,\"50\",\"0\"))","v":false},{"$f":"IF(BU78>CC74,IF(BU78<CD74,\"70\",\"0\"))","v":false},{"$f":"IF(BU78>CB74,IF(BU78<CC74,\"90\",\"0\"))","v":"90"},{"$f":"BV78+BW78+BX78+BY78+BZ78","v":90},null,null,null,null,null,null,null,null,null,null,null,null,null,null,null,null,null,null,null,null,null,null,null,null,null,null,null,null,null,null,null,null,null,null,null,null,null,null,null,null,null,null,null,null,null,null,null,null,null,null,null,null,null,null,null,null,null,null,null,null,null,null,null,null,null,null,null,null,null,null,null,null,null,null,null,null,null,null,null,null,null,null,null,null,null,null,null,null,null,null,null,null,null,null,null,null,null,null,"MAGLUBIYET SAYISI ",null,null,null,{"$f":"EO15","v":1},{"$f":"IF(FZ78>GK74,IF(FZ78<GL74,\"10\",\"0\"))","v":false},{"$f":"IF(FZ78>GJ74,IF(FZ78<GK74,\"30\",\"0\"))","v":false},{"$f":"IF(FZ78>GI74,IF(FZ78<GJ74,\"50\",\"0\"))","v":false},{"$f":"IF(FZ78>GH74,IF(FZ78<GI74,\"70\",\"0\"))","v":false},{"$f":"IF(FZ78>GG74,IF(FZ78<GH74,\"90\",\"0\"))","v":"90"},{"$f":"GA78+GB78+GC78+GD78+GE78","v":90},null,null,null,null,null,null,null,null,null,null,null,null,null,null,null,null,null,null,null,null,null,null,null,null,null,null,null,null,null,null,null,null,null,null,null,null,null,null,null,null,null,null,null,null,null,null,null,null,null,null,null,null,null,null,null,null,null,null,null,null,null,null,null,null,null,null,null,null,null,null,null,null,null,null,null,null,null,null,null,null,null,null,null,null,null,null,null,null,null,null,null,null,null,null,null,null,null,null,"MAGLUBIYET SAYISI ",null,null,null,{"$f":"IT15","v":2},{"$f":"IF(KE78>KP74,IF(KE78<KQ74,\"10\",\"0\"))","v":false},{"$f":"IF(KE78>KO74,IF(KE78<KP74,\"30\",\"0\"))","v":false},{"$f":"IF(KE78>KN74,IF(KE78<KO74,\"50\",\"0\"))","v":false},{"$f":"IF(KE78>KM74,IF(KE78<KN74,\"70\",\"0\"))","v":"70"},{"$f":"IF(KE78>KL74,IF(KE78<KM74,\"90\",\"0\"))","v":"0"},{"$f":"KF78+KG78+KH78+KI78+KJ78","v":70}]
[null,null,null,null,null,null,null,null,null,null,null,null,null,null,null,null,null,null,null,null,null,null,null,null,null,null,null,null,null,null,null,null,null,null,null,null,null,null,null,null,null,null,null,null,null,null,null,null,null,null,null,null,null,null,null,null,null,null,null,null,null,null,null,null,null,null,null,null,"ATTIGI GOL ORTALAMA",null,null,null,{"$f":"Q15","v":0.7},{"$f":"IF(BU79>BV74,IF(BU79<BW74,\"10\",\"0\"))","v":"0"},{"$f":"IF(BU79>BW74,IF(BU79<BX74,\"30\",\"0\"))","v":"30"},{"$f":"IF(BU79>BX74,IF(BU79<BY74,\"50\",\"0\"))","v":false},{"$f":"IF(BU79>BY74,IF(BU79<BZ74,\"70\",\"0\"))","v":false},{"$f":"IF(BU79>BZ74,IF(BU79<CB73,\"90\",\"0\"))","v":false},{"$f":"BV79+BW79+BX79+BY79+BZ79","v":30},null,null,null,null,null,null,null,null,null,null,null,null,null,null,null,null,null,null,null,null,null,null,null,null,null,null,null,null,null,null,null,null,null,null,null,null,null,null,null,null,null,null,null,null,null,null,null,null,null,null,null,null,null,null,null,null,null,null,null,null,null,null,null,null,null,null,null,null,null,null,null,null,null,null,null,null,null,null,null,null,null,null,null,null,null,null,null,null,null,null,null,null,null,null,null,null,null,null,"ATTIGI GOL ORTALAMA",null,null,null,{"$f":"DV15","v":0.8},{"$f":"IF(FZ79>GA74,IF(FZ79<GB74,\"10\",\"0\"))","v":"0"},{"$f":"IF(FZ79>GB74,IF(FZ79<GC74,\"30\",\"0\"))","v":"30"},{"$f":"IF(FZ79>GC74,IF(FZ79<GD74,\"50\",\"0\"))","v":false},{"$f":"IF(FZ79>GD74,IF(FZ79<GE74,\"70\",\"0\"))","v":false},{"$f":"IF(FZ79>GE74,IF(FZ79<GG73,\"90\",\"0\"))","v":false},{"$f":"GA79+GB79+GC79+GD79+GE79","v":30},null,null,null,null,null,null,null,null,null,null,null,null,null,null,null,null,null,null,null,null,null,null,null,null,null,null,null,null,null,null,null,null,null,null,null,null,null,null,null,null,null,null,null,null,null,null,null,null,null,null,null,null,null,null,null,null,null,null,null,null,null,null,null,null,null,null,null,null,null,null,null,null,null,null,null,null,null,null,null,null,null,null,null,null,null,null,null,null,null,null,null,null,null,null,null,null,null,null,"ATTIGI GOL ORTALAMA",null,null,null,{"$f":"IA15","v":0.4},{"$f":"IF(KE79>KF74,IF(KE79<KG74,\"10\",\"0\"))","v":"10"},{"$f":"IF(KE79>KG74,IF(KE79<KH74,\"30\",\"0\"))","v":false},{"$f":"IF(KE79>KH74,IF(KE79<KI74,\"50\",\"0\"))","v":false},{"$f":"IF(KE79>KI74,IF(KE79<KJ74,\"70\",\"0\"))","v":false},{"$f":"IF(KE79>KJ74,IF(KE79<KL73,\"90\",\"0\"))","v":false},{"$f":"KF79+KG79+KH79+KI79+KJ79","v":10}]
[null,null,null,null,null,null,null,null,null,null,null,null,null,null,null,null,null,null,null,null,null,null,null,null,null,null,null,null,null,null,null,null,null,null,null,null,null,null,null,null,null,null,null,null,null,null,null,null,null,null,null,null,null,null,null,null,null,null,null,null,null,null,null,null,null,null,null,null,"YEDIGI GOL ORTALAMA ",null,null,null,{"$f":"R15","v":0.2},{"$f":"IF(BU80>CB73,IF(BU80<BZ74,\"10\",\"0\"))","v":false},{"$f":"IF(BU80>BY74,IF(BU80<BZ74,\"30\",\"0\"))","v":false},{"$f":"IF(BU80>BX74,IF(BU80<BY74,\"50\",\"0\"))","v":false},{"$f":"IF(BU80>BW74,IF(BU80<BX74,\"70\",\"0\"))","v":false},{"$f":"IF(BU80>BV74,IF(BU80<BW74,\"90\",\"0\"))","v":"90"},{"$f":"BV80+BW80+BX80+BY80+BZ80","v":90},null,null,null,null,null,null,null,null,"IY ",null,"MS ",null,null,null,null,"IY",null,null,null,"MS",null,null,null,null,null,null,null,null,null,null,null,null,null,null,null,null,null,null,null,null,null,null,null,null,null,null,null,null,null,null,null,null,null,null,null,null,null,null,null,null,null,null,null,null,null,null,null,null,null,null,null,null,null,null,null,null,null,null,null,null,null,null,null,null,null,null,null,null,null,null,null,null,null,null,null,null,null,null,"YEDIGI GOL ORTALAMA ",null,null,null,{"$f":"DW15","v":0.4},{"$f":"IF(FZ80>GG73,IF(FZ80<GE74,\"10\",\"0\"))","v":false},{"$f":"IF(FZ80>GD74,IF(FZ80<GE74,\"30\",\"0\"))","v":false},{"$f":"IF(FZ80>GC74,IF(FZ80<GD74,\"50\",\"0\"))","v":false},{"$f":"IF(FZ80>GB74,IF(FZ80<GC74,\"70\",\"0\"))","v":false},{"$f":"IF(FZ80>GA74,IF(FZ80<GB74,\"90\",\"0\"))","v":"90"},90,null,null,null,null,null,null,null,null,"IY ",null,"MS ",null,null,null,null,"IY",null,null,null,"MS",null,null,null,null,null,null,null,null,null,null,null,null,null,null,null,null,null,null,null,null,null,null,null,null,null,null,null,null,null,null,null,null,null,null,null,null,null,null,null,null,null,null,null,null,null,null,null,null,null,null,null,null,null,null,null,null,null,null,null,null,null,null,null,null,null,null,null,null,null,null,null,null,null,null,null,null,null,null,"YEDIGI GOL ORTALAMA ",null,null,null,{"$f":"IB15","v":0.6},{"$f":"IF(KE80>KL73,IF(KE80<KJ74,\"10\",\"0\"))","v":false},{"$f":"IF(KE80>KI74,IF(KE80<KJ74,\"30\",\"0\"))","v":false},{"$f":"IF(KE80>KH74,IF(KE80<KI74,\"50\",\"0\"))","v":false},{"$f":"IF(KE80>KG74,IF(KE80<KH74,\"70\",\"0\"))","v":"70"},{"$f":"IF(KE80>KF74,IF(KE80<KG74,\"90\",\"0\"))","v":"0"},70,null,null,null,null,null,null,null,null,"IY ",null,"MS ",null,null,null,null,"IY",null,null,null,"MS"]
[null,null,null,null,null,null,null,null,null,null,null,null,null,null,null,null,null,null,null,null,null,null,null,null,null,null,null,null,null,null,null,null,null,null,null,null,null,null,null,null,null,null,null,null,null,null,null,null,null,null,null,null,null,null,null,null,null,null,null,null,null,null,null,null,null,null,null,null,"ATTIGI GOL MAC BASINA ",null,null,null,{"$f":"AF15","v":7},{"$f":"IF(BU81>BV74,IF(BU81<BX74,\"10\",\"0\"))","v":"0"},{"$f":"IF(BU81>BX74,IF(BU81<BY74,\"30\",\"0\"))","v":"0"},{"$f":"IF(BU81>BY74,IF(BU81<BZ74,\"50\",\"0\"))","v":"0"},{"$f":"IF(BU81>BZ74,IF(BU81<CA74,\"70\",\"0\"))","v":"0"},{"$f":"IF(BU81>CA74,IF(BU81<CG74,\"90\",\"0\"))","v":"90"},90,null,null,null,null,null,null,null,null,{"$f":"AVERAGE(CK75,CP77)","v":0.4},1,{"$f":"AVERAGE(CM75,CR77)","v":0.5},1,null,null,1,"X",2,null,1,"X",2,null,null,null,null,null,null,null,null,null,null,null,null,null,null,null,null,null,null,null,null,null,null,null,null,null,null,null,null,null,null,null,null,null,null,null,null,null,null,null,null,null,null,null,null,null,null,null,null,null,null,null,null,null,null,null,null,null,null,null,null,null,null,null,null,null,null,null,null,null,null,null,null,null,null,null,null,null,"ATTIGI GOL MAC BASINA ",null,null,null,{"$f":"EK15","v":4},{"$f":"IF(FZ81>GA74,IF(FZ81<GC74,\"10\",\"0\"))","v":"0"},{"$f":"IF(FZ81>GC74,IF(FZ81<GD74,\"30\",\"0\"))","v":"0"},{"$f":"IF(FZ81>GD74,IF(FZ81<GE74,\"50\",\"0\"))","v":"0"},{"$f":"IF(FZ81>GE74,IF(FZ81<GF74,\"70\",\"0\"))","v":"0"},{"$f":"IF(FZ81>GF74,IF(FZ81<GL74,\"90\",\"0\"))","v":"90"},90,null,null,null,null,null,null,null,null,{"$f":"AVERAGE(GP75,GU77)","v":0.3},1,{"$f":"AVERAGE(GR75,GW77)","v":0.4},1,null,null,1,"X",2,null,1,"X",2,null,null,null,null,null,null,null,null,null,null,null,null,null,null,null,null,null,null,null,null,null,null,null,null,null,null,null,null,null,null,null,null,null,null,null,null,null,null,null,null,null,null,null,null,null,null,null,null,null,null,null,null,null,null,null,null,null,null,null,null,null,null,null,null,null,null,null,null,null,null,null,null,null,null,null,null,null,"ATTIGI GOL MAC BASINA ",null,null,null,{"$f":"IP15","v":2},{"$f":"IF(KE81>KF74,IF(KE81<KH74,\"10\",\"0\"))","v":"0"},{"$f":"IF(KE81>KH74,IF(KE81<KI74,\"30\",\"0\"))","v":"0"},{"$f":"IF(KE81>KI74,IF(KE81<KJ74,\"50\",\"0\"))","v":"50"},{"$f":"IF(KE81>KJ74,IF(KE81<KK74,\"70\",\"0\"))","v":false},{"$f":"IF(KE81>KK74,IF(KE81<KQ74,\"90\",\"0\"))","v":false},50,null,null,null,null,null,null,null,null,{"$f":"IF(HU34=\"\",\"\",AVERAGE(KU75,KZ77))","v":0.30000000000000004},1,{"$f":"IF(HU34=\"\",\"\",AVERAGE(KW75,LB77))","v":0.2},1,null,null,1,"X",2,null,1,"X",2]
[null,null,null,null,null,null,null,null,null,null,null,null,null,null,null,null,null,null,null,null,null,null,null,null,null,null,null,null,null,null,null,null,null,null,null,null,null,null,null,null,null,null,null,null,null,null,null,null,null,null,null,null,null,null,null,null,null,null,null,null,null,null,null,null,null,null,null,null,"YEDIGI GOL MAC BASINA ",null,null,null,{"$f":"AG15","v":2},{"$f":"IF(BU82>CF74,IF(BU82<CG74,\"10\",\"0\"))","v":false},{"$f":"IF(BU82>CE74,IF(BU82<CF74,\"30\",\"0\"))","v":false},{"$f":"IF(BU82>CD74,IF(BU82<CE74,\"50\",\"0\"))","v":false},{"$f":"IF(BU82>CC74,IF(BU82<CD74,\"70\",\"0\"))","v":"70"},{"$f":"IF(BU82>CB74,IF(BU82<CC74,\"90\",\"0\"))","v":"0"},70,null,null,null,null,null,null,null,null,{"$f":"AVERAGE(CK76,CP76)","v":0.44999999999999996},"X",{"$f":"AVERAGE(CM76,CR76)","v":0.30000000000000004},"X",null,null,{"$f":"CJ81","v":0.4},{"$f":"CJ82","v":0.44999999999999996},{"$f":"CJ83","v":0.15000000000000002},null,{"$f":"CL81","v":0.5},{"$f":"CL82","v":0.30000000000000004},{"$f":"CL83","v":0.2},null,null,null,null,null,null,null,null,null,null,null,null,null,null,null,null,null,null,null,null,null,null,null,null,null,null,null,null,null,null,null,null,null,null,null,null,null,null,null,null,null,null,null,null,null,null,null,null,null,null,null,null,null,null,null,null,null,null,null,null,null,null,null,null,null,null,null,null,null,null,null,null,null,null,null,null,null,"YEDIGI GOL MAC BASINA ",null,null,null,{"$f":"EL15","v":2},{"$f":"IF(FZ82>GK74,IF(FZ82<GL74,\"10\",\"0\"))","v":false},{"$f":"IF(FZ82>GJ74,IF(FZ82<GK74,\"30\",\"0\"))","v":false},{"$f":"IF(FZ82>GI74,IF(FZ82<GJ74,\"50\",\"0\"))","v":false},{"$f":"IF(FZ82>GH74,IF(FZ82<GI74,\"70\",\"0\"))","v":"70"},{"$f":"IF(FZ82>GG74,IF(FZ82<GH74,\"90\",\"0\"))","v":"0"},70,null,null,null,null,null,null,null,null,{"$f":"AVERAGE(GP76,GU76)","v":0.4},"X",{"$f":"AVERAGE(GR76,GW76)","v":0.30000000000000004},"X",null,null,{"$f":"GO81","v":0.3},{"$f":"GO82","v":0.4},{"$f":"GO83","v":0.30000000000000004},null,{"$f":"GQ81","v":0.4},{"$f":"GQ82","v":0.30000000000000004},{"$f":"GQ83","v":0.3},null,null,null,null,null,null,null,null,null,null,null,null,null,null,null,null,null,null,null,null,null,null,null,null,null,null,null,null,null,null,null,null,null,null,null,null,null,null,null,null,null,null,null,null,null,null,null,null,null,null,null,null,null,null,null,null,null,null,null,null,null,null,null,null,null,null,null,null,null,null,null,null,null,null,null,null,null,"YEDIGI GOL MAC BASINA ",null,null,null,{"$f":"IQ15","v":2},{"$f":"IF(KE82>KP74,IF(KE82<KQ74,\"10\",\"0\"))","v":false},{"$f":"IF(KE82>KO74,IF(KE82<KP74,\"30\",\"0\"))","v":false},{"$f":"IF(KE82>KN74,IF(KE82<KO74,\"50\",\"0\"))","v":false},{"$f":"IF(KE82>KM74,IF(KE82<KN74,\"70\",\"0\"))","v":"70"},{"$f":"IF(KE82>KL74,IF(KE82<KM74,\"90\",\"0\"))","v":"0"},70,null,null,null,null,null,null,null,null,{"$f":"IF(HU34=\"\",\"\",AVERAGE(KU76,KZ76))","v":0.4},"X",{"$f":"IF(HU34=\"\",\"\",AVERAGE(KW76,LB76))","v":0.4},"X",null,null,{"$f":"KT81","v":0.30000000000000004},{"$f":"KT82","v":0.4},{"$f":"KT83","v":0.30000000000000004},null,{"$f":"KV81","v":0.2},{"$f":"KV82","v":0.4},{"$f":"KV83","v":0.4}]
[null,null,null,null,null,null,null,null,null,null,null,null,null,null,null,null,null,null,null,null,null,null,null,null,null,null,null,null,null,null,null,null,null,null,null,null,null,null,null,null,null,null,null,null,null,null,null,null,null,null,null,null,null,null,null,null,null,null,null,null,null,null,null,null,null,null,null,null,"EV IY TOPLAM GOL",null,null,null,{"$f":"U15","v":0.9},{"$f":"IF(BU83>BV74,IF(BU83<BW74,\"10\",\"0\"))","v":"0"},{"$f":"IF(BU83>BW74,IF(BU83<BX74,\"30\",\"0\"))","v":"30"},{"$f":"IF(BU83>BX74,IF(BU83<BY74,\"50\",\"0\"))","v":false},{"$f":"IF(BU83>BY74,IF(BU83<BZ74,\"70\",\"0\"))","v":false},{"$f":"IF(BU83>BZ74,IF(BU83<CB73,\"90\",\"0\"))","v":false},30,null,null,null,null,null,null,null,null,{"$f":"AVERAGE(CK77,CP75)","v":0.15000000000000002},2,{"$f":"AVERAGE(CM77,CR75)","v":0.2},2,null,null,null,null,null,null,null,null,null,null,null,null,null,null,null,null,null,null,null,null,null,null,null,null,null,null,null,null,null,null,null,null,null,null,null,null,null,null,null,null,null,null,null,null,null,null,null,null,null,null,null,null,null,null,null,null,null,null,null,null,null,null,null,null,null,null,null,null,null,null,null,null,null,null,null,null,null,null,null,null,null,null,null,null,null,null,"EV IY TOPLAM GOL",null,null,null,{"$f":"DZ15","v":1.2},{"$f":"IF(FZ83>GA74,IF(FZ83<GB74,\"10\",\"0\"))","v":"0"},{"$f":"IF(FZ83>GB74,IF(FZ83<GC74,\"30\",\"0\"))","v":"30"},{"$f":"IF(FZ83>GC74,IF(FZ83<GD74,\"50\",\"0\"))","v":false},{"$f":"IF(FZ83>GD74,IF(FZ83<GE74,\"70\",\"0\"))","v":false},{"$f":"IF(FZ83>GE74,IF(FZ83<GG73,\"90\",\"0\"))","v":false},30,null,null,null,null,null,null,null,null,{"$f":"AVERAGE(GP77,GU75)","v":0.30000000000000004},2,{"$f":"AVERAGE(GR77,GW75)","v":0.3},2,null,null,null,null,null,null,null,null,null,null,null,null,null,null,null,null,null,null,null,null,null,null,null,null,null,null,null,null,null,null,null,null,null,null,null,null,null,null,null,null,null,null,null,null,null,null,null,null,null,null,null,null,null,null,null,null,null,null,null,null,null,null,null,null,null,null,null,null,null,null,null,null,null,null,null,null,null,null,null,null,null,null,null,null,null,null,"EV IY TOPLAM GOL",null,null,null,{"$f":"IE15","v":1},{"$f":"IF(KE83>KF74,IF(KE83<KG74,\"10\",\"0\"))","v":"0"},{"$f":"IF(KE83>KG74,IF(KE83<KH74,\"30\",\"0\"))","v":"30"},{"$f":"IF(KE83>KH74,IF(KE83<KI74,\"50\",\"0\"))","v":false},{"$f":"IF(KE83>KI74,IF(KE83<KJ74,\"70\",\"0\"))","v":false},{"$f":"IF(KE83>KJ74,IF(KE83<KL73,\"90\",\"0\"))","v":false},30,null,null,null,null,null,null,null,null,{"$f":"IF(HU34=\"\",\"\",AVERAGE(KU77,KZ75))","v":0.30000000000000004},2,{"$f":"IF(HU34=\"\",\"\",AVERAGE(KW77,LB75))","v":0.4},2]
[]
[null,null,null,null,null,null,null,null,null,null,null,null,null,null,null,null,null,null,null,null,null,null,null,null,null,null,null,null,null,null,null,null,null,null,null,null,null,null,null,null,null,null,null,null,null,null,null,null,null,null,null,null,null,null,null,null,null,null,null,null,null,null,null,null,null,null,null,null,null,null,null,null,null,null,null,null,{"$f":"1-BZ85","v":0.37444444444444447},{"$f":"CA86/100","v":0.62555555555555553},null,null,null,null,null,null,null,null,null,{"$f":"LARGE(CJ81:CJ83,1)","v":0.44999999999999996},{"$f":"VLOOKUP(CJ85,CJ81:CK83,2,FALSE)","v":"X"},{"$f":"LARGE(CL81:CL83,1)","v":0.5},{"$f":"VLOOKUP(CL85,CL81:CM83,2,FALSE)","v":1},null,null,null,null,null,null,null,null,null,null,null,null,null,null,null,null,null,null,null,null,null,null,null,null,null,null,null,null,null,null,null,null,null,null,null,null,null,null,null,null,null,null,null,null,null,null,null,null,null,null,null,null,null,null,null,null,null,null,null,null,null,null,null,null,null,null,null,null,null,null,null,null,null,null,null,null,null,null,null,null,null,null,null,null,null,null,null,null,null,null,null,null,null,null,{"$f":"1-GE85","v":0.46333333333333337},{"$f":"GF86/100","v":0.53666666666666663},null,null,null,null,null,null,null,null,null,{"$f":"LARGE(GO81:GO83,1)","v":0.4},{"$f":"VLOOKUP(GO85,GO81:GP83,2,FALSE)","v":"X"},{"$f":"LARGE(GQ81:GQ83,1)","v":0.4},{"$f":"VLOOKUP(GQ85,GQ81:GR83,2,FALSE)","v":1},null,null,null,null,null,null,null,null,null,null,null,null,null,null,null,null,null,null,null,null,null,null,null,null,null,null,null,null,null,null,null,null,null,null,null,null,null,null,null,null,null,null,null,null,null,null,null,null,null,null,null,null,null,null,null,null,null,null,null,null,null,null,null,null,null,null,null,null,null,null,null,null,null,null,null,null,null,null,null,null,null,null,null,null,null,null,null,null,null,null,null,null,null,null,{"$f":"1-KJ85","v":0.57444444444444442},{"$f":"KK86/100","v":0.42555555555555558},null,null,null,null,null,null,null,null,null,{"$f":"LARGE(KT81:KT83,1)","v":0.4},{"$f":"VLOOKUP(KT85,KT81:KU83,2,FALSE)","v":"X"},{"$f":"LARGE(KV81:KV83,1)","v":0.4},{"$f":"VLOOKUP(KV85,KV81:KW83,2,FALSE)","v":"X"}]
[null,null,null,null,null,null,null,null,null,null,null,null,null,null,null,null,null,null,null,null,null,null,null,null,null,null,null,null,null,null,null,null,null,null,null,null,null,null,null,null,null,null,null,null,null,null,null,null,null,null,null,null,null,null,null,null,null,null,null,null,null,null,null,null,null,null,null,null,null,null,null,0,45.77,59.9,84.9,100,null,null,{"$f":"AVERAGE(CA70:CA83)","v":62.555555555555557},null,2,"X",1,1,null,null,null,{"$f":"LARGE(CJ81:CJ83,2)","v":0.4},{"$f":"VLOOKUP(CJ86,CJ81:CK83,2,FALSE)","v":1},{"$f":"LARGE(CL81:CL83,2)","v":0.30000000000000004},{"$f":"VLOOKUP(CL86,CL81:CM83,2,FALSE)","v":"X"},null,null,null,null,null,null,null,null,null,null,null,null,null,null,null,null,null,null,null,null,null,null,null,null,null,null,null,null,null,null,null,null,null,null,null,null,null,null,null,null,null,null,null,null,null,null,null,null,null,null,null,null,null,null,null,null,null,null,null,null,null,null,null,null,null,null,null,null,null,null,null,null,null,null,null,null,null,null,null,null,null,null,null,null,null,null,null,null,null,{"$f":"BT86","v":0},{"$f":"BU86","v":45.77},59.9,84.9,100,null,null,{"$f":"AVERAGE(GF70:GF83)","v":53.666666666666664},null,{"$f":"CC86","v":2},{"$f":"CD86","v":"X"},1,1,null,null,null,{"$f":"LARGE(GO81:GO83,2)","v":0.30000000000000004},{"$f":"VLOOKUP(GO86,GO81:GP83,2,FALSE)","v":2},{"$f":"LARGE(GQ81:GQ83,2)","v":0.30000000000000004},{"$f":"VLOOKUP(GQ86,GQ81:GR83,2,FALSE)","v":"X"},null,null,null,null,null,null,null,null,null,null,null,null,null,null,null,null,null,null,null,null,null,null,null,null,null,null,null,null,null,null,null,null,null,null,null,null,null,null,null,null,null,null,null,null,null,null,null,null,null,null,null,null,null,null,null,null,null,null,null,null,null,null,null,null,null,null,null,null,null,null,null,null,null,null,null,null,null,null,null,null,null,null,null,null,null,null,null,null,null,{"$f":"FY86","v":0},{"$f":"FZ86","v":45.77},59.9,84.9,100,null,null,{"$f":"AVERAGE(KK70:KK83)","v":42.555555555555557},null,{"$f":"GH86","v":2},{"$f":"GI86","v":"X"},1,1,null,null,null,{"$f":"LARGE(KT81:KT83,2)","v":0.30000000000000004},{"$f":"VLOOKUP(KT86,KT81:KU83,2,FALSE)","v":1},{"$f":"LARGE(KV81:KV83,2)","v":0.4},{"$f":"VLOOKUP(KV86,KV81:KW83,2,FALSE)","v":"X"}]
[null,null,null,null,null,null,null,null,null,null,null,null,null,null,null,null,null,null,null,null,null,null,null,null,null,null,null,null,null,null,null,null,null,null,null,null,null,null,null,null,null,null,null,null,null,null,null,null,null,null,null,null,null,null,null,null,null,null,null,null,null,null,null,null,null,null,null,null,null,null,null,null,null,null,null,null,null,"EV SONUC",{"$f":"IF(CA86>BT86,IF(CA86<BU86,CC86,IF(CA86>BU86,IF(CA86<BV86,CD86,IF(CA86>BV86,IF(CA86<BW86,CE86,IF(CA86>BW86,IF(CA86<BX86,CF86,CC80))))))))","v":1},null,null,null,null,null,null,null,null,null,null,null,null,null,null,null,null,null,null,null,null,null,null,null,null,null,null,null,null,null,null,null,null,null,null,null,null,null,null,null,null,null,null,null,null,null,null,null,null,null,null,null,null,null,null,null,null,null,null,null,null,null,null,null,null,null,null,null,null,null,null,null,null,null,null,null,null,null,null,null,null,null,null,null,null,null,null,null,null,null,null,null,null,null,null,null,null,null,null,null,null,null,null,null,null,null,null,null,"EV SONUC",{"$f":"IF(GF86>FY86,IF(GF86<FZ86,GH86,IF(GF86>FZ86,IF(GF86<GA86,GI86,IF(GF86>GA86,IF(GF86<GB86,GJ86,IF(GF86>GB86,IF(GF86<GC86,GK86,GH80))))))))","v":"X"},null,null,null,null,null,null,null,null,null,null,null,null,null,null,null,null,null,null,null,null,null,null,null,null,null,null,null,null,null,null,null,null,null,null,null,null,null,null,null,null,null,null,null,null,null,null,null,null,null,null,null,null,null,null,null,null,null,null,null,null,null,null,null,null,null,null,null,null,null,null,null,null,null,null,null,null,null,null,null,null,null,null,null,null,null,null,null,null,null,null,null,null,null,null,null,null,null,null,null,null,null,null,null,null,null,null,null,"EV SONUC",{"$f":"IF(KK86>KD86,IF(KK86<KE86,KM86,IF(KK86>KE86,IF(KK86<KF86,KN86,IF(KK86>KF86,IF(KK86<KG86,KO86,IF(KK86>KG86,IF(KK86<KH86,KP86,KM80))))))))","v":2}]
[null,null,null,null,null,null,null,null,null,null,null,null,null,null,null,null,null,null,null,null,null,null,null,null,null,null,null,null,null,null,null,null,null,null,null,null,null,null,null,null,null,null,null,null,null,null,null,null,null,null,null,null,null,null,null,null,null,null,null,null,null,null,null,null,null,null,null,null,null,null,null,null,null,null,null,null,null,null,{"$f":"IF(CA86>BT86,IF(CA86<BU86,BY85,IF(CA86>BU86,IF(CA86<BV86,BZ85,IF(CA86>BV86,IF(CA86<BW86,BZ85,IF(CA86>BW86,IF(CA86<BX86,0.4))))))))","v":0.62555555555555553},null,null,null,null,null,null,null,null,null,null,null,null,null,null,"IY ICIN ","MS ","IY-MS",null,null,null,null,null,null,null,null,null,null,null,null,null,null,null,null,null,null,null,null,null,null,null,null,null,null,null,null,null,null,null,null,null,null,null,null,null,null,null,null,null,null,null,null,null,null,null,null,null,null,null,null,null,null,null,null,null,null,null,null,null,null,null,null,null,null,null,null,null,null,null,null,null,null,null,null,null,null,null,null,null,null,null,null,null,null,null,null,null,null,null,{"$f":"IF(GF86>FY86,IF(GF86<FZ86,GD85,IF(GF86>FZ86,IF(GF86<GA86,GE85,IF(GF86>GA86,IF(GF86<GB86,GE85,IF(GF86>GB86,IF(GF86<GC86,0.4))))))))","v":0.53666666666666663},null,null,null,null,null,null,null,null,null,null,null,null,null,null,"IY ICIN ","MS ","IY-MS",null,null,null,null,null,null,null,null,null,null,null,null,null,null,null,null,null,null,null,null,null,null,null,null,null,null,null,null,null,null,null,null,null,null,null,null,null,null,null,null,null,null,null,null,null,null,null,null,null,null,null,null,null,null,null,null,null,null,null,null,null,null,null,null,null,null,null,null,null,null,null,null,null,null,null,null,null,null,null,null,null,null,null,null,null,null,null,null,null,null,null,{"$f":"IF(KK86>KD86,IF(KK86<KE86,KI85,IF(KK86>KE86,IF(KK86<KF86,KJ85,IF(KK86>KF86,IF(KK86<KG86,KJ85,IF(KK86>KG86,IF(KK86<KH86,0.4))))))))","v":0.57444444444444442},null,null,null,null,null,null,null,null,null,null,null,null,null,null,"IY ICIN ","MS ","IY-MS"]
[null,null,null,null,null,null,null,null,null,null,null,null,null,null,null,null,null,null,null,null,null,null,null,null,null,null,null,null,null,null,null,null,null,null,null,null,null,null,null,null,null,null,null,null,null,null,null,null,null,null,null,null,null,null,null,null,null,null,null,null,null,null,null,null,null,null,null,null,null,null,null,null,null,null,null,null,null,null,null,null,null,null,null,null,null,null,"BAHIS YAP",null,{"$f":"AVERAGE(CJ85,CA116)","v":0.53138888888888891},"IY ",{"$f":"CK85","v":"X"},null,null,{"$f":"IF(CM89=CA115,CI89,CI90)","v":"RISKLI"},{"$f":"IF(CM90=CA163,CI89,CI90)","v":"RISKLI"},{"$f":"IF(CM91=BY180,CI89,CI90)","v":"RISKLI"},null,null,null,null,null,null,null,null,null,null,null,null,null,null,null,null,null,null,null,null,null,null,null,null,null,null,null,null,null,null,null,null,null,null,null,null,null,null,null,null,null,null,null,null,null,null,null,null,null,null,null,null,null,null,null,null,null,null,null,null,null,null,null,null,null,null,null,null,null,null,null,null,null,null,null,null,null,null,null,null,null,null,null,null,null,null,null,null,null,null,null,null,null,null,null,null,null,null,null,"BAHIS YAP",null,{"$f":"AVERAGE(GO85,GF116)","v":0.47479166666666667},"IY ",{"$f":"GP85","v":"X"},null,null,{"$f":"IF(GR89=GF115,GN89,GN90)","v":"RISKLI"},{"$f":"IF(GR90=GF163,GN89,GN90)","v":"BAHIS YAP"},{"$f":"IF(GR91=GD180,GN89,GN90)","v":"RISKLI"},null,null,null,null,null,null,null,null,null,null,null,null,null,null,null,null,null,null,null,null,null,null,null,null,null,null,null,null,null,null,null,null,null,null,null,null,null,null,null,null,null,null,null,null,null,null,null,null,null,null,null,null,null,null,null,null,null,null,null,null,null,null,null,null,null,null,null,null,null,null,null,null,null,null,null,null,null,null,null,null,null,null,null,null,null,null,null,null,null,null,null,null,null,null,null,null,null,null,null,"BAHIS YAP",null,{"$f":"AVERAGE(KT85,KK116)","v":0.46861111111111114},"IY ",{"$f":"KU85","v":"X"},null,null,{"$f":"IF(KW89=KK115,KS89,KS90)","v":"RISKLI"},{"$f":"IF(KW90=KK163,KS89,KS90)","v":"RISKLI"},{"$f":"IF(KW91=KI180,KS89,KS90)","v":"RISKLI"}]
[null,null,null,null,null,null,null,null,null,null,null,null,null,null,null,null,null,null,null,null,null,null,null,null,null,null,null,null,null,null,null,null,null,null,null,null,null,null,null,null,null,null,null,null,null,null,null,null,null,null,null,null,null,null,null,null,null,null,null,null,null,null,null,null,null,null,null,null,null,null,null,null,null,null,null,null,null,null,null,null,null,null,null,null,null,null,"RISKLI",null,{"$f":"AVERAGE(CL85,CA164)","v":0.57187500000000002},"MS ",{"$f":"CM85","v":1},null,null,{"$f":"IF(CP89=CI89,CK89,CI90)","v":"RISKLI"},{"$f":"IF(CQ89=CI89,CK90,CI90)","v":"RISKLI"},{"$f":"IF(CR89=CI89,CK91,CI90)","v":"RISKLI"},null,null,null,null,null,null,null,null,null,null,null,null,null,null,null,null,null,null,null,null,null,null,null,null,null,null,null,null,null,null,null,null,null,null,null,null,null,null,null,null,null,null,null,null,null,null,null,null,null,null,null,null,null,null,null,null,null,null,null,null,null,null,null,null,null,null,null,null,null,null,null,null,null,null,null,null,null,null,null,null,null,null,null,null,null,null,null,null,null,null,null,null,null,null,null,null,null,null,null,"RISKLI",null,{"$f":"AVERAGE(GQ85,GF164)","v":0.59687500000000004},"MS ",{"$f":"GR85","v":1},null,null,{"$f":"IF(GU89=GN89,GP89,GN90)","v":"RISKLI"},{"$f":"IF(GV89=GN89,GP90,GN90)","v":0.59687500000000004},{"$f":"IF(GW89=GN89,GP91,GN90)","v":"RISKLI"},null,null,null,null,null,null,null,null,null,null,null,null,null,null,null,null,null,null,null,null,null,null,null,null,null,null,null,null,null,null,null,null,null,null,null,null,null,null,null,null,null,null,null,null,null,null,null,null,null,null,null,null,null,null,null,null,null,null,null,null,null,null,null,null,null,null,null,null,null,null,null,null,null,null,null,null,null,null,null,null,null,null,null,null,null,null,null,null,null,null,null,null,null,null,null,null,null,null,null,"RISKLI",null,{"$f":"AVERAGE(KV85,KK164)","v":0.5},"MS ",{"$f":"KW85","v":"X"},null,null,{"$f":"IF(KZ89=KS89,KU89,KS90)","v":"RISKLI"},{"$f":"IF(LA89=KS89,KU90,KS90)","v":"RISKLI"},{"$f":"IF(LB89=KS89,KU91,KS90)","v":"RISKLI"}]
[null,null,null,null,null,null,null,null,null,null,null,null,null,null,null,null,null,null,null,null,null,null,null,null,null,null,null,null,null,null,null,null,null,null,null,null,null,null,null,null,null,null,null,null,null,null,null,null,null,null,null,null,null,null,null,null,null,null,null,null,null,null,null,null,null,null,null,null,null,null,null,null,null,null,null,null,null,null,null,null,null,null,null,null,null,null,null,null,{"$f":"AVERAGE(CK89:CK90)","v":0.55163194444444441},null,{"$f":"CM89&\" -\"&CM90","v":"X -1"},null,null,null,null,null,null,null,null,null,null,null,null,null,null,null,null,null,null,null,null,null,null,null,null,null,null,null,null,null,null,null,null,null,null,null,null,null,null,null,null,null,null,null,null,null,null,null,null,null,null,null,null,null,null,null,null,null,null,null,null,null,null,null,null,null,null,null,null,null,null,null,null,null,null,null,null,null,null,null,null,null,null,null,null,null,null,null,null,null,null,null,null,null,null,null,null,null,null,null,null,null,null,null,null,null,null,{"$f":"AVERAGE(GP89:GP90)","v":0.53583333333333338},null,{"$f":"GR89&\" -\"&GR90","v":"X -1"},null,null,null,null,null,null,null,null,null,null,null,null,null,null,null,null,null,null,null,null,null,null,null,null,null,null,null,null,null,null,null,null,null,null,null,null,null,null,null,null,null,null,null,null,null,null,null,null,null,null,null,null,null,null,null,null,null,null,null,null,null,null,null,null,null,null,null,null,null,null,null,null,null,null,null,null,null,null,null,null,null,null,null,null,null,null,null,null,null,null,null,null,null,null,null,null,null,null,null,null,null,null,null,null,null,null,{"$f":"AVERAGE(KU89:KU90)","v":0.48430555555555554},null,{"$f":"KW89&\" -\"&KW90","v":"X -X"}]
[null,null,null,null,null,null,null,null,null,null,null,null,null,null,null,null,null,null,null,null,null,null,null,null,null,null,null,null,null,null,null,null,null,null,null,null,null,null,null,null,null,null,null,null,null,null,null,null,null,null,null,null,null,null,null,null,null,null,null,null,null,null,null,null,null,null,null,null,null,null,null,null,null,null,null,null,null,null,null,"10",null,null,null,null,null,null,null,null,null,null,null,null,null,null,null,null,null,null,null,null,null,null,null,null,null,null,null,null,null,null,null,null,null,null,null,null,null,null,null,null,null,null,null,null,null,null,null,null,null,null,null,null,null,null,null,null,null,null,null,null,null,null,null,null,null,null,null,null,null,null,null,null,null,null,null,null,null,null,null,null,null,null,null,null,null,null,null,null,null,null,null,null,null,null,null,null,null,null,null,null,null,null,null,null,null,null,null,null,{"$f":"CB92","v":"10"},null,null,null,null,null,null,null,null,null,null,null,null,null,null,null,null,null,null,null,null,null,null,null,null,null,null,null,null,null,null,null,null,null,null,null,null,null,null,null,null,null,null,null,null,null,null,null,null,null,null,null,null,null,null,null,null,null,null,null,null,null,null,null,null,null,null,null,null,null,null,null,null,null,null,null,null,null,null,null,null,null,null,null,null,null,null,null,null,null,null,null,null,null,null,null,null,null,null,null,null,null,null,null,null,null,null,null,null,{"$f":"GG92","v":"10"}]
[null,null,null,null,null,null,null,null,null,null,null,null,null,null,null,null,null,null,null,null,null,null,null,null,null,null,null,null,null,null,null,null,null,null,null,null,null,null,null,null,null,null,null,null,null,null,null,null,null,null,null,null,null,null,null,null,null,null,null,null,null,null,null,null,null,null,null,null,"ILK YARI DEPLASMAN",null,null,null,null,-1,0.59,1.24,1.99,2.7,3,-1,1.9,3.9,5.9,7.9,10,null,null,null,null,null,null,null,null,null,null,null,null,null,null,null,null,null,null,null,null,null,null,null,null,null,null,null,null,null,null,null,null,null,null,null,null,null,null,null,null,null,null,null,null,null,null,null,null,null,null,null,null,null,null,null,null,null,null,null,null,null,null,null,null,null,null,null,null,null,null,null,null,null,null,null,null,null,null,null,null,null,null,null,null,null,null,null,null,null,null,null,null,"ILK YARI DEPLASMAN",null,null,null,null,{"$f":"BV93","v":-1},0.59,1.24,1.99,2.7,3,-1,1.9,3.9,5.9,7.9,10,null,null,null,null,null,null,null,null,null,null,null,null,null,null,null,null,null,null,null,null,null,null,null,null,null,null,null,null,null,null,null,null,null,null,null,null,null,null,null,null,null,null,null,null,null,null,null,null,null,null,null,null,null,null,null,null,null,null,null,null,null,null,null,null,null,null,null,null,null,null,null,null,null,null,null,null,null,null,null,null,null,null,null,null,null,null,null,null,null,null,null,null,"ILK YARI DEPLASMAN",null,null,null,null,{"$f":"GA93","v":-1},0.59,1.24,1.99,2.7,3,-1,1.9,3.9,5.9,7.9,10]
[null,null,null,null,null,null,null,null,null,null,null,null,null,null,null,null,null,null,null,null,null,null,null,null,null,null,null,null,null,null,null,null,null,null,null,null,null,null,null,null,null,null,null,null,null,null,null,null,null,null,null,null,null,null,null,null,null,null,null,null,null,null,null,null,null,null,null,null,null,null,null,null,null,"0-20","20-40","40-60","60-80","80-100","TOPLAM",null,null,null,null,null,null,null,null,null,null,null,null,null,null,null,null,null,null,null,null,null,null,null,null,null,null,null,null,null,null,null,null,null,null,null,null,null,null,null,null,null,null,null,null,null,null,null,null,null,null,null,null,null,null,null,null,null,null,null,null,null,null,null,null,null,null,null,null,null,null,null,null,null,null,null,null,null,null,null,null,null,null,null,null,null,null,null,null,null,null,null,null,null,null,null,null,null,null,null,null,null,null,null,"0-20","20-40","40-60","60-80","80-100","TOPLAM",null,null,null,null,null,null,null,null,null,null,null,null,null,null,null,null,null,null,null,null,null,null,null,null,null,null,null,null,null,null,null,null,null,null,null,null,null,null,null,null,null,null,null,null,null,null,null,null,null,null,null,null,null,null,null,null,null,null,null,null,null,null,null,null,null,null,null,null,null,null,null,null,null,null,null,null,null,null,null,null,null,null,null,null,null,null,null,null,null,null,null,null,null,null,null,null,null,null,null,null,null,null,null,"0-20","20-40","40-60","60-80","80-100","TOPLAM"]
[null,null,null,null,null,null,null,null,null,null,null,null,null,null,null,null,null,null,null,null,null,null,null,null,null,null,null,null,null,null,null,null,null,null,null,null,null,null,null,null,null,null,null,null,null,null,null,null,null,null,null,null,null,null,null,null,null,null,null,null,null,null,null,null,null,null,null,null,"GALIBIYET SAYISI",null,null,null,{"$f":"BJ15","v":2},{"$f":"IF(BU95>BV93,IF(BU95<BW93,\"10\",\"0\"))","v":"0"},{"$f":"IF(BU95>BW93,IF(BU95<BX93,\"30\",\"0\"))","v":"0"},{"$f":"IF(BU95>BX93,IF(BU95<BZ93,\"50\",\"0\"))","v":"50"},{"$f":"IF(BU95>BZ93,IF(BU95<CD93,\"70\",\"0\"))","v":false},{"$f":"IF(BU95>CD93,IF(BU95<CG93,\"90\",\"0\"))","v":false},{"$f":"BV95+BW95+BX95+BY95+BZ95","v":50},{"$f":"0-CA95","v":-50},null,null,null,null,null,null,null,null,null,null,null,null,null,null,null,null,null,null,null,null,null,null,null,null,null,null,null,null,null,null,null,null,null,null,null,null,null,null,null,null,null,null,null,null,null,null,null,null,null,null,null,null,null,null,null,null,null,null,null,null,null,null,null,null,null,null,null,null,null,null,null,null,null,null,null,null,null,null,null,null,null,null,null,null,null,null,null,null,null,null,null,null,null,null,null,null,null,"GALIBIYET SAYISI",null,null,null,{"$f":"FO15","v":2},{"$f":"IF(FZ95>GA93,IF(FZ95<GB93,\"10\",\"0\"))","v":"0"},{"$f":"IF(FZ95>GB93,IF(FZ95<GC93,\"30\",\"0\"))","v":"0"},{"$f":"IF(FZ95>GC93,IF(FZ95<GE93,\"50\",\"0\"))","v":"50"},{"$f":"IF(FZ95>GE93,IF(FZ95<GI93,\"70\",\"0\"))","v":false},{"$f":"IF(FZ95>GI93,IF(FZ95<GL93,\"90\",\"0\"))","v":false},{"$f":"GA95+GB95+GC95+GD95+GE95","v":50},{"$f":"0-GF95","v":-50},null,null,null,null,null,null,null,null,null,null,null,null,null,null,null,null,null,null,null,null,null,null,null,null,null,null,null,null,null,null,null,null,null,null,null,null,null,null,null,null,null,null,null,null,null,null,null,null,null,null,null,null,null,null,null,null,null,null,null,null,null,null,null,null,null,null,null,null,null,null,null,null,null,null,null,null,null,null,null,null,null,null,null,null,null,null,null,null,null,null,null,null,null,null,null,null,null,"GALIBIYET SAYISI",null,null,null,{"$f":"JT15","v":1},{"$f":"IF(KE95>KF93,IF(KE95<KG93,\"10\",\"0\"))","v":"0"},{"$f":"IF(KE95>KG93,IF(KE95<KH93,\"30\",\"0\"))","v":"30"},{"$f":"IF(KE95>KH93,IF(KE95<KJ93,\"50\",\"0\"))","v":false},{"$f":"IF(KE95>KJ93,IF(KE95<KN93,\"70\",\"0\"))","v":false},{"$f":"IF(KE95>KN93,IF(KE95<KQ93,\"90\",\"0\"))","v":false},{"$f":"KF95+KG95+KH95+KI95+KJ95","v":30},{"$f":"0-KK95","v":-30}]
[null,null,null,null,null,null,null,null,null,null,null,null,null,null,null,null,null,null,null,null,null,null,null,null,null,null,null,null,null,null,null,null,null,null,null,null,null,null,null,null,null,null,null,null,null,null,null,null,null,null,null,null,null,null,null,null,null,null,null,null,null,null,null,null,null,null,null,null,"BERABERLIK SAYISI",null,null,null,{"$f":"BK15","v":6},{"$f":"IF(BU96>BV93,IF(BU96<BX93,\"10\",\"0\"))","v":"0"},{"$f":"IF(BU96>BX93,IF(BU96<BY93,\"30\",\"0\"))","v":"0"},{"$f":"IF(BU96>BX93,IF(BU96<BZ93,\"50\",\"0\"))","v":"0"},{"$f":"IF(BU96>BZ93,IF(BU96<CD93,\"70\",\"0\"))","v":"0"},{"$f":"IF(BU96>CD93,IF(BU96<CG93,\"90\",\"0\"))","v":"90"},90,{"$f":"0-CA96","v":-90},null,null,null,null,null,null,null,null,null,null,null,null,null,null,null,null,null,null,null,null,null,null,null,null,null,null,null,null,null,null,null,null,null,null,null,null,null,null,null,null,null,null,null,null,null,null,null,null,null,null,null,null,null,null,null,null,null,null,null,null,null,null,null,null,null,null,null,null,null,null,null,null,null,null,null,null,null,null,null,null,null,null,null,null,null,null,null,null,null,null,null,null,null,null,null,null,null,"BERABERLIK SAYISI",null,null,null,{"$f":"FP15","v":3},{"$f":"IF(FZ96>GA93,IF(FZ96<GC93,\"10\",\"0\"))","v":"0"},{"$f":"IF(FZ96>GC93,IF(FZ96<GD93,\"30\",\"0\"))","v":"0"},{"$f":"IF(FZ96>GC93,IF(FZ96<GE93,\"50\",\"0\"))","v":"0"},{"$f":"IF(FZ96>GE93,IF(FZ96<GI93,\"70\",\"0\"))","v":"70"},{"$f":"IF(FZ96>GI93,IF(FZ96<GL93,\"90\",\"0\"))","v":false},70,{"$f":"0-GF96","v":-70},null,null,null,null,null,null,null,null,null,null,null,null,null,null,null,null,null,null,null,null,null,null,null,null,null,null,null,null,null,null,null,null,null,null,null,null,null,null,null,null,null,null,null,null,null,null,null,null,null,null,null,null,null,null,null,null,null,null,null,null,null,null,null,null,null,null,null,null,null,null,null,null,null,null,null,null,null,null,null,null,null,null,null,null,null,null,null,null,null,null,null,null,null,null,null,null,null,"BERABERLIK SAYISI",null,null,null,{"$f":"JU15","v":2},{"$f":"IF(KE96>KF93,IF(KE96<KH93,\"10\",\"0\"))","v":"0"},{"$f":"IF(KE96>KH93,IF(KE96<KI93,\"30\",\"0\"))","v":"0"},{"$f":"IF(KE96>KH93,IF(KE96<KJ93,\"50\",\"0\"))","v":"50"},{"$f":"IF(KE96>KJ93,IF(KE96<KN93,\"70\",\"0\"))","v":false},{"$f":"IF(KE96>KN93,IF(KE96<KQ93,\"90\",\"0\"))","v":false},50,{"$f":"0-KK96","v":-50}]
[null,null,null,null,null,null,null,null,null,null,null,null,null,null,null,null,null,null,null,null,null,null,null,null,null,null,null,null,null,null,null,null,null,null,null,null,null,null,null,null,null,null,null,null,null,null,null,null,null,null,null,null,null,null,null,null,null,null,null,null,null,null,null,null,null,null,null,null,"MAGLUBIYET SAYISI ",null,null,null,{"$f":"BO15","v":3},{"$f":"IF(BU97>CF93,IF(BU97<CG93,\"10\",\"0\"))","v":false},{"$f":"IF(BU97>CE93,IF(BU97<CF93,\"30\",\"0\"))","v":false},{"$f":"IF(BU97>CD93,IF(BU97<CE93,\"50\",\"0\"))","v":false},{"$f":"IF(BU97>CC93,IF(BU97<CD93,\"70\",\"0\"))","v":"70"},{"$f":"IF(BU97>CB93,IF(BU97<CC93,\"90\",\"0\"))","v":"0"},70,-70,null,null,null,null,null,null,null,null,null,null,null,null,null,null,null,null,null,null,null,null,null,null,null,null,null,null,null,null,null,null,null,null,null,null,null,null,null,null,null,null,null,null,null,null,null,null,null,null,null,null,null,null,null,null,null,null,null,null,null,null,null,null,null,null,null,null,null,null,null,null,null,null,null,null,null,null,null,null,null,null,null,null,null,null,null,null,null,null,null,null,null,null,null,null,null,null,null,"MAGLUBIYET SAYISI ",null,null,null,{"$f":"FT15","v":1},{"$f":"IF(FZ97>GK93,IF(FZ97<GL93,\"10\",\"0\"))","v":false},{"$f":"IF(FZ97>GJ93,IF(FZ97<GK93,\"30\",\"0\"))","v":false},{"$f":"IF(FZ97>GI93,IF(FZ97<GJ93,\"50\",\"0\"))","v":false},{"$f":"IF(FZ97>GH93,IF(FZ97<GI93,\"70\",\"0\"))","v":false},{"$f":"IF(FZ97>GG93,IF(FZ97<GH93,\"90\",\"0\"))","v":"90"},90,-90,null,null,null,null,null,null,null,null,null,null,null,null,null,null,null,null,null,null,null,null,null,null,null,null,null,null,null,null,null,null,null,null,null,null,null,null,null,null,null,null,null,null,null,null,null,null,null,null,null,null,null,null,null,null,null,null,null,null,null,null,null,null,null,null,null,null,null,null,null,null,null,null,null,null,null,null,null,null,null,null,null,null,null,null,null,null,null,null,null,null,null,null,null,null,null,null,null,"MAGLUBIYET SAYISI ",null,null,null,{"$f":"JY15","v":1},{"$f":"IF(KE97>KP93,IF(KE97<KQ93,\"10\",\"0\"))","v":false},{"$f":"IF(KE97>KO93,IF(KE97<KP93,\"30\",\"0\"))","v":false},{"$f":"IF(KE97>KN93,IF(KE97<KO93,\"50\",\"0\"))","v":false},{"$f":"IF(KE97>KM93,IF(KE97<KN93,\"70\",\"0\"))","v":false},{"$f":"IF(KE97>KL93,IF(KE97<KM93,\"90\",\"0\"))","v":"90"},90,-90]
[null,null,null,null,null,null,null,null,null,null,null,null,null,null,null,null,null,null,null,null,null,null,null,null,null,null,null,null,null,null,null,null,null,null,null,null,null,null,null,null,null,null,null,null,null,null,null,null,null,null,null,null,null,null,null,null,null,null,null,null,null,null,null,null,null,null,null,null,"ATTIGI GOL ORTALAMA",null,null,null,{"$f":"AS15","v":0.4},{"$f":"IF(BU98>BV93,IF(BU98<BW93,\"10\",\"0\"))","v":"10"},{"$f":"IF(BU98>BW93,IF(BU98<BX93,\"30\",\"0\"))","v":false},{"$f":"IF(BU98>BX93,IF(BU98<BY93,\"50\",\"0\"))","v":false},{"$f":"IF(BU98>BY93,IF(BU98<BZ93,\"70\",\"0\"))","v":false},{"$f":"IF(BU98>BZ93,IF(BU98<CB92,\"90\",\"0\"))","v":false},10,-10,null,null,null,null,null,null,null,null,null,null,null,null,null,null,null,null,null,null,null,null,null,null,null,null,null,null,null,null,null,null,null,null,null,null,null,null,null,null,null,null,null,null,null,null,null,null,null,null,null,null,null,null,null,null,null,null,null,null,null,null,null,null,null,null,null,null,null,null,null,null,null,null,null,null,null,null,null,null,null,null,null,null,null,null,null,null,null,null,null,null,null,null,null,null,null,null,null,"ATTIGI GOL ORTALAMA",null,null,null,{"$f":"EX15","v":0.6},{"$f":"IF(FZ98>GA93,IF(FZ98<GB93,\"10\",\"0\"))","v":"0"},{"$f":"IF(FZ98>GB93,IF(FZ98<GC93,\"30\",\"0\"))","v":"30"},{"$f":"IF(FZ98>GC93,IF(FZ98<GD93,\"50\",\"0\"))","v":false},{"$f":"IF(FZ98>GD93,IF(FZ98<GE93,\"70\",\"0\"))","v":false},{"$f":"IF(FZ98>GE93,IF(FZ98<GG92,\"90\",\"0\"))","v":false},30,-30,null,null,null,null,null,null,null,null,null,null,null,null,null,null,null,null,null,null,null,null,null,null,null,null,null,null,null,null,null,null,null,null,null,null,null,null,null,null,null,null,null,null,null,null,null,null,null,null,null,null,null,null,null,null,null,null,null,null,null,null,null,null,null,null,null,null,null,null,null,null,null,null,null,null,null,null,null,null,null,null,null,null,null,null,null,null,null,null,null,null,null,null,null,null,null,null,null,"ATTIGI GOL ORTALAMA",null,null,null,{"$f":"JC15","v":0.4},{"$f":"IF(KE98>KF93,IF(KE98<KG93,\"10\",\"0\"))","v":"10"},{"$f":"IF(KE98>KG93,IF(KE98<KH93,\"30\",\"0\"))","v":false},{"$f":"IF(KE98>KH93,IF(KE98<KI93,\"50\",\"0\"))","v":false},{"$f":"IF(KE98>KI93,IF(KE98<KJ93,\"70\",\"0\"))","v":false},{"$f":"IF(KE98>KJ93,IF(KE98<KL92,\"90\",\"0\"))","v":false},10,-10]
[null,null,null,null,null,null,null,null,null,null,null,null,null,null,null,null,null,null,null,null,null,null,null,null,null,null,null,null,null,null,null,null,null,null,null,null,null,null,null,null,null,null,null,null,null,null,null,null,null,null,null,null,null,null,null,null,null,null,null,null,null,null,null,null,null,null,null,null,"YEDIGI GOL ORTALAMA ",null,null,null,{"$f":"AT15","v":0.4},{"$f":"IF(BU99>CB92,IF(BU99<BZ93,\"10\",\"0\"))","v":false},{"$f":"IF(BU99>BY93,IF(BU99<BZ93,\"30\",\"0\"))","v":false},{"$f":"IF(BU99>BX93,IF(BU99<BY93,\"50\",\"0\"))","v":false},{"$f":"IF(BU99>BW93,IF(BU99<BX93,\"70\",\"0\"))","v":false},{"$f":"IF(BU99>BV93,IF(BU99<BW93,\"90\",\"0\"))","v":"90"},90,-90,null,null,null,null,null,null,null,null,null,null,null,null,null,null,null,null,null,null,null,null,null,null,null,null,null,null,null,null,null,null,null,null,null,null,null,null,null,null,null,null,null,null,null,null,null,null,null,null,null,null,null,null,null,null,null,null,null,null,null,null,null,null,null,null,null,null,null,null,null,null,null,null,null,null,null,null,null,null,null,null,null,null,null,null,null,null,null,null,null,null,null,null,null,null,null,null,null,"YEDIGI GOL ORTALAMA ",null,null,null,{"$f":"EY15","v":0.2},{"$f":"IF(FZ99>GG92,IF(FZ99<GE93,\"10\",\"0\"))","v":false},{"$f":"IF(FZ99>GD93,IF(FZ99<GE93,\"30\",\"0\"))","v":false},{"$f":"IF(FZ99>GC93,IF(FZ99<GD93,\"50\",\"0\"))","v":false},{"$f":"IF(FZ99>GB93,IF(FZ99<GC93,\"70\",\"0\"))","v":false},{"$f":"IF(FZ99>GA93,IF(FZ99<GB93,\"90\",\"0\"))","v":"90"},90,-90,null,null,null,null,null,null,null,null,null,null,null,null,null,null,null,null,null,null,null,null,null,null,null,null,null,null,null,null,null,null,null,null,null,null,null,null,null,null,null,null,null,null,null,null,null,null,null,null,null,null,null,null,null,null,null,null,null,null,null,null,null,null,null,null,null,null,null,null,null,null,null,null,null,null,null,null,null,null,null,null,null,null,null,null,null,null,null,null,null,null,null,null,null,null,null,null,null,"YEDIGI GOL ORTALAMA ",null,null,null,{"$f":"JD15","v":0.6},{"$f":"IF(KE99>KL92,IF(KE99<KJ93,\"10\",\"0\"))","v":false},{"$f":"IF(KE99>KI93,IF(KE99<KJ93,\"30\",\"0\"))","v":false},{"$f":"IF(KE99>KH93,IF(KE99<KI93,\"50\",\"0\"))","v":false},{"$f":"IF(KE99>KG93,IF(KE99<KH93,\"70\",\"0\"))","v":"70"},{"$f":"IF(KE99>KF93,IF(KE99<KG93,\"90\",\"0\"))","v":"0"},70,-70]
[null,null,null,null,null,null,null,null,null,null,null,null,null,null,null,null,null,null,null,null,null,null,null,null,null,null,null,null,null,null,null,null,null,null,null,null,null,null,null,null,null,null,null,null,null,null,null,null,null,null,null,null,null,null,null,null,null,null,null,null,null,null,null,null,null,null,null,null,"ATTIGI GOL MAC BASINA ",null,null,null,{"$f":"BH15","v":4},{"$f":"IF(BU100>BV93,IF(BU100<BX93,\"10\",\"0\"))","v":"0"},{"$f":"IF(BU100>BX93,IF(BU100<BY93,\"30\",\"0\"))","v":"0"},{"$f":"IF(BU100>BY93,IF(BU100<BZ93,\"50\",\"0\"))","v":"0"},{"$f":"IF(BU100>BZ93,IF(BU100<CA93,\"70\",\"0\"))","v":"0"},{"$f":"IF(BU100>CA93,IF(BU100<CG93,\"90\",\"0\"))","v":"90"},90,-90,null,null,null,null,null,null,null,null,null,null,null,null,null,null,null,null,null,null,null,null,null,null,null,null,null,null,null,null,null,null,null,null,null,null,null,null,null,null,null,null,null,null,null,null,null,null,null,null,null,null,null,null,null,null,null,null,null,null,null,null,null,null,null,null,null,null,null,null,null,null,null,null,null,null,null,null,null,null,null,null,null,null,null,null,null,null,null,null,null,null,null,null,null,null,null,null,null,"ATTIGI GOL MAC BASINA ",null,null,null,{"$f":"FM15","v":3},{"$f":"IF(FZ100>GA93,IF(FZ100<GC93,\"10\",\"0\"))","v":"0"},{"$f":"IF(FZ100>GC93,IF(FZ100<GD93,\"30\",\"0\"))","v":"0"},{"$f":"IF(FZ100>GD93,IF(FZ100<GE93,\"50\",\"0\"))","v":"0"},{"$f":"IF(FZ100>GE93,IF(FZ100<GF93,\"70\",\"0\"))","v":"0"},{"$f":"IF(FZ100>GF93,IF(FZ100<GL93,\"90\",\"0\"))","v":false},0,0,null,null,null,null,null,null,null,null,null,null,null,null,null,null,null,null,null,null,null,null,null,null,null,null,null,null,null,null,null,null,null,null,null,null,null,null,null,null,null,null,null,null,null,null,null,null,null,null,null,null,null,null,null,null,null,null,null,null,null,null,null,null,null,null,null,null,null,null,null,null,null,null,null,null,null,null,null,null,null,null,null,null,null,null,null,null,null,null,null,null,null,null,null,null,null,null,null,"ATTIGI GOL MAC BASINA ",null,null,null,{"$f":"JR15","v":2},{"$f":"IF(KE100>KF93,IF(KE100<KH93,\"10\",\"0\"))","v":"0"},{"$f":"IF(KE100>KH93,IF(KE100<KI93,\"30\",\"0\"))","v":"0"},{"$f":"IF(KE100>KI93,IF(KE100<KJ93,\"50\",\"0\"))","v":"50"},{"$f":"IF(KE100>KJ93,IF(KE100<KK93,\"70\",\"0\"))","v":false},{"$f":"IF(KE100>KK93,IF(KE100<KQ93,\"90\",\"0\"))","v":false},50,-50]
[null,null,null,null,null,null,null,null,null,null,null,null,null,null,null,null,null,null,null,null,null,null,null,null,null,null,null,null,null,null,null,null,null,null,null,null,null,null,null,null,null,null,null,null,null,null,null,null,null,null,null,null,null,null,null,null,null,null,null,null,null,null,null,null,null,null,null,null,"YEDIGI GOL MAC BASINA ",null,null,null,{"$f":"BI15","v":4},{"$f":"IF(BU101>CF93,IF(BU101<CG93,\"10\",\"0\"))","v":false},{"$f":"IF(BU101>CE93,IF(BU101<CF93,\"30\",\"0\"))","v":false},{"$f":"IF(BU101>CD93,IF(BU101<CE93,\"50\",\"0\"))","v":"50"},{"$f":"IF(BU101>CC93,IF(BU101<CD93,\"70\",\"0\"))","v":"0"},{"$f":"IF(BU101>CB93,IF(BU101<CC93,\"90\",\"0\"))","v":"0"},50,-50,null,null,null,null,null,null,null,null,null,null,null,null,null,null,null,null,null,null,null,null,null,null,null,null,null,null,null,null,null,null,null,null,null,null,null,null,null,null,null,null,null,null,null,null,null,null,null,null,null,null,null,null,null,null,null,null,null,null,null,null,null,null,null,null,null,null,null,null,null,null,null,null,null,null,null,null,null,null,null,null,null,null,null,null,null,null,null,null,null,null,null,null,null,null,null,null,null,"YEDIGI GOL MAC BASINA ",null,null,null,{"$f":"FN15","v":1},{"$f":"IF(FZ101>GK93,IF(FZ101<GL93,\"10\",\"0\"))","v":false},{"$f":"IF(FZ101>GJ93,IF(FZ101<GK93,\"30\",\"0\"))","v":false},{"$f":"IF(FZ101>GI93,IF(FZ101<GJ93,\"50\",\"0\"))","v":false},{"$f":"IF(FZ101>GH93,IF(FZ101<GI93,\"70\",\"0\"))","v":false},{"$f":"IF(FZ101>GG93,IF(FZ101<GH93,\"90\",\"0\"))","v":"90"},90,-90,null,null,null,null,null,null,null,null,null,null,null,null,null,null,null,null,null,null,null,null,null,null,null,null,null,null,null,null,null,null,null,null,null,null,null,null,null,null,null,null,null,null,null,null,null,null,null,null,null,null,null,null,null,null,null,null,null,null,null,null,null,null,null,null,null,null,null,null,null,null,null,null,null,null,null,null,null,null,null,null,null,null,null,null,null,null,null,null,null,null,null,null,null,null,null,null,null,"YEDIGI GOL MAC BASINA ",null,null,null,{"$f":"JS15","v":2},{"$f":"IF(KE101>KP93,IF(KE101<KQ93,\"10\",\"0\"))","v":false},{"$f":"IF(KE101>KO93,IF(KE101<KP93,\"30\",\"0\"))","v":false},{"$f":"IF(KE101>KN93,IF(KE101<KO93,\"50\",\"0\"))","v":false},{"$f":"IF(KE101>KM93,IF(KE101<KN93,\"70\",\"0\"))","v":"70"},{"$f":"IF(KE101>KL93,IF(KE101<KM93,\"90\",\"0\"))","v":"0"},70,-70]
[null,null,null,null,null,null,null,null,null,null,null,null,null,null,null,null,null,null,null,null,null,null,null,null,null,null,null,null,null,null,null,null,null,null,null,null,null,null,null,null,null,null,null,null,null,null,null,null,null,null,null,null,null,null,null,null,null,null,null,null,null,null,null,null,null,null,null,null,"EV IY TOPLAM GOL",null,null,null,{"$f":"AW15","v":0.8},{"$f":"IF(BU102>BV93,IF(BU102<BW93,\"10\",\"0\"))","v":"0"},{"$f":"IF(BU102>BW93,IF(BU102<BX93,\"30\",\"0\"))","v":"30"},{"$f":"IF(BU102>BX93,IF(BU102<BY93,\"50\",\"0\"))","v":false},{"$f":"IF(BU102>BY93,IF(BU102<BZ93,\"70\",\"0\"))","v":false},{"$f":"IF(BU102>BZ93,IF(BU102<CB92,\"90\",\"0\"))","v":false},30,-30,null,null,null,null,null,null,null,null,null,null,null,null,null,null,null,null,null,null,null,null,null,null,null,null,null,null,null,null,null,null,null,null,null,null,null,null,null,null,null,null,null,null,null,null,null,null,null,null,null,null,null,null,null,null,null,null,null,null,null,null,null,null,null,null,null,null,null,null,null,null,null,null,null,null,null,null,null,null,null,null,null,null,null,null,null,null,null,null,null,null,null,null,null,null,null,null,null,"EV IY TOPLAM GOL",null,null,null,{"$f":"FB15","v":0.8},{"$f":"IF(FZ102>GA93,IF(FZ102<GB93,\"10\",\"0\"))","v":"0"},{"$f":"IF(FZ102>GB93,IF(FZ102<GC93,\"30\",\"0\"))","v":"30"},{"$f":"IF(FZ102>GC93,IF(FZ102<GD93,\"50\",\"0\"))","v":false},{"$f":"IF(FZ102>GD93,IF(FZ102<GE93,\"70\",\"0\"))","v":false},{"$f":"IF(FZ102>GE93,IF(FZ102<GG92,\"90\",\"0\"))","v":false},30,-30,null,null,null,null,null,null,null,null,null,null,null,null,null,null,null,null,null,null,null,null,null,null,null,null,null,null,null,null,null,null,null,null,null,null,null,null,null,null,null,null,null,null,null,null,null,null,null,null,null,null,null,null,null,null,null,null,null,null,null,null,null,null,null,null,null,null,null,null,null,null,null,null,null,null,null,null,null,null,null,null,null,null,null,null,null,null,null,null,null,null,null,null,null,null,null,null,null,"EV IY TOPLAM GOL",null,null,null,{"$f":"JG15","v":1},{"$f":"IF(KE102>KF93,IF(KE102<KG93,\"10\",\"0\"))","v":"0"},{"$f":"IF(KE102>KG93,IF(KE102<KH93,\"30\",\"0\"))","v":"30"},{"$f":"IF(KE102>KH93,IF(KE102<KI93,\"50\",\"0\"))","v":false},{"$f":"IF(KE102>KI93,IF(KE102<KJ93,\"70\",\"0\"))","v":false},{"$f":"IF(KE102>KJ93,IF(KE102<KL92,\"90\",\"0\"))","v":false},30,-30]
[]
[null,null,null,null,null,null,null,null,null,null,null,null,null,null,null,null,null,null,null,null,null,null,null,null,null,null,null,null,null,null,null,null,null,null,null,null,null,null,null,null,null,null,null,null,null,null,null,null,null,null,null,null,null,null,null,null,null,null,null,null,null,null,null,null,null,null,null,null,null,null,null,null,null,null,null,null,{"$f":"1-BZ104","v":0.4},{"$f":"CA105/100","v":0.6},null,null,null,null,null,null,null,null,null,null,null,null,null,null,null,null,null,null,null,null,null,null,null,null,null,null,null,null,null,null,null,null,null,null,null,null,null,null,null,null,null,null,null,null,null,null,null,null,null,null,null,null,null,null,null,null,null,null,null,null,null,null,null,null,null,null,null,null,null,null,null,null,null,null,null,null,null,null,null,null,null,null,null,null,null,null,null,null,null,null,null,null,null,null,null,null,null,null,null,null,null,null,null,null,null,null,null,{"$f":"1-GE104","v":0.4375},{"$f":"GF105/100","v":0.5625},null,null,null,null,null,null,null,null,null,null,null,null,null,null,null,null,null,null,null,null,null,null,null,null,null,null,null,null,null,null,null,null,null,null,null,null,null,null,null,null,null,null,null,null,null,null,null,null,null,null,null,null,null,null,null,null,null,null,null,null,null,null,null,null,null,null,null,null,null,null,null,null,null,null,null,null,null,null,null,null,null,null,null,null,null,null,null,null,null,null,null,null,null,null,null,null,null,null,null,null,null,null,null,null,null,null,null,{"$f":"1-KJ104","v":0.5},{"$f":"KK105/100","v":0.5}]
[null,null,null,null,null,null,null,null,null,null,null,null,null,null,null,null,null,null,null,null,null,null,null,null,null,null,null,null,null,null,null,null,null,null,null,null,null,null,null,null,null,null,null,null,null,null,null,null,null,null,null,null,null,null,null,null,null,null,null,null,null,null,null,null,null,null,null,null,null,null,null,0,45.77,59.9,84.9,100,null,null,{"$f":"AVERAGE(CA95:CA102)","v":60},null,1,"X",2,2,null,null,null,null,null,null,null,null,null,null,null,null,null,null,null,null,null,null,null,null,null,null,null,null,null,null,null,null,null,null,null,null,null,null,null,null,null,null,null,null,null,null,null,null,null,null,null,null,null,null,null,null,null,null,null,null,null,null,null,null,null,null,null,null,null,null,null,null,null,null,null,null,null,null,null,null,null,null,null,null,null,null,null,null,null,null,null,null,null,null,null,null,null,null,null,null,{"$f":"BT105","v":0},{"$f":"BU105","v":45.77},59.9,84.9,100,null,null,{"$f":"AVERAGE(GF95:GF102)","v":56.25},null,{"$f":"CC105","v":1},{"$f":"CD105","v":"X"},2,2,null,null,null,null,null,null,null,null,null,null,null,null,null,null,null,null,null,null,null,null,null,null,null,null,null,null,null,null,null,null,null,null,null,null,null,null,null,null,null,null,null,null,null,null,null,null,null,null,null,null,null,null,null,null,null,null,null,null,null,null,null,null,null,null,null,null,null,null,null,null,null,null,null,null,null,null,null,null,null,null,null,null,null,null,null,null,null,null,null,null,null,null,null,null,null,null,{"$f":"FY105","v":0},{"$f":"FZ105","v":45.77},59.9,84.9,100,null,null,{"$f":"AVERAGE(KK95:KK102)","v":50},null,{"$f":"GH105","v":1},{"$f":"GI105","v":"X"},2,2]
[null,null,null,null,null,null,null,null,null,null,null,null,null,null,null,null,null,null,null,null,null,null,null,null,null,null,null,null,null,null,null,null,null,null,null,null,null,null,null,null,null,null,null,null,null,null,null,null,null,null,null,null,null,null,null,null,null,null,null,null,null,null,null,null,null,null,null,null,null,null,null,null,null,null,null,null,null,"DEP SONUC ",{"$f":"IF(CA105>BT105,IF(CA105<BU105,CC105,IF(CA105>BU105,IF(CA105<BV105,CD105,IF(CA105>BV105,IF(CA105<BW105,CE105,IF(CA105>BW105,IF(CA105<BX105,CF105,CC99))))))))","v":2},null,null,null,null,null,null,null,null,null,null,null,null,null,null,null,null,null,null,null,null,null,null,null,null,null,null,null,null,null,null,null,null,null,null,null,null,null,null,null,null,null,null,null,null,null,null,null,null,null,null,null,null,null,null,null,null,null,null,null,null,null,null,null,null,null,null,null,null,null,null,null,null,null,null,null,null,null,null,null,null,null,null,null,null,null,null,null,null,null,null,null,null,null,null,null,null,null,null,null,null,null,null,null,null,null,null,null,"DEP SONUC ",{"$f":"IF(GF105>FY105,IF(GF105<FZ105,GH105,IF(GF105>FZ105,IF(GF105<GA105,GI105,IF(GF105>GA105,IF(GF105<GB105,GJ105,IF(GF105>GB105,IF(GF105<GC105,GK105,GH99))))))))","v":"X"},null,null,null,null,null,null,null,null,null,null,null,null,null,null,null,null,null,null,null,null,null,null,null,null,null,null,null,null,null,null,null,null,null,null,null,null,null,null,null,null,null,null,null,null,null,null,null,null,null,null,null,null,null,null,null,null,null,null,null,null,null,null,null,null,null,null,null,null,null,null,null,null,null,null,null,null,null,null,null,null,null,null,null,null,null,null,null,null,null,null,null,null,null,null,null,null,null,null,null,null,null,null,null,null,null,null,null,"DEP SONUC ",{"$f":"IF(KK105>KD105,IF(KK105<KE105,KM105,IF(KK105>KE105,IF(KK105<KF105,KN105,IF(KK105>KF105,IF(KK105<KG105,KO105,IF(KK105>KG105,IF(KK105<KH105,KP105,KM99))))))))","v":"X"}]
[null,null,null,null,null,null,null,null,null,null,null,null,null,null,null,null,null,null,null,null,null,null,null,null,null,null,null,null,null,null,null,null,null,null,null,null,null,null,null,null,null,null,null,null,null,null,null,null,null,null,null,null,null,null,null,null,null,null,null,null,null,null,null,null,null,null,null,null,null,null,null,null,null,null,null,null,null,null,{"$f":"IF(CA105>BT105,IF(CA105<BU105,BY104,IF(CA105>BU105,IF(CA105<BV105,BZ104,IF(CA105>BV105,IF(CA105<BW105,BZ104,IF(CA105>BW105,IF(CA105<BX105,0.4))))))))","v":0.6},null,null,null,null,null,null,null,null,null,null,null,null,null,null,null,null,null,null,null,null,null,null,null,null,null,null,null,null,null,null,null,null,null,null,null,null,null,null,null,null,null,null,null,null,null,null,null,null,null,null,null,null,null,null,null,null,null,null,null,null,null,null,null,null,null,null,null,null,null,null,null,null,null,null,null,null,null,null,null,null,null,null,null,null,null,null,null,null,null,null,null,null,null,null,null,null,null,null,null,null,null,null,null,null,null,null,null,null,{"$f":"IF(GF105>FY105,IF(GF105<FZ105,GD104,IF(GF105>FZ105,IF(GF105<GA105,GE104,IF(GF105>GA105,IF(GF105<GB105,GE104,IF(GF105>GB105,IF(GF105<GC105,0.4))))))))","v":0.5625},null,null,null,null,null,null,null,null,null,null,null,null,null,null,null,null,null,null,null,null,null,null,null,null,null,null,null,null,null,null,null,null,null,null,null,null,null,null,null,null,null,null,null,null,null,null,null,null,null,null,null,null,null,null,null,null,null,null,null,null,null,null,null,null,null,null,null,null,null,null,null,null,null,null,null,null,null,null,null,null,null,null,null,null,null,null,null,null,null,null,null,null,null,null,null,null,null,null,null,null,null,null,null,null,null,null,null,null,{"$f":"IF(KK105>KD105,IF(KK105<KE105,KI104,IF(KK105>KE105,IF(KK105<KF105,KJ104,IF(KK105>KF105,IF(KK105<KG105,KJ104,IF(KK105>KG105,IF(KK105<KH105,0.4))))))))","v":0.5}]
[null,null,null,null,null,null,null,null,null,null,null,null,null,null,null,null,null,null,null,null,null,null,null,null,null,null,null,null,null,null,null,null,null,null,null,null,null,null,null,null,null,null,null,null,null,null,null,null,null,null,null,null,null,null,null,null,null,null,null,null,null,null,null,null,null,null,null,null,null,null,null,null,null,null,null,null,null,null,null,null,"DEP ORTALAMA",{"$f":"AVERAGE(CB95:CB102)","v":-60},null,null,null,null,null,null,null,null,null,null,null,null,null,null,null,null,null,null,null,null,null,null,null,null,null,null,null,null,null,null,null,null,null,null,null,null,null,null,null,null,null,null,null,null,null,null,null,null,null,null,null,null,null,null,null,null,null,null,null,null,null,null,null,null,null,null,null,null,null,null,null,null,null,null,null,null,null,null,null,null,null,null,null,null,null,null,null,null,null,null,null,null,null,null,null,null,null,null,null,null,null,null,null,null,null,null,null,"DEP ORTALAMA",{"$f":"AVERAGE(GG95:GG102)","v":-56.25},null,null,null,null,null,null,null,null,null,null,null,null,null,null,null,null,null,null,null,null,null,null,null,null,null,null,null,null,null,null,null,null,null,null,null,null,null,null,null,null,null,null,null,null,null,null,null,null,null,null,null,null,null,null,null,null,null,null,null,null,null,null,null,null,null,null,null,null,null,null,null,null,null,null,null,null,null,null,null,null,null,null,null,null,null,null,null,null,null,null,null,null,null,null,null,null,null,null,null,null,null,null,null,null,null,null,null,"DEP ORTALAMA",{"$f":"AVERAGE(KL95:KL102)","v":-50}]
[null,null,null,null,null,null,null,null,null,null,null,null,null,null,null,null,null,null,null,null,null,null,null,null,null,null,null,null,null,null,null,null,null,null,null,null,null,null,null,null,null,null,null,null,null,null,null,null,null,null,null,null,null,null,null,null,null,null,null,null,null,null,null,null,null,null,null,null,null,null,null,null,null,null,null,null,null,null,null,null,null,null,null,"IY SONUC",null,null,null,null,null,null,null,null,null,null,null,null,null,null,null,null,null,null,null,null,null,null,null,null,null,null,null,null,null,null,null,null,null,null,null,null,null,null,null,null,null,null,null,null,null,null,null,null,null,null,null,null,null,null,null,null,null,null,null,null,null,null,null,null,null,null,null,null,null,null,null,null,null,null,null,null,null,null,null,null,null,null,null,null,null,null,null,null,null,null,null,null,null,null,null,null,null,null,null,null,null,null,null,null,null,null,null,null,"IY SONUC",null,null,null,null,null,null,null,null,null,null,null,null,null,null,null,null,null,null,null,null,null,null,null,null,null,null,null,null,null,null,null,null,null,null,null,null,null,null,null,null,null,null,null,null,null,null,null,null,null,null,null,null,null,null,null,null,null,null,null,null,null,null,null,null,null,null,null,null,null,null,null,null,null,null,null,null,null,null,null,null,null,null,null,null,null,null,null,null,null,null,null,null,null,null,null,null,null,null,null,null,null,null,null,null,null,null,null,null,"IY SONUC"]
[null,null,null,null,null,null,null,null,null,null,null,null,null,null,null,null,null,null,null,null,null,null,null,null,null,null,null,null,null,null,null,null,null,null,null,null,null,null,null,null,null,null,null,null,null,null,null,null,null,null,null,null,null,null,null,null,null,null,null,null,null,null,null,null,null,null,null,null,null,null,null,null,null,null,null,null,{"$f":"CA86","v":62.555555555555557},{"$f":"CD108","v":-60},{"$f":"BY110+BZ110","v":2.5555555555555571},null,null,null,null,{"$f":"IF(CA115=CC112,CC113,IF(CA115=CE112,CE113,IF(CA115=CG112,CG113)))","v":"IY 1 "},null,null,null,null,null,null,null,null,null,null,null,null,null,null,null,null,null,null,null,null,null,null,null,null,null,null,null,null,null,null,null,null,null,null,null,null,null,null,null,null,null,null,null,null,null,null,null,null,null,null,null,null,null,null,null,null,null,null,null,null,null,null,null,null,null,null,null,null,null,null,null,null,null,null,null,null,null,null,null,null,null,null,null,null,null,null,null,null,null,null,null,null,null,null,null,null,null,null,null,null,null,{"$f":"GF86","v":53.666666666666664},{"$f":"GI108","v":-56.25},{"$f":"GD110+GE110","v":-2.5833333333333357},null,null,null,null,{"$f":"IF(GF115=GH112,GH113,IF(GF115=GJ112,GJ113,IF(GF115=GL112,GL113)))","v":"IY 2"},null,null,null,null,null,null,null,null,null,null,null,null,null,null,null,null,null,null,null,null,null,null,null,null,null,null,null,null,null,null,null,null,null,null,null,null,null,null,null,null,null,null,null,null,null,null,null,null,null,null,null,null,null,null,null,null,null,null,null,null,null,null,null,null,null,null,null,null,null,null,null,null,null,null,null,null,null,null,null,null,null,null,null,null,null,null,null,null,null,null,null,null,null,null,null,null,null,null,null,null,null,{"$f":"KK86","v":42.555555555555557},{"$f":"KN108","v":-50},{"$f":"KI110+KJ110","v":-7.4444444444444429},null,null,null,null,{"$f":"IF(KK115=KM112,KM113,IF(KK115=KO112,KO113,IF(KK115=KQ112,KQ113)))","v":"IY 2"}]
[null,null,null,null,null,null,null,null,null,null,null,null,null,null,null,null,null,null,null,null,null,null,null,null,null,null,null,null,null,null,null,null,null,null,null,null,null,null,null,null,null,null,null,null,null,null,null,null,null,null,null,null,null,null,null,null,null,null,null,null,null,null,null,null,null,null,null,null,null,null,null,null,null,null,null,null,null,null,null,null,null,null,null,{"$f":"CA116","v":0.61277777777777775},null,null,null,null,null,null,null,null,null,null,null,null,null,null,null,null,null,null,null,null,null,null,null,null,null,null,null,null,null,null,null,null,null,null,null,null,null,null,null,null,null,null,null,null,null,null,null,null,null,null,null,null,null,null,null,null,null,null,null,null,null,null,null,null,null,null,null,null,null,null,null,null,null,null,null,null,null,null,null,null,null,null,null,null,null,null,null,null,null,null,null,null,null,null,null,null,null,null,null,null,null,null,null,null,null,null,null,null,{"$f":"GF116","v":0.54958333333333331},null,null,null,null,null,null,null,null,null,null,null,null,null,null,null,null,null,null,null,null,null,null,null,null,null,null,null,null,null,null,null,null,null,null,null,null,null,null,null,null,null,null,null,null,null,null,null,null,null,null,null,null,null,null,null,null,null,null,null,null,null,null,null,null,null,null,null,null,null,null,null,null,null,null,null,null,null,null,null,null,null,null,null,null,null,null,null,null,null,null,null,null,null,null,null,null,null,null,null,null,null,null,null,null,null,null,null,null,{"$f":"KK116","v":0.53722222222222227}]
[null,null,null,null,null,null,null,null,null,null,null,null,null,null,null,null,null,null,null,null,null,null,null,null,null,null,null,null,null,null,null,null,null,null,null,null,null,null,null,null,null,null,null,null,null,null,null,null,null,null,null,null,null,null,null,null,null,null,null,null,null,null,null,null,null,null,null,null,null,null,null,null,-99.9,-24.9,-1.9,1.9,24.9,99.9,null,null,2,2,"X",1,1,null,null,null,null,null,null,null,null,null,null,null,null,null,null,null,null,null,null,null,null,null,null,null,null,null,null,null,null,null,null,null,null,null,null,null,null,null,null,null,null,null,null,null,null,null,null,null,null,null,null,null,null,null,null,null,null,null,null,null,null,null,null,null,null,null,null,null,null,null,null,null,null,null,null,null,null,null,null,null,null,null,null,null,null,null,null,null,null,null,null,null,null,null,null,null,null,{"$f":"BU112","v":-99.9},{"$f":"BV112","v":-24.9},-1.9,1.9,24.9,99.9,null,null,{"$f":"CC112","v":2},{"$f":"CD112","v":2},"X",1,1,null,null,null,null,null,null,null,null,null,null,null,null,null,null,null,null,null,null,null,null,null,null,null,null,null,null,null,null,null,null,null,null,null,null,null,null,null,null,null,null,null,null,null,null,null,null,null,null,null,null,null,null,null,null,null,null,null,null,null,null,null,null,null,null,null,null,null,null,null,null,null,null,null,null,null,null,null,null,null,null,null,null,null,null,null,null,null,null,null,null,null,null,null,null,null,null,{"$f":"FZ112","v":-99.9},{"$f":"GA112","v":-24.9},-1.9,1.9,24.9,99.9,null,null,{"$f":"GH112","v":2},{"$f":"GI112","v":2},"X",1,1]
[null,null,null,null,null,null,null,null,null,null,null,null,null,null,null,null,null,null,null,null,null,null,null,null,null,null,null,null,null,null,null,null,null,null,null,null,null,null,null,null,null,null,null,null,null,null,null,null,null,null,null,null,null,null,null,null,null,null,null,null,null,null,null,null,null,null,null,null,null,null,null,null,null,null,null,null,null,null,null,null,"IY 2","IY 2","IY X","IY 1","IY 1 ",null,null,null,null,null,null,null,null,null,null,null,null,null,null,null,null,null,null,null,null,null,null,null,null,null,null,null,null,null,null,null,null,null,null,null,null,null,null,null,null,null,null,null,null,null,null,null,null,null,null,null,null,null,null,null,null,null,null,null,null,null,null,null,null,null,null,null,null,null,null,null,null,null,null,null,null,null,null,null,null,null,null,null,null,null,null,null,null,null,null,null,null,null,null,null,null,null,null,null,null,null,null,null,null,{"$f":"CC113","v":"IY 2"},{"$f":"CD113","v":"IY 2"},{"$f":"CE113","v":"IY X"},{"$f":"CF113","v":"IY 1"},{"$f":"CG113","v":"IY 1 "},null,null,null,null,null,null,null,null,null,null,null,null,null,null,null,null,null,null,null,null,null,null,null,null,null,null,null,null,null,null,null,null,null,null,null,null,null,null,null,null,null,null,null,null,null,null,null,null,null,null,null,null,null,null,null,null,null,null,null,null,null,null,null,null,null,null,null,null,null,null,null,null,null,null,null,null,null,null,null,null,null,null,null,null,null,null,null,null,null,null,null,null,null,null,null,null,null,null,null,null,null,null,null,null,{"$f":"GH113","v":"IY 2"},{"$f":"GI113","v":"IY 2"},{"$f":"GJ113","v":"IY X"},{"$f":"GK113","v":"IY 1"},{"$f":"GL113","v":"IY 1 "}]
[]
[null,null,null,null,null,null,null,null,null,null,null,null,null,null,null,null,null,null,null,null,null,null,null,null,null,null,null,null,null,null,null,null,null,null,null,null,null,null,null,null,null,null,null,null,null,null,null,null,null,null,null,null,null,null,null,null,null,null,null,null,null,null,null,null,null,null,null,null,null,null,null,null,null,null,null,null,null,"SONUC ",{"$f":"IF(CA110>BU112,IF(CA110<BV112,CC112,IF(CA110>BV112,IF(CA110<BW112,CD112,IF(CA110>BW112,IF(CA110<BX112,CE112,IF(CA110>BX112,IF(CA110<BY112,CF112,IF(CA110>BY112,IF(CA110<BZ112,CF110))))))))))","v":1},null,null,null,null,null,null,null,null,null,null,null,null,null,null,null,null,null,null,null,null,null,null,null,null,null,null,null,null,null,null,null,null,null,null,null,null,null,null,null,null,null,null,null,null,null,null,null,null,null,null,null,null,null,null,null,null,null,null,null,null,null,null,null,null,null,null,null,null,null,null,null,null,null,null,null,null,null,null,null,null,null,null,null,null,null,null,null,null,null,null,null,null,null,null,null,null,null,null,null,null,null,null,null,null,null,null,null,"SONUC ",{"$f":"IF(GF110>FZ112,IF(GF110<GA112,GH112,IF(GF110>GA112,IF(GF110<GB112,GI112,IF(GF110>GB112,IF(GF110<GC112,GJ112,IF(GF110>GC112,IF(GF110<GD112,GK112,IF(GF110>GD112,IF(GF110<GE112,GK110))))))))))","v":2},null,null,null,null,null,null,null,null,null,null,null,null,null,null,null,null,null,null,null,null,null,null,null,null,null,null,null,null,null,null,null,null,null,null,null,null,null,null,null,null,null,null,null,null,null,null,null,null,null,null,null,null,null,null,null,null,null,null,null,null,null,null,null,null,null,null,null,null,null,null,null,null,null,null,null,null,null,null,null,null,null,null,null,null,null,null,null,null,null,null,null,null,null,null,null,null,null,null,null,null,null,null,null,null,null,null,null,"SONUC ",{"$f":"IF(HU34=\"\",\"\",IF(KK110>KE112,IF(KK110<KF112,KM112,IF(KK110>KF112,IF(KK110<KG112,KN112,IF(KK110>KG112,IF(KK110<KH112,KO112,IF(KK110>KH112,IF(KK110<KI112,KP112,IF(KK110>KI112,IF(KK110<KJ112,KP110)))))))))))","v":2}]
[null,null,null,null,null,null,null,null,null,null,null,null,null,null,null,null,null,null,null,null,null,null,null,null,null,null,null,null,null,null,null,null,null,null,null,null,null,null,null,null,null,null,null,null,null,null,null,null,null,null,null,null,null,null,null,null,null,null,null,null,null,null,null,null,null,null,null,null,null,null,null,null,null,null,null,null,null,null,{"$f":"AVERAGE(CA107,CA88)","v":0.61277777777777775},null,null,null,null,null,null,null,null,null,null,null,null,null,null,null,null,null,null,null,null,null,null,null,null,null,null,null,null,null,null,null,null,null,null,null,null,null,null,null,null,null,null,null,null,null,null,null,null,null,null,null,null,null,null,null,null,null,null,null,null,null,null,null,null,null,null,null,null,null,null,null,null,null,null,null,null,null,null,null,null,null,null,null,null,null,null,null,null,null,null,null,null,null,null,null,null,null,null,null,null,null,null,null,null,null,null,null,null,{"$f":"AVERAGE(GF107,GF88)","v":0.54958333333333331},null,null,null,null,null,null,null,null,null,null,null,null,null,null,null,null,null,null,null,null,null,null,null,null,null,null,null,null,null,null,null,null,null,null,null,null,null,null,null,null,null,null,null,null,null,null,null,null,null,null,null,null,null,null,null,null,null,null,null,null,null,null,null,null,null,null,null,null,null,null,null,null,null,null,null,null,null,null,null,null,null,null,null,null,null,null,null,null,null,null,null,null,null,null,null,null,null,null,null,null,null,null,null,null,null,null,null,null,{"$f":"IF(HU34=\"\",\"\",AVERAGE(KK107,KK88))","v":0.53722222222222227}]
[null,null,null,null,null,null,null,null,null,null,null,null,null,null,null,null,null,null,null,null,null,null,null,null,null,null,null,null,null,null,null,null,null,null,null,null,null,null,null,null,null,null,null,null,null,null,null,null,null,null,null,null,null,null,null,null,null,null,null,null,null,null,null,null,null,null,null,null,null,null,null,null,null,null,null,null,null,null,{"$f":"CF117","v":"RISKLI"},null,null,null,null,{"$f":"CP89","v":"RISKLI"},null,null,null,null,null,null,null,null,null,null,null,null,null,null,null,null,null,null,null,null,null,null,null,null,null,null,null,null,null,null,null,null,null,null,null,null,null,null,null,null,null,null,null,null,null,null,null,null,null,null,null,null,null,null,null,null,null,null,null,null,null,null,null,null,null,null,null,null,null,null,null,null,null,null,null,null,null,null,null,null,null,null,null,null,null,null,null,null,null,null,null,null,null,null,null,null,null,null,null,null,null,null,null,{"$f":"GK117","v":"RISKLI"},null,null,null,null,{"$f":"GU89","v":"RISKLI"},null,null,null,null,null,null,null,null,null,null,null,null,null,null,null,null,null,null,null,null,null,null,null,null,null,null,null,null,null,null,null,null,null,null,null,null,null,null,null,null,null,null,null,null,null,null,null,null,null,null,null,null,null,null,null,null,null,null,null,null,null,null,null,null,null,null,null,null,null,null,null,null,null,null,null,null,null,null,null,null,null,null,null,null,null,null,null,null,null,null,null,null,null,null,null,null,null,null,null,null,null,null,null,{"$f":"IF(HU34=\"\",\"\",KP117)","v":"RISKLI"},null,null,null,null,{"$f":"IF(HU34=\"\",\"\",KZ89)","v":"RISKLI"}]
[null,null,null,null,null,null,null,null,null,null,null,null,null,null,null,null,null,null,null,null,null,null,null,null,null,null,null,null,null,null,null,null,null,null,null,null,null,null,null,null,null,null,null,null,null,null,null,null,null,null,null,null,null,null,null,null,null,null,null,null,null,null,null,null,null,null,null,null,null,null,null,null,null,null,null,null,null,null,{"$f":"CF118","v":"RISKLI"},null,null,null,null,{"$f":"CP90","v":"RISKLI"},null,null,null,null,null,null,null,null,null,null,null,null,null,null,null,null,null,null,null,null,null,null,null,null,null,null,null,null,null,null,null,null,null,null,null,null,null,null,null,null,null,null,null,null,null,null,null,null,null,null,null,null,null,null,null,null,null,null,null,null,null,null,null,null,null,null,null,null,null,null,null,null,null,null,null,null,null,null,null,null,null,null,null,null,null,null,null,null,null,null,null,null,null,null,null,null,null,null,null,null,null,null,null,{"$f":"GK118","v":"RISKLI"},null,null,null,null,{"$f":"GU90","v":"RISKLI"},null,null,null,null,null,null,null,null,null,null,null,null,null,null,null,null,null,null,null,null,null,null,null,null,null,null,null,null,null,null,null,null,null,null,null,null,null,null,null,null,null,null,null,null,null,null,null,null,null,null,null,null,null,null,null,null,null,null,null,null,null,null,null,null,null,null,null,null,null,null,null,null,null,null,null,null,null,null,null,null,null,null,null,null,null,null,null,null,null,null,null,null,null,null,null,null,null,null,null,null,null,null,null,{"$f":"IF(HU34=\"\",\"\",KP118)","v":"RISKLI"},null,null,null,null,{"$f":"IF(HU34=\"\",\"\",KZ90)","v":"RISKLI"}]
[]
[]
[null,null,null,null,null,null,null,null,null,null,null,null,null,null,null,null,null,null,null,null,null,null,null,null,null,null,null,null,null,null,null,null,null,null,null,null,null,null,null,null,null,null,null,null,null,null,null,null,null,null,null,null,null,null,null,null,null,null,null,null,null,null,null,null,null,null,null,null,null,null,null,null,null,null,null,null,null,null,null,"10",null,null,null,null,null,null,null,null,null,null,null,null,null,null,null,null,null,null,null,null,null,null,null,null,null,null,null,null,null,null,null,null,null,null,null,null,null,null,null,null,null,null,null,null,null,null,null,null,null,null,null,null,null,null,null,null,null,null,null,null,null,null,null,null,null,null,null,null,null,null,null,null,null,null,null,null,null,null,null,null,null,null,null,null,null,null,null,null,null,null,null,null,null,null,null,null,null,null,null,null,null,null,null,null,null,null,null,null,{"$f":"CB121","v":"10"},null,null,null,null,null,null,null,null,null,null,null,null,null,null,null,null,null,null,null,null,null,null,null,null,null,null,null,null,null,null,null,null,null,null,null,null,null,null,null,null,null,null,null,null,null,null,null,null,null,null,null,null,null,null,null,null,null,null,null,null,null,null,null,null,null,null,null,null,null,null,null,null,null,null,null,null,null,null,null,null,null,null,null,null,null,null,null,null,null,null,null,null,null,null,null,null,null,null,null,null,null,null,null,null,null,null,null,null,{"$f":"GG121","v":"10"}]
[null,null,null,null,null,null,null,null,null,null,null,null,null,null,null,null,null,null,null,null,null,null,null,null,null,null,null,null,null,null,null,null,null,null,null,null,null,null,null,null,null,null,null,null,null,null,null,null,null,null,null,null,null,null,null,null,null,null,null,null,null,null,null,null,null,null,null,null,"MAC SONU  EV SAHIBI ",null,null,null,null,-1,0.59,1.24,1.99,2.7,3,-1,1.9,3.9,5.9,7.9,10,null,null,null,null,null,null,null,null,null,null,null,null,null,null,null,null,null,null,null,null,null,null,null,null,null,null,null,null,null,null,null,null,null,null,null,null,null,null,null,null,null,null,null,null,null,null,null,null,null,null,null,null,null,null,null,null,null,null,null,null,null,null,null,null,null,null,null,null,null,null,null,null,null,null,null,null,null,null,null,null,null,null,null,null,null,null,null,null,null,null,null,null,"MAC SONU  EV SAHIBI ",null,null,null,null,{"$f":"BV122","v":-1},0.59,1.24,1.99,2.7,3,-1,1.9,3.9,5.9,7.9,10,null,null,null,null,null,null,null,null,null,null,null,null,null,null,null,null,null,null,null,null,null,null,null,null,null,null,null,null,null,null,null,null,null,null,null,null,null,null,null,null,null,null,null,null,null,null,null,null,null,null,null,null,null,null,null,null,null,null,null,null,null,null,null,null,null,null,null,null,null,null,null,null,null,null,null,null,null,null,null,null,null,null,null,null,null,null,null,null,null,null,null,null,"MAC SONU  EV SAHIBI ",null,null,null,null,{"$f":"GA122","v":-1},0.59,1.24,1.99,2.7,3,-1,1.9,3.9,5.9,7.9,10]
[null,null,null,null,null,null,null,null,null,null,null,null,null,null,null,null,null,null,null,null,null,null,null,null,null,null,null,null,null,null,null,null,null,null,null,null,null,null,null,null,null,null,null,null,null,null,null,null,null,null,null,null,null,null,null,null,null,null,null,null,null,null,null,null,null,null,null,null,null,null,null,null,null,"0-20","20-40","40-60","60-80","80-100","TOPLAM",null,null,null,null,null,null,null,null,null,null,null,null,null,null,null,null,null,null,null,null,null,null,null,null,null,null,null,null,null,null,null,null,null,null,null,null,null,null,null,null,null,null,null,null,null,null,null,null,null,null,null,null,null,null,null,null,null,null,null,null,null,null,null,null,null,null,null,null,null,null,null,null,null,null,null,null,null,null,null,null,null,null,null,null,null,null,null,null,null,null,null,null,null,null,null,null,null,null,null,null,null,null,null,"0-20","20-40","40-60","60-80","80-100","TOPLAM",null,null,null,null,null,null,null,null,null,null,null,null,null,null,null,null,null,null,null,null,null,null,null,null,null,null,null,null,null,null,null,null,null,null,null,null,null,null,null,null,null,null,null,null,null,null,null,null,null,null,null,null,null,null,null,null,null,null,null,null,null,null,null,null,null,null,null,null,null,null,null,null,null,null,null,null,null,null,null,null,null,null,null,null,null,null,null,null,null,null,null,null,null,null,null,null,null,null,null,null,null,null,null,"0-20","20-40","40-60","60-80","80-100","TOPLAM"]
[null,null,null,null,null,null,null,null,null,null,null,null,null,null,null,null,null,null,null,null,null,null,null,null,null,null,null,null,null,null,null,null,null,null,null,null,null,null,null,null,null,null,null,null,null,null,null,null,null,null,null,null,null,null,null,null,null,null,null,null,null,null,null,null,null,null,null,null,"GALIBIYET SAYISI",null,null,null,{"$f":"AK15","v":7},{"$f":"IF(BU124>BV122,IF(BU124<BW122,\"10\",\"0\"))","v":"0"},{"$f":"IF(BU124>BW122,IF(BU124<BX122,\"30\",\"0\"))","v":"0"},{"$f":"IF(BU124>BX122,IF(BU124<BZ122,\"50\",\"0\"))","v":"0"},{"$f":"IF(BU124>BZ122,IF(BU124<CD122,\"70\",\"0\"))","v":"0"},{"$f":"IF(BU124>CD122,IF(BU124<CG122,\"90\",\"0\"))","v":"90"},{"$f":"BV124+BW124+BX124+BY124+BZ124","v":90},null,null,null,null,null,null,null,null,null,null,null,null,null,null,null,null,null,null,null,null,null,null,null,null,null,null,null,null,null,null,null,null,null,null,null,null,null,null,null,null,null,null,null,null,null,null,null,null,null,null,null,null,null,null,null,null,null,null,null,null,null,null,null,null,null,null,null,null,null,null,null,null,null,null,null,null,null,null,null,null,null,null,null,null,null,null,null,null,null,null,null,null,null,null,null,null,null,null,"GALIBIYET SAYISI",null,null,null,{"$f":"EP15","v":3},{"$f":"IF(FZ124>GA122,IF(FZ124<GB122,\"10\",\"0\"))","v":"0"},{"$f":"IF(FZ124>GB122,IF(FZ124<GC122,\"30\",\"0\"))","v":"0"},{"$f":"IF(FZ124>GC122,IF(FZ124<GE122,\"50\",\"0\"))","v":"0"},{"$f":"IF(FZ124>GE122,IF(FZ124<GI122,\"70\",\"0\"))","v":"70"},{"$f":"IF(FZ124>GI122,IF(FZ124<GL122,\"90\",\"0\"))","v":false},{"$f":"GA124+GB124+GC124+GD124+GE124","v":70},null,null,null,null,null,null,null,null,null,null,null,null,null,null,null,null,null,null,null,null,null,null,null,null,null,null,null,null,null,null,null,null,null,null,null,null,null,null,null,null,null,null,null,null,null,null,null,null,null,null,null,null,null,null,null,null,null,null,null,null,null,null,null,null,null,null,null,null,null,null,null,null,null,null,null,null,null,null,null,null,null,null,null,null,null,null,null,null,null,null,null,null,null,null,null,null,null,null,"GALIBIYET SAYISI",null,null,null,{"$f":"IU15","v":1},{"$f":"IF(KE124>KF122,IF(KE124<KG122,\"10\",\"0\"))","v":"0"},{"$f":"IF(KE124>KG122,IF(KE124<KH122,\"30\",\"0\"))","v":"30"},{"$f":"IF(KE124>KH122,IF(KE124<KJ122,\"50\",\"0\"))","v":false},{"$f":"IF(KE124>KJ122,IF(KE124<KN122,\"70\",\"0\"))","v":false},{"$f":"IF(KE124>KN122,IF(KE124<KQ122,\"90\",\"0\"))","v":false},{"$f":"KF124+KG124+KH124+KI124+KJ124","v":30}]
[null,null,null,null,null,null,null,null,null,null,null,null,null,null,null,null,null,null,null,null,null,null,null,null,null,null,null,null,null,null,null,null,null,null,null,null,null,null,null,null,null,null,null,null,null,null,null,null,null,null,null,null,null,null,null,null,null,null,null,null,null,null,null,null,null,null,null,null,"BERABERLIK SAYISI",null,null,null,{"$f":"AL15","v":2},{"$f":"IF(BU125>BV122,IF(BU125<BX122,\"10\",\"0\"))","v":"0"},{"$f":"IF(BU125>BX122,IF(BU125<BY122,\"30\",\"0\"))","v":"0"},{"$f":"IF(BU125>BX122,IF(BU125<BZ122,\"50\",\"0\"))","v":"50"},{"$f":"IF(BU125>BZ122,IF(BU125<CD122,\"70\",\"0\"))","v":false},{"$f":"IF(BU125>CD122,IF(BU125<CG122,\"90\",\"0\"))","v":false},{"$f":"BV125+BW125+BX125+BY125+BZ125","v":50},null,null,null,null,null,null,null,null,null,null,null,null,null,null,null,null,null,null,null,null,null,null,null,null,null,null,null,null,null,null,null,null,null,null,null,null,null,null,null,null,null,null,null,null,null,null,null,null,null,null,null,null,null,null,null,null,null,null,null,null,null,null,null,null,null,null,null,null,null,null,null,null,null,null,null,null,null,null,null,null,null,null,null,null,null,null,null,null,null,null,null,null,null,null,null,null,null,null,"BERABERLIK SAYISI",null,null,null,{"$f":"EQ15","v":2},{"$f":"IF(FZ125>GA122,IF(FZ125<GC122,\"10\",\"0\"))","v":"0"},{"$f":"IF(FZ125>GC122,IF(FZ125<GD122,\"30\",\"0\"))","v":"0"},{"$f":"IF(FZ125>GC122,IF(FZ125<GE122,\"50\",\"0\"))","v":"50"},{"$f":"IF(FZ125>GE122,IF(FZ125<GI122,\"70\",\"0\"))","v":false},{"$f":"IF(FZ125>GI122,IF(FZ125<GL122,\"90\",\"0\"))","v":false},{"$f":"GA125+GB125+GC125+GD125+GE125","v":50},null,null,null,null,null,null,null,null,null,null,null,null,null,null,null,null,null,null,null,null,null,null,null,null,null,null,null,null,null,null,null,null,null,null,null,null,null,null,null,null,null,null,null,null,null,null,null,null,null,null,null,null,null,null,null,null,null,null,null,null,null,null,null,null,null,null,null,null,null,null,null,null,null,null,null,null,null,null,null,null,null,null,null,null,null,null,null,null,null,null,null,null,null,null,null,null,null,null,"BERABERLIK SAYISI",null,null,null,{"$f":"IV15","v":2},{"$f":"IF(KE125>KF122,IF(KE125<KH122,\"10\",\"0\"))","v":"0"},{"$f":"IF(KE125>KH122,IF(KE125<KI122,\"30\",\"0\"))","v":"0"},{"$f":"IF(KE125>KH122,IF(KE125<KJ122,\"50\",\"0\"))","v":"50"},{"$f":"IF(KE125>KJ122,IF(KE125<KN122,\"70\",\"0\"))","v":false},{"$f":"IF(KE125>KN122,IF(KE125<KQ122,\"90\",\"0\"))","v":false},{"$f":"KF125+KG125+KH125+KI125+KJ125","v":50}]
[null,null,null,null,null,null,null,null,null,null,null,null,null,null,null,null,null,null,null,null,null,null,null,null,null,null,null,null,null,null,null,null,null,null,null,null,null,null,null,null,null,null,null,null,null,null,null,null,null,null,null,null,null,null,null,null,null,null,null,null,null,null,null,null,null,null,null,null,"MAGLUBIYET SAYISI ",null,null,null,{"$f":"AM15","v":1},{"$f":"IF(BU126>CF122,IF(BU126<CG122,\"10\",\"0\"))","v":false},{"$f":"IF(BU126>CE122,IF(BU126<CF122,\"30\",\"0\"))","v":false},{"$f":"IF(BU126>CD122,IF(BU126<CE122,\"50\",\"0\"))","v":false},{"$f":"IF(BU126>CC122,IF(BU126<CD122,\"70\",\"0\"))","v":false},{"$f":"IF(BU126>CB122,IF(BU126<CC122,\"90\",\"0\"))","v":"90"},{"$f":"BV126+BW126+BX126+BY126+BZ126","v":90},null,null,null,null,null,null,null,null,null,null,null,null,null,null,null,null,null,null,null,null,null,null,null,null,null,null,null,null,null,null,null,null,null,null,null,null,null,null,null,null,null,null,null,null,null,null,null,null,null,null,null,null,null,null,null,null,null,null,null,null,null,null,null,null,null,null,null,null,null,null,null,null,null,null,null,null,null,null,null,null,null,null,null,null,null,null,null,null,null,null,null,null,null,null,null,null,null,null,"MAGLUBIYET SAYISI ",null,null,null,{"$f":"ER15","v":0},{"$f":"IF(FZ126>GK122,IF(FZ126<GL122,\"10\",\"0\"))","v":false},{"$f":"IF(FZ126>GJ122,IF(FZ126<GK122,\"30\",\"0\"))","v":false},{"$f":"IF(FZ126>GI122,IF(FZ126<GJ122,\"50\",\"0\"))","v":false},{"$f":"IF(FZ126>GH122,IF(FZ126<GI122,\"70\",\"0\"))","v":false},{"$f":"IF(FZ126>GG122,IF(FZ126<GH122,\"90\",\"0\"))","v":"90"},{"$f":"GA126+GB126+GC126+GD126+GE126","v":90},null,null,null,null,null,null,null,null,null,null,null,null,null,null,null,null,null,null,null,null,null,null,null,null,null,null,null,null,null,null,null,null,null,null,null,null,null,null,null,null,null,null,null,null,null,null,null,null,null,null,null,null,null,null,null,null,null,null,null,null,null,null,null,null,null,null,null,null,null,null,null,null,null,null,null,null,null,null,null,null,null,null,null,null,null,null,null,null,null,null,null,null,null,null,null,null,null,null,"MAGLUBIYET SAYISI ",null,null,null,{"$f":"IW15","v":2},{"$f":"IF(KE126>KP122,IF(KE126<KQ122,\"10\",\"0\"))","v":false},{"$f":"IF(KE126>KO122,IF(KE126<KP122,\"30\",\"0\"))","v":false},{"$f":"IF(KE126>KN122,IF(KE126<KO122,\"50\",\"0\"))","v":false},{"$f":"IF(KE126>KM122,IF(KE126<KN122,\"70\",\"0\"))","v":"70"},{"$f":"IF(KE126>KL122,IF(KE126<KM122,\"90\",\"0\"))","v":"0"},{"$f":"KF126+KG126+KH126+KI126+KJ126","v":70}]
[null,null,null,null,null,null,null,null,null,null,null,null,null,null,null,null,null,null,null,null,null,null,null,null,null,null,null,null,null,null,null,null,null,null,null,null,null,null,null,null,null,null,null,null,null,null,null,null,null,null,null,null,null,null,null,null,null,null,null,null,null,null,null,null,null,null,null,null,"ATTIGI GOL ORTALAMA",null,null,null,{"$f":"S15","v":2.1},{"$f":"IF(BU127>BV122,IF(BU127<BW122,\"10\",\"0\"))","v":"0"},{"$f":"IF(BU127>BW122,IF(BU127<BX122,\"30\",\"0\"))","v":"0"},{"$f":"IF(BU127>BX122,IF(BU127<BY122,\"50\",\"0\"))","v":"0"},{"$f":"IF(BU127>BY122,IF(BU127<BZ122,\"70\",\"0\"))","v":"70"},{"$f":"IF(BU127>BZ122,IF(BU127<CB121,\"90\",\"0\"))","v":false},{"$f":"BV127+BW127+BX127+BY127+BZ127","v":70},null,null,null,null,null,null,null,null,null,null,null,null,null,null,null,null,null,null,null,null,null,null,null,null,null,null,null,null,null,null,null,null,null,null,null,null,null,null,null,null,null,null,null,null,null,null,null,null,null,null,null,null,null,null,null,null,null,null,null,null,null,null,null,null,null,null,null,null,null,null,null,null,null,null,null,null,null,null,null,null,null,null,null,null,null,null,null,null,null,null,null,null,null,null,null,null,null,null,"ATTIGI GOL ORTALAMA",null,null,null,{"$f":"DX15","v":1.8},{"$f":"IF(FZ127>GA122,IF(FZ127<GB122,\"10\",\"0\"))","v":"0"},{"$f":"IF(FZ127>GB122,IF(FZ127<GC122,\"30\",\"0\"))","v":"0"},{"$f":"IF(FZ127>GC122,IF(FZ127<GD122,\"50\",\"0\"))","v":"50"},{"$f":"IF(FZ127>GD122,IF(FZ127<GE122,\"70\",\"0\"))","v":false},{"$f":"IF(FZ127>GE122,IF(FZ127<GG121,\"90\",\"0\"))","v":false},{"$f":"GA127+GB127+GC127+GD127+GE127","v":50},null,null,null,null,null,null,null,null,null,null,null,null,null,null,null,null,null,null,null,null,null,null,null,null,null,null,null,null,null,null,null,null,null,null,null,null,null,null,null,null,null,null,null,null,null,null,null,null,null,null,null,null,null,null,null,null,null,null,null,null,null,null,null,null,null,null,null,null,null,null,null,null,null,null,null,null,null,null,null,null,null,null,null,null,null,null,null,null,null,null,null,null,null,null,null,null,null,null,"ATTIGI GOL ORTALAMA",null,null,null,{"$f":"IC15","v":1.2},{"$f":"IF(KE127>KF122,IF(KE127<KG122,\"10\",\"0\"))","v":"0"},{"$f":"IF(KE127>KG122,IF(KE127<KH122,\"30\",\"0\"))","v":"30"},{"$f":"IF(KE127>KH122,IF(KE127<KI122,\"50\",\"0\"))","v":false},{"$f":"IF(KE127>KI122,IF(KE127<KJ122,\"70\",\"0\"))","v":false},{"$f":"IF(KE127>KJ122,IF(KE127<KL121,\"90\",\"0\"))","v":false},{"$f":"KF127+KG127+KH127+KI127+KJ127","v":30}]
["GENEL ANALIZ",null,null,null,null,null,null,null,null,null,null,null,null,null,null,null,null,null,null,null,null,null,null,null,null,null,null,null,null,null,null,null,null,null,null,null,null,null,null,null,null,null,null,null,null,null,null,null,null,null,null,null,null,null,null,null,null,null,null,null,null,null,null,null,null,null,null,null,"YEDIGI GOL ORTALAMA ",null,null,null,{"$f":"T15+0","v":0.8},{"$f":"IF(BU128>CB121,IF(BU128<BZ122,\"10\",\"0\"))","v":false},{"$f":"IF(BU128>BY122,IF(BU128<BZ122,\"30\",\"0\"))","v":false},{"$f":"IF(BU128>BX122,IF(BU128<BY122,\"50\",\"0\"))","v":false},{"$f":"IF(BU128>BW122,IF(BU128<BX122,\"70\",\"0\"))","v":"70"},{"$f":"IF(BU128>BV122,IF(BU128<BW122,\"90\",\"0\"))","v":"0"},70,null,null,null,null,null,null,null,null,null,null,null,null,null,null,null,null,null,null,null,null,null,null,null,null,null,null,null,null,null,null,"FORM",null,null,null,null,null,null,null,null,null,null,null,null,null,null,null,null,null,null,null,null,null,null,null,null,null,null,null,null,null,null,null,null,null,null,null,null,null,null,null,null,null,null,null,null,null,null,null,null,null,null,null,null,null,null,null,null,null,null,null,null,null,null,null,null,null,null,null,"YEDIGI GOL ORTALAMA ",null,null,null,{"$f":"DY15+0","v":0.8},{"$f":"IF(FZ128>GG121,IF(FZ128<GE122,\"10\",\"0\"))","v":false},{"$f":"IF(FZ128>GD122,IF(FZ128<GE122,\"30\",\"0\"))","v":false},{"$f":"IF(FZ128>GC122,IF(FZ128<GD122,\"50\",\"0\"))","v":false},{"$f":"IF(FZ128>GB122,IF(FZ128<GC122,\"70\",\"0\"))","v":"70"},{"$f":"IF(FZ128>GA122,IF(FZ128<GB122,\"90\",\"0\"))","v":"0"},70,null,null,null,null,null,null,null,null,null,null,null,null,null,null,null,null,null,null,null,null,null,null,null,null,null,null,null,null,null,null,"H2H",null,null,null,null,null,null,null,null,null,null,null,null,null,null,null,null,null,null,null,null,null,null,null,null,null,null,null,null,null,null,null,null,null,null,null,null,null,null,null,null,null,null,null,null,null,null,null,null,null,null,null,null,null,null,null,null,null,null,null,null,null,null,null,null,null,null,null,"YEDIGI GOL ORTALAMA ",null,null,null,{"$f":"ID15+0","v":1.4},{"$f":"IF(KE128>KL121,IF(KE128<KJ122,\"10\",\"0\"))","v":false},{"$f":"IF(KE128>KI122,IF(KE128<KJ122,\"30\",\"0\"))","v":false},{"$f":"IF(KE128>KH122,IF(KE128<KI122,\"50\",\"0\"))","v":"50"},{"$f":"IF(KE128>KG122,IF(KE128<KH122,\"70\",\"0\"))","v":"0"},{"$f":"IF(KE128>KF122,IF(KE128<KG122,\"90\",\"0\"))","v":"0"},50]
[null,null,null,null,null,null,null,null,null,null,null,null,null,null,null,null,null,null,null,null,null,null,null,null,null,null,null,null,null,null,null,null,null,null,null,null,null,null,null,null,null,null,null,null,null,null,null,null,null,null,null,null,null,null,null,null,null,null,null,null,null,null,null,null,null,null,null,null,"ATTIGI GOL MAC BASINA ",null,null,null,{"$f":"AC15","v":10},{"$f":"IF(BU129>BV122,IF(BU129<BX122,\"10\",\"0\"))","v":"0"},{"$f":"IF(BU129>BX122,IF(BU129<BY122,\"30\",\"0\"))","v":"0"},{"$f":"IF(BU129>BY122,IF(BU129<BZ122,\"50\",\"0\"))","v":"0"},{"$f":"IF(BU129>BZ122,IF(BU129<CA122,\"70\",\"0\"))","v":"0"},{"$f":"IF(BU129>CA122,IF(BU129<CG122,\"90\",\"0\"))","v":"0"},0,null,null,null,null,null,null,null,null,null,null,null,null,null,null,null,null,null,null,null,null,null,null,null,null,null,null,null,null,null,null,null,null,null,null,null,null,null,null,null,null,null,null,null,null,null,null,null,null,null,null,null,null,null,null,null,null,null,null,null,null,null,null,null,null,null,null,null,null,null,null,null,null,null,null,null,null,null,null,null,null,null,null,null,null,null,null,null,null,null,null,null,null,null,null,null,null,null,null,"ATTIGI GOL MAC BASINA ",null,null,null,{"$f":"EH15","v":5},{"$f":"IF(FZ129>GA122,IF(FZ129<GC122,\"10\",\"0\"))","v":"0"},{"$f":"IF(FZ129>GC122,IF(FZ129<GD122,\"30\",\"0\"))","v":"0"},{"$f":"IF(FZ129>GD122,IF(FZ129<GE122,\"50\",\"0\"))","v":"0"},{"$f":"IF(FZ129>GE122,IF(FZ129<GF122,\"70\",\"0\"))","v":"0"},{"$f":"IF(FZ129>GF122,IF(FZ129<GL122,\"90\",\"0\"))","v":"90"},90,null,null,null,null,null,null,null,null,null,null,null,null,null,null,null,null,null,null,null,null,null,null,null,null,null,null,null,null,null,null,null,null,null,null,null,null,null,null,null,null,null,null,null,null,null,null,null,null,null,null,null,null,null,null,null,null,null,null,null,null,null,null,null,null,null,null,null,null,null,null,null,null,null,null,null,null,null,null,null,null,null,null,null,null,null,null,null,null,null,null,null,null,null,null,null,null,null,null,"ATTIGI GOL MAC BASINA ",null,null,null,{"$f":"IM15","v":4},{"$f":"IF(KE129>KF122,IF(KE129<KH122,\"10\",\"0\"))","v":"0"},{"$f":"IF(KE129>KH122,IF(KE129<KI122,\"30\",\"0\"))","v":"0"},{"$f":"IF(KE129>KI122,IF(KE129<KJ122,\"50\",\"0\"))","v":"0"},{"$f":"IF(KE129>KJ122,IF(KE129<KK122,\"70\",\"0\"))","v":"0"},{"$f":"IF(KE129>KK122,IF(KE129<KQ122,\"90\",\"0\"))","v":"90"},90]
[null,null,null,null,null,null,null,null,null,null,null,null,null,null,null,null,null,null,null,null,null,null,null,null,null,null,null,null,null,null,null,null,null,null,null,null,null,null,null,null,null,null,null,null,null,null,null,null,null,null,null,null,null,null,null,null,null,null,null,null,null,null,null,null,null,null,null,null,"YEDIGI GOL MAC BASINA ",null,null,null,{"$f":"AD15","v":6},{"$f":"IF(BU130>CF122,IF(BU130<CG122,\"10\",\"0\"))","v":false},{"$f":"IF(BU130>CE122,IF(BU130<CF122,\"30\",\"0\"))","v":"30"},{"$f":"IF(BU130>CD122,IF(BU130<CE122,\"50\",\"0\"))","v":"0"},{"$f":"IF(BU130>CC122,IF(BU130<CD122,\"70\",\"0\"))","v":"0"},{"$f":"IF(BU130>CB122,IF(BU130<CC122,\"90\",\"0\"))","v":"0"},30,null,null,null,null,null,null,null,null,null,null,null,null,null,null,null,null,null,null,null,null,null,null,null,null,null,null,null,null,null,null,null,null,null,null,null,null,null,null,null,null,null,null,null,null,null,null,null,null,null,null,null,null,null,null,null,null,null,null,null,null,null,null,null,null,null,null,null,null,null,null,null,null,null,null,null,null,null,null,null,null,null,null,null,null,null,null,null,null,null,null,null,null,null,null,null,null,null,null,"YEDIGI GOL MAC BASINA ",null,null,null,{"$f":"EI15","v":4},{"$f":"IF(FZ130>GK122,IF(FZ130<GL122,\"10\",\"0\"))","v":false},{"$f":"IF(FZ130>GJ122,IF(FZ130<GK122,\"30\",\"0\"))","v":false},{"$f":"IF(FZ130>GI122,IF(FZ130<GJ122,\"50\",\"0\"))","v":"50"},{"$f":"IF(FZ130>GH122,IF(FZ130<GI122,\"70\",\"0\"))","v":"0"},{"$f":"IF(FZ130>GG122,IF(FZ130<GH122,\"90\",\"0\"))","v":"0"},50,null,null,null,null,null,null,null,null,null,null,null,null,null,null,null,null,null,null,null,null,null,null,null,null,null,null,null,null,null,null,null,null,null,null,null,null,null,null,null,null,null,null,null,null,null,null,null,null,null,null,null,null,null,null,null,null,null,null,null,null,null,null,null,null,null,null,null,null,null,null,null,null,null,null,null,null,null,null,null,null,null,null,null,null,null,null,null,null,null,null,null,null,null,null,null,null,null,null,"YEDIGI GOL MAC BASINA ",null,null,null,{"$f":"IN15","v":5},{"$f":"IF(KE130>KP122,IF(KE130<KQ122,\"10\",\"0\"))","v":false},{"$f":"IF(KE130>KO122,IF(KE130<KP122,\"30\",\"0\"))","v":false},{"$f":"IF(KE130>KN122,IF(KE130<KO122,\"50\",\"0\"))","v":"50"},{"$f":"IF(KE130>KM122,IF(KE130<KN122,\"70\",\"0\"))","v":"0"},{"$f":"IF(KE130>KL122,IF(KE130<KM122,\"90\",\"0\"))","v":"0"},50]
["EV SAHIBI","DEPLASMAN","TARIH","ANALIZ TURU","EN IYI TAHMIN ",null,"MS SKOR                                                                   EV                         DEP",null,"IY UZDELERI                                              1                  X                  2",null,null,"MS YUZDELERI                                              1                  X                  2",null,null,"IY GOL TAHMINI",null,"MS GOL TAHMINI",null,"KG VAR ",null,"IY  TAHMINI",null,"MS  TAHMINI",null,"IY - MS ",null,"TOPLAM GOL",null,"1,5 VE 3,5 TAHMINI",null,"EV 2,5 UST ",null,"DEP 2,5 UST ",null,null,null,null,null,null,null,null,null,null,null,null,null,null,null,null,null,null,null,null,null,null,null,null,null,null,null,null,null,null,null,null,null,null,null,"EV IY TOPLAM GOL",null,null,null,{"$f":"V15","v":2.9},{"$f":"IF(BU131>BV122,IF(BU131<BW122,\"10\",\"0\"))","v":"0"},{"$f":"IF(BU131>BW122,IF(BU131<BX122,\"30\",\"0\"))","v":"0"},{"$f":"IF(BU131>BX122,IF(BU131<BY122,\"50\",\"0\"))","v":"0"},{"$f":"IF(BU131>BY122,IF(BU131<BZ122,\"70\",\"0\"))","v":"0"},{"$f":"IF(BU131>BZ122,IF(BU131<CB121,\"90\",\"0\"))","v":"90"},90,null,null,null,null,null,null,null,null,null,null,null,null,null,null,null,null,null,null,null,null,null,null,null,null,null,null,null,null,null,null,"EV SAHIBI","DEPLASMAN","TARIH","ANALIZ TURU","EN IYI TAHMIN ",null,"MS SKOR                                                                   EV                         DEP",null,"IY UZDELERI                                              1                  X                  2",null,null,"MS YUZDELERI                                              1                  X                  2",null,null,"IY GOL TAHMINI",null,"MS GOL TAHMINI",null,"KG VAR ",null,"IY  TAHMINI",null,"MS  TAHMINI",null,"IY - MS ",null,"TOPLAM GOL",null,"1,5 VE 3,5 TAHMINI",null,"EV 2,5 UST ",null,"DEP 2,5 UST ",null,null,null,null,null,null,null,null,null,null,null,null,null,null,null,null,null,null,null,null,null,null,null,null,null,null,null,null,null,null,null,null,null,null,null,"EV IY TOPLAM GOL",null,null,null,{"$f":"EA15","v":2.6},{"$f":"IF(FZ131>GA122,IF(FZ131<GB122,\"10\",\"0\"))","v":"0"},{"$f":"IF(FZ131>GB122,IF(FZ131<GC122,\"30\",\"0\"))","v":"0"},{"$f":"IF(FZ131>GC122,IF(FZ131<GD122,\"50\",\"0\"))","v":"0"},{"$f":"IF(FZ131>GD122,IF(FZ131<GE122,\"70\",\"0\"))","v":"70"},{"$f":"IF(FZ131>GE122,IF(FZ131<GG121,\"90\",\"0\"))","v":false},70,null,null,null,null,null,null,null,null,null,null,null,null,null,null,null,null,null,null,null,null,null,null,null,null,null,null,null,null,null,null,"EV SAHIBI","DEPLASMAN","TARIH","ANALIZ TURU","EN IYI TAHMIN ",null,"MS SKOR                                                                   EV                         DEP",null,"IY UZDELERI                                              1                  X                  2",null,null,"MS YUZDELERI                                              1                  X                  2",null,null,"IY GOL TAHMINI",null,"MS GOL TAHMINI",null,"KG VAR ",null,"IY  TAHMINI",null,"MS  TAHMINI",null,"IY - MS ",null,"TOPLAM GOL",null,"1,5 VE 3,5 TAHMINI",null,"EV 2,5 UST ",null,"DEP 2,5 UST ",null,null,null,null,null,null,null,null,null,null,null,null,null,null,null,null,null,null,null,null,null,null,null,null,null,null,null,null,null,null,null,null,null,null,null,"EV IY TOPLAM GOL",null,null,null,{"$f":"IF15","v":2.6},{"$f":"IF(KE131>KF122,IF(KE131<KG122,\"10\",\"0\"))","v":"0"},{"$f":"IF(KE131>KG122,IF(KE131<KH122,\"30\",\"0\"))","v":"0"},{"$f":"IF(KE131>KH122,IF(KE131<KI122,\"50\",\"0\"))","v":"0"},{"$f":"IF(KE131>KI122,IF(KE131<KJ122,\"70\",\"0\"))","v":"70"},{"$f":"IF(KE131>KJ122,IF(KE131<KL121,\"90\",\"0\"))","v":false},70]
[{"$f":"A2","v":"Thun"},{"$f":"A28","v":"Young Boys"},{"$f":"TODAY()","v":"2019-02-27"},{"$f":"A128","v":"GENEL ANALIZ"},{"$f":"BL28","v":"KG VAR"},{"$f":"BK28","v":0.66428571428571426},{"$f":"M59","v":1.65},{"$f":"N59","v":1.05},{"$f":"CJ81","v":0.4},{"$f":"CJ82","v":0.44999999999999996},{"$f":"CJ83","v":0.15000000000000002},{"$f":"CL81","v":0.5},{"$f":"CL82","v":0.30000000000000004},{"$f":"CL83","v":0.2},{"$f":"CA18","v":"IY 1.5 ALT"},{"$f":"CG20","v":"RISKLI"},{"$f":"CA41","v":"MS 2.5 UST"},{"$f":"CG43","v":"RISKLI"},{"$f":"CA67","v":"KG VAR"},{"$f":"CG69","v":0.66428571428571426},{"$f":"CF110","v":"IY 1 "},{"$f":"CF118","v":"RISKLI"},{"$f":"CF158","v":"MS 2"},{"$f":"CF166","v":"RISKLI"},{"$f":"BY180","v":"1 -1 /2"},{"$f":"CF187","v":"RISKLI"},{"$f":"CA233","v":"2-3 GOL"},{"$f":"CA234","v":0.51875000000000004},{"$f":"CE36","v":"1,5 UST"},{"$f":"CA42","v":0.67500000000000004},{"$f":"Z15","v":4},{"$f":"Z16","v":0.4},{"$f":"BB15","v":6},{"$f":"BB16","v":0.6},null,null,null,null,null,null,null,null,null,null,null,null,null,null,null,null,null,null,null,null,null,null,null,null,null,null,null,null,null,null,null,null,null,null,null,null,null,null,null,null,null,null,null,null,null,null,null,null,null,null,null,null,null,null,null,null,null,null,null,null,null,null,null,null,null,null,null,null,null,null,null,null,null,null,null,{"$f":"DF2","v":"Thun"},{"$f":"DF28","v":"Young Boys"},{"$f":"TODAY()","v":"2019-02-27"},{"$f":"DF128","v":"FORM"},{"$f":"FQ28","v":"MS 1"},{"$f":"FP28","v":0.59687500000000004},{"$f":"DR59","v":1.3},{"$f":"DS59","v":1.3},{"$f":"GO81","v":0.3},{"$f":"GO82","v":0.4},{"$f":"GO83","v":0.30000000000000004},{"$f":"GQ81","v":0.4},{"$f":"GQ82","v":0.30000000000000004},{"$f":"GQ83","v":0.3},{"$f":"GF18","v":"IY 1.5 ALT"},{"$f":"GL20","v":"RISKLI"},{"$f":"GF41","v":"MS 2.5 UST"},{"$f":"GL43","v":"RISKLI"},{"$f":"GF67","v":"KG YOK"},{"$f":"GL69","v":"RISKLI"},{"$f":"GK110","v":"IY 2"},{"$f":"GK118","v":"RISKLI"},{"$f":"GK158","v":"MS 1"},{"$f":"GK166","v":0.59687500000000004},{"$f":"GD180","v":"2 -1"},{"$f":"GK187","v":"RISKLI"},{"$f":"GF233","v":"2-3 GOL"},{"$f":"GF234","v":0.52500000000000002},{"$f":"GJ36","v":"1,5 UST"},{"$f":"GF42","v":0.6333333333333333},{"$f":"EE15","v":2},{"$f":"EE16","v":0.4},{"$f":"FG15","v":3},{"$f":"FG16","v":0.6},null,null,null,null,null,null,null,null,null,null,null,null,null,null,null,null,null,null,null,null,null,null,null,null,null,null,null,null,null,null,null,null,null,null,null,null,null,null,null,null,null,null,null,null,null,null,null,null,null,null,null,null,null,null,null,null,null,null,null,null,null,null,null,null,null,null,null,null,null,null,null,null,null,null,null,{"$f":"HK2","v":"Thun"},{"$f":"HK28","v":"Young Boys"},{"$f":"TODAY()","v":"2019-02-27"},{"$f":"HK128","v":"H2H"},{"$f":"JV28","v":"2-3 GOL"},{"$f":"JU28","v":0.48750000000000004},{"$f":"HW59","v":1.1000000000000001},{"$f":"HX59","v":1.5},{"$f":"KT81","v":0.30000000000000004},{"$f":"KT82","v":0.4},{"$f":"KT83","v":0.30000000000000004},{"$f":"KV81","v":0.2},{"$f":"KV82","v":0.4},{"$f":"KV83","v":0.4},{"$f":"KK18","v":"IY 1.5 ALT"},{"$f":"KQ20","v":"RISKLI"},{"$f":"KK41","v":"MS 2.5 UST"},{"$f":"KQ43","v":"RISKLI"},{"$f":"KK67","v":"KG YOK"},{"$f":"KQ69","v":"RISKLI"},{"$f":"KP110","v":"IY 2"},{"$f":"KP118","v":"RISKLI"},{"$f":"KP158","v":"MS 2"},{"$f":"KP166","v":"RISKLI"},{"$f":"KI180","v":"2 -X /2"},{"$f":"KP187","v":"RISKLI"},{"$f":"KK233","v":"2-3 GOL"},{"$f":"KK234","v":0.48750000000000004},{"$f":"KO36","v":"1,5 UST"},{"$f":"KK42","v":0.68333333333333324},{"$f":"IJ15","v":2},{"$f":"IJ16","v":0.4},{"$f":"JL15","v":2},{"$f":"JL16","v":0.4}]
[null,null,null,null,null,null,null,null,null,null,null,null,null,null,{"$f":"CG19","v":"RISKLI"},{"$f":"CG20","v":"RISKLI"},{"$f":"CG42","v":"RISKLI"},{"$f":"CG43","v":"RISKLI"},{"$f":"CG68","v":"BAHIS YAP"},{"$f":"CG69","v":0.66428571428571426},{"$f":"CF117","v":"RISKLI"},{"$f":"V132","v":"RISKLI"},{"$f":"CF165","v":"RISKLI"},{"$f":"X132","v":"RISKLI"},{"$f":"CF186","v":"RISKLI"},{"$f":"Z132","v":"RISKLI"},null,null,null,null,null,null,null,null,null,null,null,null,null,null,null,null,null,null,null,null,null,null,null,null,null,null,null,null,null,null,null,null,null,null,null,null,null,null,null,null,null,null,null,null,null,null,null,null,null,null,{"$f":"1-BZ133","v":0.38749999999999996},{"$f":"CA134/100","v":0.61250000000000004},null,null,null,null,null,null,null,null,null,null,null,null,null,null,null,null,null,null,null,null,null,null,null,null,null,null,null,null,null,null,null,null,null,null,null,null,null,null,null,null,null,null,null,null,null,{"$f":"GL19","v":"RISKLI"},{"$f":"GL20","v":"RISKLI"},{"$f":"GL42","v":"RISKLI"},{"$f":"GL43","v":"RISKLI"},{"$f":"GL68","v":"RISKLI"},{"$f":"GL69","v":"RISKLI"},{"$f":"GK117","v":"RISKLI"},{"$f":"EA132","v":"RISKLI"},{"$f":"GK165","v":"BAHIS YAP"},{"$f":"EC132","v":0.59687500000000004},{"$f":"GK186","v":"RISKLI"},{"$f":"EE132","v":"RISKLI"},null,null,null,null,null,null,null,null,null,null,null,null,null,null,null,null,null,null,null,null,null,null,null,null,null,null,null,null,null,null,null,null,null,null,null,null,null,null,null,null,null,null,null,null,null,null,null,null,null,null,{"$f":"1-GE133","v":0.32499999999999996},{"$f":"GF134/100","v":0.67500000000000004},null,null,null,null,null,null,null,null,null,null,null,null,null,null,null,null,null,null,null,null,null,null,null,null,null,null,null,null,null,null,null,null,null,null,null,null,null,null,null,null,null,null,null,null,null,{"$f":"KQ19","v":"RISKLI"},{"$f":"KQ20","v":"RISKLI"},{"$f":"KQ42","v":"RISKLI"},{"$f":"KQ43","v":"RISKLI"},{"$f":"KQ68","v":"RISKLI"},{"$f":"KQ69","v":"RISKLI"},{"$f":"KP117","v":"RISKLI"},{"$f":"IF132","v":"RISKLI"},{"$f":"KP165","v":"RISKLI"},{"$f":"IH132","v":"RISKLI"},{"$f":"KP186","v":"RISKLI"},{"$f":"IJ132","v":"RISKLI"},null,null,null,null,null,null,null,null,null,null,null,null,null,null,null,null,null,null,null,null,null,null,null,null,null,null,null,null,null,null,null,null,null,null,null,null,null,null,null,null,null,null,null,null,null,null,null,null,null,null,{"$f":"1-KJ133","v":0.44999999999999996},{"$f":"KK134/100","v":0.55000000000000004}]
[null,null,null,null,null,null,null,null,null,null,null,null,null,null,null,null,null,null,null,null,null,null,null,null,null,null,null,null,null,null,null,null,null,null,null,null,null,null,null,null,null,null,null,null,null,null,null,null,null,null,null,null,null,null,null,null,null,null,null,null,null,null,null,null,null,null,null,null,null,null,null,0,45.77,59.9,84.9,100,null,null,{"$f":"AVERAGE(CA124:CA131)","v":61.25},null,2,"X",1,1,null,null,null,null,null,null,null,null,null,null,null,null,null,null,null,null,null,null,null,null,null,null,null,null,null,null,null,null,null,null,null,null,null,null,null,null,null,null,null,null,null,null,null,null,null,null,null,null,null,null,null,null,null,null,null,null,null,null,null,null,null,null,null,null,null,null,null,null,null,null,null,null,null,null,null,null,null,null,null,null,null,null,null,null,null,null,null,null,null,null,null,null,null,null,null,null,{"$f":"BT134","v":0},{"$f":"BU134","v":45.77},59.9,84.9,100,null,null,{"$f":"AVERAGE(GF124:GF131)","v":67.5},null,{"$f":"CC134","v":2},{"$f":"CD134","v":"X"},1,1,null,null,null,null,null,null,null,null,null,null,null,null,null,null,null,null,null,null,null,null,null,null,null,null,null,null,null,null,null,null,null,null,null,null,null,null,null,null,null,null,null,null,null,null,null,null,null,null,null,null,null,null,null,null,null,null,null,null,null,null,null,null,null,null,null,null,null,null,null,null,null,null,null,null,null,null,null,null,null,null,null,null,null,null,null,null,null,null,null,null,null,null,null,null,null,null,{"$f":"FY134","v":0},{"$f":"FZ134","v":45.77},59.9,84.9,100,null,null,{"$f":"AVERAGE(KK124:KK131)","v":55},null,{"$f":"GH134","v":2},{"$f":"GI134","v":"X"},1,1]
[null,null,null,null,null,null,null,null,null,null,null,null,null,null,null,null,null,null,null,null,null,null,null,null,null,null,null,null,null,null,null,null,null,null,null,null,null,null,null,null,null,null,null,null,null,null,null,null,null,null,null,null,null,null,null,null,null,null,null,null,null,null,null,null,null,null,null,null,null,null,null,null,null,null,null,null,null,"EV SONUC",{"$f":"IF(CA134>BT134,IF(CA134<BU134,CC134,IF(CA134>BU134,IF(CA134<BV134,CD134,IF(CA134>BV134,IF(CA134<BW134,CE134,IF(CA134>BW134,IF(CA134<BX134,CF134,CC128))))))))","v":1},null,null,null,null,null,null,null,null,null,null,null,null,null,null,null,null,null,null,null,null,null,null,null,null,null,null,null,null,null,null,null,null,null,null,null,null,null,null,null,null,null,null,null,null,null,null,null,null,null,null,null,null,null,null,null,null,null,null,null,null,null,null,null,null,null,null,null,null,null,null,null,null,null,null,null,null,null,null,null,null,null,null,null,null,null,null,null,null,null,null,null,null,null,null,null,null,null,null,null,null,null,null,null,null,null,null,null,"EV SONUC",{"$f":"IF(GF134>FY134,IF(GF134<FZ134,GH134,IF(GF134>FZ134,IF(GF134<GA134,GI134,IF(GF134>GA134,IF(GF134<GB134,GJ134,IF(GF134>GB134,IF(GF134<GC134,GK134,GH128))))))))","v":1},null,null,null,null,null,null,null,null,null,null,null,null,null,null,null,null,null,null,null,null,null,null,null,null,null,null,null,null,null,null,null,null,null,null,null,null,null,null,null,null,null,null,null,null,null,null,null,null,null,null,null,null,null,null,null,null,null,null,null,null,null,null,null,null,null,null,null,null,null,null,null,null,null,null,null,null,null,null,null,null,null,null,null,null,null,null,null,null,null,null,null,null,null,null,null,null,null,null,null,null,null,null,null,null,null,null,null,"EV SONUC",{"$f":"IF(KK134>KD134,IF(KK134<KE134,KM134,IF(KK134>KE134,IF(KK134<KF134,KN134,IF(KK134>KF134,IF(KK134<KG134,KO134,IF(KK134>KG134,IF(KK134<KH134,KP134,KM128))))))))","v":"X"}]
[null,null,null,null,null,null,null,null,null,null,null,null,null,null,null,null,null,null,null,null,null,null,null,null,null,null,null,null,null,null,null,null,null,null,null,null,null,null,null,null,null,null,null,null,null,null,null,null,null,null,null,null,null,null,null,null,null,null,null,null,null,null,null,null,null,null,null,null,null,null,null,null,null,null,null,null,null,null,{"$f":"IF(CA134>BT134,IF(CA134<BU134,BY133,IF(CA134>BU134,IF(CA134<BV134,BZ133,IF(CA134>BV134,IF(CA134<BW134,BZ133,IF(CA134>BW134,IF(CA134<BX134,0.4))))))))","v":0.61250000000000004},null,null,null,null,null,null,null,null,null,null,null,null,null,null,null,null,null,null,null,null,null,null,null,null,null,null,null,null,null,null,null,null,null,null,null,null,null,null,null,null,null,null,null,null,null,null,null,null,null,null,null,null,null,null,null,null,null,null,null,null,null,null,null,null,null,null,null,null,null,null,null,null,null,null,null,null,null,null,null,null,null,null,null,null,null,null,null,null,null,null,null,null,null,null,null,null,null,null,null,null,null,null,null,null,null,null,null,null,{"$f":"IF(GF134>FY134,IF(GF134<FZ134,GD133,IF(GF134>FZ134,IF(GF134<GA134,GE133,IF(GF134>GA134,IF(GF134<GB134,GE133,IF(GF134>GB134,IF(GF134<GC134,0.4))))))))","v":0.67500000000000004},null,null,null,null,null,null,null,null,null,null,null,null,null,null,null,null,null,null,null,null,null,null,null,null,null,null,null,null,null,null,null,null,null,null,null,null,null,null,null,null,null,null,null,null,null,null,null,null,null,null,null,null,null,null,null,null,null,null,null,null,null,null,null,null,null,null,null,null,null,null,null,null,null,null,null,null,null,null,null,null,null,null,null,null,null,null,null,null,null,null,null,null,null,null,null,null,null,null,null,null,null,null,null,null,null,null,null,null,{"$f":"IF(KK134>KD134,IF(KK134<KE134,KI133,IF(KK134>KE134,IF(KK134<KF134,KJ133,IF(KK134>KF134,IF(KK134<KG134,KJ133,IF(KK134>KG134,IF(KK134<KH134,0.4))))))))","v":0.55000000000000004}]
[]
[]
["EV SAHIBI","DEPLASMAN","TARIH","ANALIZ TURU","EN IYI TAHMIN ",null,"MS SKOR                                                                   EV                         DEP",null,"IY UZDELERI                                              1                  X                  2",null,null,"MS YUZDELERI                                              1                  X                  2",null,null,"IY GOL TAHMINI",null,"MS GOL TAHMINI",null,"KG VAR ",null,"IY  TAHMINI",null,"MS  TAHMINI",null,"IY - MS ",null,"TOPLAM GOL",null,"1,5 VE 3,5 TAHMINI",null,"EV 2,5 UST ",null,"DEP 2,5 UST "]
[{"$f":"A2","v":"Thun"},{"$f":"A28","v":"Young Boys"},{"$f":"C132","v":"2019-02-27"},{"$f":"D132","v":"GENEL ANALIZ"},"KG VAR",0.66428571428571426,1.65,1.05,0.4,0.44999999999999996,0.15000000000000002,0.5,0.30000000000000004,0.2,"IY 1.5 ALT","RISKLI","MS 2.5 UST","RISKLI","KG VAR",0.66428571428571426,{"$f":"U132","v":"IY 1 "},"RISKLI","MS 2","RISKLI","1 -1 /2","RISKLI","2-3 GOL",0.51875000000000004,"1,5 UST",0.67500000000000004,{"$f":"AE132","v":4},{"$f":"AF132","v":0.4},6,0.6,null,null,null,null,null,null,null,null,null,null,null,null,null,null,null,null,null,null,null,null,null,null,null,null,null,null,null,null,null,null,null,null,null,null,null,null,null,null,null,null,null,null,null,null,null,"10",null,null,null,null,null,null,null,null,null,null,null,null,null,null,null,null,null,null,null,null,null,null,null,null,null,null,null,null,null,null,null,null,null,null,null,null,null,null,null,null,null,null,null,null,null,null,null,null,null,null,null,null,null,null,null,null,null,null,null,null,null,null,null,null,null,null,null,null,null,null,null,null,null,null,null,null,null,null,null,null,null,null,null,null,null,null,null,null,null,null,null,null,null,null,null,null,null,null,null,null,null,null,null,null,null,null,null,null,{"$f":"CB140","v":"10"},null,null,null,null,null,null,null,null,null,null,null,null,null,null,null,null,null,null,null,null,null,null,null,null,null,null,null,null,null,null,null,null,null,null,null,null,null,null,null,null,null,null,null,null,null,null,null,null,null,null,null,null,null,null,null,null,null,null,null,null,null,null,null,null,null,null,null,null,null,null,null,null,null,null,null,null,null,null,null,null,null,null,null,null,null,null,null,null,null,null,null,null,null,null,null,null,null,null,null,null,null,null,null,null,null,null,null,null,{"$f":"GG140","v":"10"}]
[{"$f":"DF132","v":"Thun"},{"$f":"DG132","v":"Young Boys"},"2019-02-27","FORM","MS 1",0.59687500000000004,1.3,1.3,0.3,0.4,0.30000000000000004,0.4,0.30000000000000004,0.3,"IY 1.5 ALT","RISKLI","MS 2.5 UST","RISKLI","KG YOK","RISKLI","IY 2","RISKLI","MS 1",0.59687500000000004,"2 -1","RISKLI","2-3 GOL",0.52500000000000002,"1,5 UST",0.6333333333333333,2,0.4,3,0.6,null,null,null,null,null,null,null,null,null,null,null,null,null,null,null,null,null,null,null,null,null,null,null,null,null,null,null,null,null,null,null,null,null,null,"MAC SONU DEPLASMAN",null,null,null,null,-1,0.59,1.24,1.99,2.7,3,-1,1.9,3.9,5.9,7.9,10,null,null,null,null,null,null,null,null,null,null,null,null,null,null,null,null,null,null,null,null,null,null,null,null,null,null,null,null,null,null,null,null,null,null,null,null,null,null,null,null,null,null,null,null,null,null,null,null,null,null,null,null,null,null,null,null,null,null,null,null,null,null,null,null,null,null,null,null,null,null,null,null,null,null,null,null,null,null,null,null,null,null,null,null,null,null,null,null,null,null,null,null,"MAC SONU DEPLASMAN",null,null,null,null,{"$f":"BV141","v":-1},0.59,1.24,1.99,2.7,3,-1,1.9,3.9,5.9,7.9,10,null,null,null,null,null,null,null,null,null,null,null,null,null,null,null,null,null,null,null,null,null,null,null,null,null,null,null,null,null,null,null,null,null,null,null,null,null,null,null,null,null,null,null,null,null,null,null,null,null,null,null,null,null,null,null,null,null,null,null,null,null,null,null,null,null,null,null,null,null,null,null,null,null,null,null,null,null,null,null,null,null,null,null,null,null,null,null,null,null,null,null,null,"MAC SONU DEPLASMAN",null,null,null,null,{"$f":"GA141","v":-1},0.59,1.24,1.99,2.7,3,-1,1.9,3.9,5.9,7.9,10]
[{"$f":"HK132","v":"Thun"},{"$f":"HL132","v":"Young Boys"},"2019-02-27","H2H",{"$f":"HO132","v":"2-3 GOL"},{"$f":"HP132","v":0.48750000000000004},1.1000000000000001,1.5,0.30000000000000004,0.4,0.30000000000000004,0.2,0.4,0.4,"IY 1.5 ALT","RISKLI","MS 2.5 UST","RISKLI","KG YOK","RISKLI","IY 2","RISKLI","MS 2","RISKLI","2 -X /2","RISKLI","2-3 GOL",0.48750000000000004,"1,5 UST",0.68333333333333324,2,0.4,2,0.4,null,null,null,null,null,null,null,null,null,null,null,null,null,null,null,null,null,null,null,null,null,null,null,null,null,null,null,null,null,null,null,null,null,null,null,null,null,null,null,"0-20","20-40","40-60","60-80","80-100","TOPLAM",null,null,null,null,null,null,null,null,null,null,null,null,null,null,null,null,null,null,null,null,null,null,null,null,null,null,null,null,null,null,null,null,null,null,null,null,null,null,null,null,null,null,null,null,null,null,null,null,null,null,null,null,null,null,null,null,null,null,null,null,null,null,null,null,null,null,null,null,null,null,null,null,null,null,null,null,null,null,null,null,null,null,null,null,null,null,null,null,null,null,null,null,null,null,null,null,null,null,null,null,null,null,null,{"$f":"IF(FZ142>GA140,IF(FZ142<GB140,\"10\",\"0\"))","v":false},{"$f":"IF(FZ142>GB140,IF(FZ142<GC140,\"30\",\"0\"))","v":false},{"$f":"IF(FZ142>GC140,IF(FZ142<GE140,\"50\",\"0\"))","v":false},{"$f":"IF(FZ142>GE140,IF(FZ142<GI140,\"70\",\"0\"))","v":false},{"$f":"IF(FZ142>GI140,IF(FZ142<GL140,\"90\",\"0\"))","v":false},"TOPLAM",null,null,null,null,null,null,null,null,null,null,null,null,null,null,null,null,null,null,null,null,null,null,null,null,null,null,null,null,null,null,null,null,null,null,null,null,null,null,null,null,null,null,null,null,null,null,null,null,null,null,null,null,null,null,null,null,null,null,null,null,null,null,null,null,null,null,null,null,null,null,null,null,null,null,null,null,null,null,null,null,null,null,null,null,null,null,null,null,null,null,null,null,null,null,null,null,null,null,null,null,null,null,null,"0-20","20-40","40-60","60-80","80-100","TOPLAM"]
[{"$f":"LQ10","v":"Thun"},{"$f":"LR10","v":"Young Boys"},"2019-02-27","PROANDSI","KG VAR",0.66428571428571426,1.3500000000000003,{"$f":"LX10","v":1.2833333333333334},{"$f":"LY10","v":0.33333333333333331},{"$f":"LZ10","v":0.41666666666666669},{"$f":"MA10","v":0.25000000000000006},{"$f":"MB10","v":0.3666666666666667},0.33333333333333331,{"$f":"MD10","v":0.3},{"$f":"ME10","v":"IY 1.5 ALT"},{"$f":"MF10","v":0},{"$f":"MG10","v":"MS 2.5 UST"},{"$f":"MH10","v":0},"RISKLI",{"$f":"MJ10","v":0},{"$f":"MK10","v":"RISKLI"},{"$f":"ML10","v":0},{"$f":"MM10","v":"RISKLI"},{"$f":"MN10","v":0},"RISKLI",{"$f":"MP10","v":0},{"$f":"MQ10","v":"2-3 GOL"},{"$f":"MR10","v":0},{"$f":"MS10","v":"1,5 UST"},{"$f":"MT10","v":0},0,{"$f":"MV10","v":0.40000000000000008},{"$f":"MW10","v":0},{"$f":"MX10","v":0.53333333333333333},null,null,null,null,null,null,null,null,null,null,null,null,null,null,null,null,null,null,null,null,null,null,null,null,null,null,null,null,null,null,null,null,null,null,"GALIBIYET SAYISI",null,null,null,{"$f":"BM15","v":3},{"$f":"IF(BU143>BV141,IF(BU143<BW141,\"10\",\"0\"))","v":"0"},{"$f":"IF(BU143>BW141,IF(BU143<BX141,\"30\",\"0\"))","v":"0"},{"$f":"IF(BU143>BX141,IF(BU143<BZ141,\"50\",\"0\"))","v":"0"},{"$f":"IF(BU143>BZ141,IF(BU143<CD141,\"70\",\"0\"))","v":"70"},{"$f":"IF(BU143>CD141,IF(BU143<CG141,\"90\",\"0\"))","v":false},{"$f":"BV143+BW143+BX143+BY143+BZ143","v":70},{"$f":"0-CA143","v":-70},null,null,null,null,null,null,null,null,null,null,null,null,null,null,null,null,null,null,null,null,null,null,null,null,null,null,null,null,null,null,null,null,null,null,null,null,null,null,null,null,null,null,null,null,null,null,null,null,null,null,null,null,null,null,null,null,null,null,null,null,null,null,null,null,null,null,null,null,null,null,null,null,null,null,null,null,null,null,null,null,null,null,null,null,null,null,null,null,null,null,null,null,null,null,null,null,null,"GALIBIYET SAYISI",null,null,null,{"$f":"FR15","v":3},{"$f":"IF(FZ143>GA140,IF(FZ143<GC140,\"10\",\"0\"))","v":"0"},{"$f":"IF(FZ143>GC140,IF(FZ143<GD140,\"30\",\"0\"))","v":"0"},{"$f":"IF(FZ143>GC140,IF(FZ143<GE140,\"50\",\"0\"))","v":"0"},{"$f":"IF(FZ143>GE140,IF(FZ143<GI140,\"70\",\"0\"))","v":"0"},{"$f":"IF(FZ143>GI140,IF(FZ143<GL140,\"90\",\"0\"))","v":"0"},{"$f":"GA143+GB143+GC143+GD143+GE143","v":0},{"$f":"0-GF143","v":0},null,null,null,null,null,null,null,null,null,null,null,null,null,null,null,null,null,null,null,null,null,null,null,null,null,null,null,null,null,null,null,null,null,null,null,null,null,null,null,null,null,null,null,null,null,null,null,null,null,null,null,null,null,null,null,null,null,null,null,null,null,null,null,null,null,null,null,null,null,null,null,null,null,null,null,null,null,null,null,null,null,null,null,null,null,null,null,null,null,null,null,null,null,null,null,null,null,"GALIBIYET SAYISI",null,null,null,{"$f":"JW15","v":2},{"$f":"IF(KE143>KF141,IF(KE143<KG141,\"10\",\"0\"))","v":"0"},{"$f":"IF(KE143>KG141,IF(KE143<KH141,\"30\",\"0\"))","v":"0"},{"$f":"IF(KE143>KH141,IF(KE143<KJ141,\"50\",\"0\"))","v":"50"},{"$f":"IF(KE143>KJ141,IF(KE143<KN141,\"70\",\"0\"))","v":false},{"$f":"IF(KE143>KN141,IF(KE143<KQ141,\"90\",\"0\"))","v":false},{"$f":"KF143+KG143+KH143+KI143+KJ143","v":50},{"$f":"0-KK143","v":-50}]
[null,null,null,null,null,null,null,null,null,null,null,null,null,null,null,null,null,null,null,null,null,null,null,null,null,null,null,null,null,null,null,null,null,null,null,null,null,null,null,null,null,null,null,null,null,null,null,null,null,null,null,null,null,null,null,null,null,null,null,null,null,null,null,null,null,null,null,null,"BERABERLIK SAYISI",null,null,null,{"$f":"BN15","v":4},{"$f":"IF(BU144>BV141,IF(BU144<BX141,\"10\",\"0\"))","v":"0"},{"$f":"IF(BU144>BX141,IF(BU144<BY141,\"30\",\"0\"))","v":"0"},{"$f":"IF(BU144>BX141,IF(BU144<BZ141,\"50\",\"0\"))","v":"0"},{"$f":"IF(BU144>BZ141,IF(BU144<CD141,\"70\",\"0\"))","v":"0"},{"$f":"IF(BU144>CD141,IF(BU144<CG141,\"90\",\"0\"))","v":"90"},90,{"$f":"0-CA144","v":-90},null,null,null,null,null,null,null,null,null,null,null,null,null,null,null,null,null,null,null,null,null,null,null,null,null,null,null,null,null,null,null,null,null,null,null,null,null,null,null,null,null,null,null,null,null,null,null,null,null,null,null,null,null,null,null,null,null,null,null,null,null,null,null,null,null,null,null,null,null,null,null,null,null,null,null,null,null,null,null,null,null,null,null,null,null,null,null,null,null,null,null,null,null,null,null,null,null,"BERABERLIK SAYISI",null,null,null,{"$f":"FS15","v":1},{"$f":"IF(FZ144>GK140,IF(FZ144<GL140,\"10\",\"0\"))","v":"0"},{"$f":"IF(FZ144>GJ140,IF(FZ144<GK140,\"30\",\"0\"))","v":"0"},{"$f":"IF(FZ144>GI140,IF(FZ144<GJ140,\"50\",\"0\"))","v":"0"},{"$f":"IF(FZ144>GH140,IF(FZ144<GI140,\"70\",\"0\"))","v":"0"},{"$f":"IF(FZ144>GG140,IF(FZ144<GH140,\"90\",\"0\"))","v":false},0,{"$f":"0-GF144","v":0},null,null,null,null,null,null,null,null,null,null,null,null,null,null,null,null,null,null,null,null,null,null,null,null,null,null,null,null,null,null,null,null,null,null,null,null,null,null,null,null,null,null,null,null,null,null,null,null,null,null,null,null,null,null,null,null,null,null,null,null,null,null,null,null,null,null,null,null,null,null,null,null,null,null,null,null,null,null,null,null,null,null,null,null,null,null,null,null,null,null,null,null,null,null,null,null,null,"BERABERLIK SAYISI",null,null,null,{"$f":"JX15","v":2},{"$f":"IF(KE144>KF141,IF(KE144<KH141,\"10\",\"0\"))","v":"0"},{"$f":"IF(KE144>KH141,IF(KE144<KI141,\"30\",\"0\"))","v":"0"},{"$f":"IF(KE144>KH141,IF(KE144<KJ141,\"50\",\"0\"))","v":"50"},{"$f":"IF(KE144>KJ141,IF(KE144<KN141,\"70\",\"0\"))","v":false},{"$f":"IF(KE144>KN141,IF(KE144<KQ141,\"90\",\"0\"))","v":false},50,{"$f":"0-KK144","v":-50}]
[null,null,null,null,null,null,null,null,null,null,null,null,null,null,null,null,null,null,null,null,null,null,null,null,null,null,null,null,null,null,null,null,null,null,null,null,null,null,null,null,null,null,null,null,null,null,null,null,null,null,null,null,null,null,null,null,null,null,null,null,null,null,null,null,null,null,null,null,"MAGLUBIYET SAYISI ",null,null,null,{"$f":"BO15","v":3},{"$f":"IF(BU145>CF141,IF(BU145<CG141,\"10\",\"0\"))","v":false},{"$f":"IF(BU145>CE141,IF(BU145<CF141,\"30\",\"0\"))","v":false},{"$f":"IF(BU145>CD141,IF(BU145<CE141,\"50\",\"0\"))","v":false},{"$f":"IF(BU145>CC141,IF(BU145<CD141,\"70\",\"0\"))","v":"70"},{"$f":"IF(BU145>CB141,IF(BU145<CC141,\"90\",\"0\"))","v":"0"},70,-70,null,null,null,null,null,null,null,null,null,null,null,null,null,null,null,null,null,null,null,null,null,null,null,null,null,null,null,null,null,null,null,null,null,null,null,null,null,null,null,null,null,null,null,null,null,null,null,null,null,null,null,null,null,null,null,null,null,null,null,null,null,null,null,null,null,null,null,null,null,null,null,null,null,null,null,null,null,null,null,null,null,null,null,null,null,null,null,null,null,null,null,null,null,null,null,null,null,"MAGLUBIYET SAYISI ",null,null,null,{"$f":"FT15","v":1},{"$f":"IF(FZ145>GA140,IF(FZ145<GB140,\"10\",\"0\"))","v":"0"},{"$f":"IF(FZ145>GB140,IF(FZ145<GC140,\"30\",\"0\"))","v":"0"},{"$f":"IF(FZ145>GC140,IF(FZ145<GD140,\"50\",\"0\"))","v":"0"},{"$f":"IF(FZ145>GD140,IF(FZ145<GE140,\"70\",\"0\"))","v":"0"},{"$f":"IF(FZ145>GE140,IF(FZ145<GG139,\"90\",\"0\"))","v":"0"},0,0,null,null,null,null,null,null,null,null,null,null,null,null,null,null,null,null,null,null,null,null,null,null,null,null,null,null,null,null,null,null,null,null,null,null,null,null,null,null,null,null,null,null,null,null,null,null,null,null,null,null,null,null,null,null,null,null,null,null,null,null,null,null,null,null,null,null,null,null,null,null,null,null,null,null,null,null,null,null,null,null,null,null,null,null,null,null,null,null,null,null,null,null,null,null,null,null,null,"MAGLUBIYET SAYISI ",null,null,null,{"$f":"JY15","v":1},{"$f":"IF(KE145>KP141,IF(KE145<KQ141,\"10\",\"0\"))","v":false},{"$f":"IF(KE145>KO141,IF(KE145<KP141,\"30\",\"0\"))","v":false},{"$f":"IF(KE145>KN141,IF(KE145<KO141,\"50\",\"0\"))","v":false},{"$f":"IF(KE145>KM141,IF(KE145<KN141,\"70\",\"0\"))","v":false},{"$f":"IF(KE145>KL141,IF(KE145<KM141,\"90\",\"0\"))","v":"90"},90,-90]
[null,null,null,null,null,null,null,null,null,null,null,null,null,null,null,null,null,null,null,null,null,null,null,null,null,null,null,null,null,null,null,null,null,null,null,null,null,null,null,null,null,null,null,null,null,null,null,null,null,null,null,null,null,null,null,null,null,null,null,null,null,null,null,null,null,null,null,null,"ATTIGI GOL ORTALAMA",null,null,null,{"$f":"AU15","v":1.3},{"$f":"IF(BU146>BV141,IF(BU146<BW141,\"10\",\"0\"))","v":"0"},{"$f":"IF(BU146>BW141,IF(BU146<BX141,\"30\",\"0\"))","v":"0"},{"$f":"IF(BU146>BX141,IF(BU146<BY141,\"50\",\"0\"))","v":"50"},{"$f":"IF(BU146>BY141,IF(BU146<BZ141,\"70\",\"0\"))","v":false},{"$f":"IF(BU146>BZ141,IF(BU146<CB140,\"90\",\"0\"))","v":false},50,-50,null,null,null,null,null,null,null,null,null,null,null,null,null,null,null,null,null,null,null,null,null,null,null,null,null,null,null,null,null,null,null,null,null,null,null,null,null,null,null,null,null,null,null,null,null,null,null,null,null,null,null,null,null,null,null,null,null,null,null,null,null,null,null,null,null,null,null,null,null,null,null,null,null,null,null,null,null,null,null,null,null,null,null,null,null,null,null,null,null,null,null,null,null,null,null,null,null,"ATTIGI GOL ORTALAMA",null,null,null,{"$f":"EZ15","v":1.8},{"$f":"IF(FZ146>GG139,IF(FZ146<GE140,\"10\",\"0\"))","v":"0"},{"$f":"IF(FZ146>GD140,IF(FZ146<GE140,\"30\",\"0\"))","v":"0"},{"$f":"IF(FZ146>GC140,IF(FZ146<GD140,\"50\",\"0\"))","v":"0"},{"$f":"IF(FZ146>GB140,IF(FZ146<GC140,\"70\",\"0\"))","v":"0"},{"$f":"IF(FZ146>GA140,IF(FZ146<GB140,\"90\",\"0\"))","v":"0"},0,0,null,null,null,null,null,null,null,null,null,null,null,null,null,null,null,null,null,null,null,null,null,null,null,null,null,null,null,null,null,null,null,null,null,null,null,null,null,null,null,null,null,null,null,null,null,null,null,null,null,null,null,null,null,null,null,null,null,null,null,null,null,null,null,null,null,null,null,null,null,null,null,null,null,null,null,null,null,null,null,null,null,null,null,null,null,null,null,null,null,null,null,null,null,null,null,null,null,"ATTIGI GOL ORTALAMA",null,null,null,{"$f":"JE15","v":1.6},{"$f":"IF(KE146>KF141,IF(KE146<KG141,\"10\",\"0\"))","v":"0"},{"$f":"IF(KE146>KG141,IF(KE146<KH141,\"30\",\"0\"))","v":"0"},{"$f":"IF(KE146>KH141,IF(KE146<KI141,\"50\",\"0\"))","v":"50"},{"$f":"IF(KE146>KI141,IF(KE146<KJ141,\"70\",\"0\"))","v":false},{"$f":"IF(KE146>KJ141,IF(KE146<KL140,\"90\",\"0\"))","v":false},50,-50]
[null,null,null,null,null,null,null,null,null,null,null,null,null,null,null,null,null,null,null,null,null,null,null,null,null,null,null,null,null,null,null,null,null,null,null,null,null,null,null,null,null,null,null,null,null,null,null,null,null,null,null,null,null,null,null,null,null,null,null,null,null,null,null,null,null,null,null,null,"YEDIGI GOL ORTALAMA ",null,null,null,{"$f":"AV15","v":1.2},{"$f":"IF(BU147>CB140,IF(BU147<BZ141,\"10\",\"0\"))","v":false},{"$f":"IF(BU147>BY141,IF(BU147<BZ141,\"30\",\"0\"))","v":false},{"$f":"IF(BU147>BX141,IF(BU147<BY141,\"50\",\"0\"))","v":false},{"$f":"IF(BU147>BW141,IF(BU147<BX141,\"70\",\"0\"))","v":"70"},{"$f":"IF(BU147>BV141,IF(BU147<BW141,\"90\",\"0\"))","v":"0"},70,-70,null,null,null,null,null,null,null,null,null,null,null,null,null,null,null,null,null,null,null,null,null,null,null,null,null,null,null,null,null,null,null,null,null,null,null,null,null,null,null,null,null,null,null,null,null,null,null,null,null,null,null,null,null,null,null,null,null,null,null,null,null,null,null,null,null,null,null,null,null,null,null,null,null,null,null,null,null,null,null,null,null,null,null,null,null,null,null,null,null,null,null,null,null,null,null,null,null,"YEDIGI GOL ORTALAMA ",null,null,null,{"$f":"FA15","v":0.8},{"$f":"IF(FZ147>GA140,IF(FZ147<GC140,\"10\",\"0\"))","v":"0"},{"$f":"IF(FZ147>GC140,IF(FZ147<GD140,\"30\",\"0\"))","v":"0"},{"$f":"IF(FZ147>GD140,IF(FZ147<GE140,\"50\",\"0\"))","v":"0"},{"$f":"IF(FZ147>GE140,IF(FZ147<GF140,\"70\",\"0\"))","v":"0"},{"$f":"IF(FZ147>GF140,IF(FZ147<GL140,\"90\",\"0\"))","v":"0"},0,0,null,null,null,null,null,null,null,null,null,null,null,null,null,null,null,null,null,null,null,null,null,null,null,null,null,null,null,null,null,null,null,null,null,null,null,null,null,null,null,null,null,null,null,null,null,null,null,null,null,null,null,null,null,null,null,null,null,null,null,null,null,null,null,null,null,null,null,null,null,null,null,null,null,null,null,null,null,null,null,null,null,null,null,null,null,null,null,null,null,null,null,null,null,null,null,null,null,"YEDIGI GOL ORTALAMA ",null,null,null,{"$f":"JF15","v":1},{"$f":"IF(KE147>KL140,IF(KE147<KJ141,\"10\",\"0\"))","v":false},{"$f":"IF(KE147>KI141,IF(KE147<KJ141,\"30\",\"0\"))","v":false},{"$f":"IF(KE147>KH141,IF(KE147<KI141,\"50\",\"0\"))","v":false},{"$f":"IF(KE147>KG141,IF(KE147<KH141,\"70\",\"0\"))","v":"70"},{"$f":"IF(KE147>KF141,IF(KE147<KG141,\"90\",\"0\"))","v":"0"},70,-70]
[null,null,null,null,null,null,null,null,null,null,null,null,null,null,null,null,null,null,null,null,null,null,null,null,null,null,null,null,null,null,null,null,null,null,null,null,null,null,null,null,null,null,null,null,null,null,null,null,null,null,null,null,null,null,null,null,null,null,null,null,null,null,null,null,null,null,null,null,"ATTIGI GOL MAC BASINA ",null,null,null,{"$f":"BE15","v":6},{"$f":"IF(BU148>BV141,IF(BU148<BX141,\"10\",\"0\"))","v":"0"},{"$f":"IF(BU148>BX141,IF(BU148<BY141,\"30\",\"0\"))","v":"0"},{"$f":"IF(BU148>BY141,IF(BU148<BZ141,\"50\",\"0\"))","v":"0"},{"$f":"IF(BU148>BZ141,IF(BU148<CA141,\"70\",\"0\"))","v":"0"},{"$f":"IF(BU148>CA141,IF(BU148<CG141,\"90\",\"0\"))","v":"90"},90,-90,null,null,null,null,null,null,null,null,null,null,null,null,null,null,null,null,null,null,null,null,null,null,null,null,null,null,null,null,null,null,null,null,null,null,null,null,null,null,null,null,null,null,null,null,null,null,null,null,null,null,null,null,null,null,null,null,null,null,null,null,null,null,null,null,null,null,null,null,null,null,null,null,null,null,null,null,null,null,null,null,null,null,null,null,null,null,null,null,null,null,null,null,null,null,null,null,null,"ATTIGI GOL MAC BASINA ",null,null,null,{"$f":"FJ15","v":4},{"$f":"IF(FZ148>GK140,IF(FZ148<GL140,\"10\",\"0\"))","v":"0"},{"$f":"IF(FZ148>GJ140,IF(FZ148<GK140,\"30\",\"0\"))","v":"0"},{"$f":"IF(FZ148>GI140,IF(FZ148<GJ140,\"50\",\"0\"))","v":"0"},{"$f":"IF(FZ148>GH140,IF(FZ148<GI140,\"70\",\"0\"))","v":"0"},{"$f":"IF(FZ148>GG140,IF(FZ148<GH140,\"90\",\"0\"))","v":false},0,0,null,null,null,null,null,null,null,null,null,null,null,null,null,null,null,null,null,null,null,null,null,null,null,null,null,null,null,null,null,null,null,null,null,null,null,null,null,null,null,null,null,null,null,null,null,null,null,null,null,null,null,null,null,null,null,null,null,null,null,null,null,null,null,null,null,null,null,null,null,null,null,null,null,null,null,null,null,null,null,null,null,null,null,null,null,null,null,null,null,null,null,null,null,null,null,null,null,"ATTIGI GOL MAC BASINA ",null,null,null,{"$f":"JO15","v":5},{"$f":"IF(KE148>KF141,IF(KE148<KH141,\"10\",\"0\"))","v":"0"},{"$f":"IF(KE148>KH141,IF(KE148<KI141,\"30\",\"0\"))","v":"0"},{"$f":"IF(KE148>KI141,IF(KE148<KJ141,\"50\",\"0\"))","v":"0"},{"$f":"IF(KE148>KJ141,IF(KE148<KK141,\"70\",\"0\"))","v":"0"},{"$f":"IF(KE148>KK141,IF(KE148<KQ141,\"90\",\"0\"))","v":"90"},90,-90]
[null,null,"EV SAHIBI",null,null,null,null,null,null,null,null,null,null,null,null,null,null,null,null,null,null,null,null,null,null,null,null,null,null,null,null,null,null,null,null,null,null,null,null,null,null,null,null,null,null,null,null,null,null,null,null,null,null,null,null,null,null,null,null,null,null,null,null,null,null,null,null,null,"YEDIGI GOL MAC BASINA ",null,null,null,{"$f":"BF15","v":7},{"$f":"IF(BU149>CF141,IF(BU149<CG141,\"10\",\"0\"))","v":false},{"$f":"IF(BU149>CE141,IF(BU149<CF141,\"30\",\"0\"))","v":"30"},{"$f":"IF(BU149>CD141,IF(BU149<CE141,\"50\",\"0\"))","v":"0"},{"$f":"IF(BU149>CC141,IF(BU149<CD141,\"70\",\"0\"))","v":"0"},{"$f":"IF(BU149>CB141,IF(BU149<CC141,\"90\",\"0\"))","v":"0"},30,-30,null,null,null,null,null,null,null,null,null,null,null,null,null,null,null,null,null,null,null,null,null,null,null,null,null,null,null,null,null,null,null,"EV SAHIBI",null,null,null,null,null,null,null,null,null,null,null,null,null,null,null,null,null,null,null,null,null,null,null,null,null,null,null,null,null,null,null,null,null,null,null,null,null,null,null,null,null,null,null,null,null,null,null,null,null,null,null,null,null,null,null,null,null,null,null,null,null,null,null,null,null,"YEDIGI GOL MAC BASINA ",null,null,null,{"$f":"FK15","v":3},{"$f":"IF(FZ149>GA140,IF(FZ149<GB140,\"10\",\"0\"))","v":"0"},{"$f":"IF(FZ149>GB140,IF(FZ149<GC140,\"30\",\"0\"))","v":"0"},{"$f":"IF(FZ149>GC140,IF(FZ149<GD140,\"50\",\"0\"))","v":"0"},{"$f":"IF(FZ149>GD140,IF(FZ149<GE140,\"70\",\"0\"))","v":"0"},{"$f":"IF(FZ149>GE140,IF(FZ149<GG139,\"90\",\"0\"))","v":"0"},0,0,null,null,null,null,null,null,null,null,null,null,null,null,null,null,null,null,null,null,null,null,null,null,null,null,null,null,null,null,null,null,null,"EV SAHIBI",null,null,null,null,null,null,null,null,null,null,null,null,null,null,null,null,null,null,null,null,null,null,null,null,null,null,null,null,null,null,null,null,null,null,null,null,null,null,null,null,null,null,null,null,null,null,null,null,null,null,null,null,null,null,null,null,null,null,null,null,null,null,null,null,null,"YEDIGI GOL MAC BASINA ",null,null,null,{"$f":"JP15","v":4},{"$f":"IF(KE149>KP141,IF(KE149<KQ141,\"10\",\"0\"))","v":false},{"$f":"IF(KE149>KO141,IF(KE149<KP141,\"30\",\"0\"))","v":false},{"$f":"IF(KE149>KN141,IF(KE149<KO141,\"50\",\"0\"))","v":"50"},{"$f":"IF(KE149>KM141,IF(KE149<KN141,\"70\",\"0\"))","v":"0"},{"$f":"IF(KE149>KL141,IF(KE149<KM141,\"90\",\"0\"))","v":"0"},50,-50]
["IY0,5UST",{"$f":"A2","v":"Thun"},"SON 10 MACIN  ",null,0,"   TANESI  ","ILK YARISI 0,5 UST","   BITTI",{"$f":"E150/10","v":0},{"$f":"_xlfn.CONCAT(C150:H150)","v":"SON 10 MACIN  0   TANESI  ILK YARISI 0,5 UST   BITTI"},null,null,null,null,{"$f":"LARGE(I150:I167,1)","v":1},{"$f":"VLOOKUP(O150,I150:J167,2,)","v":"SON 10 MACIN  10   TANESI  GOL ATTI"},null,null,null,null,null,null,null,null,null,null,null,null,null,null,null,null,null,null,null,null,null,null,null,null,null,null,null,null,null,null,null,null,null,null,null,null,null,null,null,null,null,null,null,null,null,null,null,null,null,null,null,null,"EV IY TOPLAM GOL",null,null,null,{"$f":"AX15","v":2.5},{"$f":"IF(BU150>BV141,IF(BU150<BW141,\"10\",\"0\"))","v":"0"},{"$f":"IF(BU150>BW141,IF(BU150<BX141,\"30\",\"0\"))","v":"0"},{"$f":"IF(BU150>BX141,IF(BU150<BY141,\"50\",\"0\"))","v":"0"},{"$f":"IF(BU150>BY141,IF(BU150<BZ141,\"70\",\"0\"))","v":"70"},{"$f":"IF(BU150>BZ141,IF(BU150<CB140,\"90\",\"0\"))","v":false},70,-70,null,null,null,null,null,null,null,null,null,null,null,null,null,null,null,null,null,null,null,null,null,null,null,null,null,null,null,null,null,"IY0,5UST",{"$f":"DF2","v":"Thun"},"SON 5 MACIN  ",null,0,"   TANESI  ","ILK YARISI 0,5 UST","   BITTI",{"$f":"DJ150/5","v":0},{"$f":"_xlfn.CONCAT(DH150:DM150)","v":"SON 5 MACIN  0   TANESI  ILK YARISI 0,5 UST   BITTI"},null,null,null,null,{"$f":"LARGE(DN150:DN167,1)","v":1},{"$f":"VLOOKUP(DT150,DN150:DO167,2,)","v":"SON 5 MACIN  5   TANESI  GOL ATTI"},null,null,null,null,null,null,null,null,null,null,null,null,null,null,null,null,null,null,null,null,null,null,null,null,null,null,null,null,null,null,null,null,null,null,null,null,null,null,null,null,null,null,null,null,null,null,null,null,null,null,null,null,"EV IY TOPLAM GOL",null,null,null,{"$f":"FC15","v":2.6},{"$f":"IF(FZ150>GA141,IF(FZ150<GB141,\"10\",\"0\"))","v":"0"},{"$f":"IF(FZ150>GB141,IF(FZ150<GC141,\"30\",\"0\"))","v":"0"},{"$f":"IF(FZ150>GC141,IF(FZ150<GD141,\"50\",\"0\"))","v":"0"},{"$f":"IF(FZ150>GD141,IF(FZ150<GE141,\"70\",\"0\"))","v":"70"},{"$f":"IF(FZ150>GE141,IF(FZ150<GG140,\"90\",\"0\"))","v":false},70,-70,null,null,null,null,null,null,null,null,null,null,null,null,null,null,null,null,null,null,null,null,null,null,null,null,null,null,null,null,null,"IY0,5UST",{"$f":"HK2","v":"Thun"},"H2H MACLARININ ",null,{"$f":"IG15","v":3},"   TANESI  ","ILK YARISI 0,5 UST","   BITTI",{"$f":"HO150/5","v":0.6},{"$f":"_xlfn.CONCAT(HM150:HR150)","v":"H2H MACLARININ 3   TANESI  ILK YARISI 0,5 UST   BITTI"},null,null,null,null,{"$f":"LARGE(HS150:HS167,1)","v":1},{"$f":"IF(HU34=\"\",\"\",VLOOKUP(HY150,HS150:HT167,2,))","v":"H2H MACLARININ 5   TANESI  MS 1,5 UST   BITTI"},null,null,null,null,null,null,null,null,null,null,null,null,null,null,null,null,null,null,null,null,null,null,null,null,null,null,null,null,null,null,null,null,null,null,null,null,null,null,null,null,null,null,null,null,null,null,null,null,null,null,null,null,"EV IY TOPLAM GOL",null,null,null,{"$f":"JH15","v":2.6},{"$f":"IF(KE150>KF141,IF(KE150<KG141,\"10\",\"0\"))","v":"0"},{"$f":"IF(KE150>KG141,IF(KE150<KH141,\"30\",\"0\"))","v":"0"},{"$f":"IF(KE150>KH141,IF(KE150<KI141,\"50\",\"0\"))","v":"0"},{"$f":"IF(KE150>KI141,IF(KE150<KJ141,\"70\",\"0\"))","v":"70"},{"$f":"IF(KE150>KJ141,IF(KE150<KL140,\"90\",\"0\"))","v":false},70,-70]
["IY1,5UST",{"$f":"B150","v":"Thun"},"SON 10 MACIN  ",null,0,"   TANESI  ","ILK YARISI 1,5 UST","   BITTI",{"$f":"E151/10","v":0},{"$f":"_xlfn.CONCAT(C151:H151)","v":"SON 10 MACIN  0   TANESI  ILK YARISI 1,5 UST   BITTI"},null,null,null,null,{"$f":"LARGE(I150:I167,2)","v":0.9},{"$f":"VLOOKUP(O151,I149:M167,2,)","v":"SON 10 MACIN  9  MACINDA  YENILMEDI  (BERABERLIKLER DAHIL)"},null,null,null,null,null,null,null,null,null,null,null,null,null,null,null,null,null,null,null,null,null,null,null,null,null,null,null,null,null,null,null,null,null,null,null,null,null,null,null,null,null,null,null,null,null,null,null,null,null,null,null,null,null,null,null,null,null,null,null,null,null,null,null,null,null,null,null,null,null,null,null,null,null,null,null,null,null,null,null,null,null,null,null,null,null,null,null,null,null,null,null,null,null,"IY1,5UST",{"$f":"DG150","v":"Thun"},"SON 5 MACIN  ",null,0,"   TANESI  ","ILK YARISI 1,5 UST","   BITTI",{"$f":"DJ151/5","v":0},{"$f":"_xlfn.CONCAT(DH151:DM151)","v":"SON 5 MACIN  0   TANESI  ILK YARISI 1,5 UST   BITTI"},null,null,null,null,{"$f":"LARGE(DN150:DN167,2)","v":1},{"$f":"VLOOKUP(DT151,DN149:DR167,2,)","v":"SON 5 MACIN  5   TANESI  GOL ATTI"},null,null,null,null,null,null,null,null,null,null,null,null,null,null,null,null,null,null,null,null,null,null,null,null,null,null,null,null,null,null,null,null,null,null,null,null,null,null,null,null,null,null,null,null,null,null,null,null,null,null,null,null,null,null,null,null,null,null,null,null,null,null,null,null,null,null,null,null,null,null,null,null,null,null,null,null,null,null,null,null,null,null,null,null,null,null,null,null,null,null,null,null,null,"IY1,5UST",{"$f":"HL150","v":"Thun"},"H2H MACLARININ ",null,{"$f":"5-HO152","v":1},"   TANESI  ","ILK YARISI 1,5 UST","   BITTI",{"$f":"HO151/5","v":0.2},{"$f":"_xlfn.CONCAT(HM151:HR151)","v":"H2H MACLARININ 1   TANESI  ILK YARISI 1,5 UST   BITTI"},null,null,null,null,{"$f":"LARGE(HS150:HS167,2)","v":1},{"$f":"IF(HU34=\"\",\"\",VLOOKUP(HY151,HS149:HW167,2,))","v":"H2H MACLARININ 5   TANESI  MS 1,5 UST   BITTI"}]
["IY1,5ALT",{"$f":"B150","v":"Thun"},"SON 10 MACIN  ",null,0,"   TANESI  ","ILK YARISI 1,5 ALT","   BITTI",0,"SON 10 MACIN  0   TANESI  ILK YARISI 1,5 ALT   BITTI",null,null,null,null,{"$f":"LARGE(I150:I167,3)","v":0.8},{"$f":"VLOOKUP(O152,I150:M168,2,)","v":"SON 10 MACIN  8   TANESI  MS 1,5 UST   BITTI"},null,null,null,null,null,null,null,null,null,null,null,null,null,null,null,null,null,null,null,null,null,null,null,null,null,null,null,null,null,null,null,null,null,null,null,null,null,null,null,null,null,null,null,null,null,null,null,null,null,null,null,null,null,null,null,null,null,null,null,null,{"$f":"1-BZ152","v":0.32499999999999996},{"$f":"CA153/100","v":0.67500000000000004},null,null,null,null,null,null,null,null,null,null,null,null,null,null,null,null,null,null,null,null,null,null,null,null,null,null,null,null,null,null,null,"IY1,5ALT",{"$f":"DG150","v":"Thun"},"SON 5 MACIN  ",null,0,"   TANESI  ","ILK YARISI 1,5 ALT","   BITTI",0,"SON 5 MACIN  0   TANESI  ILK YARISI 1,5 ALT   BITTI",null,null,null,null,{"$f":"LARGE(DN150:DN167,3)","v":0.8},{"$f":"VLOOKUP(DT152,DN150:DR168,2,)","v":"SON 5 MACIN  4   TANESI  MS 1,5 UST   BITTI"},null,null,null,null,null,null,null,null,null,null,null,null,null,null,null,null,null,null,null,null,null,null,null,null,null,null,null,null,null,null,null,null,null,null,null,null,null,null,null,null,null,null,null,null,null,null,null,null,null,null,null,null,null,null,null,null,null,null,null,null,{"$f":"1-GE152","v":0.91249999999999998},{"$f":"GF153/100","v":8.7499999999999994E-2},null,null,null,null,null,null,null,null,null,null,null,null,null,null,null,null,null,null,null,null,null,null,null,null,null,null,null,null,null,null,null,"IY1,5ALT",{"$f":"HL150","v":"Thun"},"H2H MACLARININ ",null,{"$f":"IH15","v":4},"   TANESI  ","ILK YARISI 1,5 ALT","   BITTI",0.8,"H2H MACLARININ 4   TANESI  ILK YARISI 1,5 ALT   BITTI",null,null,null,null,{"$f":"LARGE(HS150:HS167,3)","v":0.8},{"$f":"IF(HU34=\"\",\"\",VLOOKUP(HY152,HS150:HW168,2,))","v":"H2H MACLARININ 4   TANESI  ILK YARISI 1,5 ALT   BITTI"},null,null,null,null,null,null,null,null,null,null,null,null,null,null,null,null,null,null,null,null,null,null,null,null,null,null,null,null,null,null,null,null,null,null,null,null,null,null,null,null,null,null,null,null,null,null,null,null,null,null,null,null,null,null,null,null,null,null,null,null,{"$f":"1-KJ152","v":0.35},{"$f":"KK153/100","v":0.65}]
["MS1,5UST",{"$f":"B151","v":"Thun"},"SON 10 MACIN  ",null,{"$f":"Y15","v":8},"   TANESI  ","MS 1,5 UST","   BITTI",0.8,"SON 10 MACIN  8   TANESI  MS 1,5 UST   BITTI",null,null,null,null,{"$f":"LARGE(I150:I167,4)","v":0.7},{"$f":"VLOOKUP(O153,I151:M169,2,)","v":"SON 10 MACIN  7   TANESINDE GALIB GELDI"},null,null,null,null,null,null,null,null,null,null,null,null,null,null,null,null,null,null,null,null,null,null,null,null,null,null,null,null,null,null,null,null,null,null,null,null,null,null,null,null,null,null,null,null,null,null,null,null,null,null,null,null,null,null,null,0,45.77,59.9,84.9,100,null,null,{"$f":"AVERAGE(CA143:CA150)","v":67.5},null,1,"X",2,"BANKO MS 2",null,null,null,null,null,null,null,null,null,null,null,null,null,null,null,null,null,null,null,null,null,null,null,null,null,"MS1,5UST",{"$f":"DG151","v":"Thun"},"SON 5 MACIN  ",null,{"$f":"ED15","v":4},"   TANESI  ","MS 1,5 UST","   BITTI",0.8,"SON 5 MACIN  4   TANESI  MS 1,5 UST   BITTI",null,null,null,null,{"$f":"LARGE(DN150:DN167,4)","v":0.8},{"$f":"VLOOKUP(DT153,DN151:DR169,2,)","v":"SON 5 MACIN  4   TANESI  MS 1,5 UST   BITTI"},null,null,null,null,null,null,null,null,null,null,null,null,null,null,null,null,null,null,null,null,null,null,null,null,null,null,null,null,null,null,null,null,null,null,null,null,null,null,null,null,null,null,null,null,null,null,null,null,null,null,null,null,null,null,null,{"$f":"BT153","v":0},{"$f":"BU153","v":45.77},59.9,84.9,100,null,null,{"$f":"AVERAGE(GF143:GF150)","v":8.75},null,{"$f":"CC153","v":1},{"$f":"CD153","v":"X"},2,"BANKO MS 2",null,null,null,null,null,null,null,null,null,null,null,null,null,null,null,null,null,null,null,null,null,null,null,null,null,"MS1,5UST",{"$f":"HL151","v":"Thun"},"H2H MACLARININ ",null,{"$f":"II15","v":5},"   TANESI  ","MS 1,5 UST","   BITTI",1,"H2H MACLARININ 5   TANESI  MS 1,5 UST   BITTI",null,null,null,null,{"$f":"LARGE(HS150:HS167,4)","v":0.8},{"$f":"IF(HU34=\"\",\"\",VLOOKUP(HY153,HS151:HW169,2,))","v":"H2H MACLARININ 4   TANESI  ILK YARISI 1,5 ALT   BITTI"},null,null,null,null,null,null,null,null,null,null,null,null,null,null,null,null,null,null,null,null,null,null,null,null,null,null,null,null,null,null,null,null,null,null,null,null,null,null,null,null,null,null,null,null,null,null,null,null,null,null,null,null,null,null,null,{"$f":"FY153","v":0},{"$f":"FZ153","v":45.77},59.9,84.9,100,null,null,{"$f":"AVERAGE(KK143:KK150)","v":65},null,{"$f":"GH153","v":1},{"$f":"GI153","v":"X"},2,"BANKO MS 2"]
["MS2,5UST","Thun","SON 10 MACIN  ",null,{"$f":"Z15","v":4},"   TANESI  ","MS 2,5 UST","   BITTI",0.4,"SON 10 MACIN  4   TANESI  MS 2,5 UST   BITTI",null,null,null,null,null,null,null,null,null,null,null,null,null,null,null,null,null,null,null,null,null,null,null,null,null,null,null,null,null,null,null,null,null,null,null,null,null,null,null,null,null,null,null,null,null,null,null,null,null,null,null,null,null,null,null,null,null,null,null,null,null,null,null,null,null,null,null,"DEP SONUC ",{"$f":"IF(CA153>BT153,IF(CA153<BU153,CC153,IF(CA153>BU153,IF(CA153<BV153,CD153,IF(CA153>BV153,IF(CA153<BW153,CE153,IF(CA153>BW153,IF(CA153<BX153,CF153,CC147))))))))","v":2},null,null,null,null,null,null,null,null,null,null,null,null,null,null,null,null,null,null,null,null,null,null,null,null,null,null,null,null,null,null,"MS2,5UST","Thun","SON 5 MACIN  ",null,{"$f":"EE15","v":2},"   TANESI  ","MS 2,5 UST","   BITTI",0.4,"SON 5 MACIN  2   TANESI  MS 2,5 UST   BITTI",null,null,null,null,null,null,null,null,null,null,null,null,null,null,null,null,null,null,null,null,null,null,null,null,null,null,null,null,null,null,null,null,null,null,null,null,null,null,null,null,null,null,null,null,null,null,null,null,null,null,null,null,null,null,null,null,null,null,null,null,null,null,null,null,null,null,null,"DEP SONUC ",{"$f":"IF(GF153>FY153,IF(GF153<FZ153,GH153,IF(GF153>FZ153,IF(GF153<GA153,GI153,IF(GF153>GA153,IF(GF153<GB153,GJ153,IF(GF153>GB153,IF(GF153<GC153,GK153,GH147))))))))","v":1},null,null,null,null,null,null,null,null,null,null,null,null,null,null,null,null,null,null,null,null,null,null,null,null,null,null,null,null,null,null,"MS2,5UST","Thun","H2H MACLARININ ",null,{"$f":"IJ15","v":2},"   TANESI  ","MS 2,5 UST","   BITTI",0.4,"H2H MACLARININ 2   TANESI  MS 2,5 UST   BITTI",null,null,null,null,null,null,null,null,null,null,null,null,null,null,null,null,null,null,null,null,null,null,null,null,null,null,null,null,null,null,null,null,null,null,null,null,null,null,null,null,null,null,null,null,null,null,null,null,null,null,null,null,null,null,null,null,null,null,null,null,null,null,null,null,null,null,null,"DEP SONUC ",{"$f":"IF(KK153>KD153,IF(KK153<KE153,KM153,IF(KK153>KE153,IF(KK153<KF153,KN153,IF(KK153>KF153,IF(KK153<KG153,KO153,IF(KK153>KG153,IF(KK153<KH153,KP153,KM147))))))))","v":2}]
["MS2,5ALT",{"$f":"B150","v":"Thun"},"SON 10 MACIN  ",null,{"$f":"10-E154","v":6},"   TANESI  ","MS 2,5 ALT","   BITTI",0.6,"SON 10 MACIN  6   TANESI  MS 2,5 ALT   BITTI",null,null,null,null,null,null,null,null,null,null,null,null,null,null,null,null,null,null,null,null,null,null,null,null,null,null,null,null,null,null,null,null,null,null,null,null,null,null,null,null,null,null,null,null,null,null,null,null,null,null,null,null,null,null,null,null,null,null,null,null,null,null,null,null,null,null,null,null,{"$f":"IF(CA153>BT153,IF(CA153<BU153,BY152,IF(CA153>BU153,IF(CA153<BV153,BZ152,IF(CA153>BV153,IF(CA153<BW153,BZ152,IF(CA153>BW153,IF(CA153<BX153,0.4))))))))","v":0.67500000000000004},null,null,null,null,null,null,null,null,null,null,null,null,null,null,null,null,null,null,null,null,null,null,null,null,null,null,null,null,null,null,"MS2,5ALT",{"$f":"DG150","v":"Thun"},"SON 5 MACIN  ",null,{"$f":"5-DJ154","v":3},"   TANESI  ","MS 2,5 ALT","   BITTI",{"$f":"DJ155/5","v":0.6},"SON 5 MACIN  3   TANESI  MS 2,5 ALT   BITTI",null,null,null,null,null,null,null,null,null,null,null,null,null,null,null,null,null,null,null,null,null,null,null,null,null,null,null,null,null,null,null,null,null,null,null,null,null,null,null,null,null,null,null,null,null,null,null,null,null,null,null,null,null,null,null,null,null,null,null,null,null,null,null,null,null,null,null,null,{"$f":"IF(GF153>FY153,IF(GF153<FZ153,GD152,IF(GF153>FZ153,IF(GF153<GA153,GE152,IF(GF153>GA153,IF(GF153<GB153,GE152,IF(GF153>GB153,IF(GF153<GC153,0.4))))))))","v":0.91249999999999998},null,null,null,null,null,null,null,null,null,null,null,null,null,null,null,null,null,null,null,null,null,null,null,null,null,null,null,null,null,null,"MS2,5ALT",{"$f":"HL150","v":"Thun"},"H2H MACLARININ ",null,{"$f":"5-HO154","v":3},"   TANESI  ","MS 2,5 ALT","   BITTI",0.6,"H2H MACLARININ 3   TANESI  MS 2,5 ALT   BITTI",null,null,null,null,null,null,null,null,null,null,null,null,null,null,null,null,null,null,null,null,null,null,null,null,null,null,null,null,null,null,null,null,null,null,null,null,null,null,null,null,null,null,null,null,null,null,null,null,null,null,null,null,null,null,null,null,null,null,null,null,null,null,null,null,null,null,null,null,{"$f":"IF(KK153>KD153,IF(KK153<KE153,KI152,IF(KK153>KE153,IF(KK153<KF153,KJ152,IF(KK153>KF153,IF(KK153<KG153,KJ152,IF(KK153>KG153,IF(KK153<KH153,0.4))))))))","v":0.65}]
["MS3,5ALT",{"$f":"A8","v":"Thun"},"SON 10 MACIN  ",null,{"$f":"AA15","v":6},"   TANESI  ","MS 3,5 ALT","   BITTI",0.6,"SON 10 MACIN  6   TANESI  MS 3,5 ALT   BITTI",null,null,null,null,null,null,null,null,null,null,null,null,null,null,null,null,null,null,null,null,null,null,null,null,null,null,null,null,null,null,null,null,null,null,null,null,null,null,null,null,null,null,null,null,null,null,null,null,null,null,null,null,null,null,null,null,null,null,null,null,null,null,null,null,null,null,null,null,null,null,"DEP ORTALAMA",{"$f":"AVERAGE(CB143:CB150)","v":-67.5},null,null,null,null,null,null,null,null,null,null,null,null,null,null,null,null,null,null,null,null,null,null,null,null,null,null,null,"MS3,5ALT",{"$f":"DF8","v":"Thun"},"SON 5 MACIN  ",null,{"$f":"EF15","v":3},"   TANESI  ","MS 3,5 ALT","   BITTI",0.6,"SON 5 MACIN  3   TANESI  MS 3,5 ALT   BITTI",null,null,null,null,null,null,null,null,null,null,null,null,null,null,null,null,null,null,null,null,null,null,null,null,null,null,null,null,null,null,null,null,null,null,null,null,null,null,null,null,null,null,null,null,null,null,null,null,null,null,null,null,null,null,null,null,null,null,null,null,null,null,null,null,null,null,null,null,null,null,"DEP ORTALAMA",{"$f":"AVERAGE(GG143:GG150)","v":-8.75},null,null,null,null,null,null,null,null,null,null,null,null,null,null,null,null,null,null,null,null,null,null,null,null,null,null,null,"MS3,5ALT",{"$f":"HK8","v":"Thun"},"H2H MACLARININ ",null,{"$f":"IK15","v":4},"   TANESI  ","MS 3,5 ALT","   BITTI",0.8,"H2H MACLARININ 4   TANESI  MS 3,5 ALT   BITTI",null,null,null,null,null,null,null,null,null,null,null,null,null,null,null,null,null,null,null,null,null,null,null,null,null,null,null,null,null,null,null,null,null,null,null,null,null,null,null,null,null,null,null,null,null,null,null,null,null,null,null,null,null,null,null,null,null,null,null,null,null,null,null,null,null,null,null,null,null,null,"DEP ORTALAMA",{"$f":"AVERAGE(KL143:KL150)","v":-65}]
["IY1",{"$f":"B150","v":"Thun"},"SON 10 MACIN  ",null,0,"   TANESI  ","IY 1","   BITTI",0,"SON 10 MACIN  0   TANESI  IY 1   BITTI",null,null,null,null,null,null,null,null,null,null,null,null,null,null,null,null,null,null,null,null,null,null,null,null,null,null,null,null,null,null,null,null,null,null,null,null,null,null,null,null,null,null,null,null,null,null,null,null,null,null,null,null,null,null,null,null,null,null,null,null,null,null,null,null,null,null,null,null,null,null,null,null,null,"MS SONUC",null,null,null,null,null,null,null,null,null,null,null,null,null,null,null,null,null,null,null,null,null,null,null,null,null,"IY1",{"$f":"DG150","v":"Thun"},"SON 5 MACIN  ",null,null,"   TANESI  ","IY 1","   BITTI",0,"SON 5 MACIN     TANESI  IY 1   BITTI",null,null,null,null,null,null,null,null,null,null,null,null,null,null,null,null,null,null,null,null,null,null,null,null,null,null,null,null,null,null,null,null,null,null,null,null,null,null,null,null,null,null,null,null,null,null,null,null,null,null,null,null,null,null,null,null,null,null,null,null,null,null,null,null,null,null,null,null,null,null,null,null,null,"MS SONUC",null,null,null,null,null,null,null,null,null,null,null,null,null,null,null,null,null,null,null,null,null,null,null,null,null,"IY1",{"$f":"HL150","v":"Thun"},"H2H MACLARININ ",null,null,"   TANESI  ","IY 1","   BITTI",0,"H2H MACLARININ    TANESI  IY 1   BITTI",null,null,null,null,null,null,null,null,null,null,null,null,null,null,null,null,null,null,null,null,null,null,null,null,null,null,null,null,null,null,null,null,null,null,null,null,null,null,null,null,null,null,null,null,null,null,null,null,null,null,null,null,null,null,null,null,null,null,null,null,null,null,null,null,null,null,null,null,null,null,null,null,null,"MS SONUC"]
["IYX",{"$f":"B151","v":"Thun"},"SON 10 MACIN  ",null,0,"   TANESI  ","IY X","   BITTI",0,"SON 10 MACIN  0   TANESI  IY X   BITTI",null,null,null,null,null,null,null,null,null,null,null,null,null,null,null,null,null,null,null,null,null,null,null,null,null,null,null,null,null,null,null,null,null,null,null,null,null,null,null,null,null,null,null,null,null,null,null,null,null,null,null,null,null,null,null,null,null,null,null,null,null,null,null,null,null,null,{"$f":"CA134","v":61.25},{"$f":"CD156","v":-67.5},{"$f":"BY158+BZ158","v":-6.25},null,null,null,null,{"$f":"IF(CA163=CC160,CC161,IF(CA163=CE160,CE161,IF(CA163=CG160,CG161)))","v":"MS 2"},null,null,null,null,null,null,null,null,null,null,null,null,null,null,null,null,null,null,null,null,null,null,null,null,null,"IYX",{"$f":"DG151","v":"Thun"},"SON 5 MACIN  ",null,null,"   TANESI  ","IY X","   BITTI",0,"SON 5 MACIN     TANESI  IY X   BITTI",null,null,null,null,null,null,null,null,null,null,null,null,null,null,null,null,null,null,null,null,null,null,null,null,null,null,null,null,null,null,null,null,null,null,null,null,null,null,null,null,null,null,null,null,null,null,null,null,null,null,null,null,null,null,null,null,null,null,null,null,null,null,null,null,null,null,{"$f":"GF134","v":67.5},{"$f":"GI156","v":-8.75},{"$f":"GD158+GE158","v":58.75},null,null,null,null,{"$f":"IF(GF163=GH160,GH161,IF(GF163=GJ160,GJ161,IF(GF163=GL160,GL161)))","v":"MS 1"},null,null,null,null,null,null,null,null,null,null,null,null,null,null,null,null,null,null,null,null,null,null,null,null,null,"IYX",{"$f":"HL151","v":"Thun"},"H2H MACLARININ ",null,null,"   TANESI  ","IY X","   BITTI",0,"H2H MACLARININ    TANESI  IY X   BITTI",null,null,null,null,null,null,null,null,null,null,null,null,null,null,null,null,null,null,null,null,null,null,null,null,null,null,null,null,null,null,null,null,null,null,null,null,null,null,null,null,null,null,null,null,null,null,null,null,null,null,null,null,null,null,null,null,null,null,null,null,null,null,null,null,null,null,{"$f":"KK134","v":55},{"$f":"KN156","v":-65},{"$f":"KI158+KJ158","v":-10},null,null,null,null,{"$f":"IF(KK163=KM160,KM161,IF(KK163=KO160,KO161,IF(KK163=KQ160,KQ161)))","v":"MS 2"}]
["IY2","Thun","SON 10 MACIN  ",null,0,"   TANESI  ","IY 2","   BITTI",0,"SON 10 MACIN  0   TANESI  IY 2   BITTI",null,null,null,null,null,null,null,null,null,null,null,null,null,null,null,null,null,null,null,null,null,null,null,null,null,null,null,null,null,null,null,null,null,null,null,null,null,null,null,null,null,null,null,null,null,null,null,null,null,null,null,null,null,null,null,null,null,null,null,null,null,null,null,null,null,null,null,null,null,null,null,null,null,{"$f":"CA164","v":0.64375000000000004},null,null,null,null,null,null,null,null,null,null,null,null,null,null,null,null,null,null,null,null,null,null,null,null,null,"IY2","Thun","SON 5 MACIN  ",null,null,"   TANESI  ","IY 2","   BITTI",0,"SON 5 MACIN     TANESI  IY 2   BITTI",null,null,null,null,null,null,null,null,null,null,null,null,null,null,null,null,null,null,null,null,null,null,null,null,null,null,null,null,null,null,null,null,null,null,null,null,null,null,null,null,null,null,null,null,null,null,null,null,null,null,null,null,null,null,null,null,null,null,null,null,null,null,null,null,null,null,null,null,null,null,null,null,null,{"$f":"GF164","v":0.79374999999999996},null,null,null,null,null,null,null,null,null,null,null,null,null,null,null,null,null,null,null,null,null,null,null,null,null,"IY2","Thun","H2H MACLARININ ",null,null,"   TANESI  ","IY 2","   BITTI",0,"H2H MACLARININ    TANESI  IY 2   BITTI",null,null,null,null,null,null,null,null,null,null,null,null,null,null,null,null,null,null,null,null,null,null,null,null,null,null,null,null,null,null,null,null,null,null,null,null,null,null,null,null,null,null,null,null,null,null,null,null,null,null,null,null,null,null,null,null,null,null,null,null,null,null,null,null,null,null,null,null,null,null,null,null,null,{"$f":"KK164","v":0.60000000000000009}]
["MS1","Thun","SON 10 MACIN  ",null,{"$f":"AK15","v":7},"   TANESINDE ","GALIB ","GELDI",0.7,"SON 10 MACIN  7   TANESINDE GALIB GELDI",null,null,null,null,null,null,null,null,null,null,null,null,null,null,null,null,null,null,null,null,null,null,null,null,null,null,null,null,null,null,null,null,null,null,null,null,null,null,null,null,null,null,null,null,null,null,null,null,null,null,null,null,null,null,null,null,null,null,null,null,null,null,-99.9,-24.9,-1.9,1.9,24.9,99.9,null,null,2,2,"X",1,1,null,null,null,null,null,null,null,null,null,null,null,null,null,null,null,null,null,null,null,null,null,null,null,null,"MS1","Thun","SON 5 MACIN  ",null,{"$f":"EP15","v":3},"   TANESINDE ","GALIB ","GELDI",0.6,"SON 5 MACIN  3   TANESINDE GALIB GELDI",null,null,null,null,null,null,null,null,null,null,null,null,null,null,null,null,null,null,null,null,null,null,null,null,null,null,null,null,null,null,null,null,null,null,null,null,null,null,null,null,null,null,null,null,null,null,null,null,null,null,null,null,null,null,null,null,null,null,null,null,null,null,{"$f":"BU160","v":-99.9},{"$f":"BV160","v":-24.9},-1.9,1.9,24.9,99.9,null,null,{"$f":"CC160","v":2},{"$f":"CD160","v":2},"X",1,1,null,null,null,null,null,null,null,null,null,null,null,null,null,null,null,null,null,null,null,null,null,null,null,null,"MS1","Thun","H2H MACLARININ ",null,{"$f":"IU15","v":1},"   TANESINDE ","GALIB ","GELDI",0.2,"H2H MACLARININ 1   TANESINDE GALIB GELDI",null,null,null,null,null,null,null,null,null,null,null,null,null,null,null,null,null,null,null,null,null,null,null,null,null,null,null,null,null,null,null,null,null,null,null,null,null,null,null,null,null,null,null,null,null,null,null,null,null,null,null,null,null,null,null,null,null,null,null,null,null,null,{"$f":"FZ160","v":-99.9},{"$f":"GA160","v":-24.9},-1.9,1.9,24.9,99.9,null,null,{"$f":"GH160","v":2},{"$f":"GI160","v":2},"X",1,1]
["MSX","Thun","SON 10 MACIN  ",null,{"$f":"AL15","v":2},"   TANESI  ","BERABERE","   BITTI",0.2,"SON 10 MACIN  2   TANESI  BERABERE   BITTI",null,null,null,null,null,null,null,null,null,null,null,null,null,null,null,null,null,null,null,null,null,null,null,null,null,null,null,null,null,null,null,null,null,null,null,null,null,null,null,null,null,null,null,null,null,null,null,null,null,null,null,null,null,null,null,null,null,null,null,null,null,null,null,null,null,null,null,null,null,null,"MS 2","MS 2","MS X","MS 1","MS 1",null,null,null,null,null,null,null,null,null,null,null,null,null,null,null,null,null,null,null,null,null,null,null,null,"MSX","Thun","SON 5 MACIN  ",null,{"$f":"EQ15","v":2},"   TANESI  ","BERABERE","   BITTI",0.4,"SON 5 MACIN  2   TANESI  BERABERE   BITTI",null,null,null,null,null,null,null,null,null,null,null,null,null,null,null,null,null,null,null,null,null,null,null,null,null,null,null,null,null,null,null,null,null,null,null,null,null,null,null,null,null,null,null,null,null,null,null,null,null,null,null,null,null,null,null,null,null,null,null,null,null,null,null,null,null,null,null,null,null,null,{"$f":"CC161","v":"MS 2"},{"$f":"CD161","v":"MS 2"},{"$f":"CE161","v":"MS X"},{"$f":"CF161","v":"MS 1"},{"$f":"CG161","v":"MS 1"},null,null,null,null,null,null,null,null,null,null,null,null,null,null,null,null,null,null,null,null,null,null,null,null,"MSX","Thun","H2H MACLARININ ",null,{"$f":"IV15","v":2},"   TANESI  ","BERABERE","   BITTI",0.4,"H2H MACLARININ 2   TANESI  BERABERE   BITTI",null,null,null,null,null,null,null,null,null,null,null,null,null,null,null,null,null,null,null,null,null,null,null,null,null,null,null,null,null,null,null,null,null,null,null,null,null,null,null,null,null,null,null,null,null,null,null,null,null,null,null,null,null,null,null,null,null,null,null,null,null,null,null,null,null,null,null,null,null,null,{"$f":"GH161","v":"MS 2"},{"$f":"GI161","v":"MS 2"},{"$f":"GJ161","v":"MS X"},{"$f":"GK161","v":"MS 1"},{"$f":"GL161","v":"MS 1"}]
["MS2","Thun","SON 10 MACIN  ",null,{"$f":"AM15","v":1},"   TANESI  ","MAGLUB ","OLDU",0.1,"SON 10 MACIN  1   TANESI  MAGLUB OLDU",null,null,null,null,null,null,null,null,null,null,null,null,null,null,null,null,null,null,null,null,null,null,null,null,null,null,null,null,null,null,null,null,null,null,null,null,null,null,null,null,null,null,null,null,null,null,null,null,null,null,null,null,null,null,null,null,null,null,null,null,null,null,null,null,null,null,null,null,null,null,null,null,null,null,null,null,null,null,null,null,null,null,null,null,null,null,null,null,null,null,null,null,null,null,null,null,null,null,null,"MS2","Thun","SON 5 MACIN  ",null,{"$f":"ER15","v":0},"   TANESI  ","MAGLUB ","OLDU",0,"SON 5 MACIN  0   TANESI  MAGLUB OLDU",null,null,null,null,null,null,null,null,null,null,null,null,null,null,null,null,null,null,null,null,null,null,null,null,null,null,null,null,null,null,null,null,null,null,null,null,null,null,null,null,null,null,null,null,null,null,null,null,null,null,null,null,null,null,null,null,null,null,null,null,null,null,null,null,null,null,null,null,null,null,null,null,null,null,null,null,null,null,null,null,null,null,null,null,null,null,null,null,null,null,null,null,null,null,null,null,null,null,null,"MS2","Thun","H2H MACLARININ ",null,{"$f":"IW15","v":2},"   TANESI  ","MAGLUB ","OLDU",0.4,"H2H MACLARININ 2   TANESI  MAGLUB OLDU"]
["KGVAR","Thun","SON 10 MACIN  ",null,{"$f":"AE15","v":6},"   TANESI  ","KG VAR","   OLDU",0.6,"SON 10 MACIN  6   TANESI  KG VAR   OLDU",null,null,null,null,null,null,null,null,null,null,null,null,null,null,null,null,null,null,null,null,null,null,null,null,null,null,null,null,null,null,null,null,null,null,null,null,null,null,null,null,null,null,null,null,null,null,null,null,null,null,null,null,null,null,null,null,null,null,null,null,null,null,null,null,null,null,null,"SONUC ",{"$f":"IF(CA158>BU160,IF(CA158<BV160,CC160,IF(CA158>BV160,IF(CA158<BW160,CD160,IF(CA158>BW160,IF(CA158<BX160,CE160,IF(CA158>BX160,IF(CA158<BY160,CF160,IF(CA158>BY160,IF(CA158<BZ160,CG160))))))))))","v":2},null,null,null,null,null,null,null,null,null,null,null,null,null,null,null,null,null,null,null,null,null,null,null,null,null,null,null,null,null,null,"KGVAR","Thun","SON 5 MACIN  ",null,{"$f":"EJ15","v":4},"   TANESI  ","KG VAR","   OLDU",0.8,"SON 5 MACIN  4   TANESI  KG VAR   OLDU",null,null,null,null,null,null,null,null,null,null,null,null,null,null,null,null,null,null,null,null,null,null,null,null,null,null,null,null,null,null,null,null,null,null,null,null,null,null,null,null,null,null,null,null,null,null,null,null,null,null,null,null,null,null,null,null,null,null,null,null,null,null,null,null,null,null,null,"SONUC ",{"$f":"IF(GF158>FZ160,IF(GF158<GA160,GH160,IF(GF158>GA160,IF(GF158<GB160,GI160,IF(GF158>GB160,IF(GF158<GC160,GJ160,IF(GF158>GC160,IF(GF158<GD160,GK160,IF(GF158>GD160,IF(GF158<GE160,GL160))))))))))","v":1},null,null,null,null,null,null,null,null,null,null,null,null,null,null,null,null,null,null,null,null,null,null,null,null,null,null,null,null,null,null,"KGVAR","Thun","H2H MACLARININ ",null,{"$f":"IO15","v":4},"   TANESI  ","KG VAR","   OLDU",0.8,"H2H MACLARININ 4   TANESI  KG VAR   OLDU",null,null,null,null,null,null,null,null,null,null,null,null,null,null,null,null,null,null,null,null,null,null,null,null,null,null,null,null,null,null,null,null,null,null,null,null,null,null,null,null,null,null,null,null,null,null,null,null,null,null,null,null,null,null,null,null,null,null,null,null,null,null,null,null,null,null,null,"SONUC ",{"$f":"IF(HU34=\"\",\"\",IF(KK158>KE160,IF(KK158<KF160,KM160,IF(KK158>KF160,IF(KK158<KG160,KN160,IF(KK158>KG160,IF(KK158<KH160,KO160,IF(KK158>KH160,IF(KK158<KI160,KP160,IF(KK158>KI160,IF(KK158<KJ160,KQ160)))))))))))","v":2}]
["GOL ATTI",{"$f":"B154","v":"Thun"},"SON 10 MACIN  ",null,{"$f":"AC15","v":10},"   TANESI  ","GOL ATTI",null,1,"SON 10 MACIN  10   TANESI  GOL ATTI",null,null,null,null,null,null,null,null,null,null,null,null,null,null,null,null,null,null,null,null,null,null,null,null,null,null,null,null,null,null,null,null,null,null,null,null,null,null,null,null,null,null,null,null,null,null,null,null,null,null,null,null,null,null,null,null,null,null,null,null,null,null,null,null,null,null,null,null,{"$f":"AVERAGE(CA155,CA136)","v":0.64375000000000004},null,null,null,null,null,null,null,null,null,null,null,null,null,null,null,null,null,null,null,null,null,null,null,null,null,null,null,null,null,null,"GOL ATTI",{"$f":"DG154","v":"Thun"},"SON 5 MACIN  ",null,{"$f":"EH15","v":5},"   TANESI  ","GOL ATTI",null,1,"SON 5 MACIN  5   TANESI  GOL ATTI",null,null,null,null,null,null,null,null,null,null,null,null,null,null,null,null,null,null,null,null,null,null,null,null,null,null,null,null,null,null,null,null,null,null,null,null,null,null,null,null,null,null,null,null,null,null,null,null,null,null,null,null,null,null,null,null,null,null,null,null,null,null,null,null,null,null,null,null,{"$f":"AVERAGE(GF155,GF136)","v":0.79374999999999996},null,null,null,null,null,null,null,null,null,null,null,null,null,null,null,null,null,null,null,null,null,null,null,null,null,null,null,null,null,null,"GOL ATTI",{"$f":"HL154","v":"Thun"},"H2H MACLARININ ",null,{"$f":"IM15","v":4},"   TANESI  ","GOL ATTI",null,0.8,"H2H MACLARININ 4   TANESI  GOL ATTI",null,null,null,null,null,null,null,null,null,null,null,null,null,null,null,null,null,null,null,null,null,null,null,null,null,null,null,null,null,null,null,null,null,null,null,null,null,null,null,null,null,null,null,null,null,null,null,null,null,null,null,null,null,null,null,null,null,null,null,null,null,null,null,null,null,null,null,null,{"$f":"IF(HU34=\"\",\"\",AVERAGE(KK155,KK136))","v":0.60000000000000009}]
["GOL YEDI","Thun","SON 10 MACIN  ",null,{"$f":"AD15","v":6},"   TANESI  ","GOL YEDI",null,0.6,"SON 10 MACIN  6   TANESI  GOL YEDI",null,null,null,null,null,null,null,null,null,null,null,null,null,null,null,null,null,null,null,null,null,null,null,null,null,null,null,null,null,null,null,null,null,null,null,null,null,null,null,null,null,null,null,null,null,null,null,null,null,null,null,null,null,null,null,null,null,null,null,null,null,null,null,null,null,null,null,null,{"$f":"CF165","v":"RISKLI"},null,null,null,null,{"$f":"CQ89","v":"RISKLI"},null,null,null,null,null,null,null,null,null,null,null,null,null,null,null,null,null,null,null,null,null,null,null,null,null,"GOL YEDI","Thun","SON 5 MACIN  ",null,{"$f":"EI15","v":4},"   TANESI  ","GOL YEDI",null,0.8,"SON 5 MACIN  4   TANESI  GOL YEDI",null,null,null,null,null,null,null,null,null,null,null,null,null,null,null,null,null,null,null,null,null,null,null,null,null,null,null,null,null,null,null,null,null,null,null,null,null,null,null,null,null,null,null,null,null,null,null,null,null,null,null,null,null,null,null,null,null,null,null,null,null,null,null,null,null,null,null,null,{"$f":"GK165","v":"BAHIS YAP"},null,null,null,null,{"$f":"GV89","v":"BAHIS YAP"},null,null,null,null,null,null,null,null,null,null,null,null,null,null,null,null,null,null,null,null,null,null,null,null,null,"GOL YEDI","Thun","H2H MACLARININ ",null,{"$f":"IN15","v":5},"   TANESI  ","GOL YEDI",null,1,"H2H MACLARININ 5   TANESI  GOL YEDI",null,null,null,null,null,null,null,null,null,null,null,null,null,null,null,null,null,null,null,null,null,null,null,null,null,null,null,null,null,null,null,null,null,null,null,null,null,null,null,null,null,null,null,null,null,null,null,null,null,null,null,null,null,null,null,null,null,null,null,null,null,null,null,null,null,null,null,null,{"$f":"IF(HU34=\"\",\"\",KP165)","v":"RISKLI"},null,null,null,null,{"$f":"IF(HU34=\"\",\"\",LA89)","v":"RISKLI"}]
["YENILMIYOR","Thun","SON 10 MACIN  ",null,{"$f":"E160+E161","v":9},"  MACINDA","  YENILMEDI","  (BERABERLIKLER DAHIL)",0.9,{"$f":"_xlfn.CONCAT(C166:H166)","v":"SON 10 MACIN  9  MACINDA  YENILMEDI  (BERABERLIKLER DAHIL)"},null,null,null,null,null,null,null,null,null,null,null,null,null,null,null,null,null,null,null,null,null,null,null,null,null,null,null,null,null,null,null,null,null,null,null,null,null,null,null,null,null,null,null,null,null,null,null,null,null,null,null,null,null,null,null,null,null,null,null,null,null,null,null,null,null,null,null,null,{"$f":"CF166","v":"RISKLI"},null,null,null,null,{"$f":"CQ90","v":"RISKLI"},null,null,null,null,null,null,null,null,null,null,null,null,null,null,null,null,null,null,null,null,null,null,null,null,null,"YENILMIYOR","Thun","SON 5 MACIN  ",null,{"$f":"DJ160+DJ161","v":5},"  MACINDA","  YENILMEDI","  (BERABERLIKLER DAHIL)",1,{"$f":"_xlfn.CONCAT(DH166:DM166)","v":"SON 5 MACIN  5  MACINDA  YENILMEDI  (BERABERLIKLER DAHIL)"},null,null,null,null,null,null,null,null,null,null,null,null,null,null,null,null,null,null,null,null,null,null,null,null,null,null,null,null,null,null,null,null,null,null,null,null,null,null,null,null,null,null,null,null,null,null,null,null,null,null,null,null,null,null,null,null,null,null,null,null,null,null,null,null,null,null,null,null,{"$f":"GK166","v":0.59687500000000004},null,null,null,null,{"$f":"GV90","v":0.59687500000000004},null,null,null,null,null,null,null,null,null,null,null,null,null,null,null,null,null,null,null,null,null,null,null,null,null,"YENILMIYOR","Thun","H2H MACLARININ ",null,{"$f":"HO160+HO161","v":3},"  MACINDA","  YENILMEDI","  (BERABERLIKLER DAHIL)",0.6,{"$f":"_xlfn.CONCAT(HM166:HR166)","v":"H2H MACLARININ 3  MACINDA  YENILMEDI  (BERABERLIKLER DAHIL)"},null,null,null,null,null,null,null,null,null,null,null,null,null,null,null,null,null,null,null,null,null,null,null,null,null,null,null,null,null,null,null,null,null,null,null,null,null,null,null,null,null,null,null,null,null,null,null,null,null,null,null,null,null,null,null,null,null,null,null,null,null,null,null,null,null,null,null,null,{"$f":"IF(HU34=\"\",\"\",KP166)","v":"RISKLI"},null,null,null,null,{"$f":"IF(HU34=\"\",\"\",LA90)","v":"RISKLI"}]
["KAZANAMIYOR ","Thun","SON 10 MACIN  ",null,{"$f":"E161+E162","v":3}," MACTIR","GALIB GELEMIYOR","(BERABERLIKLER DAHIL)",0.3,{"$f":"_xlfn.CONCAT(C167:H167)","v":"SON 10 MACIN  3 MACTIRGALIB GELEMIYOR(BERABERLIKLER DAHIL)"},null,null,null,null,null,null,null,null,null,null,null,null,null,null,null,null,null,null,null,null,null,null,null,null,null,null,null,null,null,null,null,null,null,null,null,null,null,null,null,null,null,null,null,null,null,null,null,null,null,null,null,null,null,null,null,null,null,null,null,null,null,null,null,null,null,null,null,null,null,null,null,null,null,null,null,null,null,null,null,null,null,null,null,null,null,null,null,null,null,null,null,null,null,null,null,null,null,null,null,"KAZANAMIYOR ","Thun","SON 5 MACIN  ",null,{"$f":"DJ161+DJ162","v":2}," MACTIR","GALIB GELEMIYOR","(BERABERLIKLER DAHIL)",0.4,{"$f":"_xlfn.CONCAT(DH167:DM167)","v":"SON 5 MACIN  2 MACTIRGALIB GELEMIYOR(BERABERLIKLER DAHIL)"},null,null,null,null,null,null,null,null,null,null,null,null,null,null,null,null,null,null,null,null,null,null,null,null,null,null,null,null,null,null,null,null,null,null,null,null,null,null,null,null,null,null,null,null,null,null,null,null,null,null,null,null,null,null,null,null,null,null,null,null,null,null,null,null,null,null,null,null,null,null,null,null,null,null,null,null,null,null,null,null,null,null,null,null,null,null,null,null,null,null,null,null,null,null,null,null,null,null,null,"KAZANAMIYOR ","Thun","H2H MACLARININ ",null,{"$f":"HO161+HO162","v":4}," MACTIR","GALIB GELEMIYOR","(BERABERLIKLER DAHIL)",0.8,{"$f":"_xlfn.CONCAT(HM167:HR167)","v":"H2H MACLARININ 4 MACTIRGALIB GELEMIYOR(BERABERLIKLER DAHIL)"}]
[]
[null,null,null,null,null,null,null,null,null,null,null,null,null,null,null,null,null,null,null,null,null,null,null,null,null,null,null,null,null,null,null,null,null,null,null,null,null,null,null,null,null,null,null,null,null,null,null,null,null,null,null,null,null,null,null,null,null,null,null,null,null,null,null,null,null,null,null,null,"IY MS ",null,null,null,null,null,null,null,null,null,null,null,null,null,null,null,null,null,null,null,null,null,null,null,null,null,null,null,null,null,null,null,null,null,null,null,null,null,null,null,null,null,null,null,null,null,null,null,null,null,null,null,null,null,null,null,null,null,null,null,null,null,null,null,null,null,null,null,null,null,null,null,null,null,null,null,null,null,null,null,null,null,null,null,null,null,null,null,null,null,null,null,null,null,null,null,null,null,null,null,null,null,null,null,null,null,null,null,null,"IY MS ",null,null,null,null,null,null,null,null,null,null,null,null,null,null,null,null,null,null,null,null,null,null,null,null,null,null,null,null,null,null,null,null,null,null,null,null,null,null,null,null,null,null,null,null,null,null,null,null,null,null,null,null,null,null,null,null,null,null,null,null,null,null,null,null,null,null,null,null,null,null,null,null,null,null,null,null,null,null,null,null,null,null,null,null,null,null,null,null,null,null,null,null,null,null,null,null,null,null,null,null,null,null,null,null,null,null,null,null,"IY MS "]
[null,null,null,null,null,null,null,null,null,null,null,null,null,null,null,null,null,null,null,null,null,null,null,null,null,null,null,null,null,null,null,null,null,null,null,null,null,null,null,null,null,null,null,null,null,null,null,null,null,null,null,null,null,null,null,null,null,null,null,null,null,null,null,null,null,null,null,null,null,null,null,"IY EV SONUC","IY DEP SONUC","IY GENEL SONUC",null,"MS EV SONUC","MS DEP SONUC","MS GENEL SONUC",null,null,null,null,null,null,null,null,null,null,null,null,null,null,null,null,null,null,null,null,null,null,null,null,null,null,null,null,null,null,null,null,null,null,null,null,null,null,null,null,null,null,null,null,null,null,null,null,null,null,null,null,null,null,null,null,null,null,null,null,null,null,null,null,null,null,null,null,null,null,null,null,null,null,null,null,null,null,null,null,null,null,null,null,null,null,null,null,null,null,null,null,null,null,null,null,null,null,null,null,null,null,"IY EV SONUC","IY DEP SONUC","IY GENEL SONUC",null,"MS EV SONUC","MS DEP SONUC","MS GENEL SONUC",null,null,null,null,null,null,null,null,null,null,null,null,null,null,null,null,null,null,null,null,null,null,null,null,null,null,null,null,null,null,null,null,null,null,null,null,null,null,null,null,null,null,null,null,null,null,null,null,null,null,null,null,null,null,null,null,null,null,null,null,null,null,null,null,null,null,null,null,null,null,null,null,null,null,null,null,null,null,null,null,null,null,null,null,null,null,null,null,null,null,null,null,null,null,null,null,null,null,null,null,null,null,"IY EV SONUC","IY DEP SONUC","IY GENEL SONUC",null,"MS EV SONUC","MS DEP SONUC","MS GENEL SONUC"]
[]
[null,null,null,null,null,null,null,null,null,null,null,null,null,null,null,null,null,null,null,null,null,null,null,null,null,null,null,null,null,null,null,null,null,null,null,null,null,null,null,null,null,null,null,null,null,null,null,null,null,null,null,null,null,null,null,null,null,null,null,null,null,null,null,null,null,null,null,null,null,null,null,{"$f":"CA87","v":1},{"$f":"CA106","v":2},{"$f":"CA115","v":1},null,{"$f":"CA135","v":1},{"$f":"CA154","v":2},{"$f":"CA163","v":2},null,null,null,null,null,null,null,null,null,null,null,null,null,null,null,null,null,null,null,null,null,null,null,null,null,null,null,null,null,null,null,null,null,null,null,null,null,null,null,null,null,null,null,null,null,null,null,null,null,null,null,null,null,null,null,null,null,null,null,null,null,null,null,null,null,null,null,null,null,null,null,null,null,null,null,null,null,null,null,null,null,null,null,null,null,null,null,null,null,null,null,null,null,null,null,null,null,null,null,null,null,null,{"$f":"GF87","v":"X"},{"$f":"GF106","v":"X"},{"$f":"GF115","v":2},null,{"$f":"GF135","v":1},{"$f":"GF154","v":1},{"$f":"GF163","v":1},null,null,null,null,null,null,null,null,null,null,null,null,null,null,null,null,null,null,null,null,null,null,null,null,null,null,null,null,null,null,null,null,null,null,null,null,null,null,null,null,null,null,null,null,null,null,null,null,null,null,null,null,null,null,null,null,null,null,null,null,null,null,null,null,null,null,null,null,null,null,null,null,null,null,null,null,null,null,null,null,null,null,null,null,null,null,null,null,null,null,null,null,null,null,null,null,null,null,null,null,null,null,{"$f":"KK87","v":2},{"$f":"KK106","v":"X"},{"$f":"KK115","v":2},null,{"$f":"KK135","v":"X"},{"$f":"KK154","v":2},{"$f":"KK163","v":2}]
[null,null,"DEPLAMAN",null,null,null,null,null,null,null,null,null,null,null,null,null,null,null,null,null,null,null,null,null,null,null,null,null,null,null,null,null,null,null,null,null,null,null,null,null,null,null,null,null,null,null,null,null,null,null,null,null,null,null,null,null,null,null,null,null,null,null,null,null,null,null,null,null,null,null,null,{"$f":"CA88","v":0.62555555555555553},{"$f":"CA107","v":0.6},null,null,{"$f":"CA136","v":0.61250000000000004},{"$f":"CA155","v":0.67500000000000004},null,null,null,null,null,null,null,null,null,null,null,null,null,null,null,null,null,null,null,null,null,null,null,null,null,null,null,null,null,null,null,null,null,null,"DEPLAMAN",null,null,null,null,null,null,null,null,null,null,null,null,null,null,null,null,null,null,null,null,null,null,null,null,null,null,null,null,null,null,null,null,null,null,null,null,null,null,null,null,null,null,null,null,null,null,null,null,null,null,null,null,null,null,null,null,null,null,null,null,null,null,null,null,null,null,null,null,{"$f":"GF88","v":0.53666666666666663},{"$f":"GF107","v":0.5625},null,null,{"$f":"GF136","v":0.67500000000000004},{"$f":"GF155","v":0.91249999999999998},null,null,null,null,null,null,null,null,null,null,null,null,null,null,null,null,null,null,null,null,null,null,null,null,null,null,null,null,null,null,null,null,null,null,"DEPLAMAN",null,null,null,null,null,null,null,null,null,null,null,null,null,null,null,null,null,null,null,null,null,null,null,null,null,null,null,null,null,null,null,null,null,null,null,null,null,null,null,null,null,null,null,null,null,null,null,null,null,null,null,null,null,null,null,null,null,null,null,null,null,null,null,null,null,null,null,null,{"$f":"KK88","v":0.57444444444444442},{"$f":"KK107","v":0.5},null,null,{"$f":"KK136","v":0.55000000000000004},{"$f":"KK155","v":0.65}]
["IY0,5UST",{"$f":"A28","v":"Young Boys"},"SON 10 MACIN  ",null,0,"   TANESI  ","ILK YARISI 0,5 UST","   BITTI",{"$f":"E174/10","v":0},{"$f":"_xlfn.CONCAT(C174:H174)","v":"SON 10 MACIN  0   TANESI  ILK YARISI 0,5 UST   BITTI"},null,null,null,null,{"$f":"LARGE(I174:I191,1)","v":0.7},{"$f":"VLOOKUP(O174,I174:M191,2,)","v":"SON 10 MACIN  7   TANESI  GOL YEDI"},null,null,null,null,null,null,null,null,null,null,null,null,null,null,null,null,null,null,null,null,null,null,null,null,null,null,null,null,null,null,null,null,null,null,null,null,null,null,null,null,null,null,null,null,null,null,null,null,null,null,null,null,null,null,null,null,null,null,null,null,null,null,null,null,null,null,null,null,null,null,null,null,null,null,null,null,null,null,null,null,null,null,null,null,null,null,null,null,null,null,null,null,null,"IY0,5UST",{"$f":"DF28","v":"Young Boys"},"SON 5 MACIN  ",null,null,"   TANESI  ","ILK YARISI 0,5 UST","   BITTI",{"$f":"DJ174/10","v":0},{"$f":"_xlfn.CONCAT(DH174:DM174)","v":"SON 5 MACIN     TANESI  ILK YARISI 0,5 UST   BITTI"},null,null,null,null,{"$f":"LARGE(DN174:DN191,1)","v":0.4},{"$f":"VLOOKUP(DT174,DN174:DR191,2,)","v":"SON 5 MACIN  4   TANESI  GOL ATTI"},null,null,null,null,null,null,null,null,null,null,null,null,null,null,null,null,null,null,null,null,null,null,null,null,null,null,null,null,null,null,null,null,null,null,null,null,null,null,null,null,null,null,null,null,null,null,null,null,null,null,null,null,null,null,null,null,null,null,null,null,null,null,null,null,null,null,null,null,null,null,null,null,null,null,null,null,null,null,null,null,null,null,null,null,null,null,null,null,null,null,null,null,null,"IY0,5UST",{"$f":"HK28","v":"Young Boys"},"H2H MACLARININ ",null,null,"   TANESI  ","ILK YARISI 0,5 UST","   BITTI",{"$f":"HO174/5","v":0},{"$f":"_xlfn.CONCAT(HM174:HR174)","v":"H2H MACLARININ    TANESI  ILK YARISI 0,5 UST   BITTI"},null,null,null,null,{"$f":"LARGE(HS174:HS191,1)","v":1},{"$f":"IF(HU34=\"\",\"\",VLOOKUP(HY174,HS174:HW191,2,))","v":"H2H MACLARININ5   TANESI  MS 1,5 UST   BITTI"}]
["IY1,5UST",{"$f":"B174","v":"Young Boys"},"SON 10 MACIN  ",null,0,"   TANESI  ","ILK YARISI 1,5 UST","   BITTI",{"$f":"E175/10","v":0},{"$f":"_xlfn.CONCAT(C175:H175)","v":"SON 10 MACIN  0   TANESI  ILK YARISI 1,5 UST   BITTI"},null,null,null,null,{"$f":"LARGE(I174:I191,2)","v":0.7},{"$f":"VLOOKUP(O175,I174:M191,2,)","v":"SON 10 MACIN  7   TANESI  GOL YEDI"},null,null,null,null,null,null,null,null,null,null,null,null,null,null,null,null,null,null,null,null,null,null,null,null,null,null,null,null,null,null,null,null,null,null,null,null,null,null,null,null,null,null,null,null,null,null,null,null,null,null,null,null,null,null,null,null,null,null,null,null,null,null,null,null,null,null,null,null,null,null,null,null,null,null,null,null,null,null,null,null,null,null,null,null,null,null,null,null,null,null,null,null,null,"IY1,5UST",{"$f":"DG174","v":"Young Boys"},"SON 5 MACIN  ",null,null,"   TANESI  ","ILK YARISI 1,5 UST","   BITTI",{"$f":"DJ175/10","v":0},{"$f":"_xlfn.CONCAT(DH175:DM175)","v":"SON 5 MACIN     TANESI  ILK YARISI 1,5 UST   BITTI"},null,null,null,null,{"$f":"LARGE(DN174:DN191,2)","v":0.4},{"$f":"VLOOKUP(DT175,DN174:DR191,2,)","v":"SON 5 MACIN  4   TANESI  GOL ATTI"},null,null,null,null,null,null,null,null,null,null,null,null,null,null,null,null,null,null,null,null,null,null,null,null,null,null,null,null,null,null,null,null,null,null,null,null,null,null,null,null,null,null,null,null,null,null,null,null,null,null,null,null,null,null,null,null,null,null,null,null,null,null,null,null,null,null,null,null,null,null,null,null,null,null,null,null,null,null,null,null,null,null,null,null,null,null,null,null,null,null,null,null,null,"IY1,5UST",{"$f":"HL174","v":"Young Boys"},"H2H MACLARININ",null,null,"   TANESI  ","ILK YARISI 1,5 UST","   BITTI",{"$f":"HO175/5","v":0},{"$f":"_xlfn.CONCAT(HM175:HR175)","v":"H2H MACLARININ   TANESI  ILK YARISI 1,5 UST   BITTI"},null,null,null,null,{"$f":"LARGE(HS174:HS191,2)","v":1},{"$f":"IF(HU34=\"\",\"\",VLOOKUP(HY175,HS174:HW191,2,))","v":"H2H MACLARININ5   TANESI  MS 1,5 UST   BITTI"}]
["IY1,5ALT",{"$f":"B174","v":"Young Boys"},"SON 10 MACIN  ",null,0,"   TANESI  ","ILK YARISI 1,5 ALT","   BITTI",0,"SON 10 MACIN  0   TANESI  ILK YARISI 1,5 ALT   BITTI",null,null,null,null,{"$f":"LARGE(I174:I191,3)","v":0.7},{"$f":"VLOOKUP(O176,I174:M191,2,)","v":"SON 10 MACIN  7   TANESI  GOL YEDI"},null,null,null,null,null,null,null,null,null,null,null,null,null,null,null,null,null,null,null,null,null,null,null,null,null,null,null,null,null,null,null,null,null,null,null,null,null,null,null,null,null,null,null,null,null,null,null,null,null,null,null,null,null,null,null,{"$f":"BT172&\" /\"&BU172","v":"1 /2"},null,{"$f":"BV172","v":1},"IY",null,null,null,null,null,null,null,null,null,null,null,null,null,null,null,null,null,null,null,null,null,null,null,null,null,null,null,null,null,null,null,null,null,null,"IY1,5ALT",{"$f":"DG174","v":"Young Boys"},"SON 5 MACIN  ",null,null,"   TANESI  ","ILK YARISI 1,5 ALT","   BITTI",0,"SON 5 MACIN     TANESI  ILK YARISI 1,5 ALT   BITTI",null,null,null,null,{"$f":"LARGE(DN174:DN191,3)","v":0.3},{"$f":"VLOOKUP(DT176,DN174:DR191,2,)","v":"SON 5 MACIN  3   TANESI  MS 1,5 UST   BITTI"},null,null,null,null,null,null,null,null,null,null,null,null,null,null,null,null,null,null,null,null,null,null,null,null,null,null,null,null,null,null,null,null,null,null,null,null,null,null,null,null,null,null,null,null,null,null,null,null,null,null,null,null,null,null,null,{"$f":"FY172&\" /\"&FZ172","v":"X /X"},null,{"$f":"GA172","v":2},"IY",null,null,null,null,null,null,null,null,null,null,null,null,null,null,null,null,null,null,null,null,null,null,null,null,null,null,null,null,null,null,null,null,null,null,"IY1,5ALT",{"$f":"HL174","v":"Young Boys"},"H2H MACLARININ",null,null,"   TANESI  ","ILK YARISI 1,5 ALT","   BITTI",0,"H2H MACLARININ   TANESI  ILK YARISI 1,5 ALT   BITTI",null,null,null,null,{"$f":"LARGE(HS174:HS191,3)","v":0.8},{"$f":"IF(HU34=\"\",\"\",VLOOKUP(HY176,HS174:HW191,2,))","v":"H2H MACLARININ4   TANESI  MS 3,5 ALT   BITTI"},null,null,null,null,null,null,null,null,null,null,null,null,null,null,null,null,null,null,null,null,null,null,null,null,null,null,null,null,null,null,null,null,null,null,null,null,null,null,null,null,null,null,null,null,null,null,null,null,null,null,null,null,null,null,null,{"$f":"KD172&\" /\"&KE172","v":"2 /X"},null,{"$f":"KF172","v":2},"IY"]
["MS1,5UST",{"$f":"B175","v":"Young Boys"},"SON 10 MACIN  ",null,{"$f":"BA15","v":6},"   TANESI  ","MS 1,5 UST","   BITTI",0.6,"SON 10 MACIN  6   TANESI  MS 1,5 UST   BITTI",null,null,null,null,{"$f":"LARGE(I174:I191,4)","v":0.6},{"$f":"VLOOKUP(O177,I174:M191,2,)","v":"SON 10 MACIN  6   TANESI  MS 1,5 UST   BITTI"},null,null,null,null,null,null,null,null,null,null,null,null,null,null,null,null,null,null,null,null,null,null,null,null,null,null,null,null,null,null,null,null,null,null,null,null,null,null,null,null,null,null,null,null,null,null,null,null,null,null,null,null,null,null,null,{"$f":"BX172&\" /\"&BY172","v":"1 /2"},null,{"$f":"IF(BX172=BY172,BZ172,BT177)","v":"1 /2"},"MS",null,null,null,null,null,null,null,null,null,null,null,null,null,null,null,null,null,null,null,null,null,null,null,null,null,null,null,null,null,null,null,null,null,null,"MS1,5UST",{"$f":"DG175","v":"Young Boys"},"SON 5 MACIN  ",null,{"$f":"FF15","v":3},"   TANESI  ","MS 1,5 UST","   BITTI",0.3,"SON 5 MACIN  3   TANESI  MS 1,5 UST   BITTI",null,null,null,null,{"$f":"LARGE(DN174:DN191,4)","v":0.3},{"$f":"VLOOKUP(DT177,DN174:DR191,2,)","v":"SON 5 MACIN  3   TANESI  MS 1,5 UST   BITTI"},null,null,null,null,null,null,null,null,null,null,null,null,null,null,null,null,null,null,null,null,null,null,null,null,null,null,null,null,null,null,null,null,null,null,null,null,null,null,null,null,null,null,null,null,null,null,null,null,null,null,null,null,null,null,null,{"$f":"GC172&\" /\"&GD172","v":"1 /1"},null,{"$f":"IF(GC172=GD172,GE172,FY177)","v":1},"MS",null,null,null,null,null,null,null,null,null,null,null,null,null,null,null,null,null,null,null,null,null,null,null,null,null,null,null,null,null,null,null,null,null,null,"MS1,5UST",{"$f":"HL175","v":"Young Boys"},"H2H MACLARININ",null,{"$f":"JK15","v":5},"   TANESI  ","MS 1,5 UST","   BITTI",1,"H2H MACLARININ5   TANESI  MS 1,5 UST   BITTI",null,null,null,null,{"$f":"LARGE(HS174:HS191,4)","v":0.8},{"$f":"IF(HU34=\"\",\"\",VLOOKUP(HY177,HS174:HW191,2,))","v":"H2H MACLARININ4   TANESI  MS 3,5 ALT   BITTI"},null,null,null,null,null,null,null,null,null,null,null,null,null,null,null,null,null,null,null,null,null,null,null,null,null,null,null,null,null,null,null,null,null,null,null,null,null,null,null,null,null,null,null,null,null,null,null,null,null,null,null,null,null,null,null,{"$f":"KH172&\" /\"&KI172","v":"X /2"},null,{"$f":"IF(KH172=KI172,KJ172,KD177)","v":"X /2"},"MS"]
["MS2,5UST",{"$f":"B174","v":"Young Boys"},"SON 10 MACIN  ",null,{"$f":"BB15","v":6},"   TANESI  ","MS 2,5 UST","   BITTI",0.6,"SON 10 MACIN  6   TANESI  MS 2,5 UST   BITTI",null,null,null,null,null,null,null,null,null,null,null,null,null,null,null,null,null,null,null,null,null,null,null,null,null,null,null,null,null,null,null,null,null,null,null,null,null,null,null,null,null,null,null,null,null,null,null,null,null,null,null,null,null,null,null,null,null,null,null,null,null,null,null,null,null,null,null,null,null,null,null,null,null,null,null,null,null,null,null,null,null,null,null,null,null,null,null,null,null,null,null,null,null,null,null,null,null,null,null,"MS2,5UST",{"$f":"DG174","v":"Young Boys"},"SON 5 MACIN  ",null,{"$f":"FG15","v":3},"   TANESI  ","MS 2,5 UST","   BITTI",0.3,"SON 5 MACIN  3   TANESI  MS 2,5 UST   BITTI",null,null,null,null,null,null,null,null,null,null,null,null,null,null,null,null,null,null,null,null,null,null,null,null,null,null,null,null,null,null,null,null,null,null,null,null,null,null,null,null,null,null,null,null,null,null,null,null,null,null,null,null,null,null,null,null,null,null,null,null,null,null,null,null,null,null,null,null,null,null,null,null,null,null,null,null,null,null,null,null,null,null,null,null,null,null,null,null,null,null,null,null,null,null,null,null,null,null,null,"MS2,5UST",{"$f":"HL174","v":"Young Boys"},"H2H MACLARININ",null,{"$f":"JL15","v":2},"   TANESI  ","MS 2,5 UST","   BITTI",0.4,"H2H MACLARININ2   TANESI  MS 2,5 UST   BITTI"]
["MS2,5ALT",{"$f":"B175","v":"Young Boys"},"SON 10 MACIN  ",null,{"$f":"10-E178","v":4},"   TANESI  ","MS 2,5 ALT","   BITTI",0.4,"SON 10 MACIN  4   TANESI  MS 2,5 ALT   BITTI",null,null,null,null,null,null,null,null,null,null,null,null,null,null,null,null,null,null,null,null,null,null,null,null,null,null,null,null,null,null,null,null,null,null,null,null,null,null,null,null,null,null,null,null,null,null,null,null,null,null,null,null,null,null,null,null,null,null,null,null,null,null,null,null,null,null,null,null,null,null,null,null,null,null,null,null,null,null,null,null,null,null,null,null,null,null,null,null,null,null,null,null,null,null,null,null,null,null,null,"MS2,5ALT",{"$f":"DG175","v":"Young Boys"},"SON 5 MACIN  ",null,{"$f":"5-DJ178","v":2},"   TANESI  ","MS 2,5 ALT","   BITTI",0.2,"SON 5 MACIN  2   TANESI  MS 2,5 ALT   BITTI",null,null,null,null,null,null,null,null,null,null,null,null,null,null,null,null,null,null,null,null,null,null,null,null,null,null,null,null,null,null,null,null,null,null,null,null,null,null,null,null,null,null,null,null,null,null,null,null,null,null,null,null,null,null,null,null,null,null,null,null,null,null,null,null,null,null,null,null,null,null,null,null,null,null,null,null,null,null,null,null,null,null,null,null,null,null,null,null,null,null,null,null,null,null,null,null,null,null,null,"MS2,5ALT",{"$f":"HL175","v":"Young Boys"},"H2H MACLARININ",null,{"$f":"5-HO178","v":3},"   TANESI  ","MS 2,5 ALT","   BITTI",0.6,"H2H MACLARININ3   TANESI  MS 2,5 ALT   BITTI"]
["MS3,5ALT","Young Boys","SON 10 MACIN  ",null,{"$f":"BC15","v":6},"   TANESI  ","MS 3,5 ALT","   BITTI",0.6,"SON 10 MACIN  6   TANESI  MS 3,5 ALT   BITTI",null,null,null,null,null,null,null,null,null,null,null,null,null,null,null,null,null,null,null,null,null,null,null,null,null,null,null,null,null,null,null,null,null,null,null,null,null,null,null,null,null,null,null,null,null,null,null,null,null,null,null,null,null,null,null,null,null,null,null,null,null,null,null,null,null,"SONUC",{"$f":"BV176&\" -\"&BV177","v":"1 -1 /2"},null,null,null,null,null,null,null,null,null,null,null,null,null,null,null,null,null,null,null,null,null,null,null,null,null,null,null,null,null,null,null,null,"MS3,5ALT","Young Boys","SON 5 MACIN  ",null,{"$f":"FH15","v":3},"   TANESI  ","MS 3,5 ALT","   BITTI",0.3,"SON 5 MACIN  3   TANESI  MS 3,5 ALT   BITTI",null,null,null,null,null,null,null,null,null,null,null,null,null,null,null,null,null,null,null,null,null,null,null,null,null,null,null,null,null,null,null,null,null,null,null,null,null,null,null,null,null,null,null,null,null,null,null,null,null,null,null,null,null,null,null,null,null,null,null,null,null,null,null,null,null,"SONUC",{"$f":"GA176&\" -\"&GA177","v":"2 -1"},null,null,null,null,null,null,null,null,null,null,null,null,null,null,null,null,null,null,null,null,null,null,null,null,null,null,null,null,null,null,null,null,"MS3,5ALT","Young Boys","H2H MACLARININ",null,{"$f":"JM15","v":4},"   TANESI  ","MS 3,5 ALT","   BITTI",0.8,"H2H MACLARININ4   TANESI  MS 3,5 ALT   BITTI",null,null,null,null,null,null,null,null,null,null,null,null,null,null,null,null,null,null,null,null,null,null,null,null,null,null,null,null,null,null,null,null,null,null,null,null,null,null,null,null,null,null,null,null,null,null,null,null,null,null,null,null,null,null,null,null,null,null,null,null,null,null,null,null,null,"SONUC",{"$f":"IF(HU34=\"\",\"\",KF176&\" -\"&KF177)","v":"2 -X /2"}]
["IY1","Young Boys","SON 10 MACIN  ",null,0,"   TANESI  ","IY 1","   BITTI",0,"SON 10 MACIN  0   TANESI  IY 1   BITTI",null,null,null,null,null,null,null,null,null,null,null,null,null,null,null,null,null,null,null,null,null,null,null,null,null,null,null,null,null,null,null,null,null,null,null,null,null,null,null,null,null,null,null,null,null,null,null,null,null,null,null,null,null,null,null,null,null,null,null,null,null,null,null,null,null,null,{"$f":"CF186","v":"RISKLI"},null,null,null,null,null,null,null,null,null,null,null,null,null,null,null,null,null,null,null,null,null,null,null,null,null,null,null,null,null,null,null,null,"IY1","Young Boys","SON 5 MACIN  ",null,null,"   TANESI  ","IY 1","   BITTI",0,"SON 5 MACIN     TANESI  IY 1   BITTI",null,null,null,null,null,null,null,null,null,null,null,null,null,null,null,null,null,null,null,null,null,null,null,null,null,null,null,null,null,null,null,null,null,null,null,null,null,null,null,null,null,null,null,null,null,null,null,null,null,null,null,null,null,null,null,null,null,null,null,null,null,null,null,null,null,null,{"$f":"GK186","v":"RISKLI"},null,null,null,null,null,null,null,null,null,null,null,null,null,null,null,null,null,null,null,null,null,null,null,null,null,null,null,null,null,null,null,null,"IY1","Young Boys","H2H MACLARININ",null,null,"   TANESI  ","IY 1","   BITTI",0,"H2H MACLARININ   TANESI  IY 1   BITTI",null,null,null,null,null,null,null,null,null,null,null,null,null,null,null,null,null,null,null,null,null,null,null,null,null,null,null,null,null,null,null,null,null,null,null,null,null,null,null,null,null,null,null,null,null,null,null,null,null,null,null,null,null,null,null,null,null,null,null,null,null,null,null,null,null,null,{"$f":"IF(HU34=\"\",\"\",KP186)","v":"RISKLI"}]
["IYX","Young Boys","SON 10 MACIN  ",null,0,"   TANESI  ","IY X","   BITTI",0,"SON 10 MACIN  0   TANESI  IY X   BITTI",null,null,null,null,null,null,null,null,null,null,null,null,null,null,null,null,null,null,null,null,null,null,null,null,null,null,null,null,null,null,null,null,null,null,null,null,null,null,null,null,null,null,null,null,null,null,null,null,null,null,null,null,null,null,null,null,null,null,null,null,null,null,null,null,null,null,{"$f":"CF187","v":"RISKLI"},null,null,null,null,null,null,null,null,null,null,null,null,null,null,null,null,null,null,null,null,null,null,null,null,null,null,null,null,null,null,null,null,"IYX","Young Boys","SON 5 MACIN  ",null,null,"   TANESI  ","IY X","   BITTI",0,"SON 5 MACIN     TANESI  IY X   BITTI",null,null,null,null,null,null,null,null,null,null,null,null,null,null,null,null,null,null,null,null,null,null,null,null,null,null,null,null,null,null,null,null,null,null,null,null,null,null,null,null,null,null,null,null,null,null,null,null,null,null,null,null,null,null,null,null,null,null,null,null,null,null,null,null,null,null,{"$f":"GK187","v":"RISKLI"},null,null,null,null,null,null,null,null,null,null,null,null,null,null,null,null,null,null,null,null,null,null,null,null,null,null,null,null,null,null,null,null,"IYX","Young Boys","H2H MACLARININ",null,null,"   TANESI  ","IY X","   BITTI",0,"H2H MACLARININ   TANESI  IY X   BITTI",null,null,null,null,null,null,null,null,null,null,null,null,null,null,null,null,null,null,null,null,null,null,null,null,null,null,null,null,null,null,null,null,null,null,null,null,null,null,null,null,null,null,null,null,null,null,null,null,null,null,null,null,null,null,null,null,null,null,null,null,null,null,null,null,null,null,{"$f":"IF(HU34=\"\",\"\",KP187)","v":"RISKLI"}]
["IY2","Young Boys","SON 10 MACIN  ",null,0,"   TANESI  ","IY 2","   BITTI",0,"SON 10 MACIN  0   TANESI  IY 2   BITTI",null,null,null,null,null,null,null,null,null,null,null,null,null,null,null,null,null,null,null,null,null,null,null,null,null,null,null,null,null,null,null,null,null,null,null,null,null,null,null,null,null,null,null,null,null,null,null,null,null,null,null,null,null,null,null,null,null,null,null,null,null,null,null,null,null,null,null,null,null,null,null,null,null,null,null,null,null,null,null,null,null,null,null,null,null,null,null,null,null,null,null,null,null,null,null,null,null,null,null,"IY2","Young Boys","SON 5 MACIN  ",null,null,"   TANESI  ","IY 2","   BITTI",0,"SON 5 MACIN     TANESI  IY 2   BITTI",null,null,null,null,null,null,null,null,null,null,null,null,null,null,null,null,null,null,null,null,null,null,null,null,null,null,null,null,null,null,null,null,null,null,null,null,null,null,null,null,null,null,null,null,null,null,null,null,null,null,null,null,null,null,null,null,null,null,null,null,null,null,null,null,null,null,null,null,null,null,null,null,null,null,null,null,null,null,null,null,null,null,null,null,null,null,null,null,null,null,null,null,null,null,null,null,null,null,null,"IY2","Young Boys","H2H MACLARININ",null,null,"   TANESI  ","IY 2","   BITTI",0,"H2H MACLARININ   TANESI  IY 2   BITTI"]
["MS1","Young Boys","SON 10 MACIN  ",null,{"$f":"BM15","v":3},"   TANESINDE ","GALIB ","GELDI",0.3,"SON 10 MACIN  3   TANESINDE GALIB GELDI",null,null,null,null,null,null,null,null,null,null,null,null,null,null,null,null,null,null,null,null,null,null,null,null,null,null,null,null,null,null,null,null,null,null,null,null,null,null,null,null,null,null,null,null,null,null,null,null,null,null,null,null,null,null,null,null,null,null,null,null,null,null,null,null,null,null,null,null,null,null,null,null,null,null,null,null,null,null,null,null,null,null,null,null,null,null,null,null,null,null,null,null,null,null,null,null,null,null,null,"MS1","Young Boys","SON 5 MACIN  ",null,{"$f":"FR15","v":3},"   TANESINDE ","GALIB ","GELDI",0.3,"SON 5 MACIN  3   TANESINDE GALIB GELDI",null,null,null,null,null,null,null,null,null,null,null,null,null,null,null,null,null,null,null,null,null,null,null,null,null,null,null,null,null,null,null,null,null,null,null,null,null,null,null,null,null,null,null,null,null,null,null,null,null,null,null,null,null,null,null,null,null,null,null,null,null,null,null,null,null,null,null,null,null,null,null,null,null,null,null,null,null,null,null,null,null,null,null,null,null,null,null,null,null,null,null,null,null,null,null,null,null,null,null,"MS1","Young Boys","H2H MACLARININ",null,{"$f":"JW15","v":2},"   TANESINDE ","GALIB ","GELDI",0.4,"H2H MACLARININ2   TANESINDE GALIB GELDI"]
["MSX","Young Boys","SON 10 MACIN  ",null,{"$f":"BN15","v":4},"   TANESI  ","BERABERE","   BITTI",0.4,"SON 10 MACIN  4   TANESI  BERABERE   BITTI",null,null,null,null,null,null,null,null,null,null,null,null,null,null,null,null,null,null,null,null,null,null,null,null,null,null,null,null,null,null,null,null,null,null,null,null,null,null,null,null,null,null,null,null,null,null,null,null,null,null,null,null,null,null,null,null,null,null,null,null,null,null,null,null,null,null,null,null,null,null,null,null,null,null,null,null,null,null,null,null,null,null,null,null,null,null,null,null,null,null,null,null,null,null,null,null,null,null,null,"MSX","Young Boys","SON 5 MACIN  ",null,{"$f":"FS15","v":1},"   TANESI  ","BERABERE","   BITTI",0.1,"SON 5 MACIN  1   TANESI  BERABERE   BITTI",null,null,null,null,null,null,null,null,null,null,null,null,null,null,null,null,null,null,null,null,null,null,null,null,null,null,null,null,null,null,null,null,null,null,null,null,null,null,null,null,null,null,null,null,null,null,null,null,null,null,null,null,null,null,null,null,null,null,null,null,null,null,null,null,null,null,null,null,null,null,null,null,null,null,null,null,null,null,null,null,null,null,null,null,null,null,null,null,null,null,null,null,null,null,null,null,null,null,null,"MSX","Young Boys","H2H MACLARININ",null,{"$f":"JX15","v":2},"   TANESI  ","BERABERE","   BITTI",0.4,"H2H MACLARININ2   TANESI  BERABERE   BITTI"]
["MS2","Young Boys","SON 10 MACIN  ",null,{"$f":"BO15","v":3},"   TANESI  ","MAGLUB ","OLDU",0.3,"SON 10 MACIN  3   TANESI  MAGLUB OLDU",null,null,null,null,null,null,null,null,null,null,null,null,null,null,null,null,null,null,null,null,null,null,null,null,null,null,null,null,null,null,null,null,null,null,null,null,null,null,null,null,null,null,null,null,null,null,null,null,null,null,null,null,null,null,null,null,null,null,null,null,null,null,null,null,null,null,null,null,null,null,null,null,null,{"$f":"CR89","v":"RISKLI"},null,null,null,null,null,null,null,null,null,null,null,null,null,null,null,null,null,null,null,null,null,null,null,null,null,"MS2","Young Boys","SON 5 MACIN  ",null,{"$f":"FT15","v":1},"   TANESI  ","MAGLUB ","OLDU",0.1,"SON 5 MACIN  1   TANESI  MAGLUB OLDU",null,null,null,null,null,null,null,null,null,null,null,null,null,null,null,null,null,null,null,null,null,null,null,null,null,null,null,null,null,null,null,null,null,null,null,null,null,null,null,null,null,null,null,null,null,null,null,null,null,null,null,null,null,null,null,null,null,null,null,null,null,null,null,null,null,null,null,null,null,null,null,null,null,{"$f":"GW89","v":"RISKLI"},null,null,null,null,null,null,null,null,null,null,null,null,null,null,null,null,null,null,null,null,null,null,null,null,null,"MS2","Young Boys","H2H MACLARININ",null,{"$f":"JY15","v":1},"   TANESI  ","MAGLUB ","OLDU",0.2,"H2H MACLARININ1   TANESI  MAGLUB OLDU",null,null,null,null,null,null,null,null,null,null,null,null,null,null,null,null,null,null,null,null,null,null,null,null,null,null,null,null,null,null,null,null,null,null,null,null,null,null,null,null,null,null,null,null,null,null,null,null,null,null,null,null,null,null,null,null,null,null,null,null,null,null,null,null,null,null,null,null,null,null,null,null,null,{"$f":"IF(HU34=\"\",\"\",LB89)","v":"RISKLI"}]
["KGVAR","Young Boys","SON 10 MACIN  ",null,{"$f":"BG15","v":4},"   TANESI  ","KG VAR","   OLDU",0.4,"SON 10 MACIN  4   TANESI  KG VAR   OLDU",null,null,null,null,null,null,null,null,null,null,null,null,null,null,null,null,null,null,null,null,null,null,null,null,null,null,null,null,null,null,null,null,null,null,null,null,null,null,null,null,null,null,null,null,null,null,null,null,null,null,null,null,null,null,null,null,null,null,null,null,null,null,null,null,null,null,null,null,null,null,null,null,null,{"$f":"CR90","v":"RISKLI"},null,null,null,null,null,null,null,null,null,null,null,null,null,null,null,null,null,null,null,null,null,null,null,null,null,"KGVAR","Young Boys","SON 5 MACIN  ",null,{"$f":"FL15","v":2},"   TANESI  ","KG VAR","   OLDU",0.2,"SON 5 MACIN  2   TANESI  KG VAR   OLDU",null,null,null,null,null,null,null,null,null,null,null,null,null,null,null,null,null,null,null,null,null,null,null,null,null,null,null,null,null,null,null,null,null,null,null,null,null,null,null,null,null,null,null,null,null,null,null,null,null,null,null,null,null,null,null,null,null,null,null,null,null,null,null,null,null,null,null,null,null,null,null,null,null,{"$f":"GW90","v":"RISKLI"},null,null,null,null,null,null,null,null,null,null,null,null,null,null,null,null,null,null,null,null,null,null,null,null,null,"KGVAR","Young Boys","H2H MACLARININ",null,{"$f":"JQ15","v":4},"   TANESI  ","KG VAR","   OLDU",0.8,"H2H MACLARININ4   TANESI  KG VAR   OLDU",null,null,null,null,null,null,null,null,null,null,null,null,null,null,null,null,null,null,null,null,null,null,null,null,null,null,null,null,null,null,null,null,null,null,null,null,null,null,null,null,null,null,null,null,null,null,null,null,null,null,null,null,null,null,null,null,null,null,null,null,null,null,null,null,null,null,null,null,null,null,null,null,null,{"$f":"IF(HU34=\"\",\"\",LB90)","v":"RISKLI"}]
["GOL ATTI","Young Boys","SON 10 MACIN  ",null,{"$f":"BE15","v":6},"   TANESI  ","GOL ATTI",null,0.6,"SON 10 MACIN  6   TANESI  GOL ATTI",null,null,null,null,null,null,null,null,null,null,null,null,null,null,null,null,null,null,null,null,null,null,null,null,null,null,null,null,null,null,null,null,null,null,null,null,null,null,null,null,null,null,null,null,null,null,null,null,null,null,null,null,null,null,null,null,null,null,null,null,null,null,null,null,null,null,null,null,null,null,null,null,null,null,null,null,null,null,null,null,null,null,null,null,null,null,null,null,null,null,null,null,null,null,null,null,null,null,null,"GOL ATTI","Young Boys","SON 5 MACIN  ",null,{"$f":"FJ15","v":4},"   TANESI  ","GOL ATTI",null,0.4,"SON 5 MACIN  4   TANESI  GOL ATTI",null,null,null,null,null,null,null,null,null,null,null,null,null,null,null,null,null,null,null,null,null,null,null,null,null,null,null,null,null,null,null,null,null,null,null,null,null,null,null,null,null,null,null,null,null,null,null,null,null,null,null,null,null,null,null,null,null,null,null,null,null,null,null,null,null,null,null,null,null,null,null,null,null,null,null,null,null,null,null,null,null,null,null,null,null,null,null,null,null,null,null,null,null,null,null,null,null,null,null,"GOL ATTI","Young Boys","H2H MACLARININ",null,{"$f":"JO15","v":5},"   TANESI  ","GOL ATTI",null,1,"H2H MACLARININ5   TANESI  GOL ATTI"]
["GOL YEDI","Young Boys","SON 10 MACIN  ",null,{"$f":"BF15","v":7},"   TANESI  ","GOL YEDI",null,0.7,"SON 10 MACIN  7   TANESI  GOL YEDI",null,null,null,null,null,null,null,null,null,null,null,null,null,null,null,null,null,null,null,null,null,null,null,null,null,null,null,null,null,null,null,null,null,null,null,null,null,null,null,null,null,null,null,null,null,null,null,null,null,null,null,null,null,null,null,null,null,null,null,null,null,null,null,null,null,null,null,null,null,null,null,null,null,null,null,null,null,null,null,null,null,null,null,null,null,null,null,null,null,null,null,null,null,null,null,null,null,null,null,"GOL YEDI","Young Boys","SON 5 MACIN  ",null,{"$f":"FK15","v":3},"   TANESI  ","GOL YEDI",null,0.3,"SON 5 MACIN  3   TANESI  GOL YEDI",null,null,null,null,null,null,null,null,null,null,null,null,null,null,null,null,null,null,null,null,null,null,null,null,null,null,null,null,null,null,null,null,null,null,null,null,null,null,null,null,null,null,null,null,null,null,null,null,null,null,null,null,null,null,null,null,null,null,null,null,null,null,null,null,null,null,null,null,null,null,null,null,null,null,null,null,null,null,null,null,null,null,null,null,null,null,null,null,null,null,null,null,null,null,null,null,null,null,null,"GOL YEDI","Young Boys","H2H MACLARININ",null,{"$f":"JP15","v":4},"   TANESI  ","GOL YEDI",null,0.8,"H2H MACLARININ4   TANESI  GOL YEDI"]
["YENILMIYOR","Young Boys","SON 10 MACIN  ",null,{"$f":"E184+E185","v":7},"  MACINDA","  YENILMEDI","  (BERABERLIKLER DAHIL)",0.7,{"$f":"_xlfn.CONCAT(C190:H190)","v":"SON 10 MACIN  7  MACINDA  YENILMEDI  (BERABERLIKLER DAHIL)"},null,null,null,null,null,null,null,null,null,null,null,null,null,null,null,null,null,null,null,null,null,null,null,null,null,null,null,null,null,null,null,null,null,null,null,null,null,null,null,null,null,null,null,null,null,null,null,null,null,null,null,null,null,null,null,null,null,null,null,null,null,null,null,null,null,null,null,null,null,null,null,null,null,null,null,null,null,null,null,null,null,null,null,null,null,null,null,null,null,null,null,null,null,null,null,null,null,null,null,"YENILMIYOR","Young Boys","SON 5 MACIN  ",null,{"$f":"DJ184+DJ185","v":4},"  MACINDA","  YENILMEDI","  (BERABERLIKLER DAHIL)",0.4,{"$f":"_xlfn.CONCAT(DH190:DM190)","v":"SON 5 MACIN  4  MACINDA  YENILMEDI  (BERABERLIKLER DAHIL)"},null,null,null,null,null,null,null,null,null,null,null,null,null,null,null,null,null,null,null,null,null,null,null,null,null,null,null,null,null,null,null,null,null,null,null,null,null,null,null,null,null,null,null,null,null,null,null,null,null,null,null,null,null,null,null,null,null,null,null,null,null,null,null,null,null,null,null,null,null,null,null,null,null,null,null,null,null,null,null,null,null,null,null,null,null,null,null,null,null,null,null,null,null,null,null,null,null,null,null,"YENILMIYOR","Young Boys","H2H MACLARININ",null,{"$f":"HO184+HO185","v":4},"  MACINDA","  YENILMEDI","  (BERABERLIKLER DAHIL)",0.8,{"$f":"_xlfn.CONCAT(HM190:HR190)","v":"H2H MACLARININ4  MACINDA  YENILMEDI  (BERABERLIKLER DAHIL)"}]
["KAZANAMIYOR ","Young Boys","SON 10 MACIN  ",null,{"$f":"E186+E185","v":7}," MACTIR GALIB GELEMIYOR(BERABERLIKLER DAHIL)",null,null,0.7,{"$f":"_xlfn.CONCAT(C191:H191)","v":"SON 10 MACIN  7 MACTIR GALIB GELEMIYOR(BERABERLIKLER DAHIL)"},null,null,null,null,null,null,null,null,null,null,null,null,null,null,null,null,null,null,null,null,null,null,null,null,null,null,null,null,null,null,null,null,null,null,null,null,null,null,null,null,null,null,null,null,null,null,null,null,null,null,null,null,null,null,null,null,null,null,"TOPLAM GOL",null,null,null,null,null,null,null,null,null,null,"10",null,null,null,null,null,null,null,null,null,null,null,null,null,null,null,null,null,null,null,null,null,null,null,null,null,null,null,null,null,"KAZANAMIYOR ","Young Boys","SON 5 MACIN  ",null,{"$f":"DJ186+DJ185","v":2}," MACTIR GALIB GELEMIYOR(BERABERLIKLER DAHIL)",null,null,0.2,{"$f":"_xlfn.CONCAT(DH191:DM191)","v":"SON 5 MACIN  2 MACTIR GALIB GELEMIYOR(BERABERLIKLER DAHIL)"},null,null,null,null,null,null,null,null,null,null,null,null,null,null,null,null,null,null,null,null,null,null,null,null,null,null,null,null,null,null,null,null,null,null,null,null,null,null,null,null,null,null,null,null,null,null,null,null,null,null,null,null,null,null,null,null,null,null,"TOPLAM GOL",null,null,null,null,null,null,null,null,null,null,{"$f":"CB191","v":"10"},null,null,null,null,null,null,null,null,null,null,null,null,null,null,null,null,null,null,null,null,null,null,null,null,null,null,null,null,null,"KAZANAMIYOR ","Young Boys","H2H MACLARININ",null,{"$f":"HO186+HO185","v":3}," MACTIR GALIB GELEMIYOR(BERABERLIKLER DAHIL)",null,null,0.6,{"$f":"_xlfn.CONCAT(HM191:HR191)","v":"H2H MACLARININ3 MACTIR GALIB GELEMIYOR(BERABERLIKLER DAHIL)"},null,null,null,null,null,null,null,null,null,null,null,null,null,null,null,null,null,null,null,null,null,null,null,null,null,null,null,null,null,null,null,null,null,null,null,null,null,null,null,null,null,null,null,null,null,null,null,null,null,null,null,null,null,null,null,null,null,null,"TOPLAM GOL",null,null,null,null,null,null,null,null,null,null,"10"]
[null,null,null,null,null,null,null,null,null,null,null,null,null,null,null,null,null,null,null,null,null,null,null,null,null,null,null,null,null,null,null,null,null,null,null,null,null,null,null,null,null,null,null,null,null,null,null,null,null,null,null,null,null,null,null,null,null,null,null,null,null,null,null,null,null,null,null,null,"MAC SONU  EV SAHIBI ",null,null,null,null,-1,0.79,1.44,1.99,2.7,3,-1,1.9,3.9,5.9,7.9,10,null,null,null,null,null,null,null,null,null,null,null,null,null,null,null,null,null,null,null,null,null,null,null,null,null,null,null,null,null,null,null,null,null,null,null,null,null,null,null,null,null,null,null,null,null,null,null,null,null,null,null,null,null,null,null,null,null,null,null,null,null,null,null,null,null,null,null,null,null,null,null,null,null,null,null,null,null,null,null,null,null,null,null,null,null,null,null,null,null,null,null,null,"MAC SONU  EV SAHIBI ",null,null,null,null,{"$f":"BV192","v":-1},0.79,1.44,1.99,2.7,3,-1,1.9,3.9,5.9,7.9,10,null,null,null,null,null,null,null,null,null,null,null,null,null,null,null,null,null,null,null,null,null,null,null,null,null,null,null,null,null,null,null,null,null,null,null,null,null,null,null,null,null,null,null,null,null,null,null,null,null,null,null,null,null,null,null,null,null,null,null,null,null,null,null,null,null,null,null,null,null,null,null,null,null,null,null,null,null,null,null,null,null,null,null,null,null,null,null,null,null,null,null,null,"MAC SONU  EV SAHIBI ",null,null,null,null,0,0.79,1.44,1.99,2.7,3,-1,1.9,3.9,5.9,7.9,10]
[null,null,null,null,null,null,null,null,null,null,null,null,null,null,null,null,null,null,null,null,null,null,null,null,null,null,null,null,null,null,null,null,null,null,null,null,null,null,null,null,null,null,null,null,null,null,null,null,null,null,null,null,null,null,null,null,null,null,null,null,null,null,null,null,null,null,null,null,null,null,null,null,null,"0-20","20-40","40-60","60-80","80-100","TOPLAM",null,null,null,null,null,null,null,null,null,null,null,null,null,null,null,null,null,null,null,null,null,null,null,null,null,null,null,null,null,null,null,null,null,null,null,null,null,null,null,null,null,null,null,null,null,null,null,null,null,null,null,null,null,null,null,null,null,null,null,null,null,null,null,null,null,null,null,null,null,null,null,null,null,null,null,null,null,null,null,null,null,null,null,null,null,null,null,null,null,null,null,null,null,null,null,null,null,null,null,null,null,null,null,"0-20","20-40","40-60","60-80","80-100","TOPLAM",null,null,null,null,null,null,null,null,null,null,null,null,null,null,null,null,null,null,null,null,null,null,null,null,null,null,null,null,null,null,null,null,null,null,null,null,null,null,null,null,null,null,null,null,null,null,null,null,null,null,null,null,null,null,null,null,null,null,null,null,null,null,null,null,null,null,null,null,null,null,null,null,null,null,null,null,null,null,null,null,null,null,null,null,null,null,null,null,null,null,null,null,null,null,null,null,null,null,null,null,null,null,null,"0-20","20-40","40-60","60-80","80-100","TOPLAM"]
[null,null,null,null,null,null,null,null,null,null,null,null,null,null,null,null,null,null,null,null,null,null,null,null,null,null,null,null,null,null,null,null,null,null,null,null,null,null,null,null,null,null,null,null,null,null,null,null,null,null,null,null,null,null,null,null,null,null,null,null,null,null,null,null,null,null,null,null,"GALIBIYET SAYISI",null,null,null,{"$f":"BU124","v":7},{"$f":"IF(BU194>CB192,IF(BU194<CC192,\"10\",\"0\"))","v":"0"},{"$f":"IF(BU194>CC192,IF(BU194<CD192,\"30\",\"0\"))","v":"0"},{"$f":"IF(BU194>CD192,IF(BU194<CE192,\"50\",\"0\"))","v":"0"},{"$f":"IF(BU194>CE192,IF(BU194<CF192,\"70\",\"0\"))","v":"70"},{"$f":"IF(BU194>CF192,IF(BU194<CG192,\"90\",\"0\"))","v":false},{"$f":"BV194+BW194+BX194+BY194+BZ194","v":70},null,null,null,null,null,null,null,null,null,null,null,null,null,null,null,null,null,null,null,null,null,null,null,null,null,null,null,null,null,null,null,null,null,null,null,null,null,null,null,null,null,null,null,null,null,null,null,null,null,null,null,null,null,null,null,null,null,null,null,null,null,null,null,null,null,null,null,null,null,null,null,null,null,null,null,null,null,null,null,null,null,null,null,null,null,null,null,null,null,null,null,null,null,null,null,null,null,null,"GALIBIYET SAYISI",null,null,null,{"$f":"FZ124","v":3},{"$f":"IF(FZ194>GG192,IF(FZ194<GH192,\"10\",\"0\"))","v":"0"},{"$f":"IF(FZ194>GH192,IF(FZ194<GI192,\"30\",\"0\"))","v":"30"},{"$f":"IF(FZ194>GI192,IF(FZ194<GJ192,\"50\",\"0\"))","v":false},{"$f":"IF(FZ194>GJ192,IF(FZ194<GK192,\"70\",\"0\"))","v":false},{"$f":"IF(FZ194>GK192,IF(FZ194<GL192,\"90\",\"0\"))","v":false},{"$f":"GA194+GB194+GC194+GD194+GE194","v":30},null,null,null,null,null,null,null,null,null,null,null,null,null,null,null,null,null,null,null,null,null,null,null,null,null,null,null,null,null,null,null,null,null,null,null,null,null,null,null,null,null,null,null,null,null,null,null,null,null,null,null,null,null,null,null,null,null,null,null,null,null,null,null,null,null,null,null,null,null,null,null,null,null,null,null,null,null,null,null,null,null,null,null,null,null,null,null,null,null,null,null,null,null,null,null,null,null,null,"GALIBIYET SAYISI",null,null,null,{"$f":"KE124","v":1},{"$f":"IF(KE194>KL192,IF(KE194<KM192,\"10\",\"0\"))","v":"10"},{"$f":"IF(KE194>KM192,IF(KE194<KN192,\"30\",\"0\"))","v":false},{"$f":"IF(KE194>KN192,IF(KE194<KO192,\"50\",\"0\"))","v":false},{"$f":"IF(KE194>KO192,IF(KE194<KP192,\"70\",\"0\"))","v":false},{"$f":"IF(KE194>KP192,IF(KE194<KQ192,\"90\",\"0\"))","v":false},{"$f":"KF194+KG194+KH194+KI194+KJ194","v":10}]
[null,null,null,null,null,null,null,null,null,null,null,null,null,null,null,null,null,null,null,null,null,null,null,null,null,null,null,null,null,null,null,null,null,null,null,null,null,null,null,null,null,null,null,null,null,null,null,null,null,null,null,null,null,null,null,null,null,null,null,null,null,null,null,null,null,null,null,null,"BERABERLIK SAYISI",null,null,null,{"$f":"BU125","v":2},{"$f":"IF(BU195>CB192,IF(BU195<CC192,\"10\",\"0\"))","v":"0"},{"$f":"IF(BU195>CC192,IF(BU195<CD192,\"30\",\"0\"))","v":"30"},{"$f":"IF(BU195>CD192,IF(BU195<CE192,\"50\",\"0\"))","v":false},{"$f":"IF(BU195>CE192,IF(BU195<CF192,\"70\",\"0\"))","v":false},{"$f":"IF(BU195>CF192,IF(BU195<CG192,\"90\",\"0\"))","v":false},{"$f":"BV195+BW195+BX195+BY195+BZ195","v":30},null,null,null,null,null,null,null,null,null,null,null,null,null,null,null,null,null,null,null,null,null,null,null,null,null,null,null,null,null,null,null,null,null,null,null,null,null,null,null,null,null,null,null,null,null,null,null,null,null,null,null,null,null,null,null,null,null,null,null,null,null,null,null,null,null,null,null,null,null,null,null,null,null,null,null,null,null,null,null,null,null,null,null,null,null,null,null,null,null,null,null,null,null,null,null,null,null,null,"BERABERLIK SAYISI",null,null,null,{"$f":"FZ125","v":2},{"$f":"IF(FZ195>GG192,IF(FZ195<GH192,\"10\",\"0\"))","v":"0"},{"$f":"IF(FZ195>GH192,IF(FZ195<GI192,\"30\",\"0\"))","v":"30"},{"$f":"IF(FZ195>GI192,IF(FZ195<GJ192,\"50\",\"0\"))","v":false},{"$f":"IF(FZ195>GJ192,IF(FZ195<GK192,\"70\",\"0\"))","v":false},{"$f":"IF(FZ195>GK192,IF(FZ195<GL192,\"90\",\"0\"))","v":false},{"$f":"GA195+GB195+GC195+GD195+GE195","v":30},null,null,null,null,null,null,null,null,null,null,null,null,null,null,null,null,null,null,null,null,null,null,null,null,null,null,null,null,null,null,null,null,null,null,null,null,null,null,null,null,null,null,null,null,null,null,null,null,null,null,null,null,null,null,null,null,null,null,null,null,null,null,null,null,null,null,null,null,null,null,null,null,null,null,null,null,null,null,null,null,null,null,null,null,null,null,null,null,null,null,null,null,null,null,null,null,null,null,"BERABERLIK SAYISI",null,null,null,{"$f":"KE125","v":2},{"$f":"IF(KE195>KL192,IF(KE195<KM192,\"10\",\"0\"))","v":"0"},{"$f":"IF(KE195>KM192,IF(KE195<KN192,\"30\",\"0\"))","v":"30"},{"$f":"IF(KE195>KN192,IF(KE195<KO192,\"50\",\"0\"))","v":false},{"$f":"IF(KE195>KO192,IF(KE195<KP192,\"70\",\"0\"))","v":false},{"$f":"IF(KE195>KP192,IF(KE195<KQ192,\"90\",\"0\"))","v":false},{"$f":"KF195+KG195+KH195+KI195+KJ195","v":30}]
[null,null,null,null,null,null,null,null,null,null,null,null,null,null,null,null,null,null,null,null,null,null,null,null,null,null,null,null,null,null,null,null,null,null,null,null,null,null,null,null,null,null,null,null,null,null,null,null,null,null,null,null,null,null,null,null,null,null,null,null,null,null,null,null,null,null,null,null,"MAGLUBIYET SAYISI ",null,null,null,1,{"$f":"IF(BU196>CF192,IF(BU196<CG192,\"10\",\"0\"))","v":false},{"$f":"IF(BU196>CE192,IF(BU196<CF192,\"30\",\"0\"))","v":false},{"$f":"IF(BU196>CD192,IF(BU196<CE192,\"50\",\"0\"))","v":false},{"$f":"IF(BU196>CC192,IF(BU196<CD192,\"70\",\"0\"))","v":false},{"$f":"IF(BU196>CB192,IF(BU196<CC192,\"90\",\"0\"))","v":"90"},{"$f":"BV196+BW196+BX196+BY196+BZ196","v":90},null,null,null,null,null,null,null,null,null,null,null,null,null,null,null,null,null,null,null,null,null,null,null,null,null,null,null,null,null,null,null,null,null,null,null,null,null,null,null,null,null,null,null,null,null,null,null,null,null,null,null,null,null,null,null,null,null,null,null,null,null,null,null,null,null,null,null,null,null,null,null,null,null,null,null,null,null,null,null,null,null,null,null,null,null,null,null,null,null,null,null,null,null,null,null,null,null,null,"MAGLUBIYET SAYISI ",null,null,null,0,{"$f":"IF(FZ196>GK192,IF(FZ196<GL192,\"10\",\"0\"))","v":false},{"$f":"IF(FZ196>GJ192,IF(FZ196<GK192,\"30\",\"0\"))","v":false},{"$f":"IF(FZ196>GI192,IF(FZ196<GJ192,\"50\",\"0\"))","v":false},{"$f":"IF(FZ196>GH192,IF(FZ196<GI192,\"70\",\"0\"))","v":false},{"$f":"IF(FZ196>GG192,IF(FZ196<GH192,\"90\",\"0\"))","v":"90"},{"$f":"GA196+GB196+GC196+GD196+GE196","v":90},null,null,null,null,null,null,null,null,null,null,null,null,null,null,null,null,null,null,null,null,null,null,null,null,null,null,null,null,null,null,null,null,null,null,null,null,null,null,null,null,null,null,null,null,null,null,null,null,null,null,null,null,null,null,null,null,null,null,null,null,null,null,null,null,null,null,null,null,null,null,null,null,null,null,null,null,null,null,null,null,null,null,null,null,null,null,null,null,null,null,null,null,null,null,null,null,null,null,"MAGLUBIYET SAYISI ",null,null,null,2,{"$f":"IF(KE196>KP192,IF(KE196<KQ192,\"10\",\"0\"))","v":false},{"$f":"IF(KE196>KO192,IF(KE196<KP192,\"30\",\"0\"))","v":false},{"$f":"IF(KE196>KN192,IF(KE196<KO192,\"50\",\"0\"))","v":false},{"$f":"IF(KE196>KM192,IF(KE196<KN192,\"70\",\"0\"))","v":"70"},{"$f":"IF(KE196>KL192,IF(KE196<KM192,\"90\",\"0\"))","v":"0"},{"$f":"KF196+KG196+KH196+KI196+KJ196","v":70}]
[null,null,null,null,null,null,null,null,null,null,null,null,null,null,null,null,null,null,null,null,null,null,null,null,null,null,null,null,null,null,null,null,null,null,null,null,null,null,null,null,null,null,null,null,null,null,null,null,null,null,null,null,null,null,null,null,null,null,null,null,null,null,null,null,null,null,null,null,"ATTIGI GOL ORTALAMA",null,null,null,2.1,{"$f":"IF(BU197>BV192,IF(BU197<BW192,\"10\",\"0\"))","v":"0"},{"$f":"IF(BU197>BW192,IF(BU197<BX192,\"30\",\"0\"))","v":"0"},{"$f":"IF(BU197>BX192,IF(BU197<BY192,\"50\",\"0\"))","v":"0"},{"$f":"IF(BU197>BY192,IF(BU197<BZ192,\"70\",\"0\"))","v":"70"},{"$f":"IF(BU197>BZ192,IF(BU197<CB191,\"90\",\"0\"))","v":false},{"$f":"BV197+BW197+BX197+BY197+BZ197","v":70},null,null,null,null,null,null,null,null,null,null,null,null,null,null,null,null,null,null,null,null,null,null,null,null,null,null,null,null,null,null,null,null,null,null,null,null,null,null,null,null,null,null,null,null,null,null,null,null,null,null,null,null,null,null,null,null,null,null,null,null,null,null,null,null,null,null,null,null,null,null,null,null,null,null,null,null,null,null,null,null,null,null,null,null,null,null,null,null,null,null,null,null,null,null,null,null,null,null,"ATTIGI GOL ORTALAMA",null,null,null,1.8,{"$f":"IF(FZ197>GA192,IF(FZ197<GB192,\"10\",\"0\"))","v":"0"},{"$f":"IF(FZ197>GB192,IF(FZ197<GC192,\"30\",\"0\"))","v":"0"},{"$f":"IF(FZ197>GC192,IF(FZ197<GD192,\"50\",\"0\"))","v":"50"},{"$f":"IF(FZ197>GD192,IF(FZ197<GE192,\"70\",\"0\"))","v":false},{"$f":"IF(FZ197>GE192,IF(FZ197<GG191,\"90\",\"0\"))","v":false},{"$f":"GA197+GB197+GC197+GD197+GE197","v":50},null,null,null,null,null,null,null,null,null,null,null,null,null,null,null,null,null,null,null,null,null,null,null,null,null,null,null,null,null,null,null,null,null,null,null,null,null,null,null,null,null,null,null,null,null,null,null,null,null,null,null,null,null,null,null,null,null,null,null,null,null,null,null,null,null,null,null,null,null,null,null,null,null,null,null,null,null,null,null,null,null,null,null,null,null,null,null,null,null,null,null,null,null,null,null,null,null,null,"ATTIGI GOL ORTALAMA",null,null,null,1.2,{"$f":"IF(KE197>KF192,IF(KE197<KG192,\"10\",\"0\"))","v":"0"},{"$f":"IF(KE197>KG192,IF(KE197<KH192,\"30\",\"0\"))","v":"30"},{"$f":"IF(KE197>KH192,IF(KE197<KI192,\"50\",\"0\"))","v":false},{"$f":"IF(KE197>KI192,IF(KE197<KJ192,\"70\",\"0\"))","v":false},{"$f":"IF(KE197>KJ192,IF(KE197<KL191,\"90\",\"0\"))","v":false},{"$f":"KF197+KG197+KH197+KI197+KJ197","v":30}]
[null,null,null,null,null,null,null,null,null,null,null,null,null,null,null,null,null,null,null,null,null,null,null,null,null,null,null,null,null,null,null,null,null,null,null,null,null,null,null,null,null,null,null,null,null,null,null,null,null,null,null,null,null,null,null,null,null,null,null,null,null,null,null,null,null,null,null,null,"YEDIGI GOL ORTALAMA ",null,null,null,0.8,{"$f":"IF(BU198>BV192,IF(BU198<BW192,\"10\",\"0\"))","v":"0"},{"$f":"IF(BU198>BW192,IF(BU198<BX192,\"30\",\"0\"))","v":"30"},{"$f":"IF(BU198>BX192,IF(BU198<BY192,\"50\",\"0\"))","v":false},{"$f":"IF(BU198>BY192,IF(BU198<BZ192,\"70\",\"0\"))","v":false},{"$f":"IF(BU198>BZ192,IF(BU198<CB191,\"90\",\"0\"))","v":false},30,null,null,null,null,null,null,null,null,null,null,null,null,null,null,null,null,null,null,null,null,null,null,null,null,null,null,null,null,null,null,null,null,null,null,null,null,null,null,null,null,null,null,null,null,null,null,null,null,null,null,null,null,null,null,null,null,null,null,null,null,null,null,null,null,null,null,null,null,null,null,null,null,null,null,null,null,null,null,null,null,null,null,null,null,null,null,null,null,null,null,null,null,null,null,null,null,null,null,"YEDIGI GOL ORTALAMA ",null,null,null,0.8,{"$f":"IF(FZ198>GA192,IF(FZ198<GB192,\"10\",\"0\"))","v":"0"},{"$f":"IF(FZ198>GB192,IF(FZ198<GC192,\"30\",\"0\"))","v":"30"},{"$f":"IF(FZ198>GC192,IF(FZ198<GD192,\"50\",\"0\"))","v":false},{"$f":"IF(FZ198>GD192,IF(FZ198<GE192,\"70\",\"0\"))","v":false},{"$f":"IF(FZ198>GE192,IF(FZ198<GG191,\"90\",\"0\"))","v":false},30,null,null,null,null,null,null,null,null,null,null,null,null,null,null,null,null,null,null,null,null,null,null,null,null,null,null,null,null,null,null,null,null,null,null,null,null,null,null,null,null,null,null,null,null,null,null,null,null,null,null,null,null,null,null,null,null,null,null,null,null,null,null,null,null,null,null,null,null,null,null,null,null,null,null,null,null,null,null,null,null,null,null,null,null,null,null,null,null,null,null,null,null,null,null,null,null,null,null,"YEDIGI GOL ORTALAMA ",null,null,null,1.4,{"$f":"IF(KE198>KF192,IF(KE198<KG192,\"10\",\"0\"))","v":"0"},{"$f":"IF(KE198>KG192,IF(KE198<KH192,\"30\",\"0\"))","v":"30"},{"$f":"IF(KE198>KH192,IF(KE198<KI192,\"50\",\"0\"))","v":false},{"$f":"IF(KE198>KI192,IF(KE198<KJ192,\"70\",\"0\"))","v":false},{"$f":"IF(KE198>KJ192,IF(KE198<KL191,\"90\",\"0\"))","v":false},30]
[null,null,null,null,null,null,null,null,null,null,null,null,null,null,null,null,null,null,null,null,null,null,null,null,null,null,null,null,null,null,null,null,null,null,null,null,null,null,null,null,null,null,null,null,null,null,null,null,null,null,null,null,null,null,null,null,null,null,null,null,null,null,null,null,null,null,null,null,"ATTIGI GOL MAC BASINA ",null,null,null,10,{"$f":"IF(BU199>CB192,IF(BU199<CC192,\"10\",\"0\"))","v":"0"},{"$f":"IF(BU199>CC192,IF(BU199<CD192,\"30\",\"0\"))","v":"0"},{"$f":"IF(BU199>CD192,IF(BU199<CE192,\"50\",\"0\"))","v":"0"},{"$f":"IF(BU199>CE192,IF(BU199<CF192,\"70\",\"0\"))","v":"0"},{"$f":"IF(BU199>CF192,IF(BU199<CG192,\"90\",\"0\"))","v":"0"},0,null,null,null,null,null,null,null,null,null,null,null,null,null,null,null,null,null,null,null,null,null,null,null,null,null,null,null,null,null,null,null,null,null,null,null,null,null,null,null,null,null,null,null,null,null,null,null,null,null,null,null,null,null,null,null,null,null,null,null,null,null,null,null,null,null,null,null,null,null,null,null,null,null,null,null,null,null,null,null,null,null,null,null,null,null,null,null,null,null,null,null,null,null,null,null,null,null,null,"ATTIGI GOL MAC BASINA ",null,null,null,5,{"$f":"IF(FZ199>GG192,IF(FZ199<GH192,\"10\",\"0\"))","v":"0"},{"$f":"IF(FZ199>GH192,IF(FZ199<GI192,\"30\",\"0\"))","v":"0"},{"$f":"IF(FZ199>GI192,IF(FZ199<GJ192,\"50\",\"0\"))","v":"50"},{"$f":"IF(FZ199>GJ192,IF(FZ199<GK192,\"70\",\"0\"))","v":false},{"$f":"IF(FZ199>GK192,IF(FZ199<GL192,\"90\",\"0\"))","v":false},50,null,null,null,null,null,null,null,null,null,null,null,null,null,null,null,null,null,null,null,null,null,null,null,null,null,null,null,null,null,null,null,null,null,null,null,null,null,null,null,null,null,null,null,null,null,null,null,null,null,null,null,null,null,null,null,null,null,null,null,null,null,null,null,null,null,null,null,null,null,null,null,null,null,null,null,null,null,null,null,null,null,null,null,null,null,null,null,null,null,null,null,null,null,null,null,null,null,null,"ATTIGI GOL MAC BASINA ",null,null,null,4,{"$f":"IF(KE199>KL192,IF(KE199<KM192,\"10\",\"0\"))","v":"0"},{"$f":"IF(KE199>KM192,IF(KE199<KN192,\"30\",\"0\"))","v":"0"},{"$f":"IF(KE199>KN192,IF(KE199<KO192,\"50\",\"0\"))","v":"50"},{"$f":"IF(KE199>KO192,IF(KE199<KP192,\"70\",\"0\"))","v":false},{"$f":"IF(KE199>KP192,IF(KE199<KQ192,\"90\",\"0\"))","v":false},50]
[{"$f":"A2","v":"Thun"},null,null,null,null,null,null,null,null,null,null,null,null,null,null,null,null,null,null,null,null,null,null,null,null,null,null,null,null,null,null,null,null,null,null,null,null,null,null,null,null,null,null,null,null,null,null,null,null,null,null,null,null,null,null,null,null,null,null,null,null,null,null,null,null,null,null,null,"YEDIGI GOL MAC BASINA ",null,null,null,6,{"$f":"IF(BU200>CF192,IF(BU200<CG192,\"10\",\"0\"))","v":false},{"$f":"IF(BU200>CE192,IF(BU200<CF192,\"30\",\"0\"))","v":"30"},{"$f":"IF(BU200>CD192,IF(BU200<CE192,\"50\",\"0\"))","v":"0"},{"$f":"IF(BU200>CC192,IF(BU200<CD192,\"70\",\"0\"))","v":"0"},{"$f":"IF(BU200>CB192,IF(BU200<CC192,\"90\",\"0\"))","v":"0"},30,null,null,null,null,null,null,null,null,null,null,null,null,null,null,null,null,null,null,null,null,null,null,null,null,null,null,null,null,null,null,{"$f":"DF2","v":"Thun"},null,null,null,null,null,null,null,null,null,null,null,null,null,null,null,null,null,null,null,null,null,null,null,null,null,null,null,null,null,null,null,null,null,null,null,null,null,null,null,null,null,null,null,null,null,null,null,null,null,null,null,null,null,null,null,null,null,null,null,null,null,null,null,null,null,null,null,"YEDIGI GOL MAC BASINA ",null,null,null,4,{"$f":"IF(FZ200>GK192,IF(FZ200<GL192,\"10\",\"0\"))","v":false},{"$f":"IF(FZ200>GJ192,IF(FZ200<GK192,\"30\",\"0\"))","v":false},{"$f":"IF(FZ200>GI192,IF(FZ200<GJ192,\"50\",\"0\"))","v":"50"},{"$f":"IF(FZ200>GH192,IF(FZ200<GI192,\"70\",\"0\"))","v":"0"},{"$f":"IF(FZ200>GG192,IF(FZ200<GH192,\"90\",\"0\"))","v":"0"},50,null,null,null,null,null,null,null,null,null,null,null,null,null,null,null,null,null,null,null,null,null,null,null,null,null,null,null,null,null,null,{"$f":"HK2","v":"Thun"},null,null,null,null,null,null,null,null,null,null,null,null,null,null,null,null,null,null,null,null,null,null,null,null,null,null,null,null,null,null,null,null,null,null,null,null,null,null,null,null,null,null,null,null,null,null,null,null,null,null,null,null,null,null,null,null,null,null,null,null,null,null,null,null,null,null,null,"YEDIGI GOL MAC BASINA ",null,null,null,5,{"$f":"IF(KE200>KP192,IF(KE200<KQ192,\"10\",\"0\"))","v":false},{"$f":"IF(KE200>KO192,IF(KE200<KP192,\"30\",\"0\"))","v":false},{"$f":"IF(KE200>KN192,IF(KE200<KO192,\"50\",\"0\"))","v":"50"},{"$f":"IF(KE200>KM192,IF(KE200<KN192,\"70\",\"0\"))","v":"0"},{"$f":"IF(KE200>KL192,IF(KE200<KM192,\"90\",\"0\"))","v":"0"},50]
[0,null,null,null,null,null,null,null,null,null,null,null,null,null,null,null,null,null,null,null,null,null,null,null,null,null,null,null,null,null,null,null,null,null,null,null,null,null,null,null,null,null,null,null,null,null,null,null,null,null,null,null,null,null,null,null,null,null,null,null,null,null,null,null,null,null,null,null,"EV IY TOPLAM GOL",null,null,null,2.9,{"$f":"IF(BU201>BV192,IF(BU201<BW192,\"10\",\"0\"))","v":"0"},{"$f":"IF(BU201>BW192,IF(BU201<BX192,\"30\",\"0\"))","v":"0"},{"$f":"IF(BU201>BX192,IF(BU201<BY192,\"50\",\"0\"))","v":"0"},{"$f":"IF(BU201>BY192,IF(BU201<BZ192,\"70\",\"0\"))","v":"0"},{"$f":"IF(BU201>BZ192,IF(BU201<CB191,\"90\",\"0\"))","v":"90"},90,null,null,null,null,null,null,null,null,null,null,null,null,null,null,null,null,null,null,null,null,null,null,null,null,null,null,null,null,null,null,0,null,null,null,null,null,null,null,null,null,null,null,null,null,null,null,null,null,null,null,null,null,null,null,null,null,null,null,null,null,null,null,null,null,null,null,null,null,null,null,null,null,null,null,null,null,null,null,null,null,null,null,null,null,null,null,null,null,null,null,null,null,null,null,null,null,null,null,"EV IY TOPLAM GOL",null,null,null,2.6,{"$f":"IF(FZ201>GA192,IF(FZ201<GB192,\"10\",\"0\"))","v":"0"},{"$f":"IF(FZ201>GB192,IF(FZ201<GC192,\"30\",\"0\"))","v":"0"},{"$f":"IF(FZ201>GC192,IF(FZ201<GD192,\"50\",\"0\"))","v":"0"},{"$f":"IF(FZ201>GD192,IF(FZ201<GE192,\"70\",\"0\"))","v":"70"},{"$f":"IF(FZ201>GE192,IF(FZ201<GG191,\"90\",\"0\"))","v":false},70,null,null,null,null,null,null,null,null,null,null,null,null,null,null,null,null,null,null,null,null,null,null,null,null,null,null,null,null,null,null,{"$f":"HK3","v":0},null,null,null,null,null,null,null,null,null,null,null,null,null,null,null,null,null,null,null,null,null,null,null,null,null,null,null,null,null,null,null,null,null,null,null,null,null,null,null,null,null,null,null,null,null,null,null,null,null,null,null,null,null,null,null,null,null,null,null,null,null,null,null,null,null,null,null,"EV IY TOPLAM GOL",null,null,null,2.6,{"$f":"IF(KE201>KF192,IF(KE201<KG192,\"10\",\"0\"))","v":"0"},{"$f":"IF(KE201>KG192,IF(KE201<KH192,\"30\",\"0\"))","v":"0"},{"$f":"IF(KE201>KH192,IF(KE201<KI192,\"50\",\"0\"))","v":"0"},{"$f":"IF(KE201>KI192,IF(KE201<KJ192,\"70\",\"0\"))","v":"70"},{"$f":"IF(KE201>KJ192,IF(KE201<KL191,\"90\",\"0\"))","v":false},70]
["Thun",{"$f":"B4","v":"Grasshopper"},{"$f":"Veri!AM5","v":"7-4"},{"$f":"MID(C202,1,FIND(\"-\",C202)-1)","v":"7"},{"$f":"MID(C202,FIND(\"-\",C202)+1,10)","v":"4"},null,null,null,null,null,null,null,null,null,null,null,null,null,null,null,null,null,null,null,null,null,null,null,null,null,null,null,null,null,null,null,null,null,null,null,null,null,null,null,null,null,null,null,null,null,null,null,null,null,null,null,null,null,null,null,null,null,null,null,null,null,null,null,null,null,null,null,null,null,null,null,null,null,null,null,null,null,null,null,null,null,null,null,null,null,null,null,null,null,null,null,null,null,null,null,null,null,null,null,null,null,null,null,null,"Thun","Grasshopper",{"$f":"Veri!ER5","v":0},{"$f":"MID(DH202,1,FIND(\"-\",DH202)-1)","v":{"$error":"#VALUE!"}},{"$f":"MID(DH202,FIND(\"-\",DH202)+1,10)","v":{"$error":"#VALUE!"}},null,null,null,null,null,null,null,null,null,null,null,null,null,null,null,null,null,null,null,null,null,null,null,null,null,null,null,null,null,null,null,null,null,null,null,null,null,null,null,null,null,null,null,null,null,null,null,null,null,null,null,null,null,null,null,null,null,null,null,null,null,null,null,null,null,null,null,null,null,null,null,null,null,null,null,null,null,null,null,null,null,null,null,null,null,null,null,null,null,null,null,null,null,null,null,null,null,null,null,null,null,null,null,null,{"$f":"HK4","v":"Lugano"},"Thun",{"$f":"Veri!IW5","v":0},{"$f":"MID(HM202,1,FIND(\"-\",HM202)-1)","v":{"$error":"#VALUE!"}},{"$f":"MID(HM202,FIND(\"-\",HM202)+1,10)","v":{"$error":"#VALUE!"}}]
["St. Gallen","Thun",{"$f":"Veri!AM6","v":"10-5"},{"$f":"MID(C203,1,FIND(\"-\",C203)-1)","v":"10"},{"$f":"MID(C203,FIND(\"-\",C203)+1,10)","v":"5"},null,null,null,null,null,null,null,null,null,null,null,null,null,null,null,null,null,null,null,null,null,null,null,null,null,null,null,null,null,null,null,null,null,null,null,null,null,null,null,null,null,null,null,null,null,null,null,null,null,null,null,null,null,null,null,null,null,null,null,null,null,null,null,null,null,null,null,null,null,null,null,{"$f":"1-BZ203","v":0.48750000000000004},{"$f":"CA204/100","v":0.51249999999999996},null,null,null,null,null,null,null,null,null,null,null,null,null,null,null,null,null,null,null,null,null,null,null,null,null,null,null,null,null,null,null,"St. Gallen","Thun",{"$f":"Veri!ER6","v":0},{"$f":"MID(DH203,1,FIND(\"-\",DH203)-1)","v":{"$error":"#VALUE!"}},{"$f":"MID(DH203,FIND(\"-\",DH203)+1,10)","v":{"$error":"#VALUE!"}},null,null,null,null,null,null,null,null,null,null,null,null,null,null,null,null,null,null,null,null,null,null,null,null,null,null,null,null,null,null,null,null,null,null,null,null,null,null,null,null,null,null,null,null,null,null,null,null,null,null,null,null,null,null,null,null,null,null,null,null,null,null,null,null,null,null,null,null,null,null,null,{"$f":"1-GE203","v":0.5},{"$f":"GF204/100","v":0.5},null,null,null,null,null,null,null,null,null,null,null,null,null,null,null,null,null,null,null,null,null,null,null,null,null,null,null,null,null,null,null,{"$f":"HK5","v":"Lugano"},"Thun",{"$f":"Veri!IW6","v":0},{"$f":"MID(HM203,1,FIND(\"-\",HM203)-1)","v":{"$error":"#VALUE!"}},{"$f":"MID(HM203,FIND(\"-\",HM203)+1,10)","v":{"$error":"#VALUE!"}},null,null,null,null,null,null,null,null,null,null,null,null,null,null,null,null,null,null,null,null,null,null,null,null,null,null,null,null,null,null,null,null,null,null,null,null,null,null,null,null,null,null,null,null,null,null,null,null,null,null,null,null,null,null,null,null,null,null,null,null,null,null,null,null,null,null,null,null,null,null,null,{"$f":"1-KJ203","v":0.57499999999999996},{"$f":"KK204/100","v":0.42499999999999999}]
["Thun","Young Boys",{"$f":"Veri!AM7","v":"6-3"},{"$f":"MID(C204,1,FIND(\"-\",C204)-1)","v":"6"},"3",null,null,null,null,null,null,null,null,null,null,null,null,null,null,null,null,null,null,null,null,null,null,null,null,null,null,null,null,null,null,null,null,null,null,null,null,null,null,null,null,null,null,null,null,null,null,null,null,null,null,null,null,null,null,null,null,null,null,null,null,null,null,null,null,null,null,0,25.2,49.9,84.9,100,null,null,{"$f":"AVERAGE(CA194:CA201)","v":51.25},null,0,1,1.5,2.5,null,null,null,null,null,null,null,null,null,null,null,null,null,null,null,null,null,null,null,null,null,null,null,null,null,"Thun","Young Boys",{"$f":"Veri!ER7","v":0},{"$f":"MID(DH204,1,FIND(\"-\",DH204)-1)","v":{"$error":"#VALUE!"}},{"$error":"#VALUE!"},null,null,null,null,null,null,null,null,null,null,null,null,null,null,null,null,null,null,null,null,null,null,null,null,null,null,null,null,null,null,null,null,null,null,null,null,null,null,null,null,null,null,null,null,null,null,null,null,null,null,null,null,null,null,null,null,null,null,null,null,null,null,null,null,null,null,{"$f":"BT204","v":0},{"$f":"BU204","v":25.2},49.9,84.9,100,null,null,{"$f":"AVERAGE(GF194:GF201)","v":50},null,{"$f":"CC204","v":0},{"$f":"CD204","v":1},1.5,2.5,null,null,null,null,null,null,null,null,null,null,null,null,null,null,null,null,null,null,null,null,null,null,null,null,null,{"$f":"HK6","v":"Thun"},"Lugano",{"$f":"Veri!IW7","v":0},{"$f":"MID(HM204,1,FIND(\"-\",HM204)-1)","v":{"$error":"#VALUE!"}},{"$error":"#VALUE!"},null,null,null,null,null,null,null,null,null,null,null,null,null,null,null,null,null,null,null,null,null,null,null,null,null,null,null,null,null,null,null,null,null,null,null,null,null,null,null,null,null,null,null,null,null,null,null,null,null,null,null,null,null,null,null,null,null,null,null,null,null,null,null,null,null,null,{"$f":"FY204","v":0},{"$f":"FZ204","v":25.2},49.9,84.9,100,null,null,{"$f":"AVERAGE(KK194:KK201)","v":42.5},null,{"$f":"GH204","v":0},{"$f":"GI204","v":1},1.5,2.5]
["Lugano","Thun",{"$f":"Veri!AM8","v":"2-6"},"2","6",null,null,null,null,null,null,null,null,null,null,null,null,null,null,null,null,null,null,null,null,null,null,null,null,null,null,null,null,null,null,null,null,null,null,null,null,null,null,null,null,null,null,null,null,null,null,null,null,null,null,null,null,null,null,null,null,null,null,null,null,null,null,null,null,null,null,null,null,null,null,null,null,"EV SONUC",{"$f":"IF(CA204>BT204,IF(CA204<BU204,CC204,IF(CA204>BU204,IF(CA204<BV204,CD204,IF(CA204>BV204,IF(CA204<BW204,CE204,IF(CA204>BW204,IF(CA204<BX204,CF204,CC198))))))))","v":1.5},null,null,null,null,null,null,null,null,null,null,null,null,null,null,null,null,null,null,null,null,null,null,null,null,null,null,null,null,null,null,"Lugano","Thun",{"$f":"Veri!ER8","v":0},{"$error":"#VALUE!"},{"$error":"#VALUE!"},null,null,null,null,null,null,null,null,null,null,null,null,null,null,null,null,null,null,null,null,null,null,null,null,null,null,null,null,null,null,null,null,null,null,null,null,null,null,null,null,null,null,null,null,null,null,null,null,null,null,null,null,null,null,null,null,null,null,null,null,null,null,null,null,null,null,null,null,null,null,null,null,"EV SONUC",{"$f":"IF(GF204>FY204,IF(GF204<FZ204,GH204,IF(GF204>FZ204,IF(GF204<GA204,GI204,IF(GF204>GA204,IF(GF204<GB204,GJ204,IF(GF204>GB204,IF(GF204<GC204,GK204,GH198))))))))","v":1.5},null,null,null,null,null,null,null,null,null,null,null,null,null,null,null,null,null,null,null,null,null,null,null,null,null,null,null,null,null,null,{"$f":"HK7","v":"Lugano"},"Thun",{"$f":"Veri!IW8","v":0},{"$error":"#VALUE!"},{"$error":"#VALUE!"},null,null,null,null,null,null,null,null,null,null,null,null,null,null,null,null,null,null,null,null,null,null,null,null,null,null,null,null,null,null,null,null,null,null,null,null,null,null,null,null,null,null,null,null,null,null,null,null,null,null,null,null,null,null,null,null,null,null,null,null,null,null,null,null,null,null,null,null,null,null,null,null,"EV SONUC",{"$f":"IF(HU34=\"\",\"\",IF(KK204>KD204,IF(KK204<KE204,KM204,IF(KK204>KE204,IF(KK204<KF204,KN204,IF(KK204>KF204,IF(KK204<KG204,KO204,IF(KK204>KG204,IF(KK204<KH204,KP204,KM198)))))))))","v":1}]
["Thun","Kriens",{"$f":"Veri!AM9","v":0},{"$error":"#VALUE!"},{"$error":"#VALUE!"},null,null,null,null,null,null,null,null,null,null,null,null,null,null,null,null,null,null,null,null,null,null,null,null,null,null,null,null,null,null,null,null,null,null,null,null,null,null,null,null,null,null,null,null,null,null,null,null,null,null,null,null,null,null,null,null,null,null,null,null,null,null,null,null,null,null,null,null,null,null,null,null,null,{"$f":"IF(CA204>BT204,IF(CA204<BU204,BY203,IF(CA204>BU204,IF(CA204<BV204,BZ203,IF(CA204>BV204,IF(CA204<BW204,BZ203,IF(CA204>BW204,IF(CA204<BX204,0.4))))))))","v":0.51249999999999996},null,null,null,null,null,null,null,null,null,null,null,null,null,null,null,null,null,null,null,null,null,null,null,null,null,null,null,null,null,null,"Thun","Kriens",{"$f":"Veri!ER9","v":0},{"$error":"#VALUE!"},{"$error":"#VALUE!"},null,null,null,null,null,null,null,null,null,null,null,null,null,null,null,null,null,null,null,null,null,null,null,null,null,null,null,null,null,null,null,null,null,null,null,null,null,null,null,null,null,null,null,null,null,null,null,null,null,null,null,null,null,null,null,null,null,null,null,null,null,null,null,null,null,null,null,null,null,null,null,null,null,{"$f":"IF(GF204>FY204,IF(GF204<FZ204,GD203,IF(GF204>FZ204,IF(GF204<GA204,GE203,IF(GF204>GA204,IF(GF204<GB204,GE203,IF(GF204>GB204,IF(GF204<GC204,0.4))))))))","v":0.5},null,null,null,null,null,null,null,null,null,null,null,null,null,null,null,null,null,null,null,null,null,null,null,null,null,null,null,null,null,null,{"$f":"HK8","v":"Thun"},"Lugano",{"$f":"Veri!IW9","v":0},{"$error":"#VALUE!"},{"$error":"#VALUE!"},null,null,null,null,null,null,null,null,null,null,null,null,null,null,null,null,null,null,null,null,null,null,null,null,null,null,null,null,null,null,null,null,null,null,null,null,null,null,null,null,null,null,null,null,null,null,null,null,null,null,null,null,null,null,null,null,null,null,null,null,null,null,null,null,null,null,null,null,null,null,null,null,null,{"$f":"IF(HU34=\"\",\"\",IF(KK204>KD204,IF(KK204<KE204,KI203,IF(KK204>KE204,IF(KK204<KF204,KJ203,IF(KK204>KF204,IF(KK204<KG204,KJ203,IF(KK204>KG204,IF(KK204<KH204,0.4)))))))))","v":0.42499999999999999}]
["Bruhl SG","Thun",{"$f":"Veri!AM10","v":"0-0"},"0","0",null,null,null,null,null,null,null,null,null,null,null,null,null,null,null,null,null,null,null,null,null,null,null,null,null,null,null,null,null,null,null,null,null,null,null,null,null,null,null,null,null,null,null,null,null,null,null,null,null,null,null,null,null,null,null,null,null,null,null,null,null,null,null,null,null,null,null,null,null,null,null,null,null,null,null,null,null,null,null,null,null,null,null,null,null,null,null,null,null,null,null,null,null,null,null,null,null,null,null,null,null,null,null,null,0,0,{"$f":"Veri!ER10","v":0},{"$error":"#VALUE!"},{"$error":"#VALUE!"},null,null,null,null,null,null,null,null,null,null,null,null,null,null,null,null,null,null,null,null,null,null,null,null,null,null,null,null,null,null,null,null,null,null,null,null,null,null,null,null,null,null,null,null,null,null,null,null,null,null,null,null,null,null,null,null,null,null,null,null,null,null,null,null,null,null,null,null,null,null,null,null,null,null,null,null,null,null,null,null,null,null,null,null,null,null,null,null,null,null,null,null,null,null,null,null,null,null,null,null,null,null,null,null,{"$f":"HK9","v":0},0,{"$f":"Veri!IW10","v":0},{"$error":"#VALUE!"},{"$error":"#VALUE!"}]
["Thun","FC Rapperswil-Jona",{"$f":"Veri!AM11","v":"4-5"},"4","5",null,null,null,null,null,null,null,null,null,null,null,null,null,null,null,null,null,null,null,null,null,null,null,null,null,null,null,null,null,null,null,null,null,null,null,null,null,null,null,null,null,null,null,null,null,null,null,null,null,null,null,null,null,null,null,null,null,null,null,null,null,null,null,null,null,null,null,null,null,null,null,null,null,null,null,null,null,null,null,null,null,null,null,null,null,null,null,null,null,null,null,null,null,null,null,null,null,null,null,null,null,null,null,null,0,0,{"$f":"Veri!ER11","v":0},{"$error":"#VALUE!"},{"$error":"#VALUE!"},null,null,null,null,null,null,null,null,null,null,null,null,null,null,null,null,null,null,null,null,null,null,null,null,null,null,null,null,null,null,null,null,null,null,null,null,null,null,null,null,null,null,null,null,null,null,null,null,null,null,null,null,null,null,null,null,null,null,null,null,null,null,null,null,null,null,null,null,null,null,null,null,null,null,null,null,null,null,null,null,null,null,null,null,null,null,null,null,null,null,null,null,null,null,null,null,null,null,null,null,null,null,null,null,{"$f":"HK10","v":0},0,{"$f":"Veri!IW11","v":0},{"$error":"#VALUE!"},{"$error":"#VALUE!"}]
["Thun","Grasshopper",{"$f":"Veri!AM12","v":"6-6"},"6","6",null,null,null,null,null,null,null,null,null,null,null,null,null,null,null,null,null,null,null,null,null,null,null,null,null,null,null,null,null,null,null,null,null,null,null,null,null,null,null,null,null,null,null,null,null,null,null,null,null,null,null,null,null,null,null,null,null,null,null,null,null,null,null,null,null,null,null,null,null,null,null,null,null,null,null,null,null,null,null,null,null,null,null,null,null,null,null,null,null,null,null,null,null,null,null,null,null,null,null,null,null,null,null,null,0,0,{"$f":"Veri!ER12","v":0},{"$error":"#VALUE!"},{"$error":"#VALUE!"},null,null,null,null,null,null,null,null,null,null,null,null,null,null,null,null,null,null,null,null,null,null,null,null,null,null,null,null,null,null,null,null,null,null,null,null,null,null,null,null,null,null,null,null,null,null,null,null,null,null,null,null,null,null,null,null,null,null,null,null,null,null,null,null,null,null,null,null,null,null,null,null,null,null,null,null,null,null,null,null,null,null,null,null,null,null,null,null,null,null,null,null,null,null,null,null,null,null,null,null,null,null,null,null,{"$f":"HK11","v":0},0,{"$f":"Veri!IW12","v":0},{"$error":"#VALUE!"},{"$error":"#VALUE!"}]
["Young Boys","Thun",{"$f":"Veri!AM13","v":"10-2"},"10","2",null,null,null,null,null,null,null,null,null,null,null,null,null,null,null,null,null,null,null,null,null,null,null,null,null,null,null,null,null,null,null,null,null,null,null,null,null,null,null,null,null,null,null,null,null,null,null,null,null,null,null,null,null,null,null,null,null,null,null,null,null,null,null,null,null,null,null,null,null,null,null,null,null,null,"10",null,null,null,null,null,null,null,null,null,null,null,null,null,null,null,null,null,null,null,null,null,null,null,null,null,null,null,null,null,0,0,{"$f":"Veri!ER13","v":0},{"$error":"#VALUE!"},{"$error":"#VALUE!"},null,null,null,null,null,null,null,null,null,null,null,null,null,null,null,null,null,null,null,null,null,null,null,null,null,null,null,null,null,null,null,null,null,null,null,null,null,null,null,null,null,null,null,null,null,null,null,null,null,null,null,null,null,null,null,null,null,null,null,null,null,null,null,null,null,null,null,null,null,null,null,null,null,null,{"$f":"CB210","v":"10"},null,null,null,null,null,null,null,null,null,null,null,null,null,null,null,null,null,null,null,null,null,null,null,null,null,null,null,null,null,{"$f":"HK12","v":0},0,{"$f":"Veri!IW13","v":0},{"$error":"#VALUE!"},{"$error":"#VALUE!"},null,null,null,null,null,null,null,null,null,null,null,null,null,null,null,null,null,null,null,null,null,null,null,null,null,null,null,null,null,null,null,null,null,null,null,null,null,null,null,null,null,null,null,null,null,null,null,null,null,null,null,null,null,null,null,null,null,null,null,null,null,null,null,null,null,null,null,null,null,null,null,null,null,null,{"$f":"GG210","v":"10"}]
["Thun","St. Gallen",{"$f":"Veri!AM14","v":"7-5"},"7","5",null,null,null,null,null,null,null,null,null,null,null,null,null,null,null,null,null,null,null,null,null,null,null,null,null,null,null,null,null,null,null,null,null,null,null,null,null,null,null,null,null,null,null,null,null,null,null,null,null,null,null,null,null,null,null,null,null,null,null,null,null,null,null,"MAC SONU DEPLASMAN",null,null,null,null,-1,0.79,1.44,1.99,2.7,3,-1,1.9,3.9,5.9,7.9,10,null,null,null,null,null,null,null,null,null,null,null,null,null,null,null,null,null,null,null,null,null,null,null,null,0,0,{"$f":"Veri!ER14","v":0},{"$error":"#VALUE!"},{"$error":"#VALUE!"},null,null,null,null,null,null,null,null,null,null,null,null,null,null,null,null,null,null,null,null,null,null,null,null,null,null,null,null,null,null,null,null,null,null,null,null,null,null,null,null,null,null,null,null,null,null,null,null,null,null,null,null,null,null,null,null,null,null,null,null,null,null,null,"MAC SONU DEPLASMAN",null,null,null,null,{"$f":"BV211","v":-1},0.79,1.44,1.99,2.7,3,-1,1.9,3.9,5.9,7.9,10,null,null,null,null,null,null,null,null,null,null,null,null,null,null,null,null,null,null,null,null,null,null,null,null,{"$f":"HK13","v":0},0,{"$f":"Veri!IW14","v":0},{"$error":"#VALUE!"},{"$error":"#VALUE!"},null,null,null,null,null,null,null,null,null,null,null,null,null,null,null,null,null,null,null,null,null,null,null,null,null,null,null,null,null,null,null,null,null,null,null,null,null,null,null,null,null,null,null,null,null,null,null,null,null,null,null,null,null,null,null,null,null,null,null,null,null,null,null,"MAC SONU DEPLASMAN",null,null,null,null,{"$f":"GA211","v":-1},0.79,1.44,1.99,2.7,3,-1,1.9,3.9,5.9,7.9,10]
[null,null,null,null,null,null,null,null,null,null,null,null,null,null,null,null,null,null,null,null,null,null,null,null,null,null,null,null,null,null,null,null,null,null,null,null,null,null,null,null,null,null,null,null,null,null,null,null,null,null,null,null,null,null,null,null,null,null,null,null,null,null,null,null,null,null,null,null,null,null,null,null,null,"0-20","20-40","40-60","60-80","80-100","TOPLAM",null,null,null,null,null,null,null,null,null,null,null,null,null,null,null,null,null,null,null,null,null,null,null,null,null,null,null,null,null,null,null,null,null,null,null,null,null,null,null,null,null,null,null,null,null,null,null,null,null,null,null,null,null,null,null,null,null,null,null,null,null,null,null,null,null,null,null,null,null,null,null,null,null,null,null,null,null,null,null,null,null,null,null,null,null,null,null,null,null,null,null,null,null,null,null,null,null,null,null,null,null,null,null,"0-20","20-40","40-60","60-80","80-100","TOPLAM",null,null,null,null,null,null,null,null,null,null,null,null,null,null,null,null,null,null,null,null,null,null,null,null,null,null,null,null,null,null,null,null,null,null,null,null,null,null,null,null,null,null,null,null,null,null,null,null,null,null,null,null,null,null,null,null,null,null,null,null,null,null,null,null,null,null,null,null,null,null,null,null,null,null,null,null,null,null,null,null,null,null,null,null,null,null,null,null,null,null,null,null,null,null,null,null,null,null,null,null,null,null,null,"0-20","20-40","40-60","60-80","80-100","TOPLAM"]
[null,null,null,null,null,null,null,null,null,null,null,null,null,null,null,null,null,null,null,null,null,null,null,null,null,null,null,null,null,null,null,null,null,null,null,null,null,null,null,null,null,null,null,null,null,null,null,null,null,null,null,null,null,null,null,null,null,null,null,null,null,null,null,null,null,null,null,null,"GALIBIYET SAYISI",null,null,null,{"$f":"BU143","v":3},{"$f":"IF(BU213>CB211,IF(BU213<CC211,\"10\",\"0\"))","v":"0"},{"$f":"IF(BU213>CC211,IF(BU213<CD211,\"30\",\"0\"))","v":"30"},{"$f":"IF(BU213>CD211,IF(BU213<CE211,\"50\",\"0\"))","v":false},{"$f":"IF(BU213>CE211,IF(BU213<CF211,\"70\",\"0\"))","v":false},{"$f":"IF(BU213>CF211,IF(BU213<CG211,\"90\",\"0\"))","v":false},{"$f":"BV213+BW213+BX213+BY213+BZ213","v":30},{"$f":"0-CA213","v":-30},null,null,null,null,null,null,null,null,null,null,null,null,null,null,null,null,null,null,null,null,null,null,null,null,null,null,null,null,null,null,null,null,null,null,null,null,null,null,null,null,null,null,null,null,null,null,null,null,null,null,null,null,null,null,null,null,null,null,null,null,null,null,null,null,null,null,null,null,null,null,null,null,null,null,null,null,null,null,null,null,null,null,null,null,null,null,null,null,null,null,null,null,null,null,null,null,null,"GALIBIYET SAYISI",null,null,null,{"$f":"FZ143","v":3},{"$f":"IF(FZ213>GG211,IF(FZ213<GH211,\"10\",\"0\"))","v":"0"},{"$f":"IF(FZ213>GH211,IF(FZ213<GI211,\"30\",\"0\"))","v":"30"},{"$f":"IF(FZ213>GI211,IF(FZ213<GJ211,\"50\",\"0\"))","v":false},{"$f":"IF(FZ213>GJ211,IF(FZ213<GK211,\"70\",\"0\"))","v":false},{"$f":"IF(FZ213>GK211,IF(FZ213<GL211,\"90\",\"0\"))","v":false},{"$f":"GA213+GB213+GC213+GD213+GE213","v":30},{"$f":"0-GF213","v":-30},null,null,null,null,null,null,null,null,null,null,null,null,null,null,null,null,null,null,null,null,null,null,null,null,null,null,null,null,null,null,null,null,null,null,null,null,null,null,null,null,null,null,null,null,null,null,null,null,null,null,null,null,null,null,null,null,null,null,null,null,null,null,null,null,null,null,null,null,null,null,null,null,null,null,null,null,null,null,null,null,null,null,null,null,null,null,null,null,null,null,null,null,null,null,null,null,null,"GALIBIYET SAYISI",null,null,null,{"$f":"KE143","v":2},{"$f":"IF(KE213>KL211,IF(KE213<KM211,\"10\",\"0\"))","v":"0"},{"$f":"IF(KE213>KM211,IF(KE213<KN211,\"30\",\"0\"))","v":"30"},{"$f":"IF(KE213>KN211,IF(KE213<KO211,\"50\",\"0\"))","v":false},{"$f":"IF(KE213>KO211,IF(KE213<KP211,\"70\",\"0\"))","v":false},{"$f":"IF(KE213>KP211,IF(KE213<KQ211,\"90\",\"0\"))","v":false},{"$f":"KF213+KG213+KH213+KI213+KJ213","v":30},{"$f":"0-KK213","v":-30}]
[null,null,null,null,null,null,null,null,null,null,null,null,null,null,null,null,null,null,null,null,null,null,null,null,null,null,null,null,null,null,null,null,null,null,null,null,null,null,null,null,null,null,null,null,null,null,null,null,null,null,null,null,null,null,null,null,null,null,null,null,null,null,null,null,null,null,null,null,"BERABERLIK SAYISI",null,null,null,{"$f":"BU144","v":4},{"$f":"IF(BU214>CB211,IF(BU214<CC211,\"10\",\"0\"))","v":"0"},{"$f":"IF(BU214>CC211,IF(BU214<CD211,\"30\",\"0\"))","v":"0"},{"$f":"IF(BU214>CD211,IF(BU214<CE211,\"50\",\"0\"))","v":"50"},{"$f":"IF(BU214>CE211,IF(BU214<CF211,\"70\",\"0\"))","v":false},{"$f":"IF(BU214>CF211,IF(BU214<CG211,\"90\",\"0\"))","v":false},50,{"$f":"0-CA214","v":-50},null,null,null,null,null,null,null,null,null,null,null,null,null,null,null,null,null,null,null,null,null,null,null,null,null,null,null,null,null,null,null,null,null,null,null,null,null,null,null,null,null,null,null,null,null,null,null,null,null,null,null,null,null,null,null,null,null,null,null,null,null,null,null,null,null,null,null,null,null,null,null,null,null,null,null,null,null,null,null,null,null,null,null,null,null,null,null,null,null,null,null,null,null,null,null,null,null,"BERABERLIK SAYISI",null,null,null,{"$f":"FZ144","v":1},{"$f":"IF(FZ214>GG211,IF(FZ214<GH211,\"10\",\"0\"))","v":"10"},{"$f":"IF(FZ214>GH211,IF(FZ214<GI211,\"30\",\"0\"))","v":false},{"$f":"IF(FZ214>GI211,IF(FZ214<GJ211,\"50\",\"0\"))","v":false},{"$f":"IF(FZ214>GJ211,IF(FZ214<GK211,\"70\",\"0\"))","v":false},{"$f":"IF(FZ214>GK211,IF(FZ214<GL211,\"90\",\"0\"))","v":false},10,{"$f":"0-GF214","v":-10},null,null,null,null,null,null,null,null,null,null,null,null,null,null,null,null,null,null,null,null,null,null,null,null,null,null,null,null,null,null,null,null,null,null,null,null,null,null,null,null,null,null,null,null,null,null,null,null,null,null,null,null,null,null,null,null,null,null,null,null,null,null,null,null,null,null,null,null,null,null,null,null,null,null,null,null,null,null,null,null,null,null,null,null,null,null,null,null,null,null,null,null,null,null,null,null,null,"BERABERLIK SAYISI",null,null,null,{"$f":"KE144","v":2},{"$f":"IF(KE214>KL211,IF(KE214<KM211,\"10\",\"0\"))","v":"0"},{"$f":"IF(KE214>KM211,IF(KE214<KN211,\"30\",\"0\"))","v":"30"},{"$f":"IF(KE214>KN211,IF(KE214<KO211,\"50\",\"0\"))","v":false},{"$f":"IF(KE214>KO211,IF(KE214<KP211,\"70\",\"0\"))","v":false},{"$f":"IF(KE214>KP211,IF(KE214<KQ211,\"90\",\"0\"))","v":false},30,{"$f":"0-KK214","v":-30}]
[null,null,null,null,null,null,null,null,null,null,null,null,null,null,null,null,null,null,null,null,null,null,null,null,null,null,null,null,null,null,null,null,null,null,null,null,null,null,null,null,null,null,null,null,null,null,null,null,null,null,null,null,null,null,null,null,null,null,null,null,null,null,null,null,null,null,null,null,"MAGLUBIYET SAYISI ",null,null,null,3,{"$f":"IF(BU215>CF211,IF(BU215<CG211,\"10\",\"0\"))","v":false},{"$f":"IF(BU215>CE211,IF(BU215<CF211,\"30\",\"0\"))","v":false},{"$f":"IF(BU215>CD211,IF(BU215<CE211,\"50\",\"0\"))","v":false},{"$f":"IF(BU215>CC211,IF(BU215<CD211,\"70\",\"0\"))","v":"70"},{"$f":"IF(BU215>CB211,IF(BU215<CC211,\"90\",\"0\"))","v":"0"},70,-70,null,null,null,null,null,null,null,null,null,null,null,null,null,null,null,null,null,null,null,null,null,null,null,null,null,null,null,null,null,null,null,null,null,null,null,null,null,null,null,null,null,null,null,null,null,null,null,null,null,null,null,null,null,null,null,null,null,null,null,null,null,null,null,null,null,null,null,null,null,null,null,null,null,null,null,null,null,null,null,null,null,null,null,null,null,null,null,null,null,null,null,null,null,null,null,null,null,"MAGLUBIYET SAYISI ",null,null,null,1,{"$f":"IF(FZ215>GK211,IF(FZ215<GL211,\"10\",\"0\"))","v":false},{"$f":"IF(FZ215>GJ211,IF(FZ215<GK211,\"30\",\"0\"))","v":false},{"$f":"IF(FZ215>GI211,IF(FZ215<GJ211,\"50\",\"0\"))","v":false},{"$f":"IF(FZ215>GH211,IF(FZ215<GI211,\"70\",\"0\"))","v":false},{"$f":"IF(FZ215>GG211,IF(FZ215<GH211,\"90\",\"0\"))","v":"90"},90,-90,null,null,null,null,null,null,null,null,null,null,null,null,null,null,null,null,null,null,null,null,null,null,null,null,null,null,null,null,null,null,null,null,null,null,null,null,null,null,null,null,null,null,null,null,null,null,null,null,null,null,null,null,null,null,null,null,null,null,null,null,null,null,null,null,null,null,null,null,null,null,null,null,null,null,null,null,null,null,null,null,null,null,null,null,null,null,null,null,null,null,null,null,null,null,null,null,null,"MAGLUBIYET SAYISI ",null,null,null,1,{"$f":"IF(KE215>KP211,IF(KE215<KQ211,\"10\",\"0\"))","v":false},{"$f":"IF(KE215>KO211,IF(KE215<KP211,\"30\",\"0\"))","v":false},{"$f":"IF(KE215>KN211,IF(KE215<KO211,\"50\",\"0\"))","v":false},{"$f":"IF(KE215>KM211,IF(KE215<KN211,\"70\",\"0\"))","v":false},{"$f":"IF(KE215>KL211,IF(KE215<KM211,\"90\",\"0\"))","v":"90"},90,-90]
[null,null,null,null,null,null,null,null,null,null,null,null,null,null,null,null,null,null,null,null,null,null,null,null,null,null,null,null,null,null,null,null,null,null,null,null,null,null,null,null,null,null,null,null,null,null,null,null,null,null,null,null,null,null,null,null,null,null,null,null,null,null,null,null,null,null,null,null,"ATTIGI GOL ORTALAMA",null,null,null,1.3,{"$f":"IF(BU216>BV211,IF(BU216<BW211,\"10\",\"0\"))","v":"0"},{"$f":"IF(BU216>BW211,IF(BU216<BX211,\"30\",\"0\"))","v":"30"},{"$f":"IF(BU216>BX211,IF(BU216<BY211,\"50\",\"0\"))","v":false},{"$f":"IF(BU216>BY211,IF(BU216<BZ211,\"70\",\"0\"))","v":false},{"$f":"IF(BU216>BZ211,IF(BU216<CB210,\"90\",\"0\"))","v":false},30,-30,null,null,null,null,null,null,null,null,null,null,null,null,null,null,null,null,null,null,null,null,null,null,null,null,null,null,null,null,null,null,null,null,null,null,null,null,null,null,null,null,null,null,null,null,null,null,null,null,null,null,null,null,null,null,null,null,null,null,null,null,null,null,null,null,null,null,null,null,null,null,null,null,null,null,null,null,null,null,null,null,null,null,null,null,null,null,null,null,null,null,null,null,null,null,null,null,null,"ATTIGI GOL ORTALAMA",null,null,null,1.8,{"$f":"IF(FZ216>GA211,IF(FZ216<GB211,\"10\",\"0\"))","v":"0"},{"$f":"IF(FZ216>GB211,IF(FZ216<GC211,\"30\",\"0\"))","v":"0"},{"$f":"IF(FZ216>GC211,IF(FZ216<GD211,\"50\",\"0\"))","v":"50"},{"$f":"IF(FZ216>GD211,IF(FZ216<GE211,\"70\",\"0\"))","v":false},{"$f":"IF(FZ216>GE211,IF(FZ216<GG210,\"90\",\"0\"))","v":false},50,-50,null,null,null,null,null,null,null,null,null,null,null,null,null,null,null,null,null,null,null,null,null,null,null,null,null,null,null,null,null,null,null,null,null,null,null,null,null,null,null,null,null,null,null,null,null,null,null,null,null,null,null,null,null,null,null,null,null,null,null,null,null,null,null,null,null,null,null,null,null,null,null,null,null,null,null,null,null,null,null,null,null,null,null,null,null,null,null,null,null,null,null,null,null,null,null,null,null,"ATTIGI GOL ORTALAMA",null,null,null,1.6,{"$f":"IF(KE216>KF211,IF(KE216<KG211,\"10\",\"0\"))","v":"0"},{"$f":"IF(KE216>KG211,IF(KE216<KH211,\"30\",\"0\"))","v":"0"},{"$f":"IF(KE216>KH211,IF(KE216<KI211,\"50\",\"0\"))","v":"50"},{"$f":"IF(KE216>KI211,IF(KE216<KJ211,\"70\",\"0\"))","v":false},{"$f":"IF(KE216>KJ211,IF(KE216<KL210,\"90\",\"0\"))","v":false},50,-50]
[null,null,null,null,null,null,null,null,null,null,null,null,null,null,null,null,null,null,null,null,null,null,null,null,null,null,null,null,null,null,null,null,null,null,null,null,null,null,null,null,null,null,null,null,null,null,null,null,null,null,null,null,null,null,null,null,null,null,null,null,null,null,null,null,null,null,null,null,"YEDIGI GOL ORTALAMA ",null,null,null,1.2,{"$f":"IF(BU217>CB210,IF(BU217<CA211,\"10\",\"0\"))","v":false},{"$f":"IF(BU217>BY211,IF(BU217<BZ211,\"30\",\"0\"))","v":false},{"$f":"IF(BU217>BX211,IF(BU217<BY211,\"50\",\"0\"))","v":false},{"$f":"IF(BU217>BW211,IF(BU217<BX211,\"70\",\"0\"))","v":"70"},{"$f":"IF(BU217>BV211,IF(BU217<BW211,\"90\",\"0\"))","v":"0"},70,-70,null,null,null,null,null,null,null,null,null,null,null,null,null,null,null,null,null,null,null,null,null,null,null,null,null,null,null,null,null,null,null,null,null,null,null,null,null,null,null,null,null,null,null,null,null,null,null,null,null,null,null,null,null,null,null,null,null,null,null,null,null,null,null,null,null,null,null,null,null,null,null,null,null,null,null,null,null,null,null,null,null,null,null,null,null,null,null,null,null,null,null,null,null,null,null,null,null,"YEDIGI GOL ORTALAMA ",null,null,null,0.8,{"$f":"IF(FZ217>GG210,IF(FZ217<GF211,\"10\",\"0\"))","v":false},{"$f":"IF(FZ217>GD211,IF(FZ217<GE211,\"30\",\"0\"))","v":false},{"$f":"IF(FZ217>GC211,IF(FZ217<GD211,\"50\",\"0\"))","v":false},{"$f":"IF(FZ217>GB211,IF(FZ217<GC211,\"70\",\"0\"))","v":"70"},{"$f":"IF(FZ217>GA211,IF(FZ217<GB211,\"90\",\"0\"))","v":"0"},70,-70,null,null,null,null,null,null,null,null,null,null,null,null,null,null,null,null,null,null,null,null,null,null,null,null,null,null,null,null,null,null,null,null,null,null,null,null,null,null,null,null,null,null,null,null,null,null,null,null,null,null,null,null,null,null,null,null,null,null,null,null,null,null,null,null,null,null,null,null,null,null,null,null,null,null,null,null,null,null,null,null,null,null,null,null,null,null,null,null,null,null,null,null,null,null,null,null,null,"YEDIGI GOL ORTALAMA ",null,null,null,1,{"$f":"IF(KE217>KL210,IF(KE217<KK211,\"10\",\"0\"))","v":false},{"$f":"IF(KE217>KI211,IF(KE217<KJ211,\"30\",\"0\"))","v":false},{"$f":"IF(KE217>KH211,IF(KE217<KI211,\"50\",\"0\"))","v":false},{"$f":"IF(KE217>KG211,IF(KE217<KH211,\"70\",\"0\"))","v":"70"},{"$f":"IF(KE217>KF211,IF(KE217<KG211,\"90\",\"0\"))","v":"0"},70,-70]
[null,null,null,null,null,null,null,null,null,null,null,null,null,null,null,null,null,null,null,null,null,null,null,null,null,null,null,null,null,null,null,null,null,null,null,null,null,null,null,null,null,null,null,null,null,null,null,null,null,null,null,null,null,null,null,null,null,null,null,null,null,null,null,null,null,null,null,null,"ATTIGI GOL MAC BASINA ",null,null,null,6,{"$f":"IF(BU218>CB211,IF(BU218<CC211,\"10\",\"0\"))","v":"0"},{"$f":"IF(BU218>CC211,IF(BU218<CD211,\"30\",\"0\"))","v":"0"},{"$f":"IF(BU218>CD211,IF(BU218<CE211,\"50\",\"0\"))","v":"0"},{"$f":"IF(BU218>CE211,IF(BU218<CF211,\"70\",\"0\"))","v":"70"},{"$f":"IF(BU218>CF211,IF(BU218<CG211,\"90\",\"0\"))","v":false},70,-70,null,null,null,null,null,null,null,null,null,null,null,null,null,null,null,null,null,null,null,null,null,null,null,null,null,null,null,null,null,null,null,null,null,null,null,null,null,null,null,null,null,null,null,null,null,null,null,null,null,null,null,null,null,null,null,null,null,null,null,null,null,null,null,null,null,null,null,null,null,null,null,null,null,null,null,null,null,null,null,null,null,null,null,null,null,null,null,null,null,null,null,null,null,null,null,null,null,"ATTIGI GOL MAC BASINA ",null,null,null,4,{"$f":"IF(FZ218>GG211,IF(FZ218<GH211,\"10\",\"0\"))","v":"0"},{"$f":"IF(FZ218>GH211,IF(FZ218<GI211,\"30\",\"0\"))","v":"0"},{"$f":"IF(FZ218>GI211,IF(FZ218<GJ211,\"50\",\"0\"))","v":"50"},{"$f":"IF(FZ218>GJ211,IF(FZ218<GK211,\"70\",\"0\"))","v":false},{"$f":"IF(FZ218>GK211,IF(FZ218<GL211,\"90\",\"0\"))","v":false},50,-50,null,null,null,null,null,null,null,null,null,null,null,null,null,null,null,null,null,null,null,null,null,null,null,null,null,null,null,null,null,null,null,null,null,null,null,null,null,null,null,null,null,null,null,null,null,null,null,null,null,null,null,null,null,null,null,null,null,null,null,null,null,null,null,null,null,null,null,null,null,null,null,null,null,null,null,null,null,null,null,null,null,null,null,null,null,null,null,null,null,null,null,null,null,null,null,null,null,"ATTIGI GOL MAC BASINA ",null,null,null,5,{"$f":"IF(KE218>KL211,IF(KE218<KM211,\"10\",\"0\"))","v":"0"},{"$f":"IF(KE218>KM211,IF(KE218<KN211,\"30\",\"0\"))","v":"0"},{"$f":"IF(KE218>KN211,IF(KE218<KO211,\"50\",\"0\"))","v":"50"},{"$f":"IF(KE218>KO211,IF(KE218<KP211,\"70\",\"0\"))","v":false},{"$f":"IF(KE218>KP211,IF(KE218<KQ211,\"90\",\"0\"))","v":false},50,-50]
[null,null,null,null,null,null,null,null,null,null,null,null,null,null,null,null,null,null,null,null,null,null,null,null,null,null,null,null,null,null,null,null,null,null,null,null,null,null,null,null,null,null,null,null,null,null,null,null,null,null,null,null,null,null,null,null,null,null,null,null,null,null,null,null,null,null,null,null,"YEDIGI GOL MAC BASINA ",null,null,null,7,{"$f":"IF(BU219>CF211,IF(BU219<CG211,\"10\",\"0\"))","v":false},{"$f":"IF(BU219>CE211,IF(BU219<CF211,\"30\",\"0\"))","v":"30"},{"$f":"IF(BU219>CD211,IF(BU219<CE211,\"50\",\"0\"))","v":"0"},{"$f":"IF(BU219>CC211,IF(BU219<CD211,\"70\",\"0\"))","v":"0"},{"$f":"IF(BU219>CB211,IF(BU219<CC211,\"90\",\"0\"))","v":"0"},30,-30,null,null,null,null,null,null,null,null,null,null,null,null,null,null,null,null,null,null,null,null,null,null,null,null,null,null,null,null,null,null,null,null,null,null,null,null,null,null,null,null,null,null,null,null,null,null,null,null,null,null,null,null,null,null,null,null,null,null,null,null,null,null,null,null,null,null,null,null,null,null,null,null,null,null,null,null,null,null,null,null,null,null,null,null,null,null,null,null,null,null,null,null,null,null,null,null,null,"YEDIGI GOL MAC BASINA ",null,null,null,3,{"$f":"IF(FZ219>GK211,IF(FZ219<GL211,\"10\",\"0\"))","v":false},{"$f":"IF(FZ219>GJ211,IF(FZ219<GK211,\"30\",\"0\"))","v":false},{"$f":"IF(FZ219>GI211,IF(FZ219<GJ211,\"50\",\"0\"))","v":false},{"$f":"IF(FZ219>GH211,IF(FZ219<GI211,\"70\",\"0\"))","v":"70"},{"$f":"IF(FZ219>GG211,IF(FZ219<GH211,\"90\",\"0\"))","v":"0"},70,-70,null,null,null,null,null,null,null,null,null,null,null,null,null,null,null,null,null,null,null,null,null,null,null,null,null,null,null,null,null,null,null,null,null,null,null,null,null,null,null,null,null,null,null,null,null,null,null,null,null,null,null,null,null,null,null,null,null,null,null,null,null,null,null,null,null,null,null,null,null,null,null,null,null,null,null,null,null,null,null,null,null,null,null,null,null,null,null,null,null,null,null,null,null,null,null,null,null,"YEDIGI GOL MAC BASINA ",null,null,null,4,{"$f":"IF(KE219>KP211,IF(KE219<KQ211,\"10\",\"0\"))","v":false},{"$f":"IF(KE219>KO211,IF(KE219<KP211,\"30\",\"0\"))","v":false},{"$f":"IF(KE219>KN211,IF(KE219<KO211,\"50\",\"0\"))","v":"50"},{"$f":"IF(KE219>KM211,IF(KE219<KN211,\"70\",\"0\"))","v":"0"},{"$f":"IF(KE219>KL211,IF(KE219<KM211,\"90\",\"0\"))","v":"0"},50,-50]
[null,null,null,null,null,null,null,null,null,null,null,null,null,null,null,null,null,null,null,null,null,null,null,null,null,null,null,null,null,null,null,null,null,null,null,null,null,null,null,null,null,null,null,null,null,null,null,null,null,null,null,null,null,null,null,null,null,null,null,null,null,null,null,null,null,null,null,null,"EV IY TOPLAM GOL",null,null,null,2.5,{"$f":"IF(BU220>BV211,IF(BU220<BW211,\"10\",\"0\"))","v":"0"},{"$f":"IF(BU220>BW211,IF(BU220<BX211,\"30\",\"0\"))","v":"0"},{"$f":"IF(BU220>BX211,IF(BU220<BY211,\"50\",\"0\"))","v":"0"},{"$f":"IF(BU220>BY211,IF(BU220<BZ211,\"70\",\"0\"))","v":"70"},{"$f":"IF(BU220>BZ211,IF(BU220<CB210,\"90\",\"0\"))","v":false},70,-70,null,null,null,null,null,null,null,null,null,null,null,null,null,null,null,null,null,null,null,null,null,null,null,null,null,null,null,null,null,null,null,null,null,null,null,null,null,null,null,null,null,null,null,null,null,null,null,null,null,null,null,null,null,null,null,null,null,null,null,null,null,null,null,null,null,null,null,null,null,null,null,null,null,null,null,null,null,null,null,null,null,null,null,null,null,null,null,null,null,null,null,null,null,null,null,null,null,"EV IY TOPLAM GOL",null,null,null,2.6,{"$f":"IF(FZ220>GA211,IF(FZ220<GB211,\"10\",\"0\"))","v":"0"},{"$f":"IF(FZ220>GB211,IF(FZ220<GC211,\"30\",\"0\"))","v":"0"},{"$f":"IF(FZ220>GC211,IF(FZ220<GD211,\"50\",\"0\"))","v":"0"},{"$f":"IF(FZ220>GD211,IF(FZ220<GE211,\"70\",\"0\"))","v":"70"},{"$f":"IF(FZ220>GE211,IF(FZ220<GG210,\"90\",\"0\"))","v":false},70,-70,null,null,null,null,null,null,null,null,null,null,null,null,null,null,null,null,null,null,null,null,null,null,null,null,null,null,null,null,null,null,null,null,null,null,null,null,null,null,null,null,null,null,null,null,null,null,null,null,null,null,null,null,null,null,null,null,null,null,null,null,null,null,null,null,null,null,null,null,null,null,null,null,null,null,null,null,null,null,null,null,null,null,null,null,null,null,null,null,null,null,null,null,null,null,null,null,null,"EV IY TOPLAM GOL",null,null,null,2.6,{"$f":"IF(KE220>KF211,IF(KE220<KG211,\"10\",\"0\"))","v":"0"},{"$f":"IF(KE220>KG211,IF(KE220<KH211,\"30\",\"0\"))","v":"0"},{"$f":"IF(KE220>KH211,IF(KE220<KI211,\"50\",\"0\"))","v":"0"},{"$f":"IF(KE220>KI211,IF(KE220<KJ211,\"70\",\"0\"))","v":"70"},{"$f":"IF(KE220>KJ211,IF(KE220<KL210,\"90\",\"0\"))","v":false},70,-70]
[]
[null,null,null,{"$f":"D202+D203+D204+D205+D206+D207+D208+D209+D210+D212+D211+D213+D214+D215+D216","v":{"$error":"#VALUE!"}},{"$f":"E202+E203+E204+E205+E206+E207+E208+E209+E210+E212+E211+E213+E214+E215+E216","v":{"$error":"#VALUE!"}},null,null,null,null,null,null,null,null,null,null,null,null,null,null,null,null,null,null,null,null,null,null,null,null,null,null,null,null,null,null,null,null,null,null,null,null,null,null,null,null,null,null,null,null,null,null,null,null,null,null,null,null,null,null,null,null,null,null,null,null,null,null,null,null,null,null,null,null,null,null,null,{"$f":"1-BZ222","v":0.47499999999999998},{"$f":"CA223/100","v":0.52500000000000002},null,null,null,null,null,null,null,null,null,null,null,null,null,null,null,null,null,null,null,null,null,null,null,null,null,null,null,null,null,null,null,null,null,null,{"$f":"DI202+DI203+DI204+DI205+DI206+DI207+DI208+DI209+DI210+DI212+DI211+DI213+DI214+DI215+DI216","v":{"$error":"#VALUE!"}},{"$f":"DJ202+DJ203+DJ204+DJ205+DJ206+DJ207+DJ208+DJ209+DJ210+DJ212+DJ211+DJ213+DJ214+DJ215+DJ216","v":{"$error":"#VALUE!"}},null,null,null,null,null,null,null,null,null,null,null,null,null,null,null,null,null,null,null,null,null,null,null,null,null,null,null,null,null,null,null,null,null,null,null,null,null,null,null,null,null,null,null,null,null,null,null,null,null,null,null,null,null,null,null,null,null,null,null,null,null,null,null,null,null,null,null,null,null,null,null,{"$f":"1-GE222","v":0.44999999999999996},{"$f":"GF223/100","v":0.55000000000000004},null,null,null,null,null,null,null,null,null,null,null,null,null,null,null,null,null,null,null,null,null,null,null,null,null,null,null,null,null,null,null,null,null,null,{"$f":"HN202+HN203+HN204+HN205+HN206+HN207+HN208+HN209+HN210+HN212+HN211+HN213+HN214+HN215+HN216","v":{"$error":"#VALUE!"}},{"$f":"HO202+HO203+HO204+HO205+HO206+HO207+HO208+HO209+HO210+HO212+HO211+HO213+HO214+HO215+HO216","v":{"$error":"#VALUE!"}},null,null,null,null,null,null,null,null,null,null,null,null,null,null,null,null,null,null,null,null,null,null,null,null,null,null,null,null,null,null,null,null,null,null,null,null,null,null,null,null,null,null,null,null,null,null,null,null,null,null,null,null,null,null,null,null,null,null,null,null,null,null,null,null,null,null,null,null,null,null,null,{"$f":"1-KJ222","v":0.44999999999999996},{"$f":"KK223/100","v":0.55000000000000004}]
[null,null,null,{"$f":"D222/10","v":{"$error":"#VALUE!"}},{"$f":"E222/10","v":{"$error":"#VALUE!"}},null,null,null,null,null,null,null,null,null,null,null,null,null,null,null,null,null,null,null,null,null,null,null,null,null,null,null,null,null,null,null,null,null,null,null,null,null,null,null,null,null,null,null,null,null,null,null,null,null,null,null,null,null,null,null,null,null,null,null,null,null,null,null,null,null,null,0,25.2,49.9,84.9,100,null,null,{"$f":"AVERAGE(CA213:CA220)","v":52.5},null,0,1,1.5,2.5,null,null,null,null,null,null,null,null,null,null,null,null,null,null,null,null,null,null,null,null,null,null,null,null,null,null,null,null,{"$f":"DI222/10","v":{"$error":"#VALUE!"}},{"$f":"DJ222/10","v":{"$error":"#VALUE!"}},null,null,null,null,null,null,null,null,null,null,null,null,null,null,null,null,null,null,null,null,null,null,null,null,null,null,null,null,null,null,null,null,null,null,null,null,null,null,null,null,null,null,null,null,null,null,null,null,null,null,null,null,null,null,null,null,null,null,null,null,null,null,null,null,null,null,{"$f":"BT223","v":0},{"$f":"BU223","v":25.2},49.9,84.9,100,null,null,{"$f":"AVERAGE(GF213:GF220)","v":55},null,{"$f":"CC223","v":0},{"$f":"CD223","v":1},1.5,2.5,null,null,null,null,null,null,null,null,null,null,null,null,null,null,null,null,null,null,null,null,null,null,null,null,null,null,null,null,{"$f":"HN222/10","v":{"$error":"#VALUE!"}},{"$f":"HO222/10","v":{"$error":"#VALUE!"}},null,null,null,null,null,null,null,null,null,null,null,null,null,null,null,null,null,null,null,null,null,null,null,null,null,null,null,null,null,null,null,null,null,null,null,null,null,null,null,null,null,null,null,null,null,null,null,null,null,null,null,null,null,null,null,null,null,null,null,null,null,null,null,null,null,null,{"$f":"FY223","v":0},{"$f":"FZ223","v":25.2},49.9,84.9,100,null,null,{"$f":"AVERAGE(KK213:KK220)","v":55},null,{"$f":"GH223","v":0},{"$f":"GI223","v":1},1.5,2.5]
[null,null,null,null,null,{"$f":"D223+E249","v":{"$error":"#VALUE!"}},{"$f":"E223+D249","v":{"$error":"#VALUE!"}},null,null,null,null,null,null,null,null,null,null,null,null,null,null,null,null,null,null,null,null,null,null,null,null,null,null,null,null,null,null,null,null,null,null,null,null,null,null,null,null,null,null,null,null,null,null,null,null,null,null,null,null,null,null,null,null,null,null,null,null,null,null,null,null,null,null,null,null,null,null,"DEP SONUC ",{"$f":"IF(CA223>BT223,IF(CA223<BU223,CC223,IF(CA223>BU223,IF(CA223<BV223,CD223,IF(CA223>BV223,IF(CA223<BW223,CE223,IF(CA223>BW223,IF(CA223<BX223,CF223,CC217))))))))","v":1.5},null,null,null,null,null,null,null,null,null,null,null,null,null,null,null,null,null,null,null,null,null,null,null,null,null,null,null,null,null,null,null,null,null,null,null,{"$f":"DI223+DJ249","v":{"$error":"#VALUE!"}},{"$f":"DJ223+DI249","v":{"$error":"#VALUE!"}},null,null,null,null,null,null,null,null,null,null,null,null,null,null,null,null,null,null,null,null,null,null,null,null,null,null,null,null,null,null,null,null,null,null,null,null,null,null,null,null,null,null,null,null,null,null,null,null,null,null,null,null,null,null,null,null,null,null,null,null,null,null,null,null,null,null,null,null,null,null,"DEP SONUC ",{"$f":"IF(GF223>FY223,IF(GF223<FZ223,GH223,IF(GF223>FZ223,IF(GF223<GA223,GI223,IF(GF223>GA223,IF(GF223<GB223,GJ223,IF(GF223>GB223,IF(GF223<GC223,GK223,GH217))))))))","v":1.5},null,null,null,null,null,null,null,null,null,null,null,null,null,null,null,null,null,null,null,null,null,null,null,null,null,null,null,null,null,null,null,null,null,null,null,{"$f":"HN223+HO249","v":{"$error":"#VALUE!"}},{"$f":"HO223+HN249","v":{"$error":"#VALUE!"}},null,null,null,null,null,null,null,null,null,null,null,null,null,null,null,null,null,null,null,null,null,null,null,null,null,null,null,null,null,null,null,null,null,null,null,null,null,null,null,null,null,null,null,null,null,null,null,null,null,null,null,null,null,null,null,null,null,null,null,null,null,null,null,null,null,null,null,null,null,null,"DEP SONUC ",{"$f":"IF(KK223>KD223,IF(KK223<KE223,KM223,IF(KK223>KE223,IF(KK223<KF223,KN223,IF(KK223>KF223,IF(KK223<KG223,KO223,IF(KK223>KG223,IF(KK223<KH223,KP223,KM217))))))))","v":1.5}]
[null,null,null,null,null,null,null,null,null,null,null,null,null,null,null,null,null,null,null,null,null,null,null,null,null,null,null,null,null,null,null,null,null,null,null,null,null,null,null,null,null,null,null,null,null,null,null,null,null,null,null,null,null,null,null,null,null,null,null,null,null,null,null,null,null,null,null,null,null,null,null,null,null,null,null,null,null,null,{"$f":"IF(CA223>BT223,IF(CA223<BU223,BY222,IF(CA223>BU223,IF(CA223<BV223,BZ222,IF(CA223>BV223,IF(CA223<BW223,BZ222,IF(CA223>BW223,IF(CA223<BX223,0.4))))))))","v":0.52500000000000002},null,null,null,null,null,null,null,null,null,null,null,null,null,null,null,null,null,null,null,null,null,null,null,null,null,null,null,null,null,null,null,null,null,null,null,null,null,null,null,null,null,null,null,null,null,null,null,null,null,null,null,null,null,null,null,null,null,null,null,null,null,null,null,null,null,null,null,null,null,null,null,null,null,null,null,null,null,null,null,null,null,null,null,null,null,null,null,null,null,null,null,null,null,null,null,null,null,null,null,null,null,null,null,null,null,null,null,null,{"$f":"IF(GF223>FY223,IF(GF223<FZ223,GD222,IF(GF223>FZ223,IF(GF223<GA223,GE222,IF(GF223>GA223,IF(GF223<GB223,GE222,IF(GF223>GB223,IF(GF223<GC223,0.4))))))))","v":0.55000000000000004},null,null,null,null,null,null,null,null,null,null,null,null,null,null,null,null,null,null,null,null,null,null,null,null,null,null,null,null,null,null,null,null,null,null,null,null,null,null,null,null,null,null,null,null,null,null,null,null,null,null,null,null,null,null,null,null,null,null,null,null,null,null,null,null,null,null,null,null,null,null,null,null,null,null,null,null,null,null,null,null,null,null,null,null,null,null,null,null,null,null,null,null,null,null,null,null,null,null,null,null,null,null,null,null,null,null,null,null,{"$f":"IF(KK223>KD223,IF(KK223<KE223,KI222,IF(KK223>KE223,IF(KK223<KF223,KJ222,IF(KK223>KF223,IF(KK223<KG223,KJ222,IF(KK223>KG223,IF(KK223<KH223,0.4))))))))","v":0.55000000000000004}]
[{"$f":"A28","v":"Young Boys"},null,null,null,null,null,null,null,null,null,null,null,null,null,null,null,null,null,null,null,null,null,null,null,null,null,null,null,null,null,null,null,null,null,null,null,null,null,null,null,null,null,null,null,null,null,null,null,null,null,null,null,null,null,null,null,null,null,null,null,null,null,null,null,null,null,null,null,null,null,null,null,null,null,null,null,null,null,null,null,"DEP ORTALAMA",{"$f":"AVERAGE(CB213:CB220)","v":-52.5},null,null,null,null,null,null,null,null,null,null,null,null,null,null,null,null,null,null,null,null,null,null,null,null,null,null,null,{"$f":"DF28","v":"Young Boys"},null,null,null,null,null,null,null,null,null,null,null,null,null,null,null,null,null,null,null,null,null,null,null,null,null,null,null,null,null,null,null,null,null,null,null,null,null,null,null,null,null,null,null,null,null,null,null,null,null,null,null,null,null,null,null,null,null,null,null,null,null,null,null,null,null,null,null,null,null,null,null,null,null,null,null,null,null,null,null,"DEP ORTALAMA",{"$f":"AVERAGE(GG213:GG220)","v":-55},null,null,null,null,null,null,null,null,null,null,null,null,null,null,null,null,null,null,null,null,null,null,null,null,null,null,null,{"$f":"HK28","v":"Young Boys"},null,null,null,null,null,null,null,null,null,null,null,null,null,null,null,null,null,null,null,null,null,null,null,null,null,null,null,null,null,null,null,null,null,null,null,null,null,null,null,null,null,null,null,null,null,null,null,null,null,null,null,null,null,null,null,null,null,null,null,null,null,null,null,null,null,null,null,null,null,null,null,null,null,null,null,null,null,null,null,"DEP ORTALAMA",{"$f":"AVERAGE(KL213:KL220)","v":-55}]
[null,null,null,null,null,null,"KORNER TAHMIN",null,null,null,null,null,null,null,null,null,null,null,null,null,null,null,null,null,null,null,null,null,null,null,null,null,null,null,null,null,null,null,null,null,null,null,null,null,null,null,null,null,null,null,null,null,null,null,null,null,null,null,null,null,null,null,null,null,null,null,null,null,null,null,null,null,null,null,null,null,null,null,null,null,null,null,null,null,null,null,null,null,null,null,null,null,null,null,null,null,null,null,null,null,null,null,null,null,null,null,null,null,null,null,null,null,null,null,null,"KORNER TAHMIN",null,null,null,null,null,null,null,null,null,null,null,null,null,null,null,null,null,null,null,null,null,null,null,null,null,null,null,null,null,null,null,null,null,null,null,null,null,null,null,null,null,null,null,null,null,null,null,null,null,null,null,null,null,null,null,null,null,null,null,null,null,null,null,null,null,null,null,null,null,null,null,null,null,null,null,null,null,null,null,null,null,null,null,null,null,null,null,null,null,null,null,null,null,null,null,null,null,null,null,null,null,null,null,null,null,null,null,null,"KORNER TAHMIN"]
[{"$f":"A30","v":"1Lugano"},"Young Boys",{"$f":"Veri!W5","v":"5-7"},"5","7",null,{"$f":"F224/2","v":{"$error":"#VALUE!"}},{"$f":"G224/2","v":{"$error":"#VALUE!"}},null,null,null,null,null,null,null,null,null,null,null,null,null,null,null,null,null,null,null,null,null,null,null,null,null,null,null,null,null,null,null,null,null,null,null,null,null,null,null,null,null,null,null,null,null,null,null,null,null,null,null,null,null,null,null,null,null,null,null,null,null,null,null,null,null,null,null,null,{"$f":"CA204","v":51.25},{"$f":"CD226","v":-52.5},{"$f":"CA224+CA205","v":3},null,null,null,null,null,null,null,null,null,null,null,null,null,null,null,null,null,null,null,null,null,null,null,null,null,null,null,null,null,null,{"$f":"DF30","v":"1Lugano"},"Young Boys",{"$f":"Veri!EB5","v":0},{"$f":"MID(DH228,1,FIND(\"-\",DH228)-1)","v":{"$error":"#VALUE!"}},{"$f":"MID(DH228,FIND(\"-\",DH228)+1,10)","v":{"$error":"#VALUE!"}},null,{"$f":"DK224/2","v":{"$error":"#VALUE!"}},{"$f":"DL224/2","v":{"$error":"#VALUE!"}},null,null,null,null,null,null,null,null,null,null,null,null,null,null,null,null,null,null,null,null,null,null,null,null,null,null,null,null,null,null,null,null,null,null,null,null,null,null,null,null,null,null,null,null,null,null,null,null,null,null,null,null,null,null,null,null,null,null,null,null,null,null,null,null,null,null,null,null,{"$f":"GF204","v":50},{"$f":"GI226","v":-55},{"$f":"GF224+GF205","v":3},null,null,null,null,null,null,null,null,null,null,null,null,null,null,null,null,null,null,null,null,null,null,null,null,null,null,null,null,null,null,{"$f":"HK30","v":"Lugano"},"Thun",{"$f":"Veri!IG5","v":0},{"$f":"MID(HM228,1,FIND(\"-\",HM228)-1)","v":{"$error":"#VALUE!"}},{"$f":"MID(HM228,FIND(\"-\",HM228)+1,10)","v":{"$error":"#VALUE!"}},null,{"$f":"HP224/2","v":{"$error":"#VALUE!"}},{"$f":"HQ224/2","v":{"$error":"#VALUE!"}},null,null,null,null,null,null,null,null,null,null,null,null,null,null,null,null,null,null,null,null,null,null,null,null,null,null,null,null,null,null,null,null,null,null,null,null,null,null,null,null,null,null,null,null,null,null,null,null,null,null,null,null,null,null,null,null,null,null,null,null,null,null,null,null,null,null,null,null,{"$f":"KK204","v":42.5},{"$f":"KN226","v":-55},{"$f":"KK224+KK205","v":2.5}]
["1Luzern","Lugano",{"$f":"Veri!W6","v":"8-3"},"8","3",null,null,null,null,null,null,null,null,null,null,null,null,null,null,null,null,null,null,null,null,null,null,null,null,null,null,null,null,null,null,null,null,null,null,null,null,null,null,null,null,null,null,null,null,null,null,null,null,null,null,null,null,null,null,null,null,null,null,null,null,null,null,null,null,null,null,null,null,null,null,null,null,null,null,null,null,null,null,null,null,null,null,null,null,null,null,null,null,null,null,null,null,null,null,null,null,null,null,null,null,null,null,null,null,{"$f":"DF31","v":"1Luzern"},"Lugano",{"$f":"Veri!EB6","v":0},{"$error":"#VALUE!"},{"$error":"#VALUE!"},null,null,null,null,null,null,null,null,null,null,null,null,null,null,null,null,null,null,null,null,null,null,null,null,null,null,null,null,null,null,null,null,null,null,null,null,null,null,null,null,null,null,null,null,null,null,null,null,null,null,null,null,null,null,null,null,null,null,null,null,null,null,null,null,null,null,null,null,null,null,null,null,null,null,null,null,null,null,null,null,null,null,null,null,null,null,null,null,null,null,null,null,null,null,null,null,null,null,null,null,null,null,null,null,{"$f":"HK31","v":"Lugano"},"Thun",{"$f":"Veri!IG6","v":0},{"$error":"#VALUE!"},{"$error":"#VALUE!"}]
["FC Sion","Lugano",{"$f":"Veri!W7","v":"6-2"},"6","2",null,"TOPLAM ",{"$f":"G228+H228","v":{"$error":"#VALUE!"}},null,null,null,null,null,null,null,null,null,null,null,null,null,null,null,null,null,null,null,null,null,null,null,null,null,null,null,null,null,null,null,null,null,null,null,null,null,null,null,null,null,null,null,null,null,null,null,null,null,null,null,null,null,null,null,null,null,null,null,null,null,null,null,null,-1,1.1000000000000001,3.2,6.2,7.1,99.9,null,null,"0-1 GOL","2-3 GOL","4-6 GOL","7 GOL","7 GOL",null,null,null,null,null,null,null,null,null,null,null,null,null,null,null,null,null,null,null,null,null,null,null,null,{"$f":"DF32","v":"FC Sion"},"Lugano",{"$f":"Veri!EB7","v":0},{"$error":"#VALUE!"},{"$error":"#VALUE!"},null,"TOPLAM ",{"$f":"DL228+DM228","v":{"$error":"#VALUE!"}},null,null,null,null,null,null,null,null,null,null,null,null,null,null,null,null,null,null,null,null,null,null,null,null,null,null,null,null,null,null,null,null,null,null,null,null,null,null,null,null,null,null,null,null,null,null,null,null,null,null,null,null,null,null,null,null,null,null,null,null,null,null,null,null,{"$f":"BU230","v":-1},{"$f":"BV230","v":1.1000000000000001},3.2,6.2,7.1,99.9,null,null,"0-1 GOL","2-3 GOL","4-6 GOL","7 GOL","7 GOL",null,null,null,null,null,null,null,null,null,null,null,null,null,null,null,null,null,null,null,null,null,null,null,null,{"$f":"HK32","v":"Thun"},"Lugano",{"$f":"Veri!IG7","v":0},{"$error":"#VALUE!"},{"$error":"#VALUE!"},null,"TOPLAM ",{"$f":"HQ228+HR228","v":{"$error":"#VALUE!"}},null,null,null,null,null,null,null,null,null,null,null,null,null,null,null,null,null,null,null,null,null,null,null,null,null,null,null,null,null,null,null,null,null,null,null,null,null,null,null,null,null,null,null,null,null,null,null,null,null,null,null,null,null,null,null,null,null,null,null,null,null,null,null,null,{"$f":"FZ230","v":-1},{"$f":"GA230","v":1.1000000000000001},3.2,6.2,7.1,99.9,null,null,"0-1 GOL","2-3 GOL","4-6 GOL","7 GOL","7 GOL"]
["Lugano","Thun",{"$f":"Veri!W8","v":"2-6"},"2","6",null,null,null,null,null,null,null,null,null,null,null,null,null,null,null,null,null,null,null,null,null,null,null,null,null,null,null,null,null,null,null,null,null,null,null,null,null,null,null,null,null,null,null,null,null,null,null,null,null,null,null,null,null,null,null,null,null,null,null,null,null,null,null,null,null,null,null,null,null,null,null,null,null,null,null,null,null,null,null,null,null,null,null,null,null,null,null,null,null,null,null,null,null,null,null,null,null,null,null,null,null,null,null,null,{"$f":"DF33","v":"Lugano"},"Thun",{"$f":"Veri!EB8","v":0},{"$error":"#VALUE!"},{"$error":"#VALUE!"},null,null,null,null,null,null,null,null,null,null,null,null,null,null,null,null,null,null,null,null,null,null,null,null,null,null,null,null,null,null,null,null,null,null,null,null,null,null,null,null,null,null,null,null,null,null,null,null,null,null,null,null,null,null,null,null,null,null,null,null,null,null,null,null,null,null,null,null,null,null,null,null,null,null,null,null,null,null,null,null,null,null,null,null,null,null,null,null,null,null,null,null,null,null,null,null,null,null,null,null,null,null,null,null,{"$f":"HK33","v":"Lugano"},"Thun",{"$f":"Veri!IG8","v":0},{"$error":"#VALUE!"},{"$error":"#VALUE!"}]
["Lugano","FC Wacker Innsbruck",{"$f":"Veri!W9","v":0},{"$error":"#VALUE!"},{"$error":"#VALUE!"},null,null,null,null,null,null,null,null,null,null,null,null,null,null,null,null,null,null,null,null,null,null,null,null,null,null,null,null,null,null,null,null,null,null,null,null,null,null,null,null,null,null,null,null,null,null,null,null,null,null,null,null,null,null,null,null,null,null,null,null,null,null,null,null,null,null,null,null,null,null,null,null,null,null,null,null,null,null,null,null,null,null,null,null,null,null,null,null,null,null,null,null,null,null,null,null,null,null,null,null,null,null,null,null,{"$f":"DF34","v":"Lugano"},"FC Wacker Innsbruck",{"$f":"Veri!EB9","v":0},{"$error":"#VALUE!"},{"$error":"#VALUE!"},null,null,null,null,null,null,null,null,null,null,null,null,null,null,null,null,null,null,null,null,null,null,null,null,null,null,null,null,null,null,null,null,null,null,null,null,null,null,null,null,null,null,null,null,null,null,null,null,null,null,null,null,null,null,null,null,null,null,null,null,null,null,null,null,null,null,null,null,null,null,null,null,null,null,null,null,null,null,null,null,null,null,null,null,null,null,null,null,null,null,null,null,null,null,null,null,null,null,null,null,null,null,null,null,{"$f":"HK34","v":"Thun"},"Lugano",{"$f":"Veri!IG9","v":0},{"$error":"#VALUE!"},{"$error":"#VALUE!"}]
["Hamburger SV","Lugano",{"$f":"Veri!W10","v":"5-4"},"5","4",null,null,null,null,null,null,null,null,null,null,null,null,null,null,null,null,null,null,null,null,null,null,null,null,null,null,null,null,null,null,null,null,null,null,null,null,null,null,null,null,null,null,null,null,null,null,null,null,null,null,null,null,null,null,null,null,null,null,null,null,null,null,null,null,null,null,null,null,null,null,null,null,"SONUC ",{"$f":"IF(CA228>BU230,IF(CA228<BV230,CC230,IF(CA228>BV230,IF(CA228<BW230,CD230,IF(CA228>BW230,IF(CA228<BX230,CE230,IF(CA228>BX230,IF(CA228<BY230,CF230,IF(CA228>BY230,IF(CA228<BZ230,CG230))))))))))","v":"2-3 GOL"},null,null,null,null,null,null,null,null,null,null,null,null,null,null,null,null,null,null,null,null,null,null,null,null,null,null,null,null,null,null,{"$f":"DF35","v":0},0,{"$f":"Veri!EB10","v":0},{"$error":"#VALUE!"},{"$error":"#VALUE!"},null,null,null,null,null,null,null,null,null,null,null,null,null,null,null,null,null,null,null,null,null,null,null,null,null,null,null,null,null,null,null,null,null,null,null,null,null,null,null,null,null,null,null,null,null,null,null,null,null,null,null,null,null,null,null,null,null,null,null,null,null,null,null,null,null,null,null,null,null,null,null,null,"SONUC ",{"$f":"IF(GF228>FZ230,IF(GF228<GA230,GH230,IF(GF228>GA230,IF(GF228<GB230,GI230,IF(GF228>GB230,IF(GF228<GC230,GJ230,IF(GF228>GC230,IF(GF228<GD230,GK230,IF(GF228>GD230,IF(GF228<GE230,GL230))))))))))","v":"2-3 GOL"},null,null,null,null,null,null,null,null,null,null,null,null,null,null,null,null,null,null,null,null,null,null,null,null,null,null,null,null,null,null,{"$f":"HK35","v":0},0,{"$f":"Veri!IG10","v":0},{"$error":"#VALUE!"},{"$error":"#VALUE!"},null,null,null,null,null,null,null,null,null,null,null,null,null,null,null,null,null,null,null,null,null,null,null,null,null,null,null,null,null,null,null,null,null,null,null,null,null,null,null,null,null,null,null,null,null,null,null,null,null,null,null,null,null,null,null,null,null,null,null,null,null,null,null,null,null,null,null,null,null,null,null,null,"SONUC ",{"$f":"IF(HU34=\"\",\"\",IF(KK228>KE230,IF(KK228<KF230,KM230,IF(KK228>KF230,IF(KK228<KG230,KN230,IF(KK228>KG230,IF(KK228<KH230,KO230,IF(KK228>KH230,IF(KK228<KI230,KP230,IF(KK228>KI230,IF(KK228<KJ230,KQ230)))))))))))","v":"2-3 GOL"}]
["Lugano(N)","Chiasso",{"$f":"Veri!W11","v":"8-1"},"8","1",null,null,null,null,null,null,null,null,null,null,null,null,null,null,null,null,null,null,null,null,null,null,null,null,null,null,null,null,null,null,null,null,null,null,null,null,null,null,null,null,null,null,null,null,null,null,null,null,null,null,null,null,null,null,null,null,null,null,null,null,null,null,null,null,null,null,null,null,null,null,null,null,null,{"$f":"AVERAGE(CA225,CA206)","v":0.51875000000000004},null,null,null,null,null,null,null,null,null,null,null,null,null,null,null,null,null,null,null,null,null,null,null,null,null,null,null,null,null,null,{"$f":"DF36","v":0},0,{"$f":"Veri!EB11","v":0},{"$error":"#VALUE!"},{"$error":"#VALUE!"},null,null,null,null,null,null,null,null,null,null,null,null,null,null,null,null,null,null,null,null,null,null,null,null,null,null,null,null,null,null,null,null,null,null,null,null,null,null,null,null,null,null,null,null,null,null,null,null,null,null,null,null,null,null,null,null,null,null,null,null,null,null,null,null,null,null,null,null,null,null,null,null,null,{"$f":"AVERAGE(GF225,GF206)","v":0.52500000000000002},null,null,null,null,null,null,null,null,null,null,null,null,null,null,null,null,null,null,null,null,null,null,null,null,null,null,null,null,null,null,{"$f":"HK36","v":0},0,{"$f":"Veri!IG11","v":0},{"$error":"#VALUE!"},{"$error":"#VALUE!"},null,null,null,null,null,null,null,null,null,null,null,null,null,null,null,null,null,null,null,null,null,null,null,null,null,null,null,null,null,null,null,null,null,null,null,null,null,null,null,null,null,null,null,null,null,null,null,null,null,null,null,null,null,null,null,null,null,null,null,null,null,null,null,null,null,null,null,null,null,null,null,null,null,{"$f":"IF(HU34=\"\",\"\",AVERAGE(KK225,KK206))","v":0.48750000000000004}]
["FC Zurich","Lugano",{"$f":"Veri!W12","v":"5-4"},"5","4",null,null,null,null,null,null,null,null,null,null,null,null,null,null,null,null,null,null,null,null,null,null,null,null,null,null,null,null,null,null,null,null,null,null,null,null,null,null,null,null,null,null,null,null,null,null,null,null,null,null,null,null,null,null,null,null,null,null,null,null,null,null,null,null,null,null,null,null,null,null,null,null,null,{"$f":"CF235","v":0},null,null,null,null,{"$f":"CQ159","v":0},null,null,null,null,null,null,null,null,null,null,null,null,null,null,null,null,null,null,null,null,null,null,null,null,null,{"$f":"DF37","v":0},0,{"$f":"Veri!EB12","v":0},{"$error":"#VALUE!"},{"$error":"#VALUE!"},null,null,null,null,null,null,null,null,null,null,null,null,null,null,null,null,null,null,null,null,null,null,null,null,null,null,null,null,null,null,null,null,null,null,null,null,null,null,null,null,null,null,null,null,null,null,null,null,null,null,null,null,null,null,null,null,null,null,null,null,null,null,null,null,null,null,null,null,null,null,null,null,null,{"$f":"GK235","v":0},null,null,null,null,{"$f":"GV159","v":0},null,null,null,null,null,null,null,null,null,null,null,null,null,null,null,null,null,null,null,null,null,null,null,null,null,{"$f":"HK37","v":0},0,{"$f":"Veri!IG12","v":0},{"$error":"#VALUE!"},{"$error":"#VALUE!"},null,null,null,null,null,null,null,null,null,null,null,null,null,null,null,null,null,null,null,null,null,null,null,null,null,null,null,null,null,null,null,null,null,null,null,null,null,null,null,null,null,null,null,null,null,null,null,null,null,null,null,null,null,null,null,null,null,null,null,null,null,null,null,null,null,null,null,null,null,null,null,null,null,{"$f":"IF(HU34=\"\",\"\",KP235)","v":0},null,null,null,null,{"$f":"IF(HU34=\"\",\"\",LA159)","v":0}]
["Lugano","FC Sion",{"$f":"Veri!W13","v":"8-5"},"8","5",null,null,null,null,null,null,null,null,null,null,null,null,null,null,null,null,null,null,null,null,null,null,null,null,null,null,null,null,null,null,null,null,null,null,null,null,null,null,null,null,null,null,null,null,null,null,null,null,null,null,null,null,null,null,null,null,null,null,null,null,null,null,null,null,null,null,null,null,null,null,null,null,null,{"$f":"CF236","v":0},null,null,null,null,{"$f":"CQ160","v":0},null,null,null,null,null,null,null,null,null,null,null,null,null,null,null,null,null,null,null,null,null,null,null,null,null,{"$f":"DF38","v":0},0,{"$f":"Veri!EB13","v":0},{"$error":"#VALUE!"},{"$error":"#VALUE!"},null,null,null,null,null,null,null,null,null,null,null,null,null,null,null,null,null,null,null,null,null,null,null,null,null,null,null,null,null,null,null,null,null,null,null,null,null,null,null,null,null,null,null,null,null,null,null,null,null,null,null,null,null,null,null,null,null,null,null,null,null,null,null,null,null,null,null,null,null,null,null,null,null,{"$f":"GK236","v":0},null,null,null,null,{"$f":"GV160","v":0},null,null,null,null,null,null,null,null,null,null,null,null,null,null,null,null,null,null,null,null,null,null,null,null,null,{"$f":"HK38","v":0},0,{"$f":"Veri!IG13","v":0},{"$error":"#VALUE!"},{"$error":"#VALUE!"},null,null,null,null,null,null,null,null,null,null,null,null,null,null,null,null,null,null,null,null,null,null,null,null,null,null,null,null,null,null,null,null,null,null,null,null,null,null,null,null,null,null,null,null,null,null,null,null,null,null,null,null,null,null,null,null,null,null,null,null,null,null,null,null,null,null,null,null,null,null,null,null,null,{"$f":"IF(HU34=\"\",\"\",KP236)","v":0},null,null,null,null,{"$f":"IF(HU34=\"\",\"\",LA160)","v":0}]
["Lugano","Neuchatel Xamax",{"$f":"Veri!W14","v":"10-4"},"10","4",null,null,null,null,null,null,null,null,null,null,null,null,null,null,null,null,null,null,null,null,null,null,null,null,null,null,null,null,null,null,null,null,null,null,null,null,null,null,null,null,null,null,null,null,null,null,null,null,null,null,null,null,null,null,null,null,null,null,null,null,null,null,null,null,null,null,null,null,null,null,null,null,null,null,null,null,null,null,null,null,null,null,null,null,null,null,null,null,null,null,null,null,null,null,null,null,null,null,null,null,null,null,null,null,{"$f":"DF39","v":0},0,{"$f":"Veri!EB14","v":0},{"$error":"#VALUE!"},{"$error":"#VALUE!"},null,null,null,null,null,null,null,null,null,null,null,null,null,null,null,null,null,null,null,null,null,null,null,null,null,null,null,null,null,null,null,null,null,null,null,null,null,null,null,null,null,null,null,null,null,null,null,null,null,null,null,null,null,null,null,null,null,null,null,null,null,null,null,null,null,null,null,null,null,null,null,null,null,null,null,null,null,null,null,null,null,null,null,null,null,null,null,null,null,null,null,null,null,null,null,null,null,null,null,null,null,null,null,null,{"$f":"HK39","v":0},0,{"$f":"Veri!IG14","v":0},{"$error":"#VALUE!"},{"$error":"#VALUE!"}]
[]
[]
[]
[]
[]
[]
[]
[]
[]
[]
[null,null,null,{"$f":"D228+D229+D230+D231+D232+D233+D234+D235+D236+D238+D237+D239+D240+D241+D242","v":{"$error":"#VALUE!"}},{"$f":"E228+E229+E230+E231+E232+E233+E234+E235+E236+E238+E237+E239+E240+E241+E242","v":{"$error":"#VALUE!"}},null,null,null,null,null,null,null,null,null,null,null,null,null,null,null,null,null,null,null,null,null,null,null,null,null,null,null,null,null,null,null,null,null,null,null,null,null,null,null,null,null,null,null,null,null,null,null,null,null,null,null,null,null,null,null,null,null,null,null,null,null,null,null,null,null,null,null,null,null,null,null,null,null,null,null,null,null,null,null,null,null,null,null,null,null,null,null,null,null,null,null,null,null,null,null,null,null,null,null,null,null,null,null,null,null,null,null,{"$f":"DI228+DI229+DI230+DI231+DI232+DI233+DI234+DI235+DI236+DI238+DI237+DI239+DI240+DI241+DI242","v":{"$error":"#VALUE!"}},{"$f":"DJ228+DJ229+DJ230+DJ231+DJ232+DJ233+DJ234+DJ235+DJ236+DJ238+DJ237+DJ239+DJ240+DJ241+DJ242","v":{"$error":"#VALUE!"}},null,null,null,null,null,null,null,null,null,null,null,null,null,null,null,null,null,null,null,null,null,null,null,null,null,null,null,null,null,null,null,null,null,null,null,null,null,null,null,null,null,null,null,null,null,null,null,null,null,null,null,null,null,null,null,null,null,null,null,null,null,null,null,null,null,null,null,null,null,null,null,null,null,null,null,null,null,null,null,null,null,null,null,null,null,null,null,null,null,null,null,null,null,null,null,null,null,null,null,null,null,null,null,null,null,null,null,{"$f":"HN228+HN229+HN230+HN231+HN232+HN233+HN234+HN235+HN236+HN238+HN237+HN239+HN240+HN241+HN242","v":{"$error":"#VALUE!"}},{"$f":"HO228+HO229+HO230+HO231+HO232+HO233+HO234+HO235+HO236+HO238+HO237+HO239+HO240+HO241+HO242","v":{"$error":"#VALUE!"}}]
[null,null,null,{"$f":"D248/10","v":{"$error":"#VALUE!"}},{"$f":"E248/10","v":{"$error":"#VALUE!"}},null,null,null,null,null,null,null,null,null,null,null,null,null,null,null,null,null,null,null,null,null,null,null,null,null,null,null,null,null,null,null,null,null,null,null,null,null,null,null,null,null,null,null,null,null,null,null,null,null,null,null,null,null,null,null,null,null,null,null,null,null,null,null,null,null,null,null,null,null,null,null,null,null,null,null,null,null,null,null,null,null,null,null,null,null,null,null,null,null,null,null,null,null,null,null,null,null,null,null,null,null,null,null,null,null,null,null,{"$f":"DI248/10","v":{"$error":"#VALUE!"}},{"$f":"DJ248/10","v":{"$error":"#VALUE!"}},null,null,null,null,null,null,null,null,null,null,null,null,null,null,null,null,null,null,null,null,null,null,null,null,null,null,null,null,null,null,null,null,null,null,null,null,null,null,null,null,null,null,null,null,null,null,null,null,null,null,null,null,null,null,null,null,null,null,null,null,null,null,null,null,null,null,null,null,null,null,null,null,null,null,null,null,null,null,null,null,null,null,null,null,null,null,null,null,null,null,null,null,null,null,null,null,null,null,null,null,null,null,null,null,null,null,null,{"$f":"HN248/10","v":{"$error":"#VALUE!"}},{"$f":"HO248/10","v":{"$error":"#VALUE!"}}]

{"sheet":"ANDSIPRO","index":5,"n_rows":34,"n_cols":18,"rows_kept":34,"cut":false,"hidden":false,"merged":[[25,9,25,14],[28,2,28,7],[28,9,28,14],[1,14,2,15],[6,2,6,7],[6,9,6,14],[25,2,25,7],[15,6,16,10],[17,6,22,10],[7,2,10,7],[7,9,10,14],[3,4,3,9],[15,14,15,17],[16,14,16,17],[29,2,29,7],[29,9,29,14],[26,2,26,7],[26,9,26,14],[27,2,27,7],[27,9,27,14]]}
[]
[null,null,null,null,null,null,null,null,null,null,null,null,null,null,{"$f":"ANALIZANDSI!C132","v":"2019-02-27"}]
[]
[null,null,null,null,"VER. CLASSEUR"]
[]
[]
[]
[null,null,{"$f":"ANALIZANDSI!A132","v":"Thun"},null,null,null,null,null,null,{"$f":"ANALIZANDSI!B132","v":"Young Boys"}]
[]
[]
[]
[]
[]
[]
[]
[null,null,null,null,null,null,"Classeur1",null,null,null,null,null,null,null,"ORANLAR "]
[null,null,null,null,null,null,null,null,null,null,null,null,null,null,"ACILIS - KAPANIS ORANLARI"]
[null,null,null,null,null,null,{"$f":"CLAUS!AB34","v":"RISKLI"},null,null,null,null,null,null,null,"o.s","MS 1 ","MS X","MS 2"]
[null,null,null,null,null,null,null,null,null,null,null,null,null,null,"1",{"$f":"Bulten!AH11","v":1.91},{"$f":"Bulten!AH12","v":3.44},{"$f":"Bulten!AH13","v":3.47}]
[null,null,null,null,null,null,null,null,null,null,null,null,null,null,"1",{"$f":"Bulten!AH14","v":1.91},{"$f":"Bulten!AH15","v":3.49},{"$f":"Bulten!AH16","v":3.49}]
[]
[]
[]
[]
[null,null,null,null," a "]
[null,null,{"$f":"C8","v":"Thun"},null,null,null,null,null,null,{"$f":"J8","v":"Young Boys"}]
[null,null,{"$f":"ANALIZANDSI!LR28","v":"SON 10 MACIN  10   TANESI  GOL ATTI"},null,null,null,null,null,null,{"$f":"ANALIZANDSI!LZ28","v":"SON 10 MACIN  7   TANESI  GOL YEDI"}]
[null,null,{"$f":"ANALIZANDSI!LR29","v":"SON 10 MACIN  10   TANESI  GOL ATTI"},null,null,null,null,null,null,{"$f":"ANALIZANDSI!LZ29","v":"SON 10 MACIN  7   TANESI  GOL YEDI"}]
[null,null,{"$f":"ANALIZANDSI!LR30","v":"SON 10 MACIN  9  MACINDA  YENILMEDI  (BERABERLIKLER DAHIL)"},null,null,null,null,null,null,{"$f":"ANALIZANDSI!LZ30","v":"SON 10 MACIN  6   TANESI  MS 1,5 UST   BITTI"}]
[null,null,{"$f":"ANALIZANDSI!LR31","v":"SON 5 MACIN  4   TANESI  MS 1,5 UST   BITTI"},null,null,null,null,null,null,{"$f":"ANALIZANDSI!LZ31","v":"SON 5 MACIN  4   TANESI  GOL ATTI"}]
[]
[]
[]
[null,null,null,null,"Copyright © 2017 Tüm Hakları Saklıdır. - Andsi pro Analiz "]

{"sheet":"Analiz","index":6,"n_rows":18,"n_cols":16,"rows_kept":18,"cut":false,"hidden":false,"merged":[[1,15,1,17],[1,0,1,5]]}
[]
["VER. CLASSEUR",null,null,null,null,null,null,null,null,null,null,null,null,null,null,{"$f":"TODAY()","v":"2019-02-27"}]
[null,"BAHIS SIRKETINI SECINIZ ",null,null,null,null,"ANALIZ ICIN MAC SECINIZ "]
[]
[]
[]
[]
[]
[]
[]
[]
[]
[]
[]
[]
[]
[]
["Copyright © 2017 Tüm Hakları Saklıdır. - Andsi pro Analiz "]

{"sheet":"KAYIT","index":7,"n_rows":12,"n_cols":5,"rows_kept":12,"cut":false,"hidden":false,"merged":[]}
["EV SAHIBI","DEPLASMAN","TARIH","TAHMIN","SONUC"]
["Malahide United","1Liffeys Pearse","2019-02-27","2,5 UST"]
["Glebe North FC","Leixlip United","2019-02-27","2,5 UST"]
["Crusaders Reserves","Glenavon Reserves","2019-02-27","2,5 UST"]
["Ballymena Utd Reserves","Linfield Reserves","2019-02-27","2,5 UST"]
["Feyenoord1","AFC Ajax","2019-02-27","2,5 UST"]
["Taunton Town","Swindon Supermarine","2019-02-27","2,5 UST"]
["Saint Johnstone","Hibernian","2019-02-27","3,5 ALT"]
["Heart of Midlothian","Celtic FC","2019-02-27","2,5 ALT"]
["FC Sion","Basel","2019-02-27","1,5 UST"]
["Deportivo Pasto","La Equidad","2019-02-27","3,5 ALT"]
["Dunarea Calarasi","FC Astra Giurgiu","2019-02-27","3,5 ALT"]

{"sheet":"Data","index":8,"n_rows":43,"n_cols":13,"rows_kept":43,"cut":false,"hidden":false,"merged":[[24,2,24,5],[24,9,24,12],[29,0,30,5],[31,0,32,0],[31,1,32,1],[31,2,32,2],[31,3,32,3],[31,4,32,4],[31,5,32,5],[2,9,3,9],[2,10,3,10],[2,11,3,11],[2,12,3,12],[0,0,1,5],[0,7,1,12],[2,0,3,0],[2,1,3,1],[2,2,3,2],[2,3,3,3],[2,4,3,4],[2,5,3,5],[2,7,3,7],[2,8,3,8]]}
[{"$f":"C25","v":{"$error":"#REF!"}},null,null,null,null,null,null,{"$f":"J25","v":{"$error":"#REF!"}}]
[]
["TARİH","LİG","İY","EV SAHİBİ","MS","DEPLASMAN","T.M.S.","TARİH","LİG","İY","EV SAHİBİ","MS","DEPLASMAN"]
[]
[0,{"$f":"İstatistik!B9","v":{"$error":"#N/A"}},{"$f":"İstatistik!E9","v":{"$error":"#N/A"}},{"$f":"İstatistik!C9","v":{"$error":"#N/A"}},{"$f":"İstatistik!F9","v":{"$error":"#N/A"}},{"$f":"İstatistik!D9","v":{"$error":"#N/A"}},1,null,{"$f":"İstatistik!G9","v":{"$error":"#N/A"}},{"$f":"İstatistik!J9","v":{"$error":"#N/A"}},{"$f":"İstatistik!H9","v":{"$error":"#N/A"}},{"$f":"İstatistik!K9","v":{"$error":"#N/A"}},{"$f":"İstatistik!I9","v":{"$error":"#N/A"}}]
[0,{"$f":"İstatistik!B10","v":{"$error":"#N/A"}},{"$f":"İstatistik!E10","v":{"$error":"#N/A"}},{"$f":"İstatistik!C10","v":{"$error":"#N/A"}},{"$f":"İstatistik!F10","v":{"$error":"#N/A"}},{"$f":"İstatistik!D10","v":{"$error":"#N/A"}},2,null,{"$f":"İstatistik!G10","v":{"$error":"#N/A"}},{"$f":"İstatistik!J10","v":{"$error":"#N/A"}},{"$f":"İstatistik!H10","v":{"$error":"#N/A"}},{"$f":"İstatistik!K10","v":{"$error":"#N/A"}},{"$f":"İstatistik!I10","v":{"$error":"#N/A"}}]
[0,{"$f":"İstatistik!B11","v":{"$error":"#N/A"}},{"$f":"İstatistik!E11","v":{"$error":"#N/A"}},{"$f":"İstatistik!C11","v":{"$error":"#N/A"}},{"$f":"İstatistik!F11","v":{"$error":"#N/A"}},{"$f":"İstatistik!D11","v":{"$error":"#N/A"}},3,null,{"$f":"İstatistik!G11","v":{"$error":"#N/A"}},{"$f":"İstatistik!J11","v":{"$error":"#N/A"}},{"$f":"İstatistik!H11","v":{"$error":"#N/A"}},{"$f":"İstatistik!K11","v":{"$error":"#N/A"}},{"$f":"İstatistik!I11","v":{"$error":"#N/A"}}]
[0,{"$f":"İstatistik!B12","v":{"$error":"#N/A"}},{"$f":"İstatistik!E12","v":{"$error":"#N/A"}},{"$f":"İstatistik!C12","v":{"$error":"#N/A"}},{"$f":"İstatistik!F12","v":{"$error":"#N/A"}},{"$f":"İstatistik!D12","v":{"$error":"#N/A"}},4,null,{"$f":"İstatistik!G12","v":{"$error":"#N/A"}},{"$f":"İstatistik!J12","v":{"$error":"#N/A"}},{"$f":"İstatistik!H12","v":{"$error":"#N/A"}},{"$f":"İstatistik!K12","v":{"$error":"#N/A"}},{"$f":"İstatistik!I12","v":{"$error":"#N/A"}}]
[0,{"$f":"İstatistik!B13","v":{"$error":"#N/A"}},{"$f":"İstatistik!E13","v":{"$error":"#N/A"}},{"$f":"İstatistik!C13","v":{"$error":"#N/A"}},{"$f":"İstatistik!F13","v":{"$error":"#N/A"}},{"$f":"İstatistik!D13","v":{"$error":"#N/A"}},5,null,{"$f":"İstatistik!G13","v":{"$error":"#N/A"}},{"$f":"İstatistik!J13","v":{"$error":"#N/A"}},{"$f":"İstatistik!H13","v":{"$error":"#N/A"}},{"$f":"İstatistik!K13","v":{"$error":"#N/A"}},{"$f":"İstatistik!I13","v":{"$error":"#N/A"}}]
[0,{"$f":"İstatistik!B14","v":{"$error":"#N/A"}},{"$f":"İstatistik!E14","v":{"$error":"#N/A"}},{"$f":"İstatistik!C14","v":{"$error":"#N/A"}},{"$f":"İstatistik!F14","v":{"$error":"#N/A"}},{"$f":"İstatistik!D14","v":{"$error":"#N/A"}},6,null,{"$f":"İstatistik!G14","v":{"$error":"#N/A"}},{"$f":"İstatistik!J14","v":{"$error":"#N/A"}},{"$f":"İstatistik!H14","v":{"$error":"#N/A"}},{"$f":"İstatistik!K14","v":{"$error":"#N/A"}},{"$f":"İstatistik!I14","v":{"$error":"#N/A"}}]
[0,{"$f":"İstatistik!B15","v":{"$error":"#N/A"}},{"$f":"İstatistik!E15","v":{"$error":"#N/A"}},{"$f":"İstatistik!C15","v":{"$error":"#N/A"}},{"$f":"İstatistik!F15","v":{"$error":"#N/A"}},{"$f":"İstatistik!D15","v":{"$error":"#N/A"}},7,null,{"$f":"İstatistik!G15","v":{"$error":"#N/A"}},{"$f":"İstatistik!J15","v":{"$error":"#N/A"}},{"$f":"İstatistik!H15","v":{"$error":"#N/A"}},{"$f":"İstatistik!K15","v":{"$error":"#N/A"}},{"$f":"İstatistik!I15","v":{"$error":"#N/A"}}]
[0,{"$f":"İstatistik!B16","v":{"$error":"#N/A"}},{"$f":"İstatistik!E16","v":{"$error":"#N/A"}},{"$f":"İstatistik!C16","v":{"$error":"#N/A"}},{"$f":"İstatistik!F16","v":{"$error":"#N/A"}},{"$f":"İstatistik!D16","v":{"$error":"#N/A"}},8,null,{"$f":"İstatistik!G16","v":{"$error":"#N/A"}},{"$f":"İstatistik!J16","v":{"$error":"#N/A"}},{"$f":"İstatistik!H16","v":{"$error":"#N/A"}},{"$f":"İstatistik!K16","v":{"$error":"#N/A"}},{"$f":"İstatistik!I16","v":{"$error":"#N/A"}}]
[0,{"$f":"İstatistik!B17","v":{"$error":"#N/A"}},{"$f":"İstatistik!E17","v":{"$error":"#N/A"}},{"$f":"İstatistik!C17","v":{"$error":"#N/A"}},{"$f":"İstatistik!F17","v":{"$error":"#N/A"}},{"$f":"İstatistik!D17","v":{"$error":"#N/A"}},9,null,{"$f":"İstatistik!G17","v":{"$error":"#N/A"}},{"$f":"İstatistik!J17","v":{"$error":"#N/A"}},{"$f":"İstatistik!H17","v":{"$error":"#N/A"}},{"$f":"İstatistik!K17","v":{"$error":"#N/A"}},{"$f":"İstatistik!I17","v":{"$error":"#N/A"}}]
[0,{"$f":"İstatistik!B18","v":{"$error":"#N/A"}},{"$f":"İstatistik!E18","v":{"$error":"#N/A"}},{"$f":"İstatistik!C18","v":{"$error":"#N/A"}},{"$f":"İstatistik!F18","v":{"$error":"#N/A"}},{"$f":"İstatistik!D18","v":{"$error":"#N/A"}},10,null,{"$f":"İstatistik!G18","v":{"$error":"#N/A"}},{"$f":"İstatistik!J18","v":{"$error":"#N/A"}},{"$f":"İstatistik!H18","v":{"$error":"#N/A"}},{"$f":"İstatistik!K18","v":{"$error":"#N/A"}},{"$f":"İstatistik!I18","v":{"$error":"#N/A"}}]
[0,{"$f":"İstatistik!B19","v":{"$error":"#N/A"}},{"$f":"İstatistik!E19","v":{"$error":"#N/A"}},{"$f":"İstatistik!C19","v":{"$error":"#N/A"}},{"$f":"İstatistik!F19","v":{"$error":"#N/A"}},{"$f":"İstatistik!D19","v":{"$error":"#N/A"}},11,null,{"$f":"İstatistik!G19","v":{"$error":"#N/A"}},{"$f":"İstatistik!J19","v":{"$error":"#N/A"}},{"$f":"İstatistik!H19","v":{"$error":"#N/A"}},{"$f":"İstatistik!K19","v":{"$error":"#N/A"}},{"$f":"İstatistik!I19","v":{"$error":"#N/A"}}]
[0,{"$f":"İstatistik!B20","v":{"$error":"#N/A"}},{"$f":"İstatistik!E20","v":{"$error":"#N/A"}},{"$f":"İstatistik!C20","v":{"$error":"#N/A"}},{"$f":"İstatistik!F20","v":{"$error":"#N/A"}},{"$f":"İstatistik!D20","v":{"$error":"#N/A"}},12,null,{"$f":"İstatistik!G20","v":{"$error":"#N/A"}},{"$f":"İstatistik!J20","v":{"$error":"#N/A"}},{"$f":"İstatistik!H20","v":{"$error":"#N/A"}},{"$f":"İstatistik!K20","v":{"$error":"#N/A"}},{"$f":"İstatistik!I20","v":{"$error":"#N/A"}}]
[0,{"$f":"İstatistik!B21","v":{"$error":"#N/A"}},{"$f":"İstatistik!E21","v":{"$error":"#N/A"}},{"$f":"İstatistik!C21","v":{"$error":"#N/A"}},{"$f":"İstatistik!F21","v":{"$error":"#N/A"}},{"$f":"İstatistik!D21","v":{"$error":"#N/A"}},13,null,{"$f":"İstatistik!G21","v":{"$error":"#N/A"}},{"$f":"İstatistik!J21","v":{"$error":"#N/A"}},{"$f":"İstatistik!H21","v":{"$error":"#N/A"}},{"$f":"İstatistik!K21","v":{"$error":"#N/A"}},{"$f":"İstatistik!I21","v":{"$error":"#N/A"}}]
[0,{"$f":"İstatistik!B22","v":{"$error":"#N/A"}},{"$f":"İstatistik!E22","v":{"$error":"#N/A"}},{"$f":"İstatistik!C22","v":{"$error":"#N/A"}},{"$f":"İstatistik!F22","v":{"$error":"#N/A"}},{"$f":"İstatistik!D22","v":{"$error":"#N/A"}},14,null,{"$f":"İstatistik!G22","v":{"$error":"#N/A"}},{"$f":"İstatistik!J22","v":{"$error":"#N/A"}},{"$f":"İstatistik!H22","v":{"$error":"#N/A"}},{"$f":"İstatistik!K22","v":{"$error":"#N/A"}},{"$f":"İstatistik!I22","v":{"$error":"#N/A"}}]
[0,{"$f":"İstatistik!B23","v":{"$error":"#N/A"}},{"$f":"İstatistik!E23","v":{"$error":"#N/A"}},{"$f":"İstatistik!C23","v":{"$error":"#N/A"}},{"$f":"İstatistik!F23","v":{"$error":"#N/A"}},{"$f":"İstatistik!D23","v":{"$error":"#N/A"}},15,null,{"$f":"İstatistik!G23","v":{"$error":"#N/A"}},{"$f":"İstatistik!J23","v":{"$error":"#N/A"}},{"$f":"İstatistik!H23","v":{"$error":"#N/A"}},{"$f":"İstatistik!K23","v":{"$error":"#N/A"}},{"$f":"İstatistik!I23","v":{"$error":"#N/A"}}]
[0,{"$f":"İstatistik!B24","v":{"$error":"#N/A"}},{"$f":"İstatistik!E24","v":{"$error":"#N/A"}},{"$f":"İstatistik!C24","v":{"$error":"#N/A"}},{"$f":"İstatistik!F24","v":{"$error":"#N/A"}},{"$f":"İstatistik!D24","v":{"$error":"#N/A"}},16,null,{"$f":"İstatistik!G24","v":{"$error":"#N/A"}},{"$f":"İstatistik!J24","v":{"$error":"#N/A"}},{"$f":"İstatistik!H24","v":{"$error":"#N/A"}},{"$f":"İstatistik!K24","v":{"$error":"#N/A"}},{"$f":"İstatistik!I24","v":{"$error":"#N/A"}}]
[0,{"$f":"İstatistik!B25","v":{"$error":"#N/A"}},{"$f":"İstatistik!E25","v":{"$error":"#N/A"}},{"$f":"İstatistik!C25","v":{"$error":"#N/A"}},{"$f":"İstatistik!F25","v":{"$error":"#N/A"}},{"$f":"İstatistik!D25","v":{"$error":"#N/A"}},17,null,{"$f":"İstatistik!G25","v":{"$error":"#N/A"}},{"$f":"İstatistik!J25","v":{"$error":"#N/A"}},{"$f":"İstatistik!H25","v":{"$error":"#N/A"}},{"$f":"İstatistik!K25","v":{"$error":"#N/A"}},{"$f":"İstatistik!I25","v":{"$error":"#N/A"}}]
[0,{"$f":"İstatistik!B26","v":{"$error":"#N/A"}},{"$f":"İstatistik!E26","v":{"$error":"#N/A"}},{"$f":"İstatistik!C26","v":{"$error":"#N/A"}},{"$f":"İstatistik!F26","v":{"$error":"#N/A"}},{"$f":"İstatistik!D26","v":{"$error":"#N/A"}},18,null,{"$f":"İstatistik!G26","v":{"$error":"#N/A"}},{"$f":"İstatistik!J26","v":{"$error":"#N/A"}},{"$f":"İstatistik!H26","v":{"$error":"#N/A"}},{"$f":"İstatistik!K26","v":{"$error":"#N/A"}},{"$f":"İstatistik!I26","v":{"$error":"#N/A"}}]
[0,{"$f":"İstatistik!B27","v":{"$error":"#N/A"}},{"$f":"İstatistik!E27","v":{"$error":"#N/A"}},{"$f":"İstatistik!C27","v":{"$error":"#N/A"}},{"$f":"İstatistik!F27","v":{"$error":"#N/A"}},{"$f":"İstatistik!D27","v":{"$error":"#N/A"}},19,null,{"$f":"İstatistik!G27","v":{"$error":"#N/A"}},{"$f":"İstatistik!J27","v":{"$error":"#N/A"}},{"$f":"İstatistik!H27","v":{"$error":"#N/A"}},{"$f":"İstatistik!K27","v":{"$error":"#N/A"}},{"$f":"İstatistik!I27","v":{"$error":"#N/A"}}]
[0,{"$f":"İstatistik!B28","v":{"$error":"#N/A"}},{"$f":"İstatistik!E28","v":{"$error":"#N/A"}},{"$f":"İstatistik!C28","v":{"$error":"#N/A"}},{"$f":"İstatistik!F28","v":{"$error":"#N/A"}},{"$f":"İstatistik!D28","v":{"$error":"#N/A"}},20,null,{"$f":"İstatistik!G28","v":{"$error":"#N/A"}},{"$f":"İstatistik!J28","v":{"$error":"#N/A"}},{"$f":"İstatistik!H28","v":{"$error":"#N/A"}},{"$f":"İstatistik!K28","v":{"$error":"#N/A"}},{"$f":"İstatistik!I28","v":{"$error":"#N/A"}}]
["LİG",null,{"$f":"İstatistik!B3","v":{"$error":"#REF!"}},null,null,null,null,"LİG",null,{"$f":"İstatistik!I3","v":{"$error":"#REF!"}}]
[{"$f":"IF(E26=\"L\",B25,IF(E26=\"K\",B26,E26))","v":{"$error":"#REF!"}},null,null,null,{"$f":"#REF!","v":{"$error":"#REF!"}},null,null,{"$f":"IF(E26=\"L\",I25,IF(E26=\"K\",I26,E26))","v":{"$error":"#REF!"}}]
["Previous Scores Statistics"]
[]
[]
[{"$f":"A1&\" - \"&H1","v":{"$error":"#REF!"}}]
[]
["TARİH","LİG","İY","EV SAHİBİ","MS","DEPLASMAN"]
[]
[0,{"$f":"İstatistik!B41","v":{"$error":"#N/A"}},{"$f":"İstatistik!E41","v":{"$error":"#N/A"}},{"$f":"İstatistik!C41","v":{"$error":"#N/A"}},{"$f":"İstatistik!F41","v":{"$error":"#N/A"}},{"$f":"İstatistik!D41","v":{"$error":"#N/A"}}]
[0,{"$f":"İstatistik!B42","v":{"$error":"#N/A"}},{"$f":"İstatistik!E42","v":{"$error":"#N/A"}},{"$f":"İstatistik!C42","v":{"$error":"#N/A"}},{"$f":"İstatistik!F42","v":{"$error":"#N/A"}},{"$f":"İstatistik!D42","v":{"$error":"#N/A"}}]
[0,{"$f":"İstatistik!B43","v":{"$error":"#N/A"}},{"$f":"İstatistik!E43","v":{"$error":"#N/A"}},{"$f":"İstatistik!C43","v":{"$error":"#N/A"}},{"$f":"İstatistik!F43","v":{"$error":"#N/A"}},{"$f":"İstatistik!D43","v":{"$error":"#N/A"}}]
[0,{"$f":"İstatistik!B44","v":{"$error":"#N/A"}},{"$f":"İstatistik!E44","v":{"$error":"#N/A"}},{"$f":"İstatistik!C44","v":{"$error":"#N/A"}},{"$f":"İstatistik!F44","v":{"$error":"#N/A"}},{"$f":"İstatistik!D44","v":{"$error":"#N/A"}}]
[0,{"$f":"İstatistik!B45","v":{"$error":"#N/A"}},{"$f":"İstatistik!E45","v":{"$error":"#N/A"}},{"$f":"İstatistik!C45","v":{"$error":"#N/A"}},{"$f":"İstatistik!F45","v":{"$error":"#N/A"}},{"$f":"İstatistik!D45","v":{"$error":"#N/A"}}]
[0,{"$f":"İstatistik!B46","v":{"$error":"#N/A"}},{"$f":"İstatistik!E46","v":{"$error":"#N/A"}},{"$f":"İstatistik!C46","v":{"$error":"#N/A"}},{"$f":"İstatistik!F46","v":{"$error":"#N/A"}},{"$f":"İstatistik!D46","v":{"$error":"#N/A"}}]
[0,{"$f":"İstatistik!B47","v":{"$error":"#N/A"}},{"$f":"İstatistik!E47","v":{"$error":"#N/A"}},{"$f":"İstatistik!C47","v":{"$error":"#N/A"}},{"$f":"İstatistik!F47","v":{"$error":"#N/A"}},{"$f":"İstatistik!D47","v":{"$error":"#N/A"}}]
[0,{"$f":"İstatistik!B48","v":{"$error":"#N/A"}},{"$f":"İstatistik!E48","v":{"$error":"#N/A"}},{"$f":"İstatistik!C48","v":{"$error":"#N/A"}},{"$f":"İstatistik!F48","v":{"$error":"#N/A"}},{"$f":"İstatistik!D48","v":{"$error":"#N/A"}}]
[0,{"$f":"İstatistik!B49","v":{"$error":"#N/A"}},{"$f":"İstatistik!E49","v":{"$error":"#N/A"}},{"$f":"İstatistik!C49","v":{"$error":"#N/A"}},{"$f":"İstatistik!F49","v":{"$error":"#N/A"}},{"$f":"İstatistik!D49","v":{"$error":"#N/A"}}]
[0,{"$f":"İstatistik!B50","v":{"$error":"#N/A"}},{"$f":"İstatistik!E50","v":{"$error":"#N/A"}},{"$f":"İstatistik!C50","v":{"$error":"#N/A"}},{"$f":"İstatistik!F50","v":{"$error":"#N/A"}},{"$f":"İstatistik!D50","v":{"$error":"#N/A"}}]

{"sheet":"İstatistik","index":9,"n_rows":159,"n_cols":27,"rows_kept":159,"cut":false,"hidden":false,"merged":[[0,21,0,26],[1,1,1,10],[1,14,1,19],[1,21,1,26],[2,1,3,3],[2,4,2,7],[2,8,3,10],[3,4,3,7],[0,14,0,19],[37,1,38,5],[37,6,38,10],[4,14,4,19],[4,21,4,26],[5,1,6,5],[5,6,6,10],[7,14,7,18],[7,21,7,25],[33,1,33,10],[34,1,35,3],[34,4,34,7],[34,8,35,10],[35,4,35,7]]}
[null,null,null,null,null,null,null,null,null,null,null,null,null,null,"MAÇ SONU ORANLARI",null,null,null,null,null,null,"İLK YARI ORANLARI"]
[null,"TAKIMLAR",null,null,null,null,null,null,null,null,null,null,null,null,"AÇILIŞ ORANLARI",null,null,null,null,null,null,"AÇILIŞ ORANLARI"]
[null,{"$f":"TRIM(MID(E3,1,FIND(\"VS\",E3,1)-3))","v":{"$error":"#REF!"}},null,null,{"$f":"INDEX(Veri!#REF!,MATCH(2,Veri!#REF!,0),1)","v":{"$error":"#REF!"}},null,null,null,{"$f":"TRIM(MID(E3,FIND(\"VS\",E3,1)+3,LEN(E3)))","v":{"$error":"#REF!"}},null,null,null,null,null,"O.S.","Tarih","Statü","MS 1 ","MS X","MS 2",null,"O.S.","Tarih","Statü","MS 1 ","MS X","MS 2"]
[null,null,null,null,{"$f":"MID(LEFT(INDEX(Veri!#REF!,MATCH(1,Veri!#REF!,0),1),FIND(\"]\",INDEX(Veri!#REF!,MATCH(1,Veri!#REF!,0),1),1)-1),2,50)","v":{"$error":"#REF!"}},null,null,null,null,null,null,null,null,null,1,{"$f":"IFERROR(IF(INDEX(Veri!$AA$31:$AA$500,MATCH(O4,Veri!$AI$31:$AI$500,0))<>\"\",INDEX(Veri!$AA$31:$AA$500,MATCH(O4,Veri!$AI$31:$AI$500,0)),\"\"),\"\")","v":""},{"$f":"IFERROR(IF(INDEX(Veri!$AG$31:$AG$500,MATCH(O4,Veri!$AI$31:$AI$500,0))<>\"\",INDEX(Veri!$AG$31:$AG$500,MATCH(O4,Veri!$AI$31:$AI$500,0)),\"\"),\"\")","v":""},{"$f":"IFERROR(IF(INDEX(Veri!$AC$31:$AC$500,MATCH(O4,Veri!$AI$31:$AI$500,0))<>\"\",INDEX(Veri!$AC$31:$AC$500,MATCH(O4,Veri!$AI$31:$AI$500,0)),\"\"),\"\")","v":""},{"$f":"IFERROR(IF(INDEX(Veri!$AD$31:$AD$500,MATCH(O4,Veri!$AI$31:$AI$500,0))<>\"\",INDEX(Veri!$AD$31:$AD$500,MATCH(O4,Veri!$AI$31:$AI$500,0)),\"\"),\"\")","v":""},{"$f":"IFERROR(IF(INDEX(Veri!$AE$31:$AE$500,MATCH(O4,Veri!$AI$31:$AI$500,0))<>\"\",INDEX(Veri!$AE$31:$AE$500,MATCH(O4,Veri!$AI$31:$AI$500,0)),\"\"),\"\")","v":""},null,1,{"$f":"IFERROR(IF(INDEX(Veri!$AK$31:$AK$500,MATCH(V4,Veri!$AS$31:$AS$500,0))<>\"\",INDEX(Veri!$AK$31:$AK$500,MATCH(V4,Veri!$AS$31:$AS$500,0)),\"\"),\"\")","v":""},{"$f":"IFERROR(IF(INDEX(Veri!$AQ$31:$AQ$500,MATCH(V4,Veri!$AS$31:$AS$500,0))<>\"\",INDEX(Veri!$AQ$31:$AQ$500,MATCH(V4,Veri!$AS$31:$AS$500,0)),\"\"),\"\")","v":""},{"$f":"IFERROR(IF(INDEX(Veri!$AM$31:$AM$500,MATCH(V4,Veri!$AS$31:$AS$500,0))<>\"\",INDEX(Veri!$AM$31:$AM$500,MATCH(V4,Veri!$AS$31:$AS$500,0)),\"\"),\"\")","v":""},{"$f":"IFERROR(IF(INDEX(Veri!$AN$31:$AN$500,MATCH(V4,Veri!$AS$31:$AS$500,0))<>\"\",INDEX(Veri!$AN$31:$AN$500,MATCH(V4,Veri!$AS$31:$AS$500,0)),\"\"),\"\")","v":""},{"$f":"IFERROR(IF(INDEX(Veri!$AO$31:$AO$500,MATCH(V4,Veri!$AS$31:$AS$500,0))<>\"\",INDEX(Veri!$AO$31:$AO$500,MATCH(V4,Veri!$AS$31:$AS$500,0)),\"\"),\"\")","v":""}]
[null,null,null,null,null,null,null,null,null,null,null,null,null,null,"KAPANIŞ ORANLARI",null,null,null,null,null,null,"KAPANIŞ ORANLARI"]
[null,{"$f":"CONCATENATE(B3,\" Oynadığı Son Maçlar\")","v":{"$error":"#REF!"}},null,null,null,null,{"$f":"CONCATENATE(I3,\" Oynadığı Son Maçlar\")","v":{"$error":"#REF!"}},null,null,null,null,null,null,null,"O.S.","Tarih","Statü","MS 1 ","MS X","MS 2",null,"O.S.","Tarih","Statü","MS 1 ","MS X","MS 2"]
[null,null,null,null,null,null,null,null,null,null,null,null,null,null,{"$f":"MAX(Veri!AI31:AI500)","v":0},{"$f":"IFERROR(IF(INDEX(Veri!$AA$31:$AA$500,MATCH(O7,Veri!$AI$31:$AI$500,0))<>\"\",INDEX(Veri!$AA$31:$AA$500,MATCH(O7,Veri!$AI$31:$AI$500,0)),\"\"),\"\")","v":""},{"$f":"IFERROR(IF(INDEX(Veri!$AG$31:$AG$500,MATCH(O7,Veri!$AI$31:$AI$500,0))<>\"\",INDEX(Veri!$AG$31:$AG$500,MATCH(O7,Veri!$AI$31:$AI$500,0)),\"\"),\"\")","v":""},{"$f":"IFERROR(IF(INDEX(Veri!$AC$31:$AC$500,MATCH(O7,Veri!$AI$31:$AI$500,0))<>\"\",INDEX(Veri!$AC$31:$AC$500,MATCH(O7,Veri!$AI$31:$AI$500,0)),\"\"),\"\")","v":""},{"$f":"IFERROR(IF(INDEX(Veri!$AD$31:$AD$500,MATCH(O7,Veri!$AI$31:$AI$500,0))<>\"\",INDEX(Veri!$AD$31:$AD$500,MATCH(O7,Veri!$AI$31:$AI$500,0)),\"\"),\"\")","v":""},{"$f":"IFERROR(IF(INDEX(Veri!$AE$31:$AE$500,MATCH(O7,Veri!$AI$31:$AI$500,0))<>\"\",INDEX(Veri!$AE$31:$AE$500,MATCH(O7,Veri!$AI$31:$AI$500,0)),\"\"),\"\")","v":""},null,{"$f":"MAX(Veri!AS31:AS500)","v":0},{"$f":"IFERROR(IF(INDEX(Veri!$AK$31:$AK$500,MATCH(V7,Veri!$AS$31:$AS$500,0))<>\"\",INDEX(Veri!$AK$31:$AK$500,MATCH(V7,Veri!$AS$31:$AS$500,0)),\"\"),\"\")","v":""},{"$f":"IFERROR(IF(INDEX(Veri!$AQ$31:$AQ$500,MATCH(V7,Veri!$AS$31:$AS$500,0))<>\"\",INDEX(Veri!$AQ$31:$AQ$500,MATCH(V7,Veri!$AS$31:$AS$500,0)),\"\"),\"\")","v":""},{"$f":"IFERROR(IF(INDEX(Veri!$AM$31:$AM$500,MATCH(V7,Veri!$AS$31:$AS$500,0))<>\"\",INDEX(Veri!$AM$31:$AM$500,MATCH(V7,Veri!$AS$31:$AS$500,0)),\"\"),\"\")","v":""},{"$f":"IFERROR(IF(INDEX(Veri!$AN$31:$AN$500,MATCH(V7,Veri!$AS$31:$AS$500,0))<>\"\",INDEX(Veri!$AN$31:$AN$500,MATCH(V7,Veri!$AS$31:$AS$500,0)),\"\"),\"\")","v":""},{"$f":"IFERROR(IF(INDEX(Veri!$AO$31:$AO$500,MATCH(V7,Veri!$AS$31:$AS$500,0))<>\"\",INDEX(Veri!$AO$31:$AO$500,MATCH(V7,Veri!$AS$31:$AS$500,0)),\"\"),\"\")","v":""}]
[null,"Lig","Ev Sahibi","Deplasman","İY","MS","Lig","Ev Sahibi","Deplasman","İY","MS",null,null,null,"BÜTÜN ORANLAR",null,null,null,null,{"$f":"COUNTIF(Q10:Q159,\">\"\"\")","v":0},null,"BÜTÜN ORANLAR",null,null,null,null,{"$f":"COUNTIF(X10:X159,\">\"\"\")","v":0}]
[null,{"$f":"IF(INDEX(Veri!$B$68:$B$92,MATCH(\"League\",Veri!$B$68:$B$92,0)+2,1)<>\"\",INDEX(Veri!$B$68:$B$92,MATCH(\"League\",Veri!$B$68:$B$92,0)+2,1),\"\")","v":{"$error":"#N/A"}},{"$f":"IF(INDEX(Veri!D$68:$D$92,MATCH(\"League\",Veri!B$68:$B$92,0)+2,1)<>\"\",IF(COUNTIF(INDEX(Veri!D$68:$D$92,MATCH(\"League\",Veri!B$68:$B$92,0)+2,1),\"*\"&$B$3&\"*\"),$B$3,INDEX(Veri!D$68:$D$92,MATCH(\"League\",Veri!B$68:$B$92,0)+2,1)),\"\")","v":{"$error":"#N/A"}},{"$f":"IF(INDEX(Veri!H$68:$H$92,MATCH(\"League\",Veri!B$68:$B$92,0)+2,1)<>\"\",IF(COUNTIF(INDEX(Veri!H$68:$H$92,MATCH(\"League\",Veri!B$68:$B$92,0)+2,1),\"*\"&$B$3&\"*\"),$B$3,INDEX(Veri!H$68:$H$92,MATCH(\"League\",Veri!B$68:$B$92,0)+2,1)),\"\")","v":{"$error":"#N/A"}},{"$f":"IF(INDEX(Veri!F$68:$F$92,MATCH(\"League\",Veri!B$68:$B$92,0)+2,1)<>\"\",INDEX(Veri!F$68:$F$92,MATCH(\"League\",Veri!B$68:$B$92,0)+2,1),\"\")","v":{"$error":"#N/A"}},{"$f":"IF(INDEX(Veri!E$68:$E$92,MATCH(\"League\",Veri!B$68:$B$92,0)+2,1)<>\"\",INDEX(Veri!E$68:$E$92,MATCH(\"League\",Veri!B$68:$B$92,0)+2,1),\"\")","v":{"$error":"#N/A"}},{"$f":"IF(INDEX(Veri!B$94:$B$118,MATCH(\"League\",Veri!B$94:$B$118,0)+2,1)<>\"\",INDEX(Veri!B$94:$B$118,MATCH(\"League\",Veri!B$94:$B$118,0)+2,1),\"\")","v":{"$error":"#N/A"}},{"$f":"IF(INDEX(Veri!D$94:$D$118,MATCH(\"League\",Veri!B$94:$B$118,0)+2,1)<>\"\",IF(COUNTIF(INDEX(Veri!D$94:$D$118,MATCH(\"League\",Veri!B$94:$B$118,0)+2,1),\"*\"&$I$3&\"*\"),$I$3,INDEX(Veri!D$94:$D$118,MATCH(\"League\",Veri!B$94:$B$118,0)+2,1)),\"\")","v":{"$error":"#N/A"}},{"$f":"IF(INDEX(Veri!H$94:$H$118,MATCH(\"League\",Veri!B$94:$B$118,0)+2,1)<>\"\",IF(COUNTIF(INDEX(Veri!H$94:$H$118,MATCH(\"League\",Veri!B$94:$B$118,0)+2,1),\"*\"&$I$3&\"*\"),$I$3,INDEX(Veri!H$94:$H$118,MATCH(\"League\",Veri!B$94:$B$118,0)+2,1)),\"\")","v":{"$error":"#N/A"}},{"$f":"IF(INDEX(Veri!F$94:$F$118,MATCH(\"League\",Veri!B$94:$B$118,0)+2,1)<>\"\",INDEX(Veri!F$94:$F$118,MATCH(\"League\",Veri!B$94:$B$118,0)+2,1),\"\")","v":{"$error":"#N/A"}},{"$f":"IF(INDEX(Veri!E$94:$E$118,MATCH(\"League\",Veri!B$94:$B$118,0)+2,1)<>\"\",INDEX(Veri!E$94:$E$118,MATCH(\"League\",Veri!B$94:$B$118,0)+2,1),\"\")","v":{"$error":"#N/A"}},null,null,null,"O.S.","Tarih","Statü","MS 1 ","MS X","MS 2",null,"O.S.","Tarih","Statü","MS 1 ","MS X","MS 2"]
[null,{"$f":"IF(INDEX(Veri!$B$68:$B$92,MATCH(\"League\",Veri!$B$68:$B$92,0)+3,1)<>\"\",INDEX(Veri!$B$68:$B$92,MATCH(\"League\",Veri!$B$68:$B$92,0)+3,1),\"\")","v":{"$error":"#N/A"}},{"$f":"IF(INDEX(Veri!D$68:$D$92,MATCH(\"League\",Veri!B$68:$B$92,0)+3,1)<>\"\",IF(COUNTIF(INDEX(Veri!D$68:$D$92,MATCH(\"League\",Veri!B$68:$B$92,0)+3,1),\"*\"&$B$3&\"*\"),$B$3,INDEX(Veri!D$68:$D$92,MATCH(\"League\",Veri!B$68:$B$92,0)+3,1)),\"\")","v":{"$error":"#N/A"}},{"$f":"IF(INDEX(Veri!H$68:$H$92,MATCH(\"League\",Veri!B$68:$B$92,0)+3,1)<>\"\",IF(COUNTIF(INDEX(Veri!H$68:$H$92,MATCH(\"League\",Veri!B$68:$B$92,0)+3,1),\"*\"&$B$3&\"*\"),$B$3,INDEX(Veri!H$68:$H$92,MATCH(\"League\",Veri!B$68:$B$92,0)+3,1)),\"\")","v":{"$error":"#N/A"}},{"$f":"IF(INDEX(Veri!F$68:$F$92,MATCH(\"League\",Veri!B$68:$B$92,0)+3,1)<>\"\",INDEX(Veri!F$68:$F$92,MATCH(\"League\",Veri!B$68:$B$92,0)+3,1),\"\")","v":{"$error":"#N/A"}},{"$f":"IF(INDEX(Veri!E$68:$E$92,MATCH(\"League\",Veri!B$68:$B$92,0)+3,1)<>\"\",INDEX(Veri!E$68:$E$92,MATCH(\"League\",Veri!B$68:$B$92,0)+3,1),\"\")","v":{"$error":"#N/A"}},{"$f":"IF(INDEX(Veri!B$94:$B$118,MATCH(\"League\",Veri!B$94:$B$118,0)+3,1)<>\"\",INDEX(Veri!B$94:$B$118,MATCH(\"League\",Veri!B$94:$B$118,0)+3,1),\"\")","v":{"$error":"#N/A"}},{"$f":"IF(INDEX(Veri!D$94:$D$118,MATCH(\"League\",Veri!B$94:$B$118,0)+3,1)<>\"\",IF(COUNTIF(INDEX(Veri!D$94:$D$118,MATCH(\"League\",Veri!B$94:$B$118,0)+3,1),\"*\"&$I$3&\"*\"),$I$3,INDEX(Veri!D$94:$D$118,MATCH(\"League\",Veri!B$94:$B$118,0)+3,1)),\"\")","v":{"$error":"#N/A"}},{"$f":"IF(INDEX(Veri!H$94:$H$118,MATCH(\"League\",Veri!B$94:$B$118,0)+3,1)<>\"\",IF(COUNTIF(INDEX(Veri!H$94:$H$118,MATCH(\"League\",Veri!B$94:$B$118,0)+3,1),\"*\"&$I$3&\"*\"),$I$3,INDEX(Veri!H$94:$H$118,MATCH(\"League\",Veri!B$94:$B$118,0)+3,1)),\"\")","v":{"$error":"#N/A"}},{"$f":"IF(INDEX(Veri!F$94:$F$118,MATCH(\"League\",Veri!B$94:$B$118,0)+3,1)<>\"\",INDEX(Veri!F$94:$F$118,MATCH(\"League\",Veri!B$94:$B$118,0)+3,1),\"\")","v":{"$error":"#N/A"}},{"$f":"IF(INDEX(Veri!E$94:$E$118,MATCH(\"League\",Veri!B$94:$B$118,0)+3,1)<>\"\",INDEX(Veri!E$94:$E$118,MATCH(\"League\",Veri!B$94:$B$118,0)+3,1),\"\")","v":{"$error":"#N/A"}},null,null,null,1,{"$f":"IFERROR(IF(INDEX(Veri!$AA$31:$AA$500,MATCH(O10,Veri!$AI$31:$AI$500,0))<>\"\",INDEX(Veri!$AA$31:$AA$500,MATCH(O10,Veri!$AI$31:$AI$500,0)),\"\"),\"\")","v":""},{"$f":"IFERROR(IF(INDEX(Veri!$AG$31:$AG$500,MATCH(O10,Veri!$AI$31:$AI$500,0))<>\"\",INDEX(Veri!$AG$31:$AG$500,MATCH(O10,Veri!$AI$31:$AI$500,0)),\"\"),\"\")","v":""},{"$f":"IFERROR(IF(INDEX(Veri!$AC$31:$AC$500,MATCH(O10,Veri!$AI$31:$AI$500,0))<>\"\",INDEX(Veri!$AC$31:$AC$500,MATCH(O10,Veri!$AI$31:$AI$500,0)),\"\"),\"\")","v":""},{"$f":"IFERROR(IF(INDEX(Veri!$AD$31:$AD$500,MATCH(O10,Veri!$AI$31:$AI$500,0))<>\"\",INDEX(Veri!$AD$31:$AD$500,MATCH(O10,Veri!$AI$31:$AI$500,0)),\"\"),\"\")","v":""},{"$f":"IFERROR(IF(INDEX(Veri!$AE$31:$AE$500,MATCH(O10,Veri!$AI$31:$AI$500,0))<>\"\",INDEX(Veri!$AE$31:$AE$500,MATCH(O10,Veri!$AI$31:$AI$500,0)),\"\"),\"\")","v":""},null,1,{"$f":"IFERROR(IF(INDEX(Veri!$AK$31:$AK$500,MATCH(V10,Veri!$AS$31:$AS$500,0))<>\"\",INDEX(Veri!$AK$31:$AK$500,MATCH(V10,Veri!$AS$31:$AS$500,0)),\"\"),\"\")","v":""},{"$f":"IFERROR(IF(INDEX(Veri!$AQ$31:$AQ$500,MATCH(V10,Veri!$AS$31:$AS$500,0))<>\"\",INDEX(Veri!$AQ$31:$AQ$500,MATCH(V10,Veri!$AS$31:$AS$500,0)),\"\"),\"\")","v":""},{"$f":"IFERROR(IF(INDEX(Veri!$AM$31:$AM$500,MATCH(V10,Veri!$AS$31:$AS$500,0))<>\"\",INDEX(Veri!$AM$31:$AM$500,MATCH(V10,Veri!$AS$31:$AS$500,0)),\"\"),\"\")","v":""},{"$f":"IFERROR(IF(INDEX(Veri!$AN$31:$AN$500,MATCH(V10,Veri!$AS$31:$AS$500,0))<>\"\",INDEX(Veri!$AN$31:$AN$500,MATCH(V10,Veri!$AS$31:$AS$500,0)),\"\"),\"\")","v":""},{"$f":"IFERROR(IF(INDEX(Veri!$AO$31:$AO$500,MATCH(V10,Veri!$AS$31:$AS$500,0))<>\"\",INDEX(Veri!$AO$31:$AO$500,MATCH(V10,Veri!$AS$31:$AS$500,0)),\"\"),\"\")","v":""}]
[null,{"$f":"IF(INDEX(Veri!$B$68:$B$92,MATCH(\"League\",Veri!$B$68:$B$92,0)+4,1)<>\"\",INDEX(Veri!$B$68:$B$92,MATCH(\"League\",Veri!$B$68:$B$92,0)+4,1),\"\")","v":{"$error":"#N/A"}},{"$f":"IF(INDEX(Veri!D$68:$D$92,MATCH(\"League\",Veri!B$68:$B$92,0)+4,1)<>\"\",IF(COUNTIF(INDEX(Veri!D$68:$D$92,MATCH(\"League\",Veri!B$68:$B$92,0)+4,1),\"*\"&$B$3&\"*\"),$B$3,INDEX(Veri!D$68:$D$92,MATCH(\"League\",Veri!B$68:$B$92,0)+4,1)),\"\")","v":{"$error":"#N/A"}},{"$f":"IF(INDEX(Veri!H$68:$H$92,MATCH(\"League\",Veri!B$68:$B$92,0)+4,1)<>\"\",IF(COUNTIF(INDEX(Veri!H$68:$H$92,MATCH(\"League\",Veri!B$68:$B$92,0)+4,1),\"*\"&$B$3&\"*\"),$B$3,INDEX(Veri!H$68:$H$92,MATCH(\"League\",Veri!B$68:$B$92,0)+4,1)),\"\")","v":{"$error":"#N/A"}},{"$f":"IF(INDEX(Veri!F$68:$F$92,MATCH(\"League\",Veri!B$68:$B$92,0)+4,1)<>\"\",INDEX(Veri!F$68:$F$92,MATCH(\"League\",Veri!B$68:$B$92,0)+4,1),\"\")","v":{"$error":"#N/A"}},{"$f":"IF(INDEX(Veri!E$68:$E$92,MATCH(\"League\",Veri!B$68:$B$92,0)+4,1)<>\"\",INDEX(Veri!E$68:$E$92,MATCH(\"League\",Veri!B$68:$B$92,0)+4,1),\"\")","v":{"$error":"#N/A"}},{"$f":"IF(INDEX(Veri!B$94:$B$118,MATCH(\"League\",Veri!B$94:$B$118,0)+4,1)<>\"\",INDEX(Veri!B$94:$B$118,MATCH(\"League\",Veri!B$94:$B$118,0)+4,1),\"\")","v":{"$error":"#N/A"}},{"$f":"IF(INDEX(Veri!D$94:$D$118,MATCH(\"League\",Veri!B$94:$B$118,0)+4,1)<>\"\",IF(COUNTIF(INDEX(Veri!D$94:$D$118,MATCH(\"League\",Veri!B$94:$B$118,0)+4,1),\"*\"&$I$3&\"*\"),$I$3,INDEX(Veri!D$94:$D$118,MATCH(\"League\",Veri!B$94:$B$118,0)+4,1)),\"\")","v":{"$error":"#N/A"}},{"$f":"IF(INDEX(Veri!H$94:$H$118,MATCH(\"League\",Veri!B$94:$B$118,0)+4,1)<>\"\",IF(COUNTIF(INDEX(Veri!H$94:$H$118,MATCH(\"League\",Veri!B$94:$B$118,0)+4,1),\"*\"&$I$3&\"*\"),$I$3,INDEX(Veri!H$94:$H$118,MATCH(\"League\",Veri!B$94:$B$118,0)+4,1)),\"\")","v":{"$error":"#N/A"}},{"$f":"IF(INDEX(Veri!F$94:$F$118,MATCH(\"League\",Veri!B$94:$B$118,0)+4,1)<>\"\",INDEX(Veri!F$94:$F$118,MATCH(\"League\",Veri!B$94:$B$118,0)+4,1),\"\")","v":{"$error":"#N/A"}},{"$f":"IF(INDEX(Veri!E$94:$E$118,MATCH(\"League\",Veri!B$94:$B$118,0)+4,1)<>\"\",INDEX(Veri!E$94:$E$118,MATCH(\"League\",Veri!B$94:$B$118,0)+4,1),\"\")","v":{"$error":"#N/A"}},null,null,null,2,{"$f":"IFERROR(IF(INDEX(Veri!$AA$31:$AA$500,MATCH(O11,Veri!$AI$31:$AI$500,0))<>\"\",INDEX(Veri!$AA$31:$AA$500,MATCH(O11,Veri!$AI$31:$AI$500,0)),\"\"),\"\")","v":""},{"$f":"IFERROR(IF(INDEX(Veri!$AG$31:$AG$500,MATCH(O11,Veri!$AI$31:$AI$500,0))<>\"\",INDEX(Veri!$AG$31:$AG$500,MATCH(O11,Veri!$AI$31:$AI$500,0)),\"\"),\"\")","v":""},{"$f":"IFERROR(IF(INDEX(Veri!$AC$31:$AC$500,MATCH(O11,Veri!$AI$31:$AI$500,0))<>\"\",INDEX(Veri!$AC$31:$AC$500,MATCH(O11,Veri!$AI$31:$AI$500,0)),\"\"),\"\")","v":""},{"$f":"IFERROR(IF(INDEX(Veri!$AD$31:$AD$500,MATCH(O11,Veri!$AI$31:$AI$500,0))<>\"\",INDEX(Veri!$AD$31:$AD$500,MATCH(O11,Veri!$AI$31:$AI$500,0)),\"\"),\"\")","v":""},{"$f":"IFERROR(IF(INDEX(Veri!$AE$31:$AE$500,MATCH(O11,Veri!$AI$31:$AI$500,0))<>\"\",INDEX(Veri!$AE$31:$AE$500,MATCH(O11,Veri!$AI$31:$AI$500,0)),\"\"),\"\")","v":""},null,2,{"$f":"IFERROR(IF(INDEX(Veri!$AK$31:$AK$500,MATCH(V11,Veri!$AS$31:$AS$500,0))<>\"\",INDEX(Veri!$AK$31:$AK$500,MATCH(V11,Veri!$AS$31:$AS$500,0)),\"\"),\"\")","v":""},{"$f":"IFERROR(IF(INDEX(Veri!$AQ$31:$AQ$500,MATCH(V11,Veri!$AS$31:$AS$500,0))<>\"\",INDEX(Veri!$AQ$31:$AQ$500,MATCH(V11,Veri!$AS$31:$AS$500,0)),\"\"),\"\")","v":""},{"$f":"IFERROR(IF(INDEX(Veri!$AM$31:$AM$500,MATCH(V11,Veri!$AS$31:$AS$500,0))<>\"\",INDEX(Veri!$AM$31:$AM$500,MATCH(V11,Veri!$AS$31:$AS$500,0)),\"\"),\"\")","v":""},{"$f":"IFERROR(IF(INDEX(Veri!$AN$31:$AN$500,MATCH(V11,Veri!$AS$31:$AS$500,0))<>\"\",INDEX(Veri!$AN$31:$AN$500,MATCH(V11,Veri!$AS$31:$AS$500,0)),\"\"),\"\")","v":""},{"$f":"IFERROR(IF(INDEX(Veri!$AO$31:$AO$500,MATCH(V11,Veri!$AS$31:$AS$500,0))<>\"\",INDEX(Veri!$AO$31:$AO$500,MATCH(V11,Veri!$AS$31:$AS$500,0)),\"\"),\"\")","v":""}]
[null,{"$f":"IF(INDEX(Veri!$B$68:$B$92,MATCH(\"League\",Veri!$B$68:$B$92,0)+5,1)<>\"\",INDEX(Veri!$B$68:$B$92,MATCH(\"League\",Veri!$B$68:$B$92,0)+5,1),\"\")","v":{"$error":"#N/A"}},{"$f":"IF(INDEX(Veri!D$68:$D$92,MATCH(\"League\",Veri!B$68:$B$92,0)+5,1)<>\"\",IF(COUNTIF(INDEX(Veri!D$68:$D$92,MATCH(\"League\",Veri!B$68:$B$92,0)+5,1),\"*\"&$B$3&\"*\"),$B$3,INDEX(Veri!D$68:$D$92,MATCH(\"League\",Veri!B$68:$B$92,0)+5,1)),\"\")","v":{"$error":"#N/A"}},{"$f":"IF(INDEX(Veri!H$68:$H$92,MATCH(\"League\",Veri!B$68:$B$92,0)+5,1)<>\"\",IF(COUNTIF(INDEX(Veri!H$68:$H$92,MATCH(\"League\",Veri!B$68:$B$92,0)+5,1),\"*\"&$B$3&\"*\"),$B$3,INDEX(Veri!H$68:$H$92,MATCH(\"League\",Veri!B$68:$B$92,0)+5,1)),\"\")","v":{"$error":"#N/A"}},{"$f":"IF(INDEX(Veri!F$68:$F$92,MATCH(\"League\",Veri!B$68:$B$92,0)+5,1)<>\"\",INDEX(Veri!F$68:$F$92,MATCH(\"League\",Veri!B$68:$B$92,0)+5,1),\"\")","v":{"$error":"#N/A"}},{"$f":"IF(INDEX(Veri!E$68:$E$92,MATCH(\"League\",Veri!B$68:$B$92,0)+5,1)<>\"\",INDEX(Veri!E$68:$E$92,MATCH(\"League\",Veri!B$68:$B$92,0)+5,1),\"\")","v":{"$error":"#N/A"}},{"$f":"IF(INDEX(Veri!B$94:$B$118,MATCH(\"League\",Veri!B$94:$B$118,0)+5,1)<>\"\",INDEX(Veri!B$94:$B$118,MATCH(\"League\",Veri!B$94:$B$118,0)+5,1),\"\")","v":{"$error":"#N/A"}},{"$f":"IF(INDEX(Veri!D$94:$D$118,MATCH(\"League\",Veri!B$94:$B$118,0)+5,1)<>\"\",IF(COUNTIF(INDEX(Veri!D$94:$D$118,MATCH(\"League\",Veri!B$94:$B$118,0)+5,1),\"*\"&$I$3&\"*\"),$I$3,INDEX(Veri!D$94:$D$118,MATCH(\"League\",Veri!B$94:$B$118,0)+5,1)),\"\")","v":{"$error":"#N/A"}},{"$f":"IF(INDEX(Veri!H$94:$H$118,MATCH(\"League\",Veri!B$94:$B$118,0)+5,1)<>\"\",IF(COUNTIF(INDEX(Veri!H$94:$H$118,MATCH(\"League\",Veri!B$94:$B$118,0)+5,1),\"*\"&$I$3&\"*\"),$I$3,INDEX(Veri!H$94:$H$118,MATCH(\"League\",Veri!B$94:$B$118,0)+5,1)),\"\")","v":{"$error":"#N/A"}},{"$f":"IF(INDEX(Veri!F$94:$F$118,MATCH(\"League\",Veri!B$94:$B$118,0)+5,1)<>\"\",INDEX(Veri!F$94:$F$118,MATCH(\"League\",Veri!B$94:$B$118,0)+5,1),\"\")","v":{"$error":"#N/A"}},{"$f":"IF(INDEX(Veri!E$94:$E$118,MATCH(\"League\",Veri!B$94:$B$118,0)+5,1)<>\"\",INDEX(Veri!E$94:$E$118,MATCH(\"League\",Veri!B$94:$B$118,0)+5,1),\"\")","v":{"$error":"#N/A"}},null,null,null,3,{"$f":"IFERROR(IF(INDEX(Veri!$AA$31:$AA$500,MATCH(O12,Veri!$AI$31:$AI$500,0))<>\"\",INDEX(Veri!$AA$31:$AA$500,MATCH(O12,Veri!$AI$31:$AI$500,0)),\"\"),\"\")","v":""},{"$f":"IFERROR(IF(INDEX(Veri!$AG$31:$AG$500,MATCH(O12,Veri!$AI$31:$AI$500,0))<>\"\",INDEX(Veri!$AG$31:$AG$500,MATCH(O12,Veri!$AI$31:$AI$500,0)),\"\"),\"\")","v":""},{"$f":"IFERROR(IF(INDEX(Veri!$AC$31:$AC$500,MATCH(O12,Veri!$AI$31:$AI$500,0))<>\"\",INDEX(Veri!$AC$31:$AC$500,MATCH(O12,Veri!$AI$31:$AI$500,0)),\"\"),\"\")","v":""},{"$f":"IFERROR(IF(INDEX(Veri!$AD$31:$AD$500,MATCH(O12,Veri!$AI$31:$AI$500,0))<>\"\",INDEX(Veri!$AD$31:$AD$500,MATCH(O12,Veri!$AI$31:$AI$500,0)),\"\"),\"\")","v":""},{"$f":"IFERROR(IF(INDEX(Veri!$AE$31:$AE$500,MATCH(O12,Veri!$AI$31:$AI$500,0))<>\"\",INDEX(Veri!$AE$31:$AE$500,MATCH(O12,Veri!$AI$31:$AI$500,0)),\"\"),\"\")","v":""},null,3,{"$f":"IFERROR(IF(INDEX(Veri!$AK$31:$AK$500,MATCH(V12,Veri!$AS$31:$AS$500,0))<>\"\",INDEX(Veri!$AK$31:$AK$500,MATCH(V12,Veri!$AS$31:$AS$500,0)),\"\"),\"\")","v":""},{"$f":"IFERROR(IF(INDEX(Veri!$AQ$31:$AQ$500,MATCH(V12,Veri!$AS$31:$AS$500,0))<>\"\",INDEX(Veri!$AQ$31:$AQ$500,MATCH(V12,Veri!$AS$31:$AS$500,0)),\"\"),\"\")","v":""},{"$f":"IFERROR(IF(INDEX(Veri!$AM$31:$AM$500,MATCH(V12,Veri!$AS$31:$AS$500,0))<>\"\",INDEX(Veri!$AM$31:$AM$500,MATCH(V12,Veri!$AS$31:$AS$500,0)),\"\"),\"\")","v":""},{"$f":"IFERROR(IF(INDEX(Veri!$AN$31:$AN$500,MATCH(V12,Veri!$AS$31:$AS$500,0))<>\"\",INDEX(Veri!$AN$31:$AN$500,MATCH(V12,Veri!$AS$31:$AS$500,0)),\"\"),\"\")","v":""},{"$f":"IFERROR(IF(INDEX(Veri!$AO$31:$AO$500,MATCH(V12,Veri!$AS$31:$AS$500,0))<>\"\",INDEX(Veri!$AO$31:$AO$500,MATCH(V12,Veri!$AS$31:$AS$500,0)),\"\"),\"\")","v":""}]
[null,{"$f":"IF(INDEX(Veri!$B$68:$B$92,MATCH(\"League\",Veri!$B$68:$B$92,0)+6,1)<>\"\",INDEX(Veri!$B$68:$B$92,MATCH(\"League\",Veri!$B$68:$B$92,0)+6,1),\"\")","v":{"$error":"#N/A"}},{"$f":"IF(INDEX(Veri!D$68:$D$92,MATCH(\"League\",Veri!B$68:$B$92,0)+6,1)<>\"\",IF(COUNTIF(INDEX(Veri!D$68:$D$92,MATCH(\"League\",Veri!B$68:$B$92,0)+6,1),\"*\"&$B$3&\"*\"),$B$3,INDEX(Veri!D$68:$D$92,MATCH(\"League\",Veri!B$68:$B$92,0)+6,1)),\"\")","v":{"$error":"#N/A"}},{"$f":"IF(INDEX(Veri!H$68:$H$92,MATCH(\"League\",Veri!B$68:$B$92,0)+6,1)<>\"\",IF(COUNTIF(INDEX(Veri!H$68:$H$92,MATCH(\"League\",Veri!B$68:$B$92,0)+6,1),\"*\"&$B$3&\"*\"),$B$3,INDEX(Veri!H$68:$H$92,MATCH(\"League\",Veri!B$68:$B$92,0)+6,1)),\"\")","v":{"$error":"#N/A"}},{"$f":"IF(INDEX(Veri!F$68:$F$92,MATCH(\"League\",Veri!B$68:$B$92,0)+6,1)<>\"\",INDEX(Veri!F$68:$F$92,MATCH(\"League\",Veri!B$68:$B$92,0)+6,1),\"\")","v":{"$error":"#N/A"}},{"$f":"IF(INDEX(Veri!E$68:$E$92,MATCH(\"League\",Veri!B$68:$B$92,0)+6,1)<>\"\",INDEX(Veri!E$68:$E$92,MATCH(\"League\",Veri!B$68:$B$92,0)+6,1),\"\")","v":{"$error":"#N/A"}},{"$f":"IF(INDEX(Veri!B$94:$B$118,MATCH(\"League\",Veri!B$94:$B$118,0)+6,1)<>\"\",INDEX(Veri!B$94:$B$118,MATCH(\"League\",Veri!B$94:$B$118,0)+6,1),\"\")","v":{"$error":"#N/A"}},{"$f":"IF(INDEX(Veri!D$94:$D$118,MATCH(\"League\",Veri!B$94:$B$118,0)+6,1)<>\"\",IF(COUNTIF(INDEX(Veri!D$94:$D$118,MATCH(\"League\",Veri!B$94:$B$118,0)+6,1),\"*\"&$I$3&\"*\"),$I$3,INDEX(Veri!D$94:$D$118,MATCH(\"League\",Veri!B$94:$B$118,0)+6,1)),\"\")","v":{"$error":"#N/A"}},{"$f":"IF(INDEX(Veri!H$94:$H$118,MATCH(\"League\",Veri!B$94:$B$118,0)+6,1)<>\"\",IF(COUNTIF(INDEX(Veri!H$94:$H$118,MATCH(\"League\",Veri!B$94:$B$118,0)+6,1),\"*\"&$I$3&\"*\"),$I$3,INDEX(Veri!H$94:$H$118,MATCH(\"League\",Veri!B$94:$B$118,0)+6,1)),\"\")","v":{"$error":"#N/A"}},{"$f":"IF(INDEX(Veri!F$94:$F$118,MATCH(\"League\",Veri!B$94:$B$118,0)+6,1)<>\"\",INDEX(Veri!F$94:$F$118,MATCH(\"League\",Veri!B$94:$B$118,0)+6,1),\"\")","v":{"$error":"#N/A"}},{"$f":"IF(INDEX(Veri!E$94:$E$118,MATCH(\"League\",Veri!B$94:$B$118,0)+6,1)<>\"\",INDEX(Veri!E$94:$E$118,MATCH(\"League\",Veri!B$94:$B$118,0)+6,1),\"\")","v":{"$error":"#N/A"}},null,null,null,4,{"$f":"IFERROR(IF(INDEX(Veri!$AA$31:$AA$500,MATCH(O13,Veri!$AI$31:$AI$500,0))<>\"\",INDEX(Veri!$AA$31:$AA$500,MATCH(O13,Veri!$AI$31:$AI$500,0)),\"\"),\"\")","v":""},{"$f":"IFERROR(IF(INDEX(Veri!$AG$31:$AG$500,MATCH(O13,Veri!$AI$31:$AI$500,0))<>\"\",INDEX(Veri!$AG$31:$AG$500,MATCH(O13,Veri!$AI$31:$AI$500,0)),\"\"),\"\")","v":""},{"$f":"IFERROR(IF(INDEX(Veri!$AC$31:$AC$500,MATCH(O13,Veri!$AI$31:$AI$500,0))<>\"\",INDEX(Veri!$AC$31:$AC$500,MATCH(O13,Veri!$AI$31:$AI$500,0)),\"\"),\"\")","v":""},{"$f":"IFERROR(IF(INDEX(Veri!$AD$31:$AD$500,MATCH(O13,Veri!$AI$31:$AI$500,0))<>\"\",INDEX(Veri!$AD$31:$AD$500,MATCH(O13,Veri!$AI$31:$AI$500,0)),\"\"),\"\")","v":""},{"$f":"IFERROR(IF(INDEX(Veri!$AE$31:$AE$500,MATCH(O13,Veri!$AI$31:$AI$500,0))<>\"\",INDEX(Veri!$AE$31:$AE$500,MATCH(O13,Veri!$AI$31:$AI$500,0)),\"\"),\"\")","v":""},null,4,{"$f":"IFERROR(IF(INDEX(Veri!$AK$31:$AK$500,MATCH(V13,Veri!$AS$31:$AS$500,0))<>\"\",INDEX(Veri!$AK$31:$AK$500,MATCH(V13,Veri!$AS$31:$AS$500,0)),\"\"),\"\")","v":""},{"$f":"IFERROR(IF(INDEX(Veri!$AQ$31:$AQ$500,MATCH(V13,Veri!$AS$31:$AS$500,0))<>\"\",INDEX(Veri!$AQ$31:$AQ$500,MATCH(V13,Veri!$AS$31:$AS$500,0)),\"\"),\"\")","v":""},{"$f":"IFERROR(IF(INDEX(Veri!$AM$31:$AM$500,MATCH(V13,Veri!$AS$31:$AS$500,0))<>\"\",INDEX(Veri!$AM$31:$AM$500,MATCH(V13,Veri!$AS$31:$AS$500,0)),\"\"),\"\")","v":""},{"$f":"IFERROR(IF(INDEX(Veri!$AN$31:$AN$500,MATCH(V13,Veri!$AS$31:$AS$500,0))<>\"\",INDEX(Veri!$AN$31:$AN$500,MATCH(V13,Veri!$AS$31:$AS$500,0)),\"\"),\"\")","v":""},{"$f":"IFERROR(IF(INDEX(Veri!$AO$31:$AO$500,MATCH(V13,Veri!$AS$31:$AS$500,0))<>\"\",INDEX(Veri!$AO$31:$AO$500,MATCH(V13,Veri!$AS$31:$AS$500,0)),\"\"),\"\")","v":""}]
[null,{"$f":"IF(INDEX(Veri!$B$68:$B$92,MATCH(\"League\",Veri!$B$68:$B$92,0)+7,1)<>\"\",INDEX(Veri!$B$68:$B$92,MATCH(\"League\",Veri!$B$68:$B$92,0)+7,1),\"\")","v":{"$error":"#N/A"}},{"$f":"IF(INDEX(Veri!D$68:$D$92,MATCH(\"League\",Veri!B$68:$B$92,0)+7,1)<>\"\",IF(COUNTIF(INDEX(Veri!D$68:$D$92,MATCH(\"League\",Veri!B$68:$B$92,0)+7,1),\"*\"&$B$3&\"*\"),$B$3,INDEX(Veri!D$68:$D$92,MATCH(\"League\",Veri!B$68:$B$92,0)+7,1)),\"\")","v":{"$error":"#N/A"}},{"$f":"IF(INDEX(Veri!H$68:$H$92,MATCH(\"League\",Veri!B$68:$B$92,0)+7,1)<>\"\",IF(COUNTIF(INDEX(Veri!H$68:$H$92,MATCH(\"League\",Veri!B$68:$B$92,0)+7,1),\"*\"&$B$3&\"*\"),$B$3,INDEX(Veri!H$68:$H$92,MATCH(\"League\",Veri!B$68:$B$92,0)+7,1)),\"\")","v":{"$error":"#N/A"}},{"$f":"IF(INDEX(Veri!F$68:$F$92,MATCH(\"League\",Veri!B$68:$B$92,0)+7,1)<>\"\",INDEX(Veri!F$68:$F$92,MATCH(\"League\",Veri!B$68:$B$92,0)+7,1),\"\")","v":{"$error":"#N/A"}},{"$f":"IF(INDEX(Veri!E$68:$E$92,MATCH(\"League\",Veri!B$68:$B$92,0)+7,1)<>\"\",INDEX(Veri!E$68:$E$92,MATCH(\"League\",Veri!B$68:$B$92,0)+7,1),\"\")","v":{"$error":"#N/A"}},{"$f":"IF(INDEX(Veri!B$94:$B$118,MATCH(\"League\",Veri!B$94:$B$118,0)+7,1)<>\"\",INDEX(Veri!B$94:$B$118,MATCH(\"League\",Veri!B$94:$B$118,0)+7,1),\"\")","v":{"$error":"#N/A"}},{"$f":"IF(INDEX(Veri!D$94:$D$118,MATCH(\"League\",Veri!B$94:$B$118,0)+7,1)<>\"\",IF(COUNTIF(INDEX(Veri!D$94:$D$118,MATCH(\"League\",Veri!B$94:$B$118,0)+7,1),\"*\"&$I$3&\"*\"),$I$3,INDEX(Veri!D$94:$D$118,MATCH(\"League\",Veri!B$94:$B$118,0)+7,1)),\"\")","v":{"$error":"#N/A"}},{"$f":"IF(INDEX(Veri!H$94:$H$118,MATCH(\"League\",Veri!B$94:$B$118,0)+7,1)<>\"\",IF(COUNTIF(INDEX(Veri!H$94:$H$118,MATCH(\"League\",Veri!B$94:$B$118,0)+7,1),\"*\"&$I$3&\"*\"),$I$3,INDEX(Veri!H$94:$H$118,MATCH(\"League\",Veri!B$94:$B$118,0)+7,1)),\"\")","v":{"$error":"#N/A"}},{"$f":"IF(INDEX(Veri!F$94:$F$118,MATCH(\"League\",Veri!B$94:$B$118,0)+7,1)<>\"\",INDEX(Veri!F$94:$F$118,MATCH(\"League\",Veri!B$94:$B$118,0)+7,1),\"\")","v":{"$error":"#N/A"}},{"$f":"IF(INDEX(Veri!E$94:$E$118,MATCH(\"League\",Veri!B$94:$B$118,0)+7,1)<>\"\",INDEX(Veri!E$94:$E$118,MATCH(\"League\",Veri!B$94:$B$118,0)+7,1),\"\")","v":{"$error":"#N/A"}},null,null,null,5,{"$f":"IFERROR(IF(INDEX(Veri!$AA$31:$AA$500,MATCH(O14,Veri!$AI$31:$AI$500,0))<>\"\",INDEX(Veri!$AA$31:$AA$500,MATCH(O14,Veri!$AI$31:$AI$500,0)),\"\"),\"\")","v":""},{"$f":"IFERROR(IF(INDEX(Veri!$AG$31:$AG$500,MATCH(O14,Veri!$AI$31:$AI$500,0))<>\"\",INDEX(Veri!$AG$31:$AG$500,MATCH(O14,Veri!$AI$31:$AI$500,0)),\"\"),\"\")","v":""},{"$f":"IFERROR(IF(INDEX(Veri!$AC$31:$AC$500,MATCH(O14,Veri!$AI$31:$AI$500,0))<>\"\",INDEX(Veri!$AC$31:$AC$500,MATCH(O14,Veri!$AI$31:$AI$500,0)),\"\"),\"\")","v":""},{"$f":"IFERROR(IF(INDEX(Veri!$AD$31:$AD$500,MATCH(O14,Veri!$AI$31:$AI$500,0))<>\"\",INDEX(Veri!$AD$31:$AD$500,MATCH(O14,Veri!$AI$31:$AI$500,0)),\"\"),\"\")","v":""},{"$f":"IFERROR(IF(INDEX(Veri!$AE$31:$AE$500,MATCH(O14,Veri!$AI$31:$AI$500,0))<>\"\",INDEX(Veri!$AE$31:$AE$500,MATCH(O14,Veri!$AI$31:$AI$500,0)),\"\"),\"\")","v":""},null,5,{"$f":"IFERROR(IF(INDEX(Veri!$AK$31:$AK$500,MATCH(V14,Veri!$AS$31:$AS$500,0))<>\"\",INDEX(Veri!$AK$31:$AK$500,MATCH(V14,Veri!$AS$31:$AS$500,0)),\"\"),\"\")","v":""},{"$f":"IFERROR(IF(INDEX(Veri!$AQ$31:$AQ$500,MATCH(V14,Veri!$AS$31:$AS$500,0))<>\"\",INDEX(Veri!$AQ$31:$AQ$500,MATCH(V14,Veri!$AS$31:$AS$500,0)),\"\"),\"\")","v":""},{"$f":"IFERROR(IF(INDEX(Veri!$AM$31:$AM$500,MATCH(V14,Veri!$AS$31:$AS$500,0))<>\"\",INDEX(Veri!$AM$31:$AM$500,MATCH(V14,Veri!$AS$31:$AS$500,0)),\"\"),\"\")","v":""},{"$f":"IFERROR(IF(INDEX(Veri!$AN$31:$AN$500,MATCH(V14,Veri!$AS$31:$AS$500,0))<>\"\",INDEX(Veri!$AN$31:$AN$500,MATCH(V14,Veri!$AS$31:$AS$500,0)),\"\"),\"\")","v":""},{"$f":"IFERROR(IF(INDEX(Veri!$AO$31:$AO$500,MATCH(V14,Veri!$AS$31:$AS$500,0))<>\"\",INDEX(Veri!$AO$31:$AO$500,MATCH(V14,Veri!$AS$31:$AS$500,0)),\"\"),\"\")","v":""}]
[null,{"$f":"IF(INDEX(Veri!$B$68:$B$92,MATCH(\"League\",Veri!$B$68:$B$92,0)+8,1)<>\"\",INDEX(Veri!$B$68:$B$92,MATCH(\"League\",Veri!$B$68:$B$92,0)+8,1),\"\")","v":{"$error":"#N/A"}},{"$f":"IF(INDEX(Veri!D$68:$D$92,MATCH(\"League\",Veri!B$68:$B$92,0)+8,1)<>\"\",IF(COUNTIF(INDEX(Veri!D$68:$D$92,MATCH(\"League\",Veri!B$68:$B$92,0)+8,1),\"*\"&$B$3&\"*\"),$B$3,INDEX(Veri!D$68:$D$92,MATCH(\"League\",Veri!B$68:$B$92,0)+8,1)),\"\")","v":{"$error":"#N/A"}},{"$f":"IF(INDEX(Veri!H$68:$H$92,MATCH(\"League\",Veri!B$68:$B$92,0)+8,1)<>\"\",IF(COUNTIF(INDEX(Veri!H$68:$H$92,MATCH(\"League\",Veri!B$68:$B$92,0)+8,1),\"*\"&$B$3&\"*\"),$B$3,INDEX(Veri!H$68:$H$92,MATCH(\"League\",Veri!B$68:$B$92,0)+8,1)),\"\")","v":{"$error":"#N/A"}},{"$f":"IF(INDEX(Veri!F$68:$F$92,MATCH(\"League\",Veri!B$68:$B$92,0)+8,1)<>\"\",INDEX(Veri!F$68:$F$92,MATCH(\"League\",Veri!B$68:$B$92,0)+8,1),\"\")","v":{"$error":"#N/A"}},{"$f":"IF(INDEX(Veri!E$68:$E$92,MATCH(\"League\",Veri!B$68:$B$92,0)+8,1)<>\"\",INDEX(Veri!E$68:$E$92,MATCH(\"League\",Veri!B$68:$B$92,0)+8,1),\"\")","v":{"$error":"#N/A"}},{"$f":"IF(INDEX(Veri!B$94:$B$118,MATCH(\"League\",Veri!B$94:$B$118,0)+8,1)<>\"\",INDEX(Veri!B$94:$B$118,MATCH(\"League\",Veri!B$94:$B$118,0)+8,1),\"\")","v":{"$error":"#N/A"}},{"$f":"IF(INDEX(Veri!D$94:$D$118,MATCH(\"League\",Veri!B$94:$B$118,0)+8,1)<>\"\",IF(COUNTIF(INDEX(Veri!D$94:$D$118,MATCH(\"League\",Veri!B$94:$B$118,0)+8,1),\"*\"&$I$3&\"*\"),$I$3,INDEX(Veri!D$94:$D$118,MATCH(\"League\",Veri!B$94:$B$118,0)+8,1)),\"\")","v":{"$error":"#N/A"}},{"$f":"IF(INDEX(Veri!H$94:$H$118,MATCH(\"League\",Veri!B$94:$B$118,0)+8,1)<>\"\",IF(COUNTIF(INDEX(Veri!H$94:$H$118,MATCH(\"League\",Veri!B$94:$B$118,0)+8,1),\"*\"&$I$3&\"*\"),$I$3,INDEX(Veri!H$94:$H$118,MATCH(\"League\",Veri!B$94:$B$118,0)+8,1)),\"\")","v":{"$error":"#N/A"}},{"$f":"IF(INDEX(Veri!F$94:$F$118,MATCH(\"League\",Veri!B$94:$B$118,0)+8,1)<>\"\",INDEX(Veri!F$94:$F$118,MATCH(\"League\",Veri!B$94:$B$118,0)+8,1),\"\")","v":{"$error":"#N/A"}},{"$f":"IF(INDEX(Veri!E$94:$E$118,MATCH(\"League\",Veri!B$94:$B$118,0)+8,1)<>\"\",INDEX(Veri!E$94:$E$118,MATCH(\"League\",Veri!B$94:$B$118,0)+8,1),\"\")","v":{"$error":"#N/A"}},null,null,null,6,{"$f":"IFERROR(IF(INDEX(Veri!$AA$31:$AA$500,MATCH(O15,Veri!$AI$31:$AI$500,0))<>\"\",INDEX(Veri!$AA$31:$AA$500,MATCH(O15,Veri!$AI$31:$AI$500,0)),\"\"),\"\")","v":""},{"$f":"IFERROR(IF(INDEX(Veri!$AG$31:$AG$500,MATCH(O15,Veri!$AI$31:$AI$500,0))<>\"\",INDEX(Veri!$AG$31:$AG$500,MATCH(O15,Veri!$AI$31:$AI$500,0)),\"\"),\"\")","v":""},{"$f":"IFERROR(IF(INDEX(Veri!$AC$31:$AC$500,MATCH(O15,Veri!$AI$31:$AI$500,0))<>\"\",INDEX(Veri!$AC$31:$AC$500,MATCH(O15,Veri!$AI$31:$AI$500,0)),\"\"),\"\")","v":""},{"$f":"IFERROR(IF(INDEX(Veri!$AD$31:$AD$500,MATCH(O15,Veri!$AI$31:$AI$500,0))<>\"\",INDEX(Veri!$AD$31:$AD$500,MATCH(O15,Veri!$AI$31:$AI$500,0)),\"\"),\"\")","v":""},{"$f":"IFERROR(IF(INDEX(Veri!$AE$31:$AE$500,MATCH(O15,Veri!$AI$31:$AI$500,0))<>\"\",INDEX(Veri!$AE$31:$AE$500,MATCH(O15,Veri!$AI$31:$AI$500,0)),\"\"),\"\")","v":""},null,6,{"$f":"IFERROR(IF(INDEX(Veri!$AK$31:$AK$500,MATCH(V15,Veri!$AS$31:$AS$500,0))<>\"\",INDEX(Veri!$AK$31:$AK$500,MATCH(V15,Veri!$AS$31:$AS$500,0)),\"\"),\"\")","v":""},{"$f":"IFERROR(IF(INDEX(Veri!$AQ$31:$AQ$500,MATCH(V15,Veri!$AS$31:$AS$500,0))<>\"\",INDEX(Veri!$AQ$31:$AQ$500,MATCH(V15,Veri!$AS$31:$AS$500,0)),\"\"),\"\")","v":""},{"$f":"IFERROR(IF(INDEX(Veri!$AM$31:$AM$500,MATCH(V15,Veri!$AS$31:$AS$500,0))<>\"\",INDEX(Veri!$AM$31:$AM$500,MATCH(V15,Veri!$AS$31:$AS$500,0)),\"\"),\"\")","v":""},{"$f":"IFERROR(IF(INDEX(Veri!$AN$31:$AN$500,MATCH(V15,Veri!$AS$31:$AS$500,0))<>\"\",INDEX(Veri!$AN$31:$AN$500,MATCH(V15,Veri!$AS$31:$AS$500,0)),\"\"),\"\")","v":""},{"$f":"IFERROR(IF(INDEX(Veri!$AO$31:$AO$500,MATCH(V15,Veri!$AS$31:$AS$500,0))<>\"\",INDEX(Veri!$AO$31:$AO$500,MATCH(V15,Veri!$AS$31:$AS$500,0)),\"\"),\"\")","v":""}]
[null,{"$f":"IF(INDEX(Veri!$B$68:$B$92,MATCH(\"League\",Veri!$B$68:$B$92,0)+9,1)<>\"\",INDEX(Veri!$B$68:$B$92,MATCH(\"League\",Veri!$B$68:$B$92,0)+9,1),\"\")","v":{"$error":"#N/A"}},{"$f":"IF(INDEX(Veri!D$68:$D$92,MATCH(\"League\",Veri!B$68:$B$92,0)+9,1)<>\"\",IF(COUNTIF(INDEX(Veri!D$68:$D$92,MATCH(\"League\",Veri!B$68:$B$92,0)+9,1),\"*\"&$B$3&\"*\"),$B$3,INDEX(Veri!D$68:$D$92,MATCH(\"League\",Veri!B$68:$B$92,0)+9,1)),\"\")","v":{"$error":"#N/A"}},{"$f":"IF(INDEX(Veri!H$68:$H$92,MATCH(\"League\",Veri!B$68:$B$92,0)+9,1)<>\"\",IF(COUNTIF(INDEX(Veri!H$68:$H$92,MATCH(\"League\",Veri!B$68:$B$92,0)+9,1),\"*\"&$B$3&\"*\"),$B$3,INDEX(Veri!H$68:$H$92,MATCH(\"League\",Veri!B$68:$B$92,0)+9,1)),\"\")","v":{"$error":"#N/A"}},{"$f":"IF(INDEX(Veri!F$68:$F$92,MATCH(\"League\",Veri!B$68:$B$92,0)+9,1)<>\"\",INDEX(Veri!F$68:$F$92,MATCH(\"League\",Veri!B$68:$B$92,0)+9,1),\"\")","v":{"$error":"#N/A"}},{"$f":"IF(INDEX(Veri!E$68:$E$92,MATCH(\"League\",Veri!B$68:$B$92,0)+9,1)<>\"\",INDEX(Veri!E$68:$E$92,MATCH(\"League\",Veri!B$68:$B$92,0)+9,1),\"\")","v":{"$error":"#N/A"}},{"$f":"IF(INDEX(Veri!B$94:$B$118,MATCH(\"League\",Veri!B$94:$B$118,0)+9,1)<>\"\",INDEX(Veri!B$94:$B$118,MATCH(\"League\",Veri!B$94:$B$118,0)+9,1),\"\")","v":{"$error":"#N/A"}},{"$f":"IF(INDEX(Veri!D$94:$D$118,MATCH(\"League\",Veri!B$94:$B$118,0)+9,1)<>\"\",IF(COUNTIF(INDEX(Veri!D$94:$D$118,MATCH(\"League\",Veri!B$94:$B$118,0)+9,1),\"*\"&$I$3&\"*\"),$I$3,INDEX(Veri!D$94:$D$118,MATCH(\"League\",Veri!B$94:$B$118,0)+9,1)),\"\")","v":{"$error":"#N/A"}},{"$f":"IF(INDEX(Veri!H$94:$H$118,MATCH(\"League\",Veri!B$94:$B$118,0)+9,1)<>\"\",IF(COUNTIF(INDEX(Veri!H$94:$H$118,MATCH(\"League\",Veri!B$94:$B$118,0)+9,1),\"*\"&$I$3&\"*\"),$I$3,INDEX(Veri!H$94:$H$118,MATCH(\"League\",Veri!B$94:$B$118,0)+9,1)),\"\")","v":{"$error":"#N/A"}},{"$f":"IF(INDEX(Veri!F$94:$F$118,MATCH(\"League\",Veri!B$94:$B$118,0)+9,1)<>\"\",INDEX(Veri!F$94:$F$118,MATCH(\"League\",Veri!B$94:$B$118,0)+9,1),\"\")","v":{"$error":"#N/A"}},{"$f":"IF(INDEX(Veri!E$94:$E$118,MATCH(\"League\",Veri!B$94:$B$118,0)+9,1)<>\"\",INDEX(Veri!E$94:$E$118,MATCH(\"League\",Veri!B$94:$B$118,0)+9,1),\"\")","v":{"$error":"#N/A"}},null,null,null,7,{"$f":"IFERROR(IF(INDEX(Veri!$AA$31:$AA$500,MATCH(O16,Veri!$AI$31:$AI$500,0))<>\"\",INDEX(Veri!$AA$31:$AA$500,MATCH(O16,Veri!$AI$31:$AI$500,0)),\"\"),\"\")","v":""},{"$f":"IFERROR(IF(INDEX(Veri!$AG$31:$AG$500,MATCH(O16,Veri!$AI$31:$AI$500,0))<>\"\",INDEX(Veri!$AG$31:$AG$500,MATCH(O16,Veri!$AI$31:$AI$500,0)),\"\"),\"\")","v":""},{"$f":"IFERROR(IF(INDEX(Veri!$AC$31:$AC$500,MATCH(O16,Veri!$AI$31:$AI$500,0))<>\"\",INDEX(Veri!$AC$31:$AC$500,MATCH(O16,Veri!$AI$31:$AI$500,0)),\"\"),\"\")","v":""},{"$f":"IFERROR(IF(INDEX(Veri!$AD$31:$AD$500,MATCH(O16,Veri!$AI$31:$AI$500,0))<>\"\",INDEX(Veri!$AD$31:$AD$500,MATCH(O16,Veri!$AI$31:$AI$500,0)),\"\"),\"\")","v":""},{"$f":"IFERROR(IF(INDEX(Veri!$AE$31:$AE$500,MATCH(O16,Veri!$AI$31:$AI$500,0))<>\"\",INDEX(Veri!$AE$31:$AE$500,MATCH(O16,Veri!$AI$31:$AI$500,0)),\"\"),\"\")","v":""},null,7,{"$f":"IFERROR(IF(INDEX(Veri!$AK$31:$AK$500,MATCH(V16,Veri!$AS$31:$AS$500,0))<>\"\",INDEX(Veri!$AK$31:$AK$500,MATCH(V16,Veri!$AS$31:$AS$500,0)),\"\"),\"\")","v":""},{"$f":"IFERROR(IF(INDEX(Veri!$AQ$31:$AQ$500,MATCH(V16,Veri!$AS$31:$AS$500,0))<>\"\",INDEX(Veri!$AQ$31:$AQ$500,MATCH(V16,Veri!$AS$31:$AS$500,0)),\"\"),\"\")","v":""},{"$f":"IFERROR(IF(INDEX(Veri!$AM$31:$AM$500,MATCH(V16,Veri!$AS$31:$AS$500,0))<>\"\",INDEX(Veri!$AM$31:$AM$500,MATCH(V16,Veri!$AS$31:$AS$500,0)),\"\"),\"\")","v":""},{"$f":"IFERROR(IF(INDEX(Veri!$AN$31:$AN$500,MATCH(V16,Veri!$AS$31:$AS$500,0))<>\"\",INDEX(Veri!$AN$31:$AN$500,MATCH(V16,Veri!$AS$31:$AS$500,0)),\"\"),\"\")","v":""},{"$f":"IFERROR(IF(INDEX(Veri!$AO$31:$AO$500,MATCH(V16,Veri!$AS$31:$AS$500,0))<>\"\",INDEX(Veri!$AO$31:$AO$500,MATCH(V16,Veri!$AS$31:$AS$500,0)),\"\"),\"\")","v":""}]
[null,{"$f":"IF(INDEX(Veri!$B$68:$B$92,MATCH(\"League\",Veri!$B$68:$B$92,0)+10,1)<>\"\",INDEX(Veri!$B$68:$B$92,MATCH(\"League\",Veri!$B$68:$B$92,0)+10,1),\"\")","v":{"$error":"#N/A"}},{"$f":"IF(INDEX(Veri!D$68:$D$92,MATCH(\"League\",Veri!B$68:$B$92,0)+10,1)<>\"\",IF(COUNTIF(INDEX(Veri!D$68:$D$92,MATCH(\"League\",Veri!B$68:$B$92,0)+10,1),\"*\"&$B$3&\"*\"),$B$3,INDEX(Veri!D$68:$D$92,MATCH(\"League\",Veri!B$68:$B$92,0)+10,1)),\"\")","v":{"$error":"#N/A"}},{"$f":"IF(INDEX(Veri!H$68:$H$92,MATCH(\"League\",Veri!B$68:$B$92,0)+10,1)<>\"\",IF(COUNTIF(INDEX(Veri!H$68:$H$92,MATCH(\"League\",Veri!B$68:$B$92,0)+10,1),\"*\"&$B$3&\"*\"),$B$3,INDEX(Veri!H$68:$H$92,MATCH(\"League\",Veri!B$68:$B$92,0)+10,1)),\"\")","v":{"$error":"#N/A"}},{"$f":"IF(INDEX(Veri!F$68:$F$92,MATCH(\"League\",Veri!B$68:$B$92,0)+10,1)<>\"\",INDEX(Veri!F$68:$F$92,MATCH(\"League\",Veri!B$68:$B$92,0)+10,1),\"\")","v":{"$error":"#N/A"}},{"$f":"IF(INDEX(Veri!E$68:$E$92,MATCH(\"League\",Veri!B$68:$B$92,0)+10,1)<>\"\",INDEX(Veri!E$68:$E$92,MATCH(\"League\",Veri!B$68:$B$92,0)+10,1),\"\")","v":{"$error":"#N/A"}},{"$f":"IF(INDEX(Veri!B$94:$B$118,MATCH(\"League\",Veri!B$94:$B$118,0)+10,1)<>\"\",INDEX(Veri!B$94:$B$118,MATCH(\"League\",Veri!B$94:$B$118,0)+10,1),\"\")","v":{"$error":"#N/A"}},{"$f":"IF(INDEX(Veri!D$94:$D$118,MATCH(\"League\",Veri!B$94:$B$118,0)+10,1)<>\"\",IF(COUNTIF(INDEX(Veri!D$94:$D$118,MATCH(\"League\",Veri!B$94:$B$118,0)+10,1),\"*\"&$I$3&\"*\"),$I$3,INDEX(Veri!D$94:$D$118,MATCH(\"League\",Veri!B$94:$B$118,0)+10,1)),\"\")","v":{"$error":"#N/A"}},{"$f":"IF(INDEX(Veri!H$94:$H$118,MATCH(\"League\",Veri!B$94:$B$118,0)+10,1)<>\"\",IF(COUNTIF(INDEX(Veri!H$94:$H$118,MATCH(\"League\",Veri!B$94:$B$118,0)+10,1),\"*\"&$I$3&\"*\"),$I$3,INDEX(Veri!H$94:$H$118,MATCH(\"League\",Veri!B$94:$B$118,0)+10,1)),\"\")","v":{"$error":"#N/A"}},{"$f":"IF(INDEX(Veri!F$94:$F$118,MATCH(\"League\",Veri!B$94:$B$118,0)+10,1)<>\"\",INDEX(Veri!F$94:$F$118,MATCH(\"League\",Veri!B$94:$B$118,0)+10,1),\"\")","v":{"$error":"#N/A"}},{"$f":"IF(INDEX(Veri!E$94:$E$118,MATCH(\"League\",Veri!B$94:$B$118,0)+10,1)<>\"\",INDEX(Veri!E$94:$E$118,MATCH(\"League\",Veri!B$94:$B$118,0)+10,1),\"\")","v":{"$error":"#N/A"}},null,null,null,8,{"$f":"IFERROR(IF(INDEX(Veri!$AA$31:$AA$500,MATCH(O17,Veri!$AI$31:$AI$500,0))<>\"\",INDEX(Veri!$AA$31:$AA$500,MATCH(O17,Veri!$AI$31:$AI$500,0)),\"\"),\"\")","v":""},{"$f":"IFERROR(IF(INDEX(Veri!$AG$31:$AG$500,MATCH(O17,Veri!$AI$31:$AI$500,0))<>\"\",INDEX(Veri!$AG$31:$AG$500,MATCH(O17,Veri!$AI$31:$AI$500,0)),\"\"),\"\")","v":""},{"$f":"IFERROR(IF(INDEX(Veri!$AC$31:$AC$500,MATCH(O17,Veri!$AI$31:$AI$500,0))<>\"\",INDEX(Veri!$AC$31:$AC$500,MATCH(O17,Veri!$AI$31:$AI$500,0)),\"\"),\"\")","v":""},{"$f":"IFERROR(IF(INDEX(Veri!$AD$31:$AD$500,MATCH(O17,Veri!$AI$31:$AI$500,0))<>\"\",INDEX(Veri!$AD$31:$AD$500,MATCH(O17,Veri!$AI$31:$AI$500,0)),\"\"),\"\")","v":""},{"$f":"IFERROR(IF(INDEX(Veri!$AE$31:$AE$500,MATCH(O17,Veri!$AI$31:$AI$500,0))<>\"\",INDEX(Veri!$AE$31:$AE$500,MATCH(O17,Veri!$AI$31:$AI$500,0)),\"\"),\"\")","v":""},null,8,{"$f":"IFERROR(IF(INDEX(Veri!$AK$31:$AK$500,MATCH(V17,Veri!$AS$31:$AS$500,0))<>\"\",INDEX(Veri!$AK$31:$AK$500,MATCH(V17,Veri!$AS$31:$AS$500,0)),\"\"),\"\")","v":""},{"$f":"IFERROR(IF(INDEX(Veri!$AQ$31:$AQ$500,MATCH(V17,Veri!$AS$31:$AS$500,0))<>\"\",INDEX(Veri!$AQ$31:$AQ$500,MATCH(V17,Veri!$AS$31:$AS$500,0)),\"\"),\"\")","v":""},{"$f":"IFERROR(IF(INDEX(Veri!$AM$31:$AM$500,MATCH(V17,Veri!$AS$31:$AS$500,0))<>\"\",INDEX(Veri!$AM$31:$AM$500,MATCH(V17,Veri!$AS$31:$AS$500,0)),\"\"),\"\")","v":""},{"$f":"IFERROR(IF(INDEX(Veri!$AN$31:$AN$500,MATCH(V17,Veri!$AS$31:$AS$500,0))<>\"\",INDEX(Veri!$AN$31:$AN$500,MATCH(V17,Veri!$AS$31:$AS$500,0)),\"\"),\"\")","v":""},{"$f":"IFERROR(IF(INDEX(Veri!$AO$31:$AO$500,MATCH(V17,Veri!$AS$31:$AS$500,0))<>\"\",INDEX(Veri!$AO$31:$AO$500,MATCH(V17,Veri!$AS$31:$AS$500,0)),\"\"),\"\")","v":""}]
[null,{"$f":"IF(INDEX(Veri!$B$68:$B$92,MATCH(\"League\",Veri!$B$68:$B$92,0)+11,1)<>\"\",INDEX(Veri!$B$68:$B$92,MATCH(\"League\",Veri!$B$68:$B$92,0)+11,1),\"\")","v":{"$error":"#N/A"}},{"$f":"IF(INDEX(Veri!D$68:$D$92,MATCH(\"League\",Veri!B$68:$B$92,0)+11,1)<>\"\",IF(COUNTIF(INDEX(Veri!D$68:$D$92,MATCH(\"League\",Veri!B$68:$B$92,0)+11,1),\"*\"&$B$3&\"*\"),$B$3,INDEX(Veri!D$68:$D$92,MATCH(\"League\",Veri!B$68:$B$92,0)+11,1)),\"\")","v":{"$error":"#N/A"}},{"$f":"IF(INDEX(Veri!H$68:$H$92,MATCH(\"League\",Veri!B$68:$B$92,0)+11,1)<>\"\",IF(COUNTIF(INDEX(Veri!H$68:$H$92,MATCH(\"League\",Veri!B$68:$B$92,0)+11,1),\"*\"&$B$3&\"*\"),$B$3,INDEX(Veri!H$68:$H$92,MATCH(\"League\",Veri!B$68:$B$92,0)+11,1)),\"\")","v":{"$error":"#N/A"}},{"$f":"IF(INDEX(Veri!F$68:$F$92,MATCH(\"League\",Veri!B$68:$B$92,0)+11,1)<>\"\",INDEX(Veri!F$68:$F$92,MATCH(\"League\",Veri!B$68:$B$92,0)+11,1),\"\")","v":{"$error":"#N/A"}},{"$f":"IF(INDEX(Veri!E$68:$E$92,MATCH(\"League\",Veri!B$68:$B$92,0)+11,1)<>\"\",INDEX(Veri!E$68:$E$92,MATCH(\"League\",Veri!B$68:$B$92,0)+11,1),\"\")","v":{"$error":"#N/A"}},{"$f":"IF(INDEX(Veri!B$94:$B$118,MATCH(\"League\",Veri!B$94:$B$118,0)+11,1)<>\"\",INDEX(Veri!B$94:$B$118,MATCH(\"League\",Veri!B$94:$B$118,0)+11,1),\"\")","v":{"$error":"#N/A"}},{"$f":"IF(INDEX(Veri!D$94:$D$118,MATCH(\"League\",Veri!B$94:$B$118,0)+11,1)<>\"\",IF(COUNTIF(INDEX(Veri!D$94:$D$118,MATCH(\"League\",Veri!B$94:$B$118,0)+11,1),\"*\"&$I$3&\"*\"),$I$3,INDEX(Veri!D$94:$D$118,MATCH(\"League\",Veri!B$94:$B$118,0)+11,1)),\"\")","v":{"$error":"#N/A"}},{"$f":"IF(INDEX(Veri!H$94:$H$118,MATCH(\"League\",Veri!B$94:$B$118,0)+11,1)<>\"\",IF(COUNTIF(INDEX(Veri!H$94:$H$118,MATCH(\"League\",Veri!B$94:$B$118,0)+11,1),\"*\"&$I$3&\"*\"),$I$3,INDEX(Veri!H$94:$H$118,MATCH(\"League\",Veri!B$94:$B$118,0)+11,1)),\"\")","v":{"$error":"#N/A"}},{"$f":"IF(INDEX(Veri!F$94:$F$118,MATCH(\"League\",Veri!B$94:$B$118,0)+11,1)<>\"\",INDEX(Veri!F$94:$F$118,MATCH(\"League\",Veri!B$94:$B$118,0)+11,1),\"\")","v":{"$error":"#N/A"}},{"$f":"IF(INDEX(Veri!E$94:$E$118,MATCH(\"League\",Veri!B$94:$B$118,0)+11,1)<>\"\",INDEX(Veri!E$94:$E$118,MATCH(\"League\",Veri!B$94:$B$118,0)+11,1),\"\")","v":{"$error":"#N/A"}},null,null,null,9,{"$f":"IFERROR(IF(INDEX(Veri!$AA$31:$AA$500,MATCH(O18,Veri!$AI$31:$AI$500,0))<>\"\",INDEX(Veri!$AA$31:$AA$500,MATCH(O18,Veri!$AI$31:$AI$500,0)),\"\"),\"\")","v":""},{"$f":"IFERROR(IF(INDEX(Veri!$AG$31:$AG$500,MATCH(O18,Veri!$AI$31:$AI$500,0))<>\"\",INDEX(Veri!$AG$31:$AG$500,MATCH(O18,Veri!$AI$31:$AI$500,0)),\"\"),\"\")","v":""},{"$f":"IFERROR(IF(INDEX(Veri!$AC$31:$AC$500,MATCH(O18,Veri!$AI$31:$AI$500,0))<>\"\",INDEX(Veri!$AC$31:$AC$500,MATCH(O18,Veri!$AI$31:$AI$500,0)),\"\"),\"\")","v":""},{"$f":"IFERROR(IF(INDEX(Veri!$AD$31:$AD$500,MATCH(O18,Veri!$AI$31:$AI$500,0))<>\"\",INDEX(Veri!$AD$31:$AD$500,MATCH(O18,Veri!$AI$31:$AI$500,0)),\"\"),\"\")","v":""},{"$f":"IFERROR(IF(INDEX(Veri!$AE$31:$AE$500,MATCH(O18,Veri!$AI$31:$AI$500,0))<>\"\",INDEX(Veri!$AE$31:$AE$500,MATCH(O18,Veri!$AI$31:$AI$500,0)),\"\"),\"\")","v":""},null,9,{"$f":"IFERROR(IF(INDEX(Veri!$AK$31:$AK$500,MATCH(V18,Veri!$AS$31:$AS$500,0))<>\"\",INDEX(Veri!$AK$31:$AK$500,MATCH(V18,Veri!$AS$31:$AS$500,0)),\"\"),\"\")","v":""},{"$f":"IFERROR(IF(INDEX(Veri!$AQ$31:$AQ$500,MATCH(V18,Veri!$AS$31:$AS$500,0))<>\"\",INDEX(Veri!$AQ$31:$AQ$500,MATCH(V18,Veri!$AS$31:$AS$500,0)),\"\"),\"\")","v":""},{"$f":"IFERROR(IF(INDEX(Veri!$AM$31:$AM$500,MATCH(V18,Veri!$AS$31:$AS$500,0))<>\"\",INDEX(Veri!$AM$31:$AM$500,MATCH(V18,Veri!$AS$31:$AS$500,0)),\"\"),\"\")","v":""},{"$f":"IFERROR(IF(INDEX(Veri!$AN$31:$AN$500,MATCH(V18,Veri!$AS$31:$AS$500,0))<>\"\",INDEX(Veri!$AN$31:$AN$500,MATCH(V18,Veri!$AS$31:$AS$500,0)),\"\"),\"\")","v":""},{"$f":"IFERROR(IF(INDEX(Veri!$AO$31:$AO$500,MATCH(V18,Veri!$AS$31:$AS$500,0))<>\"\",INDEX(Veri!$AO$31:$AO$500,MATCH(V18,Veri!$AS$31:$AS$500,0)),\"\"),\"\")","v":""}]
[null,{"$f":"IF(INDEX(Veri!$B$68:$B$92,MATCH(\"League\",Veri!$B$68:$B$92,0)+12,1)<>\"\",INDEX(Veri!$B$68:$B$92,MATCH(\"League\",Veri!$B$68:$B$92,0)+12,1),\"\")","v":{"$error":"#N/A"}},{"$f":"IF(INDEX(Veri!D$68:$D$92,MATCH(\"League\",Veri!B$68:$B$92,0)+12,1)<>\"\",IF(COUNTIF(INDEX(Veri!D$68:$D$92,MATCH(\"League\",Veri!B$68:$B$92,0)+12,1),\"*\"&$B$3&\"*\"),$B$3,INDEX(Veri!D$68:$D$92,MATCH(\"League\",Veri!B$68:$B$92,0)+12,1)),\"\")","v":{"$error":"#N/A"}},{"$f":"IF(INDEX(Veri!H$68:$H$92,MATCH(\"League\",Veri!B$68:$B$92,0)+12,1)<>\"\",IF(COUNTIF(INDEX(Veri!H$68:$H$92,MATCH(\"League\",Veri!B$68:$B$92,0)+12,1),\"*\"&$B$3&\"*\"),$B$3,INDEX(Veri!H$68:$H$92,MATCH(\"League\",Veri!B$68:$B$92,0)+12,1)),\"\")","v":{"$error":"#N/A"}},{"$f":"IF(INDEX(Veri!F$68:$F$92,MATCH(\"League\",Veri!B$68:$B$92,0)+12,1)<>\"\",INDEX(Veri!F$68:$F$92,MATCH(\"League\",Veri!B$68:$B$92,0)+12,1),\"\")","v":{"$error":"#N/A"}},{"$f":"IF(INDEX(Veri!E$68:$E$92,MATCH(\"League\",Veri!B$68:$B$92,0)+12,1)<>\"\",INDEX(Veri!E$68:$E$92,MATCH(\"League\",Veri!B$68:$B$92,0)+12,1),\"\")","v":{"$error":"#N/A"}},{"$f":"IF(INDEX(Veri!B$94:$B$118,MATCH(\"League\",Veri!B$94:$B$118,0)+12,1)<>\"\",INDEX(Veri!B$94:$B$118,MATCH(\"League\",Veri!B$94:$B$118,0)+12,1),\"\")","v":{"$error":"#N/A"}},{"$f":"IF(INDEX(Veri!D$94:$D$118,MATCH(\"League\",Veri!B$94:$B$118,0)+12,1)<>\"\",IF(COUNTIF(INDEX(Veri!D$94:$D$118,MATCH(\"League\",Veri!B$94:$B$118,0)+12,1),\"*\"&$I$3&\"*\"),$I$3,INDEX(Veri!D$94:$D$118,MATCH(\"League\",Veri!B$94:$B$118,0)+12,1)),\"\")","v":{"$error":"#N/A"}},{"$f":"IF(INDEX(Veri!H$94:$H$118,MATCH(\"League\",Veri!B$94:$B$118,0)+12,1)<>\"\",IF(COUNTIF(INDEX(Veri!H$94:$H$118,MATCH(\"League\",Veri!B$94:$B$118,0)+12,1),\"*\"&$I$3&\"*\"),$I$3,INDEX(Veri!H$94:$H$118,MATCH(\"League\",Veri!B$94:$B$118,0)+12,1)),\"\")","v":{"$error":"#N/A"}},{"$f":"IF(INDEX(Veri!F$94:$F$118,MATCH(\"League\",Veri!B$94:$B$118,0)+12,1)<>\"\",INDEX(Veri!F$94:$F$118,MATCH(\"League\",Veri!B$94:$B$118,0)+12,1),\"\")","v":{"$error":"#N/A"}},{"$f":"IF(INDEX(Veri!E$94:$E$118,MATCH(\"League\",Veri!B$94:$B$118,0)+12,1)<>\"\",INDEX(Veri!E$94:$E$118,MATCH(\"League\",Veri!B$94:$B$118,0)+12,1),\"\")","v":{"$error":"#N/A"}},null,null,null,10,{"$f":"IFERROR(IF(INDEX(Veri!$AA$31:$AA$500,MATCH(O19,Veri!$AI$31:$AI$500,0))<>\"\",INDEX(Veri!$AA$31:$AA$500,MATCH(O19,Veri!$AI$31:$AI$500,0)),\"\"),\"\")","v":""},{"$f":"IFERROR(IF(INDEX(Veri!$AG$31:$AG$500,MATCH(O19,Veri!$AI$31:$AI$500,0))<>\"\",INDEX(Veri!$AG$31:$AG$500,MATCH(O19,Veri!$AI$31:$AI$500,0)),\"\"),\"\")","v":""},{"$f":"IFERROR(IF(INDEX(Veri!$AC$31:$AC$500,MATCH(O19,Veri!$AI$31:$AI$500,0))<>\"\",INDEX(Veri!$AC$31:$AC$500,MATCH(O19,Veri!$AI$31:$AI$500,0)),\"\"),\"\")","v":""},{"$f":"IFERROR(IF(INDEX(Veri!$AD$31:$AD$500,MATCH(O19,Veri!$AI$31:$AI$500,0))<>\"\",INDEX(Veri!$AD$31:$AD$500,MATCH(O19,Veri!$AI$31:$AI$500,0)),\"\"),\"\")","v":""},{"$f":"IFERROR(IF(INDEX(Veri!$AE$31:$AE$500,MATCH(O19,Veri!$AI$31:$AI$500,0))<>\"\",INDEX(Veri!$AE$31:$AE$500,MATCH(O19,Veri!$AI$31:$AI$500,0)),\"\"),\"\")","v":""},null,10,{"$f":"IFERROR(IF(INDEX(Veri!$AK$31:$AK$500,MATCH(V19,Veri!$AS$31:$AS$500,0))<>\"\",INDEX(Veri!$AK$31:$AK$500,MATCH(V19,Veri!$AS$31:$AS$500,0)),\"\"),\"\")","v":""},{"$f":"IFERROR(IF(INDEX(Veri!$AQ$31:$AQ$500,MATCH(V19,Veri!$AS$31:$AS$500,0))<>\"\",INDEX(Veri!$AQ$31:$AQ$500,MATCH(V19,Veri!$AS$31:$AS$500,0)),\"\"),\"\")","v":""},{"$f":"IFERROR(IF(INDEX(Veri!$AM$31:$AM$500,MATCH(V19,Veri!$AS$31:$AS$500,0))<>\"\",INDEX(Veri!$AM$31:$AM$500,MATCH(V19,Veri!$AS$31:$AS$500,0)),\"\"),\"\")","v":""},{"$f":"IFERROR(IF(INDEX(Veri!$AN$31:$AN$500,MATCH(V19,Veri!$AS$31:$AS$500,0))<>\"\",INDEX(Veri!$AN$31:$AN$500,MATCH(V19,Veri!$AS$31:$AS$500,0)),\"\"),\"\")","v":""},{"$f":"IFERROR(IF(INDEX(Veri!$AO$31:$AO$500,MATCH(V19,Veri!$AS$31:$AS$500,0))<>\"\",INDEX(Veri!$AO$31:$AO$500,MATCH(V19,Veri!$AS$31:$AS$500,0)),\"\"),\"\")","v":""}]
[null,{"$f":"IF(INDEX(Veri!$B$68:$B$92,MATCH(\"League\",Veri!$B$68:$B$92,0)+13,1)<>\"\",INDEX(Veri!$B$68:$B$92,MATCH(\"League\",Veri!$B$68:$B$92,0)+13,1),\"\")","v":{"$error":"#N/A"}},{"$f":"IF(INDEX(Veri!D$68:$D$92,MATCH(\"League\",Veri!B$68:$B$92,0)+13,1)<>\"\",IF(COUNTIF(INDEX(Veri!D$68:$D$92,MATCH(\"League\",Veri!B$68:$B$92,0)+13,1),\"*\"&$B$3&\"*\"),$B$3,INDEX(Veri!D$68:$D$92,MATCH(\"League\",Veri!B$68:$B$92,0)+13,1)),\"\")","v":{"$error":"#N/A"}},{"$f":"IF(INDEX(Veri!H$68:$H$92,MATCH(\"League\",Veri!B$68:$B$92,0)+13,1)<>\"\",IF(COUNTIF(INDEX(Veri!H$68:$H$92,MATCH(\"League\",Veri!B$68:$B$92,0)+13,1),\"*\"&$B$3&\"*\"),$B$3,INDEX(Veri!H$68:$H$92,MATCH(\"League\",Veri!B$68:$B$92,0)+13,1)),\"\")","v":{"$error":"#N/A"}},{"$f":"IF(INDEX(Veri!F$68:$F$92,MATCH(\"League\",Veri!B$68:$B$92,0)+13,1)<>\"\",INDEX(Veri!F$68:$F$92,MATCH(\"League\",Veri!B$68:$B$92,0)+13,1),\"\")","v":{"$error":"#N/A"}},{"$f":"IF(INDEX(Veri!E$68:$E$92,MATCH(\"League\",Veri!B$68:$B$92,0)+13,1)<>\"\",INDEX(Veri!E$68:$E$92,MATCH(\"League\",Veri!B$68:$B$92,0)+13,1),\"\")","v":{"$error":"#N/A"}},{"$f":"IF(INDEX(Veri!B$94:$B$118,MATCH(\"League\",Veri!B$94:$B$118,0)+13,1)<>\"\",INDEX(Veri!B$94:$B$118,MATCH(\"League\",Veri!B$94:$B$118,0)+13,1),\"\")","v":{"$error":"#N/A"}},{"$f":"IF(INDEX(Veri!D$94:$D$118,MATCH(\"League\",Veri!B$94:$B$118,0)+13,1)<>\"\",IF(COUNTIF(INDEX(Veri!D$94:$D$118,MATCH(\"League\",Veri!B$94:$B$118,0)+13,1),\"*\"&$I$3&\"*\"),$I$3,INDEX(Veri!D$94:$D$118,MATCH(\"League\",Veri!B$94:$B$118,0)+13,1)),\"\")","v":{"$error":"#N/A"}},{"$f":"IF(INDEX(Veri!H$94:$H$118,MATCH(\"League\",Veri!B$94:$B$118,0)+13,1)<>\"\",IF(COUNTIF(INDEX(Veri!H$94:$H$118,MATCH(\"League\",Veri!B$94:$B$118,0)+13,1),\"*\"&$I$3&\"*\"),$I$3,INDEX(Veri!H$94:$H$118,MATCH(\"League\",Veri!B$94:$B$118,0)+13,1)),\"\")","v":{"$error":"#N/A"}},{"$f":"IF(INDEX(Veri!F$94:$F$118,MATCH(\"League\",Veri!B$94:$B$118,0)+13,1)<>\"\",INDEX(Veri!F$94:$F$118,MATCH(\"League\",Veri!B$94:$B$118,0)+13,1),\"\")","v":{"$error":"#N/A"}},{"$f":"IF(INDEX(Veri!E$94:$E$118,MATCH(\"League\",Veri!B$94:$B$118,0)+13,1)<>\"\",INDEX(Veri!E$94:$E$118,MATCH(\"League\",Veri!B$94:$B$118,0)+13,1),\"\")","v":{"$error":"#N/A"}},null,null,null,11,{"$f":"IFERROR(IF(INDEX(Veri!$AA$31:$AA$500,MATCH(O20,Veri!$AI$31:$AI$500,0))<>\"\",INDEX(Veri!$AA$31:$AA$500,MATCH(O20,Veri!$AI$31:$AI$500,0)),\"\"),\"\")","v":""},{"$f":"IFERROR(IF(INDEX(Veri!$AG$31:$AG$500,MATCH(O20,Veri!$AI$31:$AI$500,0))<>\"\",INDEX(Veri!$AG$31:$AG$500,MATCH(O20,Veri!$AI$31:$AI$500,0)),\"\"),\"\")","v":""},{"$f":"IFERROR(IF(INDEX(Veri!$AC$31:$AC$500,MATCH(O20,Veri!$AI$31:$AI$500,0))<>\"\",INDEX(Veri!$AC$31:$AC$500,MATCH(O20,Veri!$AI$31:$AI$500,0)),\"\"),\"\")","v":""},{"$f":"IFERROR(IF(INDEX(Veri!$AD$31:$AD$500,MATCH(O20,Veri!$AI$31:$AI$500,0))<>\"\",INDEX(Veri!$AD$31:$AD$500,MATCH(O20,Veri!$AI$31:$AI$500,0)),\"\"),\"\")","v":""},{"$f":"IFERROR(IF(INDEX(Veri!$AE$31:$AE$500,MATCH(O20,Veri!$AI$31:$AI$500,0))<>\"\",INDEX(Veri!$AE$31:$AE$500,MATCH(O20,Veri!$AI$31:$AI$500,0)),\"\"),\"\")","v":""},null,11,{"$f":"IFERROR(IF(INDEX(Veri!$AK$31:$AK$500,MATCH(V20,Veri!$AS$31:$AS$500,0))<>\"\",INDEX(Veri!$AK$31:$AK$500,MATCH(V20,Veri!$AS$31:$AS$500,0)),\"\"),\"\")","v":""},{"$f":"IFERROR(IF(INDEX(Veri!$AQ$31:$AQ$500,MATCH(V20,Veri!$AS$31:$AS$500,0))<>\"\",INDEX(Veri!$AQ$31:$AQ$500,MATCH(V20,Veri!$AS$31:$AS$500,0)),\"\"),\"\")","v":""},{"$f":"IFERROR(IF(INDEX(Veri!$AM$31:$AM$500,MATCH(V20,Veri!$AS$31:$AS$500,0))<>\"\",INDEX(Veri!$AM$31:$AM$500,MATCH(V20,Veri!$AS$31:$AS$500,0)),\"\"),\"\")","v":""},{"$f":"IFERROR(IF(INDEX(Veri!$AN$31:$AN$500,MATCH(V20,Veri!$AS$31:$AS$500,0))<>\"\",INDEX(Veri!$AN$31:$AN$500,MATCH(V20,Veri!$AS$31:$AS$500,0)),\"\"),\"\")","v":""},{"$f":"IFERROR(IF(INDEX(Veri!$AO$31:$AO$500,MATCH(V20,Veri!$AS$31:$AS$500,0))<>\"\",INDEX(Veri!$AO$31:$AO$500,MATCH(V20,Veri!$AS$31:$AS$500,0)),\"\"),\"\")","v":""}]
[null,{"$f":"IF(INDEX(Veri!$B$68:$B$92,MATCH(\"League\",Veri!$B$68:$B$92,0)+14,1)<>\"\",INDEX(Veri!$B$68:$B$92,MATCH(\"League\",Veri!$B$68:$B$92,0)+14,1),\"\")","v":{"$error":"#N/A"}},{"$f":"IF(INDEX(Veri!D$68:$D$92,MATCH(\"League\",Veri!B$68:$B$92,0)+14,1)<>\"\",IF(COUNTIF(INDEX(Veri!D$68:$D$92,MATCH(\"League\",Veri!B$68:$B$92,0)+14,1),\"*\"&$B$3&\"*\"),$B$3,INDEX(Veri!D$68:$D$92,MATCH(\"League\",Veri!B$68:$B$92,0)+14,1)),\"\")","v":{"$error":"#N/A"}},{"$f":"IF(INDEX(Veri!H$68:$H$92,MATCH(\"League\",Veri!B$68:$B$92,0)+14,1)<>\"\",IF(COUNTIF(INDEX(Veri!H$68:$H$92,MATCH(\"League\",Veri!B$68:$B$92,0)+14,1),\"*\"&$B$3&\"*\"),$B$3,INDEX(Veri!H$68:$H$92,MATCH(\"League\",Veri!B$68:$B$92,0)+14,1)),\"\")","v":{"$error":"#N/A"}},{"$f":"IF(INDEX(Veri!F$68:$F$92,MATCH(\"League\",Veri!B$68:$B$92,0)+14,1)<>\"\",INDEX(Veri!F$68:$F$92,MATCH(\"League\",Veri!B$68:$B$92,0)+14,1),\"\")","v":{"$error":"#N/A"}},{"$f":"IF(INDEX(Veri!E$68:$E$92,MATCH(\"League\",Veri!B$68:$B$92,0)+14,1)<>\"\",INDEX(Veri!E$68:$E$92,MATCH(\"League\",Veri!B$68:$B$92,0)+14,1),\"\")","v":{"$error":"#N/A"}},{"$f":"IF(INDEX(Veri!B$94:$B$118,MATCH(\"League\",Veri!B$94:$B$118,0)+14,1)<>\"\",INDEX(Veri!B$94:$B$118,MATCH(\"League\",Veri!B$94:$B$118,0)+14,1),\"\")","v":{"$error":"#N/A"}},{"$f":"IF(INDEX(Veri!D$94:$D$118,MATCH(\"League\",Veri!B$94:$B$118,0)+14,1)<>\"\",IF(COUNTIF(INDEX(Veri!D$94:$D$118,MATCH(\"League\",Veri!B$94:$B$118,0)+14,1),\"*\"&$I$3&\"*\"),$I$3,INDEX(Veri!D$94:$D$118,MATCH(\"League\",Veri!B$94:$B$118,0)+14,1)),\"\")","v":{"$error":"#N/A"}},{"$f":"IF(INDEX(Veri!H$94:$H$118,MATCH(\"League\",Veri!B$94:$B$118,0)+14,1)<>\"\",IF(COUNTIF(INDEX(Veri!H$94:$H$118,MATCH(\"League\",Veri!B$94:$B$118,0)+14,1),\"*\"&$I$3&\"*\"),$I$3,INDEX(Veri!H$94:$H$118,MATCH(\"League\",Veri!B$94:$B$118,0)+14,1)),\"\")","v":{"$error":"#N/A"}},{"$f":"IF(INDEX(Veri!F$94:$F$118,MATCH(\"League\",Veri!B$94:$B$118,0)+14,1)<>\"\",INDEX(Veri!F$94:$F$118,MATCH(\"League\",Veri!B$94:$B$118,0)+14,1),\"\")","v":{"$error":"#N/A"}},{"$f":"IF(INDEX(Veri!E$94:$E$118,MATCH(\"League\",Veri!B$94:$B$118,0)+14,1)<>\"\",INDEX(Veri!E$94:$E$118,MATCH(\"League\",Veri!B$94:$B$118,0)+14,1),\"\")","v":{"$error":"#N/A"}},null,null,null,12,{"$f":"IFERROR(IF(INDEX(Veri!$AA$31:$AA$500,MATCH(O21,Veri!$AI$31:$AI$500,0))<>\"\",INDEX(Veri!$AA$31:$AA$500,MATCH(O21,Veri!$AI$31:$AI$500,0)),\"\"),\"\")","v":""},{"$f":"IFERROR(IF(INDEX(Veri!$AG$31:$AG$500,MATCH(O21,Veri!$AI$31:$AI$500,0))<>\"\",INDEX(Veri!$AG$31:$AG$500,MATCH(O21,Veri!$AI$31:$AI$500,0)),\"\"),\"\")","v":""},{"$f":"IFERROR(IF(INDEX(Veri!$AC$31:$AC$500,MATCH(O21,Veri!$AI$31:$AI$500,0))<>\"\",INDEX(Veri!$AC$31:$AC$500,MATCH(O21,Veri!$AI$31:$AI$500,0)),\"\"),\"\")","v":""},{"$f":"IFERROR(IF(INDEX(Veri!$AD$31:$AD$500,MATCH(O21,Veri!$AI$31:$AI$500,0))<>\"\",INDEX(Veri!$AD$31:$AD$500,MATCH(O21,Veri!$AI$31:$AI$500,0)),\"\"),\"\")","v":""},{"$f":"IFERROR(IF(INDEX(Veri!$AE$31:$AE$500,MATCH(O21,Veri!$AI$31:$AI$500,0))<>\"\",INDEX(Veri!$AE$31:$AE$500,MATCH(O21,Veri!$AI$31:$AI$500,0)),\"\"),\"\")","v":""},null,12,{"$f":"IFERROR(IF(INDEX(Veri!$AK$31:$AK$500,MATCH(V21,Veri!$AS$31:$AS$500,0))<>\"\",INDEX(Veri!$AK$31:$AK$500,MATCH(V21,Veri!$AS$31:$AS$500,0)),\"\"),\"\")","v":""},{"$f":"IFERROR(IF(INDEX(Veri!$AQ$31:$AQ$500,MATCH(V21,Veri!$AS$31:$AS$500,0))<>\"\",INDEX(Veri!$AQ$31:$AQ$500,MATCH(V21,Veri!$AS$31:$AS$500,0)),\"\"),\"\")","v":""},{"$f":"IFERROR(IF(INDEX(Veri!$AM$31:$AM$500,MATCH(V21,Veri!$AS$31:$AS$500,0))<>\"\",INDEX(Veri!$AM$31:$AM$500,MATCH(V21,Veri!$AS$31:$AS$500,0)),\"\"),\"\")","v":""},{"$f":"IFERROR(IF(INDEX(Veri!$AN$31:$AN$500,MATCH(V21,Veri!$AS$31:$AS$500,0))<>\"\",INDEX(Veri!$AN$31:$AN$500,MATCH(V21,Veri!$AS$31:$AS$500,0)),\"\"),\"\")","v":""},{"$f":"IFERROR(IF(INDEX(Veri!$AO$31:$AO$500,MATCH(V21,Veri!$AS$31:$AS$500,0))<>\"\",INDEX(Veri!$AO$31:$AO$500,MATCH(V21,Veri!$AS$31:$AS$500,0)),\"\"),\"\")","v":""}]
[null,{"$f":"IF(INDEX(Veri!$B$68:$B$92,MATCH(\"League\",Veri!$B$68:$B$92,0)+15,1)<>\"\",INDEX(Veri!$B$68:$B$92,MATCH(\"League\",Veri!$B$68:$B$92,0)+15,1),\"\")","v":{"$error":"#N/A"}},{"$f":"IF(INDEX(Veri!D$68:$D$92,MATCH(\"League\",Veri!B$68:$B$92,0)+15,1)<>\"\",IF(COUNTIF(INDEX(Veri!D$68:$D$92,MATCH(\"League\",Veri!B$68:$B$92,0)+15,1),\"*\"&$B$3&\"*\"),$B$3,INDEX(Veri!D$68:$D$92,MATCH(\"League\",Veri!B$68:$B$92,0)+15,1)),\"\")","v":{"$error":"#N/A"}},{"$f":"IF(INDEX(Veri!H$68:$H$92,MATCH(\"League\",Veri!B$68:$B$92,0)+15,1)<>\"\",IF(COUNTIF(INDEX(Veri!H$68:$H$92,MATCH(\"League\",Veri!B$68:$B$92,0)+15,1),\"*\"&$B$3&\"*\"),$B$3,INDEX(Veri!H$68:$H$92,MATCH(\"League\",Veri!B$68:$B$92,0)+15,1)),\"\")","v":{"$error":"#N/A"}},{"$f":"IF(INDEX(Veri!F$68:$F$92,MATCH(\"League\",Veri!B$68:$B$92,0)+15,1)<>\"\",INDEX(Veri!F$68:$F$92,MATCH(\"League\",Veri!B$68:$B$92,0)+15,1),\"\")","v":{"$error":"#N/A"}},{"$f":"IF(INDEX(Veri!E$68:$E$92,MATCH(\"League\",Veri!B$68:$B$92,0)+15,1)<>\"\",INDEX(Veri!E$68:$E$92,MATCH(\"League\",Veri!B$68:$B$92,0)+15,1),\"\")","v":{"$error":"#N/A"}},{"$f":"IF(INDEX(Veri!B$94:$B$118,MATCH(\"League\",Veri!B$94:$B$118,0)+15,1)<>\"\",INDEX(Veri!B$94:$B$118,MATCH(\"League\",Veri!B$94:$B$118,0)+15,1),\"\")","v":{"$error":"#N/A"}},{"$f":"IF(INDEX(Veri!D$94:$D$118,MATCH(\"League\",Veri!B$94:$B$118,0)+15,1)<>\"\",IF(COUNTIF(INDEX(Veri!D$94:$D$118,MATCH(\"League\",Veri!B$94:$B$118,0)+15,1),\"*\"&$I$3&\"*\"),$I$3,INDEX(Veri!D$94:$D$118,MATCH(\"League\",Veri!B$94:$B$118,0)+15,1)),\"\")","v":{"$error":"#N/A"}},{"$f":"IF(INDEX(Veri!H$94:$H$118,MATCH(\"League\",Veri!B$94:$B$118,0)+15,1)<>\"\",IF(COUNTIF(INDEX(Veri!H$94:$H$118,MATCH(\"League\",Veri!B$94:$B$118,0)+15,1),\"*\"&$I$3&\"*\"),$I$3,INDEX(Veri!H$94:$H$118,MATCH(\"League\",Veri!B$94:$B$118,0)+15,1)),\"\")","v":{"$error":"#N/A"}},{"$f":"IF(INDEX(Veri!F$94:$F$118,MATCH(\"League\",Veri!B$94:$B$118,0)+15,1)<>\"\",INDEX(Veri!F$94:$F$118,MATCH(\"League\",Veri!B$94:$B$118,0)+15,1),\"\")","v":{"$error":"#N/A"}},{"$f":"IF(INDEX(Veri!E$94:$E$118,MATCH(\"League\",Veri!B$94:$B$118,0)+15,1)<>\"\",INDEX(Veri!E$94:$E$118,MATCH(\"League\",Veri!B$94:$B$118,0)+15,1),\"\")","v":{"$error":"#N/A"}},null,null,null,13,{"$f":"IFERROR(IF(INDEX(Veri!$AA$31:$AA$500,MATCH(O22,Veri!$AI$31:$AI$500,0))<>\"\",INDEX(Veri!$AA$31:$AA$500,MATCH(O22,Veri!$AI$31:$AI$500,0)),\"\"),\"\")","v":""},{"$f":"IFERROR(IF(INDEX(Veri!$AG$31:$AG$500,MATCH(O22,Veri!$AI$31:$AI$500,0))<>\"\",INDEX(Veri!$AG$31:$AG$500,MATCH(O22,Veri!$AI$31:$AI$500,0)),\"\"),\"\")","v":""},{"$f":"IFERROR(IF(INDEX(Veri!$AC$31:$AC$500,MATCH(O22,Veri!$AI$31:$AI$500,0))<>\"\",INDEX(Veri!$AC$31:$AC$500,MATCH(O22,Veri!$AI$31:$AI$500,0)),\"\"),\"\")","v":""},{"$f":"IFERROR(IF(INDEX(Veri!$AD$31:$AD$500,MATCH(O22,Veri!$AI$31:$AI$500,0))<>\"\",INDEX(Veri!$AD$31:$AD$500,MATCH(O22,Veri!$AI$31:$AI$500,0)),\"\"),\"\")","v":""},{"$f":"IFERROR(IF(INDEX(Veri!$AE$31:$AE$500,MATCH(O22,Veri!$AI$31:$AI$500,0))<>\"\",INDEX(Veri!$AE$31:$AE$500,MATCH(O22,Veri!$AI$31:$AI$500,0)),\"\"),\"\")","v":""},null,13,{"$f":"IFERROR(IF(INDEX(Veri!$AK$31:$AK$500,MATCH(V22,Veri!$AS$31:$AS$500,0))<>\"\",INDEX(Veri!$AK$31:$AK$500,MATCH(V22,Veri!$AS$31:$AS$500,0)),\"\"),\"\")","v":""},{"$f":"IFERROR(IF(INDEX(Veri!$AQ$31:$AQ$500,MATCH(V22,Veri!$AS$31:$AS$500,0))<>\"\",INDEX(Veri!$AQ$31:$AQ$500,MATCH(V22,Veri!$AS$31:$AS$500,0)),\"\"),\"\")","v":""},{"$f":"IFERROR(IF(INDEX(Veri!$AM$31:$AM$500,MATCH(V22,Veri!$AS$31:$AS$500,0))<>\"\",INDEX(Veri!$AM$31:$AM$500,MATCH(V22,Veri!$AS$31:$AS$500,0)),\"\"),\"\")","v":""},{"$f":"IFERROR(IF(INDEX(Veri!$AN$31:$AN$500,MATCH(V22,Veri!$AS$31:$AS$500,0))<>\"\",INDEX(Veri!$AN$31:$AN$500,MATCH(V22,Veri!$AS$31:$AS$500,0)),\"\"),\"\")","v":""},{"$f":"IFERROR(IF(INDEX(Veri!$AO$31:$AO$500,MATCH(V22,Veri!$AS$31:$AS$500,0))<>\"\",INDEX(Veri!$AO$31:$AO$500,MATCH(V22,Veri!$AS$31:$AS$500,0)),\"\"),\"\")","v":""}]
[null,{"$f":"IF(INDEX(Veri!$B$68:$B$92,MATCH(\"League\",Veri!$B$68:$B$92,0)+16,1)<>\"\",INDEX(Veri!$B$68:$B$92,MATCH(\"League\",Veri!$B$68:$B$92,0)+16,1),\"\")","v":{"$error":"#N/A"}},{"$f":"IF(INDEX(Veri!D$68:$D$92,MATCH(\"League\",Veri!B$68:$B$92,0)+16,1)<>\"\",IF(COUNTIF(INDEX(Veri!D$68:$D$92,MATCH(\"League\",Veri!B$68:$B$92,0)+16,1),\"*\"&$B$3&\"*\"),$B$3,INDEX(Veri!D$68:$D$92,MATCH(\"League\",Veri!B$68:$B$92,0)+16,1)),\"\")","v":{"$error":"#N/A"}},{"$f":"IF(INDEX(Veri!H$68:$H$92,MATCH(\"League\",Veri!B$68:$B$92,0)+16,1)<>\"\",IF(COUNTIF(INDEX(Veri!H$68:$H$92,MATCH(\"League\",Veri!B$68:$B$92,0)+16,1),\"*\"&$B$3&\"*\"),$B$3,INDEX(Veri!H$68:$H$92,MATCH(\"League\",Veri!B$68:$B$92,0)+16,1)),\"\")","v":{"$error":"#N/A"}},{"$f":"IF(INDEX(Veri!F$68:$F$92,MATCH(\"League\",Veri!B$68:$B$92,0)+16,1)<>\"\",INDEX(Veri!F$68:$F$92,MATCH(\"League\",Veri!B$68:$B$92,0)+16,1),\"\")","v":{"$error":"#N/A"}},{"$f":"IF(INDEX(Veri!E$68:$E$92,MATCH(\"League\",Veri!B$68:$B$92,0)+16,1)<>\"\",INDEX(Veri!E$68:$E$92,MATCH(\"League\",Veri!B$68:$B$92,0)+16,1),\"\")","v":{"$error":"#N/A"}},{"$f":"IF(INDEX(Veri!B$94:$B$118,MATCH(\"League\",Veri!B$94:$B$118,0)+16,1)<>\"\",INDEX(Veri!B$94:$B$118,MATCH(\"League\",Veri!B$94:$B$118,0)+16,1),\"\")","v":{"$error":"#N/A"}},{"$f":"IF(INDEX(Veri!D$94:$D$118,MATCH(\"League\",Veri!B$94:$B$118,0)+16,1)<>\"\",IF(COUNTIF(INDEX(Veri!D$94:$D$118,MATCH(\"League\",Veri!B$94:$B$118,0)+16,1),\"*\"&$I$3&\"*\"),$I$3,INDEX(Veri!D$94:$D$118,MATCH(\"League\",Veri!B$94:$B$118,0)+16,1)),\"\")","v":{"$error":"#N/A"}},{"$f":"IF(INDEX(Veri!H$94:$H$118,MATCH(\"League\",Veri!B$94:$B$118,0)+16,1)<>\"\",IF(COUNTIF(INDEX(Veri!H$94:$H$118,MATCH(\"League\",Veri!B$94:$B$118,0)+16,1),\"*\"&$I$3&\"*\"),$I$3,INDEX(Veri!H$94:$H$118,MATCH(\"League\",Veri!B$94:$B$118,0)+16,1)),\"\")","v":{"$error":"#N/A"}},{"$f":"IF(INDEX(Veri!F$94:$F$118,MATCH(\"League\",Veri!B$94:$B$118,0)+16,1)<>\"\",INDEX(Veri!F$94:$F$118,MATCH(\"League\",Veri!B$94:$B$118,0)+16,1),\"\")","v":{"$error":"#N/A"}},{"$f":"IF(INDEX(Veri!E$94:$E$118,MATCH(\"League\",Veri!B$94:$B$118,0)+16,1)<>\"\",INDEX(Veri!E$94:$E$118,MATCH(\"League\",Veri!B$94:$B$118,0)+16,1),\"\")","v":{"$error":"#N/A"}},null,null,null,14,{"$f":"IFERROR(IF(INDEX(Veri!$AA$31:$AA$500,MATCH(O23,Veri!$AI$31:$AI$500,0))<>\"\",INDEX(Veri!$AA$31:$AA$500,MATCH(O23,Veri!$AI$31:$AI$500,0)),\"\"),\"\")","v":""},{"$f":"IFERROR(IF(INDEX(Veri!$AG$31:$AG$500,MATCH(O23,Veri!$AI$31:$AI$500,0))<>\"\",INDEX(Veri!$AG$31:$AG$500,MATCH(O23,Veri!$AI$31:$AI$500,0)),\"\"),\"\")","v":""},{"$f":"IFERROR(IF(INDEX(Veri!$AC$31:$AC$500,MATCH(O23,Veri!$AI$31:$AI$500,0))<>\"\",INDEX(Veri!$AC$31:$AC$500,MATCH(O23,Veri!$AI$31:$AI$500,0)),\"\"),\"\")","v":""},{"$f":"IFERROR(IF(INDEX(Veri!$AD$31:$AD$500,MATCH(O23,Veri!$AI$31:$AI$500,0))<>\"\",INDEX(Veri!$AD$31:$AD$500,MATCH(O23,Veri!$AI$31:$AI$500,0)),\"\"),\"\")","v":""},{"$f":"IFERROR(IF(INDEX(Veri!$AE$31:$AE$500,MATCH(O23,Veri!$AI$31:$AI$500,0))<>\"\",INDEX(Veri!$AE$31:$AE$500,MATCH(O23,Veri!$AI$31:$AI$500,0)),\"\"),\"\")","v":""},null,14,{"$f":"IFERROR(IF(INDEX(Veri!$AK$31:$AK$500,MATCH(V23,Veri!$AS$31:$AS$500,0))<>\"\",INDEX(Veri!$AK$31:$AK$500,MATCH(V23,Veri!$AS$31:$AS$500,0)),\"\"),\"\")","v":""},{"$f":"IFERROR(IF(INDEX(Veri!$AQ$31:$AQ$500,MATCH(V23,Veri!$AS$31:$AS$500,0))<>\"\",INDEX(Veri!$AQ$31:$AQ$500,MATCH(V23,Veri!$AS$31:$AS$500,0)),\"\"),\"\")","v":""},{"$f":"IFERROR(IF(INDEX(Veri!$AM$31:$AM$500,MATCH(V23,Veri!$AS$31:$AS$500,0))<>\"\",INDEX(Veri!$AM$31:$AM$500,MATCH(V23,Veri!$AS$31:$AS$500,0)),\"\"),\"\")","v":""},{"$f":"IFERROR(IF(INDEX(Veri!$AN$31:$AN$500,MATCH(V23,Veri!$AS$31:$AS$500,0))<>\"\",INDEX(Veri!$AN$31:$AN$500,MATCH(V23,Veri!$AS$31:$AS$500,0)),\"\"),\"\")","v":""},{"$f":"IFERROR(IF(INDEX(Veri!$AO$31:$AO$500,MATCH(V23,Veri!$AS$31:$AS$500,0))<>\"\",INDEX(Veri!$AO$31:$AO$500,MATCH(V23,Veri!$AS$31:$AS$500,0)),\"\"),\"\")","v":""}]
[null,{"$f":"IF(INDEX(Veri!$B$68:$B$92,MATCH(\"League\",Veri!$B$68:$B$92,0)+17,1)<>\"\",INDEX(Veri!$B$68:$B$92,MATCH(\"League\",Veri!$B$68:$B$92,0)+17,1),\"\")","v":{"$error":"#N/A"}},{"$f":"IF(INDEX(Veri!D$68:$D$92,MATCH(\"League\",Veri!B$68:$B$92,0)+17,1)<>\"\",IF(COUNTIF(INDEX(Veri!D$68:$D$92,MATCH(\"League\",Veri!B$68:$B$92,0)+17,1),\"*\"&$B$3&\"*\"),$B$3,INDEX(Veri!D$68:$D$92,MATCH(\"League\",Veri!B$68:$B$92,0)+17,1)),\"\")","v":{"$error":"#N/A"}},{"$f":"IF(INDEX(Veri!H$68:$H$92,MATCH(\"League\",Veri!B$68:$B$92,0)+17,1)<>\"\",IF(COUNTIF(INDEX(Veri!H$68:$H$92,MATCH(\"League\",Veri!B$68:$B$92,0)+17,1),\"*\"&$B$3&\"*\"),$B$3,INDEX(Veri!H$68:$H$92,MATCH(\"League\",Veri!B$68:$B$92,0)+17,1)),\"\")","v":{"$error":"#N/A"}},{"$f":"IF(INDEX(Veri!F$68:$F$92,MATCH(\"League\",Veri!B$68:$B$92,0)+17,1)<>\"\",INDEX(Veri!F$68:$F$92,MATCH(\"League\",Veri!B$68:$B$92,0)+17,1),\"\")","v":{"$error":"#N/A"}},{"$f":"IF(INDEX(Veri!E$68:$E$92,MATCH(\"League\",Veri!B$68:$B$92,0)+17,1)<>\"\",INDEX(Veri!E$68:$E$92,MATCH(\"League\",Veri!B$68:$B$92,0)+17,1),\"\")","v":{"$error":"#N/A"}},{"$f":"IF(INDEX(Veri!B$94:$B$118,MATCH(\"League\",Veri!B$94:$B$118,0)+17,1)<>\"\",INDEX(Veri!B$94:$B$118,MATCH(\"League\",Veri!B$94:$B$118,0)+17,1),\"\")","v":{"$error":"#N/A"}},{"$f":"IF(INDEX(Veri!D$94:$D$118,MATCH(\"League\",Veri!B$94:$B$118,0)+17,1)<>\"\",IF(COUNTIF(INDEX(Veri!D$94:$D$118,MATCH(\"League\",Veri!B$94:$B$118,0)+17,1),\"*\"&$I$3&\"*\"),$I$3,INDEX(Veri!D$94:$D$118,MATCH(\"League\",Veri!B$94:$B$118,0)+17,1)),\"\")","v":{"$error":"#N/A"}},{"$f":"IF(INDEX(Veri!H$94:$H$118,MATCH(\"League\",Veri!B$94:$B$118,0)+17,1)<>\"\",IF(COUNTIF(INDEX(Veri!H$94:$H$118,MATCH(\"League\",Veri!B$94:$B$118,0)+17,1),\"*\"&$I$3&\"*\"),$I$3,INDEX(Veri!H$94:$H$118,MATCH(\"League\",Veri!B$94:$B$118,0)+17,1)),\"\")","v":{"$error":"#N/A"}},{"$f":"IF(INDEX(Veri!F$94:$F$118,MATCH(\"League\",Veri!B$94:$B$118,0)+17,1)<>\"\",INDEX(Veri!F$94:$F$118,MATCH(\"League\",Veri!B$94:$B$118,0)+17,1),\"\")","v":{"$error":"#N/A"}},{"$f":"IF(INDEX(Veri!E$94:$E$118,MATCH(\"League\",Veri!B$94:$B$118,0)+17,1)<>\"\",INDEX(Veri!E$94:$E$118,MATCH(\"League\",Veri!B$94:$B$118,0)+17,1),\"\")","v":{"$error":"#N/A"}},null,null,null,15,{"$f":"IFERROR(IF(INDEX(Veri!$AA$31:$AA$500,MATCH(O24,Veri!$AI$31:$AI$500,0))<>\"\",INDEX(Veri!$AA$31:$AA$500,MATCH(O24,Veri!$AI$31:$AI$500,0)),\"\"),\"\")","v":""},{"$f":"IFERROR(IF(INDEX(Veri!$AG$31:$AG$500,MATCH(O24,Veri!$AI$31:$AI$500,0))<>\"\",INDEX(Veri!$AG$31:$AG$500,MATCH(O24,Veri!$AI$31:$AI$500,0)),\"\"),\"\")","v":""},{"$f":"IFERROR(IF(INDEX(Veri!$AC$31:$AC$500,MATCH(O24,Veri!$AI$31:$AI$500,0))<>\"\",INDEX(Veri!$AC$31:$AC$500,MATCH(O24,Veri!$AI$31:$AI$500,0)),\"\"),\"\")","v":""},{"$f":"IFERROR(IF(INDEX(Veri!$AD$31:$AD$500,MATCH(O24,Veri!$AI$31:$AI$500,0))<>\"\",INDEX(Veri!$AD$31:$AD$500,MATCH(O24,Veri!$AI$31:$AI$500,0)),\"\"),\"\")","v":""},{"$f":"IFERROR(IF(INDEX(Veri!$AE$31:$AE$500,MATCH(O24,Veri!$AI$31:$AI$500,0))<>\"\",INDEX(Veri!$AE$31:$AE$500,MATCH(O24,Veri!$AI$31:$AI$500,0)),\"\"),\"\")","v":""},null,15,{"$f":"IFERROR(IF(INDEX(Veri!$AK$31:$AK$500,MATCH(V24,Veri!$AS$31:$AS$500,0))<>\"\",INDEX(Veri!$AK$31:$AK$500,MATCH(V24,Veri!$AS$31:$AS$500,0)),\"\"),\"\")","v":""},{"$f":"IFERROR(IF(INDEX(Veri!$AQ$31:$AQ$500,MATCH(V24,Veri!$AS$31:$AS$500,0))<>\"\",INDEX(Veri!$AQ$31:$AQ$500,MATCH(V24,Veri!$AS$31:$AS$500,0)),\"\"),\"\")","v":""},{"$f":"IFERROR(IF(INDEX(Veri!$AM$31:$AM$500,MATCH(V24,Veri!$AS$31:$AS$500,0))<>\"\",INDEX(Veri!$AM$31:$AM$500,MATCH(V24,Veri!$AS$31:$AS$500,0)),\"\"),\"\")","v":""},{"$f":"IFERROR(IF(INDEX(Veri!$AN$31:$AN$500,MATCH(V24,Veri!$AS$31:$AS$500,0))<>\"\",INDEX(Veri!$AN$31:$AN$500,MATCH(V24,Veri!$AS$31:$AS$500,0)),\"\"),\"\")","v":""},{"$f":"IFERROR(IF(INDEX(Veri!$AO$31:$AO$500,MATCH(V24,Veri!$AS$31:$AS$500,0))<>\"\",INDEX(Veri!$AO$31:$AO$500,MATCH(V24,Veri!$AS$31:$AS$500,0)),\"\"),\"\")","v":""}]
[null,{"$f":"IF(INDEX(Veri!$B$68:$B$92,MATCH(\"League\",Veri!$B$68:$B$92,0)+18,1)<>\"\",INDEX(Veri!$B$68:$B$92,MATCH(\"League\",Veri!$B$68:$B$92,0)+18,1),\"\")","v":{"$error":"#N/A"}},{"$f":"IF(INDEX(Veri!D$68:$D$92,MATCH(\"League\",Veri!B$68:$B$92,0)+18,1)<>\"\",IF(COUNTIF(INDEX(Veri!D$68:$D$92,MATCH(\"League\",Veri!B$68:$B$92,0)+18,1),\"*\"&$B$3&\"*\"),$B$3,INDEX(Veri!D$68:$D$92,MATCH(\"League\",Veri!B$68:$B$92,0)+18,1)),\"\")","v":{"$error":"#N/A"}},{"$f":"IF(INDEX(Veri!H$68:$H$92,MATCH(\"League\",Veri!B$68:$B$92,0)+18,1)<>\"\",IF(COUNTIF(INDEX(Veri!H$68:$H$92,MATCH(\"League\",Veri!B$68:$B$92,0)+18,1),\"*\"&$B$3&\"*\"),$B$3,INDEX(Veri!H$68:$H$92,MATCH(\"League\",Veri!B$68:$B$92,0)+18,1)),\"\")","v":{"$error":"#N/A"}},{"$f":"IF(INDEX(Veri!F$68:$F$92,MATCH(\"League\",Veri!B$68:$B$92,0)+18,1)<>\"\",INDEX(Veri!F$68:$F$92,MATCH(\"League\",Veri!B$68:$B$92,0)+18,1),\"\")","v":{"$error":"#N/A"}},{"$f":"IF(INDEX(Veri!E$68:$E$92,MATCH(\"League\",Veri!B$68:$B$92,0)+18,1)<>\"\",INDEX(Veri!E$68:$E$92,MATCH(\"League\",Veri!B$68:$B$92,0)+18,1),\"\")","v":{"$error":"#N/A"}},{"$f":"IF(INDEX(Veri!B$94:$B$118,MATCH(\"League\",Veri!B$94:$B$118,0)+18,1)<>\"\",INDEX(Veri!B$94:$B$118,MATCH(\"League\",Veri!B$94:$B$118,0)+18,1),\"\")","v":{"$error":"#N/A"}},{"$f":"IF(INDEX(Veri!D$94:$D$118,MATCH(\"League\",Veri!B$94:$B$118,0)+18,1)<>\"\",IF(COUNTIF(INDEX(Veri!D$94:$D$118,MATCH(\"League\",Veri!B$94:$B$118,0)+18,1),\"*\"&$I$3&\"*\"),$I$3,INDEX(Veri!D$94:$D$118,MATCH(\"League\",Veri!B$94:$B$118,0)+18,1)),\"\")","v":{"$error":"#N/A"}},{"$f":"IF(INDEX(Veri!H$94:$H$118,MATCH(\"League\",Veri!B$94:$B$118,0)+18,1)<>\"\",IF(COUNTIF(INDEX(Veri!H$94:$H$118,MATCH(\"League\",Veri!B$94:$B$118,0)+18,1),\"*\"&$I$3&\"*\"),$I$3,INDEX(Veri!H$94:$H$118,MATCH(\"League\",Veri!B$94:$B$118,0)+18,1)),\"\")","v":{"$error":"#N/A"}},{"$f":"IF(INDEX(Veri!F$94:$F$118,MATCH(\"League\",Veri!B$94:$B$118,0)+18,1)<>\"\",INDEX(Veri!F$94:$F$118,MATCH(\"League\",Veri!B$94:$B$118,0)+18,1),\"\")","v":{"$error":"#N/A"}},{"$f":"IF(INDEX(Veri!E$94:$E$118,MATCH(\"League\",Veri!B$94:$B$118,0)+18,1)<>\"\",INDEX(Veri!E$94:$E$118,MATCH(\"League\",Veri!B$94:$B$118,0)+18,1),\"\")","v":{"$error":"#N/A"}},null,null,null,16,{"$f":"IFERROR(IF(INDEX(Veri!$AA$31:$AA$500,MATCH(O25,Veri!$AI$31:$AI$500,0))<>\"\",INDEX(Veri!$AA$31:$AA$500,MATCH(O25,Veri!$AI$31:$AI$500,0)),\"\"),\"\")","v":""},{"$f":"IFERROR(IF(INDEX(Veri!$AG$31:$AG$500,MATCH(O25,Veri!$AI$31:$AI$500,0))<>\"\",INDEX(Veri!$AG$31:$AG$500,MATCH(O25,Veri!$AI$31:$AI$500,0)),\"\"),\"\")","v":""},{"$f":"IFERROR(IF(INDEX(Veri!$AC$31:$AC$500,MATCH(O25,Veri!$AI$31:$AI$500,0))<>\"\",INDEX(Veri!$AC$31:$AC$500,MATCH(O25,Veri!$AI$31:$AI$500,0)),\"\"),\"\")","v":""},{"$f":"IFERROR(IF(INDEX(Veri!$AD$31:$AD$500,MATCH(O25,Veri!$AI$31:$AI$500,0))<>\"\",INDEX(Veri!$AD$31:$AD$500,MATCH(O25,Veri!$AI$31:$AI$500,0)),\"\"),\"\")","v":""},{"$f":"IFERROR(IF(INDEX(Veri!$AE$31:$AE$500,MATCH(O25,Veri!$AI$31:$AI$500,0))<>\"\",INDEX(Veri!$AE$31:$AE$500,MATCH(O25,Veri!$AI$31:$AI$500,0)),\"\"),\"\")","v":""},null,16,{"$f":"IFERROR(IF(INDEX(Veri!$AK$31:$AK$500,MATCH(V25,Veri!$AS$31:$AS$500,0))<>\"\",INDEX(Veri!$AK$31:$AK$500,MATCH(V25,Veri!$AS$31:$AS$500,0)),\"\"),\"\")","v":""},{"$f":"IFERROR(IF(INDEX(Veri!$AQ$31:$AQ$500,MATCH(V25,Veri!$AS$31:$AS$500,0))<>\"\",INDEX(Veri!$AQ$31:$AQ$500,MATCH(V25,Veri!$AS$31:$AS$500,0)),\"\"),\"\")","v":""},{"$f":"IFERROR(IF(INDEX(Veri!$AM$31:$AM$500,MATCH(V25,Veri!$AS$31:$AS$500,0))<>\"\",INDEX(Veri!$AM$31:$AM$500,MATCH(V25,Veri!$AS$31:$AS$500,0)),\"\"),\"\")","v":""},{"$f":"IFERROR(IF(INDEX(Veri!$AN$31:$AN$500,MATCH(V25,Veri!$AS$31:$AS$500,0))<>\"\",INDEX(Veri!$AN$31:$AN$500,MATCH(V25,Veri!$AS$31:$AS$500,0)),\"\"),\"\")","v":""},{"$f":"IFERROR(IF(INDEX(Veri!$AO$31:$AO$500,MATCH(V25,Veri!$AS$31:$AS$500,0))<>\"\",INDEX(Veri!$AO$31:$AO$500,MATCH(V25,Veri!$AS$31:$AS$500,0)),\"\"),\"\")","v":""}]
[null,{"$f":"IF(INDEX(Veri!$B$68:$B$92,MATCH(\"League\",Veri!$B$68:$B$92,0)+19,1)<>\"\",INDEX(Veri!$B$68:$B$92,MATCH(\"League\",Veri!$B$68:$B$92,0)+19,1),\"\")","v":{"$error":"#N/A"}},{"$f":"IF(INDEX(Veri!D$68:$D$92,MATCH(\"League\",Veri!B$68:$B$92,0)+19,1)<>\"\",IF(COUNTIF(INDEX(Veri!D$68:$D$92,MATCH(\"League\",Veri!B$68:$B$92,0)+19,1),\"*\"&$B$3&\"*\"),$B$3,INDEX(Veri!D$68:$D$92,MATCH(\"League\",Veri!B$68:$B$92,0)+19,1)),\"\")","v":{"$error":"#N/A"}},{"$f":"IF(INDEX(Veri!H$68:$H$92,MATCH(\"League\",Veri!B$68:$B$92,0)+19,1)<>\"\",IF(COUNTIF(INDEX(Veri!H$68:$H$92,MATCH(\"League\",Veri!B$68:$B$92,0)+19,1),\"*\"&$B$3&\"*\"),$B$3,INDEX(Veri!H$68:$H$92,MATCH(\"League\",Veri!B$68:$B$92,0)+19,1)),\"\")","v":{"$error":"#N/A"}},{"$f":"IF(INDEX(Veri!F$68:$F$92,MATCH(\"League\",Veri!B$68:$B$92,0)+19,1)<>\"\",INDEX(Veri!F$68:$F$92,MATCH(\"League\",Veri!B$68:$B$92,0)+19,1),\"\")","v":{"$error":"#N/A"}},{"$f":"IF(INDEX(Veri!E$68:$E$92,MATCH(\"League\",Veri!B$68:$B$92,0)+19,1)<>\"\",INDEX(Veri!E$68:$E$92,MATCH(\"League\",Veri!B$68:$B$92,0)+19,1),\"\")","v":{"$error":"#N/A"}},{"$f":"IF(INDEX(Veri!B$94:$B$118,MATCH(\"League\",Veri!B$94:$B$118,0)+19,1)<>\"\",INDEX(Veri!B$94:$B$118,MATCH(\"League\",Veri!B$94:$B$118,0)+19,1),\"\")","v":{"$error":"#N/A"}},{"$f":"IF(INDEX(Veri!D$94:$D$118,MATCH(\"League\",Veri!B$94:$B$118,0)+19,1)<>\"\",IF(COUNTIF(INDEX(Veri!D$94:$D$118,MATCH(\"League\",Veri!B$94:$B$118,0)+19,1),\"*\"&$I$3&\"*\"),$I$3,INDEX(Veri!D$94:$D$118,MATCH(\"League\",Veri!B$94:$B$118,0)+19,1)),\"\")","v":{"$error":"#N/A"}},{"$f":"IF(INDEX(Veri!H$94:$H$118,MATCH(\"League\",Veri!B$94:$B$118,0)+19,1)<>\"\",IF(COUNTIF(INDEX(Veri!H$94:$H$118,MATCH(\"League\",Veri!B$94:$B$118,0)+19,1),\"*\"&$I$3&\"*\"),$I$3,INDEX(Veri!H$94:$H$118,MATCH(\"League\",Veri!B$94:$B$118,0)+19,1)),\"\")","v":{"$error":"#N/A"}},{"$f":"IF(INDEX(Veri!F$94:$F$118,MATCH(\"League\",Veri!B$94:$B$118,0)+19,1)<>\"\",INDEX(Veri!F$94:$F$118,MATCH(\"League\",Veri!B$94:$B$118,0)+19,1),\"\")","v":{"$error":"#N/A"}},{"$f":"IF(INDEX(Veri!E$94:$E$118,MATCH(\"League\",Veri!B$94:$B$118,0)+19,1)<>\"\",INDEX(Veri!E$94:$E$118,MATCH(\"League\",Veri!B$94:$B$118,0)+19,1),\"\")","v":{"$error":"#N/A"}},null,null,null,17,{"$f":"IFERROR(IF(INDEX(Veri!$AA$31:$AA$500,MATCH(O26,Veri!$AI$31:$AI$500,0))<>\"\",INDEX(Veri!$AA$31:$AA$500,MATCH(O26,Veri!$AI$31:$AI$500,0)),\"\"),\"\")","v":""},{"$f":"IFERROR(IF(INDEX(Veri!$AG$31:$AG$500,MATCH(O26,Veri!$AI$31:$AI$500,0))<>\"\",INDEX(Veri!$AG$31:$AG$500,MATCH(O26,Veri!$AI$31:$AI$500,0)),\"\"),\"\")","v":""},{"$f":"IFERROR(IF(INDEX(Veri!$AC$31:$AC$500,MATCH(O26,Veri!$AI$31:$AI$500,0))<>\"\",INDEX(Veri!$AC$31:$AC$500,MATCH(O26,Veri!$AI$31:$AI$500,0)),\"\"),\"\")","v":""},{"$f":"IFERROR(IF(INDEX(Veri!$AD$31:$AD$500,MATCH(O26,Veri!$AI$31:$AI$500,0))<>\"\",INDEX(Veri!$AD$31:$AD$500,MATCH(O26,Veri!$AI$31:$AI$500,0)),\"\"),\"\")","v":""},{"$f":"IFERROR(IF(INDEX(Veri!$AE$31:$AE$500,MATCH(O26,Veri!$AI$31:$AI$500,0))<>\"\",INDEX(Veri!$AE$31:$AE$500,MATCH(O26,Veri!$AI$31:$AI$500,0)),\"\"),\"\")","v":""},null,17,{"$f":"IFERROR(IF(INDEX(Veri!$AK$31:$AK$500,MATCH(V26,Veri!$AS$31:$AS$500,0))<>\"\",INDEX(Veri!$AK$31:$AK$500,MATCH(V26,Veri!$AS$31:$AS$500,0)),\"\"),\"\")","v":""},{"$f":"IFERROR(IF(INDEX(Veri!$AQ$31:$AQ$500,MATCH(V26,Veri!$AS$31:$AS$500,0))<>\"\",INDEX(Veri!$AQ$31:$AQ$500,MATCH(V26,Veri!$AS$31:$AS$500,0)),\"\"),\"\")","v":""},{"$f":"IFERROR(IF(INDEX(Veri!$AM$31:$AM$500,MATCH(V26,Veri!$AS$31:$AS$500,0))<>\"\",INDEX(Veri!$AM$31:$AM$500,MATCH(V26,Veri!$AS$31:$AS$500,0)),\"\"),\"\")","v":""},{"$f":"IFERROR(IF(INDEX(Veri!$AN$31:$AN$500,MATCH(V26,Veri!$AS$31:$AS$500,0))<>\"\",INDEX(Veri!$AN$31:$AN$500,MATCH(V26,Veri!$AS$31:$AS$500,0)),\"\"),\"\")","v":""},{"$f":"IFERROR(IF(INDEX(Veri!$AO$31:$AO$500,MATCH(V26,Veri!$AS$31:$AS$500,0))<>\"\",INDEX(Veri!$AO$31:$AO$500,MATCH(V26,Veri!$AS$31:$AS$500,0)),\"\"),\"\")","v":""}]
[null,{"$f":"IF(INDEX(Veri!$B$68:$B$92,MATCH(\"League\",Veri!$B$68:$B$92,0)+20,1)<>\"\",INDEX(Veri!$B$68:$B$92,MATCH(\"League\",Veri!$B$68:$B$92,0)+20,1),\"\")","v":{"$error":"#N/A"}},{"$f":"IF(INDEX(Veri!D$68:$D$92,MATCH(\"League\",Veri!B$68:$B$92,0)+20,1)<>\"\",IF(COUNTIF(INDEX(Veri!D$68:$D$92,MATCH(\"League\",Veri!B$68:$B$92,0)+20,1),\"*\"&$B$3&\"*\"),$B$3,INDEX(Veri!D$68:$D$92,MATCH(\"League\",Veri!B$68:$B$92,0)+20,1)),\"\")","v":{"$error":"#N/A"}},{"$f":"IF(INDEX(Veri!H$68:$H$92,MATCH(\"League\",Veri!B$68:$B$92,0)+20,1)<>\"\",IF(COUNTIF(INDEX(Veri!H$68:$H$92,MATCH(\"League\",Veri!B$68:$B$92,0)+20,1),\"*\"&$B$3&\"*\"),$B$3,INDEX(Veri!H$68:$H$92,MATCH(\"League\",Veri!B$68:$B$92,0)+20,1)),\"\")","v":{"$error":"#N/A"}},{"$f":"IF(INDEX(Veri!F$68:$F$92,MATCH(\"League\",Veri!B$68:$B$92,0)+20,1)<>\"\",INDEX(Veri!F$68:$F$92,MATCH(\"League\",Veri!B$68:$B$92,0)+20,1),\"\")","v":{"$error":"#N/A"}},{"$f":"IF(INDEX(Veri!E$68:$E$92,MATCH(\"League\",Veri!B$68:$B$92,0)+20,1)<>\"\",INDEX(Veri!E$68:$E$92,MATCH(\"League\",Veri!B$68:$B$92,0)+20,1),\"\")","v":{"$error":"#N/A"}},{"$f":"IF(INDEX(Veri!B$94:$B$118,MATCH(\"League\",Veri!B$94:$B$118,0)+20,1)<>\"\",INDEX(Veri!B$94:$B$118,MATCH(\"League\",Veri!B$94:$B$118,0)+20,1),\"\")","v":{"$error":"#N/A"}},{"$f":"IF(INDEX(Veri!D$94:$D$118,MATCH(\"League\",Veri!B$94:$B$118,0)+20,1)<>\"\",IF(COUNTIF(INDEX(Veri!D$94:$D$118,MATCH(\"League\",Veri!B$94:$B$118,0)+20,1),\"*\"&$I$3&\"*\"),$I$3,INDEX(Veri!D$94:$D$118,MATCH(\"League\",Veri!B$94:$B$118,0)+20,1)),\"\")","v":{"$error":"#N/A"}},{"$f":"IF(INDEX(Veri!H$94:$H$118,MATCH(\"League\",Veri!B$94:$B$118,0)+20,1)<>\"\",IF(COUNTIF(INDEX(Veri!H$94:$H$118,MATCH(\"League\",Veri!B$94:$B$118,0)+20,1),\"*\"&$I$3&\"*\"),$I$3,INDEX(Veri!H$94:$H$118,MATCH(\"League\",Veri!B$94:$B$118,0)+20,1)),\"\")","v":{"$error":"#N/A"}},{"$f":"IF(INDEX(Veri!F$94:$F$118,MATCH(\"League\",Veri!B$94:$B$118,0)+20,1)<>\"\",INDEX(Veri!F$94:$F$118,MATCH(\"League\",Veri!B$94:$B$118,0)+20,1),\"\")","v":{"$error":"#N/A"}},{"$f":"IF(INDEX(Veri!E$94:$E$118,MATCH(\"League\",Veri!B$94:$B$118,0)+20,1)<>\"\",INDEX(Veri!E$94:$E$118,MATCH(\"League\",Veri!B$94:$B$118,0)+20,1),\"\")","v":{"$error":"#N/A"}},null,null,null,18,{"$f":"IFERROR(IF(INDEX(Veri!$AA$31:$AA$500,MATCH(O27,Veri!$AI$31:$AI$500,0))<>\"\",INDEX(Veri!$AA$31:$AA$500,MATCH(O27,Veri!$AI$31:$AI$500,0)),\"\"),\"\")","v":""},{"$f":"IFERROR(IF(INDEX(Veri!$AG$31:$AG$500,MATCH(O27,Veri!$AI$31:$AI$500,0))<>\"\",INDEX(Veri!$AG$31:$AG$500,MATCH(O27,Veri!$AI$31:$AI$500,0)),\"\"),\"\")","v":""},{"$f":"IFERROR(IF(INDEX(Veri!$AC$31:$AC$500,MATCH(O27,Veri!$AI$31:$AI$500,0))<>\"\",INDEX(Veri!$AC$31:$AC$500,MATCH(O27,Veri!$AI$31:$AI$500,0)),\"\"),\"\")","v":""},{"$f":"IFERROR(IF(INDEX(Veri!$AD$31:$AD$500,MATCH(O27,Veri!$AI$31:$AI$500,0))<>\"\",INDEX(Veri!$AD$31:$AD$500,MATCH(O27,Veri!$AI$31:$AI$500,0)),\"\"),\"\")","v":""},{"$f":"IFERROR(IF(INDEX(Veri!$AE$31:$AE$500,MATCH(O27,Veri!$AI$31:$AI$500,0))<>\"\",INDEX(Veri!$AE$31:$AE$500,MATCH(O27,Veri!$AI$31:$AI$500,0)),\"\"),\"\")","v":""},null,18,{"$f":"IFERROR(IF(INDEX(Veri!$AK$31:$AK$500,MATCH(V27,Veri!$AS$31:$AS$500,0))<>\"\",INDEX(Veri!$AK$31:$AK$500,MATCH(V27,Veri!$AS$31:$AS$500,0)),\"\"),\"\")","v":""},{"$f":"IFERROR(IF(INDEX(Veri!$AQ$31:$AQ$500,MATCH(V27,Veri!$AS$31:$AS$500,0))<>\"\",INDEX(Veri!$AQ$31:$AQ$500,MATCH(V27,Veri!$AS$31:$AS$500,0)),\"\"),\"\")","v":""},{"$f":"IFERROR(IF(INDEX(Veri!$AM$31:$AM$500,MATCH(V27,Veri!$AS$31:$AS$500,0))<>\"\",INDEX(Veri!$AM$31:$AM$500,MATCH(V27,Veri!$AS$31:$AS$500,0)),\"\"),\"\")","v":""},{"$f":"IFERROR(IF(INDEX(Veri!$AN$31:$AN$500,MATCH(V27,Veri!$AS$31:$AS$500,0))<>\"\",INDEX(Veri!$AN$31:$AN$500,MATCH(V27,Veri!$AS$31:$AS$500,0)),\"\"),\"\")","v":""},{"$f":"IFERROR(IF(INDEX(Veri!$AO$31:$AO$500,MATCH(V27,Veri!$AS$31:$AS$500,0))<>\"\",INDEX(Veri!$AO$31:$AO$500,MATCH(V27,Veri!$AS$31:$AS$500,0)),\"\"),\"\")","v":""}]
[null,{"$f":"IF(INDEX(Veri!$B$68:$B$92,MATCH(\"League\",Veri!$B$68:$B$92,0)+21,1)<>\"\",INDEX(Veri!$B$68:$B$92,MATCH(\"League\",Veri!$B$68:$B$92,0)+21,1),\"\")","v":{"$error":"#N/A"}},{"$f":"IF(INDEX(Veri!D$68:$D$92,MATCH(\"League\",Veri!B$68:$B$92,0)+21,1)<>\"\",IF(COUNTIF(INDEX(Veri!D$68:$D$92,MATCH(\"League\",Veri!B$68:$B$92,0)+21,1),\"*\"&$B$3&\"*\"),$B$3,INDEX(Veri!D$68:$D$92,MATCH(\"League\",Veri!B$68:$B$92,0)+21,1)),\"\")","v":{"$error":"#N/A"}},{"$f":"IF(INDEX(Veri!H$68:$H$92,MATCH(\"League\",Veri!B$68:$B$92,0)+21,1)<>\"\",IF(COUNTIF(INDEX(Veri!H$68:$H$92,MATCH(\"League\",Veri!B$68:$B$92,0)+21,1),\"*\"&$B$3&\"*\"),$B$3,INDEX(Veri!H$68:$H$92,MATCH(\"League\",Veri!B$68:$B$92,0)+21,1)),\"\")","v":{"$error":"#N/A"}},{"$f":"IF(INDEX(Veri!F$68:$F$92,MATCH(\"League\",Veri!B$68:$B$92,0)+21,1)<>\"\",INDEX(Veri!F$68:$F$92,MATCH(\"League\",Veri!B$68:$B$92,0)+21,1),\"\")","v":{"$error":"#N/A"}},{"$f":"IF(INDEX(Veri!E$68:$E$92,MATCH(\"League\",Veri!B$68:$B$92,0)+21,1)<>\"\",INDEX(Veri!E$68:$E$92,MATCH(\"League\",Veri!B$68:$B$92,0)+21,1),\"\")","v":{"$error":"#N/A"}},{"$f":"IF(INDEX(Veri!B$94:$B$118,MATCH(\"League\",Veri!B$94:$B$118,0)+21,1)<>\"\",INDEX(Veri!B$94:$B$118,MATCH(\"League\",Veri!B$94:$B$118,0)+21,1),\"\")","v":{"$error":"#N/A"}},{"$f":"IF(INDEX(Veri!D$94:$D$118,MATCH(\"League\",Veri!B$94:$B$118,0)+21,1)<>\"\",IF(COUNTIF(INDEX(Veri!D$94:$D$118,MATCH(\"League\",Veri!B$94:$B$118,0)+21,1),\"*\"&$I$3&\"*\"),$I$3,INDEX(Veri!D$94:$D$118,MATCH(\"League\",Veri!B$94:$B$118,0)+21,1)),\"\")","v":{"$error":"#N/A"}},{"$f":"IF(INDEX(Veri!H$94:$H$118,MATCH(\"League\",Veri!B$94:$B$118,0)+21,1)<>\"\",IF(COUNTIF(INDEX(Veri!H$94:$H$118,MATCH(\"League\",Veri!B$94:$B$118,0)+21,1),\"*\"&$I$3&\"*\"),$I$3,INDEX(Veri!H$94:$H$118,MATCH(\"League\",Veri!B$94:$B$118,0)+21,1)),\"\")","v":{"$error":"#N/A"}},{"$f":"IF(INDEX(Veri!F$94:$F$118,MATCH(\"League\",Veri!B$94:$B$118,0)+21,1)<>\"\",INDEX(Veri!F$94:$F$118,MATCH(\"League\",Veri!B$94:$B$118,0)+21,1),\"\")","v":{"$error":"#N/A"}},{"$f":"IF(INDEX(Veri!E$94:$E$118,MATCH(\"League\",Veri!B$94:$B$118,0)+21,1)<>\"\",INDEX(Veri!E$94:$E$118,MATCH(\"League\",Veri!B$94:$B$118,0)+21,1),\"\")","v":{"$error":"#N/A"}},null,null,null,19,{"$f":"IFERROR(IF(INDEX(Veri!$AA$31:$AA$500,MATCH(O28,Veri!$AI$31:$AI$500,0))<>\"\",INDEX(Veri!$AA$31:$AA$500,MATCH(O28,Veri!$AI$31:$AI$500,0)),\"\"),\"\")","v":""},{"$f":"IFERROR(IF(INDEX(Veri!$AG$31:$AG$500,MATCH(O28,Veri!$AI$31:$AI$500,0))<>\"\",INDEX(Veri!$AG$31:$AG$500,MATCH(O28,Veri!$AI$31:$AI$500,0)),\"\"),\"\")","v":""},{"$f":"IFERROR(IF(INDEX(Veri!$AC$31:$AC$500,MATCH(O28,Veri!$AI$31:$AI$500,0))<>\"\",INDEX(Veri!$AC$31:$AC$500,MATCH(O28,Veri!$AI$31:$AI$500,0)),\"\"),\"\")","v":""},{"$f":"IFERROR(IF(INDEX(Veri!$AD$31:$AD$500,MATCH(O28,Veri!$AI$31:$AI$500,0))<>\"\",INDEX(Veri!$AD$31:$AD$500,MATCH(O28,Veri!$AI$31:$AI$500,0)),\"\"),\"\")","v":""},{"$f":"IFERROR(IF(INDEX(Veri!$AE$31:$AE$500,MATCH(O28,Veri!$AI$31:$AI$500,0))<>\"\",INDEX(Veri!$AE$31:$AE$500,MATCH(O28,Veri!$AI$31:$AI$500,0)),\"\"),\"\")","v":""},null,19,{"$f":"IFERROR(IF(INDEX(Veri!$AK$31:$AK$500,MATCH(V28,Veri!$AS$31:$AS$500,0))<>\"\",INDEX(Veri!$AK$31:$AK$500,MATCH(V28,Veri!$AS$31:$AS$500,0)),\"\"),\"\")","v":""},{"$f":"IFERROR(IF(INDEX(Veri!$AQ$31:$AQ$500,MATCH(V28,Veri!$AS$31:$AS$500,0))<>\"\",INDEX(Veri!$AQ$31:$AQ$500,MATCH(V28,Veri!$AS$31:$AS$500,0)),\"\"),\"\")","v":""},{"$f":"IFERROR(IF(INDEX(Veri!$AM$31:$AM$500,MATCH(V28,Veri!$AS$31:$AS$500,0))<>\"\",INDEX(Veri!$AM$31:$AM$500,MATCH(V28,Veri!$AS$31:$AS$500,0)),\"\"),\"\")","v":""},{"$f":"IFERROR(IF(INDEX(Veri!$AN$31:$AN$500,MATCH(V28,Veri!$AS$31:$AS$500,0))<>\"\",INDEX(Veri!$AN$31:$AN$500,MATCH(V28,Veri!$AS$31:$AS$500,0)),\"\"),\"\")","v":""},{"$f":"IFERROR(IF(INDEX(Veri!$AO$31:$AO$500,MATCH(V28,Veri!$AS$31:$AS$500,0))<>\"\",INDEX(Veri!$AO$31:$AO$500,MATCH(V28,Veri!$AS$31:$AS$500,0)),\"\"),\"\")","v":""}]
[null,null,null,null,null,null,null,null,null,null,null,null,null,null,20,{"$f":"IFERROR(IF(INDEX(Veri!$AA$31:$AA$500,MATCH(O29,Veri!$AI$31:$AI$500,0))<>\"\",INDEX(Veri!$AA$31:$AA$500,MATCH(O29,Veri!$AI$31:$AI$500,0)),\"\"),\"\")","v":""},{"$f":"IFERROR(IF(INDEX(Veri!$AG$31:$AG$500,MATCH(O29,Veri!$AI$31:$AI$500,0))<>\"\",INDEX(Veri!$AG$31:$AG$500,MATCH(O29,Veri!$AI$31:$AI$500,0)),\"\"),\"\")","v":""},{"$f":"IFERROR(IF(INDEX(Veri!$AC$31:$AC$500,MATCH(O29,Veri!$AI$31:$AI$500,0))<>\"\",INDEX(Veri!$AC$31:$AC$500,MATCH(O29,Veri!$AI$31:$AI$500,0)),\"\"),\"\")","v":""},{"$f":"IFERROR(IF(INDEX(Veri!$AD$31:$AD$500,MATCH(O29,Veri!$AI$31:$AI$500,0))<>\"\",INDEX(Veri!$AD$31:$AD$500,MATCH(O29,Veri!$AI$31:$AI$500,0)),\"\"),\"\")","v":""},{"$f":"IFERROR(IF(INDEX(Veri!$AE$31:$AE$500,MATCH(O29,Veri!$AI$31:$AI$500,0))<>\"\",INDEX(Veri!$AE$31:$AE$500,MATCH(O29,Veri!$AI$31:$AI$500,0)),\"\"),\"\")","v":""},null,20,{"$f":"IFERROR(IF(INDEX(Veri!$AK$31:$AK$500,MATCH(V29,Veri!$AS$31:$AS$500,0))<>\"\",INDEX(Veri!$AK$31:$AK$500,MATCH(V29,Veri!$AS$31:$AS$500,0)),\"\"),\"\")","v":""},{"$f":"IFERROR(IF(INDEX(Veri!$AQ$31:$AQ$500,MATCH(V29,Veri!$AS$31:$AS$500,0))<>\"\",INDEX(Veri!$AQ$31:$AQ$500,MATCH(V29,Veri!$AS$31:$AS$500,0)),\"\"),\"\")","v":""},{"$f":"IFERROR(IF(INDEX(Veri!$AM$31:$AM$500,MATCH(V29,Veri!$AS$31:$AS$500,0))<>\"\",INDEX(Veri!$AM$31:$AM$500,MATCH(V29,Veri!$AS$31:$AS$500,0)),\"\"),\"\")","v":""},{"$f":"IFERROR(IF(INDEX(Veri!$AN$31:$AN$500,MATCH(V29,Veri!$AS$31:$AS$500,0))<>\"\",INDEX(Veri!$AN$31:$AN$500,MATCH(V29,Veri!$AS$31:$AS$500,0)),\"\"),\"\")","v":""},{"$f":"IFERROR(IF(INDEX(Veri!$AO$31:$AO$500,MATCH(V29,Veri!$AS$31:$AS$500,0))<>\"\",INDEX(Veri!$AO$31:$AO$500,MATCH(V29,Veri!$AS$31:$AS$500,0)),\"\"),\"\")","v":""}]
[null,null,null,null,null,null,null,null,null,null,null,null,null,null,21,{"$f":"IFERROR(IF(INDEX(Veri!$AA$31:$AA$500,MATCH(O30,Veri!$AI$31:$AI$500,0))<>\"\",INDEX(Veri!$AA$31:$AA$500,MATCH(O30,Veri!$AI$31:$AI$500,0)),\"\"),\"\")","v":""},{"$f":"IFERROR(IF(INDEX(Veri!$AG$31:$AG$500,MATCH(O30,Veri!$AI$31:$AI$500,0))<>\"\",INDEX(Veri!$AG$31:$AG$500,MATCH(O30,Veri!$AI$31:$AI$500,0)),\"\"),\"\")","v":""},{"$f":"IFERROR(IF(INDEX(Veri!$AC$31:$AC$500,MATCH(O30,Veri!$AI$31:$AI$500,0))<>\"\",INDEX(Veri!$AC$31:$AC$500,MATCH(O30,Veri!$AI$31:$AI$500,0)),\"\"),\"\")","v":""},{"$f":"IFERROR(IF(INDEX(Veri!$AD$31:$AD$500,MATCH(O30,Veri!$AI$31:$AI$500,0))<>\"\",INDEX(Veri!$AD$31:$AD$500,MATCH(O30,Veri!$AI$31:$AI$500,0)),\"\"),\"\")","v":""},{"$f":"IFERROR(IF(INDEX(Veri!$AE$31:$AE$500,MATCH(O30,Veri!$AI$31:$AI$500,0))<>\"\",INDEX(Veri!$AE$31:$AE$500,MATCH(O30,Veri!$AI$31:$AI$500,0)),\"\"),\"\")","v":""},null,21,{"$f":"IFERROR(IF(INDEX(Veri!$AK$31:$AK$500,MATCH(V30,Veri!$AS$31:$AS$500,0))<>\"\",INDEX(Veri!$AK$31:$AK$500,MATCH(V30,Veri!$AS$31:$AS$500,0)),\"\"),\"\")","v":""},{"$f":"IFERROR(IF(INDEX(Veri!$AQ$31:$AQ$500,MATCH(V30,Veri!$AS$31:$AS$500,0))<>\"\",INDEX(Veri!$AQ$31:$AQ$500,MATCH(V30,Veri!$AS$31:$AS$500,0)),\"\"),\"\")","v":""},{"$f":"IFERROR(IF(INDEX(Veri!$AM$31:$AM$500,MATCH(V30,Veri!$AS$31:$AS$500,0))<>\"\",INDEX(Veri!$AM$31:$AM$500,MATCH(V30,Veri!$AS$31:$AS$500,0)),\"\"),\"\")","v":""},{"$f":"IFERROR(IF(INDEX(Veri!$AN$31:$AN$500,MATCH(V30,Veri!$AS$31:$AS$500,0))<>\"\",INDEX(Veri!$AN$31:$AN$500,MATCH(V30,Veri!$AS$31:$AS$500,0)),\"\"),\"\")","v":""},{"$f":"IFERROR(IF(INDEX(Veri!$AO$31:$AO$500,MATCH(V30,Veri!$AS$31:$AS$500,0))<>\"\",INDEX(Veri!$AO$31:$AO$500,MATCH(V30,Veri!$AS$31:$AS$500,0)),\"\"),\"\")","v":""}]
[null,null,null,null,null,null,null,null,null,null,null,null,null,null,22,{"$f":"IFERROR(IF(INDEX(Veri!$AA$31:$AA$500,MATCH(O31,Veri!$AI$31:$AI$500,0))<>\"\",INDEX(Veri!$AA$31:$AA$500,MATCH(O31,Veri!$AI$31:$AI$500,0)),\"\"),\"\")","v":""},{"$f":"IFERROR(IF(INDEX(Veri!$AG$31:$AG$500,MATCH(O31,Veri!$AI$31:$AI$500,0))<>\"\",INDEX(Veri!$AG$31:$AG$500,MATCH(O31,Veri!$AI$31:$AI$500,0)),\"\"),\"\")","v":""},{"$f":"IFERROR(IF(INDEX(Veri!$AC$31:$AC$500,MATCH(O31,Veri!$AI$31:$AI$500,0))<>\"\",INDEX(Veri!$AC$31:$AC$500,MATCH(O31,Veri!$AI$31:$AI$500,0)),\"\"),\"\")","v":""},{"$f":"IFERROR(IF(INDEX(Veri!$AD$31:$AD$500,MATCH(O31,Veri!$AI$31:$AI$500,0))<>\"\",INDEX(Veri!$AD$31:$AD$500,MATCH(O31,Veri!$AI$31:$AI$500,0)),\"\"),\"\")","v":""},{"$f":"IFERROR(IF(INDEX(Veri!$AE$31:$AE$500,MATCH(O31,Veri!$AI$31:$AI$500,0))<>\"\",INDEX(Veri!$AE$31:$AE$500,MATCH(O31,Veri!$AI$31:$AI$500,0)),\"\"),\"\")","v":""},null,22,{"$f":"IFERROR(IF(INDEX(Veri!$AK$31:$AK$500,MATCH(V31,Veri!$AS$31:$AS$500,0))<>\"\",INDEX(Veri!$AK$31:$AK$500,MATCH(V31,Veri!$AS$31:$AS$500,0)),\"\"),\"\")","v":""},{"$f":"IFERROR(IF(INDEX(Veri!$AQ$31:$AQ$500,MATCH(V31,Veri!$AS$31:$AS$500,0))<>\"\",INDEX(Veri!$AQ$31:$AQ$500,MATCH(V31,Veri!$AS$31:$AS$500,0)),\"\"),\"\")","v":""},{"$f":"IFERROR(IF(INDEX(Veri!$AM$31:$AM$500,MATCH(V31,Veri!$AS$31:$AS$500,0))<>\"\",INDEX(Veri!$AM$31:$AM$500,MATCH(V31,Veri!$AS$31:$AS$500,0)),\"\"),\"\")","v":""},{"$f":"IFERROR(IF(INDEX(Veri!$AN$31:$AN$500,MATCH(V31,Veri!$AS$31:$AS$500,0))<>\"\",INDEX(Veri!$AN$31:$AN$500,MATCH(V31,Veri!$AS$31:$AS$500,0)),\"\"),\"\")","v":""},{"$f":"IFERROR(IF(INDEX(Veri!$AO$31:$AO$500,MATCH(V31,Veri!$AS$31:$AS$500,0))<>\"\",INDEX(Veri!$AO$31:$AO$500,MATCH(V31,Veri!$AS$31:$AS$500,0)),\"\"),\"\")","v":""}]
[null,null,null,null,null,null,null,null,null,null,null,null,null,null,23,{"$f":"IFERROR(IF(INDEX(Veri!$AA$31:$AA$500,MATCH(O32,Veri!$AI$31:$AI$500,0))<>\"\",INDEX(Veri!$AA$31:$AA$500,MATCH(O32,Veri!$AI$31:$AI$500,0)),\"\"),\"\")","v":""},{"$f":"IFERROR(IF(INDEX(Veri!$AG$31:$AG$500,MATCH(O32,Veri!$AI$31:$AI$500,0))<>\"\",INDEX(Veri!$AG$31:$AG$500,MATCH(O32,Veri!$AI$31:$AI$500,0)),\"\"),\"\")","v":""},{"$f":"IFERROR(IF(INDEX(Veri!$AC$31:$AC$500,MATCH(O32,Veri!$AI$31:$AI$500,0))<>\"\",INDEX(Veri!$AC$31:$AC$500,MATCH(O32,Veri!$AI$31:$AI$500,0)),\"\"),\"\")","v":""},{"$f":"IFERROR(IF(INDEX(Veri!$AD$31:$AD$500,MATCH(O32,Veri!$AI$31:$AI$500,0))<>\"\",INDEX(Veri!$AD$31:$AD$500,MATCH(O32,Veri!$AI$31:$AI$500,0)),\"\"),\"\")","v":""},{"$f":"IFERROR(IF(INDEX(Veri!$AE$31:$AE$500,MATCH(O32,Veri!$AI$31:$AI$500,0))<>\"\",INDEX(Veri!$AE$31:$AE$500,MATCH(O32,Veri!$AI$31:$AI$500,0)),\"\"),\"\")","v":""},null,23,{"$f":"IFERROR(IF(INDEX(Veri!$AK$31:$AK$500,MATCH(V32,Veri!$AS$31:$AS$500,0))<>\"\",INDEX(Veri!$AK$31:$AK$500,MATCH(V32,Veri!$AS$31:$AS$500,0)),\"\"),\"\")","v":""},{"$f":"IFERROR(IF(INDEX(Veri!$AQ$31:$AQ$500,MATCH(V32,Veri!$AS$31:$AS$500,0))<>\"\",INDEX(Veri!$AQ$31:$AQ$500,MATCH(V32,Veri!$AS$31:$AS$500,0)),\"\"),\"\")","v":""},{"$f":"IFERROR(IF(INDEX(Veri!$AM$31:$AM$500,MATCH(V32,Veri!$AS$31:$AS$500,0))<>\"\",INDEX(Veri!$AM$31:$AM$500,MATCH(V32,Veri!$AS$31:$AS$500,0)),\"\"),\"\")","v":""},{"$f":"IFERROR(IF(INDEX(Veri!$AN$31:$AN$500,MATCH(V32,Veri!$AS$31:$AS$500,0))<>\"\",INDEX(Veri!$AN$31:$AN$500,MATCH(V32,Veri!$AS$31:$AS$500,0)),\"\"),\"\")","v":""},{"$f":"IFERROR(IF(INDEX(Veri!$AO$31:$AO$500,MATCH(V32,Veri!$AS$31:$AS$500,0))<>\"\",INDEX(Veri!$AO$31:$AO$500,MATCH(V32,Veri!$AS$31:$AS$500,0)),\"\"),\"\")","v":""}]
[null,null,null,null,null,null,null,null,null,null,null,null,null,null,24,{"$f":"IFERROR(IF(INDEX(Veri!$AA$31:$AA$500,MATCH(O33,Veri!$AI$31:$AI$500,0))<>\"\",INDEX(Veri!$AA$31:$AA$500,MATCH(O33,Veri!$AI$31:$AI$500,0)),\"\"),\"\")","v":""},{"$f":"IFERROR(IF(INDEX(Veri!$AG$31:$AG$500,MATCH(O33,Veri!$AI$31:$AI$500,0))<>\"\",INDEX(Veri!$AG$31:$AG$500,MATCH(O33,Veri!$AI$31:$AI$500,0)),\"\"),\"\")","v":""},{"$f":"IFERROR(IF(INDEX(Veri!$AC$31:$AC$500,MATCH(O33,Veri!$AI$31:$AI$500,0))<>\"\",INDEX(Veri!$AC$31:$AC$500,MATCH(O33,Veri!$AI$31:$AI$500,0)),\"\"),\"\")","v":""},{"$f":"IFERROR(IF(INDEX(Veri!$AD$31:$AD$500,MATCH(O33,Veri!$AI$31:$AI$500,0))<>\"\",INDEX(Veri!$AD$31:$AD$500,MATCH(O33,Veri!$AI$31:$AI$500,0)),\"\"),\"\")","v":""},{"$f":"IFERROR(IF(INDEX(Veri!$AE$31:$AE$500,MATCH(O33,Veri!$AI$31:$AI$500,0))<>\"\",INDEX(Veri!$AE$31:$AE$500,MATCH(O33,Veri!$AI$31:$AI$500,0)),\"\"),\"\")","v":""},null,24,{"$f":"IFERROR(IF(INDEX(Veri!$AK$31:$AK$500,MATCH(V33,Veri!$AS$31:$AS$500,0))<>\"\",INDEX(Veri!$AK$31:$AK$500,MATCH(V33,Veri!$AS$31:$AS$500,0)),\"\"),\"\")","v":""},{"$f":"IFERROR(IF(INDEX(Veri!$AQ$31:$AQ$500,MATCH(V33,Veri!$AS$31:$AS$500,0))<>\"\",INDEX(Veri!$AQ$31:$AQ$500,MATCH(V33,Veri!$AS$31:$AS$500,0)),\"\"),\"\")","v":""},{"$f":"IFERROR(IF(INDEX(Veri!$AM$31:$AM$500,MATCH(V33,Veri!$AS$31:$AS$500,0))<>\"\",INDEX(Veri!$AM$31:$AM$500,MATCH(V33,Veri!$AS$31:$AS$500,0)),\"\"),\"\")","v":""},{"$f":"IFERROR(IF(INDEX(Veri!$AN$31:$AN$500,MATCH(V33,Veri!$AS$31:$AS$500,0))<>\"\",INDEX(Veri!$AN$31:$AN$500,MATCH(V33,Veri!$AS$31:$AS$500,0)),\"\"),\"\")","v":""},{"$f":"IFERROR(IF(INDEX(Veri!$AO$31:$AO$500,MATCH(V33,Veri!$AS$31:$AS$500,0))<>\"\",INDEX(Veri!$AO$31:$AO$500,MATCH(V33,Veri!$AS$31:$AS$500,0)),\"\"),\"\")","v":""}]
[null,"TAKIMLAR",null,null,null,null,null,null,null,null,null,null,null,null,25,{"$f":"IFERROR(IF(INDEX(Veri!$AA$31:$AA$500,MATCH(O34,Veri!$AI$31:$AI$500,0))<>\"\",INDEX(Veri!$AA$31:$AA$500,MATCH(O34,Veri!$AI$31:$AI$500,0)),\"\"),\"\")","v":""},{"$f":"IFERROR(IF(INDEX(Veri!$AG$31:$AG$500,MATCH(O34,Veri!$AI$31:$AI$500,0))<>\"\",INDEX(Veri!$AG$31:$AG$500,MATCH(O34,Veri!$AI$31:$AI$500,0)),\"\"),\"\")","v":""},{"$f":"IFERROR(IF(INDEX(Veri!$AC$31:$AC$500,MATCH(O34,Veri!$AI$31:$AI$500,0))<>\"\",INDEX(Veri!$AC$31:$AC$500,MATCH(O34,Veri!$AI$31:$AI$500,0)),\"\"),\"\")","v":""},{"$f":"IFERROR(IF(INDEX(Veri!$AD$31:$AD$500,MATCH(O34,Veri!$AI$31:$AI$500,0))<>\"\",INDEX(Veri!$AD$31:$AD$500,MATCH(O34,Veri!$AI$31:$AI$500,0)),\"\"),\"\")","v":""},{"$f":"IFERROR(IF(INDEX(Veri!$AE$31:$AE$500,MATCH(O34,Veri!$AI$31:$AI$500,0))<>\"\",INDEX(Veri!$AE$31:$AE$500,MATCH(O34,Veri!$AI$31:$AI$500,0)),\"\"),\"\")","v":""},null,25,{"$f":"IFERROR(IF(INDEX(Veri!$AK$31:$AK$500,MATCH(V34,Veri!$AS$31:$AS$500,0))<>\"\",INDEX(Veri!$AK$31:$AK$500,MATCH(V34,Veri!$AS$31:$AS$500,0)),\"\"),\"\")","v":""},{"$f":"IFERROR(IF(INDEX(Veri!$AQ$31:$AQ$500,MATCH(V34,Veri!$AS$31:$AS$500,0))<>\"\",INDEX(Veri!$AQ$31:$AQ$500,MATCH(V34,Veri!$AS$31:$AS$500,0)),\"\"),\"\")","v":""},{"$f":"IFERROR(IF(INDEX(Veri!$AM$31:$AM$500,MATCH(V34,Veri!$AS$31:$AS$500,0))<>\"\",INDEX(Veri!$AM$31:$AM$500,MATCH(V34,Veri!$AS$31:$AS$500,0)),\"\"),\"\")","v":""},{"$f":"IFERROR(IF(INDEX(Veri!$AN$31:$AN$500,MATCH(V34,Veri!$AS$31:$AS$500,0))<>\"\",INDEX(Veri!$AN$31:$AN$500,MATCH(V34,Veri!$AS$31:$AS$500,0)),\"\"),\"\")","v":""},{"$f":"IFERROR(IF(INDEX(Veri!$AO$31:$AO$500,MATCH(V34,Veri!$AS$31:$AS$500,0))<>\"\",INDEX(Veri!$AO$31:$AO$500,MATCH(V34,Veri!$AS$31:$AS$500,0)),\"\"),\"\")","v":""}]
[null,{"$f":"TRIM(MID(E35,1,FIND(\"VS\",E35,1)-3))","v":{"$error":"#REF!"}},null,null,{"$f":"INDEX(Veri!#REF!,MATCH(2,Veri!#REF!,0),1)","v":{"$error":"#REF!"}},null,null,null,{"$f":"TRIM(MID(E35,FIND(\"VS\",E35,1)+3,LEN(E35)))","v":{"$error":"#REF!"}},null,null,null,null,null,26,{"$f":"IFERROR(IF(INDEX(Veri!$AA$31:$AA$500,MATCH(O35,Veri!$AI$31:$AI$500,0))<>\"\",INDEX(Veri!$AA$31:$AA$500,MATCH(O35,Veri!$AI$31:$AI$500,0)),\"\"),\"\")","v":""},{"$f":"IFERROR(IF(INDEX(Veri!$AG$31:$AG$500,MATCH(O35,Veri!$AI$31:$AI$500,0))<>\"\",INDEX(Veri!$AG$31:$AG$500,MATCH(O35,Veri!$AI$31:$AI$500,0)),\"\"),\"\")","v":""},{"$f":"IFERROR(IF(INDEX(Veri!$AC$31:$AC$500,MATCH(O35,Veri!$AI$31:$AI$500,0))<>\"\",INDEX(Veri!$AC$31:$AC$500,MATCH(O35,Veri!$AI$31:$AI$500,0)),\"\"),\"\")","v":""},{"$f":"IFERROR(IF(INDEX(Veri!$AD$31:$AD$500,MATCH(O35,Veri!$AI$31:$AI$500,0))<>\"\",INDEX(Veri!$AD$31:$AD$500,MATCH(O35,Veri!$AI$31:$AI$500,0)),\"\"),\"\")","v":""},{"$f":"IFERROR(IF(INDEX(Veri!$AE$31:$AE$500,MATCH(O35,Veri!$AI$31:$AI$500,0))<>\"\",INDEX(Veri!$AE$31:$AE$500,MATCH(O35,Veri!$AI$31:$AI$500,0)),\"\"),\"\")","v":""},null,26,{"$f":"IFERROR(IF(INDEX(Veri!$AK$31:$AK$500,MATCH(V35,Veri!$AS$31:$AS$500,0))<>\"\",INDEX(Veri!$AK$31:$AK$500,MATCH(V35,Veri!$AS$31:$AS$500,0)),\"\"),\"\")","v":""},{"$f":"IFERROR(IF(INDEX(Veri!$AQ$31:$AQ$500,MATCH(V35,Veri!$AS$31:$AS$500,0))<>\"\",INDEX(Veri!$AQ$31:$AQ$500,MATCH(V35,Veri!$AS$31:$AS$500,0)),\"\"),\"\")","v":""},{"$f":"IFERROR(IF(INDEX(Veri!$AM$31:$AM$500,MATCH(V35,Veri!$AS$31:$AS$500,0))<>\"\",INDEX(Veri!$AM$31:$AM$500,MATCH(V35,Veri!$AS$31:$AS$500,0)),\"\"),\"\")","v":""},{"$f":"IFERROR(IF(INDEX(Veri!$AN$31:$AN$500,MATCH(V35,Veri!$AS$31:$AS$500,0))<>\"\",INDEX(Veri!$AN$31:$AN$500,MATCH(V35,Veri!$AS$31:$AS$500,0)),\"\"),\"\")","v":""},{"$f":"IFERROR(IF(INDEX(Veri!$AO$31:$AO$500,MATCH(V35,Veri!$AS$31:$AS$500,0))<>\"\",INDEX(Veri!$AO$31:$AO$500,MATCH(V35,Veri!$AS$31:$AS$500,0)),\"\"),\"\")","v":""}]
[null,null,null,null,{"$f":"MID(LEFT(INDEX(Veri!#REF!,MATCH(1,Veri!#REF!,0),1),FIND(\"]\",INDEX(Veri!#REF!,MATCH(1,Veri!#REF!,0),1),1)-1),2,50)","v":{"$error":"#REF!"}},null,null,null,null,null,null,null,null,null,27,{"$f":"IFERROR(IF(INDEX(Veri!$AA$31:$AA$500,MATCH(O36,Veri!$AI$31:$AI$500,0))<>\"\",INDEX(Veri!$AA$31:$AA$500,MATCH(O36,Veri!$AI$31:$AI$500,0)),\"\"),\"\")","v":""},{"$f":"IFERROR(IF(INDEX(Veri!$AG$31:$AG$500,MATCH(O36,Veri!$AI$31:$AI$500,0))<>\"\",INDEX(Veri!$AG$31:$AG$500,MATCH(O36,Veri!$AI$31:$AI$500,0)),\"\"),\"\")","v":""},{"$f":"IFERROR(IF(INDEX(Veri!$AC$31:$AC$500,MATCH(O36,Veri!$AI$31:$AI$500,0))<>\"\",INDEX(Veri!$AC$31:$AC$500,MATCH(O36,Veri!$AI$31:$AI$500,0)),\"\"),\"\")","v":""},{"$f":"IFERROR(IF(INDEX(Veri!$AD$31:$AD$500,MATCH(O36,Veri!$AI$31:$AI$500,0))<>\"\",INDEX(Veri!$AD$31:$AD$500,MATCH(O36,Veri!$AI$31:$AI$500,0)),\"\"),\"\")","v":""},{"$f":"IFERROR(IF(INDEX(Veri!$AE$31:$AE$500,MATCH(O36,Veri!$AI$31:$AI$500,0))<>\"\",INDEX(Veri!$AE$31:$AE$500,MATCH(O36,Veri!$AI$31:$AI$500,0)),\"\"),\"\")","v":""},null,27,{"$f":"IFERROR(IF(INDEX(Veri!$AK$31:$AK$500,MATCH(V36,Veri!$AS$31:$AS$500,0))<>\"\",INDEX(Veri!$AK$31:$AK$500,MATCH(V36,Veri!$AS$31:$AS$500,0)),\"\"),\"\")","v":""},{"$f":"IFERROR(IF(INDEX(Veri!$AQ$31:$AQ$500,MATCH(V36,Veri!$AS$31:$AS$500,0))<>\"\",INDEX(Veri!$AQ$31:$AQ$500,MATCH(V36,Veri!$AS$31:$AS$500,0)),\"\"),\"\")","v":""},{"$f":"IFERROR(IF(INDEX(Veri!$AM$31:$AM$500,MATCH(V36,Veri!$AS$31:$AS$500,0))<>\"\",INDEX(Veri!$AM$31:$AM$500,MATCH(V36,Veri!$AS$31:$AS$500,0)),\"\"),\"\")","v":""},{"$f":"IFERROR(IF(INDEX(Veri!$AN$31:$AN$500,MATCH(V36,Veri!$AS$31:$AS$500,0))<>\"\",INDEX(Veri!$AN$31:$AN$500,MATCH(V36,Veri!$AS$31:$AS$500,0)),\"\"),\"\")","v":""},{"$f":"IFERROR(IF(INDEX(Veri!$AO$31:$AO$500,MATCH(V36,Veri!$AS$31:$AS$500,0))<>\"\",INDEX(Veri!$AO$31:$AO$500,MATCH(V36,Veri!$AS$31:$AS$500,0)),\"\"),\"\")","v":""}]
[null,null,null,null,null,null,null,null,null,null,null,null,null,null,28,{"$f":"IFERROR(IF(INDEX(Veri!$AA$31:$AA$500,MATCH(O37,Veri!$AI$31:$AI$500,0))<>\"\",INDEX(Veri!$AA$31:$AA$500,MATCH(O37,Veri!$AI$31:$AI$500,0)),\"\"),\"\")","v":""},{"$f":"IFERROR(IF(INDEX(Veri!$AG$31:$AG$500,MATCH(O37,Veri!$AI$31:$AI$500,0))<>\"\",INDEX(Veri!$AG$31:$AG$500,MATCH(O37,Veri!$AI$31:$AI$500,0)),\"\"),\"\")","v":""},{"$f":"IFERROR(IF(INDEX(Veri!$AC$31:$AC$500,MATCH(O37,Veri!$AI$31:$AI$500,0))<>\"\",INDEX(Veri!$AC$31:$AC$500,MATCH(O37,Veri!$AI$31:$AI$500,0)),\"\"),\"\")","v":""},{"$f":"IFERROR(IF(INDEX(Veri!$AD$31:$AD$500,MATCH(O37,Veri!$AI$31:$AI$500,0))<>\"\",INDEX(Veri!$AD$31:$AD$500,MATCH(O37,Veri!$AI$31:$AI$500,0)),\"\"),\"\")","v":""},{"$f":"IFERROR(IF(INDEX(Veri!$AE$31:$AE$500,MATCH(O37,Veri!$AI$31:$AI$500,0))<>\"\",INDEX(Veri!$AE$31:$AE$500,MATCH(O37,Veri!$AI$31:$AI$500,0)),\"\"),\"\")","v":""},null,28,{"$f":"IFERROR(IF(INDEX(Veri!$AK$31:$AK$500,MATCH(V37,Veri!$AS$31:$AS$500,0))<>\"\",INDEX(Veri!$AK$31:$AK$500,MATCH(V37,Veri!$AS$31:$AS$500,0)),\"\"),\"\")","v":""},{"$f":"IFERROR(IF(INDEX(Veri!$AQ$31:$AQ$500,MATCH(V37,Veri!$AS$31:$AS$500,0))<>\"\",INDEX(Veri!$AQ$31:$AQ$500,MATCH(V37,Veri!$AS$31:$AS$500,0)),\"\"),\"\")","v":""},{"$f":"IFERROR(IF(INDEX(Veri!$AM$31:$AM$500,MATCH(V37,Veri!$AS$31:$AS$500,0))<>\"\",INDEX(Veri!$AM$31:$AM$500,MATCH(V37,Veri!$AS$31:$AS$500,0)),\"\"),\"\")","v":""},{"$f":"IFERROR(IF(INDEX(Veri!$AN$31:$AN$500,MATCH(V37,Veri!$AS$31:$AS$500,0))<>\"\",INDEX(Veri!$AN$31:$AN$500,MATCH(V37,Veri!$AS$31:$AS$500,0)),\"\"),\"\")","v":""},{"$f":"IFERROR(IF(INDEX(Veri!$AO$31:$AO$500,MATCH(V37,Veri!$AS$31:$AS$500,0))<>\"\",INDEX(Veri!$AO$31:$AO$500,MATCH(V37,Veri!$AS$31:$AS$500,0)),\"\"),\"\")","v":""}]
[null,{"$f":"CONCATENATE(B35,\" Oynadığı Son Maçlar\")","v":{"$error":"#REF!"}},null,null,null,null,{"$f":"CONCATENATE(I35,\" Oynadığı Son Maçlar\")","v":{"$error":"#REF!"}},null,null,null,null,null,null,null,29,{"$f":"IFERROR(IF(INDEX(Veri!$AA$31:$AA$500,MATCH(O38,Veri!$AI$31:$AI$500,0))<>\"\",INDEX(Veri!$AA$31:$AA$500,MATCH(O38,Veri!$AI$31:$AI$500,0)),\"\"),\"\")","v":""},{"$f":"IFERROR(IF(INDEX(Veri!$AG$31:$AG$500,MATCH(O38,Veri!$AI$31:$AI$500,0))<>\"\",INDEX(Veri!$AG$31:$AG$500,MATCH(O38,Veri!$AI$31:$AI$500,0)),\"\"),\"\")","v":""},{"$f":"IFERROR(IF(INDEX(Veri!$AC$31:$AC$500,MATCH(O38,Veri!$AI$31:$AI$500,0))<>\"\",INDEX(Veri!$AC$31:$AC$500,MATCH(O38,Veri!$AI$31:$AI$500,0)),\"\"),\"\")","v":""},{"$f":"IFERROR(IF(INDEX(Veri!$AD$31:$AD$500,MATCH(O38,Veri!$AI$31:$AI$500,0))<>\"\",INDEX(Veri!$AD$31:$AD$500,MATCH(O38,Veri!$AI$31:$AI$500,0)),\"\"),\"\")","v":""},{"$f":"IFERROR(IF(INDEX(Veri!$AE$31:$AE$500,MATCH(O38,Veri!$AI$31:$AI$500,0))<>\"\",INDEX(Veri!$AE$31:$AE$500,MATCH(O38,Veri!$AI$31:$AI$500,0)),\"\"),\"\")","v":""},null,29,{"$f":"IFERROR(IF(INDEX(Veri!$AK$31:$AK$500,MATCH(V38,Veri!$AS$31:$AS$500,0))<>\"\",INDEX(Veri!$AK$31:$AK$500,MATCH(V38,Veri!$AS$31:$AS$500,0)),\"\"),\"\")","v":""},{"$f":"IFERROR(IF(INDEX(Veri!$AQ$31:$AQ$500,MATCH(V38,Veri!$AS$31:$AS$500,0))<>\"\",INDEX(Veri!$AQ$31:$AQ$500,MATCH(V38,Veri!$AS$31:$AS$500,0)),\"\"),\"\")","v":""},{"$f":"IFERROR(IF(INDEX(Veri!$AM$31:$AM$500,MATCH(V38,Veri!$AS$31:$AS$500,0))<>\"\",INDEX(Veri!$AM$31:$AM$500,MATCH(V38,Veri!$AS$31:$AS$500,0)),\"\"),\"\")","v":""},{"$f":"IFERROR(IF(INDEX(Veri!$AN$31:$AN$500,MATCH(V38,Veri!$AS$31:$AS$500,0))<>\"\",INDEX(Veri!$AN$31:$AN$500,MATCH(V38,Veri!$AS$31:$AS$500,0)),\"\"),\"\")","v":""},{"$f":"IFERROR(IF(INDEX(Veri!$AO$31:$AO$500,MATCH(V38,Veri!$AS$31:$AS$500,0))<>\"\",INDEX(Veri!$AO$31:$AO$500,MATCH(V38,Veri!$AS$31:$AS$500,0)),\"\"),\"\")","v":""}]
[null,null,null,null,null,null,null,null,null,null,null,null,null,null,30,{"$f":"IFERROR(IF(INDEX(Veri!$AA$31:$AA$500,MATCH(O39,Veri!$AI$31:$AI$500,0))<>\"\",INDEX(Veri!$AA$31:$AA$500,MATCH(O39,Veri!$AI$31:$AI$500,0)),\"\"),\"\")","v":""},{"$f":"IFERROR(IF(INDEX(Veri!$AG$31:$AG$500,MATCH(O39,Veri!$AI$31:$AI$500,0))<>\"\",INDEX(Veri!$AG$31:$AG$500,MATCH(O39,Veri!$AI$31:$AI$500,0)),\"\"),\"\")","v":""},{"$f":"IFERROR(IF(INDEX(Veri!$AC$31:$AC$500,MATCH(O39,Veri!$AI$31:$AI$500,0))<>\"\",INDEX(Veri!$AC$31:$AC$500,MATCH(O39,Veri!$AI$31:$AI$500,0)),\"\"),\"\")","v":""},{"$f":"IFERROR(IF(INDEX(Veri!$AD$31:$AD$500,MATCH(O39,Veri!$AI$31:$AI$500,0))<>\"\",INDEX(Veri!$AD$31:$AD$500,MATCH(O39,Veri!$AI$31:$AI$500,0)),\"\"),\"\")","v":""},{"$f":"IFERROR(IF(INDEX(Veri!$AE$31:$AE$500,MATCH(O39,Veri!$AI$31:$AI$500,0))<>\"\",INDEX(Veri!$AE$31:$AE$500,MATCH(O39,Veri!$AI$31:$AI$500,0)),\"\"),\"\")","v":""},null,30,{"$f":"IFERROR(IF(INDEX(Veri!$AK$31:$AK$500,MATCH(V39,Veri!$AS$31:$AS$500,0))<>\"\",INDEX(Veri!$AK$31:$AK$500,MATCH(V39,Veri!$AS$31:$AS$500,0)),\"\"),\"\")","v":""},{"$f":"IFERROR(IF(INDEX(Veri!$AQ$31:$AQ$500,MATCH(V39,Veri!$AS$31:$AS$500,0))<>\"\",INDEX(Veri!$AQ$31:$AQ$500,MATCH(V39,Veri!$AS$31:$AS$500,0)),\"\"),\"\")","v":""},{"$f":"IFERROR(IF(INDEX(Veri!$AM$31:$AM$500,MATCH(V39,Veri!$AS$31:$AS$500,0))<>\"\",INDEX(Veri!$AM$31:$AM$500,MATCH(V39,Veri!$AS$31:$AS$500,0)),\"\"),\"\")","v":""},{"$f":"IFERROR(IF(INDEX(Veri!$AN$31:$AN$500,MATCH(V39,Veri!$AS$31:$AS$500,0))<>\"\",INDEX(Veri!$AN$31:$AN$500,MATCH(V39,Veri!$AS$31:$AS$500,0)),\"\"),\"\")","v":""},{"$f":"IFERROR(IF(INDEX(Veri!$AO$31:$AO$500,MATCH(V39,Veri!$AS$31:$AS$500,0))<>\"\",INDEX(Veri!$AO$31:$AO$500,MATCH(V39,Veri!$AS$31:$AS$500,0)),\"\"),\"\")","v":""}]
[null,"Lig","Ev Sahibi","Deplasman","İY","MS","Lig","Ev Sahibi","Deplasman","İY","MS",null,null,null,31,{"$f":"IFERROR(IF(INDEX(Veri!$AA$31:$AA$500,MATCH(O40,Veri!$AI$31:$AI$500,0))<>\"\",INDEX(Veri!$AA$31:$AA$500,MATCH(O40,Veri!$AI$31:$AI$500,0)),\"\"),\"\")","v":""},{"$f":"IFERROR(IF(INDEX(Veri!$AG$31:$AG$500,MATCH(O40,Veri!$AI$31:$AI$500,0))<>\"\",INDEX(Veri!$AG$31:$AG$500,MATCH(O40,Veri!$AI$31:$AI$500,0)),\"\"),\"\")","v":""},{"$f":"IFERROR(IF(INDEX(Veri!$AC$31:$AC$500,MATCH(O40,Veri!$AI$31:$AI$500,0))<>\"\",INDEX(Veri!$AC$31:$AC$500,MATCH(O40,Veri!$AI$31:$AI$500,0)),\"\"),\"\")","v":""},{"$f":"IFERROR(IF(INDEX(Veri!$AD$31:$AD$500,MATCH(O40,Veri!$AI$31:$AI$500,0))<>\"\",INDEX(Veri!$AD$31:$AD$500,MATCH(O40,Veri!$AI$31:$AI$500,0)),\"\"),\"\")","v":""},{"$f":"IFERROR(IF(INDEX(Veri!$AE$31:$AE$500,MATCH(O40,Veri!$AI$31:$AI$500,0))<>\"\",INDEX(Veri!$AE$31:$AE$500,MATCH(O40,Veri!$AI$31:$AI$500,0)),\"\"),\"\")","v":""},null,31,{"$f":"IFERROR(IF(INDEX(Veri!$AK$31:$AK$500,MATCH(V40,Veri!$AS$31:$AS$500,0))<>\"\",INDEX(Veri!$AK$31:$AK$500,MATCH(V40,Veri!$AS$31:$AS$500,0)),\"\"),\"\")","v":""},{"$f":"IFERROR(IF(INDEX(Veri!$AQ$31:$AQ$500,MATCH(V40,Veri!$AS$31:$AS$500,0))<>\"\",INDEX(Veri!$AQ$31:$AQ$500,MATCH(V40,Veri!$AS$31:$AS$500,0)),\"\"),\"\")","v":""},{"$f":"IFERROR(IF(INDEX(Veri!$AM$31:$AM$500,MATCH(V40,Veri!$AS$31:$AS$500,0))<>\"\",INDEX(Veri!$AM$31:$AM$500,MATCH(V40,Veri!$AS$31:$AS$500,0)),\"\"),\"\")","v":""},{"$f":"IFERROR(IF(INDEX(Veri!$AN$31:$AN$500,MATCH(V40,Veri!$AS$31:$AS$500,0))<>\"\",INDEX(Veri!$AN$31:$AN$500,MATCH(V40,Veri!$AS$31:$AS$500,0)),\"\"),\"\")","v":""},{"$f":"IFERROR(IF(INDEX(Veri!$AO$31:$AO$500,MATCH(V40,Veri!$AS$31:$AS$500,0))<>\"\",INDEX(Veri!$AO$31:$AO$500,MATCH(V40,Veri!$AS$31:$AS$500,0)),\"\"),\"\")","v":""}]
[null,{"$f":"IF(INDEX(Veri!$B$31:$B$33,MATCH(\"League/Cup\",Veri!$B$31:$B$33,0)+2,1)<>\"\",INDEX(Veri!$B$31:$B$33,MATCH(\"League/Cup\",Veri!$B$31:$B$33,0)+2,1),\"\")","v":{"$error":"#N/A"}},{"$f":"IF(INDEX(Veri!D$31:$D$33,MATCH(\"League/Cup\",Veri!B$31:$B$33,0)+2,1)<>\"\",IF(COUNTIF(INDEX(Veri!D$31:$D$33,MATCH(\"League/Cup\",Veri!B$31:$B$33,0)+2,1),\"*\"&$B$3&\"*\"),$B$3,INDEX(Veri!D$31:$D$33,MATCH(\"League/Cup\",Veri!B$31:$B$33,0)+2,1)),\"\")","v":{"$error":"#N/A"}},{"$f":"IF(INDEX(Veri!H$31:$H$33,MATCH(\"League/Cup\",Veri!B$31:$B$33,0)+2,1)<>\"\",IF(COUNTIF(INDEX(Veri!H$31:$H$33,MATCH(\"League/Cup\",Veri!B$31:$B$33,0)+2,1),\"*\"&$B$3&\"*\"),$B$3,INDEX(Veri!H$31:$H$33,MATCH(\"League/Cup\",Veri!B$31:$B$33,0)+2,1)),\"\")","v":{"$error":"#N/A"}},{"$f":"IF(INDEX(Veri!F$31:$F$33,MATCH(\"League/Cup\",Veri!B$31:$B$33,0)+2,1)<>\"\",INDEX(Veri!F$31:$F$33,MATCH(\"League/Cup\",Veri!B$31:$B$33,0)+2,1),\"\")","v":{"$error":"#N/A"}},{"$f":"IF(INDEX(Veri!E$31:$E$33,MATCH(\"League/Cup\",Veri!B$31:$B$33,0)+2,1)<>\"\",INDEX(Veri!E$31:$E$33,MATCH(\"League/Cup\",Veri!B$31:$B$33,0)+2,1),\"\")","v":{"$error":"#N/A"}},null,null,null,null,null,null,null,null,32,{"$f":"IFERROR(IF(INDEX(Veri!$AA$31:$AA$500,MATCH(O41,Veri!$AI$31:$AI$500,0))<>\"\",INDEX(Veri!$AA$31:$AA$500,MATCH(O41,Veri!$AI$31:$AI$500,0)),\"\"),\"\")","v":""},{"$f":"IFERROR(IF(INDEX(Veri!$AG$31:$AG$500,MATCH(O41,Veri!$AI$31:$AI$500,0))<>\"\",INDEX(Veri!$AG$31:$AG$500,MATCH(O41,Veri!$AI$31:$AI$500,0)),\"\"),\"\")","v":""},{"$f":"IFERROR(IF(INDEX(Veri!$AC$31:$AC$500,MATCH(O41,Veri!$AI$31:$AI$500,0))<>\"\",INDEX(Veri!$AC$31:$AC$500,MATCH(O41,Veri!$AI$31:$AI$500,0)),\"\"),\"\")","v":""},{"$f":"IFERROR(IF(INDEX(Veri!$AD$31:$AD$500,MATCH(O41,Veri!$AI$31:$AI$500,0))<>\"\",INDEX(Veri!$AD$31:$AD$500,MATCH(O41,Veri!$AI$31:$AI$500,0)),\"\"),\"\")","v":""},{"$f":"IFERROR(IF(INDEX(Veri!$AE$31:$AE$500,MATCH(O41,Veri!$AI$31:$AI$500,0))<>\"\",INDEX(Veri!$AE$31:$AE$500,MATCH(O41,Veri!$AI$31:$AI$500,0)),\"\"),\"\")","v":""},null,32,{"$f":"IFERROR(IF(INDEX(Veri!$AK$31:$AK$500,MATCH(V41,Veri!$AS$31:$AS$500,0))<>\"\",INDEX(Veri!$AK$31:$AK$500,MATCH(V41,Veri!$AS$31:$AS$500,0)),\"\"),\"\")","v":""},{"$f":"IFERROR(IF(INDEX(Veri!$AQ$31:$AQ$500,MATCH(V41,Veri!$AS$31:$AS$500,0))<>\"\",INDEX(Veri!$AQ$31:$AQ$500,MATCH(V41,Veri!$AS$31:$AS$500,0)),\"\"),\"\")","v":""},{"$f":"IFERROR(IF(INDEX(Veri!$AM$31:$AM$500,MATCH(V41,Veri!$AS$31:$AS$500,0))<>\"\",INDEX(Veri!$AM$31:$AM$500,MATCH(V41,Veri!$AS$31:$AS$500,0)),\"\"),\"\")","v":""},{"$f":"IFERROR(IF(INDEX(Veri!$AN$31:$AN$500,MATCH(V41,Veri!$AS$31:$AS$500,0))<>\"\",INDEX(Veri!$AN$31:$AN$500,MATCH(V41,Veri!$AS$31:$AS$500,0)),\"\"),\"\")","v":""},{"$f":"IFERROR(IF(INDEX(Veri!$AO$31:$AO$500,MATCH(V41,Veri!$AS$31:$AS$500,0))<>\"\",INDEX(Veri!$AO$31:$AO$500,MATCH(V41,Veri!$AS$31:$AS$500,0)),\"\"),\"\")","v":""}]
[null,{"$f":"IF(INDEX(Veri!$B$31:$B$33,MATCH(\"League/Cup\",Veri!$B$31:$B$33,0)+3,1)<>\"\",INDEX(Veri!$B$31:$B$33,MATCH(\"League/Cup\",Veri!$B$31:$B$33,0)+3,1),\"\")","v":{"$error":"#N/A"}},{"$f":"IF(INDEX(Veri!D$31:$D$33,MATCH(\"League/Cup\",Veri!B$31:$B$33,0)+3,1)<>\"\",IF(COUNTIF(INDEX(Veri!D$31:$D$33,MATCH(\"League/Cup\",Veri!B$31:$B$33,0)+3,1),\"*\"&$B$3&\"*\"),$B$3,INDEX(Veri!D$31:$D$33,MATCH(\"League/Cup\",Veri!B$31:$B$33,0)+3,1)),\"\")","v":{"$error":"#N/A"}},{"$f":"IF(INDEX(Veri!H$31:$H$33,MATCH(\"League/Cup\",Veri!B$31:$B$33,0)+3,1)<>\"\",IF(COUNTIF(INDEX(Veri!H$31:$H$33,MATCH(\"League/Cup\",Veri!B$31:$B$33,0)+3,1),\"*\"&$B$3&\"*\"),$B$3,INDEX(Veri!H$31:$H$33,MATCH(\"League/Cup\",Veri!B$31:$B$33,0)+3,1)),\"\")","v":{"$error":"#N/A"}},{"$f":"IF(INDEX(Veri!F$31:$F$33,MATCH(\"League/Cup\",Veri!B$31:$B$33,0)+3,1)<>\"\",INDEX(Veri!F$31:$F$33,MATCH(\"League/Cup\",Veri!B$31:$B$33,0)+3,1),\"\")","v":{"$error":"#N/A"}},{"$f":"IF(INDEX(Veri!E$31:$E$33,MATCH(\"League/Cup\",Veri!B$31:$B$33,0)+3,1)<>\"\",INDEX(Veri!E$31:$E$33,MATCH(\"League/Cup\",Veri!B$31:$B$33,0)+3,1),\"\")","v":{"$error":"#N/A"}},null,null,null,null,null,null,null,null,33,{"$f":"IFERROR(IF(INDEX(Veri!$AA$31:$AA$500,MATCH(O42,Veri!$AI$31:$AI$500,0))<>\"\",INDEX(Veri!$AA$31:$AA$500,MATCH(O42,Veri!$AI$31:$AI$500,0)),\"\"),\"\")","v":""},{"$f":"IFERROR(IF(INDEX(Veri!$AG$31:$AG$500,MATCH(O42,Veri!$AI$31:$AI$500,0))<>\"\",INDEX(Veri!$AG$31:$AG$500,MATCH(O42,Veri!$AI$31:$AI$500,0)),\"\"),\"\")","v":""},{"$f":"IFERROR(IF(INDEX(Veri!$AC$31:$AC$500,MATCH(O42,Veri!$AI$31:$AI$500,0))<>\"\",INDEX(Veri!$AC$31:$AC$500,MATCH(O42,Veri!$AI$31:$AI$500,0)),\"\"),\"\")","v":""},{"$f":"IFERROR(IF(INDEX(Veri!$AD$31:$AD$500,MATCH(O42,Veri!$AI$31:$AI$500,0))<>\"\",INDEX(Veri!$AD$31:$AD$500,MATCH(O42,Veri!$AI$31:$AI$500,0)),\"\"),\"\")","v":""},{"$f":"IFERROR(IF(INDEX(Veri!$AE$31:$AE$500,MATCH(O42,Veri!$AI$31:$AI$500,0))<>\"\",INDEX(Veri!$AE$31:$AE$500,MATCH(O42,Veri!$AI$31:$AI$500,0)),\"\"),\"\")","v":""},null,33,{"$f":"IFERROR(IF(INDEX(Veri!$AK$31:$AK$500,MATCH(V42,Veri!$AS$31:$AS$500,0))<>\"\",INDEX(Veri!$AK$31:$AK$500,MATCH(V42,Veri!$AS$31:$AS$500,0)),\"\"),\"\")","v":""},{"$f":"IFERROR(IF(INDEX(Veri!$AQ$31:$AQ$500,MATCH(V42,Veri!$AS$31:$AS$500,0))<>\"\",INDEX(Veri!$AQ$31:$AQ$500,MATCH(V42,Veri!$AS$31:$AS$500,0)),\"\"),\"\")","v":""},{"$f":"IFERROR(IF(INDEX(Veri!$AM$31:$AM$500,MATCH(V42,Veri!$AS$31:$AS$500,0))<>\"\",INDEX(Veri!$AM$31:$AM$500,MATCH(V42,Veri!$AS$31:$AS$500,0)),\"\"),\"\")","v":""},{"$f":"IFERROR(IF(INDEX(Veri!$AN$31:$AN$500,MATCH(V42,Veri!$AS$31:$AS$500,0))<>\"\",INDEX(Veri!$AN$31:$AN$500,MATCH(V42,Veri!$AS$31:$AS$500,0)),\"\"),\"\")","v":""},{"$f":"IFERROR(IF(INDEX(Veri!$AO$31:$AO$500,MATCH(V42,Veri!$AS$31:$AS$500,0))<>\"\",INDEX(Veri!$AO$31:$AO$500,MATCH(V42,Veri!$AS$31:$AS$500,0)),\"\"),\"\")","v":""}]
[null,{"$f":"IF(INDEX(Veri!$B$31:$B$33,MATCH(\"League/Cup\",Veri!$B$31:$B$33,0)+4,1)<>\"\",INDEX(Veri!$B$31:$B$33,MATCH(\"League/Cup\",Veri!$B$31:$B$33,0)+4,1),\"\")","v":{"$error":"#N/A"}},{"$f":"IF(INDEX(Veri!D$31:$D$33,MATCH(\"League/Cup\",Veri!B$31:$B$33,0)+4,1)<>\"\",IF(COUNTIF(INDEX(Veri!D$31:$D$33,MATCH(\"League/Cup\",Veri!B$31:$B$33,0)+4,1),\"*\"&$B$3&\"*\"),$B$3,INDEX(Veri!D$31:$D$33,MATCH(\"League/Cup\",Veri!B$31:$B$33,0)+4,1)),\"\")","v":{"$error":"#N/A"}},{"$f":"IF(INDEX(Veri!H$31:$H$33,MATCH(\"League/Cup\",Veri!B$31:$B$33,0)+4,1)<>\"\",IF(COUNTIF(INDEX(Veri!H$31:$H$33,MATCH(\"League/Cup\",Veri!B$31:$B$33,0)+4,1),\"*\"&$B$3&\"*\"),$B$3,INDEX(Veri!H$31:$H$33,MATCH(\"League/Cup\",Veri!B$31:$B$33,0)+4,1)),\"\")","v":{"$error":"#N/A"}},{"$f":"IF(INDEX(Veri!F$31:$F$33,MATCH(\"League/Cup\",Veri!B$31:$B$33,0)+4,1)<>\"\",INDEX(Veri!F$31:$F$33,MATCH(\"League/Cup\",Veri!B$31:$B$33,0)+4,1),\"\")","v":{"$error":"#N/A"}},{"$f":"IF(INDEX(Veri!E$31:$E$33,MATCH(\"League/Cup\",Veri!B$31:$B$33,0)+4,1)<>\"\",INDEX(Veri!E$31:$E$33,MATCH(\"League/Cup\",Veri!B$31:$B$33,0)+4,1),\"\")","v":{"$error":"#N/A"}},null,null,null,null,null,null,null,null,34,{"$f":"IFERROR(IF(INDEX(Veri!$AA$31:$AA$500,MATCH(O43,Veri!$AI$31:$AI$500,0))<>\"\",INDEX(Veri!$AA$31:$AA$500,MATCH(O43,Veri!$AI$31:$AI$500,0)),\"\"),\"\")","v":""},{"$f":"IFERROR(IF(INDEX(Veri!$AG$31:$AG$500,MATCH(O43,Veri!$AI$31:$AI$500,0))<>\"\",INDEX(Veri!$AG$31:$AG$500,MATCH(O43,Veri!$AI$31:$AI$500,0)),\"\"),\"\")","v":""},{"$f":"IFERROR(IF(INDEX(Veri!$AC$31:$AC$500,MATCH(O43,Veri!$AI$31:$AI$500,0))<>\"\",INDEX(Veri!$AC$31:$AC$500,MATCH(O43,Veri!$AI$31:$AI$500,0)),\"\"),\"\")","v":""},{"$f":"IFERROR(IF(INDEX(Veri!$AD$31:$AD$500,MATCH(O43,Veri!$AI$31:$AI$500,0))<>\"\",INDEX(Veri!$AD$31:$AD$500,MATCH(O43,Veri!$AI$31:$AI$500,0)),\"\"),\"\")","v":""},{"$f":"IFERROR(IF(INDEX(Veri!$AE$31:$AE$500,MATCH(O43,Veri!$AI$31:$AI$500,0))<>\"\",INDEX(Veri!$AE$31:$AE$500,MATCH(O43,Veri!$AI$31:$AI$500,0)),\"\"),\"\")","v":""},null,34,{"$f":"IFERROR(IF(INDEX(Veri!$AK$31:$AK$500,MATCH(V43,Veri!$AS$31:$AS$500,0))<>\"\",INDEX(Veri!$AK$31:$AK$500,MATCH(V43,Veri!$AS$31:$AS$500,0)),\"\"),\"\")","v":""},{"$f":"IFERROR(IF(INDEX(Veri!$AQ$31:$AQ$500,MATCH(V43,Veri!$AS$31:$AS$500,0))<>\"\",INDEX(Veri!$AQ$31:$AQ$500,MATCH(V43,Veri!$AS$31:$AS$500,0)),\"\"),\"\")","v":""},{"$f":"IFERROR(IF(INDEX(Veri!$AM$31:$AM$500,MATCH(V43,Veri!$AS$31:$AS$500,0))<>\"\",INDEX(Veri!$AM$31:$AM$500,MATCH(V43,Veri!$AS$31:$AS$500,0)),\"\"),\"\")","v":""},{"$f":"IFERROR(IF(INDEX(Veri!$AN$31:$AN$500,MATCH(V43,Veri!$AS$31:$AS$500,0))<>\"\",INDEX(Veri!$AN$31:$AN$500,MATCH(V43,Veri!$AS$31:$AS$500,0)),\"\"),\"\")","v":""},{"$f":"IFERROR(IF(INDEX(Veri!$AO$31:$AO$500,MATCH(V43,Veri!$AS$31:$AS$500,0))<>\"\",INDEX(Veri!$AO$31:$AO$500,MATCH(V43,Veri!$AS$31:$AS$500,0)),\"\"),\"\")","v":""}]
[null,{"$f":"IF(INDEX(Veri!$B$31:$B$33,MATCH(\"League/Cup\",Veri!$B$31:$B$33,0)+5,1)<>\"\",INDEX(Veri!$B$31:$B$33,MATCH(\"League/Cup\",Veri!$B$31:$B$33,0)+5,1),\"\")","v":{"$error":"#N/A"}},{"$f":"IF(INDEX(Veri!D$31:$D$33,MATCH(\"League/Cup\",Veri!B$31:$B$33,0)+5,1)<>\"\",IF(COUNTIF(INDEX(Veri!D$31:$D$33,MATCH(\"League/Cup\",Veri!B$31:$B$33,0)+5,1),\"*\"&$B$3&\"*\"),$B$3,INDEX(Veri!D$31:$D$33,MATCH(\"League/Cup\",Veri!B$31:$B$33,0)+5,1)),\"\")","v":{"$error":"#N/A"}},{"$f":"IF(INDEX(Veri!H$31:$H$33,MATCH(\"League/Cup\",Veri!B$31:$B$33,0)+5,1)<>\"\",IF(COUNTIF(INDEX(Veri!H$31:$H$33,MATCH(\"League/Cup\",Veri!B$31:$B$33,0)+5,1),\"*\"&$B$3&\"*\"),$B$3,INDEX(Veri!H$31:$H$33,MATCH(\"League/Cup\",Veri!B$31:$B$33,0)+5,1)),\"\")","v":{"$error":"#N/A"}},{"$f":"IF(INDEX(Veri!F$31:$F$33,MATCH(\"League/Cup\",Veri!B$31:$B$33,0)+5,1)<>\"\",INDEX(Veri!F$31:$F$33,MATCH(\"League/Cup\",Veri!B$31:$B$33,0)+5,1),\"\")","v":{"$error":"#N/A"}},{"$f":"IF(INDEX(Veri!E$31:$E$33,MATCH(\"League/Cup\",Veri!B$31:$B$33,0)+5,1)<>\"\",INDEX(Veri!E$31:$E$33,MATCH(\"League/Cup\",Veri!B$31:$B$33,0)+5,1),\"\")","v":{"$error":"#N/A"}},null,null,null,null,null,null,null,null,35,{"$f":"IFERROR(IF(INDEX(Veri!$AA$31:$AA$500,MATCH(O44,Veri!$AI$31:$AI$500,0))<>\"\",INDEX(Veri!$AA$31:$AA$500,MATCH(O44,Veri!$AI$31:$AI$500,0)),\"\"),\"\")","v":""},{"$f":"IFERROR(IF(INDEX(Veri!$AG$31:$AG$500,MATCH(O44,Veri!$AI$31:$AI$500,0))<>\"\",INDEX(Veri!$AG$31:$AG$500,MATCH(O44,Veri!$AI$31:$AI$500,0)),\"\"),\"\")","v":""},{"$f":"IFERROR(IF(INDEX(Veri!$AC$31:$AC$500,MATCH(O44,Veri!$AI$31:$AI$500,0))<>\"\",INDEX(Veri!$AC$31:$AC$500,MATCH(O44,Veri!$AI$31:$AI$500,0)),\"\"),\"\")","v":""},{"$f":"IFERROR(IF(INDEX(Veri!$AD$31:$AD$500,MATCH(O44,Veri!$AI$31:$AI$500,0))<>\"\",INDEX(Veri!$AD$31:$AD$500,MATCH(O44,Veri!$AI$31:$AI$500,0)),\"\"),\"\")","v":""},{"$f":"IFERROR(IF(INDEX(Veri!$AE$31:$AE$500,MATCH(O44,Veri!$AI$31:$AI$500,0))<>\"\",INDEX(Veri!$AE$31:$AE$500,MATCH(O44,Veri!$AI$31:$AI$500,0)),\"\"),\"\")","v":""},null,35,{"$f":"IFERROR(IF(INDEX(Veri!$AK$31:$AK$500,MATCH(V44,Veri!$AS$31:$AS$500,0))<>\"\",INDEX(Veri!$AK$31:$AK$500,MATCH(V44,Veri!$AS$31:$AS$500,0)),\"\"),\"\")","v":""},{"$f":"IFERROR(IF(INDEX(Veri!$AQ$31:$AQ$500,MATCH(V44,Veri!$AS$31:$AS$500,0))<>\"\",INDEX(Veri!$AQ$31:$AQ$500,MATCH(V44,Veri!$AS$31:$AS$500,0)),\"\"),\"\")","v":""},{"$f":"IFERROR(IF(INDEX(Veri!$AM$31:$AM$500,MATCH(V44,Veri!$AS$31:$AS$500,0))<>\"\",INDEX(Veri!$AM$31:$AM$500,MATCH(V44,Veri!$AS$31:$AS$500,0)),\"\"),\"\")","v":""},{"$f":"IFERROR(IF(INDEX(Veri!$AN$31:$AN$500,MATCH(V44,Veri!$AS$31:$AS$500,0))<>\"\",INDEX(Veri!$AN$31:$AN$500,MATCH(V44,Veri!$AS$31:$AS$500,0)),\"\"),\"\")","v":""},{"$f":"IFERROR(IF(INDEX(Veri!$AO$31:$AO$500,MATCH(V44,Veri!$AS$31:$AS$500,0))<>\"\",INDEX(Veri!$AO$31:$AO$500,MATCH(V44,Veri!$AS$31:$AS$500,0)),\"\"),\"\")","v":""}]
[null,{"$f":"IF(INDEX(Veri!$B$31:$B$33,MATCH(\"League/Cup\",Veri!$B$31:$B$33,0)+6,1)<>\"\",INDEX(Veri!$B$31:$B$33,MATCH(\"League/Cup\",Veri!$B$31:$B$33,0)+6,1),\"\")","v":{"$error":"#N/A"}},{"$f":"IF(INDEX(Veri!D$31:$D$33,MATCH(\"League/Cup\",Veri!B$31:$B$33,0)+6,1)<>\"\",IF(COUNTIF(INDEX(Veri!D$31:$D$33,MATCH(\"League/Cup\",Veri!B$31:$B$33,0)+6,1),\"*\"&$B$3&\"*\"),$B$3,INDEX(Veri!D$31:$D$33,MATCH(\"League/Cup\",Veri!B$31:$B$33,0)+6,1)),\"\")","v":{"$error":"#N/A"}},{"$f":"IF(INDEX(Veri!H$31:$H$33,MATCH(\"League/Cup\",Veri!B$31:$B$33,0)+6,1)<>\"\",IF(COUNTIF(INDEX(Veri!H$31:$H$33,MATCH(\"League/Cup\",Veri!B$31:$B$33,0)+6,1),\"*\"&$B$3&\"*\"),$B$3,INDEX(Veri!H$31:$H$33,MATCH(\"League/Cup\",Veri!B$31:$B$33,0)+6,1)),\"\")","v":{"$error":"#N/A"}},{"$f":"IF(INDEX(Veri!F$31:$F$33,MATCH(\"League/Cup\",Veri!B$31:$B$33,0)+6,1)<>\"\",INDEX(Veri!F$31:$F$33,MATCH(\"League/Cup\",Veri!B$31:$B$33,0)+6,1),\"\")","v":{"$error":"#N/A"}},{"$f":"IF(INDEX(Veri!E$31:$E$33,MATCH(\"League/Cup\",Veri!B$31:$B$33,0)+6,1)<>\"\",INDEX(Veri!E$31:$E$33,MATCH(\"League/Cup\",Veri!B$31:$B$33,0)+6,1),\"\")","v":{"$error":"#N/A"}},null,null,null,null,null,null,null,null,36,{"$f":"IFERROR(IF(INDEX(Veri!$AA$31:$AA$500,MATCH(O45,Veri!$AI$31:$AI$500,0))<>\"\",INDEX(Veri!$AA$31:$AA$500,MATCH(O45,Veri!$AI$31:$AI$500,0)),\"\"),\"\")","v":""},{"$f":"IFERROR(IF(INDEX(Veri!$AG$31:$AG$500,MATCH(O45,Veri!$AI$31:$AI$500,0))<>\"\",INDEX(Veri!$AG$31:$AG$500,MATCH(O45,Veri!$AI$31:$AI$500,0)),\"\"),\"\")","v":""},{"$f":"IFERROR(IF(INDEX(Veri!$AC$31:$AC$500,MATCH(O45,Veri!$AI$31:$AI$500,0))<>\"\",INDEX(Veri!$AC$31:$AC$500,MATCH(O45,Veri!$AI$31:$AI$500,0)),\"\"),\"\")","v":""},{"$f":"IFERROR(IF(INDEX(Veri!$AD$31:$AD$500,MATCH(O45,Veri!$AI$31:$AI$500,0))<>\"\",INDEX(Veri!$AD$31:$AD$500,MATCH(O45,Veri!$AI$31:$AI$500,0)),\"\"),\"\")","v":""},{"$f":"IFERROR(IF(INDEX(Veri!$AE$31:$AE$500,MATCH(O45,Veri!$AI$31:$AI$500,0))<>\"\",INDEX(Veri!$AE$31:$AE$500,MATCH(O45,Veri!$AI$31:$AI$500,0)),\"\"),\"\")","v":""},null,36,{"$f":"IFERROR(IF(INDEX(Veri!$AK$31:$AK$500,MATCH(V45,Veri!$AS$31:$AS$500,0))<>\"\",INDEX(Veri!$AK$31:$AK$500,MATCH(V45,Veri!$AS$31:$AS$500,0)),\"\"),\"\")","v":""},{"$f":"IFERROR(IF(INDEX(Veri!$AQ$31:$AQ$500,MATCH(V45,Veri!$AS$31:$AS$500,0))<>\"\",INDEX(Veri!$AQ$31:$AQ$500,MATCH(V45,Veri!$AS$31:$AS$500,0)),\"\"),\"\")","v":""},{"$f":"IFERROR(IF(INDEX(Veri!$AM$31:$AM$500,MATCH(V45,Veri!$AS$31:$AS$500,0))<>\"\",INDEX(Veri!$AM$31:$AM$500,MATCH(V45,Veri!$AS$31:$AS$500,0)),\"\"),\"\")","v":""},{"$f":"IFERROR(IF(INDEX(Veri!$AN$31:$AN$500,MATCH(V45,Veri!$AS$31:$AS$500,0))<>\"\",INDEX(Veri!$AN$31:$AN$500,MATCH(V45,Veri!$AS$31:$AS$500,0)),\"\"),\"\")","v":""},{"$f":"IFERROR(IF(INDEX(Veri!$AO$31:$AO$500,MATCH(V45,Veri!$AS$31:$AS$500,0))<>\"\",INDEX(Veri!$AO$31:$AO$500,MATCH(V45,Veri!$AS$31:$AS$500,0)),\"\"),\"\")","v":""}]
[null,{"$f":"IF(INDEX(Veri!$B$31:$B$33,MATCH(\"League/Cup\",Veri!$B$31:$B$33,0)+7,1)<>\"\",INDEX(Veri!$B$31:$B$33,MATCH(\"League/Cup\",Veri!$B$31:$B$33,0)+7,1),\"\")","v":{"$error":"#N/A"}},{"$f":"IF(INDEX(Veri!D$31:$D$33,MATCH(\"League/Cup\",Veri!B$31:$B$33,0)+7,1)<>\"\",IF(COUNTIF(INDEX(Veri!D$31:$D$33,MATCH(\"League/Cup\",Veri!B$31:$B$33,0)+7,1),\"*\"&$B$3&\"*\"),$B$3,INDEX(Veri!D$31:$D$33,MATCH(\"League/Cup\",Veri!B$31:$B$33,0)+7,1)),\"\")","v":{"$error":"#N/A"}},{"$f":"IF(INDEX(Veri!H$31:$H$33,MATCH(\"League/Cup\",Veri!B$31:$B$33,0)+7,1)<>\"\",IF(COUNTIF(INDEX(Veri!H$31:$H$33,MATCH(\"League/Cup\",Veri!B$31:$B$33,0)+7,1),\"*\"&$B$3&\"*\"),$B$3,INDEX(Veri!H$31:$H$33,MATCH(\"League/Cup\",Veri!B$31:$B$33,0)+7,1)),\"\")","v":{"$error":"#N/A"}},{"$f":"IF(INDEX(Veri!F$31:$F$33,MATCH(\"League/Cup\",Veri!B$31:$B$33,0)+7,1)<>\"\",INDEX(Veri!F$31:$F$33,MATCH(\"League/Cup\",Veri!B$31:$B$33,0)+7,1),\"\")","v":{"$error":"#N/A"}},{"$f":"IF(INDEX(Veri!E$31:$E$33,MATCH(\"League/Cup\",Veri!B$31:$B$33,0)+7,1)<>\"\",INDEX(Veri!E$31:$E$33,MATCH(\"League/Cup\",Veri!B$31:$B$33,0)+7,1),\"\")","v":{"$error":"#N/A"}},null,null,null,null,null,null,null,null,37,{"$f":"IFERROR(IF(INDEX(Veri!$AA$31:$AA$500,MATCH(O46,Veri!$AI$31:$AI$500,0))<>\"\",INDEX(Veri!$AA$31:$AA$500,MATCH(O46,Veri!$AI$31:$AI$500,0)),\"\"),\"\")","v":""},{"$f":"IFERROR(IF(INDEX(Veri!$AG$31:$AG$500,MATCH(O46,Veri!$AI$31:$AI$500,0))<>\"\",INDEX(Veri!$AG$31:$AG$500,MATCH(O46,Veri!$AI$31:$AI$500,0)),\"\"),\"\")","v":""},{"$f":"IFERROR(IF(INDEX(Veri!$AC$31:$AC$500,MATCH(O46,Veri!$AI$31:$AI$500,0))<>\"\",INDEX(Veri!$AC$31:$AC$500,MATCH(O46,Veri!$AI$31:$AI$500,0)),\"\"),\"\")","v":""},{"$f":"IFERROR(IF(INDEX(Veri!$AD$31:$AD$500,MATCH(O46,Veri!$AI$31:$AI$500,0))<>\"\",INDEX(Veri!$AD$31:$AD$500,MATCH(O46,Veri!$AI$31:$AI$500,0)),\"\"),\"\")","v":""},{"$f":"IFERROR(IF(INDEX(Veri!$AE$31:$AE$500,MATCH(O46,Veri!$AI$31:$AI$500,0))<>\"\",INDEX(Veri!$AE$31:$AE$500,MATCH(O46,Veri!$AI$31:$AI$500,0)),\"\"),\"\")","v":""},null,37,{"$f":"IFERROR(IF(INDEX(Veri!$AK$31:$AK$500,MATCH(V46,Veri!$AS$31:$AS$500,0))<>\"\",INDEX(Veri!$AK$31:$AK$500,MATCH(V46,Veri!$AS$31:$AS$500,0)),\"\"),\"\")","v":""},{"$f":"IFERROR(IF(INDEX(Veri!$AQ$31:$AQ$500,MATCH(V46,Veri!$AS$31:$AS$500,0))<>\"\",INDEX(Veri!$AQ$31:$AQ$500,MATCH(V46,Veri!$AS$31:$AS$500,0)),\"\"),\"\")","v":""},{"$f":"IFERROR(IF(INDEX(Veri!$AM$31:$AM$500,MATCH(V46,Veri!$AS$31:$AS$500,0))<>\"\",INDEX(Veri!$AM$31:$AM$500,MATCH(V46,Veri!$AS$31:$AS$500,0)),\"\"),\"\")","v":""},{"$f":"IFERROR(IF(INDEX(Veri!$AN$31:$AN$500,MATCH(V46,Veri!$AS$31:$AS$500,0))<>\"\",INDEX(Veri!$AN$31:$AN$500,MATCH(V46,Veri!$AS$31:$AS$500,0)),\"\"),\"\")","v":""},{"$f":"IFERROR(IF(INDEX(Veri!$AO$31:$AO$500,MATCH(V46,Veri!$AS$31:$AS$500,0))<>\"\",INDEX(Veri!$AO$31:$AO$500,MATCH(V46,Veri!$AS$31:$AS$500,0)),\"\"),\"\")","v":""}]
[null,{"$f":"IF(INDEX(Veri!$B$31:$B$33,MATCH(\"League/Cup\",Veri!$B$31:$B$33,0)+8,1)<>\"\",INDEX(Veri!$B$31:$B$33,MATCH(\"League/Cup\",Veri!$B$31:$B$33,0)+8,1),\"\")","v":{"$error":"#N/A"}},{"$f":"IF(INDEX(Veri!D$31:$D$33,MATCH(\"League/Cup\",Veri!B$31:$B$33,0)+8,1)<>\"\",IF(COUNTIF(INDEX(Veri!D$31:$D$33,MATCH(\"League/Cup\",Veri!B$31:$B$33,0)+8,1),\"*\"&$B$3&\"*\"),$B$3,INDEX(Veri!D$31:$D$33,MATCH(\"League/Cup\",Veri!B$31:$B$33,0)+8,1)),\"\")","v":{"$error":"#N/A"}},{"$f":"IF(INDEX(Veri!H$31:$H$33,MATCH(\"League/Cup\",Veri!B$31:$B$33,0)+8,1)<>\"\",IF(COUNTIF(INDEX(Veri!H$31:$H$33,MATCH(\"League/Cup\",Veri!B$31:$B$33,0)+8,1),\"*\"&$B$3&\"*\"),$B$3,INDEX(Veri!H$31:$H$33,MATCH(\"League/Cup\",Veri!B$31:$B$33,0)+8,1)),\"\")","v":{"$error":"#N/A"}},{"$f":"IF(INDEX(Veri!F$31:$F$33,MATCH(\"League/Cup\",Veri!B$31:$B$33,0)+8,1)<>\"\",INDEX(Veri!F$31:$F$33,MATCH(\"League/Cup\",Veri!B$31:$B$33,0)+8,1),\"\")","v":{"$error":"#N/A"}},{"$f":"IF(INDEX(Veri!E$31:$E$33,MATCH(\"League/Cup\",Veri!B$31:$B$33,0)+8,1)<>\"\",INDEX(Veri!E$31:$E$33,MATCH(\"League/Cup\",Veri!B$31:$B$33,0)+8,1),\"\")","v":{"$error":"#N/A"}},null,null,null,null,null,null,null,null,38,{"$f":"IFERROR(IF(INDEX(Veri!$AA$31:$AA$500,MATCH(O47,Veri!$AI$31:$AI$500,0))<>\"\",INDEX(Veri!$AA$31:$AA$500,MATCH(O47,Veri!$AI$31:$AI$500,0)),\"\"),\"\")","v":""},{"$f":"IFERROR(IF(INDEX(Veri!$AG$31:$AG$500,MATCH(O47,Veri!$AI$31:$AI$500,0))<>\"\",INDEX(Veri!$AG$31:$AG$500,MATCH(O47,Veri!$AI$31:$AI$500,0)),\"\"),\"\")","v":""},{"$f":"IFERROR(IF(INDEX(Veri!$AC$31:$AC$500,MATCH(O47,Veri!$AI$31:$AI$500,0))<>\"\",INDEX(Veri!$AC$31:$AC$500,MATCH(O47,Veri!$AI$31:$AI$500,0)),\"\"),\"\")","v":""},{"$f":"IFERROR(IF(INDEX(Veri!$AD$31:$AD$500,MATCH(O47,Veri!$AI$31:$AI$500,0))<>\"\",INDEX(Veri!$AD$31:$AD$500,MATCH(O47,Veri!$AI$31:$AI$500,0)),\"\"),\"\")","v":""},{"$f":"IFERROR(IF(INDEX(Veri!$AE$31:$AE$500,MATCH(O47,Veri!$AI$31:$AI$500,0))<>\"\",INDEX(Veri!$AE$31:$AE$500,MATCH(O47,Veri!$AI$31:$AI$500,0)),\"\"),\"\")","v":""},null,38,{"$f":"IFERROR(IF(INDEX(Veri!$AK$31:$AK$500,MATCH(V47,Veri!$AS$31:$AS$500,0))<>\"\",INDEX(Veri!$AK$31:$AK$500,MATCH(V47,Veri!$AS$31:$AS$500,0)),\"\"),\"\")","v":""},{"$f":"IFERROR(IF(INDEX(Veri!$AQ$31:$AQ$500,MATCH(V47,Veri!$AS$31:$AS$500,0))<>\"\",INDEX(Veri!$AQ$31:$AQ$500,MATCH(V47,Veri!$AS$31:$AS$500,0)),\"\"),\"\")","v":""},{"$f":"IFERROR(IF(INDEX(Veri!$AM$31:$AM$500,MATCH(V47,Veri!$AS$31:$AS$500,0))<>\"\",INDEX(Veri!$AM$31:$AM$500,MATCH(V47,Veri!$AS$31:$AS$500,0)),\"\"),\"\")","v":""},{"$f":"IFERROR(IF(INDEX(Veri!$AN$31:$AN$500,MATCH(V47,Veri!$AS$31:$AS$500,0))<>\"\",INDEX(Veri!$AN$31:$AN$500,MATCH(V47,Veri!$AS$31:$AS$500,0)),\"\"),\"\")","v":""},{"$f":"IFERROR(IF(INDEX(Veri!$AO$31:$AO$500,MATCH(V47,Veri!$AS$31:$AS$500,0))<>\"\",INDEX(Veri!$AO$31:$AO$500,MATCH(V47,Veri!$AS$31:$AS$500,0)),\"\"),\"\")","v":""}]
[null,{"$f":"IF(INDEX(Veri!$B$31:$B$33,MATCH(\"League/Cup\",Veri!$B$31:$B$33,0)+9,1)<>\"\",INDEX(Veri!$B$31:$B$33,MATCH(\"League/Cup\",Veri!$B$31:$B$33,0)+9,1),\"\")","v":{"$error":"#N/A"}},{"$f":"IF(INDEX(Veri!D$31:$D$33,MATCH(\"League/Cup\",Veri!B$31:$B$33,0)+9,1)<>\"\",IF(COUNTIF(INDEX(Veri!D$31:$D$33,MATCH(\"League/Cup\",Veri!B$31:$B$33,0)+9,1),\"*\"&$B$3&\"*\"),$B$3,INDEX(Veri!D$31:$D$33,MATCH(\"League/Cup\",Veri!B$31:$B$33,0)+9,1)),\"\")","v":{"$error":"#N/A"}},{"$f":"IF(INDEX(Veri!H$31:$H$33,MATCH(\"League/Cup\",Veri!B$31:$B$33,0)+9,1)<>\"\",IF(COUNTIF(INDEX(Veri!H$31:$H$33,MATCH(\"League/Cup\",Veri!B$31:$B$33,0)+9,1),\"*\"&$B$3&\"*\"),$B$3,INDEX(Veri!H$31:$H$33,MATCH(\"League/Cup\",Veri!B$31:$B$33,0)+9,1)),\"\")","v":{"$error":"#N/A"}},{"$f":"IF(INDEX(Veri!F$31:$F$33,MATCH(\"League/Cup\",Veri!B$31:$B$33,0)+9,1)<>\"\",INDEX(Veri!F$31:$F$33,MATCH(\"League/Cup\",Veri!B$31:$B$33,0)+9,1),\"\")","v":{"$error":"#N/A"}},{"$f":"IF(INDEX(Veri!E$31:$E$33,MATCH(\"League/Cup\",Veri!B$31:$B$33,0)+9,1)<>\"\",INDEX(Veri!E$31:$E$33,MATCH(\"League/Cup\",Veri!B$31:$B$33,0)+9,1),\"\")","v":{"$error":"#N/A"}},null,null,null,null,null,null,null,null,39,{"$f":"IFERROR(IF(INDEX(Veri!$AA$31:$AA$500,MATCH(O48,Veri!$AI$31:$AI$500,0))<>\"\",INDEX(Veri!$AA$31:$AA$500,MATCH(O48,Veri!$AI$31:$AI$500,0)),\"\"),\"\")","v":""},{"$f":"IFERROR(IF(INDEX(Veri!$AG$31:$AG$500,MATCH(O48,Veri!$AI$31:$AI$500,0))<>\"\",INDEX(Veri!$AG$31:$AG$500,MATCH(O48,Veri!$AI$31:$AI$500,0)),\"\"),\"\")","v":""},{"$f":"IFERROR(IF(INDEX(Veri!$AC$31:$AC$500,MATCH(O48,Veri!$AI$31:$AI$500,0))<>\"\",INDEX(Veri!$AC$31:$AC$500,MATCH(O48,Veri!$AI$31:$AI$500,0)),\"\"),\"\")","v":""},{"$f":"IFERROR(IF(INDEX(Veri!$AD$31:$AD$500,MATCH(O48,Veri!$AI$31:$AI$500,0))<>\"\",INDEX(Veri!$AD$31:$AD$500,MATCH(O48,Veri!$AI$31:$AI$500,0)),\"\"),\"\")","v":""},{"$f":"IFERROR(IF(INDEX(Veri!$AE$31:$AE$500,MATCH(O48,Veri!$AI$31:$AI$500,0))<>\"\",INDEX(Veri!$AE$31:$AE$500,MATCH(O48,Veri!$AI$31:$AI$500,0)),\"\"),\"\")","v":""},null,39,{"$f":"IFERROR(IF(INDEX(Veri!$AK$31:$AK$500,MATCH(V48,Veri!$AS$31:$AS$500,0))<>\"\",INDEX(Veri!$AK$31:$AK$500,MATCH(V48,Veri!$AS$31:$AS$500,0)),\"\"),\"\")","v":""},{"$f":"IFERROR(IF(INDEX(Veri!$AQ$31:$AQ$500,MATCH(V48,Veri!$AS$31:$AS$500,0))<>\"\",INDEX(Veri!$AQ$31:$AQ$500,MATCH(V48,Veri!$AS$31:$AS$500,0)),\"\"),\"\")","v":""},{"$f":"IFERROR(IF(INDEX(Veri!$AM$31:$AM$500,MATCH(V48,Veri!$AS$31:$AS$500,0))<>\"\",INDEX(Veri!$AM$31:$AM$500,MATCH(V48,Veri!$AS$31:$AS$500,0)),\"\"),\"\")","v":""},{"$f":"IFERROR(IF(INDEX(Veri!$AN$31:$AN$500,MATCH(V48,Veri!$AS$31:$AS$500,0))<>\"\",INDEX(Veri!$AN$31:$AN$500,MATCH(V48,Veri!$AS$31:$AS$500,0)),\"\"),\"\")","v":""},{"$f":"IFERROR(IF(INDEX(Veri!$AO$31:$AO$500,MATCH(V48,Veri!$AS$31:$AS$500,0))<>\"\",INDEX(Veri!$AO$31:$AO$500,MATCH(V48,Veri!$AS$31:$AS$500,0)),\"\"),\"\")","v":""}]
[null,{"$f":"IF(INDEX(Veri!$B$31:$B$33,MATCH(\"League/Cup\",Veri!$B$31:$B$33,0)+10,1)<>\"\",INDEX(Veri!$B$31:$B$33,MATCH(\"League/Cup\",Veri!$B$31:$B$33,0)+10,1),\"\")","v":{"$error":"#N/A"}},{"$f":"IF(INDEX(Veri!D$31:$D$33,MATCH(\"League/Cup\",Veri!B$31:$B$33,0)+10,1)<>\"\",IF(COUNTIF(INDEX(Veri!D$31:$D$33,MATCH(\"League/Cup\",Veri!B$31:$B$33,0)+10,1),\"*\"&$B$3&\"*\"),$B$3,INDEX(Veri!D$31:$D$33,MATCH(\"League/Cup\",Veri!B$31:$B$33,0)+10,1)),\"\")","v":{"$error":"#N/A"}},{"$f":"IF(INDEX(Veri!H$31:$H$33,MATCH(\"League/Cup\",Veri!B$31:$B$33,0)+10,1)<>\"\",IF(COUNTIF(INDEX(Veri!H$31:$H$33,MATCH(\"League/Cup\",Veri!B$31:$B$33,0)+10,1),\"*\"&$B$3&\"*\"),$B$3,INDEX(Veri!H$31:$H$33,MATCH(\"League/Cup\",Veri!B$31:$B$33,0)+10,1)),\"\")","v":{"$error":"#N/A"}},{"$f":"IF(INDEX(Veri!F$31:$F$33,MATCH(\"League/Cup\",Veri!B$31:$B$33,0)+10,1)<>\"\",INDEX(Veri!F$31:$F$33,MATCH(\"League/Cup\",Veri!B$31:$B$33,0)+10,1),\"\")","v":{"$error":"#N/A"}},{"$f":"IF(INDEX(Veri!E$31:$E$33,MATCH(\"League/Cup\",Veri!B$31:$B$33,0)+10,1)<>\"\",INDEX(Veri!E$31:$E$33,MATCH(\"League/Cup\",Veri!B$31:$B$33,0)+10,1),\"\")","v":{"$error":"#N/A"}},null,null,null,null,null,null,null,null,40,{"$f":"IFERROR(IF(INDEX(Veri!$AA$31:$AA$500,MATCH(O49,Veri!$AI$31:$AI$500,0))<>\"\",INDEX(Veri!$AA$31:$AA$500,MATCH(O49,Veri!$AI$31:$AI$500,0)),\"\"),\"\")","v":""},{"$f":"IFERROR(IF(INDEX(Veri!$AG$31:$AG$500,MATCH(O49,Veri!$AI$31:$AI$500,0))<>\"\",INDEX(Veri!$AG$31:$AG$500,MATCH(O49,Veri!$AI$31:$AI$500,0)),\"\"),\"\")","v":""},{"$f":"IFERROR(IF(INDEX(Veri!$AC$31:$AC$500,MATCH(O49,Veri!$AI$31:$AI$500,0))<>\"\",INDEX(Veri!$AC$31:$AC$500,MATCH(O49,Veri!$AI$31:$AI$500,0)),\"\"),\"\")","v":""},{"$f":"IFERROR(IF(INDEX(Veri!$AD$31:$AD$500,MATCH(O49,Veri!$AI$31:$AI$500,0))<>\"\",INDEX(Veri!$AD$31:$AD$500,MATCH(O49,Veri!$AI$31:$AI$500,0)),\"\"),\"\")","v":""},{"$f":"IFERROR(IF(INDEX(Veri!$AE$31:$AE$500,MATCH(O49,Veri!$AI$31:$AI$500,0))<>\"\",INDEX(Veri!$AE$31:$AE$500,MATCH(O49,Veri!$AI$31:$AI$500,0)),\"\"),\"\")","v":""},null,40,{"$f":"IFERROR(IF(INDEX(Veri!$AK$31:$AK$500,MATCH(V49,Veri!$AS$31:$AS$500,0))<>\"\",INDEX(Veri!$AK$31:$AK$500,MATCH(V49,Veri!$AS$31:$AS$500,0)),\"\"),\"\")","v":""},{"$f":"IFERROR(IF(INDEX(Veri!$AQ$31:$AQ$500,MATCH(V49,Veri!$AS$31:$AS$500,0))<>\"\",INDEX(Veri!$AQ$31:$AQ$500,MATCH(V49,Veri!$AS$31:$AS$500,0)),\"\"),\"\")","v":""},{"$f":"IFERROR(IF(INDEX(Veri!$AM$31:$AM$500,MATCH(V49,Veri!$AS$31:$AS$500,0))<>\"\",INDEX(Veri!$AM$31:$AM$500,MATCH(V49,Veri!$AS$31:$AS$500,0)),\"\"),\"\")","v":""},{"$f":"IFERROR(IF(INDEX(Veri!$AN$31:$AN$500,MATCH(V49,Veri!$AS$31:$AS$500,0))<>\"\",INDEX(Veri!$AN$31:$AN$500,MATCH(V49,Veri!$AS$31:$AS$500,0)),\"\"),\"\")","v":""},{"$f":"IFERROR(IF(INDEX(Veri!$AO$31:$AO$500,MATCH(V49,Veri!$AS$31:$AS$500,0))<>\"\",INDEX(Veri!$AO$31:$AO$500,MATCH(V49,Veri!$AS$31:$AS$500,0)),\"\"),\"\")","v":""}]
[null,{"$f":"IF(INDEX(Veri!$B$31:$B$33,MATCH(\"League/Cup\",Veri!$B$31:$B$33,0)+11,1)<>\"\",INDEX(Veri!$B$31:$B$33,MATCH(\"League/Cup\",Veri!$B$31:$B$33,0)+11,1),\"\")","v":{"$error":"#N/A"}},{"$f":"IF(INDEX(Veri!D$31:$D$33,MATCH(\"League/Cup\",Veri!B$31:$B$33,0)+11,1)<>\"\",IF(COUNTIF(INDEX(Veri!D$31:$D$33,MATCH(\"League/Cup\",Veri!B$31:$B$33,0)+11,1),\"*\"&$B$3&\"*\"),$B$3,INDEX(Veri!D$31:$D$33,MATCH(\"League/Cup\",Veri!B$31:$B$33,0)+11,1)),\"\")","v":{"$error":"#N/A"}},{"$f":"IF(INDEX(Veri!H$31:$H$33,MATCH(\"League/Cup\",Veri!B$31:$B$33,0)+11,1)<>\"\",IF(COUNTIF(INDEX(Veri!H$31:$H$33,MATCH(\"League/Cup\",Veri!B$31:$B$33,0)+11,1),\"*\"&$B$3&\"*\"),$B$3,INDEX(Veri!H$31:$H$33,MATCH(\"League/Cup\",Veri!B$31:$B$33,0)+11,1)),\"\")","v":{"$error":"#N/A"}},{"$f":"IF(INDEX(Veri!F$31:$F$33,MATCH(\"League/Cup\",Veri!B$31:$B$33,0)+11,1)<>\"\",INDEX(Veri!F$31:$F$33,MATCH(\"League/Cup\",Veri!B$31:$B$33,0)+11,1),\"\")","v":{"$error":"#N/A"}},{"$f":"IF(INDEX(Veri!E$31:$E$33,MATCH(\"League/Cup\",Veri!B$31:$B$33,0)+11,1)<>\"\",INDEX(Veri!E$31:$E$33,MATCH(\"League/Cup\",Veri!B$31:$B$33,0)+11,1),\"\")","v":{"$error":"#N/A"}},null,null,null,null,null,null,null,null,41,{"$f":"IFERROR(IF(INDEX(Veri!$AA$31:$AA$500,MATCH(O50,Veri!$AI$31:$AI$500,0))<>\"\",INDEX(Veri!$AA$31:$AA$500,MATCH(O50,Veri!$AI$31:$AI$500,0)),\"\"),\"\")","v":""},{"$f":"IFERROR(IF(INDEX(Veri!$AG$31:$AG$500,MATCH(O50,Veri!$AI$31:$AI$500,0))<>\"\",INDEX(Veri!$AG$31:$AG$500,MATCH(O50,Veri!$AI$31:$AI$500,0)),\"\"),\"\")","v":""},{"$f":"IFERROR(IF(INDEX(Veri!$AC$31:$AC$500,MATCH(O50,Veri!$AI$31:$AI$500,0))<>\"\",INDEX(Veri!$AC$31:$AC$500,MATCH(O50,Veri!$AI$31:$AI$500,0)),\"\"),\"\")","v":""},{"$f":"IFERROR(IF(INDEX(Veri!$AD$31:$AD$500,MATCH(O50,Veri!$AI$31:$AI$500,0))<>\"\",INDEX(Veri!$AD$31:$AD$500,MATCH(O50,Veri!$AI$31:$AI$500,0)),\"\"),\"\")","v":""},{"$f":"IFERROR(IF(INDEX(Veri!$AE$31:$AE$500,MATCH(O50,Veri!$AI$31:$AI$500,0))<>\"\",INDEX(Veri!$AE$31:$AE$500,MATCH(O50,Veri!$AI$31:$AI$500,0)),\"\"),\"\")","v":""},null,41,{"$f":"IFERROR(IF(INDEX(Veri!$AK$31:$AK$500,MATCH(V50,Veri!$AS$31:$AS$500,0))<>\"\",INDEX(Veri!$AK$31:$AK$500,MATCH(V50,Veri!$AS$31:$AS$500,0)),\"\"),\"\")","v":""},{"$f":"IFERROR(IF(INDEX(Veri!$AQ$31:$AQ$500,MATCH(V50,Veri!$AS$31:$AS$500,0))<>\"\",INDEX(Veri!$AQ$31:$AQ$500,MATCH(V50,Veri!$AS$31:$AS$500,0)),\"\"),\"\")","v":""},{"$f":"IFERROR(IF(INDEX(Veri!$AM$31:$AM$500,MATCH(V50,Veri!$AS$31:$AS$500,0))<>\"\",INDEX(Veri!$AM$31:$AM$500,MATCH(V50,Veri!$AS$31:$AS$500,0)),\"\"),\"\")","v":""},{"$f":"IFERROR(IF(INDEX(Veri!$AN$31:$AN$500,MATCH(V50,Veri!$AS$31:$AS$500,0))<>\"\",INDEX(Veri!$AN$31:$AN$500,MATCH(V50,Veri!$AS$31:$AS$500,0)),\"\"),\"\")","v":""},{"$f":"IFERROR(IF(INDEX(Veri!$AO$31:$AO$500,MATCH(V50,Veri!$AS$31:$AS$500,0))<>\"\",INDEX(Veri!$AO$31:$AO$500,MATCH(V50,Veri!$AS$31:$AS$500,0)),\"\"),\"\")","v":""}]
[null,null,null,null,null,null,null,null,null,null,null,null,null,null,42,{"$f":"IFERROR(IF(INDEX(Veri!$AA$31:$AA$500,MATCH(O51,Veri!$AI$31:$AI$500,0))<>\"\",INDEX(Veri!$AA$31:$AA$500,MATCH(O51,Veri!$AI$31:$AI$500,0)),\"\"),\"\")","v":""},{"$f":"IFERROR(IF(INDEX(Veri!$AG$31:$AG$500,MATCH(O51,Veri!$AI$31:$AI$500,0))<>\"\",INDEX(Veri!$AG$31:$AG$500,MATCH(O51,Veri!$AI$31:$AI$500,0)),\"\"),\"\")","v":""},{"$f":"IFERROR(IF(INDEX(Veri!$AC$31:$AC$500,MATCH(O51,Veri!$AI$31:$AI$500,0))<>\"\",INDEX(Veri!$AC$31:$AC$500,MATCH(O51,Veri!$AI$31:$AI$500,0)),\"\"),\"\")","v":""},{"$f":"IFERROR(IF(INDEX(Veri!$AD$31:$AD$500,MATCH(O51,Veri!$AI$31:$AI$500,0))<>\"\",INDEX(Veri!$AD$31:$AD$500,MATCH(O51,Veri!$AI$31:$AI$500,0)),\"\"),\"\")","v":""},{"$f":"IFERROR(IF(INDEX(Veri!$AE$31:$AE$500,MATCH(O51,Veri!$AI$31:$AI$500,0))<>\"\",INDEX(Veri!$AE$31:$AE$500,MATCH(O51,Veri!$AI$31:$AI$500,0)),\"\"),\"\")","v":""},null,42,{"$f":"IFERROR(IF(INDEX(Veri!$AK$31:$AK$500,MATCH(V51,Veri!$AS$31:$AS$500,0))<>\"\",INDEX(Veri!$AK$31:$AK$500,MATCH(V51,Veri!$AS$31:$AS$500,0)),\"\"),\"\")","v":""},{"$f":"IFERROR(IF(INDEX(Veri!$AQ$31:$AQ$500,MATCH(V51,Veri!$AS$31:$AS$500,0))<>\"\",INDEX(Veri!$AQ$31:$AQ$500,MATCH(V51,Veri!$AS$31:$AS$500,0)),\"\"),\"\")","v":""},{"$f":"IFERROR(IF(INDEX(Veri!$AM$31:$AM$500,MATCH(V51,Veri!$AS$31:$AS$500,0))<>\"\",INDEX(Veri!$AM$31:$AM$500,MATCH(V51,Veri!$AS$31:$AS$500,0)),\"\"),\"\")","v":""},{"$f":"IFERROR(IF(INDEX(Veri!$AN$31:$AN$500,MATCH(V51,Veri!$AS$31:$AS$500,0))<>\"\",INDEX(Veri!$AN$31:$AN$500,MATCH(V51,Veri!$AS$31:$AS$500,0)),\"\"),\"\")","v":""},{"$f":"IFERROR(IF(INDEX(Veri!$AO$31:$AO$500,MATCH(V51,Veri!$AS$31:$AS$500,0))<>\"\",INDEX(Veri!$AO$31:$AO$500,MATCH(V51,Veri!$AS$31:$AS$500,0)),\"\"),\"\")","v":""}]
[null,null,null,null,null,null,null,null,null,null,null,null,null,null,43,{"$f":"IFERROR(IF(INDEX(Veri!$AA$31:$AA$500,MATCH(O52,Veri!$AI$31:$AI$500,0))<>\"\",INDEX(Veri!$AA$31:$AA$500,MATCH(O52,Veri!$AI$31:$AI$500,0)),\"\"),\"\")","v":""},{"$f":"IFERROR(IF(INDEX(Veri!$AG$31:$AG$500,MATCH(O52,Veri!$AI$31:$AI$500,0))<>\"\",INDEX(Veri!$AG$31:$AG$500,MATCH(O52,Veri!$AI$31:$AI$500,0)),\"\"),\"\")","v":""},{"$f":"IFERROR(IF(INDEX(Veri!$AC$31:$AC$500,MATCH(O52,Veri!$AI$31:$AI$500,0))<>\"\",INDEX(Veri!$AC$31:$AC$500,MATCH(O52,Veri!$AI$31:$AI$500,0)),\"\"),\"\")","v":""},{"$f":"IFERROR(IF(INDEX(Veri!$AD$31:$AD$500,MATCH(O52,Veri!$AI$31:$AI$500,0))<>\"\",INDEX(Veri!$AD$31:$AD$500,MATCH(O52,Veri!$AI$31:$AI$500,0)),\"\"),\"\")","v":""},{"$f":"IFERROR(IF(INDEX(Veri!$AE$31:$AE$500,MATCH(O52,Veri!$AI$31:$AI$500,0))<>\"\",INDEX(Veri!$AE$31:$AE$500,MATCH(O52,Veri!$AI$31:$AI$500,0)),\"\"),\"\")","v":""},null,43,{"$f":"IFERROR(IF(INDEX(Veri!$AK$31:$AK$500,MATCH(V52,Veri!$AS$31:$AS$500,0))<>\"\",INDEX(Veri!$AK$31:$AK$500,MATCH(V52,Veri!$AS$31:$AS$500,0)),\"\"),\"\")","v":""},{"$f":"IFERROR(IF(INDEX(Veri!$AQ$31:$AQ$500,MATCH(V52,Veri!$AS$31:$AS$500,0))<>\"\",INDEX(Veri!$AQ$31:$AQ$500,MATCH(V52,Veri!$AS$31:$AS$500,0)),\"\"),\"\")","v":""},{"$f":"IFERROR(IF(INDEX(Veri!$AM$31:$AM$500,MATCH(V52,Veri!$AS$31:$AS$500,0))<>\"\",INDEX(Veri!$AM$31:$AM$500,MATCH(V52,Veri!$AS$31:$AS$500,0)),\"\"),\"\")","v":""},{"$f":"IFERROR(IF(INDEX(Veri!$AN$31:$AN$500,MATCH(V52,Veri!$AS$31:$AS$500,0))<>\"\",INDEX(Veri!$AN$31:$AN$500,MATCH(V52,Veri!$AS$31:$AS$500,0)),\"\"),\"\")","v":""},{"$f":"IFERROR(IF(INDEX(Veri!$AO$31:$AO$500,MATCH(V52,Veri!$AS$31:$AS$500,0))<>\"\",INDEX(Veri!$AO$31:$AO$500,MATCH(V52,Veri!$AS$31:$AS$500,0)),\"\"),\"\")","v":""}]
[null,null,null,null,null,null,null,null,null,null,null,null,null,null,44,{"$f":"IFERROR(IF(INDEX(Veri!$AA$31:$AA$500,MATCH(O53,Veri!$AI$31:$AI$500,0))<>\"\",INDEX(Veri!$AA$31:$AA$500,MATCH(O53,Veri!$AI$31:$AI$500,0)),\"\"),\"\")","v":""},{"$f":"IFERROR(IF(INDEX(Veri!$AG$31:$AG$500,MATCH(O53,Veri!$AI$31:$AI$500,0))<>\"\",INDEX(Veri!$AG$31:$AG$500,MATCH(O53,Veri!$AI$31:$AI$500,0)),\"\"),\"\")","v":""},{"$f":"IFERROR(IF(INDEX(Veri!$AC$31:$AC$500,MATCH(O53,Veri!$AI$31:$AI$500,0))<>\"\",INDEX(Veri!$AC$31:$AC$500,MATCH(O53,Veri!$AI$31:$AI$500,0)),\"\"),\"\")","v":""},{"$f":"IFERROR(IF(INDEX(Veri!$AD$31:$AD$500,MATCH(O53,Veri!$AI$31:$AI$500,0))<>\"\",INDEX(Veri!$AD$31:$AD$500,MATCH(O53,Veri!$AI$31:$AI$500,0)),\"\"),\"\")","v":""},{"$f":"IFERROR(IF(INDEX(Veri!$AE$31:$AE$500,MATCH(O53,Veri!$AI$31:$AI$500,0))<>\"\",INDEX(Veri!$AE$31:$AE$500,MATCH(O53,Veri!$AI$31:$AI$500,0)),\"\"),\"\")","v":""},null,44,{"$f":"IFERROR(IF(INDEX(Veri!$AK$31:$AK$500,MATCH(V53,Veri!$AS$31:$AS$500,0))<>\"\",INDEX(Veri!$AK$31:$AK$500,MATCH(V53,Veri!$AS$31:$AS$500,0)),\"\"),\"\")","v":""},{"$f":"IFERROR(IF(INDEX(Veri!$AQ$31:$AQ$500,MATCH(V53,Veri!$AS$31:$AS$500,0))<>\"\",INDEX(Veri!$AQ$31:$AQ$500,MATCH(V53,Veri!$AS$31:$AS$500,0)),\"\"),\"\")","v":""},{"$f":"IFERROR(IF(INDEX(Veri!$AM$31:$AM$500,MATCH(V53,Veri!$AS$31:$AS$500,0))<>\"\",INDEX(Veri!$AM$31:$AM$500,MATCH(V53,Veri!$AS$31:$AS$500,0)),\"\"),\"\")","v":""},{"$f":"IFERROR(IF(INDEX(Veri!$AN$31:$AN$500,MATCH(V53,Veri!$AS$31:$AS$500,0))<>\"\",INDEX(Veri!$AN$31:$AN$500,MATCH(V53,Veri!$AS$31:$AS$500,0)),\"\"),\"\")","v":""},{"$f":"IFERROR(IF(INDEX(Veri!$AO$31:$AO$500,MATCH(V53,Veri!$AS$31:$AS$500,0))<>\"\",INDEX(Veri!$AO$31:$AO$500,MATCH(V53,Veri!$AS$31:$AS$500,0)),\"\"),\"\")","v":""}]
[null,null,null,null,null,null,null,null,null,null,null,null,null,null,45,{"$f":"IFERROR(IF(INDEX(Veri!$AA$31:$AA$500,MATCH(O54,Veri!$AI$31:$AI$500,0))<>\"\",INDEX(Veri!$AA$31:$AA$500,MATCH(O54,Veri!$AI$31:$AI$500,0)),\"\"),\"\")","v":""},{"$f":"IFERROR(IF(INDEX(Veri!$AG$31:$AG$500,MATCH(O54,Veri!$AI$31:$AI$500,0))<>\"\",INDEX(Veri!$AG$31:$AG$500,MATCH(O54,Veri!$AI$31:$AI$500,0)),\"\"),\"\")","v":""},{"$f":"IFERROR(IF(INDEX(Veri!$AC$31:$AC$500,MATCH(O54,Veri!$AI$31:$AI$500,0))<>\"\",INDEX(Veri!$AC$31:$AC$500,MATCH(O54,Veri!$AI$31:$AI$500,0)),\"\"),\"\")","v":""},{"$f":"IFERROR(IF(INDEX(Veri!$AD$31:$AD$500,MATCH(O54,Veri!$AI$31:$AI$500,0))<>\"\",INDEX(Veri!$AD$31:$AD$500,MATCH(O54,Veri!$AI$31:$AI$500,0)),\"\"),\"\")","v":""},{"$f":"IFERROR(IF(INDEX(Veri!$AE$31:$AE$500,MATCH(O54,Veri!$AI$31:$AI$500,0))<>\"\",INDEX(Veri!$AE$31:$AE$500,MATCH(O54,Veri!$AI$31:$AI$500,0)),\"\"),\"\")","v":""},null,45,{"$f":"IFERROR(IF(INDEX(Veri!$AK$31:$AK$500,MATCH(V54,Veri!$AS$31:$AS$500,0))<>\"\",INDEX(Veri!$AK$31:$AK$500,MATCH(V54,Veri!$AS$31:$AS$500,0)),\"\"),\"\")","v":""},{"$f":"IFERROR(IF(INDEX(Veri!$AQ$31:$AQ$500,MATCH(V54,Veri!$AS$31:$AS$500,0))<>\"\",INDEX(Veri!$AQ$31:$AQ$500,MATCH(V54,Veri!$AS$31:$AS$500,0)),\"\"),\"\")","v":""},{"$f":"IFERROR(IF(INDEX(Veri!$AM$31:$AM$500,MATCH(V54,Veri!$AS$31:$AS$500,0))<>\"\",INDEX(Veri!$AM$31:$AM$500,MATCH(V54,Veri!$AS$31:$AS$500,0)),\"\"),\"\")","v":""},{"$f":"IFERROR(IF(INDEX(Veri!$AN$31:$AN$500,MATCH(V54,Veri!$AS$31:$AS$500,0))<>\"\",INDEX(Veri!$AN$31:$AN$500,MATCH(V54,Veri!$AS$31:$AS$500,0)),\"\"),\"\")","v":""},{"$f":"IFERROR(IF(INDEX(Veri!$AO$31:$AO$500,MATCH(V54,Veri!$AS$31:$AS$500,0))<>\"\",INDEX(Veri!$AO$31:$AO$500,MATCH(V54,Veri!$AS$31:$AS$500,0)),\"\"),\"\")","v":""}]
[null,null,null,null,null,null,null,null,null,null,null,null,null,null,46,{"$f":"IFERROR(IF(INDEX(Veri!$AA$31:$AA$500,MATCH(O55,Veri!$AI$31:$AI$500,0))<>\"\",INDEX(Veri!$AA$31:$AA$500,MATCH(O55,Veri!$AI$31:$AI$500,0)),\"\"),\"\")","v":""},{"$f":"IFERROR(IF(INDEX(Veri!$AG$31:$AG$500,MATCH(O55,Veri!$AI$31:$AI$500,0))<>\"\",INDEX(Veri!$AG$31:$AG$500,MATCH(O55,Veri!$AI$31:$AI$500,0)),\"\"),\"\")","v":""},{"$f":"IFERROR(IF(INDEX(Veri!$AC$31:$AC$500,MATCH(O55,Veri!$AI$31:$AI$500,0))<>\"\",INDEX(Veri!$AC$31:$AC$500,MATCH(O55,Veri!$AI$31:$AI$500,0)),\"\"),\"\")","v":""},{"$f":"IFERROR(IF(INDEX(Veri!$AD$31:$AD$500,MATCH(O55,Veri!$AI$31:$AI$500,0))<>\"\",INDEX(Veri!$AD$31:$AD$500,MATCH(O55,Veri!$AI$31:$AI$500,0)),\"\"),\"\")","v":""},{"$f":"IFERROR(IF(INDEX(Veri!$AE$31:$AE$500,MATCH(O55,Veri!$AI$31:$AI$500,0))<>\"\",INDEX(Veri!$AE$31:$AE$500,MATCH(O55,Veri!$AI$31:$AI$500,0)),\"\"),\"\")","v":""},null,46,{"$f":"IFERROR(IF(INDEX(Veri!$AK$31:$AK$500,MATCH(V55,Veri!$AS$31:$AS$500,0))<>\"\",INDEX(Veri!$AK$31:$AK$500,MATCH(V55,Veri!$AS$31:$AS$500,0)),\"\"),\"\")","v":""},{"$f":"IFERROR(IF(INDEX(Veri!$AQ$31:$AQ$500,MATCH(V55,Veri!$AS$31:$AS$500,0))<>\"\",INDEX(Veri!$AQ$31:$AQ$500,MATCH(V55,Veri!$AS$31:$AS$500,0)),\"\"),\"\")","v":""},{"$f":"IFERROR(IF(INDEX(Veri!$AM$31:$AM$500,MATCH(V55,Veri!$AS$31:$AS$500,0))<>\"\",INDEX(Veri!$AM$31:$AM$500,MATCH(V55,Veri!$AS$31:$AS$500,0)),\"\"),\"\")","v":""},{"$f":"IFERROR(IF(INDEX(Veri!$AN$31:$AN$500,MATCH(V55,Veri!$AS$31:$AS$500,0))<>\"\",INDEX(Veri!$AN$31:$AN$500,MATCH(V55,Veri!$AS$31:$AS$500,0)),\"\"),\"\")","v":""},{"$f":"IFERROR(IF(INDEX(Veri!$AO$31:$AO$500,MATCH(V55,Veri!$AS$31:$AS$500,0))<>\"\",INDEX(Veri!$AO$31:$AO$500,MATCH(V55,Veri!$AS$31:$AS$500,0)),\"\"),\"\")","v":""}]
[null,null,null,null,null,null,null,null,null,null,null,null,null,null,47,{"$f":"IFERROR(IF(INDEX(Veri!$AA$31:$AA$500,MATCH(O56,Veri!$AI$31:$AI$500,0))<>\"\",INDEX(Veri!$AA$31:$AA$500,MATCH(O56,Veri!$AI$31:$AI$500,0)),\"\"),\"\")","v":""},{"$f":"IFERROR(IF(INDEX(Veri!$AG$31:$AG$500,MATCH(O56,Veri!$AI$31:$AI$500,0))<>\"\",INDEX(Veri!$AG$31:$AG$500,MATCH(O56,Veri!$AI$31:$AI$500,0)),\"\"),\"\")","v":""},{"$f":"IFERROR(IF(INDEX(Veri!$AC$31:$AC$500,MATCH(O56,Veri!$AI$31:$AI$500,0))<>\"\",INDEX(Veri!$AC$31:$AC$500,MATCH(O56,Veri!$AI$31:$AI$500,0)),\"\"),\"\")","v":""},{"$f":"IFERROR(IF(INDEX(Veri!$AD$31:$AD$500,MATCH(O56,Veri!$AI$31:$AI$500,0))<>\"\",INDEX(Veri!$AD$31:$AD$500,MATCH(O56,Veri!$AI$31:$AI$500,0)),\"\"),\"\")","v":""},{"$f":"IFERROR(IF(INDEX(Veri!$AE$31:$AE$500,MATCH(O56,Veri!$AI$31:$AI$500,0))<>\"\",INDEX(Veri!$AE$31:$AE$500,MATCH(O56,Veri!$AI$31:$AI$500,0)),\"\"),\"\")","v":""},null,47,{"$f":"IFERROR(IF(INDEX(Veri!$AK$31:$AK$500,MATCH(V56,Veri!$AS$31:$AS$500,0))<>\"\",INDEX(Veri!$AK$31:$AK$500,MATCH(V56,Veri!$AS$31:$AS$500,0)),\"\"),\"\")","v":""},{"$f":"IFERROR(IF(INDEX(Veri!$AQ$31:$AQ$500,MATCH(V56,Veri!$AS$31:$AS$500,0))<>\"\",INDEX(Veri!$AQ$31:$AQ$500,MATCH(V56,Veri!$AS$31:$AS$500,0)),\"\"),\"\")","v":""},{"$f":"IFERROR(IF(INDEX(Veri!$AM$31:$AM$500,MATCH(V56,Veri!$AS$31:$AS$500,0))<>\"\",INDEX(Veri!$AM$31:$AM$500,MATCH(V56,Veri!$AS$31:$AS$500,0)),\"\"),\"\")","v":""},{"$f":"IFERROR(IF(INDEX(Veri!$AN$31:$AN$500,MATCH(V56,Veri!$AS$31:$AS$500,0))<>\"\",INDEX(Veri!$AN$31:$AN$500,MATCH(V56,Veri!$AS$31:$AS$500,0)),\"\"),\"\")","v":""},{"$f":"IFERROR(IF(INDEX(Veri!$AO$31:$AO$500,MATCH(V56,Veri!$AS$31:$AS$500,0))<>\"\",INDEX(Veri!$AO$31:$AO$500,MATCH(V56,Veri!$AS$31:$AS$500,0)),\"\"),\"\")","v":""}]
[null,null,null,null,null,null,null,null,null,null,null,null,null,null,48,{"$f":"IFERROR(IF(INDEX(Veri!$AA$31:$AA$500,MATCH(O57,Veri!$AI$31:$AI$500,0))<>\"\",INDEX(Veri!$AA$31:$AA$500,MATCH(O57,Veri!$AI$31:$AI$500,0)),\"\"),\"\")","v":""},{"$f":"IFERROR(IF(INDEX(Veri!$AG$31:$AG$500,MATCH(O57,Veri!$AI$31:$AI$500,0))<>\"\",INDEX(Veri!$AG$31:$AG$500,MATCH(O57,Veri!$AI$31:$AI$500,0)),\"\"),\"\")","v":""},{"$f":"IFERROR(IF(INDEX(Veri!$AC$31:$AC$500,MATCH(O57,Veri!$AI$31:$AI$500,0))<>\"\",INDEX(Veri!$AC$31:$AC$500,MATCH(O57,Veri!$AI$31:$AI$500,0)),\"\"),\"\")","v":""},{"$f":"IFERROR(IF(INDEX(Veri!$AD$31:$AD$500,MATCH(O57,Veri!$AI$31:$AI$500,0))<>\"\",INDEX(Veri!$AD$31:$AD$500,MATCH(O57,Veri!$AI$31:$AI$500,0)),\"\"),\"\")","v":""},{"$f":"IFERROR(IF(INDEX(Veri!$AE$31:$AE$500,MATCH(O57,Veri!$AI$31:$AI$500,0))<>\"\",INDEX(Veri!$AE$31:$AE$500,MATCH(O57,Veri!$AI$31:$AI$500,0)),\"\"),\"\")","v":""},null,48,{"$f":"IFERROR(IF(INDEX(Veri!$AK$31:$AK$500,MATCH(V57,Veri!$AS$31:$AS$500,0))<>\"\",INDEX(Veri!$AK$31:$AK$500,MATCH(V57,Veri!$AS$31:$AS$500,0)),\"\"),\"\")","v":""},{"$f":"IFERROR(IF(INDEX(Veri!$AQ$31:$AQ$500,MATCH(V57,Veri!$AS$31:$AS$500,0))<>\"\",INDEX(Veri!$AQ$31:$AQ$500,MATCH(V57,Veri!$AS$31:$AS$500,0)),\"\"),\"\")","v":""},{"$f":"IFERROR(IF(INDEX(Veri!$AM$31:$AM$500,MATCH(V57,Veri!$AS$31:$AS$500,0))<>\"\",INDEX(Veri!$AM$31:$AM$500,MATCH(V57,Veri!$AS$31:$AS$500,0)),\"\"),\"\")","v":""},{"$f":"IFERROR(IF(INDEX(Veri!$AN$31:$AN$500,MATCH(V57,Veri!$AS$31:$AS$500,0))<>\"\",INDEX(Veri!$AN$31:$AN$500,MATCH(V57,Veri!$AS$31:$AS$500,0)),\"\"),\"\")","v":""},{"$f":"IFERROR(IF(INDEX(Veri!$AO$31:$AO$500,MATCH(V57,Veri!$AS$31:$AS$500,0))<>\"\",INDEX(Veri!$AO$31:$AO$500,MATCH(V57,Veri!$AS$31:$AS$500,0)),\"\"),\"\")","v":""}]
[null,null,null,null,null,null,null,null,null,null,null,null,null,null,49,{"$f":"IFERROR(IF(INDEX(Veri!$AA$31:$AA$500,MATCH(O58,Veri!$AI$31:$AI$500,0))<>\"\",INDEX(Veri!$AA$31:$AA$500,MATCH(O58,Veri!$AI$31:$AI$500,0)),\"\"),\"\")","v":""},{"$f":"IFERROR(IF(INDEX(Veri!$AG$31:$AG$500,MATCH(O58,Veri!$AI$31:$AI$500,0))<>\"\",INDEX(Veri!$AG$31:$AG$500,MATCH(O58,Veri!$AI$31:$AI$500,0)),\"\"),\"\")","v":""},{"$f":"IFERROR(IF(INDEX(Veri!$AC$31:$AC$500,MATCH(O58,Veri!$AI$31:$AI$500,0))<>\"\",INDEX(Veri!$AC$31:$AC$500,MATCH(O58,Veri!$AI$31:$AI$500,0)),\"\"),\"\")","v":""},{"$f":"IFERROR(IF(INDEX(Veri!$AD$31:$AD$500,MATCH(O58,Veri!$AI$31:$AI$500,0))<>\"\",INDEX(Veri!$AD$31:$AD$500,MATCH(O58,Veri!$AI$31:$AI$500,0)),\"\"),\"\")","v":""},{"$f":"IFERROR(IF(INDEX(Veri!$AE$31:$AE$500,MATCH(O58,Veri!$AI$31:$AI$500,0))<>\"\",INDEX(Veri!$AE$31:$AE$500,MATCH(O58,Veri!$AI$31:$AI$500,0)),\"\"),\"\")","v":""},null,49,{"$f":"IFERROR(IF(INDEX(Veri!$AK$31:$AK$500,MATCH(V58,Veri!$AS$31:$AS$500,0))<>\"\",INDEX(Veri!$AK$31:$AK$500,MATCH(V58,Veri!$AS$31:$AS$500,0)),\"\"),\"\")","v":""},{"$f":"IFERROR(IF(INDEX(Veri!$AQ$31:$AQ$500,MATCH(V58,Veri!$AS$31:$AS$500,0))<>\"\",INDEX(Veri!$AQ$31:$AQ$500,MATCH(V58,Veri!$AS$31:$AS$500,0)),\"\"),\"\")","v":""},{"$f":"IFERROR(IF(INDEX(Veri!$AM$31:$AM$500,MATCH(V58,Veri!$AS$31:$AS$500,0))<>\"\",INDEX(Veri!$AM$31:$AM$500,MATCH(V58,Veri!$AS$31:$AS$500,0)),\"\"),\"\")","v":""},{"$f":"IFERROR(IF(INDEX(Veri!$AN$31:$AN$500,MATCH(V58,Veri!$AS$31:$AS$500,0))<>\"\",INDEX(Veri!$AN$31:$AN$500,MATCH(V58,Veri!$AS$31:$AS$500,0)),\"\"),\"\")","v":""},{"$f":"IFERROR(IF(INDEX(Veri!$AO$31:$AO$500,MATCH(V58,Veri!$AS$31:$AS$500,0))<>\"\",INDEX(Veri!$AO$31:$AO$500,MATCH(V58,Veri!$AS$31:$AS$500,0)),\"\"),\"\")","v":""}]
[null,null,null,null,null,null,null,null,null,null,null,null,null,null,50,{"$f":"IFERROR(IF(INDEX(Veri!$AA$31:$AA$500,MATCH(O59,Veri!$AI$31:$AI$500,0))<>\"\",INDEX(Veri!$AA$31:$AA$500,MATCH(O59,Veri!$AI$31:$AI$500,0)),\"\"),\"\")","v":""},{"$f":"IFERROR(IF(INDEX(Veri!$AG$31:$AG$500,MATCH(O59,Veri!$AI$31:$AI$500,0))<>\"\",INDEX(Veri!$AG$31:$AG$500,MATCH(O59,Veri!$AI$31:$AI$500,0)),\"\"),\"\")","v":""},{"$f":"IFERROR(IF(INDEX(Veri!$AC$31:$AC$500,MATCH(O59,Veri!$AI$31:$AI$500,0))<>\"\",INDEX(Veri!$AC$31:$AC$500,MATCH(O59,Veri!$AI$31:$AI$500,0)),\"\"),\"\")","v":""},{"$f":"IFERROR(IF(INDEX(Veri!$AD$31:$AD$500,MATCH(O59,Veri!$AI$31:$AI$500,0))<>\"\",INDEX(Veri!$AD$31:$AD$500,MATCH(O59,Veri!$AI$31:$AI$500,0)),\"\"),\"\")","v":""},{"$f":"IFERROR(IF(INDEX(Veri!$AE$31:$AE$500,MATCH(O59,Veri!$AI$31:$AI$500,0))<>\"\",INDEX(Veri!$AE$31:$AE$500,MATCH(O59,Veri!$AI$31:$AI$500,0)),\"\"),\"\")","v":""},null,50,{"$f":"IFERROR(IF(INDEX(Veri!$AK$31:$AK$500,MATCH(V59,Veri!$AS$31:$AS$500,0))<>\"\",INDEX(Veri!$AK$31:$AK$500,MATCH(V59,Veri!$AS$31:$AS$500,0)),\"\"),\"\")","v":""},{"$f":"IFERROR(IF(INDEX(Veri!$AQ$31:$AQ$500,MATCH(V59,Veri!$AS$31:$AS$500,0))<>\"\",INDEX(Veri!$AQ$31:$AQ$500,MATCH(V59,Veri!$AS$31:$AS$500,0)),\"\"),\"\")","v":""},{"$f":"IFERROR(IF(INDEX(Veri!$AM$31:$AM$500,MATCH(V59,Veri!$AS$31:$AS$500,0))<>\"\",INDEX(Veri!$AM$31:$AM$500,MATCH(V59,Veri!$AS$31:$AS$500,0)),\"\"),\"\")","v":""},{"$f":"IFERROR(IF(INDEX(Veri!$AN$31:$AN$500,MATCH(V59,Veri!$AS$31:$AS$500,0))<>\"\",INDEX(Veri!$AN$31:$AN$500,MATCH(V59,Veri!$AS$31:$AS$500,0)),\"\"),\"\")","v":""},{"$f":"IFERROR(IF(INDEX(Veri!$AO$31:$AO$500,MATCH(V59,Veri!$AS$31:$AS$500,0))<>\"\",INDEX(Veri!$AO$31:$AO$500,MATCH(V59,Veri!$AS$31:$AS$500,0)),\"\"),\"\")","v":""}]
[null,null,null,null,null,null,null,null,null,null,null,null,null,null,51,{"$f":"IFERROR(IF(INDEX(Veri!$AA$31:$AA$500,MATCH(O60,Veri!$AI$31:$AI$500,0))<>\"\",INDEX(Veri!$AA$31:$AA$500,MATCH(O60,Veri!$AI$31:$AI$500,0)),\"\"),\"\")","v":""},{"$f":"IFERROR(IF(INDEX(Veri!$AG$31:$AG$500,MATCH(O60,Veri!$AI$31:$AI$500,0))<>\"\",INDEX(Veri!$AG$31:$AG$500,MATCH(O60,Veri!$AI$31:$AI$500,0)),\"\"),\"\")","v":""},{"$f":"IFERROR(IF(INDEX(Veri!$AC$31:$AC$500,MATCH(O60,Veri!$AI$31:$AI$500,0))<>\"\",INDEX(Veri!$AC$31:$AC$500,MATCH(O60,Veri!$AI$31:$AI$500,0)),\"\"),\"\")","v":""},{"$f":"IFERROR(IF(INDEX(Veri!$AD$31:$AD$500,MATCH(O60,Veri!$AI$31:$AI$500,0))<>\"\",INDEX(Veri!$AD$31:$AD$500,MATCH(O60,Veri!$AI$31:$AI$500,0)),\"\"),\"\")","v":""},{"$f":"IFERROR(IF(INDEX(Veri!$AE$31:$AE$500,MATCH(O60,Veri!$AI$31:$AI$500,0))<>\"\",INDEX(Veri!$AE$31:$AE$500,MATCH(O60,Veri!$AI$31:$AI$500,0)),\"\"),\"\")","v":""},null,51,{"$f":"IFERROR(IF(INDEX(Veri!$AK$31:$AK$500,MATCH(V60,Veri!$AS$31:$AS$500,0))<>\"\",INDEX(Veri!$AK$31:$AK$500,MATCH(V60,Veri!$AS$31:$AS$500,0)),\"\"),\"\")","v":""},{"$f":"IFERROR(IF(INDEX(Veri!$AQ$31:$AQ$500,MATCH(V60,Veri!$AS$31:$AS$500,0))<>\"\",INDEX(Veri!$AQ$31:$AQ$500,MATCH(V60,Veri!$AS$31:$AS$500,0)),\"\"),\"\")","v":""},{"$f":"IFERROR(IF(INDEX(Veri!$AM$31:$AM$500,MATCH(V60,Veri!$AS$31:$AS$500,0))<>\"\",INDEX(Veri!$AM$31:$AM$500,MATCH(V60,Veri!$AS$31:$AS$500,0)),\"\"),\"\")","v":""},{"$f":"IFERROR(IF(INDEX(Veri!$AN$31:$AN$500,MATCH(V60,Veri!$AS$31:$AS$500,0))<>\"\",INDEX(Veri!$AN$31:$AN$500,MATCH(V60,Veri!$AS$31:$AS$500,0)),\"\"),\"\")","v":""},{"$f":"IFERROR(IF(INDEX(Veri!$AO$31:$AO$500,MATCH(V60,Veri!$AS$31:$AS$500,0))<>\"\",INDEX(Veri!$AO$31:$AO$500,MATCH(V60,Veri!$AS$31:$AS$500,0)),\"\"),\"\")","v":""}]
[null,null,null,null,null,null,null,null,null,null,null,null,null,null,52,{"$f":"IFERROR(IF(INDEX(Veri!$AA$31:$AA$500,MATCH(O61,Veri!$AI$31:$AI$500,0))<>\"\",INDEX(Veri!$AA$31:$AA$500,MATCH(O61,Veri!$AI$31:$AI$500,0)),\"\"),\"\")","v":""},{"$f":"IFERROR(IF(INDEX(Veri!$AG$31:$AG$500,MATCH(O61,Veri!$AI$31:$AI$500,0))<>\"\",INDEX(Veri!$AG$31:$AG$500,MATCH(O61,Veri!$AI$31:$AI$500,0)),\"\"),\"\")","v":""},{"$f":"IFERROR(IF(INDEX(Veri!$AC$31:$AC$500,MATCH(O61,Veri!$AI$31:$AI$500,0))<>\"\",INDEX(Veri!$AC$31:$AC$500,MATCH(O61,Veri!$AI$31:$AI$500,0)),\"\"),\"\")","v":""},{"$f":"IFERROR(IF(INDEX(Veri!$AD$31:$AD$500,MATCH(O61,Veri!$AI$31:$AI$500,0))<>\"\",INDEX(Veri!$AD$31:$AD$500,MATCH(O61,Veri!$AI$31:$AI$500,0)),\"\"),\"\")","v":""},{"$f":"IFERROR(IF(INDEX(Veri!$AE$31:$AE$500,MATCH(O61,Veri!$AI$31:$AI$500,0))<>\"\",INDEX(Veri!$AE$31:$AE$500,MATCH(O61,Veri!$AI$31:$AI$500,0)),\"\"),\"\")","v":""},null,52,{"$f":"IFERROR(IF(INDEX(Veri!$AK$31:$AK$500,MATCH(V61,Veri!$AS$31:$AS$500,0))<>\"\",INDEX(Veri!$AK$31:$AK$500,MATCH(V61,Veri!$AS$31:$AS$500,0)),\"\"),\"\")","v":""},{"$f":"IFERROR(IF(INDEX(Veri!$AQ$31:$AQ$500,MATCH(V61,Veri!$AS$31:$AS$500,0))<>\"\",INDEX(Veri!$AQ$31:$AQ$500,MATCH(V61,Veri!$AS$31:$AS$500,0)),\"\"),\"\")","v":""},{"$f":"IFERROR(IF(INDEX(Veri!$AM$31:$AM$500,MATCH(V61,Veri!$AS$31:$AS$500,0))<>\"\",INDEX(Veri!$AM$31:$AM$500,MATCH(V61,Veri!$AS$31:$AS$500,0)),\"\"),\"\")","v":""},{"$f":"IFERROR(IF(INDEX(Veri!$AN$31:$AN$500,MATCH(V61,Veri!$AS$31:$AS$500,0))<>\"\",INDEX(Veri!$AN$31:$AN$500,MATCH(V61,Veri!$AS$31:$AS$500,0)),\"\"),\"\")","v":""},{"$f":"IFERROR(IF(INDEX(Veri!$AO$31:$AO$500,MATCH(V61,Veri!$AS$31:$AS$500,0))<>\"\",INDEX(Veri!$AO$31:$AO$500,MATCH(V61,Veri!$AS$31:$AS$500,0)),\"\"),\"\")","v":""}]
[null,null,null,null,null,null,null,null,null,null,null,null,null,null,53,{"$f":"IFERROR(IF(INDEX(Veri!$AA$31:$AA$500,MATCH(O62,Veri!$AI$31:$AI$500,0))<>\"\",INDEX(Veri!$AA$31:$AA$500,MATCH(O62,Veri!$AI$31:$AI$500,0)),\"\"),\"\")","v":""},{"$f":"IFERROR(IF(INDEX(Veri!$AG$31:$AG$500,MATCH(O62,Veri!$AI$31:$AI$500,0))<>\"\",INDEX(Veri!$AG$31:$AG$500,MATCH(O62,Veri!$AI$31:$AI$500,0)),\"\"),\"\")","v":""},{"$f":"IFERROR(IF(INDEX(Veri!$AC$31:$AC$500,MATCH(O62,Veri!$AI$31:$AI$500,0))<>\"\",INDEX(Veri!$AC$31:$AC$500,MATCH(O62,Veri!$AI$31:$AI$500,0)),\"\"),\"\")","v":""},{"$f":"IFERROR(IF(INDEX(Veri!$AD$31:$AD$500,MATCH(O62,Veri!$AI$31:$AI$500,0))<>\"\",INDEX(Veri!$AD$31:$AD$500,MATCH(O62,Veri!$AI$31:$AI$500,0)),\"\"),\"\")","v":""},{"$f":"IFERROR(IF(INDEX(Veri!$AE$31:$AE$500,MATCH(O62,Veri!$AI$31:$AI$500,0))<>\"\",INDEX(Veri!$AE$31:$AE$500,MATCH(O62,Veri!$AI$31:$AI$500,0)),\"\"),\"\")","v":""},null,53,{"$f":"IFERROR(IF(INDEX(Veri!$AK$31:$AK$500,MATCH(V62,Veri!$AS$31:$AS$500,0))<>\"\",INDEX(Veri!$AK$31:$AK$500,MATCH(V62,Veri!$AS$31:$AS$500,0)),\"\"),\"\")","v":""},{"$f":"IFERROR(IF(INDEX(Veri!$AQ$31:$AQ$500,MATCH(V62,Veri!$AS$31:$AS$500,0))<>\"\",INDEX(Veri!$AQ$31:$AQ$500,MATCH(V62,Veri!$AS$31:$AS$500,0)),\"\"),\"\")","v":""},{"$f":"IFERROR(IF(INDEX(Veri!$AM$31:$AM$500,MATCH(V62,Veri!$AS$31:$AS$500,0))<>\"\",INDEX(Veri!$AM$31:$AM$500,MATCH(V62,Veri!$AS$31:$AS$500,0)),\"\"),\"\")","v":""},{"$f":"IFERROR(IF(INDEX(Veri!$AN$31:$AN$500,MATCH(V62,Veri!$AS$31:$AS$500,0))<>\"\",INDEX(Veri!$AN$31:$AN$500,MATCH(V62,Veri!$AS$31:$AS$500,0)),\"\"),\"\")","v":""},{"$f":"IFERROR(IF(INDEX(Veri!$AO$31:$AO$500,MATCH(V62,Veri!$AS$31:$AS$500,0))<>\"\",INDEX(Veri!$AO$31:$AO$500,MATCH(V62,Veri!$AS$31:$AS$500,0)),\"\"),\"\")","v":""}]
[null,null,null,null,null,null,null,null,null,null,null,null,null,null,54,{"$f":"IFERROR(IF(INDEX(Veri!$AA$31:$AA$500,MATCH(O63,Veri!$AI$31:$AI$500,0))<>\"\",INDEX(Veri!$AA$31:$AA$500,MATCH(O63,Veri!$AI$31:$AI$500,0)),\"\"),\"\")","v":""},{"$f":"IFERROR(IF(INDEX(Veri!$AG$31:$AG$500,MATCH(O63,Veri!$AI$31:$AI$500,0))<>\"\",INDEX(Veri!$AG$31:$AG$500,MATCH(O63,Veri!$AI$31:$AI$500,0)),\"\"),\"\")","v":""},{"$f":"IFERROR(IF(INDEX(Veri!$AC$31:$AC$500,MATCH(O63,Veri!$AI$31:$AI$500,0))<>\"\",INDEX(Veri!$AC$31:$AC$500,MATCH(O63,Veri!$AI$31:$AI$500,0)),\"\"),\"\")","v":""},{"$f":"IFERROR(IF(INDEX(Veri!$AD$31:$AD$500,MATCH(O63,Veri!$AI$31:$AI$500,0))<>\"\",INDEX(Veri!$AD$31:$AD$500,MATCH(O63,Veri!$AI$31:$AI$500,0)),\"\"),\"\")","v":""},{"$f":"IFERROR(IF(INDEX(Veri!$AE$31:$AE$500,MATCH(O63,Veri!$AI$31:$AI$500,0))<>\"\",INDEX(Veri!$AE$31:$AE$500,MATCH(O63,Veri!$AI$31:$AI$500,0)),\"\"),\"\")","v":""},null,54,{"$f":"IFERROR(IF(INDEX(Veri!$AK$31:$AK$500,MATCH(V63,Veri!$AS$31:$AS$500,0))<>\"\",INDEX(Veri!$AK$31:$AK$500,MATCH(V63,Veri!$AS$31:$AS$500,0)),\"\"),\"\")","v":""},{"$f":"IFERROR(IF(INDEX(Veri!$AQ$31:$AQ$500,MATCH(V63,Veri!$AS$31:$AS$500,0))<>\"\",INDEX(Veri!$AQ$31:$AQ$500,MATCH(V63,Veri!$AS$31:$AS$500,0)),\"\"),\"\")","v":""},{"$f":"IFERROR(IF(INDEX(Veri!$AM$31:$AM$500,MATCH(V63,Veri!$AS$31:$AS$500,0))<>\"\",INDEX(Veri!$AM$31:$AM$500,MATCH(V63,Veri!$AS$31:$AS$500,0)),\"\"),\"\")","v":""},{"$f":"IFERROR(IF(INDEX(Veri!$AN$31:$AN$500,MATCH(V63,Veri!$AS$31:$AS$500,0))<>\"\",INDEX(Veri!$AN$31:$AN$500,MATCH(V63,Veri!$AS$31:$AS$500,0)),\"\"),\"\")","v":""},{"$f":"IFERROR(IF(INDEX(Veri!$AO$31:$AO$500,MATCH(V63,Veri!$AS$31:$AS$500,0))<>\"\",INDEX(Veri!$AO$31:$AO$500,MATCH(V63,Veri!$AS$31:$AS$500,0)),\"\"),\"\")","v":""}]
[null,null,null,null,null,null,null,null,null,null,null,null,null,null,55,{"$f":"IFERROR(IF(INDEX(Veri!$AA$31:$AA$500,MATCH(O64,Veri!$AI$31:$AI$500,0))<>\"\",INDEX(Veri!$AA$31:$AA$500,MATCH(O64,Veri!$AI$31:$AI$500,0)),\"\"),\"\")","v":""},{"$f":"IFERROR(IF(INDEX(Veri!$AG$31:$AG$500,MATCH(O64,Veri!$AI$31:$AI$500,0))<>\"\",INDEX(Veri!$AG$31:$AG$500,MATCH(O64,Veri!$AI$31:$AI$500,0)),\"\"),\"\")","v":""},{"$f":"IFERROR(IF(INDEX(Veri!$AC$31:$AC$500,MATCH(O64,Veri!$AI$31:$AI$500,0))<>\"\",INDEX(Veri!$AC$31:$AC$500,MATCH(O64,Veri!$AI$31:$AI$500,0)),\"\"),\"\")","v":""},{"$f":"IFERROR(IF(INDEX(Veri!$AD$31:$AD$500,MATCH(O64,Veri!$AI$31:$AI$500,0))<>\"\",INDEX(Veri!$AD$31:$AD$500,MATCH(O64,Veri!$AI$31:$AI$500,0)),\"\"),\"\")","v":""},{"$f":"IFERROR(IF(INDEX(Veri!$AE$31:$AE$500,MATCH(O64,Veri!$AI$31:$AI$500,0))<>\"\",INDEX(Veri!$AE$31:$AE$500,MATCH(O64,Veri!$AI$31:$AI$500,0)),\"\"),\"\")","v":""},null,55,{"$f":"IFERROR(IF(INDEX(Veri!$AK$31:$AK$500,MATCH(V64,Veri!$AS$31:$AS$500,0))<>\"\",INDEX(Veri!$AK$31:$AK$500,MATCH(V64,Veri!$AS$31:$AS$500,0)),\"\"),\"\")","v":""},{"$f":"IFERROR(IF(INDEX(Veri!$AQ$31:$AQ$500,MATCH(V64,Veri!$AS$31:$AS$500,0))<>\"\",INDEX(Veri!$AQ$31:$AQ$500,MATCH(V64,Veri!$AS$31:$AS$500,0)),\"\"),\"\")","v":""},{"$f":"IFERROR(IF(INDEX(Veri!$AM$31:$AM$500,MATCH(V64,Veri!$AS$31:$AS$500,0))<>\"\",INDEX(Veri!$AM$31:$AM$500,MATCH(V64,Veri!$AS$31:$AS$500,0)),\"\"),\"\")","v":""},{"$f":"IFERROR(IF(INDEX(Veri!$AN$31:$AN$500,MATCH(V64,Veri!$AS$31:$AS$500,0))<>\"\",INDEX(Veri!$AN$31:$AN$500,MATCH(V64,Veri!$AS$31:$AS$500,0)),\"\"),\"\")","v":""},{"$f":"IFERROR(IF(INDEX(Veri!$AO$31:$AO$500,MATCH(V64,Veri!$AS$31:$AS$500,0))<>\"\",INDEX(Veri!$AO$31:$AO$500,MATCH(V64,Veri!$AS$31:$AS$500,0)),\"\"),\"\")","v":""}]
[null,null,null,null,null,null,null,null,null,null,null,null,null,null,56,{"$f":"IFERROR(IF(INDEX(Veri!$AA$31:$AA$500,MATCH(O65,Veri!$AI$31:$AI$500,0))<>\"\",INDEX(Veri!$AA$31:$AA$500,MATCH(O65,Veri!$AI$31:$AI$500,0)),\"\"),\"\")","v":""},{"$f":"IFERROR(IF(INDEX(Veri!$AG$31:$AG$500,MATCH(O65,Veri!$AI$31:$AI$500,0))<>\"\",INDEX(Veri!$AG$31:$AG$500,MATCH(O65,Veri!$AI$31:$AI$500,0)),\"\"),\"\")","v":""},{"$f":"IFERROR(IF(INDEX(Veri!$AC$31:$AC$500,MATCH(O65,Veri!$AI$31:$AI$500,0))<>\"\",INDEX(Veri!$AC$31:$AC$500,MATCH(O65,Veri!$AI$31:$AI$500,0)),\"\"),\"\")","v":""},{"$f":"IFERROR(IF(INDEX(Veri!$AD$31:$AD$500,MATCH(O65,Veri!$AI$31:$AI$500,0))<>\"\",INDEX(Veri!$AD$31:$AD$500,MATCH(O65,Veri!$AI$31:$AI$500,0)),\"\"),\"\")","v":""},{"$f":"IFERROR(IF(INDEX(Veri!$AE$31:$AE$500,MATCH(O65,Veri!$AI$31:$AI$500,0))<>\"\",INDEX(Veri!$AE$31:$AE$500,MATCH(O65,Veri!$AI$31:$AI$500,0)),\"\"),\"\")","v":""},null,56,{"$f":"IFERROR(IF(INDEX(Veri!$AK$31:$AK$500,MATCH(V65,Veri!$AS$31:$AS$500,0))<>\"\",INDEX(Veri!$AK$31:$AK$500,MATCH(V65,Veri!$AS$31:$AS$500,0)),\"\"),\"\")","v":""},{"$f":"IFERROR(IF(INDEX(Veri!$AQ$31:$AQ$500,MATCH(V65,Veri!$AS$31:$AS$500,0))<>\"\",INDEX(Veri!$AQ$31:$AQ$500,MATCH(V65,Veri!$AS$31:$AS$500,0)),\"\"),\"\")","v":""},{"$f":"IFERROR(IF(INDEX(Veri!$AM$31:$AM$500,MATCH(V65,Veri!$AS$31:$AS$500,0))<>\"\",INDEX(Veri!$AM$31:$AM$500,MATCH(V65,Veri!$AS$31:$AS$500,0)),\"\"),\"\")","v":""},{"$f":"IFERROR(IF(INDEX(Veri!$AN$31:$AN$500,MATCH(V65,Veri!$AS$31:$AS$500,0))<>\"\",INDEX(Veri!$AN$31:$AN$500,MATCH(V65,Veri!$AS$31:$AS$500,0)),\"\"),\"\")","v":""},{"$f":"IFERROR(IF(INDEX(Veri!$AO$31:$AO$500,MATCH(V65,Veri!$AS$31:$AS$500,0))<>\"\",INDEX(Veri!$AO$31:$AO$500,MATCH(V65,Veri!$AS$31:$AS$500,0)),\"\"),\"\")","v":""}]
[null,null,null,null,null,null,null,null,null,null,null,null,null,null,57,{"$f":"IFERROR(IF(INDEX(Veri!$AA$31:$AA$500,MATCH(O66,Veri!$AI$31:$AI$500,0))<>\"\",INDEX(Veri!$AA$31:$AA$500,MATCH(O66,Veri!$AI$31:$AI$500,0)),\"\"),\"\")","v":""},{"$f":"IFERROR(IF(INDEX(Veri!$AG$31:$AG$500,MATCH(O66,Veri!$AI$31:$AI$500,0))<>\"\",INDEX(Veri!$AG$31:$AG$500,MATCH(O66,Veri!$AI$31:$AI$500,0)),\"\"),\"\")","v":""},{"$f":"IFERROR(IF(INDEX(Veri!$AC$31:$AC$500,MATCH(O66,Veri!$AI$31:$AI$500,0))<>\"\",INDEX(Veri!$AC$31:$AC$500,MATCH(O66,Veri!$AI$31:$AI$500,0)),\"\"),\"\")","v":""},{"$f":"IFERROR(IF(INDEX(Veri!$AD$31:$AD$500,MATCH(O66,Veri!$AI$31:$AI$500,0))<>\"\",INDEX(Veri!$AD$31:$AD$500,MATCH(O66,Veri!$AI$31:$AI$500,0)),\"\"),\"\")","v":""},{"$f":"IFERROR(IF(INDEX(Veri!$AE$31:$AE$500,MATCH(O66,Veri!$AI$31:$AI$500,0))<>\"\",INDEX(Veri!$AE$31:$AE$500,MATCH(O66,Veri!$AI$31:$AI$500,0)),\"\"),\"\")","v":""},null,57,{"$f":"IFERROR(IF(INDEX(Veri!$AK$31:$AK$500,MATCH(V66,Veri!$AS$31:$AS$500,0))<>\"\",INDEX(Veri!$AK$31:$AK$500,MATCH(V66,Veri!$AS$31:$AS$500,0)),\"\"),\"\")","v":""},{"$f":"IFERROR(IF(INDEX(Veri!$AQ$31:$AQ$500,MATCH(V66,Veri!$AS$31:$AS$500,0))<>\"\",INDEX(Veri!$AQ$31:$AQ$500,MATCH(V66,Veri!$AS$31:$AS$500,0)),\"\"),\"\")","v":""},{"$f":"IFERROR(IF(INDEX(Veri!$AM$31:$AM$500,MATCH(V66,Veri!$AS$31:$AS$500,0))<>\"\",INDEX(Veri!$AM$31:$AM$500,MATCH(V66,Veri!$AS$31:$AS$500,0)),\"\"),\"\")","v":""},{"$f":"IFERROR(IF(INDEX(Veri!$AN$31:$AN$500,MATCH(V66,Veri!$AS$31:$AS$500,0))<>\"\",INDEX(Veri!$AN$31:$AN$500,MATCH(V66,Veri!$AS$31:$AS$500,0)),\"\"),\"\")","v":""},{"$f":"IFERROR(IF(INDEX(Veri!$AO$31:$AO$500,MATCH(V66,Veri!$AS$31:$AS$500,0))<>\"\",INDEX(Veri!$AO$31:$AO$500,MATCH(V66,Veri!$AS$31:$AS$500,0)),\"\"),\"\")","v":""}]
[null,null,null,null,null,null,null,null,null,null,null,null,null,null,58,{"$f":"IFERROR(IF(INDEX(Veri!$AA$31:$AA$500,MATCH(O67,Veri!$AI$31:$AI$500,0))<>\"\",INDEX(Veri!$AA$31:$AA$500,MATCH(O67,Veri!$AI$31:$AI$500,0)),\"\"),\"\")","v":""},{"$f":"IFERROR(IF(INDEX(Veri!$AG$31:$AG$500,MATCH(O67,Veri!$AI$31:$AI$500,0))<>\"\",INDEX(Veri!$AG$31:$AG$500,MATCH(O67,Veri!$AI$31:$AI$500,0)),\"\"),\"\")","v":""},{"$f":"IFERROR(IF(INDEX(Veri!$AC$31:$AC$500,MATCH(O67,Veri!$AI$31:$AI$500,0))<>\"\",INDEX(Veri!$AC$31:$AC$500,MATCH(O67,Veri!$AI$31:$AI$500,0)),\"\"),\"\")","v":""},{"$f":"IFERROR(IF(INDEX(Veri!$AD$31:$AD$500,MATCH(O67,Veri!$AI$31:$AI$500,0))<>\"\",INDEX(Veri!$AD$31:$AD$500,MATCH(O67,Veri!$AI$31:$AI$500,0)),\"\"),\"\")","v":""},{"$f":"IFERROR(IF(INDEX(Veri!$AE$31:$AE$500,MATCH(O67,Veri!$AI$31:$AI$500,0))<>\"\",INDEX(Veri!$AE$31:$AE$500,MATCH(O67,Veri!$AI$31:$AI$500,0)),\"\"),\"\")","v":""},null,58,{"$f":"IFERROR(IF(INDEX(Veri!$AK$31:$AK$500,MATCH(V67,Veri!$AS$31:$AS$500,0))<>\"\",INDEX(Veri!$AK$31:$AK$500,MATCH(V67,Veri!$AS$31:$AS$500,0)),\"\"),\"\")","v":""},{"$f":"IFERROR(IF(INDEX(Veri!$AQ$31:$AQ$500,MATCH(V67,Veri!$AS$31:$AS$500,0))<>\"\",INDEX(Veri!$AQ$31:$AQ$500,MATCH(V67,Veri!$AS$31:$AS$500,0)),\"\"),\"\")","v":""},{"$f":"IFERROR(IF(INDEX(Veri!$AM$31:$AM$500,MATCH(V67,Veri!$AS$31:$AS$500,0))<>\"\",INDEX(Veri!$AM$31:$AM$500,MATCH(V67,Veri!$AS$31:$AS$500,0)),\"\"),\"\")","v":""},{"$f":"IFERROR(IF(INDEX(Veri!$AN$31:$AN$500,MATCH(V67,Veri!$AS$31:$AS$500,0))<>\"\",INDEX(Veri!$AN$31:$AN$500,MATCH(V67,Veri!$AS$31:$AS$500,0)),\"\"),\"\")","v":""},{"$f":"IFERROR(IF(INDEX(Veri!$AO$31:$AO$500,MATCH(V67,Veri!$AS$31:$AS$500,0))<>\"\",INDEX(Veri!$AO$31:$AO$500,MATCH(V67,Veri!$AS$31:$AS$500,0)),\"\"),\"\")","v":""}]
[null,null,null,null,null,null,null,null,null,null,null,null,null,null,59,{"$f":"IFERROR(IF(INDEX(Veri!$AA$31:$AA$500,MATCH(O68,Veri!$AI$31:$AI$500,0))<>\"\",INDEX(Veri!$AA$31:$AA$500,MATCH(O68,Veri!$AI$31:$AI$500,0)),\"\"),\"\")","v":""},{"$f":"IFERROR(IF(INDEX(Veri!$AG$31:$AG$500,MATCH(O68,Veri!$AI$31:$AI$500,0))<>\"\",INDEX(Veri!$AG$31:$AG$500,MATCH(O68,Veri!$AI$31:$AI$500,0)),\"\"),\"\")","v":""},{"$f":"IFERROR(IF(INDEX(Veri!$AC$31:$AC$500,MATCH(O68,Veri!$AI$31:$AI$500,0))<>\"\",INDEX(Veri!$AC$31:$AC$500,MATCH(O68,Veri!$AI$31:$AI$500,0)),\"\"),\"\")","v":""},{"$f":"IFERROR(IF(INDEX(Veri!$AD$31:$AD$500,MATCH(O68,Veri!$AI$31:$AI$500,0))<>\"\",INDEX(Veri!$AD$31:$AD$500,MATCH(O68,Veri!$AI$31:$AI$500,0)),\"\"),\"\")","v":""},{"$f":"IFERROR(IF(INDEX(Veri!$AE$31:$AE$500,MATCH(O68,Veri!$AI$31:$AI$500,0))<>\"\",INDEX(Veri!$AE$31:$AE$500,MATCH(O68,Veri!$AI$31:$AI$500,0)),\"\"),\"\")","v":""},null,59,{"$f":"IFERROR(IF(INDEX(Veri!$AK$31:$AK$500,MATCH(V68,Veri!$AS$31:$AS$500,0))<>\"\",INDEX(Veri!$AK$31:$AK$500,MATCH(V68,Veri!$AS$31:$AS$500,0)),\"\"),\"\")","v":""},{"$f":"IFERROR(IF(INDEX(Veri!$AQ$31:$AQ$500,MATCH(V68,Veri!$AS$31:$AS$500,0))<>\"\",INDEX(Veri!$AQ$31:$AQ$500,MATCH(V68,Veri!$AS$31:$AS$500,0)),\"\"),\"\")","v":""},{"$f":"IFERROR(IF(INDEX(Veri!$AM$31:$AM$500,MATCH(V68,Veri!$AS$31:$AS$500,0))<>\"\",INDEX(Veri!$AM$31:$AM$500,MATCH(V68,Veri!$AS$31:$AS$500,0)),\"\"),\"\")","v":""},{"$f":"IFERROR(IF(INDEX(Veri!$AN$31:$AN$500,MATCH(V68,Veri!$AS$31:$AS$500,0))<>\"\",INDEX(Veri!$AN$31:$AN$500,MATCH(V68,Veri!$AS$31:$AS$500,0)),\"\"),\"\")","v":""},{"$f":"IFERROR(IF(INDEX(Veri!$AO$31:$AO$500,MATCH(V68,Veri!$AS$31:$AS$500,0))<>\"\",INDEX(Veri!$AO$31:$AO$500,MATCH(V68,Veri!$AS$31:$AS$500,0)),\"\"),\"\")","v":""}]
[null,null,null,null,null,null,null,null,null,null,null,null,null,null,60,{"$f":"IFERROR(IF(INDEX(Veri!$AA$31:$AA$500,MATCH(O69,Veri!$AI$31:$AI$500,0))<>\"\",INDEX(Veri!$AA$31:$AA$500,MATCH(O69,Veri!$AI$31:$AI$500,0)),\"\"),\"\")","v":""},{"$f":"IFERROR(IF(INDEX(Veri!$AG$31:$AG$500,MATCH(O69,Veri!$AI$31:$AI$500,0))<>\"\",INDEX(Veri!$AG$31:$AG$500,MATCH(O69,Veri!$AI$31:$AI$500,0)),\"\"),\"\")","v":""},{"$f":"IFERROR(IF(INDEX(Veri!$AC$31:$AC$500,MATCH(O69,Veri!$AI$31:$AI$500,0))<>\"\",INDEX(Veri!$AC$31:$AC$500,MATCH(O69,Veri!$AI$31:$AI$500,0)),\"\"),\"\")","v":""},{"$f":"IFERROR(IF(INDEX(Veri!$AD$31:$AD$500,MATCH(O69,Veri!$AI$31:$AI$500,0))<>\"\",INDEX(Veri!$AD$31:$AD$500,MATCH(O69,Veri!$AI$31:$AI$500,0)),\"\"),\"\")","v":""},{"$f":"IFERROR(IF(INDEX(Veri!$AE$31:$AE$500,MATCH(O69,Veri!$AI$31:$AI$500,0))<>\"\",INDEX(Veri!$AE$31:$AE$500,MATCH(O69,Veri!$AI$31:$AI$500,0)),\"\"),\"\")","v":""},null,60,{"$f":"IFERROR(IF(INDEX(Veri!$AK$31:$AK$500,MATCH(V69,Veri!$AS$31:$AS$500,0))<>\"\",INDEX(Veri!$AK$31:$AK$500,MATCH(V69,Veri!$AS$31:$AS$500,0)),\"\"),\"\")","v":""},{"$f":"IFERROR(IF(INDEX(Veri!$AQ$31:$AQ$500,MATCH(V69,Veri!$AS$31:$AS$500,0))<>\"\",INDEX(Veri!$AQ$31:$AQ$500,MATCH(V69,Veri!$AS$31:$AS$500,0)),\"\"),\"\")","v":""},{"$f":"IFERROR(IF(INDEX(Veri!$AM$31:$AM$500,MATCH(V69,Veri!$AS$31:$AS$500,0))<>\"\",INDEX(Veri!$AM$31:$AM$500,MATCH(V69,Veri!$AS$31:$AS$500,0)),\"\"),\"\")","v":""},{"$f":"IFERROR(IF(INDEX(Veri!$AN$31:$AN$500,MATCH(V69,Veri!$AS$31:$AS$500,0))<>\"\",INDEX(Veri!$AN$31:$AN$500,MATCH(V69,Veri!$AS$31:$AS$500,0)),\"\"),\"\")","v":""},{"$f":"IFERROR(IF(INDEX(Veri!$AO$31:$AO$500,MATCH(V69,Veri!$AS$31:$AS$500,0))<>\"\",INDEX(Veri!$AO$31:$AO$500,MATCH(V69,Veri!$AS$31:$AS$500,0)),\"\"),\"\")","v":""}]
[null,null,null,null,null,null,null,null,null,null,null,null,null,null,61,{"$f":"IFERROR(IF(INDEX(Veri!$AA$31:$AA$500,MATCH(O70,Veri!$AI$31:$AI$500,0))<>\"\",INDEX(Veri!$AA$31:$AA$500,MATCH(O70,Veri!$AI$31:$AI$500,0)),\"\"),\"\")","v":""},{"$f":"IFERROR(IF(INDEX(Veri!$AG$31:$AG$500,MATCH(O70,Veri!$AI$31:$AI$500,0))<>\"\",INDEX(Veri!$AG$31:$AG$500,MATCH(O70,Veri!$AI$31:$AI$500,0)),\"\"),\"\")","v":""},{"$f":"IFERROR(IF(INDEX(Veri!$AC$31:$AC$500,MATCH(O70,Veri!$AI$31:$AI$500,0))<>\"\",INDEX(Veri!$AC$31:$AC$500,MATCH(O70,Veri!$AI$31:$AI$500,0)),\"\"),\"\")","v":""},{"$f":"IFERROR(IF(INDEX(Veri!$AD$31:$AD$500,MATCH(O70,Veri!$AI$31:$AI$500,0))<>\"\",INDEX(Veri!$AD$31:$AD$500,MATCH(O70,Veri!$AI$31:$AI$500,0)),\"\"),\"\")","v":""},{"$f":"IFERROR(IF(INDEX(Veri!$AE$31:$AE$500,MATCH(O70,Veri!$AI$31:$AI$500,0))<>\"\",INDEX(Veri!$AE$31:$AE$500,MATCH(O70,Veri!$AI$31:$AI$500,0)),\"\"),\"\")","v":""},null,61,{"$f":"IFERROR(IF(INDEX(Veri!$AK$31:$AK$500,MATCH(V70,Veri!$AS$31:$AS$500,0))<>\"\",INDEX(Veri!$AK$31:$AK$500,MATCH(V70,Veri!$AS$31:$AS$500,0)),\"\"),\"\")","v":""},{"$f":"IFERROR(IF(INDEX(Veri!$AQ$31:$AQ$500,MATCH(V70,Veri!$AS$31:$AS$500,0))<>\"\",INDEX(Veri!$AQ$31:$AQ$500,MATCH(V70,Veri!$AS$31:$AS$500,0)),\"\"),\"\")","v":""},{"$f":"IFERROR(IF(INDEX(Veri!$AM$31:$AM$500,MATCH(V70,Veri!$AS$31:$AS$500,0))<>\"\",INDEX(Veri!$AM$31:$AM$500,MATCH(V70,Veri!$AS$31:$AS$500,0)),\"\"),\"\")","v":""},{"$f":"IFERROR(IF(INDEX(Veri!$AN$31:$AN$500,MATCH(V70,Veri!$AS$31:$AS$500,0))<>\"\",INDEX(Veri!$AN$31:$AN$500,MATCH(V70,Veri!$AS$31:$AS$500,0)),\"\"),\"\")","v":""},{"$f":"IFERROR(IF(INDEX(Veri!$AO$31:$AO$500,MATCH(V70,Veri!$AS$31:$AS$500,0))<>\"\",INDEX(Veri!$AO$31:$AO$500,MATCH(V70,Veri!$AS$31:$AS$500,0)),\"\"),\"\")","v":""}]
[null,null,null,null,null,null,null,null,null,null,null,null,null,null,62,{"$f":"IFERROR(IF(INDEX(Veri!$AA$31:$AA$500,MATCH(O71,Veri!$AI$31:$AI$500,0))<>\"\",INDEX(Veri!$AA$31:$AA$500,MATCH(O71,Veri!$AI$31:$AI$500,0)),\"\"),\"\")","v":""},{"$f":"IFERROR(IF(INDEX(Veri!$AG$31:$AG$500,MATCH(O71,Veri!$AI$31:$AI$500,0))<>\"\",INDEX(Veri!$AG$31:$AG$500,MATCH(O71,Veri!$AI$31:$AI$500,0)),\"\"),\"\")","v":""},{"$f":"IFERROR(IF(INDEX(Veri!$AC$31:$AC$500,MATCH(O71,Veri!$AI$31:$AI$500,0))<>\"\",INDEX(Veri!$AC$31:$AC$500,MATCH(O71,Veri!$AI$31:$AI$500,0)),\"\"),\"\")","v":""},{"$f":"IFERROR(IF(INDEX(Veri!$AD$31:$AD$500,MATCH(O71,Veri!$AI$31:$AI$500,0))<>\"\",INDEX(Veri!$AD$31:$AD$500,MATCH(O71,Veri!$AI$31:$AI$500,0)),\"\"),\"\")","v":""},{"$f":"IFERROR(IF(INDEX(Veri!$AE$31:$AE$500,MATCH(O71,Veri!$AI$31:$AI$500,0))<>\"\",INDEX(Veri!$AE$31:$AE$500,MATCH(O71,Veri!$AI$31:$AI$500,0)),\"\"),\"\")","v":""},null,62,{"$f":"IFERROR(IF(INDEX(Veri!$AK$31:$AK$500,MATCH(V71,Veri!$AS$31:$AS$500,0))<>\"\",INDEX(Veri!$AK$31:$AK$500,MATCH(V71,Veri!$AS$31:$AS$500,0)),\"\"),\"\")","v":""},{"$f":"IFERROR(IF(INDEX(Veri!$AQ$31:$AQ$500,MATCH(V71,Veri!$AS$31:$AS$500,0))<>\"\",INDEX(Veri!$AQ$31:$AQ$500,MATCH(V71,Veri!$AS$31:$AS$500,0)),\"\"),\"\")","v":""},{"$f":"IFERROR(IF(INDEX(Veri!$AM$31:$AM$500,MATCH(V71,Veri!$AS$31:$AS$500,0))<>\"\",INDEX(Veri!$AM$31:$AM$500,MATCH(V71,Veri!$AS$31:$AS$500,0)),\"\"),\"\")","v":""},{"$f":"IFERROR(IF(INDEX(Veri!$AN$31:$AN$500,MATCH(V71,Veri!$AS$31:$AS$500,0))<>\"\",INDEX(Veri!$AN$31:$AN$500,MATCH(V71,Veri!$AS$31:$AS$500,0)),\"\"),\"\")","v":""},{"$f":"IFERROR(IF(INDEX(Veri!$AO$31:$AO$500,MATCH(V71,Veri!$AS$31:$AS$500,0))<>\"\",INDEX(Veri!$AO$31:$AO$500,MATCH(V71,Veri!$AS$31:$AS$500,0)),\"\"),\"\")","v":""}]
[null,null,null,null,null,null,null,null,null,null,null,null,null,null,63,{"$f":"IFERROR(IF(INDEX(Veri!$AA$31:$AA$500,MATCH(O72,Veri!$AI$31:$AI$500,0))<>\"\",INDEX(Veri!$AA$31:$AA$500,MATCH(O72,Veri!$AI$31:$AI$500,0)),\"\"),\"\")","v":""},{"$f":"IFERROR(IF(INDEX(Veri!$AG$31:$AG$500,MATCH(O72,Veri!$AI$31:$AI$500,0))<>\"\",INDEX(Veri!$AG$31:$AG$500,MATCH(O72,Veri!$AI$31:$AI$500,0)),\"\"),\"\")","v":""},{"$f":"IFERROR(IF(INDEX(Veri!$AC$31:$AC$500,MATCH(O72,Veri!$AI$31:$AI$500,0))<>\"\",INDEX(Veri!$AC$31:$AC$500,MATCH(O72,Veri!$AI$31:$AI$500,0)),\"\"),\"\")","v":""},{"$f":"IFERROR(IF(INDEX(Veri!$AD$31:$AD$500,MATCH(O72,Veri!$AI$31:$AI$500,0))<>\"\",INDEX(Veri!$AD$31:$AD$500,MATCH(O72,Veri!$AI$31:$AI$500,0)),\"\"),\"\")","v":""},{"$f":"IFERROR(IF(INDEX(Veri!$AE$31:$AE$500,MATCH(O72,Veri!$AI$31:$AI$500,0))<>\"\",INDEX(Veri!$AE$31:$AE$500,MATCH(O72,Veri!$AI$31:$AI$500,0)),\"\"),\"\")","v":""},null,63,{"$f":"IFERROR(IF(INDEX(Veri!$AK$31:$AK$500,MATCH(V72,Veri!$AS$31:$AS$500,0))<>\"\",INDEX(Veri!$AK$31:$AK$500,MATCH(V72,Veri!$AS$31:$AS$500,0)),\"\"),\"\")","v":""},{"$f":"IFERROR(IF(INDEX(Veri!$AQ$31:$AQ$500,MATCH(V72,Veri!$AS$31:$AS$500,0))<>\"\",INDEX(Veri!$AQ$31:$AQ$500,MATCH(V72,Veri!$AS$31:$AS$500,0)),\"\"),\"\")","v":""},{"$f":"IFERROR(IF(INDEX(Veri!$AM$31:$AM$500,MATCH(V72,Veri!$AS$31:$AS$500,0))<>\"\",INDEX(Veri!$AM$31:$AM$500,MATCH(V72,Veri!$AS$31:$AS$500,0)),\"\"),\"\")","v":""},{"$f":"IFERROR(IF(INDEX(Veri!$AN$31:$AN$500,MATCH(V72,Veri!$AS$31:$AS$500,0))<>\"\",INDEX(Veri!$AN$31:$AN$500,MATCH(V72,Veri!$AS$31:$AS$500,0)),\"\"),\"\")","v":""},{"$f":"IFERROR(IF(INDEX(Veri!$AO$31:$AO$500,MATCH(V72,Veri!$AS$31:$AS$500,0))<>\"\",INDEX(Veri!$AO$31:$AO$500,MATCH(V72,Veri!$AS$31:$AS$500,0)),\"\"),\"\")","v":""}]
[null,null,null,null,null,null,null,null,null,null,null,null,null,null,64,{"$f":"IFERROR(IF(INDEX(Veri!$AA$31:$AA$500,MATCH(O73,Veri!$AI$31:$AI$500,0))<>\"\",INDEX(Veri!$AA$31:$AA$500,MATCH(O73,Veri!$AI$31:$AI$500,0)),\"\"),\"\")","v":""},{"$f":"IFERROR(IF(INDEX(Veri!$AG$31:$AG$500,MATCH(O73,Veri!$AI$31:$AI$500,0))<>\"\",INDEX(Veri!$AG$31:$AG$500,MATCH(O73,Veri!$AI$31:$AI$500,0)),\"\"),\"\")","v":""},{"$f":"IFERROR(IF(INDEX(Veri!$AC$31:$AC$500,MATCH(O73,Veri!$AI$31:$AI$500,0))<>\"\",INDEX(Veri!$AC$31:$AC$500,MATCH(O73,Veri!$AI$31:$AI$500,0)),\"\"),\"\")","v":""},{"$f":"IFERROR(IF(INDEX(Veri!$AD$31:$AD$500,MATCH(O73,Veri!$AI$31:$AI$500,0))<>\"\",INDEX(Veri!$AD$31:$AD$500,MATCH(O73,Veri!$AI$31:$AI$500,0)),\"\"),\"\")","v":""},{"$f":"IFERROR(IF(INDEX(Veri!$AE$31:$AE$500,MATCH(O73,Veri!$AI$31:$AI$500,0))<>\"\",INDEX(Veri!$AE$31:$AE$500,MATCH(O73,Veri!$AI$31:$AI$500,0)),\"\"),\"\")","v":""},null,64,{"$f":"IFERROR(IF(INDEX(Veri!$AK$31:$AK$500,MATCH(V73,Veri!$AS$31:$AS$500,0))<>\"\",INDEX(Veri!$AK$31:$AK$500,MATCH(V73,Veri!$AS$31:$AS$500,0)),\"\"),\"\")","v":""},{"$f":"IFERROR(IF(INDEX(Veri!$AQ$31:$AQ$500,MATCH(V73,Veri!$AS$31:$AS$500,0))<>\"\",INDEX(Veri!$AQ$31:$AQ$500,MATCH(V73,Veri!$AS$31:$AS$500,0)),\"\"),\"\")","v":""},{"$f":"IFERROR(IF(INDEX(Veri!$AM$31:$AM$500,MATCH(V73,Veri!$AS$31:$AS$500,0))<>\"\",INDEX(Veri!$AM$31:$AM$500,MATCH(V73,Veri!$AS$31:$AS$500,0)),\"\"),\"\")","v":""},{"$f":"IFERROR(IF(INDEX(Veri!$AN$31:$AN$500,MATCH(V73,Veri!$AS$31:$AS$500,0))<>\"\",INDEX(Veri!$AN$31:$AN$500,MATCH(V73,Veri!$AS$31:$AS$500,0)),\"\"),\"\")","v":""},{"$f":"IFERROR(IF(INDEX(Veri!$AO$31:$AO$500,MATCH(V73,Veri!$AS$31:$AS$500,0))<>\"\",INDEX(Veri!$AO$31:$AO$500,MATCH(V73,Veri!$AS$31:$AS$500,0)),\"\"),\"\")","v":""}]
[null,null,null,null,null,null,null,null,null,null,null,null,null,null,65,{"$f":"IFERROR(IF(INDEX(Veri!$AA$31:$AA$500,MATCH(O74,Veri!$AI$31:$AI$500,0))<>\"\",INDEX(Veri!$AA$31:$AA$500,MATCH(O74,Veri!$AI$31:$AI$500,0)),\"\"),\"\")","v":""},{"$f":"IFERROR(IF(INDEX(Veri!$AG$31:$AG$500,MATCH(O74,Veri!$AI$31:$AI$500,0))<>\"\",INDEX(Veri!$AG$31:$AG$500,MATCH(O74,Veri!$AI$31:$AI$500,0)),\"\"),\"\")","v":""},{"$f":"IFERROR(IF(INDEX(Veri!$AC$31:$AC$500,MATCH(O74,Veri!$AI$31:$AI$500,0))<>\"\",INDEX(Veri!$AC$31:$AC$500,MATCH(O74,Veri!$AI$31:$AI$500,0)),\"\"),\"\")","v":""},{"$f":"IFERROR(IF(INDEX(Veri!$AD$31:$AD$500,MATCH(O74,Veri!$AI$31:$AI$500,0))<>\"\",INDEX(Veri!$AD$31:$AD$500,MATCH(O74,Veri!$AI$31:$AI$500,0)),\"\"),\"\")","v":""},{"$f":"IFERROR(IF(INDEX(Veri!$AE$31:$AE$500,MATCH(O74,Veri!$AI$31:$AI$500,0))<>\"\",INDEX(Veri!$AE$31:$AE$500,MATCH(O74,Veri!$AI$31:$AI$500,0)),\"\"),\"\")","v":""},null,65,{"$f":"IFERROR(IF(INDEX(Veri!$AK$31:$AK$500,MATCH(V74,Veri!$AS$31:$AS$500,0))<>\"\",INDEX(Veri!$AK$31:$AK$500,MATCH(V74,Veri!$AS$31:$AS$500,0)),\"\"),\"\")","v":""},{"$f":"IFERROR(IF(INDEX(Veri!$AQ$31:$AQ$500,MATCH(V74,Veri!$AS$31:$AS$500,0))<>\"\",INDEX(Veri!$AQ$31:$AQ$500,MATCH(V74,Veri!$AS$31:$AS$500,0)),\"\"),\"\")","v":""},{"$f":"IFERROR(IF(INDEX(Veri!$AM$31:$AM$500,MATCH(V74,Veri!$AS$31:$AS$500,0))<>\"\",INDEX(Veri!$AM$31:$AM$500,MATCH(V74,Veri!$AS$31:$AS$500,0)),\"\"),\"\")","v":""},{"$f":"IFERROR(IF(INDEX(Veri!$AN$31:$AN$500,MATCH(V74,Veri!$AS$31:$AS$500,0))<>\"\",INDEX(Veri!$AN$31:$AN$500,MATCH(V74,Veri!$AS$31:$AS$500,0)),\"\"),\"\")","v":""},{"$f":"IFERROR(IF(INDEX(Veri!$AO$31:$AO$500,MATCH(V74,Veri!$AS$31:$AS$500,0))<>\"\",INDEX(Veri!$AO$31:$AO$500,MATCH(V74,Veri!$AS$31:$AS$500,0)),\"\"),\"\")","v":""}]
[null,null,null,null,null,null,null,null,null,null,null,null,null,null,66,{"$f":"IFERROR(IF(INDEX(Veri!$AA$31:$AA$500,MATCH(O75,Veri!$AI$31:$AI$500,0))<>\"\",INDEX(Veri!$AA$31:$AA$500,MATCH(O75,Veri!$AI$31:$AI$500,0)),\"\"),\"\")","v":""},{"$f":"IFERROR(IF(INDEX(Veri!$AG$31:$AG$500,MATCH(O75,Veri!$AI$31:$AI$500,0))<>\"\",INDEX(Veri!$AG$31:$AG$500,MATCH(O75,Veri!$AI$31:$AI$500,0)),\"\"),\"\")","v":""},{"$f":"IFERROR(IF(INDEX(Veri!$AC$31:$AC$500,MATCH(O75,Veri!$AI$31:$AI$500,0))<>\"\",INDEX(Veri!$AC$31:$AC$500,MATCH(O75,Veri!$AI$31:$AI$500,0)),\"\"),\"\")","v":""},{"$f":"IFERROR(IF(INDEX(Veri!$AD$31:$AD$500,MATCH(O75,Veri!$AI$31:$AI$500,0))<>\"\",INDEX(Veri!$AD$31:$AD$500,MATCH(O75,Veri!$AI$31:$AI$500,0)),\"\"),\"\")","v":""},{"$f":"IFERROR(IF(INDEX(Veri!$AE$31:$AE$500,MATCH(O75,Veri!$AI$31:$AI$500,0))<>\"\",INDEX(Veri!$AE$31:$AE$500,MATCH(O75,Veri!$AI$31:$AI$500,0)),\"\"),\"\")","v":""},null,66,{"$f":"IFERROR(IF(INDEX(Veri!$AK$31:$AK$500,MATCH(V75,Veri!$AS$31:$AS$500,0))<>\"\",INDEX(Veri!$AK$31:$AK$500,MATCH(V75,Veri!$AS$31:$AS$500,0)),\"\"),\"\")","v":""},{"$f":"IFERROR(IF(INDEX(Veri!$AQ$31:$AQ$500,MATCH(V75,Veri!$AS$31:$AS$500,0))<>\"\",INDEX(Veri!$AQ$31:$AQ$500,MATCH(V75,Veri!$AS$31:$AS$500,0)),\"\"),\"\")","v":""},{"$f":"IFERROR(IF(INDEX(Veri!$AM$31:$AM$500,MATCH(V75,Veri!$AS$31:$AS$500,0))<>\"\",INDEX(Veri!$AM$31:$AM$500,MATCH(V75,Veri!$AS$31:$AS$500,0)),\"\"),\"\")","v":""},{"$f":"IFERROR(IF(INDEX(Veri!$AN$31:$AN$500,MATCH(V75,Veri!$AS$31:$AS$500,0))<>\"\",INDEX(Veri!$AN$31:$AN$500,MATCH(V75,Veri!$AS$31:$AS$500,0)),\"\"),\"\")","v":""},{"$f":"IFERROR(IF(INDEX(Veri!$AO$31:$AO$500,MATCH(V75,Veri!$AS$31:$AS$500,0))<>\"\",INDEX(Veri!$AO$31:$AO$500,MATCH(V75,Veri!$AS$31:$AS$500,0)),\"\"),\"\")","v":""}]
[null,null,null,null,null,null,null,null,null,null,null,null,null,null,67,{"$f":"IFERROR(IF(INDEX(Veri!$AA$31:$AA$500,MATCH(O76,Veri!$AI$31:$AI$500,0))<>\"\",INDEX(Veri!$AA$31:$AA$500,MATCH(O76,Veri!$AI$31:$AI$500,0)),\"\"),\"\")","v":""},{"$f":"IFERROR(IF(INDEX(Veri!$AG$31:$AG$500,MATCH(O76,Veri!$AI$31:$AI$500,0))<>\"\",INDEX(Veri!$AG$31:$AG$500,MATCH(O76,Veri!$AI$31:$AI$500,0)),\"\"),\"\")","v":""},{"$f":"IFERROR(IF(INDEX(Veri!$AC$31:$AC$500,MATCH(O76,Veri!$AI$31:$AI$500,0))<>\"\",INDEX(Veri!$AC$31:$AC$500,MATCH(O76,Veri!$AI$31:$AI$500,0)),\"\"),\"\")","v":""},{"$f":"IFERROR(IF(INDEX(Veri!$AD$31:$AD$500,MATCH(O76,Veri!$AI$31:$AI$500,0))<>\"\",INDEX(Veri!$AD$31:$AD$500,MATCH(O76,Veri!$AI$31:$AI$500,0)),\"\"),\"\")","v":""},{"$f":"IFERROR(IF(INDEX(Veri!$AE$31:$AE$500,MATCH(O76,Veri!$AI$31:$AI$500,0))<>\"\",INDEX(Veri!$AE$31:$AE$500,MATCH(O76,Veri!$AI$31:$AI$500,0)),\"\"),\"\")","v":""},null,67,{"$f":"IFERROR(IF(INDEX(Veri!$AK$31:$AK$500,MATCH(V76,Veri!$AS$31:$AS$500,0))<>\"\",INDEX(Veri!$AK$31:$AK$500,MATCH(V76,Veri!$AS$31:$AS$500,0)),\"\"),\"\")","v":""},{"$f":"IFERROR(IF(INDEX(Veri!$AQ$31:$AQ$500,MATCH(V76,Veri!$AS$31:$AS$500,0))<>\"\",INDEX(Veri!$AQ$31:$AQ$500,MATCH(V76,Veri!$AS$31:$AS$500,0)),\"\"),\"\")","v":""},{"$f":"IFERROR(IF(INDEX(Veri!$AM$31:$AM$500,MATCH(V76,Veri!$AS$31:$AS$500,0))<>\"\",INDEX(Veri!$AM$31:$AM$500,MATCH(V76,Veri!$AS$31:$AS$500,0)),\"\"),\"\")","v":""},{"$f":"IFERROR(IF(INDEX(Veri!$AN$31:$AN$500,MATCH(V76,Veri!$AS$31:$AS$500,0))<>\"\",INDEX(Veri!$AN$31:$AN$500,MATCH(V76,Veri!$AS$31:$AS$500,0)),\"\"),\"\")","v":""},{"$f":"IFERROR(IF(INDEX(Veri!$AO$31:$AO$500,MATCH(V76,Veri!$AS$31:$AS$500,0))<>\"\",INDEX(Veri!$AO$31:$AO$500,MATCH(V76,Veri!$AS$31:$AS$500,0)),\"\"),\"\")","v":""}]
[null,null,null,null,null,null,null,null,null,null,null,null,null,null,68,{"$f":"IFERROR(IF(INDEX(Veri!$AA$31:$AA$500,MATCH(O77,Veri!$AI$31:$AI$500,0))<>\"\",INDEX(Veri!$AA$31:$AA$500,MATCH(O77,Veri!$AI$31:$AI$500,0)),\"\"),\"\")","v":""},{"$f":"IFERROR(IF(INDEX(Veri!$AG$31:$AG$500,MATCH(O77,Veri!$AI$31:$AI$500,0))<>\"\",INDEX(Veri!$AG$31:$AG$500,MATCH(O77,Veri!$AI$31:$AI$500,0)),\"\"),\"\")","v":""},{"$f":"IFERROR(IF(INDEX(Veri!$AC$31:$AC$500,MATCH(O77,Veri!$AI$31:$AI$500,0))<>\"\",INDEX(Veri!$AC$31:$AC$500,MATCH(O77,Veri!$AI$31:$AI$500,0)),\"\"),\"\")","v":""},{"$f":"IFERROR(IF(INDEX(Veri!$AD$31:$AD$500,MATCH(O77,Veri!$AI$31:$AI$500,0))<>\"\",INDEX(Veri!$AD$31:$AD$500,MATCH(O77,Veri!$AI$31:$AI$500,0)),\"\"),\"\")","v":""},{"$f":"IFERROR(IF(INDEX(Veri!$AE$31:$AE$500,MATCH(O77,Veri!$AI$31:$AI$500,0))<>\"\",INDEX(Veri!$AE$31:$AE$500,MATCH(O77,Veri!$AI$31:$AI$500,0)),\"\"),\"\")","v":""},null,68,{"$f":"IFERROR(IF(INDEX(Veri!$AK$31:$AK$500,MATCH(V77,Veri!$AS$31:$AS$500,0))<>\"\",INDEX(Veri!$AK$31:$AK$500,MATCH(V77,Veri!$AS$31:$AS$500,0)),\"\"),\"\")","v":""},{"$f":"IFERROR(IF(INDEX(Veri!$AQ$31:$AQ$500,MATCH(V77,Veri!$AS$31:$AS$500,0))<>\"\",INDEX(Veri!$AQ$31:$AQ$500,MATCH(V77,Veri!$AS$31:$AS$500,0)),\"\"),\"\")","v":""},{"$f":"IFERROR(IF(INDEX(Veri!$AM$31:$AM$500,MATCH(V77,Veri!$AS$31:$AS$500,0))<>\"\",INDEX(Veri!$AM$31:$AM$500,MATCH(V77,Veri!$AS$31:$AS$500,0)),\"\"),\"\")","v":""},{"$f":"IFERROR(IF(INDEX(Veri!$AN$31:$AN$500,MATCH(V77,Veri!$AS$31:$AS$500,0))<>\"\",INDEX(Veri!$AN$31:$AN$500,MATCH(V77,Veri!$AS$31:$AS$500,0)),\"\"),\"\")","v":""},{"$f":"IFERROR(IF(INDEX(Veri!$AO$31:$AO$500,MATCH(V77,Veri!$AS$31:$AS$500,0))<>\"\",INDEX(Veri!$AO$31:$AO$500,MATCH(V77,Veri!$AS$31:$AS$500,0)),\"\"),\"\")","v":""}]
[null,null,null,null,null,null,null,null,null,null,null,null,null,null,69,{"$f":"IFERROR(IF(INDEX(Veri!$AA$31:$AA$500,MATCH(O78,Veri!$AI$31:$AI$500,0))<>\"\",INDEX(Veri!$AA$31:$AA$500,MATCH(O78,Veri!$AI$31:$AI$500,0)),\"\"),\"\")","v":""},{"$f":"IFERROR(IF(INDEX(Veri!$AG$31:$AG$500,MATCH(O78,Veri!$AI$31:$AI$500,0))<>\"\",INDEX(Veri!$AG$31:$AG$500,MATCH(O78,Veri!$AI$31:$AI$500,0)),\"\"),\"\")","v":""},{"$f":"IFERROR(IF(INDEX(Veri!$AC$31:$AC$500,MATCH(O78,Veri!$AI$31:$AI$500,0))<>\"\",INDEX(Veri!$AC$31:$AC$500,MATCH(O78,Veri!$AI$31:$AI$500,0)),\"\"),\"\")","v":""},{"$f":"IFERROR(IF(INDEX(Veri!$AD$31:$AD$500,MATCH(O78,Veri!$AI$31:$AI$500,0))<>\"\",INDEX(Veri!$AD$31:$AD$500,MATCH(O78,Veri!$AI$31:$AI$500,0)),\"\"),\"\")","v":""},{"$f":"IFERROR(IF(INDEX(Veri!$AE$31:$AE$500,MATCH(O78,Veri!$AI$31:$AI$500,0))<>\"\",INDEX(Veri!$AE$31:$AE$500,MATCH(O78,Veri!$AI$31:$AI$500,0)),\"\"),\"\")","v":""},null,69,{"$f":"IFERROR(IF(INDEX(Veri!$AK$31:$AK$500,MATCH(V78,Veri!$AS$31:$AS$500,0))<>\"\",INDEX(Veri!$AK$31:$AK$500,MATCH(V78,Veri!$AS$31:$AS$500,0)),\"\"),\"\")","v":""},{"$f":"IFERROR(IF(INDEX(Veri!$AQ$31:$AQ$500,MATCH(V78,Veri!$AS$31:$AS$500,0))<>\"\",INDEX(Veri!$AQ$31:$AQ$500,MATCH(V78,Veri!$AS$31:$AS$500,0)),\"\"),\"\")","v":""},{"$f":"IFERROR(IF(INDEX(Veri!$AM$31:$AM$500,MATCH(V78,Veri!$AS$31:$AS$500,0))<>\"\",INDEX(Veri!$AM$31:$AM$500,MATCH(V78,Veri!$AS$31:$AS$500,0)),\"\"),\"\")","v":""},{"$f":"IFERROR(IF(INDEX(Veri!$AN$31:$AN$500,MATCH(V78,Veri!$AS$31:$AS$500,0))<>\"\",INDEX(Veri!$AN$31:$AN$500,MATCH(V78,Veri!$AS$31:$AS$500,0)),\"\"),\"\")","v":""},{"$f":"IFERROR(IF(INDEX(Veri!$AO$31:$AO$500,MATCH(V78,Veri!$AS$31:$AS$500,0))<>\"\",INDEX(Veri!$AO$31:$AO$500,MATCH(V78,Veri!$AS$31:$AS$500,0)),\"\"),\"\")","v":""}]
[null,null,null,null,null,null,null,null,null,null,null,null,null,null,70,{"$f":"IFERROR(IF(INDEX(Veri!$AA$31:$AA$500,MATCH(O79,Veri!$AI$31:$AI$500,0))<>\"\",INDEX(Veri!$AA$31:$AA$500,MATCH(O79,Veri!$AI$31:$AI$500,0)),\"\"),\"\")","v":""},{"$f":"IFERROR(IF(INDEX(Veri!$AG$31:$AG$500,MATCH(O79,Veri!$AI$31:$AI$500,0))<>\"\",INDEX(Veri!$AG$31:$AG$500,MATCH(O79,Veri!$AI$31:$AI$500,0)),\"\"),\"\")","v":""},{"$f":"IFERROR(IF(INDEX(Veri!$AC$31:$AC$500,MATCH(O79,Veri!$AI$31:$AI$500,0))<>\"\",INDEX(Veri!$AC$31:$AC$500,MATCH(O79,Veri!$AI$31:$AI$500,0)),\"\"),\"\")","v":""},{"$f":"IFERROR(IF(INDEX(Veri!$AD$31:$AD$500,MATCH(O79,Veri!$AI$31:$AI$500,0))<>\"\",INDEX(Veri!$AD$31:$AD$500,MATCH(O79,Veri!$AI$31:$AI$500,0)),\"\"),\"\")","v":""},{"$f":"IFERROR(IF(INDEX(Veri!$AE$31:$AE$500,MATCH(O79,Veri!$AI$31:$AI$500,0))<>\"\",INDEX(Veri!$AE$31:$AE$500,MATCH(O79,Veri!$AI$31:$AI$500,0)),\"\"),\"\")","v":""},null,70,{"$f":"IFERROR(IF(INDEX(Veri!$AK$31:$AK$500,MATCH(V79,Veri!$AS$31:$AS$500,0))<>\"\",INDEX(Veri!$AK$31:$AK$500,MATCH(V79,Veri!$AS$31:$AS$500,0)),\"\"),\"\")","v":""},{"$f":"IFERROR(IF(INDEX(Veri!$AQ$31:$AQ$500,MATCH(V79,Veri!$AS$31:$AS$500,0))<>\"\",INDEX(Veri!$AQ$31:$AQ$500,MATCH(V79,Veri!$AS$31:$AS$500,0)),\"\"),\"\")","v":""},{"$f":"IFERROR(IF(INDEX(Veri!$AM$31:$AM$500,MATCH(V79,Veri!$AS$31:$AS$500,0))<>\"\",INDEX(Veri!$AM$31:$AM$500,MATCH(V79,Veri!$AS$31:$AS$500,0)),\"\"),\"\")","v":""},{"$f":"IFERROR(IF(INDEX(Veri!$AN$31:$AN$500,MATCH(V79,Veri!$AS$31:$AS$500,0))<>\"\",INDEX(Veri!$AN$31:$AN$500,MATCH(V79,Veri!$AS$31:$AS$500,0)),\"\"),\"\")","v":""},{"$f":"IFERROR(IF(INDEX(Veri!$AO$31:$AO$500,MATCH(V79,Veri!$AS$31:$AS$500,0))<>\"\",INDEX(Veri!$AO$31:$AO$500,MATCH(V79,Veri!$AS$31:$AS$500,0)),\"\"),\"\")","v":""}]
[null,null,null,null,null,null,null,null,null,null,null,null,null,null,71,{"$f":"IFERROR(IF(INDEX(Veri!$AA$31:$AA$500,MATCH(O80,Veri!$AI$31:$AI$500,0))<>\"\",INDEX(Veri!$AA$31:$AA$500,MATCH(O80,Veri!$AI$31:$AI$500,0)),\"\"),\"\")","v":""},{"$f":"IFERROR(IF(INDEX(Veri!$AG$31:$AG$500,MATCH(O80,Veri!$AI$31:$AI$500,0))<>\"\",INDEX(Veri!$AG$31:$AG$500,MATCH(O80,Veri!$AI$31:$AI$500,0)),\"\"),\"\")","v":""},{"$f":"IFERROR(IF(INDEX(Veri!$AC$31:$AC$500,MATCH(O80,Veri!$AI$31:$AI$500,0))<>\"\",INDEX(Veri!$AC$31:$AC$500,MATCH(O80,Veri!$AI$31:$AI$500,0)),\"\"),\"\")","v":""},{"$f":"IFERROR(IF(INDEX(Veri!$AD$31:$AD$500,MATCH(O80,Veri!$AI$31:$AI$500,0))<>\"\",INDEX(Veri!$AD$31:$AD$500,MATCH(O80,Veri!$AI$31:$AI$500,0)),\"\"),\"\")","v":""},{"$f":"IFERROR(IF(INDEX(Veri!$AE$31:$AE$500,MATCH(O80,Veri!$AI$31:$AI$500,0))<>\"\",INDEX(Veri!$AE$31:$AE$500,MATCH(O80,Veri!$AI$31:$AI$500,0)),\"\"),\"\")","v":""},null,71,{"$f":"IFERROR(IF(INDEX(Veri!$AK$31:$AK$500,MATCH(V80,Veri!$AS$31:$AS$500,0))<>\"\",INDEX(Veri!$AK$31:$AK$500,MATCH(V80,Veri!$AS$31:$AS$500,0)),\"\"),\"\")","v":""},{"$f":"IFERROR(IF(INDEX(Veri!$AQ$31:$AQ$500,MATCH(V80,Veri!$AS$31:$AS$500,0))<>\"\",INDEX(Veri!$AQ$31:$AQ$500,MATCH(V80,Veri!$AS$31:$AS$500,0)),\"\"),\"\")","v":""},{"$f":"IFERROR(IF(INDEX(Veri!$AM$31:$AM$500,MATCH(V80,Veri!$AS$31:$AS$500,0))<>\"\",INDEX(Veri!$AM$31:$AM$500,MATCH(V80,Veri!$AS$31:$AS$500,0)),\"\"),\"\")","v":""},{"$f":"IFERROR(IF(INDEX(Veri!$AN$31:$AN$500,MATCH(V80,Veri!$AS$31:$AS$500,0))<>\"\",INDEX(Veri!$AN$31:$AN$500,MATCH(V80,Veri!$AS$31:$AS$500,0)),\"\"),\"\")","v":""},{"$f":"IFERROR(IF(INDEX(Veri!$AO$31:$AO$500,MATCH(V80,Veri!$AS$31:$AS$500,0))<>\"\",INDEX(Veri!$AO$31:$AO$500,MATCH(V80,Veri!$AS$31:$AS$500,0)),\"\"),\"\")","v":""}]
[null,null,null,null,null,null,null,null,null,null,null,null,null,null,72,{"$f":"IFERROR(IF(INDEX(Veri!$AA$31:$AA$500,MATCH(O81,Veri!$AI$31:$AI$500,0))<>\"\",INDEX(Veri!$AA$31:$AA$500,MATCH(O81,Veri!$AI$31:$AI$500,0)),\"\"),\"\")","v":""},{"$f":"IFERROR(IF(INDEX(Veri!$AG$31:$AG$500,MATCH(O81,Veri!$AI$31:$AI$500,0))<>\"\",INDEX(Veri!$AG$31:$AG$500,MATCH(O81,Veri!$AI$31:$AI$500,0)),\"\"),\"\")","v":""},{"$f":"IFERROR(IF(INDEX(Veri!$AC$31:$AC$500,MATCH(O81,Veri!$AI$31:$AI$500,0))<>\"\",INDEX(Veri!$AC$31:$AC$500,MATCH(O81,Veri!$AI$31:$AI$500,0)),\"\"),\"\")","v":""},{"$f":"IFERROR(IF(INDEX(Veri!$AD$31:$AD$500,MATCH(O81,Veri!$AI$31:$AI$500,0))<>\"\",INDEX(Veri!$AD$31:$AD$500,MATCH(O81,Veri!$AI$31:$AI$500,0)),\"\"),\"\")","v":""},{"$f":"IFERROR(IF(INDEX(Veri!$AE$31:$AE$500,MATCH(O81,Veri!$AI$31:$AI$500,0))<>\"\",INDEX(Veri!$AE$31:$AE$500,MATCH(O81,Veri!$AI$31:$AI$500,0)),\"\"),\"\")","v":""},null,72,{"$f":"IFERROR(IF(INDEX(Veri!$AK$31:$AK$500,MATCH(V81,Veri!$AS$31:$AS$500,0))<>\"\",INDEX(Veri!$AK$31:$AK$500,MATCH(V81,Veri!$AS$31:$AS$500,0)),\"\"),\"\")","v":""},{"$f":"IFERROR(IF(INDEX(Veri!$AQ$31:$AQ$500,MATCH(V81,Veri!$AS$31:$AS$500,0))<>\"\",INDEX(Veri!$AQ$31:$AQ$500,MATCH(V81,Veri!$AS$31:$AS$500,0)),\"\"),\"\")","v":""},{"$f":"IFERROR(IF(INDEX(Veri!$AM$31:$AM$500,MATCH(V81,Veri!$AS$31:$AS$500,0))<>\"\",INDEX(Veri!$AM$31:$AM$500,MATCH(V81,Veri!$AS$31:$AS$500,0)),\"\"),\"\")","v":""},{"$f":"IFERROR(IF(INDEX(Veri!$AN$31:$AN$500,MATCH(V81,Veri!$AS$31:$AS$500,0))<>\"\",INDEX(Veri!$AN$31:$AN$500,MATCH(V81,Veri!$AS$31:$AS$500,0)),\"\"),\"\")","v":""},{"$f":"IFERROR(IF(INDEX(Veri!$AO$31:$AO$500,MATCH(V81,Veri!$AS$31:$AS$500,0))<>\"\",INDEX(Veri!$AO$31:$AO$500,MATCH(V81,Veri!$AS$31:$AS$500,0)),\"\"),\"\")","v":""}]
[null,null,null,null,null,null,null,null,null,null,null,null,null,null,73,{"$f":"IFERROR(IF(INDEX(Veri!$AA$31:$AA$500,MATCH(O82,Veri!$AI$31:$AI$500,0))<>\"\",INDEX(Veri!$AA$31:$AA$500,MATCH(O82,Veri!$AI$31:$AI$500,0)),\"\"),\"\")","v":""},{"$f":"IFERROR(IF(INDEX(Veri!$AG$31:$AG$500,MATCH(O82,Veri!$AI$31:$AI$500,0))<>\"\",INDEX(Veri!$AG$31:$AG$500,MATCH(O82,Veri!$AI$31:$AI$500,0)),\"\"),\"\")","v":""},{"$f":"IFERROR(IF(INDEX(Veri!$AC$31:$AC$500,MATCH(O82,Veri!$AI$31:$AI$500,0))<>\"\",INDEX(Veri!$AC$31:$AC$500,MATCH(O82,Veri!$AI$31:$AI$500,0)),\"\"),\"\")","v":""},{"$f":"IFERROR(IF(INDEX(Veri!$AD$31:$AD$500,MATCH(O82,Veri!$AI$31:$AI$500,0))<>\"\",INDEX(Veri!$AD$31:$AD$500,MATCH(O82,Veri!$AI$31:$AI$500,0)),\"\"),\"\")","v":""},{"$f":"IFERROR(IF(INDEX(Veri!$AE$31:$AE$500,MATCH(O82,Veri!$AI$31:$AI$500,0))<>\"\",INDEX(Veri!$AE$31:$AE$500,MATCH(O82,Veri!$AI$31:$AI$500,0)),\"\"),\"\")","v":""},null,73,{"$f":"IFERROR(IF(INDEX(Veri!$AK$31:$AK$500,MATCH(V82,Veri!$AS$31:$AS$500,0))<>\"\",INDEX(Veri!$AK$31:$AK$500,MATCH(V82,Veri!$AS$31:$AS$500,0)),\"\"),\"\")","v":""},{"$f":"IFERROR(IF(INDEX(Veri!$AQ$31:$AQ$500,MATCH(V82,Veri!$AS$31:$AS$500,0))<>\"\",INDEX(Veri!$AQ$31:$AQ$500,MATCH(V82,Veri!$AS$31:$AS$500,0)),\"\"),\"\")","v":""},{"$f":"IFERROR(IF(INDEX(Veri!$AM$31:$AM$500,MATCH(V82,Veri!$AS$31:$AS$500,0))<>\"\",INDEX(Veri!$AM$31:$AM$500,MATCH(V82,Veri!$AS$31:$AS$500,0)),\"\"),\"\")","v":""},{"$f":"IFERROR(IF(INDEX(Veri!$AN$31:$AN$500,MATCH(V82,Veri!$AS$31:$AS$500,0))<>\"\",INDEX(Veri!$AN$31:$AN$500,MATCH(V82,Veri!$AS$31:$AS$500,0)),\"\"),\"\")","v":""},{"$f":"IFERROR(IF(INDEX(Veri!$AO$31:$AO$500,MATCH(V82,Veri!$AS$31:$AS$500,0))<>\"\",INDEX(Veri!$AO$31:$AO$500,MATCH(V82,Veri!$AS$31:$AS$500,0)),\"\"),\"\")","v":""}]
[null,null,null,null,null,null,null,null,null,null,null,null,null,null,74,{"$f":"IFERROR(IF(INDEX(Veri!$AA$31:$AA$500,MATCH(O83,Veri!$AI$31:$AI$500,0))<>\"\",INDEX(Veri!$AA$31:$AA$500,MATCH(O83,Veri!$AI$31:$AI$500,0)),\"\"),\"\")","v":""},{"$f":"IFERROR(IF(INDEX(Veri!$AG$31:$AG$500,MATCH(O83,Veri!$AI$31:$AI$500,0))<>\"\",INDEX(Veri!$AG$31:$AG$500,MATCH(O83,Veri!$AI$31:$AI$500,0)),\"\"),\"\")","v":""},{"$f":"IFERROR(IF(INDEX(Veri!$AC$31:$AC$500,MATCH(O83,Veri!$AI$31:$AI$500,0))<>\"\",INDEX(Veri!$AC$31:$AC$500,MATCH(O83,Veri!$AI$31:$AI$500,0)),\"\"),\"\")","v":""},{"$f":"IFERROR(IF(INDEX(Veri!$AD$31:$AD$500,MATCH(O83,Veri!$AI$31:$AI$500,0))<>\"\",INDEX(Veri!$AD$31:$AD$500,MATCH(O83,Veri!$AI$31:$AI$500,0)),\"\"),\"\")","v":""},{"$f":"IFERROR(IF(INDEX(Veri!$AE$31:$AE$500,MATCH(O83,Veri!$AI$31:$AI$500,0))<>\"\",INDEX(Veri!$AE$31:$AE$500,MATCH(O83,Veri!$AI$31:$AI$500,0)),\"\"),\"\")","v":""},null,74,{"$f":"IFERROR(IF(INDEX(Veri!$AK$31:$AK$500,MATCH(V83,Veri!$AS$31:$AS$500,0))<>\"\",INDEX(Veri!$AK$31:$AK$500,MATCH(V83,Veri!$AS$31:$AS$500,0)),\"\"),\"\")","v":""},{"$f":"IFERROR(IF(INDEX(Veri!$AQ$31:$AQ$500,MATCH(V83,Veri!$AS$31:$AS$500,0))<>\"\",INDEX(Veri!$AQ$31:$AQ$500,MATCH(V83,Veri!$AS$31:$AS$500,0)),\"\"),\"\")","v":""},{"$f":"IFERROR(IF(INDEX(Veri!$AM$31:$AM$500,MATCH(V83,Veri!$AS$31:$AS$500,0))<>\"\",INDEX(Veri!$AM$31:$AM$500,MATCH(V83,Veri!$AS$31:$AS$500,0)),\"\"),\"\")","v":""},{"$f":"IFERROR(IF(INDEX(Veri!$AN$31:$AN$500,MATCH(V83,Veri!$AS$31:$AS$500,0))<>\"\",INDEX(Veri!$AN$31:$AN$500,MATCH(V83,Veri!$AS$31:$AS$500,0)),\"\"),\"\")","v":""},{"$f":"IFERROR(IF(INDEX(Veri!$AO$31:$AO$500,MATCH(V83,Veri!$AS$31:$AS$500,0))<>\"\",INDEX(Veri!$AO$31:$AO$500,MATCH(V83,Veri!$AS$31:$AS$500,0)),\"\"),\"\")","v":""}]
[null,null,null,null,null,null,null,null,null,null,null,null,null,null,75,{"$f":"IFERROR(IF(INDEX(Veri!$AA$31:$AA$500,MATCH(O84,Veri!$AI$31:$AI$500,0))<>\"\",INDEX(Veri!$AA$31:$AA$500,MATCH(O84,Veri!$AI$31:$AI$500,0)),\"\"),\"\")","v":""},{"$f":"IFERROR(IF(INDEX(Veri!$AG$31:$AG$500,MATCH(O84,Veri!$AI$31:$AI$500,0))<>\"\",INDEX(Veri!$AG$31:$AG$500,MATCH(O84,Veri!$AI$31:$AI$500,0)),\"\"),\"\")","v":""},{"$f":"IFERROR(IF(INDEX(Veri!$AC$31:$AC$500,MATCH(O84,Veri!$AI$31:$AI$500,0))<>\"\",INDEX(Veri!$AC$31:$AC$500,MATCH(O84,Veri!$AI$31:$AI$500,0)),\"\"),\"\")","v":""},{"$f":"IFERROR(IF(INDEX(Veri!$AD$31:$AD$500,MATCH(O84,Veri!$AI$31:$AI$500,0))<>\"\",INDEX(Veri!$AD$31:$AD$500,MATCH(O84,Veri!$AI$31:$AI$500,0)),\"\"),\"\")","v":""},{"$f":"IFERROR(IF(INDEX(Veri!$AE$31:$AE$500,MATCH(O84,Veri!$AI$31:$AI$500,0))<>\"\",INDEX(Veri!$AE$31:$AE$500,MATCH(O84,Veri!$AI$31:$AI$500,0)),\"\"),\"\")","v":""},null,75,{"$f":"IFERROR(IF(INDEX(Veri!$AK$31:$AK$500,MATCH(V84,Veri!$AS$31:$AS$500,0))<>\"\",INDEX(Veri!$AK$31:$AK$500,MATCH(V84,Veri!$AS$31:$AS$500,0)),\"\"),\"\")","v":""},{"$f":"IFERROR(IF(INDEX(Veri!$AQ$31:$AQ$500,MATCH(V84,Veri!$AS$31:$AS$500,0))<>\"\",INDEX(Veri!$AQ$31:$AQ$500,MATCH(V84,Veri!$AS$31:$AS$500,0)),\"\"),\"\")","v":""},{"$f":"IFERROR(IF(INDEX(Veri!$AM$31:$AM$500,MATCH(V84,Veri!$AS$31:$AS$500,0))<>\"\",INDEX(Veri!$AM$31:$AM$500,MATCH(V84,Veri!$AS$31:$AS$500,0)),\"\"),\"\")","v":""},{"$f":"IFERROR(IF(INDEX(Veri!$AN$31:$AN$500,MATCH(V84,Veri!$AS$31:$AS$500,0))<>\"\",INDEX(Veri!$AN$31:$AN$500,MATCH(V84,Veri!$AS$31:$AS$500,0)),\"\"),\"\")","v":""},{"$f":"IFERROR(IF(INDEX(Veri!$AO$31:$AO$500,MATCH(V84,Veri!$AS$31:$AS$500,0))<>\"\",INDEX(Veri!$AO$31:$AO$500,MATCH(V84,Veri!$AS$31:$AS$500,0)),\"\"),\"\")","v":""}]
[null,null,null,null,null,null,null,null,null,null,null,null,null,null,76,{"$f":"IFERROR(IF(INDEX(Veri!$AA$31:$AA$500,MATCH(O85,Veri!$AI$31:$AI$500,0))<>\"\",INDEX(Veri!$AA$31:$AA$500,MATCH(O85,Veri!$AI$31:$AI$500,0)),\"\"),\"\")","v":""},{"$f":"IFERROR(IF(INDEX(Veri!$AG$31:$AG$500,MATCH(O85,Veri!$AI$31:$AI$500,0))<>\"\",INDEX(Veri!$AG$31:$AG$500,MATCH(O85,Veri!$AI$31:$AI$500,0)),\"\"),\"\")","v":""},{"$f":"IFERROR(IF(INDEX(Veri!$AC$31:$AC$500,MATCH(O85,Veri!$AI$31:$AI$500,0))<>\"\",INDEX(Veri!$AC$31:$AC$500,MATCH(O85,Veri!$AI$31:$AI$500,0)),\"\"),\"\")","v":""},{"$f":"IFERROR(IF(INDEX(Veri!$AD$31:$AD$500,MATCH(O85,Veri!$AI$31:$AI$500,0))<>\"\",INDEX(Veri!$AD$31:$AD$500,MATCH(O85,Veri!$AI$31:$AI$500,0)),\"\"),\"\")","v":""},{"$f":"IFERROR(IF(INDEX(Veri!$AE$31:$AE$500,MATCH(O85,Veri!$AI$31:$AI$500,0))<>\"\",INDEX(Veri!$AE$31:$AE$500,MATCH(O85,Veri!$AI$31:$AI$500,0)),\"\"),\"\")","v":""},null,76,{"$f":"IFERROR(IF(INDEX(Veri!$AK$31:$AK$500,MATCH(V85,Veri!$AS$31:$AS$500,0))<>\"\",INDEX(Veri!$AK$31:$AK$500,MATCH(V85,Veri!$AS$31:$AS$500,0)),\"\"),\"\")","v":""},{"$f":"IFERROR(IF(INDEX(Veri!$AQ$31:$AQ$500,MATCH(V85,Veri!$AS$31:$AS$500,0))<>\"\",INDEX(Veri!$AQ$31:$AQ$500,MATCH(V85,Veri!$AS$31:$AS$500,0)),\"\"),\"\")","v":""},{"$f":"IFERROR(IF(INDEX(Veri!$AM$31:$AM$500,MATCH(V85,Veri!$AS$31:$AS$500,0))<>\"\",INDEX(Veri!$AM$31:$AM$500,MATCH(V85,Veri!$AS$31:$AS$500,0)),\"\"),\"\")","v":""},{"$f":"IFERROR(IF(INDEX(Veri!$AN$31:$AN$500,MATCH(V85,Veri!$AS$31:$AS$500,0))<>\"\",INDEX(Veri!$AN$31:$AN$500,MATCH(V85,Veri!$AS$31:$AS$500,0)),\"\"),\"\")","v":""},{"$f":"IFERROR(IF(INDEX(Veri!$AO$31:$AO$500,MATCH(V85,Veri!$AS$31:$AS$500,0))<>\"\",INDEX(Veri!$AO$31:$AO$500,MATCH(V85,Veri!$AS$31:$AS$500,0)),\"\"),\"\")","v":""}]
[null,null,null,null,null,null,null,null,null,null,null,null,null,null,77,{"$f":"IFERROR(IF(INDEX(Veri!$AA$31:$AA$500,MATCH(O86,Veri!$AI$31:$AI$500,0))<>\"\",INDEX(Veri!$AA$31:$AA$500,MATCH(O86,Veri!$AI$31:$AI$500,0)),\"\"),\"\")","v":""},{"$f":"IFERROR(IF(INDEX(Veri!$AG$31:$AG$500,MATCH(O86,Veri!$AI$31:$AI$500,0))<>\"\",INDEX(Veri!$AG$31:$AG$500,MATCH(O86,Veri!$AI$31:$AI$500,0)),\"\"),\"\")","v":""},{"$f":"IFERROR(IF(INDEX(Veri!$AC$31:$AC$500,MATCH(O86,Veri!$AI$31:$AI$500,0))<>\"\",INDEX(Veri!$AC$31:$AC$500,MATCH(O86,Veri!$AI$31:$AI$500,0)),\"\"),\"\")","v":""},{"$f":"IFERROR(IF(INDEX(Veri!$AD$31:$AD$500,MATCH(O86,Veri!$AI$31:$AI$500,0))<>\"\",INDEX(Veri!$AD$31:$AD$500,MATCH(O86,Veri!$AI$31:$AI$500,0)),\"\"),\"\")","v":""},{"$f":"IFERROR(IF(INDEX(Veri!$AE$31:$AE$500,MATCH(O86,Veri!$AI$31:$AI$500,0))<>\"\",INDEX(Veri!$AE$31:$AE$500,MATCH(O86,Veri!$AI$31:$AI$500,0)),\"\"),\"\")","v":""},null,77,{"$f":"IFERROR(IF(INDEX(Veri!$AK$31:$AK$500,MATCH(V86,Veri!$AS$31:$AS$500,0))<>\"\",INDEX(Veri!$AK$31:$AK$500,MATCH(V86,Veri!$AS$31:$AS$500,0)),\"\"),\"\")","v":""},{"$f":"IFERROR(IF(INDEX(Veri!$AQ$31:$AQ$500,MATCH(V86,Veri!$AS$31:$AS$500,0))<>\"\",INDEX(Veri!$AQ$31:$AQ$500,MATCH(V86,Veri!$AS$31:$AS$500,0)),\"\"),\"\")","v":""},{"$f":"IFERROR(IF(INDEX(Veri!$AM$31:$AM$500,MATCH(V86,Veri!$AS$31:$AS$500,0))<>\"\",INDEX(Veri!$AM$31:$AM$500,MATCH(V86,Veri!$AS$31:$AS$500,0)),\"\"),\"\")","v":""},{"$f":"IFERROR(IF(INDEX(Veri!$AN$31:$AN$500,MATCH(V86,Veri!$AS$31:$AS$500,0))<>\"\",INDEX(Veri!$AN$31:$AN$500,MATCH(V86,Veri!$AS$31:$AS$500,0)),\"\"),\"\")","v":""},{"$f":"IFERROR(IF(INDEX(Veri!$AO$31:$AO$500,MATCH(V86,Veri!$AS$31:$AS$500,0))<>\"\",INDEX(Veri!$AO$31:$AO$500,MATCH(V86,Veri!$AS$31:$AS$500,0)),\"\"),\"\")","v":""}]
[null,null,null,null,null,null,null,null,null,null,null,null,null,null,78,{"$f":"IFERROR(IF(INDEX(Veri!$AA$31:$AA$500,MATCH(O87,Veri!$AI$31:$AI$500,0))<>\"\",INDEX(Veri!$AA$31:$AA$500,MATCH(O87,Veri!$AI$31:$AI$500,0)),\"\"),\"\")","v":""},{"$f":"IFERROR(IF(INDEX(Veri!$AG$31:$AG$500,MATCH(O87,Veri!$AI$31:$AI$500,0))<>\"\",INDEX(Veri!$AG$31:$AG$500,MATCH(O87,Veri!$AI$31:$AI$500,0)),\"\"),\"\")","v":""},{"$f":"IFERROR(IF(INDEX(Veri!$AC$31:$AC$500,MATCH(O87,Veri!$AI$31:$AI$500,0))<>\"\",INDEX(Veri!$AC$31:$AC$500,MATCH(O87,Veri!$AI$31:$AI$500,0)),\"\"),\"\")","v":""},{"$f":"IFERROR(IF(INDEX(Veri!$AD$31:$AD$500,MATCH(O87,Veri!$AI$31:$AI$500,0))<>\"\",INDEX(Veri!$AD$31:$AD$500,MATCH(O87,Veri!$AI$31:$AI$500,0)),\"\"),\"\")","v":""},{"$f":"IFERROR(IF(INDEX(Veri!$AE$31:$AE$500,MATCH(O87,Veri!$AI$31:$AI$500,0))<>\"\",INDEX(Veri!$AE$31:$AE$500,MATCH(O87,Veri!$AI$31:$AI$500,0)),\"\"),\"\")","v":""},null,78,{"$f":"IFERROR(IF(INDEX(Veri!$AK$31:$AK$500,MATCH(V87,Veri!$AS$31:$AS$500,0))<>\"\",INDEX(Veri!$AK$31:$AK$500,MATCH(V87,Veri!$AS$31:$AS$500,0)),\"\"),\"\")","v":""},{"$f":"IFERROR(IF(INDEX(Veri!$AQ$31:$AQ$500,MATCH(V87,Veri!$AS$31:$AS$500,0))<>\"\",INDEX(Veri!$AQ$31:$AQ$500,MATCH(V87,Veri!$AS$31:$AS$500,0)),\"\"),\"\")","v":""},{"$f":"IFERROR(IF(INDEX(Veri!$AM$31:$AM$500,MATCH(V87,Veri!$AS$31:$AS$500,0))<>\"\",INDEX(Veri!$AM$31:$AM$500,MATCH(V87,Veri!$AS$31:$AS$500,0)),\"\"),\"\")","v":""},{"$f":"IFERROR(IF(INDEX(Veri!$AN$31:$AN$500,MATCH(V87,Veri!$AS$31:$AS$500,0))<>\"\",INDEX(Veri!$AN$31:$AN$500,MATCH(V87,Veri!$AS$31:$AS$500,0)),\"\"),\"\")","v":""},{"$f":"IFERROR(IF(INDEX(Veri!$AO$31:$AO$500,MATCH(V87,Veri!$AS$31:$AS$500,0))<>\"\",INDEX(Veri!$AO$31:$AO$500,MATCH(V87,Veri!$AS$31:$AS$500,0)),\"\"),\"\")","v":""}]
[null,null,null,null,null,null,null,null,null,null,null,null,null,null,79,{"$f":"IFERROR(IF(INDEX(Veri!$AA$31:$AA$500,MATCH(O88,Veri!$AI$31:$AI$500,0))<>\"\",INDEX(Veri!$AA$31:$AA$500,MATCH(O88,Veri!$AI$31:$AI$500,0)),\"\"),\"\")","v":""},{"$f":"IFERROR(IF(INDEX(Veri!$AG$31:$AG$500,MATCH(O88,Veri!$AI$31:$AI$500,0))<>\"\",INDEX(Veri!$AG$31:$AG$500,MATCH(O88,Veri!$AI$31:$AI$500,0)),\"\"),\"\")","v":""},{"$f":"IFERROR(IF(INDEX(Veri!$AC$31:$AC$500,MATCH(O88,Veri!$AI$31:$AI$500,0))<>\"\",INDEX(Veri!$AC$31:$AC$500,MATCH(O88,Veri!$AI$31:$AI$500,0)),\"\"),\"\")","v":""},{"$f":"IFERROR(IF(INDEX(Veri!$AD$31:$AD$500,MATCH(O88,Veri!$AI$31:$AI$500,0))<>\"\",INDEX(Veri!$AD$31:$AD$500,MATCH(O88,Veri!$AI$31:$AI$500,0)),\"\"),\"\")","v":""},{"$f":"IFERROR(IF(INDEX(Veri!$AE$31:$AE$500,MATCH(O88,Veri!$AI$31:$AI$500,0))<>\"\",INDEX(Veri!$AE$31:$AE$500,MATCH(O88,Veri!$AI$31:$AI$500,0)),\"\"),\"\")","v":""},null,79,{"$f":"IFERROR(IF(INDEX(Veri!$AK$31:$AK$500,MATCH(V88,Veri!$AS$31:$AS$500,0))<>\"\",INDEX(Veri!$AK$31:$AK$500,MATCH(V88,Veri!$AS$31:$AS$500,0)),\"\"),\"\")","v":""},{"$f":"IFERROR(IF(INDEX(Veri!$AQ$31:$AQ$500,MATCH(V88,Veri!$AS$31:$AS$500,0))<>\"\",INDEX(Veri!$AQ$31:$AQ$500,MATCH(V88,Veri!$AS$31:$AS$500,0)),\"\"),\"\")","v":""},{"$f":"IFERROR(IF(INDEX(Veri!$AM$31:$AM$500,MATCH(V88,Veri!$AS$31:$AS$500,0))<>\"\",INDEX(Veri!$AM$31:$AM$500,MATCH(V88,Veri!$AS$31:$AS$500,0)),\"\"),\"\")","v":""},{"$f":"IFERROR(IF(INDEX(Veri!$AN$31:$AN$500,MATCH(V88,Veri!$AS$31:$AS$500,0))<>\"\",INDEX(Veri!$AN$31:$AN$500,MATCH(V88,Veri!$AS$31:$AS$500,0)),\"\"),\"\")","v":""},{"$f":"IFERROR(IF(INDEX(Veri!$AO$31:$AO$500,MATCH(V88,Veri!$AS$31:$AS$500,0))<>\"\",INDEX(Veri!$AO$31:$AO$500,MATCH(V88,Veri!$AS$31:$AS$500,0)),\"\"),\"\")","v":""}]
[null,null,null,null,null,null,null,null,null,null,null,null,null,null,80,{"$f":"IFERROR(IF(INDEX(Veri!$AA$31:$AA$500,MATCH(O89,Veri!$AI$31:$AI$500,0))<>\"\",INDEX(Veri!$AA$31:$AA$500,MATCH(O89,Veri!$AI$31:$AI$500,0)),\"\"),\"\")","v":""},{"$f":"IFERROR(IF(INDEX(Veri!$AG$31:$AG$500,MATCH(O89,Veri!$AI$31:$AI$500,0))<>\"\",INDEX(Veri!$AG$31:$AG$500,MATCH(O89,Veri!$AI$31:$AI$500,0)),\"\"),\"\")","v":""},{"$f":"IFERROR(IF(INDEX(Veri!$AC$31:$AC$500,MATCH(O89,Veri!$AI$31:$AI$500,0))<>\"\",INDEX(Veri!$AC$31:$AC$500,MATCH(O89,Veri!$AI$31:$AI$500,0)),\"\"),\"\")","v":""},{"$f":"IFERROR(IF(INDEX(Veri!$AD$31:$AD$500,MATCH(O89,Veri!$AI$31:$AI$500,0))<>\"\",INDEX(Veri!$AD$31:$AD$500,MATCH(O89,Veri!$AI$31:$AI$500,0)),\"\"),\"\")","v":""},{"$f":"IFERROR(IF(INDEX(Veri!$AE$31:$AE$500,MATCH(O89,Veri!$AI$31:$AI$500,0))<>\"\",INDEX(Veri!$AE$31:$AE$500,MATCH(O89,Veri!$AI$31:$AI$500,0)),\"\"),\"\")","v":""},null,80,{"$f":"IFERROR(IF(INDEX(Veri!$AK$31:$AK$500,MATCH(V89,Veri!$AS$31:$AS$500,0))<>\"\",INDEX(Veri!$AK$31:$AK$500,MATCH(V89,Veri!$AS$31:$AS$500,0)),\"\"),\"\")","v":""},{"$f":"IFERROR(IF(INDEX(Veri!$AQ$31:$AQ$500,MATCH(V89,Veri!$AS$31:$AS$500,0))<>\"\",INDEX(Veri!$AQ$31:$AQ$500,MATCH(V89,Veri!$AS$31:$AS$500,0)),\"\"),\"\")","v":""},{"$f":"IFERROR(IF(INDEX(Veri!$AM$31:$AM$500,MATCH(V89,Veri!$AS$31:$AS$500,0))<>\"\",INDEX(Veri!$AM$31:$AM$500,MATCH(V89,Veri!$AS$31:$AS$500,0)),\"\"),\"\")","v":""},{"$f":"IFERROR(IF(INDEX(Veri!$AN$31:$AN$500,MATCH(V89,Veri!$AS$31:$AS$500,0))<>\"\",INDEX(Veri!$AN$31:$AN$500,MATCH(V89,Veri!$AS$31:$AS$500,0)),\"\"),\"\")","v":""},{"$f":"IFERROR(IF(INDEX(Veri!$AO$31:$AO$500,MATCH(V89,Veri!$AS$31:$AS$500,0))<>\"\",INDEX(Veri!$AO$31:$AO$500,MATCH(V89,Veri!$AS$31:$AS$500,0)),\"\"),\"\")","v":""}]
[null,null,null,null,null,null,null,null,null,null,null,null,null,null,81,{"$f":"IFERROR(IF(INDEX(Veri!$AA$31:$AA$500,MATCH(O90,Veri!$AI$31:$AI$500,0))<>\"\",INDEX(Veri!$AA$31:$AA$500,MATCH(O90,Veri!$AI$31:$AI$500,0)),\"\"),\"\")","v":""},{"$f":"IFERROR(IF(INDEX(Veri!$AG$31:$AG$500,MATCH(O90,Veri!$AI$31:$AI$500,0))<>\"\",INDEX(Veri!$AG$31:$AG$500,MATCH(O90,Veri!$AI$31:$AI$500,0)),\"\"),\"\")","v":""},{"$f":"IFERROR(IF(INDEX(Veri!$AC$31:$AC$500,MATCH(O90,Veri!$AI$31:$AI$500,0))<>\"\",INDEX(Veri!$AC$31:$AC$500,MATCH(O90,Veri!$AI$31:$AI$500,0)),\"\"),\"\")","v":""},{"$f":"IFERROR(IF(INDEX(Veri!$AD$31:$AD$500,MATCH(O90,Veri!$AI$31:$AI$500,0))<>\"\",INDEX(Veri!$AD$31:$AD$500,MATCH(O90,Veri!$AI$31:$AI$500,0)),\"\"),\"\")","v":""},{"$f":"IFERROR(IF(INDEX(Veri!$AE$31:$AE$500,MATCH(O90,Veri!$AI$31:$AI$500,0))<>\"\",INDEX(Veri!$AE$31:$AE$500,MATCH(O90,Veri!$AI$31:$AI$500,0)),\"\"),\"\")","v":""},null,81,{"$f":"IFERROR(IF(INDEX(Veri!$AK$31:$AK$500,MATCH(V90,Veri!$AS$31:$AS$500,0))<>\"\",INDEX(Veri!$AK$31:$AK$500,MATCH(V90,Veri!$AS$31:$AS$500,0)),\"\"),\"\")","v":""},{"$f":"IFERROR(IF(INDEX(Veri!$AQ$31:$AQ$500,MATCH(V90,Veri!$AS$31:$AS$500,0))<>\"\",INDEX(Veri!$AQ$31:$AQ$500,MATCH(V90,Veri!$AS$31:$AS$500,0)),\"\"),\"\")","v":""},{"$f":"IFERROR(IF(INDEX(Veri!$AM$31:$AM$500,MATCH(V90,Veri!$AS$31:$AS$500,0))<>\"\",INDEX(Veri!$AM$31:$AM$500,MATCH(V90,Veri!$AS$31:$AS$500,0)),\"\"),\"\")","v":""},{"$f":"IFERROR(IF(INDEX(Veri!$AN$31:$AN$500,MATCH(V90,Veri!$AS$31:$AS$500,0))<>\"\",INDEX(Veri!$AN$31:$AN$500,MATCH(V90,Veri!$AS$31:$AS$500,0)),\"\"),\"\")","v":""},{"$f":"IFERROR(IF(INDEX(Veri!$AO$31:$AO$500,MATCH(V90,Veri!$AS$31:$AS$500,0))<>\"\",INDEX(Veri!$AO$31:$AO$500,MATCH(V90,Veri!$AS$31:$AS$500,0)),\"\"),\"\")","v":""}]
[null,null,null,null,null,null,null,null,null,null,null,null,null,null,82,{"$f":"IFERROR(IF(INDEX(Veri!$AA$31:$AA$500,MATCH(O91,Veri!$AI$31:$AI$500,0))<>\"\",INDEX(Veri!$AA$31:$AA$500,MATCH(O91,Veri!$AI$31:$AI$500,0)),\"\"),\"\")","v":""},{"$f":"IFERROR(IF(INDEX(Veri!$AG$31:$AG$500,MATCH(O91,Veri!$AI$31:$AI$500,0))<>\"\",INDEX(Veri!$AG$31:$AG$500,MATCH(O91,Veri!$AI$31:$AI$500,0)),\"\"),\"\")","v":""},{"$f":"IFERROR(IF(INDEX(Veri!$AC$31:$AC$500,MATCH(O91,Veri!$AI$31:$AI$500,0))<>\"\",INDEX(Veri!$AC$31:$AC$500,MATCH(O91,Veri!$AI$31:$AI$500,0)),\"\"),\"\")","v":""},{"$f":"IFERROR(IF(INDEX(Veri!$AD$31:$AD$500,MATCH(O91,Veri!$AI$31:$AI$500,0))<>\"\",INDEX(Veri!$AD$31:$AD$500,MATCH(O91,Veri!$AI$31:$AI$500,0)),\"\"),\"\")","v":""},{"$f":"IFERROR(IF(INDEX(Veri!$AE$31:$AE$500,MATCH(O91,Veri!$AI$31:$AI$500,0))<>\"\",INDEX(Veri!$AE$31:$AE$500,MATCH(O91,Veri!$AI$31:$AI$500,0)),\"\"),\"\")","v":""},null,82,{"$f":"IFERROR(IF(INDEX(Veri!$AK$31:$AK$500,MATCH(V91,Veri!$AS$31:$AS$500,0))<>\"\",INDEX(Veri!$AK$31:$AK$500,MATCH(V91,Veri!$AS$31:$AS$500,0)),\"\"),\"\")","v":""},{"$f":"IFERROR(IF(INDEX(Veri!$AQ$31:$AQ$500,MATCH(V91,Veri!$AS$31:$AS$500,0))<>\"\",INDEX(Veri!$AQ$31:$AQ$500,MATCH(V91,Veri!$AS$31:$AS$500,0)),\"\"),\"\")","v":""},{"$f":"IFERROR(IF(INDEX(Veri!$AM$31:$AM$500,MATCH(V91,Veri!$AS$31:$AS$500,0))<>\"\",INDEX(Veri!$AM$31:$AM$500,MATCH(V91,Veri!$AS$31:$AS$500,0)),\"\"),\"\")","v":""},{"$f":"IFERROR(IF(INDEX(Veri!$AN$31:$AN$500,MATCH(V91,Veri!$AS$31:$AS$500,0))<>\"\",INDEX(Veri!$AN$31:$AN$500,MATCH(V91,Veri!$AS$31:$AS$500,0)),\"\"),\"\")","v":""},{"$f":"IFERROR(IF(INDEX(Veri!$AO$31:$AO$500,MATCH(V91,Veri!$AS$31:$AS$500,0))<>\"\",INDEX(Veri!$AO$31:$AO$500,MATCH(V91,Veri!$AS$31:$AS$500,0)),\"\"),\"\")","v":""}]
[null,null,null,null,null,null,null,null,null,null,null,null,null,null,83,{"$f":"IFERROR(IF(INDEX(Veri!$AA$31:$AA$500,MATCH(O92,Veri!$AI$31:$AI$500,0))<>\"\",INDEX(Veri!$AA$31:$AA$500,MATCH(O92,Veri!$AI$31:$AI$500,0)),\"\"),\"\")","v":""},{"$f":"IFERROR(IF(INDEX(Veri!$AG$31:$AG$500,MATCH(O92,Veri!$AI$31:$AI$500,0))<>\"\",INDEX(Veri!$AG$31:$AG$500,MATCH(O92,Veri!$AI$31:$AI$500,0)),\"\"),\"\")","v":""},{"$f":"IFERROR(IF(INDEX(Veri!$AC$31:$AC$500,MATCH(O92,Veri!$AI$31:$AI$500,0))<>\"\",INDEX(Veri!$AC$31:$AC$500,MATCH(O92,Veri!$AI$31:$AI$500,0)),\"\"),\"\")","v":""},{"$f":"IFERROR(IF(INDEX(Veri!$AD$31:$AD$500,MATCH(O92,Veri!$AI$31:$AI$500,0))<>\"\",INDEX(Veri!$AD$31:$AD$500,MATCH(O92,Veri!$AI$31:$AI$500,0)),\"\"),\"\")","v":""},{"$f":"IFERROR(IF(INDEX(Veri!$AE$31:$AE$500,MATCH(O92,Veri!$AI$31:$AI$500,0))<>\"\",INDEX(Veri!$AE$31:$AE$500,MATCH(O92,Veri!$AI$31:$AI$500,0)),\"\"),\"\")","v":""},null,83,{"$f":"IFERROR(IF(INDEX(Veri!$AK$31:$AK$500,MATCH(V92,Veri!$AS$31:$AS$500,0))<>\"\",INDEX(Veri!$AK$31:$AK$500,MATCH(V92,Veri!$AS$31:$AS$500,0)),\"\"),\"\")","v":""},{"$f":"IFERROR(IF(INDEX(Veri!$AQ$31:$AQ$500,MATCH(V92,Veri!$AS$31:$AS$500,0))<>\"\",INDEX(Veri!$AQ$31:$AQ$500,MATCH(V92,Veri!$AS$31:$AS$500,0)),\"\"),\"\")","v":""},{"$f":"IFERROR(IF(INDEX(Veri!$AM$31:$AM$500,MATCH(V92,Veri!$AS$31:$AS$500,0))<>\"\",INDEX(Veri!$AM$31:$AM$500,MATCH(V92,Veri!$AS$31:$AS$500,0)),\"\"),\"\")","v":""},{"$f":"IFERROR(IF(INDEX(Veri!$AN$31:$AN$500,MATCH(V92,Veri!$AS$31:$AS$500,0))<>\"\",INDEX(Veri!$AN$31:$AN$500,MATCH(V92,Veri!$AS$31:$AS$500,0)),\"\"),\"\")","v":""},{"$f":"IFERROR(IF(INDEX(Veri!$AO$31:$AO$500,MATCH(V92,Veri!$AS$31:$AS$500,0))<>\"\",INDEX(Veri!$AO$31:$AO$500,MATCH(V92,Veri!$AS$31:$AS$500,0)),\"\"),\"\")","v":""}]
[null,null,null,null,null,null,null,null,null,null,null,null,null,null,84,{"$f":"IFERROR(IF(INDEX(Veri!$AA$31:$AA$500,MATCH(O93,Veri!$AI$31:$AI$500,0))<>\"\",INDEX(Veri!$AA$31:$AA$500,MATCH(O93,Veri!$AI$31:$AI$500,0)),\"\"),\"\")","v":""},{"$f":"IFERROR(IF(INDEX(Veri!$AG$31:$AG$500,MATCH(O93,Veri!$AI$31:$AI$500,0))<>\"\",INDEX(Veri!$AG$31:$AG$500,MATCH(O93,Veri!$AI$31:$AI$500,0)),\"\"),\"\")","v":""},{"$f":"IFERROR(IF(INDEX(Veri!$AC$31:$AC$500,MATCH(O93,Veri!$AI$31:$AI$500,0))<>\"\",INDEX(Veri!$AC$31:$AC$500,MATCH(O93,Veri!$AI$31:$AI$500,0)),\"\"),\"\")","v":""},{"$f":"IFERROR(IF(INDEX(Veri!$AD$31:$AD$500,MATCH(O93,Veri!$AI$31:$AI$500,0))<>\"\",INDEX(Veri!$AD$31:$AD$500,MATCH(O93,Veri!$AI$31:$AI$500,0)),\"\"),\"\")","v":""},{"$f":"IFERROR(IF(INDEX(Veri!$AE$31:$AE$500,MATCH(O93,Veri!$AI$31:$AI$500,0))<>\"\",INDEX(Veri!$AE$31:$AE$500,MATCH(O93,Veri!$AI$31:$AI$500,0)),\"\"),\"\")","v":""},null,84,{"$f":"IFERROR(IF(INDEX(Veri!$AK$31:$AK$500,MATCH(V93,Veri!$AS$31:$AS$500,0))<>\"\",INDEX(Veri!$AK$31:$AK$500,MATCH(V93,Veri!$AS$31:$AS$500,0)),\"\"),\"\")","v":""},{"$f":"IFERROR(IF(INDEX(Veri!$AQ$31:$AQ$500,MATCH(V93,Veri!$AS$31:$AS$500,0))<>\"\",INDEX(Veri!$AQ$31:$AQ$500,MATCH(V93,Veri!$AS$31:$AS$500,0)),\"\"),\"\")","v":""},{"$f":"IFERROR(IF(INDEX(Veri!$AM$31:$AM$500,MATCH(V93,Veri!$AS$31:$AS$500,0))<>\"\",INDEX(Veri!$AM$31:$AM$500,MATCH(V93,Veri!$AS$31:$AS$500,0)),\"\"),\"\")","v":""},{"$f":"IFERROR(IF(INDEX(Veri!$AN$31:$AN$500,MATCH(V93,Veri!$AS$31:$AS$500,0))<>\"\",INDEX(Veri!$AN$31:$AN$500,MATCH(V93,Veri!$AS$31:$AS$500,0)),\"\"),\"\")","v":""},{"$f":"IFERROR(IF(INDEX(Veri!$AO$31:$AO$500,MATCH(V93,Veri!$AS$31:$AS$500,0))<>\"\",INDEX(Veri!$AO$31:$AO$500,MATCH(V93,Veri!$AS$31:$AS$500,0)),\"\"),\"\")","v":""}]
[null,null,null,null,null,null,null,null,null,null,null,null,null,null,85,{"$f":"IFERROR(IF(INDEX(Veri!$AA$31:$AA$500,MATCH(O94,Veri!$AI$31:$AI$500,0))<>\"\",INDEX(Veri!$AA$31:$AA$500,MATCH(O94,Veri!$AI$31:$AI$500,0)),\"\"),\"\")","v":""},{"$f":"IFERROR(IF(INDEX(Veri!$AG$31:$AG$500,MATCH(O94,Veri!$AI$31:$AI$500,0))<>\"\",INDEX(Veri!$AG$31:$AG$500,MATCH(O94,Veri!$AI$31:$AI$500,0)),\"\"),\"\")","v":""},{"$f":"IFERROR(IF(INDEX(Veri!$AC$31:$AC$500,MATCH(O94,Veri!$AI$31:$AI$500,0))<>\"\",INDEX(Veri!$AC$31:$AC$500,MATCH(O94,Veri!$AI$31:$AI$500,0)),\"\"),\"\")","v":""},{"$f":"IFERROR(IF(INDEX(Veri!$AD$31:$AD$500,MATCH(O94,Veri!$AI$31:$AI$500,0))<>\"\",INDEX(Veri!$AD$31:$AD$500,MATCH(O94,Veri!$AI$31:$AI$500,0)),\"\"),\"\")","v":""},{"$f":"IFERROR(IF(INDEX(Veri!$AE$31:$AE$500,MATCH(O94,Veri!$AI$31:$AI$500,0))<>\"\",INDEX(Veri!$AE$31:$AE$500,MATCH(O94,Veri!$AI$31:$AI$500,0)),\"\"),\"\")","v":""},null,85,{"$f":"IFERROR(IF(INDEX(Veri!$AK$31:$AK$500,MATCH(V94,Veri!$AS$31:$AS$500,0))<>\"\",INDEX(Veri!$AK$31:$AK$500,MATCH(V94,Veri!$AS$31:$AS$500,0)),\"\"),\"\")","v":""},{"$f":"IFERROR(IF(INDEX(Veri!$AQ$31:$AQ$500,MATCH(V94,Veri!$AS$31:$AS$500,0))<>\"\",INDEX(Veri!$AQ$31:$AQ$500,MATCH(V94,Veri!$AS$31:$AS$500,0)),\"\"),\"\")","v":""},{"$f":"IFERROR(IF(INDEX(Veri!$AM$31:$AM$500,MATCH(V94,Veri!$AS$31:$AS$500,0))<>\"\",INDEX(Veri!$AM$31:$AM$500,MATCH(V94,Veri!$AS$31:$AS$500,0)),\"\"),\"\")","v":""},{"$f":"IFERROR(IF(INDEX(Veri!$AN$31:$AN$500,MATCH(V94,Veri!$AS$31:$AS$500,0))<>\"\",INDEX(Veri!$AN$31:$AN$500,MATCH(V94,Veri!$AS$31:$AS$500,0)),\"\"),\"\")","v":""},{"$f":"IFERROR(IF(INDEX(Veri!$AO$31:$AO$500,MATCH(V94,Veri!$AS$31:$AS$500,0))<>\"\",INDEX(Veri!$AO$31:$AO$500,MATCH(V94,Veri!$AS$31:$AS$500,0)),\"\"),\"\")","v":""}]
[null,null,null,null,null,null,null,null,null,null,null,null,null,null,86,{"$f":"IFERROR(IF(INDEX(Veri!$AA$31:$AA$500,MATCH(O95,Veri!$AI$31:$AI$500,0))<>\"\",INDEX(Veri!$AA$31:$AA$500,MATCH(O95,Veri!$AI$31:$AI$500,0)),\"\"),\"\")","v":""},{"$f":"IFERROR(IF(INDEX(Veri!$AG$31:$AG$500,MATCH(O95,Veri!$AI$31:$AI$500,0))<>\"\",INDEX(Veri!$AG$31:$AG$500,MATCH(O95,Veri!$AI$31:$AI$500,0)),\"\"),\"\")","v":""},{"$f":"IFERROR(IF(INDEX(Veri!$AC$31:$AC$500,MATCH(O95,Veri!$AI$31:$AI$500,0))<>\"\",INDEX(Veri!$AC$31:$AC$500,MATCH(O95,Veri!$AI$31:$AI$500,0)),\"\"),\"\")","v":""},{"$f":"IFERROR(IF(INDEX(Veri!$AD$31:$AD$500,MATCH(O95,Veri!$AI$31:$AI$500,0))<>\"\",INDEX(Veri!$AD$31:$AD$500,MATCH(O95,Veri!$AI$31:$AI$500,0)),\"\"),\"\")","v":""},{"$f":"IFERROR(IF(INDEX(Veri!$AE$31:$AE$500,MATCH(O95,Veri!$AI$31:$AI$500,0))<>\"\",INDEX(Veri!$AE$31:$AE$500,MATCH(O95,Veri!$AI$31:$AI$500,0)),\"\"),\"\")","v":""},null,86,{"$f":"IFERROR(IF(INDEX(Veri!$AK$31:$AK$500,MATCH(V95,Veri!$AS$31:$AS$500,0))<>\"\",INDEX(Veri!$AK$31:$AK$500,MATCH(V95,Veri!$AS$31:$AS$500,0)),\"\"),\"\")","v":""},{"$f":"IFERROR(IF(INDEX(Veri!$AQ$31:$AQ$500,MATCH(V95,Veri!$AS$31:$AS$500,0))<>\"\",INDEX(Veri!$AQ$31:$AQ$500,MATCH(V95,Veri!$AS$31:$AS$500,0)),\"\"),\"\")","v":""},{"$f":"IFERROR(IF(INDEX(Veri!$AM$31:$AM$500,MATCH(V95,Veri!$AS$31:$AS$500,0))<>\"\",INDEX(Veri!$AM$31:$AM$500,MATCH(V95,Veri!$AS$31:$AS$500,0)),\"\"),\"\")","v":""},{"$f":"IFERROR(IF(INDEX(Veri!$AN$31:$AN$500,MATCH(V95,Veri!$AS$31:$AS$500,0))<>\"\",INDEX(Veri!$AN$31:$AN$500,MATCH(V95,Veri!$AS$31:$AS$500,0)),\"\"),\"\")","v":""},{"$f":"IFERROR(IF(INDEX(Veri!$AO$31:$AO$500,MATCH(V95,Veri!$AS$31:$AS$500,0))<>\"\",INDEX(Veri!$AO$31:$AO$500,MATCH(V95,Veri!$AS$31:$AS$500,0)),\"\"),\"\")","v":""}]
[null,null,null,null,null,null,null,null,null,null,null,null,null,null,87,{"$f":"IFERROR(IF(INDEX(Veri!$AA$31:$AA$500,MATCH(O96,Veri!$AI$31:$AI$500,0))<>\"\",INDEX(Veri!$AA$31:$AA$500,MATCH(O96,Veri!$AI$31:$AI$500,0)),\"\"),\"\")","v":""},{"$f":"IFERROR(IF(INDEX(Veri!$AG$31:$AG$500,MATCH(O96,Veri!$AI$31:$AI$500,0))<>\"\",INDEX(Veri!$AG$31:$AG$500,MATCH(O96,Veri!$AI$31:$AI$500,0)),\"\"),\"\")","v":""},{"$f":"IFERROR(IF(INDEX(Veri!$AC$31:$AC$500,MATCH(O96,Veri!$AI$31:$AI$500,0))<>\"\",INDEX(Veri!$AC$31:$AC$500,MATCH(O96,Veri!$AI$31:$AI$500,0)),\"\"),\"\")","v":""},{"$f":"IFERROR(IF(INDEX(Veri!$AD$31:$AD$500,MATCH(O96,Veri!$AI$31:$AI$500,0))<>\"\",INDEX(Veri!$AD$31:$AD$500,MATCH(O96,Veri!$AI$31:$AI$500,0)),\"\"),\"\")","v":""},{"$f":"IFERROR(IF(INDEX(Veri!$AE$31:$AE$500,MATCH(O96,Veri!$AI$31:$AI$500,0))<>\"\",INDEX(Veri!$AE$31:$AE$500,MATCH(O96,Veri!$AI$31:$AI$500,0)),\"\"),\"\")","v":""},null,87,{"$f":"IFERROR(IF(INDEX(Veri!$AK$31:$AK$500,MATCH(V96,Veri!$AS$31:$AS$500,0))<>\"\",INDEX(Veri!$AK$31:$AK$500,MATCH(V96,Veri!$AS$31:$AS$500,0)),\"\"),\"\")","v":""},{"$f":"IFERROR(IF(INDEX(Veri!$AQ$31:$AQ$500,MATCH(V96,Veri!$AS$31:$AS$500,0))<>\"\",INDEX(Veri!$AQ$31:$AQ$500,MATCH(V96,Veri!$AS$31:$AS$500,0)),\"\"),\"\")","v":""},{"$f":"IFERROR(IF(INDEX(Veri!$AM$31:$AM$500,MATCH(V96,Veri!$AS$31:$AS$500,0))<>\"\",INDEX(Veri!$AM$31:$AM$500,MATCH(V96,Veri!$AS$31:$AS$500,0)),\"\"),\"\")","v":""},{"$f":"IFERROR(IF(INDEX(Veri!$AN$31:$AN$500,MATCH(V96,Veri!$AS$31:$AS$500,0))<>\"\",INDEX(Veri!$AN$31:$AN$500,MATCH(V96,Veri!$AS$31:$AS$500,0)),\"\"),\"\")","v":""},{"$f":"IFERROR(IF(INDEX(Veri!$AO$31:$AO$500,MATCH(V96,Veri!$AS$31:$AS$500,0))<>\"\",INDEX(Veri!$AO$31:$AO$500,MATCH(V96,Veri!$AS$31:$AS$500,0)),\"\"),\"\")","v":""}]
[null,null,null,null,null,null,null,null,null,null,null,null,null,null,88,{"$f":"IFERROR(IF(INDEX(Veri!$AA$31:$AA$500,MATCH(O97,Veri!$AI$31:$AI$500,0))<>\"\",INDEX(Veri!$AA$31:$AA$500,MATCH(O97,Veri!$AI$31:$AI$500,0)),\"\"),\"\")","v":""},{"$f":"IFERROR(IF(INDEX(Veri!$AG$31:$AG$500,MATCH(O97,Veri!$AI$31:$AI$500,0))<>\"\",INDEX(Veri!$AG$31:$AG$500,MATCH(O97,Veri!$AI$31:$AI$500,0)),\"\"),\"\")","v":""},{"$f":"IFERROR(IF(INDEX(Veri!$AC$31:$AC$500,MATCH(O97,Veri!$AI$31:$AI$500,0))<>\"\",INDEX(Veri!$AC$31:$AC$500,MATCH(O97,Veri!$AI$31:$AI$500,0)),\"\"),\"\")","v":""},{"$f":"IFERROR(IF(INDEX(Veri!$AD$31:$AD$500,MATCH(O97,Veri!$AI$31:$AI$500,0))<>\"\",INDEX(Veri!$AD$31:$AD$500,MATCH(O97,Veri!$AI$31:$AI$500,0)),\"\"),\"\")","v":""},{"$f":"IFERROR(IF(INDEX(Veri!$AE$31:$AE$500,MATCH(O97,Veri!$AI$31:$AI$500,0))<>\"\",INDEX(Veri!$AE$31:$AE$500,MATCH(O97,Veri!$AI$31:$AI$500,0)),\"\"),\"\")","v":""},null,88,{"$f":"IFERROR(IF(INDEX(Veri!$AK$31:$AK$500,MATCH(V97,Veri!$AS$31:$AS$500,0))<>\"\",INDEX(Veri!$AK$31:$AK$500,MATCH(V97,Veri!$AS$31:$AS$500,0)),\"\"),\"\")","v":""},{"$f":"IFERROR(IF(INDEX(Veri!$AQ$31:$AQ$500,MATCH(V97,Veri!$AS$31:$AS$500,0))<>\"\",INDEX(Veri!$AQ$31:$AQ$500,MATCH(V97,Veri!$AS$31:$AS$500,0)),\"\"),\"\")","v":""},{"$f":"IFERROR(IF(INDEX(Veri!$AM$31:$AM$500,MATCH(V97,Veri!$AS$31:$AS$500,0))<>\"\",INDEX(Veri!$AM$31:$AM$500,MATCH(V97,Veri!$AS$31:$AS$500,0)),\"\"),\"\")","v":""},{"$f":"IFERROR(IF(INDEX(Veri!$AN$31:$AN$500,MATCH(V97,Veri!$AS$31:$AS$500,0))<>\"\",INDEX(Veri!$AN$31:$AN$500,MATCH(V97,Veri!$AS$31:$AS$500,0)),\"\"),\"\")","v":""},{"$f":"IFERROR(IF(INDEX(Veri!$AO$31:$AO$500,MATCH(V97,Veri!$AS$31:$AS$500,0))<>\"\",INDEX(Veri!$AO$31:$AO$500,MATCH(V97,Veri!$AS$31:$AS$500,0)),\"\"),\"\")","v":""}]
[null,null,null,null,null,null,null,null,null,null,null,null,null,null,89,{"$f":"IFERROR(IF(INDEX(Veri!$AA$31:$AA$500,MATCH(O98,Veri!$AI$31:$AI$500,0))<>\"\",INDEX(Veri!$AA$31:$AA$500,MATCH(O98,Veri!$AI$31:$AI$500,0)),\"\"),\"\")","v":""},{"$f":"IFERROR(IF(INDEX(Veri!$AG$31:$AG$500,MATCH(O98,Veri!$AI$31:$AI$500,0))<>\"\",INDEX(Veri!$AG$31:$AG$500,MATCH(O98,Veri!$AI$31:$AI$500,0)),\"\"),\"\")","v":""},{"$f":"IFERROR(IF(INDEX(Veri!$AC$31:$AC$500,MATCH(O98,Veri!$AI$31:$AI$500,0))<>\"\",INDEX(Veri!$AC$31:$AC$500,MATCH(O98,Veri!$AI$31:$AI$500,0)),\"\"),\"\")","v":""},{"$f":"IFERROR(IF(INDEX(Veri!$AD$31:$AD$500,MATCH(O98,Veri!$AI$31:$AI$500,0))<>\"\",INDEX(Veri!$AD$31:$AD$500,MATCH(O98,Veri!$AI$31:$AI$500,0)),\"\"),\"\")","v":""},{"$f":"IFERROR(IF(INDEX(Veri!$AE$31:$AE$500,MATCH(O98,Veri!$AI$31:$AI$500,0))<>\"\",INDEX(Veri!$AE$31:$AE$500,MATCH(O98,Veri!$AI$31:$AI$500,0)),\"\"),\"\")","v":""},null,89,{"$f":"IFERROR(IF(INDEX(Veri!$AK$31:$AK$500,MATCH(V98,Veri!$AS$31:$AS$500,0))<>\"\",INDEX(Veri!$AK$31:$AK$500,MATCH(V98,Veri!$AS$31:$AS$500,0)),\"\"),\"\")","v":""},{"$f":"IFERROR(IF(INDEX(Veri!$AQ$31:$AQ$500,MATCH(V98,Veri!$AS$31:$AS$500,0))<>\"\",INDEX(Veri!$AQ$31:$AQ$500,MATCH(V98,Veri!$AS$31:$AS$500,0)),\"\"),\"\")","v":""},{"$f":"IFERROR(IF(INDEX(Veri!$AM$31:$AM$500,MATCH(V98,Veri!$AS$31:$AS$500,0))<>\"\",INDEX(Veri!$AM$31:$AM$500,MATCH(V98,Veri!$AS$31:$AS$500,0)),\"\"),\"\")","v":""},{"$f":"IFERROR(IF(INDEX(Veri!$AN$31:$AN$500,MATCH(V98,Veri!$AS$31:$AS$500,0))<>\"\",INDEX(Veri!$AN$31:$AN$500,MATCH(V98,Veri!$AS$31:$AS$500,0)),\"\"),\"\")","v":""},{"$f":"IFERROR(IF(INDEX(Veri!$AO$31:$AO$500,MATCH(V98,Veri!$AS$31:$AS$500,0))<>\"\",INDEX(Veri!$AO$31:$AO$500,MATCH(V98,Veri!$AS$31:$AS$500,0)),\"\"),\"\")","v":""}]
[null,null,null,null,null,null,null,null,null,null,null,null,null,null,90,{"$f":"IFERROR(IF(INDEX(Veri!$AA$31:$AA$500,MATCH(O99,Veri!$AI$31:$AI$500,0))<>\"\",INDEX(Veri!$AA$31:$AA$500,MATCH(O99,Veri!$AI$31:$AI$500,0)),\"\"),\"\")","v":""},{"$f":"IFERROR(IF(INDEX(Veri!$AG$31:$AG$500,MATCH(O99,Veri!$AI$31:$AI$500,0))<>\"\",INDEX(Veri!$AG$31:$AG$500,MATCH(O99,Veri!$AI$31:$AI$500,0)),\"\"),\"\")","v":""},{"$f":"IFERROR(IF(INDEX(Veri!$AC$31:$AC$500,MATCH(O99,Veri!$AI$31:$AI$500,0))<>\"\",INDEX(Veri!$AC$31:$AC$500,MATCH(O99,Veri!$AI$31:$AI$500,0)),\"\"),\"\")","v":""},{"$f":"IFERROR(IF(INDEX(Veri!$AD$31:$AD$500,MATCH(O99,Veri!$AI$31:$AI$500,0))<>\"\",INDEX(Veri!$AD$31:$AD$500,MATCH(O99,Veri!$AI$31:$AI$500,0)),\"\"),\"\")","v":""},{"$f":"IFERROR(IF(INDEX(Veri!$AE$31:$AE$500,MATCH(O99,Veri!$AI$31:$AI$500,0))<>\"\",INDEX(Veri!$AE$31:$AE$500,MATCH(O99,Veri!$AI$31:$AI$500,0)),\"\"),\"\")","v":""},null,90,{"$f":"IFERROR(IF(INDEX(Veri!$AK$31:$AK$500,MATCH(V99,Veri!$AS$31:$AS$500,0))<>\"\",INDEX(Veri!$AK$31:$AK$500,MATCH(V99,Veri!$AS$31:$AS$500,0)),\"\"),\"\")","v":""},{"$f":"IFERROR(IF(INDEX(Veri!$AQ$31:$AQ$500,MATCH(V99,Veri!$AS$31:$AS$500,0))<>\"\",INDEX(Veri!$AQ$31:$AQ$500,MATCH(V99,Veri!$AS$31:$AS$500,0)),\"\"),\"\")","v":""},{"$f":"IFERROR(IF(INDEX(Veri!$AM$31:$AM$500,MATCH(V99,Veri!$AS$31:$AS$500,0))<>\"\",INDEX(Veri!$AM$31:$AM$500,MATCH(V99,Veri!$AS$31:$AS$500,0)),\"\"),\"\")","v":""},{"$f":"IFERROR(IF(INDEX(Veri!$AN$31:$AN$500,MATCH(V99,Veri!$AS$31:$AS$500,0))<>\"\",INDEX(Veri!$AN$31:$AN$500,MATCH(V99,Veri!$AS$31:$AS$500,0)),\"\"),\"\")","v":""},{"$f":"IFERROR(IF(INDEX(Veri!$AO$31:$AO$500,MATCH(V99,Veri!$AS$31:$AS$500,0))<>\"\",INDEX(Veri!$AO$31:$AO$500,MATCH(V99,Veri!$AS$31:$AS$500,0)),\"\"),\"\")","v":""}]
[null,null,null,null,null,null,null,null,null,null,null,null,null,null,91,{"$f":"IFERROR(IF(INDEX(Veri!$AA$31:$AA$500,MATCH(O100,Veri!$AI$31:$AI$500,0))<>\"\",INDEX(Veri!$AA$31:$AA$500,MATCH(O100,Veri!$AI$31:$AI$500,0)),\"\"),\"\")","v":""},{"$f":"IFERROR(IF(INDEX(Veri!$AG$31:$AG$500,MATCH(O100,Veri!$AI$31:$AI$500,0))<>\"\",INDEX(Veri!$AG$31:$AG$500,MATCH(O100,Veri!$AI$31:$AI$500,0)),\"\"),\"\")","v":""},{"$f":"IFERROR(IF(INDEX(Veri!$AC$31:$AC$500,MATCH(O100,Veri!$AI$31:$AI$500,0))<>\"\",INDEX(Veri!$AC$31:$AC$500,MATCH(O100,Veri!$AI$31:$AI$500,0)),\"\"),\"\")","v":""},{"$f":"IFERROR(IF(INDEX(Veri!$AD$31:$AD$500,MATCH(O100,Veri!$AI$31:$AI$500,0))<>\"\",INDEX(Veri!$AD$31:$AD$500,MATCH(O100,Veri!$AI$31:$AI$500,0)),\"\"),\"\")","v":""},{"$f":"IFERROR(IF(INDEX(Veri!$AE$31:$AE$500,MATCH(O100,Veri!$AI$31:$AI$500,0))<>\"\",INDEX(Veri!$AE$31:$AE$500,MATCH(O100,Veri!$AI$31:$AI$500,0)),\"\"),\"\")","v":""},null,91,{"$f":"IFERROR(IF(INDEX(Veri!$AK$31:$AK$500,MATCH(V100,Veri!$AS$31:$AS$500,0))<>\"\",INDEX(Veri!$AK$31:$AK$500,MATCH(V100,Veri!$AS$31:$AS$500,0)),\"\"),\"\")","v":""},{"$f":"IFERROR(IF(INDEX(Veri!$AQ$31:$AQ$500,MATCH(V100,Veri!$AS$31:$AS$500,0))<>\"\",INDEX(Veri!$AQ$31:$AQ$500,MATCH(V100,Veri!$AS$31:$AS$500,0)),\"\"),\"\")","v":""},{"$f":"IFERROR(IF(INDEX(Veri!$AM$31:$AM$500,MATCH(V100,Veri!$AS$31:$AS$500,0))<>\"\",INDEX(Veri!$AM$31:$AM$500,MATCH(V100,Veri!$AS$31:$AS$500,0)),\"\"),\"\")","v":""},{"$f":"IFERROR(IF(INDEX(Veri!$AN$31:$AN$500,MATCH(V100,Veri!$AS$31:$AS$500,0))<>\"\",INDEX(Veri!$AN$31:$AN$500,MATCH(V100,Veri!$AS$31:$AS$500,0)),\"\"),\"\")","v":""},{"$f":"IFERROR(IF(INDEX(Veri!$AO$31:$AO$500,MATCH(V100,Veri!$AS$31:$AS$500,0))<>\"\",INDEX(Veri!$AO$31:$AO$500,MATCH(V100,Veri!$AS$31:$AS$500,0)),\"\"),\"\")","v":""}]
[null,null,null,null,null,null,null,null,null,null,null,null,null,null,92,{"$f":"IFERROR(IF(INDEX(Veri!$AA$31:$AA$500,MATCH(O101,Veri!$AI$31:$AI$500,0))<>\"\",INDEX(Veri!$AA$31:$AA$500,MATCH(O101,Veri!$AI$31:$AI$500,0)),\"\"),\"\")","v":""},{"$f":"IFERROR(IF(INDEX(Veri!$AG$31:$AG$500,MATCH(O101,Veri!$AI$31:$AI$500,0))<>\"\",INDEX(Veri!$AG$31:$AG$500,MATCH(O101,Veri!$AI$31:$AI$500,0)),\"\"),\"\")","v":""},{"$f":"IFERROR(IF(INDEX(Veri!$AC$31:$AC$500,MATCH(O101,Veri!$AI$31:$AI$500,0))<>\"\",INDEX(Veri!$AC$31:$AC$500,MATCH(O101,Veri!$AI$31:$AI$500,0)),\"\"),\"\")","v":""},{"$f":"IFERROR(IF(INDEX(Veri!$AD$31:$AD$500,MATCH(O101,Veri!$AI$31:$AI$500,0))<>\"\",INDEX(Veri!$AD$31:$AD$500,MATCH(O101,Veri!$AI$31:$AI$500,0)),\"\"),\"\")","v":""},{"$f":"IFERROR(IF(INDEX(Veri!$AE$31:$AE$500,MATCH(O101,Veri!$AI$31:$AI$500,0))<>\"\",INDEX(Veri!$AE$31:$AE$500,MATCH(O101,Veri!$AI$31:$AI$500,0)),\"\"),\"\")","v":""},null,92,{"$f":"IFERROR(IF(INDEX(Veri!$AK$31:$AK$500,MATCH(V101,Veri!$AS$31:$AS$500,0))<>\"\",INDEX(Veri!$AK$31:$AK$500,MATCH(V101,Veri!$AS$31:$AS$500,0)),\"\"),\"\")","v":""},{"$f":"IFERROR(IF(INDEX(Veri!$AQ$31:$AQ$500,MATCH(V101,Veri!$AS$31:$AS$500,0))<>\"\",INDEX(Veri!$AQ$31:$AQ$500,MATCH(V101,Veri!$AS$31:$AS$500,0)),\"\"),\"\")","v":""},{"$f":"IFERROR(IF(INDEX(Veri!$AM$31:$AM$500,MATCH(V101,Veri!$AS$31:$AS$500,0))<>\"\",INDEX(Veri!$AM$31:$AM$500,MATCH(V101,Veri!$AS$31:$AS$500,0)),\"\"),\"\")","v":""},{"$f":"IFERROR(IF(INDEX(Veri!$AN$31:$AN$500,MATCH(V101,Veri!$AS$31:$AS$500,0))<>\"\",INDEX(Veri!$AN$31:$AN$500,MATCH(V101,Veri!$AS$31:$AS$500,0)),\"\"),\"\")","v":""},{"$f":"IFERROR(IF(INDEX(Veri!$AO$31:$AO$500,MATCH(V101,Veri!$AS$31:$AS$500,0))<>\"\",INDEX(Veri!$AO$31:$AO$500,MATCH(V101,Veri!$AS$31:$AS$500,0)),\"\"),\"\")","v":""}]
[null,null,null,null,null,null,null,null,null,null,null,null,null,null,93,{"$f":"IFERROR(IF(INDEX(Veri!$AA$31:$AA$500,MATCH(O102,Veri!$AI$31:$AI$500,0))<>\"\",INDEX(Veri!$AA$31:$AA$500,MATCH(O102,Veri!$AI$31:$AI$500,0)),\"\"),\"\")","v":""},{"$f":"IFERROR(IF(INDEX(Veri!$AG$31:$AG$500,MATCH(O102,Veri!$AI$31:$AI$500,0))<>\"\",INDEX(Veri!$AG$31:$AG$500,MATCH(O102,Veri!$AI$31:$AI$500,0)),\"\"),\"\")","v":""},{"$f":"IFERROR(IF(INDEX(Veri!$AC$31:$AC$500,MATCH(O102,Veri!$AI$31:$AI$500,0))<>\"\",INDEX(Veri!$AC$31:$AC$500,MATCH(O102,Veri!$AI$31:$AI$500,0)),\"\"),\"\")","v":""},{"$f":"IFERROR(IF(INDEX(Veri!$AD$31:$AD$500,MATCH(O102,Veri!$AI$31:$AI$500,0))<>\"\",INDEX(Veri!$AD$31:$AD$500,MATCH(O102,Veri!$AI$31:$AI$500,0)),\"\"),\"\")","v":""},{"$f":"IFERROR(IF(INDEX(Veri!$AE$31:$AE$500,MATCH(O102,Veri!$AI$31:$AI$500,0))<>\"\",INDEX(Veri!$AE$31:$AE$500,MATCH(O102,Veri!$AI$31:$AI$500,0)),\"\"),\"\")","v":""},null,93,{"$f":"IFERROR(IF(INDEX(Veri!$AK$31:$AK$500,MATCH(V102,Veri!$AS$31:$AS$500,0))<>\"\",INDEX(Veri!$AK$31:$AK$500,MATCH(V102,Veri!$AS$31:$AS$500,0)),\"\"),\"\")","v":""},{"$f":"IFERROR(IF(INDEX(Veri!$AQ$31:$AQ$500,MATCH(V102,Veri!$AS$31:$AS$500,0))<>\"\",INDEX(Veri!$AQ$31:$AQ$500,MATCH(V102,Veri!$AS$31:$AS$500,0)),\"\"),\"\")","v":""},{"$f":"IFERROR(IF(INDEX(Veri!$AM$31:$AM$500,MATCH(V102,Veri!$AS$31:$AS$500,0))<>\"\",INDEX(Veri!$AM$31:$AM$500,MATCH(V102,Veri!$AS$31:$AS$500,0)),\"\"),\"\")","v":""},{"$f":"IFERROR(IF(INDEX(Veri!$AN$31:$AN$500,MATCH(V102,Veri!$AS$31:$AS$500,0))<>\"\",INDEX(Veri!$AN$31:$AN$500,MATCH(V102,Veri!$AS$31:$AS$500,0)),\"\"),\"\")","v":""},{"$f":"IFERROR(IF(INDEX(Veri!$AO$31:$AO$500,MATCH(V102,Veri!$AS$31:$AS$500,0))<>\"\",INDEX(Veri!$AO$31:$AO$500,MATCH(V102,Veri!$AS$31:$AS$500,0)),\"\"),\"\")","v":""}]
[null,null,null,null,null,null,null,null,null,null,null,null,null,null,94,{"$f":"IFERROR(IF(INDEX(Veri!$AA$31:$AA$500,MATCH(O103,Veri!$AI$31:$AI$500,0))<>\"\",INDEX(Veri!$AA$31:$AA$500,MATCH(O103,Veri!$AI$31:$AI$500,0)),\"\"),\"\")","v":""},{"$f":"IFERROR(IF(INDEX(Veri!$AG$31:$AG$500,MATCH(O103,Veri!$AI$31:$AI$500,0))<>\"\",INDEX(Veri!$AG$31:$AG$500,MATCH(O103,Veri!$AI$31:$AI$500,0)),\"\"),\"\")","v":""},{"$f":"IFERROR(IF(INDEX(Veri!$AC$31:$AC$500,MATCH(O103,Veri!$AI$31:$AI$500,0))<>\"\",INDEX(Veri!$AC$31:$AC$500,MATCH(O103,Veri!$AI$31:$AI$500,0)),\"\"),\"\")","v":""},{"$f":"IFERROR(IF(INDEX(Veri!$AD$31:$AD$500,MATCH(O103,Veri!$AI$31:$AI$500,0))<>\"\",INDEX(Veri!$AD$31:$AD$500,MATCH(O103,Veri!$AI$31:$AI$500,0)),\"\"),\"\")","v":""},{"$f":"IFERROR(IF(INDEX(Veri!$AE$31:$AE$500,MATCH(O103,Veri!$AI$31:$AI$500,0))<>\"\",INDEX(Veri!$AE$31:$AE$500,MATCH(O103,Veri!$AI$31:$AI$500,0)),\"\"),\"\")","v":""},null,94,{"$f":"IFERROR(IF(INDEX(Veri!$AK$31:$AK$500,MATCH(V103,Veri!$AS$31:$AS$500,0))<>\"\",INDEX(Veri!$AK$31:$AK$500,MATCH(V103,Veri!$AS$31:$AS$500,0)),\"\"),\"\")","v":""},{"$f":"IFERROR(IF(INDEX(Veri!$AQ$31:$AQ$500,MATCH(V103,Veri!$AS$31:$AS$500,0))<>\"\",INDEX(Veri!$AQ$31:$AQ$500,MATCH(V103,Veri!$AS$31:$AS$500,0)),\"\"),\"\")","v":""},{"$f":"IFERROR(IF(INDEX(Veri!$AM$31:$AM$500,MATCH(V103,Veri!$AS$31:$AS$500,0))<>\"\",INDEX(Veri!$AM$31:$AM$500,MATCH(V103,Veri!$AS$31:$AS$500,0)),\"\"),\"\")","v":""},{"$f":"IFERROR(IF(INDEX(Veri!$AN$31:$AN$500,MATCH(V103,Veri!$AS$31:$AS$500,0))<>\"\",INDEX(Veri!$AN$31:$AN$500,MATCH(V103,Veri!$AS$31:$AS$500,0)),\"\"),\"\")","v":""},{"$f":"IFERROR(IF(INDEX(Veri!$AO$31:$AO$500,MATCH(V103,Veri!$AS$31:$AS$500,0))<>\"\",INDEX(Veri!$AO$31:$AO$500,MATCH(V103,Veri!$AS$31:$AS$500,0)),\"\"),\"\")","v":""}]
[null,null,null,null,null,null,null,null,null,null,null,null,null,null,95,{"$f":"IFERROR(IF(INDEX(Veri!$AA$31:$AA$500,MATCH(O104,Veri!$AI$31:$AI$500,0))<>\"\",INDEX(Veri!$AA$31:$AA$500,MATCH(O104,Veri!$AI$31:$AI$500,0)),\"\"),\"\")","v":""},{"$f":"IFERROR(IF(INDEX(Veri!$AG$31:$AG$500,MATCH(O104,Veri!$AI$31:$AI$500,0))<>\"\",INDEX(Veri!$AG$31:$AG$500,MATCH(O104,Veri!$AI$31:$AI$500,0)),\"\"),\"\")","v":""},{"$f":"IFERROR(IF(INDEX(Veri!$AC$31:$AC$500,MATCH(O104,Veri!$AI$31:$AI$500,0))<>\"\",INDEX(Veri!$AC$31:$AC$500,MATCH(O104,Veri!$AI$31:$AI$500,0)),\"\"),\"\")","v":""},{"$f":"IFERROR(IF(INDEX(Veri!$AD$31:$AD$500,MATCH(O104,Veri!$AI$31:$AI$500,0))<>\"\",INDEX(Veri!$AD$31:$AD$500,MATCH(O104,Veri!$AI$31:$AI$500,0)),\"\"),\"\")","v":""},{"$f":"IFERROR(IF(INDEX(Veri!$AE$31:$AE$500,MATCH(O104,Veri!$AI$31:$AI$500,0))<>\"\",INDEX(Veri!$AE$31:$AE$500,MATCH(O104,Veri!$AI$31:$AI$500,0)),\"\"),\"\")","v":""},null,95,{"$f":"IFERROR(IF(INDEX(Veri!$AK$31:$AK$500,MATCH(V104,Veri!$AS$31:$AS$500,0))<>\"\",INDEX(Veri!$AK$31:$AK$500,MATCH(V104,Veri!$AS$31:$AS$500,0)),\"\"),\"\")","v":""},{"$f":"IFERROR(IF(INDEX(Veri!$AQ$31:$AQ$500,MATCH(V104,Veri!$AS$31:$AS$500,0))<>\"\",INDEX(Veri!$AQ$31:$AQ$500,MATCH(V104,Veri!$AS$31:$AS$500,0)),\"\"),\"\")","v":""},{"$f":"IFERROR(IF(INDEX(Veri!$AM$31:$AM$500,MATCH(V104,Veri!$AS$31:$AS$500,0))<>\"\",INDEX(Veri!$AM$31:$AM$500,MATCH(V104,Veri!$AS$31:$AS$500,0)),\"\"),\"\")","v":""},{"$f":"IFERROR(IF(INDEX(Veri!$AN$31:$AN$500,MATCH(V104,Veri!$AS$31:$AS$500,0))<>\"\",INDEX(Veri!$AN$31:$AN$500,MATCH(V104,Veri!$AS$31:$AS$500,0)),\"\"),\"\")","v":""},{"$f":"IFERROR(IF(INDEX(Veri!$AO$31:$AO$500,MATCH(V104,Veri!$AS$31:$AS$500,0))<>\"\",INDEX(Veri!$AO$31:$AO$500,MATCH(V104,Veri!$AS$31:$AS$500,0)),\"\"),\"\")","v":""}]
[null,null,null,null,null,null,null,null,null,null,null,null,null,null,96,{"$f":"IFERROR(IF(INDEX(Veri!$AA$31:$AA$500,MATCH(O105,Veri!$AI$31:$AI$500,0))<>\"\",INDEX(Veri!$AA$31:$AA$500,MATCH(O105,Veri!$AI$31:$AI$500,0)),\"\"),\"\")","v":""},{"$f":"IFERROR(IF(INDEX(Veri!$AG$31:$AG$500,MATCH(O105,Veri!$AI$31:$AI$500,0))<>\"\",INDEX(Veri!$AG$31:$AG$500,MATCH(O105,Veri!$AI$31:$AI$500,0)),\"\"),\"\")","v":""},{"$f":"IFERROR(IF(INDEX(Veri!$AC$31:$AC$500,MATCH(O105,Veri!$AI$31:$AI$500,0))<>\"\",INDEX(Veri!$AC$31:$AC$500,MATCH(O105,Veri!$AI$31:$AI$500,0)),\"\"),\"\")","v":""},{"$f":"IFERROR(IF(INDEX(Veri!$AD$31:$AD$500,MATCH(O105,Veri!$AI$31:$AI$500,0))<>\"\",INDEX(Veri!$AD$31:$AD$500,MATCH(O105,Veri!$AI$31:$AI$500,0)),\"\"),\"\")","v":""},{"$f":"IFERROR(IF(INDEX(Veri!$AE$31:$AE$500,MATCH(O105,Veri!$AI$31:$AI$500,0))<>\"\",INDEX(Veri!$AE$31:$AE$500,MATCH(O105,Veri!$AI$31:$AI$500,0)),\"\"),\"\")","v":""},null,96,{"$f":"IFERROR(IF(INDEX(Veri!$AK$31:$AK$500,MATCH(V105,Veri!$AS$31:$AS$500,0))<>\"\",INDEX(Veri!$AK$31:$AK$500,MATCH(V105,Veri!$AS$31:$AS$500,0)),\"\"),\"\")","v":""},{"$f":"IFERROR(IF(INDEX(Veri!$AQ$31:$AQ$500,MATCH(V105,Veri!$AS$31:$AS$500,0))<>\"\",INDEX(Veri!$AQ$31:$AQ$500,MATCH(V105,Veri!$AS$31:$AS$500,0)),\"\"),\"\")","v":""},{"$f":"IFERROR(IF(INDEX(Veri!$AM$31:$AM$500,MATCH(V105,Veri!$AS$31:$AS$500,0))<>\"\",INDEX(Veri!$AM$31:$AM$500,MATCH(V105,Veri!$AS$31:$AS$500,0)),\"\"),\"\")","v":""},{"$f":"IFERROR(IF(INDEX(Veri!$AN$31:$AN$500,MATCH(V105,Veri!$AS$31:$AS$500,0))<>\"\",INDEX(Veri!$AN$31:$AN$500,MATCH(V105,Veri!$AS$31:$AS$500,0)),\"\"),\"\")","v":""},{"$f":"IFERROR(IF(INDEX(Veri!$AO$31:$AO$500,MATCH(V105,Veri!$AS$31:$AS$500,0))<>\"\",INDEX(Veri!$AO$31:$AO$500,MATCH(V105,Veri!$AS$31:$AS$500,0)),\"\"),\"\")","v":""}]
[null,null,null,null,null,null,null,null,null,null,null,null,null,null,97,{"$f":"IFERROR(IF(INDEX(Veri!$AA$31:$AA$500,MATCH(O106,Veri!$AI$31:$AI$500,0))<>\"\",INDEX(Veri!$AA$31:$AA$500,MATCH(O106,Veri!$AI$31:$AI$500,0)),\"\"),\"\")","v":""},{"$f":"IFERROR(IF(INDEX(Veri!$AG$31:$AG$500,MATCH(O106,Veri!$AI$31:$AI$500,0))<>\"\",INDEX(Veri!$AG$31:$AG$500,MATCH(O106,Veri!$AI$31:$AI$500,0)),\"\"),\"\")","v":""},{"$f":"IFERROR(IF(INDEX(Veri!$AC$31:$AC$500,MATCH(O106,Veri!$AI$31:$AI$500,0))<>\"\",INDEX(Veri!$AC$31:$AC$500,MATCH(O106,Veri!$AI$31:$AI$500,0)),\"\"),\"\")","v":""},{"$f":"IFERROR(IF(INDEX(Veri!$AD$31:$AD$500,MATCH(O106,Veri!$AI$31:$AI$500,0))<>\"\",INDEX(Veri!$AD$31:$AD$500,MATCH(O106,Veri!$AI$31:$AI$500,0)),\"\"),\"\")","v":""},{"$f":"IFERROR(IF(INDEX(Veri!$AE$31:$AE$500,MATCH(O106,Veri!$AI$31:$AI$500,0))<>\"\",INDEX(Veri!$AE$31:$AE$500,MATCH(O106,Veri!$AI$31:$AI$500,0)),\"\"),\"\")","v":""},null,97,{"$f":"IFERROR(IF(INDEX(Veri!$AK$31:$AK$500,MATCH(V106,Veri!$AS$31:$AS$500,0))<>\"\",INDEX(Veri!$AK$31:$AK$500,MATCH(V106,Veri!$AS$31:$AS$500,0)),\"\"),\"\")","v":""},{"$f":"IFERROR(IF(INDEX(Veri!$AQ$31:$AQ$500,MATCH(V106,Veri!$AS$31:$AS$500,0))<>\"\",INDEX(Veri!$AQ$31:$AQ$500,MATCH(V106,Veri!$AS$31:$AS$500,0)),\"\"),\"\")","v":""},{"$f":"IFERROR(IF(INDEX(Veri!$AM$31:$AM$500,MATCH(V106,Veri!$AS$31:$AS$500,0))<>\"\",INDEX(Veri!$AM$31:$AM$500,MATCH(V106,Veri!$AS$31:$AS$500,0)),\"\"),\"\")","v":""},{"$f":"IFERROR(IF(INDEX(Veri!$AN$31:$AN$500,MATCH(V106,Veri!$AS$31:$AS$500,0))<>\"\",INDEX(Veri!$AN$31:$AN$500,MATCH(V106,Veri!$AS$31:$AS$500,0)),\"\"),\"\")","v":""},{"$f":"IFERROR(IF(INDEX(Veri!$AO$31:$AO$500,MATCH(V106,Veri!$AS$31:$AS$500,0))<>\"\",INDEX(Veri!$AO$31:$AO$500,MATCH(V106,Veri!$AS$31:$AS$500,0)),\"\"),\"\")","v":""}]
[null,null,null,null,null,null,null,null,null,null,null,null,null,null,98,{"$f":"IFERROR(IF(INDEX(Veri!$AA$31:$AA$500,MATCH(O107,Veri!$AI$31:$AI$500,0))<>\"\",INDEX(Veri!$AA$31:$AA$500,MATCH(O107,Veri!$AI$31:$AI$500,0)),\"\"),\"\")","v":""},{"$f":"IFERROR(IF(INDEX(Veri!$AG$31:$AG$500,MATCH(O107,Veri!$AI$31:$AI$500,0))<>\"\",INDEX(Veri!$AG$31:$AG$500,MATCH(O107,Veri!$AI$31:$AI$500,0)),\"\"),\"\")","v":""},{"$f":"IFERROR(IF(INDEX(Veri!$AC$31:$AC$500,MATCH(O107,Veri!$AI$31:$AI$500,0))<>\"\",INDEX(Veri!$AC$31:$AC$500,MATCH(O107,Veri!$AI$31:$AI$500,0)),\"\"),\"\")","v":""},{"$f":"IFERROR(IF(INDEX(Veri!$AD$31:$AD$500,MATCH(O107,Veri!$AI$31:$AI$500,0))<>\"\",INDEX(Veri!$AD$31:$AD$500,MATCH(O107,Veri!$AI$31:$AI$500,0)),\"\"),\"\")","v":""},{"$f":"IFERROR(IF(INDEX(Veri!$AE$31:$AE$500,MATCH(O107,Veri!$AI$31:$AI$500,0))<>\"\",INDEX(Veri!$AE$31:$AE$500,MATCH(O107,Veri!$AI$31:$AI$500,0)),\"\"),\"\")","v":""},null,98,{"$f":"IFERROR(IF(INDEX(Veri!$AK$31:$AK$500,MATCH(V107,Veri!$AS$31:$AS$500,0))<>\"\",INDEX(Veri!$AK$31:$AK$500,MATCH(V107,Veri!$AS$31:$AS$500,0)),\"\"),\"\")","v":""},{"$f":"IFERROR(IF(INDEX(Veri!$AQ$31:$AQ$500,MATCH(V107,Veri!$AS$31:$AS$500,0))<>\"\",INDEX(Veri!$AQ$31:$AQ$500,MATCH(V107,Veri!$AS$31:$AS$500,0)),\"\"),\"\")","v":""},{"$f":"IFERROR(IF(INDEX(Veri!$AM$31:$AM$500,MATCH(V107,Veri!$AS$31:$AS$500,0))<>\"\",INDEX(Veri!$AM$31:$AM$500,MATCH(V107,Veri!$AS$31:$AS$500,0)),\"\"),\"\")","v":""},{"$f":"IFERROR(IF(INDEX(Veri!$AN$31:$AN$500,MATCH(V107,Veri!$AS$31:$AS$500,0))<>\"\",INDEX(Veri!$AN$31:$AN$500,MATCH(V107,Veri!$AS$31:$AS$500,0)),\"\"),\"\")","v":""},{"$f":"IFERROR(IF(INDEX(Veri!$AO$31:$AO$500,MATCH(V107,Veri!$AS$31:$AS$500,0))<>\"\",INDEX(Veri!$AO$31:$AO$500,MATCH(V107,Veri!$AS$31:$AS$500,0)),\"\"),\"\")","v":""}]
[null,null,null,null,null,null,null,null,null,null,null,null,null,null,99,{"$f":"IFERROR(IF(INDEX(Veri!$AA$31:$AA$500,MATCH(O108,Veri!$AI$31:$AI$500,0))<>\"\",INDEX(Veri!$AA$31:$AA$500,MATCH(O108,Veri!$AI$31:$AI$500,0)),\"\"),\"\")","v":""},{"$f":"IFERROR(IF(INDEX(Veri!$AG$31:$AG$500,MATCH(O108,Veri!$AI$31:$AI$500,0))<>\"\",INDEX(Veri!$AG$31:$AG$500,MATCH(O108,Veri!$AI$31:$AI$500,0)),\"\"),\"\")","v":""},{"$f":"IFERROR(IF(INDEX(Veri!$AC$31:$AC$500,MATCH(O108,Veri!$AI$31:$AI$500,0))<>\"\",INDEX(Veri!$AC$31:$AC$500,MATCH(O108,Veri!$AI$31:$AI$500,0)),\"\"),\"\")","v":""},{"$f":"IFERROR(IF(INDEX(Veri!$AD$31:$AD$500,MATCH(O108,Veri!$AI$31:$AI$500,0))<>\"\",INDEX(Veri!$AD$31:$AD$500,MATCH(O108,Veri!$AI$31:$AI$500,0)),\"\"),\"\")","v":""},{"$f":"IFERROR(IF(INDEX(Veri!$AE$31:$AE$500,MATCH(O108,Veri!$AI$31:$AI$500,0))<>\"\",INDEX(Veri!$AE$31:$AE$500,MATCH(O108,Veri!$AI$31:$AI$500,0)),\"\"),\"\")","v":""},null,99,{"$f":"IFERROR(IF(INDEX(Veri!$AK$31:$AK$500,MATCH(V108,Veri!$AS$31:$AS$500,0))<>\"\",INDEX(Veri!$AK$31:$AK$500,MATCH(V108,Veri!$AS$31:$AS$500,0)),\"\"),\"\")","v":""},{"$f":"IFERROR(IF(INDEX(Veri!$AQ$31:$AQ$500,MATCH(V108,Veri!$AS$31:$AS$500,0))<>\"\",INDEX(Veri!$AQ$31:$AQ$500,MATCH(V108,Veri!$AS$31:$AS$500,0)),\"\"),\"\")","v":""},{"$f":"IFERROR(IF(INDEX(Veri!$AM$31:$AM$500,MATCH(V108,Veri!$AS$31:$AS$500,0))<>\"\",INDEX(Veri!$AM$31:$AM$500,MATCH(V108,Veri!$AS$31:$AS$500,0)),\"\"),\"\")","v":""},{"$f":"IFERROR(IF(INDEX(Veri!$AN$31:$AN$500,MATCH(V108,Veri!$AS$31:$AS$500,0))<>\"\",INDEX(Veri!$AN$31:$AN$500,MATCH(V108,Veri!$AS$31:$AS$500,0)),\"\"),\"\")","v":""},{"$f":"IFERROR(IF(INDEX(Veri!$AO$31:$AO$500,MATCH(V108,Veri!$AS$31:$AS$500,0))<>\"\",INDEX(Veri!$AO$31:$AO$500,MATCH(V108,Veri!$AS$31:$AS$500,0)),\"\"),\"\")","v":""}]
[null,null,null,null,null,null,null,null,null,null,null,null,null,null,100,{"$f":"IFERROR(IF(INDEX(Veri!$AA$31:$AA$500,MATCH(O109,Veri!$AI$31:$AI$500,0))<>\"\",INDEX(Veri!$AA$31:$AA$500,MATCH(O109,Veri!$AI$31:$AI$500,0)),\"\"),\"\")","v":""},{"$f":"IFERROR(IF(INDEX(Veri!$AG$31:$AG$500,MATCH(O109,Veri!$AI$31:$AI$500,0))<>\"\",INDEX(Veri!$AG$31:$AG$500,MATCH(O109,Veri!$AI$31:$AI$500,0)),\"\"),\"\")","v":""},{"$f":"IFERROR(IF(INDEX(Veri!$AC$31:$AC$500,MATCH(O109,Veri!$AI$31:$AI$500,0))<>\"\",INDEX(Veri!$AC$31:$AC$500,MATCH(O109,Veri!$AI$31:$AI$500,0)),\"\"),\"\")","v":""},{"$f":"IFERROR(IF(INDEX(Veri!$AD$31:$AD$500,MATCH(O109,Veri!$AI$31:$AI$500,0))<>\"\",INDEX(Veri!$AD$31:$AD$500,MATCH(O109,Veri!$AI$31:$AI$500,0)),\"\"),\"\")","v":""},{"$f":"IFERROR(IF(INDEX(Veri!$AE$31:$AE$500,MATCH(O109,Veri!$AI$31:$AI$500,0))<>\"\",INDEX(Veri!$AE$31:$AE$500,MATCH(O109,Veri!$AI$31:$AI$500,0)),\"\"),\"\")","v":""},null,100,{"$f":"IFERROR(IF(INDEX(Veri!$AK$31:$AK$500,MATCH(V500,Veri!$AS$31:$AS$500,0))<>\"\",INDEX(Veri!$AK$31:$AK$500,MATCH(V500,Veri!$AS$31:$AS$500,0)),\"\"),\"\")","v":""},{"$f":"IFERROR(IF(INDEX(Veri!$AQ$31:$AQ$500,MATCH(V500,Veri!$AS$31:$AS$500,0))<>\"\",INDEX(Veri!$AQ$31:$AQ$500,MATCH(V500,Veri!$AS$31:$AS$500,0)),\"\"),\"\")","v":""},{"$f":"IFERROR(IF(INDEX(Veri!$AM$31:$AM$500,MATCH(V500,Veri!$AS$31:$AS$500,0))<>\"\",INDEX(Veri!$AM$31:$AM$500,MATCH(V500,Veri!$AS$31:$AS$500,0)),\"\"),\"\")","v":""},{"$f":"IFERROR(IF(INDEX(Veri!$AN$31:$AN$500,MATCH(V500,Veri!$AS$31:$AS$500,0))<>\"\",INDEX(Veri!$AN$31:$AN$500,MATCH(V500,Veri!$AS$31:$AS$500,0)),\"\"),\"\")","v":""},{"$f":"IFERROR(IF(INDEX(Veri!$AO$31:$AO$500,MATCH(V500,Veri!$AS$31:$AS$500,0))<>\"\",INDEX(Veri!$AO$31:$AO$500,MATCH(V500,Veri!$AS$31:$AS$500,0)),\"\"),\"\")","v":""}]
[null,null,null,null,null,null,null,null,null,null,null,null,null,null,101,{"$f":"IFERROR(IF(INDEX(Veri!$AA$31:$AA$500,MATCH(O110,Veri!$AI$31:$AI$500,0))<>\"\",INDEX(Veri!$AA$31:$AA$500,MATCH(O110,Veri!$AI$31:$AI$500,0)),\"\"),\"\")","v":""},{"$f":"IFERROR(IF(INDEX(Veri!$AG$31:$AG$500,MATCH(O110,Veri!$AI$31:$AI$500,0))<>\"\",INDEX(Veri!$AG$31:$AG$500,MATCH(O110,Veri!$AI$31:$AI$500,0)),\"\"),\"\")","v":""},{"$f":"IFERROR(IF(INDEX(Veri!$AC$31:$AC$500,MATCH(O110,Veri!$AI$31:$AI$500,0))<>\"\",INDEX(Veri!$AC$31:$AC$500,MATCH(O110,Veri!$AI$31:$AI$500,0)),\"\"),\"\")","v":""},{"$f":"IFERROR(IF(INDEX(Veri!$AD$31:$AD$500,MATCH(O110,Veri!$AI$31:$AI$500,0))<>\"\",INDEX(Veri!$AD$31:$AD$500,MATCH(O110,Veri!$AI$31:$AI$500,0)),\"\"),\"\")","v":""},{"$f":"IFERROR(IF(INDEX(Veri!$AE$31:$AE$500,MATCH(O110,Veri!$AI$31:$AI$500,0))<>\"\",INDEX(Veri!$AE$31:$AE$500,MATCH(O110,Veri!$AI$31:$AI$500,0)),\"\"),\"\")","v":""},null,101,{"$f":"IFERROR(IF(INDEX(Veri!$AK$31:$AK$500,MATCH(V153,Veri!$AS$31:$AS$500,0))<>\"\",INDEX(Veri!$AK$31:$AK$500,MATCH(V153,Veri!$AS$31:$AS$500,0)),\"\"),\"\")","v":""},{"$f":"IFERROR(IF(INDEX(Veri!$AQ$31:$AQ$500,MATCH(V153,Veri!$AS$31:$AS$500,0))<>\"\",INDEX(Veri!$AQ$31:$AQ$500,MATCH(V153,Veri!$AS$31:$AS$500,0)),\"\"),\"\")","v":""},{"$f":"IFERROR(IF(INDEX(Veri!$AM$31:$AM$500,MATCH(V153,Veri!$AS$31:$AS$500,0))<>\"\",INDEX(Veri!$AM$31:$AM$500,MATCH(V153,Veri!$AS$31:$AS$500,0)),\"\"),\"\")","v":""},{"$f":"IFERROR(IF(INDEX(Veri!$AN$31:$AN$500,MATCH(V153,Veri!$AS$31:$AS$500,0))<>\"\",INDEX(Veri!$AN$31:$AN$500,MATCH(V153,Veri!$AS$31:$AS$500,0)),\"\"),\"\")","v":""},{"$f":"IFERROR(IF(INDEX(Veri!$AO$31:$AO$500,MATCH(V153,Veri!$AS$31:$AS$500,0))<>\"\",INDEX(Veri!$AO$31:$AO$500,MATCH(V153,Veri!$AS$31:$AS$500,0)),\"\"),\"\")","v":""}]
[null,null,null,null,null,null,null,null,null,null,null,null,null,null,102,{"$f":"IFERROR(IF(INDEX(Veri!$AA$31:$AA$500,MATCH(O111,Veri!$AI$31:$AI$500,0))<>\"\",INDEX(Veri!$AA$31:$AA$500,MATCH(O111,Veri!$AI$31:$AI$500,0)),\"\"),\"\")","v":""},{"$f":"IFERROR(IF(INDEX(Veri!$AG$31:$AG$500,MATCH(O111,Veri!$AI$31:$AI$500,0))<>\"\",INDEX(Veri!$AG$31:$AG$500,MATCH(O111,Veri!$AI$31:$AI$500,0)),\"\"),\"\")","v":""},{"$f":"IFERROR(IF(INDEX(Veri!$AC$31:$AC$500,MATCH(O111,Veri!$AI$31:$AI$500,0))<>\"\",INDEX(Veri!$AC$31:$AC$500,MATCH(O111,Veri!$AI$31:$AI$500,0)),\"\"),\"\")","v":""},{"$f":"IFERROR(IF(INDEX(Veri!$AD$31:$AD$500,MATCH(O111,Veri!$AI$31:$AI$500,0))<>\"\",INDEX(Veri!$AD$31:$AD$500,MATCH(O111,Veri!$AI$31:$AI$500,0)),\"\"),\"\")","v":""},{"$f":"IFERROR(IF(INDEX(Veri!$AE$31:$AE$500,MATCH(O111,Veri!$AI$31:$AI$500,0))<>\"\",INDEX(Veri!$AE$31:$AE$500,MATCH(O111,Veri!$AI$31:$AI$500,0)),\"\"),\"\")","v":""},null,102,{"$f":"IFERROR(IF(INDEX(Veri!$AK$31:$AK$500,MATCH(V154,Veri!$AS$31:$AS$500,0))<>\"\",INDEX(Veri!$AK$31:$AK$500,MATCH(V154,Veri!$AS$31:$AS$500,0)),\"\"),\"\")","v":""},{"$f":"IFERROR(IF(INDEX(Veri!$AQ$31:$AQ$500,MATCH(V154,Veri!$AS$31:$AS$500,0))<>\"\",INDEX(Veri!$AQ$31:$AQ$500,MATCH(V154,Veri!$AS$31:$AS$500,0)),\"\"),\"\")","v":""},{"$f":"IFERROR(IF(INDEX(Veri!$AM$31:$AM$500,MATCH(V154,Veri!$AS$31:$AS$500,0))<>\"\",INDEX(Veri!$AM$31:$AM$500,MATCH(V154,Veri!$AS$31:$AS$500,0)),\"\"),\"\")","v":""},{"$f":"IFERROR(IF(INDEX(Veri!$AN$31:$AN$500,MATCH(V154,Veri!$AS$31:$AS$500,0))<>\"\",INDEX(Veri!$AN$31:$AN$500,MATCH(V154,Veri!$AS$31:$AS$500,0)),\"\"),\"\")","v":""},{"$f":"IFERROR(IF(INDEX(Veri!$AO$31:$AO$500,MATCH(V154,Veri!$AS$31:$AS$500,0))<>\"\",INDEX(Veri!$AO$31:$AO$500,MATCH(V154,Veri!$AS$31:$AS$500,0)),\"\"),\"\")","v":""}]
[null,null,null,null,null,null,null,null,null,null,null,null,null,null,103,{"$f":"IFERROR(IF(INDEX(Veri!$AA$31:$AA$500,MATCH(O112,Veri!$AI$31:$AI$500,0))<>\"\",INDEX(Veri!$AA$31:$AA$500,MATCH(O112,Veri!$AI$31:$AI$500,0)),\"\"),\"\")","v":""},{"$f":"IFERROR(IF(INDEX(Veri!$AG$31:$AG$500,MATCH(O112,Veri!$AI$31:$AI$500,0))<>\"\",INDEX(Veri!$AG$31:$AG$500,MATCH(O112,Veri!$AI$31:$AI$500,0)),\"\"),\"\")","v":""},{"$f":"IFERROR(IF(INDEX(Veri!$AC$31:$AC$500,MATCH(O112,Veri!$AI$31:$AI$500,0))<>\"\",INDEX(Veri!$AC$31:$AC$500,MATCH(O112,Veri!$AI$31:$AI$500,0)),\"\"),\"\")","v":""},{"$f":"IFERROR(IF(INDEX(Veri!$AD$31:$AD$500,MATCH(O112,Veri!$AI$31:$AI$500,0))<>\"\",INDEX(Veri!$AD$31:$AD$500,MATCH(O112,Veri!$AI$31:$AI$500,0)),\"\"),\"\")","v":""},{"$f":"IFERROR(IF(INDEX(Veri!$AE$31:$AE$500,MATCH(O112,Veri!$AI$31:$AI$500,0))<>\"\",INDEX(Veri!$AE$31:$AE$500,MATCH(O112,Veri!$AI$31:$AI$500,0)),\"\"),\"\")","v":""},null,103,{"$f":"IFERROR(IF(INDEX(Veri!$AK$31:$AK$500,MATCH(V155,Veri!$AS$31:$AS$500,0))<>\"\",INDEX(Veri!$AK$31:$AK$500,MATCH(V155,Veri!$AS$31:$AS$500,0)),\"\"),\"\")","v":""},{"$f":"IFERROR(IF(INDEX(Veri!$AQ$31:$AQ$500,MATCH(V155,Veri!$AS$31:$AS$500,0))<>\"\",INDEX(Veri!$AQ$31:$AQ$500,MATCH(V155,Veri!$AS$31:$AS$500,0)),\"\"),\"\")","v":""},{"$f":"IFERROR(IF(INDEX(Veri!$AM$31:$AM$500,MATCH(V155,Veri!$AS$31:$AS$500,0))<>\"\",INDEX(Veri!$AM$31:$AM$500,MATCH(V155,Veri!$AS$31:$AS$500,0)),\"\"),\"\")","v":""},{"$f":"IFERROR(IF(INDEX(Veri!$AN$31:$AN$500,MATCH(V155,Veri!$AS$31:$AS$500,0))<>\"\",INDEX(Veri!$AN$31:$AN$500,MATCH(V155,Veri!$AS$31:$AS$500,0)),\"\"),\"\")","v":""},{"$f":"IFERROR(IF(INDEX(Veri!$AO$31:$AO$500,MATCH(V155,Veri!$AS$31:$AS$500,0))<>\"\",INDEX(Veri!$AO$31:$AO$500,MATCH(V155,Veri!$AS$31:$AS$500,0)),\"\"),\"\")","v":""}]
[null,null,null,null,null,null,null,null,null,null,null,null,null,null,104,{"$f":"IFERROR(IF(INDEX(Veri!$AA$31:$AA$500,MATCH(O113,Veri!$AI$31:$AI$500,0))<>\"\",INDEX(Veri!$AA$31:$AA$500,MATCH(O113,Veri!$AI$31:$AI$500,0)),\"\"),\"\")","v":""},{"$f":"IFERROR(IF(INDEX(Veri!$AG$31:$AG$500,MATCH(O113,Veri!$AI$31:$AI$500,0))<>\"\",INDEX(Veri!$AG$31:$AG$500,MATCH(O113,Veri!$AI$31:$AI$500,0)),\"\"),\"\")","v":""},{"$f":"IFERROR(IF(INDEX(Veri!$AC$31:$AC$500,MATCH(O113,Veri!$AI$31:$AI$500,0))<>\"\",INDEX(Veri!$AC$31:$AC$500,MATCH(O113,Veri!$AI$31:$AI$500,0)),\"\"),\"\")","v":""},{"$f":"IFERROR(IF(INDEX(Veri!$AD$31:$AD$500,MATCH(O113,Veri!$AI$31:$AI$500,0))<>\"\",INDEX(Veri!$AD$31:$AD$500,MATCH(O113,Veri!$AI$31:$AI$500,0)),\"\"),\"\")","v":""},{"$f":"IFERROR(IF(INDEX(Veri!$AE$31:$AE$500,MATCH(O113,Veri!$AI$31:$AI$500,0))<>\"\",INDEX(Veri!$AE$31:$AE$500,MATCH(O113,Veri!$AI$31:$AI$500,0)),\"\"),\"\")","v":""},null,104,{"$f":"IFERROR(IF(INDEX(Veri!$AK$31:$AK$500,MATCH(V156,Veri!$AS$31:$AS$500,0))<>\"\",INDEX(Veri!$AK$31:$AK$500,MATCH(V156,Veri!$AS$31:$AS$500,0)),\"\"),\"\")","v":""},{"$f":"IFERROR(IF(INDEX(Veri!$AQ$31:$AQ$500,MATCH(V156,Veri!$AS$31:$AS$500,0))<>\"\",INDEX(Veri!$AQ$31:$AQ$500,MATCH(V156,Veri!$AS$31:$AS$500,0)),\"\"),\"\")","v":""},{"$f":"IFERROR(IF(INDEX(Veri!$AM$31:$AM$500,MATCH(V156,Veri!$AS$31:$AS$500,0))<>\"\",INDEX(Veri!$AM$31:$AM$500,MATCH(V156,Veri!$AS$31:$AS$500,0)),\"\"),\"\")","v":""},{"$f":"IFERROR(IF(INDEX(Veri!$AN$31:$AN$500,MATCH(V156,Veri!$AS$31:$AS$500,0))<>\"\",INDEX(Veri!$AN$31:$AN$500,MATCH(V156,Veri!$AS$31:$AS$500,0)),\"\"),\"\")","v":""},{"$f":"IFERROR(IF(INDEX(Veri!$AO$31:$AO$500,MATCH(V156,Veri!$AS$31:$AS$500,0))<>\"\",INDEX(Veri!$AO$31:$AO$500,MATCH(V156,Veri!$AS$31:$AS$500,0)),\"\"),\"\")","v":""}]
[null,null,null,null,null,null,null,null,null,null,null,null,null,null,105,{"$f":"IFERROR(IF(INDEX(Veri!$AA$31:$AA$500,MATCH(O114,Veri!$AI$31:$AI$500,0))<>\"\",INDEX(Veri!$AA$31:$AA$500,MATCH(O114,Veri!$AI$31:$AI$500,0)),\"\"),\"\")","v":""},{"$f":"IFERROR(IF(INDEX(Veri!$AG$31:$AG$500,MATCH(O114,Veri!$AI$31:$AI$500,0))<>\"\",INDEX(Veri!$AG$31:$AG$500,MATCH(O114,Veri!$AI$31:$AI$500,0)),\"\"),\"\")","v":""},{"$f":"IFERROR(IF(INDEX(Veri!$AC$31:$AC$500,MATCH(O114,Veri!$AI$31:$AI$500,0))<>\"\",INDEX(Veri!$AC$31:$AC$500,MATCH(O114,Veri!$AI$31:$AI$500,0)),\"\"),\"\")","v":""},{"$f":"IFERROR(IF(INDEX(Veri!$AD$31:$AD$500,MATCH(O114,Veri!$AI$31:$AI$500,0))<>\"\",INDEX(Veri!$AD$31:$AD$500,MATCH(O114,Veri!$AI$31:$AI$500,0)),\"\"),\"\")","v":""},{"$f":"IFERROR(IF(INDEX(Veri!$AE$31:$AE$500,MATCH(O114,Veri!$AI$31:$AI$500,0))<>\"\",INDEX(Veri!$AE$31:$AE$500,MATCH(O114,Veri!$AI$31:$AI$500,0)),\"\"),\"\")","v":""},null,105,{"$f":"IFERROR(IF(INDEX(Veri!$AK$31:$AK$500,MATCH(V157,Veri!$AS$31:$AS$500,0))<>\"\",INDEX(Veri!$AK$31:$AK$500,MATCH(V157,Veri!$AS$31:$AS$500,0)),\"\"),\"\")","v":""},{"$f":"IFERROR(IF(INDEX(Veri!$AQ$31:$AQ$500,MATCH(V157,Veri!$AS$31:$AS$500,0))<>\"\",INDEX(Veri!$AQ$31:$AQ$500,MATCH(V157,Veri!$AS$31:$AS$500,0)),\"\"),\"\")","v":""},{"$f":"IFERROR(IF(INDEX(Veri!$AM$31:$AM$500,MATCH(V157,Veri!$AS$31:$AS$500,0))<>\"\",INDEX(Veri!$AM$31:$AM$500,MATCH(V157,Veri!$AS$31:$AS$500,0)),\"\"),\"\")","v":""},{"$f":"IFERROR(IF(INDEX(Veri!$AN$31:$AN$500,MATCH(V157,Veri!$AS$31:$AS$500,0))<>\"\",INDEX(Veri!$AN$31:$AN$500,MATCH(V157,Veri!$AS$31:$AS$500,0)),\"\"),\"\")","v":""},{"$f":"IFERROR(IF(INDEX(Veri!$AO$31:$AO$500,MATCH(V157,Veri!$AS$31:$AS$500,0))<>\"\",INDEX(Veri!$AO$31:$AO$500,MATCH(V157,Veri!$AS$31:$AS$500,0)),\"\"),\"\")","v":""}]
[null,null,null,null,null,null,null,null,null,null,null,null,null,null,106,{"$f":"IFERROR(IF(INDEX(Veri!$AA$31:$AA$500,MATCH(O115,Veri!$AI$31:$AI$500,0))<>\"\",INDEX(Veri!$AA$31:$AA$500,MATCH(O115,Veri!$AI$31:$AI$500,0)),\"\"),\"\")","v":""},{"$f":"IFERROR(IF(INDEX(Veri!$AG$31:$AG$500,MATCH(O115,Veri!$AI$31:$AI$500,0))<>\"\",INDEX(Veri!$AG$31:$AG$500,MATCH(O115,Veri!$AI$31:$AI$500,0)),\"\"),\"\")","v":""},{"$f":"IFERROR(IF(INDEX(Veri!$AC$31:$AC$500,MATCH(O115,Veri!$AI$31:$AI$500,0))<>\"\",INDEX(Veri!$AC$31:$AC$500,MATCH(O115,Veri!$AI$31:$AI$500,0)),\"\"),\"\")","v":""},{"$f":"IFERROR(IF(INDEX(Veri!$AD$31:$AD$500,MATCH(O115,Veri!$AI$31:$AI$500,0))<>\"\",INDEX(Veri!$AD$31:$AD$500,MATCH(O115,Veri!$AI$31:$AI$500,0)),\"\"),\"\")","v":""},{"$f":"IFERROR(IF(INDEX(Veri!$AE$31:$AE$500,MATCH(O115,Veri!$AI$31:$AI$500,0))<>\"\",INDEX(Veri!$AE$31:$AE$500,MATCH(O115,Veri!$AI$31:$AI$500,0)),\"\"),\"\")","v":""},null,106,{"$f":"IFERROR(IF(INDEX(Veri!$AK$31:$AK$500,MATCH(V158,Veri!$AS$31:$AS$500,0))<>\"\",INDEX(Veri!$AK$31:$AK$500,MATCH(V158,Veri!$AS$31:$AS$500,0)),\"\"),\"\")","v":""},{"$f":"IFERROR(IF(INDEX(Veri!$AQ$31:$AQ$500,MATCH(V158,Veri!$AS$31:$AS$500,0))<>\"\",INDEX(Veri!$AQ$31:$AQ$500,MATCH(V158,Veri!$AS$31:$AS$500,0)),\"\"),\"\")","v":""},{"$f":"IFERROR(IF(INDEX(Veri!$AM$31:$AM$500,MATCH(V158,Veri!$AS$31:$AS$500,0))<>\"\",INDEX(Veri!$AM$31:$AM$500,MATCH(V158,Veri!$AS$31:$AS$500,0)),\"\"),\"\")","v":""},{"$f":"IFERROR(IF(INDEX(Veri!$AN$31:$AN$500,MATCH(V158,Veri!$AS$31:$AS$500,0))<>\"\",INDEX(Veri!$AN$31:$AN$500,MATCH(V158,Veri!$AS$31:$AS$500,0)),\"\"),\"\")","v":""},{"$f":"IFERROR(IF(INDEX(Veri!$AO$31:$AO$500,MATCH(V158,Veri!$AS$31:$AS$500,0))<>\"\",INDEX(Veri!$AO$31:$AO$500,MATCH(V158,Veri!$AS$31:$AS$500,0)),\"\"),\"\")","v":""}]
[null,null,null,null,null,null,null,null,null,null,null,null,null,null,107,{"$f":"IFERROR(IF(INDEX(Veri!$AA$31:$AA$500,MATCH(O116,Veri!$AI$31:$AI$500,0))<>\"\",INDEX(Veri!$AA$31:$AA$500,MATCH(O116,Veri!$AI$31:$AI$500,0)),\"\"),\"\")","v":""},{"$f":"IFERROR(IF(INDEX(Veri!$AG$31:$AG$500,MATCH(O116,Veri!$AI$31:$AI$500,0))<>\"\",INDEX(Veri!$AG$31:$AG$500,MATCH(O116,Veri!$AI$31:$AI$500,0)),\"\"),\"\")","v":""},{"$f":"IFERROR(IF(INDEX(Veri!$AC$31:$AC$500,MATCH(O116,Veri!$AI$31:$AI$500,0))<>\"\",INDEX(Veri!$AC$31:$AC$500,MATCH(O116,Veri!$AI$31:$AI$500,0)),\"\"),\"\")","v":""},{"$f":"IFERROR(IF(INDEX(Veri!$AD$31:$AD$500,MATCH(O116,Veri!$AI$31:$AI$500,0))<>\"\",INDEX(Veri!$AD$31:$AD$500,MATCH(O116,Veri!$AI$31:$AI$500,0)),\"\"),\"\")","v":""},{"$f":"IFERROR(IF(INDEX(Veri!$AE$31:$AE$500,MATCH(O116,Veri!$AI$31:$AI$500,0))<>\"\",INDEX(Veri!$AE$31:$AE$500,MATCH(O116,Veri!$AI$31:$AI$500,0)),\"\"),\"\")","v":""},null,107,{"$f":"IFERROR(IF(INDEX(Veri!$AK$31:$AK$500,MATCH(V159,Veri!$AS$31:$AS$500,0))<>\"\",INDEX(Veri!$AK$31:$AK$500,MATCH(V159,Veri!$AS$31:$AS$500,0)),\"\"),\"\")","v":""},{"$f":"IFERROR(IF(INDEX(Veri!$AQ$31:$AQ$500,MATCH(V159,Veri!$AS$31:$AS$500,0))<>\"\",INDEX(Veri!$AQ$31:$AQ$500,MATCH(V159,Veri!$AS$31:$AS$500,0)),\"\"),\"\")","v":""},{"$f":"IFERROR(IF(INDEX(Veri!$AM$31:$AM$500,MATCH(V159,Veri!$AS$31:$AS$500,0))<>\"\",INDEX(Veri!$AM$31:$AM$500,MATCH(V159,Veri!$AS$31:$AS$500,0)),\"\"),\"\")","v":""},{"$f":"IFERROR(IF(INDEX(Veri!$AN$31:$AN$500,MATCH(V159,Veri!$AS$31:$AS$500,0))<>\"\",INDEX(Veri!$AN$31:$AN$500,MATCH(V159,Veri!$AS$31:$AS$500,0)),\"\"),\"\")","v":""},{"$f":"IFERROR(IF(INDEX(Veri!$AO$31:$AO$500,MATCH(V159,Veri!$AS$31:$AS$500,0))<>\"\",INDEX(Veri!$AO$31:$AO$500,MATCH(V159,Veri!$AS$31:$AS$500,0)),\"\"),\"\")","v":""}]
[null,null,null,null,null,null,null,null,null,null,null,null,null,null,108,{"$f":"IFERROR(IF(INDEX(Veri!$AA$31:$AA$500,MATCH(O117,Veri!$AI$31:$AI$500,0))<>\"\",INDEX(Veri!$AA$31:$AA$500,MATCH(O117,Veri!$AI$31:$AI$500,0)),\"\"),\"\")","v":""},{"$f":"IFERROR(IF(INDEX(Veri!$AG$31:$AG$500,MATCH(O117,Veri!$AI$31:$AI$500,0))<>\"\",INDEX(Veri!$AG$31:$AG$500,MATCH(O117,Veri!$AI$31:$AI$500,0)),\"\"),\"\")","v":""},{"$f":"IFERROR(IF(INDEX(Veri!$AC$31:$AC$500,MATCH(O117,Veri!$AI$31:$AI$500,0))<>\"\",INDEX(Veri!$AC$31:$AC$500,MATCH(O117,Veri!$AI$31:$AI$500,0)),\"\"),\"\")","v":""},{"$f":"IFERROR(IF(INDEX(Veri!$AD$31:$AD$500,MATCH(O117,Veri!$AI$31:$AI$500,0))<>\"\",INDEX(Veri!$AD$31:$AD$500,MATCH(O117,Veri!$AI$31:$AI$500,0)),\"\"),\"\")","v":""},{"$f":"IFERROR(IF(INDEX(Veri!$AE$31:$AE$500,MATCH(O117,Veri!$AI$31:$AI$500,0))<>\"\",INDEX(Veri!$AE$31:$AE$500,MATCH(O117,Veri!$AI$31:$AI$500,0)),\"\"),\"\")","v":""},null,108,{"$f":"IFERROR(IF(INDEX(Veri!$AK$31:$AK$500,MATCH(V160,Veri!$AS$31:$AS$500,0))<>\"\",INDEX(Veri!$AK$31:$AK$500,MATCH(V160,Veri!$AS$31:$AS$500,0)),\"\"),\"\")","v":""},{"$f":"IFERROR(IF(INDEX(Veri!$AQ$31:$AQ$500,MATCH(V160,Veri!$AS$31:$AS$500,0))<>\"\",INDEX(Veri!$AQ$31:$AQ$500,MATCH(V160,Veri!$AS$31:$AS$500,0)),\"\"),\"\")","v":""},{"$f":"IFERROR(IF(INDEX(Veri!$AM$31:$AM$500,MATCH(V160,Veri!$AS$31:$AS$500,0))<>\"\",INDEX(Veri!$AM$31:$AM$500,MATCH(V160,Veri!$AS$31:$AS$500,0)),\"\"),\"\")","v":""},{"$f":"IFERROR(IF(INDEX(Veri!$AN$31:$AN$500,MATCH(V160,Veri!$AS$31:$AS$500,0))<>\"\",INDEX(Veri!$AN$31:$AN$500,MATCH(V160,Veri!$AS$31:$AS$500,0)),\"\"),\"\")","v":""},{"$f":"IFERROR(IF(INDEX(Veri!$AO$31:$AO$500,MATCH(V160,Veri!$AS$31:$AS$500,0))<>\"\",INDEX(Veri!$AO$31:$AO$500,MATCH(V160,Veri!$AS$31:$AS$500,0)),\"\"),\"\")","v":""}]
[null,null,null,null,null,null,null,null,null,null,null,null,null,null,109,{"$f":"IFERROR(IF(INDEX(Veri!$AA$31:$AA$500,MATCH(O118,Veri!$AI$31:$AI$500,0))<>\"\",INDEX(Veri!$AA$31:$AA$500,MATCH(O118,Veri!$AI$31:$AI$500,0)),\"\"),\"\")","v":""},{"$f":"IFERROR(IF(INDEX(Veri!$AG$31:$AG$500,MATCH(O118,Veri!$AI$31:$AI$500,0))<>\"\",INDEX(Veri!$AG$31:$AG$500,MATCH(O118,Veri!$AI$31:$AI$500,0)),\"\"),\"\")","v":""},{"$f":"IFERROR(IF(INDEX(Veri!$AC$31:$AC$500,MATCH(O118,Veri!$AI$31:$AI$500,0))<>\"\",INDEX(Veri!$AC$31:$AC$500,MATCH(O118,Veri!$AI$31:$AI$500,0)),\"\"),\"\")","v":""},{"$f":"IFERROR(IF(INDEX(Veri!$AD$31:$AD$500,MATCH(O118,Veri!$AI$31:$AI$500,0))<>\"\",INDEX(Veri!$AD$31:$AD$500,MATCH(O118,Veri!$AI$31:$AI$500,0)),\"\"),\"\")","v":""},{"$f":"IFERROR(IF(INDEX(Veri!$AE$31:$AE$500,MATCH(O118,Veri!$AI$31:$AI$500,0))<>\"\",INDEX(Veri!$AE$31:$AE$500,MATCH(O118,Veri!$AI$31:$AI$500,0)),\"\"),\"\")","v":""},null,109,{"$f":"IFERROR(IF(INDEX(Veri!$AK$31:$AK$500,MATCH(V161,Veri!$AS$31:$AS$500,0))<>\"\",INDEX(Veri!$AK$31:$AK$500,MATCH(V161,Veri!$AS$31:$AS$500,0)),\"\"),\"\")","v":""},{"$f":"IFERROR(IF(INDEX(Veri!$AQ$31:$AQ$500,MATCH(V161,Veri!$AS$31:$AS$500,0))<>\"\",INDEX(Veri!$AQ$31:$AQ$500,MATCH(V161,Veri!$AS$31:$AS$500,0)),\"\"),\"\")","v":""},{"$f":"IFERROR(IF(INDEX(Veri!$AM$31:$AM$500,MATCH(V161,Veri!$AS$31:$AS$500,0))<>\"\",INDEX(Veri!$AM$31:$AM$500,MATCH(V161,Veri!$AS$31:$AS$500,0)),\"\"),\"\")","v":""},{"$f":"IFERROR(IF(INDEX(Veri!$AN$31:$AN$500,MATCH(V161,Veri!$AS$31:$AS$500,0))<>\"\",INDEX(Veri!$AN$31:$AN$500,MATCH(V161,Veri!$AS$31:$AS$500,0)),\"\"),\"\")","v":""},{"$f":"IFERROR(IF(INDEX(Veri!$AO$31:$AO$500,MATCH(V161,Veri!$AS$31:$AS$500,0))<>\"\",INDEX(Veri!$AO$31:$AO$500,MATCH(V161,Veri!$AS$31:$AS$500,0)),\"\"),\"\")","v":""}]
[null,null,null,null,null,null,null,null,null,null,null,null,null,null,110,{"$f":"IFERROR(IF(INDEX(Veri!$AA$31:$AA$500,MATCH(O119,Veri!$AI$31:$AI$500,0))<>\"\",INDEX(Veri!$AA$31:$AA$500,MATCH(O119,Veri!$AI$31:$AI$500,0)),\"\"),\"\")","v":""},{"$f":"IFERROR(IF(INDEX(Veri!$AG$31:$AG$500,MATCH(O119,Veri!$AI$31:$AI$500,0))<>\"\",INDEX(Veri!$AG$31:$AG$500,MATCH(O119,Veri!$AI$31:$AI$500,0)),\"\"),\"\")","v":""},{"$f":"IFERROR(IF(INDEX(Veri!$AC$31:$AC$500,MATCH(O119,Veri!$AI$31:$AI$500,0))<>\"\",INDEX(Veri!$AC$31:$AC$500,MATCH(O119,Veri!$AI$31:$AI$500,0)),\"\"),\"\")","v":""},{"$f":"IFERROR(IF(INDEX(Veri!$AD$31:$AD$500,MATCH(O119,Veri!$AI$31:$AI$500,0))<>\"\",INDEX(Veri!$AD$31:$AD$500,MATCH(O119,Veri!$AI$31:$AI$500,0)),\"\"),\"\")","v":""},{"$f":"IFERROR(IF(INDEX(Veri!$AE$31:$AE$500,MATCH(O119,Veri!$AI$31:$AI$500,0))<>\"\",INDEX(Veri!$AE$31:$AE$500,MATCH(O119,Veri!$AI$31:$AI$500,0)),\"\"),\"\")","v":""},null,110,{"$f":"IFERROR(IF(INDEX(Veri!$AK$31:$AK$500,MATCH(V162,Veri!$AS$31:$AS$500,0))<>\"\",INDEX(Veri!$AK$31:$AK$500,MATCH(V162,Veri!$AS$31:$AS$500,0)),\"\"),\"\")","v":""},{"$f":"IFERROR(IF(INDEX(Veri!$AQ$31:$AQ$500,MATCH(V162,Veri!$AS$31:$AS$500,0))<>\"\",INDEX(Veri!$AQ$31:$AQ$500,MATCH(V162,Veri!$AS$31:$AS$500,0)),\"\"),\"\")","v":""},{"$f":"IFERROR(IF(INDEX(Veri!$AM$31:$AM$500,MATCH(V162,Veri!$AS$31:$AS$500,0))<>\"\",INDEX(Veri!$AM$31:$AM$500,MATCH(V162,Veri!$AS$31:$AS$500,0)),\"\"),\"\")","v":""},{"$f":"IFERROR(IF(INDEX(Veri!$AN$31:$AN$500,MATCH(V162,Veri!$AS$31:$AS$500,0))<>\"\",INDEX(Veri!$AN$31:$AN$500,MATCH(V162,Veri!$AS$31:$AS$500,0)),\"\"),\"\")","v":""},{"$f":"IFERROR(IF(INDEX(Veri!$AO$31:$AO$500,MATCH(V162,Veri!$AS$31:$AS$500,0))<>\"\",INDEX(Veri!$AO$31:$AO$500,MATCH(V162,Veri!$AS$31:$AS$500,0)),\"\"),\"\")","v":""}]
[null,null,null,null,null,null,null,null,null,null,null,null,null,null,111,{"$f":"IFERROR(IF(INDEX(Veri!$AA$31:$AA$500,MATCH(O120,Veri!$AI$31:$AI$500,0))<>\"\",INDEX(Veri!$AA$31:$AA$500,MATCH(O120,Veri!$AI$31:$AI$500,0)),\"\"),\"\")","v":""},{"$f":"IFERROR(IF(INDEX(Veri!$AG$31:$AG$500,MATCH(O120,Veri!$AI$31:$AI$500,0))<>\"\",INDEX(Veri!$AG$31:$AG$500,MATCH(O120,Veri!$AI$31:$AI$500,0)),\"\"),\"\")","v":""},{"$f":"IFERROR(IF(INDEX(Veri!$AC$31:$AC$500,MATCH(O120,Veri!$AI$31:$AI$500,0))<>\"\",INDEX(Veri!$AC$31:$AC$500,MATCH(O120,Veri!$AI$31:$AI$500,0)),\"\"),\"\")","v":""},{"$f":"IFERROR(IF(INDEX(Veri!$AD$31:$AD$500,MATCH(O120,Veri!$AI$31:$AI$500,0))<>\"\",INDEX(Veri!$AD$31:$AD$500,MATCH(O120,Veri!$AI$31:$AI$500,0)),\"\"),\"\")","v":""},{"$f":"IFERROR(IF(INDEX(Veri!$AE$31:$AE$500,MATCH(O120,Veri!$AI$31:$AI$500,0))<>\"\",INDEX(Veri!$AE$31:$AE$500,MATCH(O120,Veri!$AI$31:$AI$500,0)),\"\"),\"\")","v":""},null,111,{"$f":"IFERROR(IF(INDEX(Veri!$AK$31:$AK$500,MATCH(V163,Veri!$AS$31:$AS$500,0))<>\"\",INDEX(Veri!$AK$31:$AK$500,MATCH(V163,Veri!$AS$31:$AS$500,0)),\"\"),\"\")","v":""},{"$f":"IFERROR(IF(INDEX(Veri!$AQ$31:$AQ$500,MATCH(V163,Veri!$AS$31:$AS$500,0))<>\"\",INDEX(Veri!$AQ$31:$AQ$500,MATCH(V163,Veri!$AS$31:$AS$500,0)),\"\"),\"\")","v":""},{"$f":"IFERROR(IF(INDEX(Veri!$AM$31:$AM$500,MATCH(V163,Veri!$AS$31:$AS$500,0))<>\"\",INDEX(Veri!$AM$31:$AM$500,MATCH(V163,Veri!$AS$31:$AS$500,0)),\"\"),\"\")","v":""},{"$f":"IFERROR(IF(INDEX(Veri!$AN$31:$AN$500,MATCH(V163,Veri!$AS$31:$AS$500,0))<>\"\",INDEX(Veri!$AN$31:$AN$500,MATCH(V163,Veri!$AS$31:$AS$500,0)),\"\"),\"\")","v":""},{"$f":"IFERROR(IF(INDEX(Veri!$AO$31:$AO$500,MATCH(V163,Veri!$AS$31:$AS$500,0))<>\"\",INDEX(Veri!$AO$31:$AO$500,MATCH(V163,Veri!$AS$31:$AS$500,0)),\"\"),\"\")","v":""}]
[null,null,null,null,null,null,null,null,null,null,null,null,null,null,112,{"$f":"IFERROR(IF(INDEX(Veri!$AA$31:$AA$500,MATCH(O121,Veri!$AI$31:$AI$500,0))<>\"\",INDEX(Veri!$AA$31:$AA$500,MATCH(O121,Veri!$AI$31:$AI$500,0)),\"\"),\"\")","v":""},{"$f":"IFERROR(IF(INDEX(Veri!$AG$31:$AG$500,MATCH(O121,Veri!$AI$31:$AI$500,0))<>\"\",INDEX(Veri!$AG$31:$AG$500,MATCH(O121,Veri!$AI$31:$AI$500,0)),\"\"),\"\")","v":""},{"$f":"IFERROR(IF(INDEX(Veri!$AC$31:$AC$500,MATCH(O121,Veri!$AI$31:$AI$500,0))<>\"\",INDEX(Veri!$AC$31:$AC$500,MATCH(O121,Veri!$AI$31:$AI$500,0)),\"\"),\"\")","v":""},{"$f":"IFERROR(IF(INDEX(Veri!$AD$31:$AD$500,MATCH(O121,Veri!$AI$31:$AI$500,0))<>\"\",INDEX(Veri!$AD$31:$AD$500,MATCH(O121,Veri!$AI$31:$AI$500,0)),\"\"),\"\")","v":""},{"$f":"IFERROR(IF(INDEX(Veri!$AE$31:$AE$500,MATCH(O121,Veri!$AI$31:$AI$500,0))<>\"\",INDEX(Veri!$AE$31:$AE$500,MATCH(O121,Veri!$AI$31:$AI$500,0)),\"\"),\"\")","v":""},null,112,{"$f":"IFERROR(IF(INDEX(Veri!$AK$31:$AK$500,MATCH(V164,Veri!$AS$31:$AS$500,0))<>\"\",INDEX(Veri!$AK$31:$AK$500,MATCH(V164,Veri!$AS$31:$AS$500,0)),\"\"),\"\")","v":""},{"$f":"IFERROR(IF(INDEX(Veri!$AQ$31:$AQ$500,MATCH(V164,Veri!$AS$31:$AS$500,0))<>\"\",INDEX(Veri!$AQ$31:$AQ$500,MATCH(V164,Veri!$AS$31:$AS$500,0)),\"\"),\"\")","v":""},{"$f":"IFERROR(IF(INDEX(Veri!$AM$31:$AM$500,MATCH(V164,Veri!$AS$31:$AS$500,0))<>\"\",INDEX(Veri!$AM$31:$AM$500,MATCH(V164,Veri!$AS$31:$AS$500,0)),\"\"),\"\")","v":""},{"$f":"IFERROR(IF(INDEX(Veri!$AN$31:$AN$500,MATCH(V164,Veri!$AS$31:$AS$500,0))<>\"\",INDEX(Veri!$AN$31:$AN$500,MATCH(V164,Veri!$AS$31:$AS$500,0)),\"\"),\"\")","v":""},{"$f":"IFERROR(IF(INDEX(Veri!$AO$31:$AO$500,MATCH(V164,Veri!$AS$31:$AS$500,0))<>\"\",INDEX(Veri!$AO$31:$AO$500,MATCH(V164,Veri!$AS$31:$AS$500,0)),\"\"),\"\")","v":""}]
[null,null,null,null,null,null,null,null,null,null,null,null,null,null,113,{"$f":"IFERROR(IF(INDEX(Veri!$AA$31:$AA$500,MATCH(O122,Veri!$AI$31:$AI$500,0))<>\"\",INDEX(Veri!$AA$31:$AA$500,MATCH(O122,Veri!$AI$31:$AI$500,0)),\"\"),\"\")","v":""},{"$f":"IFERROR(IF(INDEX(Veri!$AG$31:$AG$500,MATCH(O122,Veri!$AI$31:$AI$500,0))<>\"\",INDEX(Veri!$AG$31:$AG$500,MATCH(O122,Veri!$AI$31:$AI$500,0)),\"\"),\"\")","v":""},{"$f":"IFERROR(IF(INDEX(Veri!$AC$31:$AC$500,MATCH(O122,Veri!$AI$31:$AI$500,0))<>\"\",INDEX(Veri!$AC$31:$AC$500,MATCH(O122,Veri!$AI$31:$AI$500,0)),\"\"),\"\")","v":""},{"$f":"IFERROR(IF(INDEX(Veri!$AD$31:$AD$500,MATCH(O122,Veri!$AI$31:$AI$500,0))<>\"\",INDEX(Veri!$AD$31:$AD$500,MATCH(O122,Veri!$AI$31:$AI$500,0)),\"\"),\"\")","v":""},{"$f":"IFERROR(IF(INDEX(Veri!$AE$31:$AE$500,MATCH(O122,Veri!$AI$31:$AI$500,0))<>\"\",INDEX(Veri!$AE$31:$AE$500,MATCH(O122,Veri!$AI$31:$AI$500,0)),\"\"),\"\")","v":""},null,113,{"$f":"IFERROR(IF(INDEX(Veri!$AK$31:$AK$500,MATCH(V165,Veri!$AS$31:$AS$500,0))<>\"\",INDEX(Veri!$AK$31:$AK$500,MATCH(V165,Veri!$AS$31:$AS$500,0)),\"\"),\"\")","v":""},{"$f":"IFERROR(IF(INDEX(Veri!$AQ$31:$AQ$500,MATCH(V165,Veri!$AS$31:$AS$500,0))<>\"\",INDEX(Veri!$AQ$31:$AQ$500,MATCH(V165,Veri!$AS$31:$AS$500,0)),\"\"),\"\")","v":""},{"$f":"IFERROR(IF(INDEX(Veri!$AM$31:$AM$500,MATCH(V165,Veri!$AS$31:$AS$500,0))<>\"\",INDEX(Veri!$AM$31:$AM$500,MATCH(V165,Veri!$AS$31:$AS$500,0)),\"\"),\"\")","v":""},{"$f":"IFERROR(IF(INDEX(Veri!$AN$31:$AN$500,MATCH(V165,Veri!$AS$31:$AS$500,0))<>\"\",INDEX(Veri!$AN$31:$AN$500,MATCH(V165,Veri!$AS$31:$AS$500,0)),\"\"),\"\")","v":""},{"$f":"IFERROR(IF(INDEX(Veri!$AO$31:$AO$500,MATCH(V165,Veri!$AS$31:$AS$500,0))<>\"\",INDEX(Veri!$AO$31:$AO$500,MATCH(V165,Veri!$AS$31:$AS$500,0)),\"\"),\"\")","v":""}]
[null,null,null,null,null,null,null,null,null,null,null,null,null,null,114,{"$f":"IFERROR(IF(INDEX(Veri!$AA$31:$AA$500,MATCH(O123,Veri!$AI$31:$AI$500,0))<>\"\",INDEX(Veri!$AA$31:$AA$500,MATCH(O123,Veri!$AI$31:$AI$500,0)),\"\"),\"\")","v":""},{"$f":"IFERROR(IF(INDEX(Veri!$AG$31:$AG$500,MATCH(O123,Veri!$AI$31:$AI$500,0))<>\"\",INDEX(Veri!$AG$31:$AG$500,MATCH(O123,Veri!$AI$31:$AI$500,0)),\"\"),\"\")","v":""},{"$f":"IFERROR(IF(INDEX(Veri!$AC$31:$AC$500,MATCH(O123,Veri!$AI$31:$AI$500,0))<>\"\",INDEX(Veri!$AC$31:$AC$500,MATCH(O123,Veri!$AI$31:$AI$500,0)),\"\"),\"\")","v":""},{"$f":"IFERROR(IF(INDEX(Veri!$AD$31:$AD$500,MATCH(O123,Veri!$AI$31:$AI$500,0))<>\"\",INDEX(Veri!$AD$31:$AD$500,MATCH(O123,Veri!$AI$31:$AI$500,0)),\"\"),\"\")","v":""},{"$f":"IFERROR(IF(INDEX(Veri!$AE$31:$AE$500,MATCH(O123,Veri!$AI$31:$AI$500,0))<>\"\",INDEX(Veri!$AE$31:$AE$500,MATCH(O123,Veri!$AI$31:$AI$500,0)),\"\"),\"\")","v":""},null,114,{"$f":"IFERROR(IF(INDEX(Veri!$AK$31:$AK$500,MATCH(V166,Veri!$AS$31:$AS$500,0))<>\"\",INDEX(Veri!$AK$31:$AK$500,MATCH(V166,Veri!$AS$31:$AS$500,0)),\"\"),\"\")","v":""},{"$f":"IFERROR(IF(INDEX(Veri!$AQ$31:$AQ$500,MATCH(V166,Veri!$AS$31:$AS$500,0))<>\"\",INDEX(Veri!$AQ$31:$AQ$500,MATCH(V166,Veri!$AS$31:$AS$500,0)),\"\"),\"\")","v":""},{"$f":"IFERROR(IF(INDEX(Veri!$AM$31:$AM$500,MATCH(V166,Veri!$AS$31:$AS$500,0))<>\"\",INDEX(Veri!$AM$31:$AM$500,MATCH(V166,Veri!$AS$31:$AS$500,0)),\"\"),\"\")","v":""},{"$f":"IFERROR(IF(INDEX(Veri!$AN$31:$AN$500,MATCH(V166,Veri!$AS$31:$AS$500,0))<>\"\",INDEX(Veri!$AN$31:$AN$500,MATCH(V166,Veri!$AS$31:$AS$500,0)),\"\"),\"\")","v":""},{"$f":"IFERROR(IF(INDEX(Veri!$AO$31:$AO$500,MATCH(V166,Veri!$AS$31:$AS$500,0))<>\"\",INDEX(Veri!$AO$31:$AO$500,MATCH(V166,Veri!$AS$31:$AS$500,0)),\"\"),\"\")","v":""}]
[null,null,null,null,null,null,null,null,null,null,null,null,null,null,115,{"$f":"IFERROR(IF(INDEX(Veri!$AA$31:$AA$500,MATCH(O124,Veri!$AI$31:$AI$500,0))<>\"\",INDEX(Veri!$AA$31:$AA$500,MATCH(O124,Veri!$AI$31:$AI$500,0)),\"\"),\"\")","v":""},{"$f":"IFERROR(IF(INDEX(Veri!$AG$31:$AG$500,MATCH(O124,Veri!$AI$31:$AI$500,0))<>\"\",INDEX(Veri!$AG$31:$AG$500,MATCH(O124,Veri!$AI$31:$AI$500,0)),\"\"),\"\")","v":""},{"$f":"IFERROR(IF(INDEX(Veri!$AC$31:$AC$500,MATCH(O124,Veri!$AI$31:$AI$500,0))<>\"\",INDEX(Veri!$AC$31:$AC$500,MATCH(O124,Veri!$AI$31:$AI$500,0)),\"\"),\"\")","v":""},{"$f":"IFERROR(IF(INDEX(Veri!$AD$31:$AD$500,MATCH(O124,Veri!$AI$31:$AI$500,0))<>\"\",INDEX(Veri!$AD$31:$AD$500,MATCH(O124,Veri!$AI$31:$AI$500,0)),\"\"),\"\")","v":""},{"$f":"IFERROR(IF(INDEX(Veri!$AE$31:$AE$500,MATCH(O124,Veri!$AI$31:$AI$500,0))<>\"\",INDEX(Veri!$AE$31:$AE$500,MATCH(O124,Veri!$AI$31:$AI$500,0)),\"\"),\"\")","v":""},null,115,{"$f":"IFERROR(IF(INDEX(Veri!$AK$31:$AK$500,MATCH(V167,Veri!$AS$31:$AS$500,0))<>\"\",INDEX(Veri!$AK$31:$AK$500,MATCH(V167,Veri!$AS$31:$AS$500,0)),\"\"),\"\")","v":""},{"$f":"IFERROR(IF(INDEX(Veri!$AQ$31:$AQ$500,MATCH(V167,Veri!$AS$31:$AS$500,0))<>\"\",INDEX(Veri!$AQ$31:$AQ$500,MATCH(V167,Veri!$AS$31:$AS$500,0)),\"\"),\"\")","v":""},{"$f":"IFERROR(IF(INDEX(Veri!$AM$31:$AM$500,MATCH(V167,Veri!$AS$31:$AS$500,0))<>\"\",INDEX(Veri!$AM$31:$AM$500,MATCH(V167,Veri!$AS$31:$AS$500,0)),\"\"),\"\")","v":""},{"$f":"IFERROR(IF(INDEX(Veri!$AN$31:$AN$500,MATCH(V167,Veri!$AS$31:$AS$500,0))<>\"\",INDEX(Veri!$AN$31:$AN$500,MATCH(V167,Veri!$AS$31:$AS$500,0)),\"\"),\"\")","v":""},{"$f":"IFERROR(IF(INDEX(Veri!$AO$31:$AO$500,MATCH(V167,Veri!$AS$31:$AS$500,0))<>\"\",INDEX(Veri!$AO$31:$AO$500,MATCH(V167,Veri!$AS$31:$AS$500,0)),\"\"),\"\")","v":""}]
[null,null,null,null,null,null,null,null,null,null,null,null,null,null,116,{"$f":"IFERROR(IF(INDEX(Veri!$AA$31:$AA$500,MATCH(O125,Veri!$AI$31:$AI$500,0))<>\"\",INDEX(Veri!$AA$31:$AA$500,MATCH(O125,Veri!$AI$31:$AI$500,0)),\"\"),\"\")","v":""},{"$f":"IFERROR(IF(INDEX(Veri!$AG$31:$AG$500,MATCH(O125,Veri!$AI$31:$AI$500,0))<>\"\",INDEX(Veri!$AG$31:$AG$500,MATCH(O125,Veri!$AI$31:$AI$500,0)),\"\"),\"\")","v":""},{"$f":"IFERROR(IF(INDEX(Veri!$AC$31:$AC$500,MATCH(O125,Veri!$AI$31:$AI$500,0))<>\"\",INDEX(Veri!$AC$31:$AC$500,MATCH(O125,Veri!$AI$31:$AI$500,0)),\"\"),\"\")","v":""},{"$f":"IFERROR(IF(INDEX(Veri!$AD$31:$AD$500,MATCH(O125,Veri!$AI$31:$AI$500,0))<>\"\",INDEX(Veri!$AD$31:$AD$500,MATCH(O125,Veri!$AI$31:$AI$500,0)),\"\"),\"\")","v":""},{"$f":"IFERROR(IF(INDEX(Veri!$AE$31:$AE$500,MATCH(O125,Veri!$AI$31:$AI$500,0))<>\"\",INDEX(Veri!$AE$31:$AE$500,MATCH(O125,Veri!$AI$31:$AI$500,0)),\"\"),\"\")","v":""},null,116,{"$f":"IFERROR(IF(INDEX(Veri!$AK$31:$AK$500,MATCH(V168,Veri!$AS$31:$AS$500,0))<>\"\",INDEX(Veri!$AK$31:$AK$500,MATCH(V168,Veri!$AS$31:$AS$500,0)),\"\"),\"\")","v":""},{"$f":"IFERROR(IF(INDEX(Veri!$AQ$31:$AQ$500,MATCH(V168,Veri!$AS$31:$AS$500,0))<>\"\",INDEX(Veri!$AQ$31:$AQ$500,MATCH(V168,Veri!$AS$31:$AS$500,0)),\"\"),\"\")","v":""},{"$f":"IFERROR(IF(INDEX(Veri!$AM$31:$AM$500,MATCH(V168,Veri!$AS$31:$AS$500,0))<>\"\",INDEX(Veri!$AM$31:$AM$500,MATCH(V168,Veri!$AS$31:$AS$500,0)),\"\"),\"\")","v":""},{"$f":"IFERROR(IF(INDEX(Veri!$AN$31:$AN$500,MATCH(V168,Veri!$AS$31:$AS$500,0))<>\"\",INDEX(Veri!$AN$31:$AN$500,MATCH(V168,Veri!$AS$31:$AS$500,0)),\"\"),\"\")","v":""},{"$f":"IFERROR(IF(INDEX(Veri!$AO$31:$AO$500,MATCH(V168,Veri!$AS$31:$AS$500,0))<>\"\",INDEX(Veri!$AO$31:$AO$500,MATCH(V168,Veri!$AS$31:$AS$500,0)),\"\"),\"\")","v":""}]
[null,null,null,null,null,null,null,null,null,null,null,null,null,null,117,{"$f":"IFERROR(IF(INDEX(Veri!$AA$31:$AA$500,MATCH(O126,Veri!$AI$31:$AI$500,0))<>\"\",INDEX(Veri!$AA$31:$AA$500,MATCH(O126,Veri!$AI$31:$AI$500,0)),\"\"),\"\")","v":""},{"$f":"IFERROR(IF(INDEX(Veri!$AG$31:$AG$500,MATCH(O126,Veri!$AI$31:$AI$500,0))<>\"\",INDEX(Veri!$AG$31:$AG$500,MATCH(O126,Veri!$AI$31:$AI$500,0)),\"\"),\"\")","v":""},{"$f":"IFERROR(IF(INDEX(Veri!$AC$31:$AC$500,MATCH(O126,Veri!$AI$31:$AI$500,0))<>\"\",INDEX(Veri!$AC$31:$AC$500,MATCH(O126,Veri!$AI$31:$AI$500,0)),\"\"),\"\")","v":""},{"$f":"IFERROR(IF(INDEX(Veri!$AD$31:$AD$500,MATCH(O126,Veri!$AI$31:$AI$500,0))<>\"\",INDEX(Veri!$AD$31:$AD$500,MATCH(O126,Veri!$AI$31:$AI$500,0)),\"\"),\"\")","v":""},{"$f":"IFERROR(IF(INDEX(Veri!$AE$31:$AE$500,MATCH(O126,Veri!$AI$31:$AI$500,0))<>\"\",INDEX(Veri!$AE$31:$AE$500,MATCH(O126,Veri!$AI$31:$AI$500,0)),\"\"),\"\")","v":""},null,117,{"$f":"IFERROR(IF(INDEX(Veri!$AK$31:$AK$500,MATCH(V169,Veri!$AS$31:$AS$500,0))<>\"\",INDEX(Veri!$AK$31:$AK$500,MATCH(V169,Veri!$AS$31:$AS$500,0)),\"\"),\"\")","v":""},{"$f":"IFERROR(IF(INDEX(Veri!$AQ$31:$AQ$500,MATCH(V169,Veri!$AS$31:$AS$500,0))<>\"\",INDEX(Veri!$AQ$31:$AQ$500,MATCH(V169,Veri!$AS$31:$AS$500,0)),\"\"),\"\")","v":""},{"$f":"IFERROR(IF(INDEX(Veri!$AM$31:$AM$500,MATCH(V169,Veri!$AS$31:$AS$500,0))<>\"\",INDEX(Veri!$AM$31:$AM$500,MATCH(V169,Veri!$AS$31:$AS$500,0)),\"\"),\"\")","v":""},{"$f":"IFERROR(IF(INDEX(Veri!$AN$31:$AN$500,MATCH(V169,Veri!$AS$31:$AS$500,0))<>\"\",INDEX(Veri!$AN$31:$AN$500,MATCH(V169,Veri!$AS$31:$AS$500,0)),\"\"),\"\")","v":""},{"$f":"IFERROR(IF(INDEX(Veri!$AO$31:$AO$500,MATCH(V169,Veri!$AS$31:$AS$500,0))<>\"\",INDEX(Veri!$AO$31:$AO$500,MATCH(V169,Veri!$AS$31:$AS$500,0)),\"\"),\"\")","v":""}]
[null,null,null,null,null,null,null,null,null,null,null,null,null,null,118,{"$f":"IFERROR(IF(INDEX(Veri!$AA$31:$AA$500,MATCH(O127,Veri!$AI$31:$AI$500,0))<>\"\",INDEX(Veri!$AA$31:$AA$500,MATCH(O127,Veri!$AI$31:$AI$500,0)),\"\"),\"\")","v":""},{"$f":"IFERROR(IF(INDEX(Veri!$AG$31:$AG$500,MATCH(O127,Veri!$AI$31:$AI$500,0))<>\"\",INDEX(Veri!$AG$31:$AG$500,MATCH(O127,Veri!$AI$31:$AI$500,0)),\"\"),\"\")","v":""},{"$f":"IFERROR(IF(INDEX(Veri!$AC$31:$AC$500,MATCH(O127,Veri!$AI$31:$AI$500,0))<>\"\",INDEX(Veri!$AC$31:$AC$500,MATCH(O127,Veri!$AI$31:$AI$500,0)),\"\"),\"\")","v":""},{"$f":"IFERROR(IF(INDEX(Veri!$AD$31:$AD$500,MATCH(O127,Veri!$AI$31:$AI$500,0))<>\"\",INDEX(Veri!$AD$31:$AD$500,MATCH(O127,Veri!$AI$31:$AI$500,0)),\"\"),\"\")","v":""},{"$f":"IFERROR(IF(INDEX(Veri!$AE$31:$AE$500,MATCH(O127,Veri!$AI$31:$AI$500,0))<>\"\",INDEX(Veri!$AE$31:$AE$500,MATCH(O127,Veri!$AI$31:$AI$500,0)),\"\"),\"\")","v":""},null,118,{"$f":"IFERROR(IF(INDEX(Veri!$AK$31:$AK$500,MATCH(V170,Veri!$AS$31:$AS$500,0))<>\"\",INDEX(Veri!$AK$31:$AK$500,MATCH(V170,Veri!$AS$31:$AS$500,0)),\"\"),\"\")","v":""},{"$f":"IFERROR(IF(INDEX(Veri!$AQ$31:$AQ$500,MATCH(V170,Veri!$AS$31:$AS$500,0))<>\"\",INDEX(Veri!$AQ$31:$AQ$500,MATCH(V170,Veri!$AS$31:$AS$500,0)),\"\"),\"\")","v":""},{"$f":"IFERROR(IF(INDEX(Veri!$AM$31:$AM$500,MATCH(V170,Veri!$AS$31:$AS$500,0))<>\"\",INDEX(Veri!$AM$31:$AM$500,MATCH(V170,Veri!$AS$31:$AS$500,0)),\"\"),\"\")","v":""},{"$f":"IFERROR(IF(INDEX(Veri!$AN$31:$AN$500,MATCH(V170,Veri!$AS$31:$AS$500,0))<>\"\",INDEX(Veri!$AN$31:$AN$500,MATCH(V170,Veri!$AS$31:$AS$500,0)),\"\"),\"\")","v":""},{"$f":"IFERROR(IF(INDEX(Veri!$AO$31:$AO$500,MATCH(V170,Veri!$AS$31:$AS$500,0))<>\"\",INDEX(Veri!$AO$31:$AO$500,MATCH(V170,Veri!$AS$31:$AS$500,0)),\"\"),\"\")","v":""}]
[null,null,null,null,null,null,null,null,null,null,null,null,null,null,119,{"$f":"IFERROR(IF(INDEX(Veri!$AA$31:$AA$500,MATCH(O128,Veri!$AI$31:$AI$500,0))<>\"\",INDEX(Veri!$AA$31:$AA$500,MATCH(O128,Veri!$AI$31:$AI$500,0)),\"\"),\"\")","v":""},{"$f":"IFERROR(IF(INDEX(Veri!$AG$31:$AG$500,MATCH(O128,Veri!$AI$31:$AI$500,0))<>\"\",INDEX(Veri!$AG$31:$AG$500,MATCH(O128,Veri!$AI$31:$AI$500,0)),\"\"),\"\")","v":""},{"$f":"IFERROR(IF(INDEX(Veri!$AC$31:$AC$500,MATCH(O128,Veri!$AI$31:$AI$500,0))<>\"\",INDEX(Veri!$AC$31:$AC$500,MATCH(O128,Veri!$AI$31:$AI$500,0)),\"\"),\"\")","v":""},{"$f":"IFERROR(IF(INDEX(Veri!$AD$31:$AD$500,MATCH(O128,Veri!$AI$31:$AI$500,0))<>\"\",INDEX(Veri!$AD$31:$AD$500,MATCH(O128,Veri!$AI$31:$AI$500,0)),\"\"),\"\")","v":""},{"$f":"IFERROR(IF(INDEX(Veri!$AE$31:$AE$500,MATCH(O128,Veri!$AI$31:$AI$500,0))<>\"\",INDEX(Veri!$AE$31:$AE$500,MATCH(O128,Veri!$AI$31:$AI$500,0)),\"\"),\"\")","v":""},null,119,{"$f":"IFERROR(IF(INDEX(Veri!$AK$31:$AK$500,MATCH(V171,Veri!$AS$31:$AS$500,0))<>\"\",INDEX(Veri!$AK$31:$AK$500,MATCH(V171,Veri!$AS$31:$AS$500,0)),\"\"),\"\")","v":""},{"$f":"IFERROR(IF(INDEX(Veri!$AQ$31:$AQ$500,MATCH(V171,Veri!$AS$31:$AS$500,0))<>\"\",INDEX(Veri!$AQ$31:$AQ$500,MATCH(V171,Veri!$AS$31:$AS$500,0)),\"\"),\"\")","v":""},{"$f":"IFERROR(IF(INDEX(Veri!$AM$31:$AM$500,MATCH(V171,Veri!$AS$31:$AS$500,0))<>\"\",INDEX(Veri!$AM$31:$AM$500,MATCH(V171,Veri!$AS$31:$AS$500,0)),\"\"),\"\")","v":""},{"$f":"IFERROR(IF(INDEX(Veri!$AN$31:$AN$500,MATCH(V171,Veri!$AS$31:$AS$500,0))<>\"\",INDEX(Veri!$AN$31:$AN$500,MATCH(V171,Veri!$AS$31:$AS$500,0)),\"\"),\"\")","v":""},{"$f":"IFERROR(IF(INDEX(Veri!$AO$31:$AO$500,MATCH(V171,Veri!$AS$31:$AS$500,0))<>\"\",INDEX(Veri!$AO$31:$AO$500,MATCH(V171,Veri!$AS$31:$AS$500,0)),\"\"),\"\")","v":""}]
[null,null,null,null,null,null,null,null,null,null,null,null,null,null,120,{"$f":"IFERROR(IF(INDEX(Veri!$AA$31:$AA$500,MATCH(O129,Veri!$AI$31:$AI$500,0))<>\"\",INDEX(Veri!$AA$31:$AA$500,MATCH(O129,Veri!$AI$31:$AI$500,0)),\"\"),\"\")","v":""},{"$f":"IFERROR(IF(INDEX(Veri!$AG$31:$AG$500,MATCH(O129,Veri!$AI$31:$AI$500,0))<>\"\",INDEX(Veri!$AG$31:$AG$500,MATCH(O129,Veri!$AI$31:$AI$500,0)),\"\"),\"\")","v":""},{"$f":"IFERROR(IF(INDEX(Veri!$AC$31:$AC$500,MATCH(O129,Veri!$AI$31:$AI$500,0))<>\"\",INDEX(Veri!$AC$31:$AC$500,MATCH(O129,Veri!$AI$31:$AI$500,0)),\"\"),\"\")","v":""},{"$f":"IFERROR(IF(INDEX(Veri!$AD$31:$AD$500,MATCH(O129,Veri!$AI$31:$AI$500,0))<>\"\",INDEX(Veri!$AD$31:$AD$500,MATCH(O129,Veri!$AI$31:$AI$500,0)),\"\"),\"\")","v":""},{"$f":"IFERROR(IF(INDEX(Veri!$AE$31:$AE$500,MATCH(O129,Veri!$AI$31:$AI$500,0))<>\"\",INDEX(Veri!$AE$31:$AE$500,MATCH(O129,Veri!$AI$31:$AI$500,0)),\"\"),\"\")","v":""},null,120,{"$f":"IFERROR(IF(INDEX(Veri!$AK$31:$AK$500,MATCH(V172,Veri!$AS$31:$AS$500,0))<>\"\",INDEX(Veri!$AK$31:$AK$500,MATCH(V172,Veri!$AS$31:$AS$500,0)),\"\"),\"\")","v":""},{"$f":"IFERROR(IF(INDEX(Veri!$AQ$31:$AQ$500,MATCH(V172,Veri!$AS$31:$AS$500,0))<>\"\",INDEX(Veri!$AQ$31:$AQ$500,MATCH(V172,Veri!$AS$31:$AS$500,0)),\"\"),\"\")","v":""},{"$f":"IFERROR(IF(INDEX(Veri!$AM$31:$AM$500,MATCH(V172,Veri!$AS$31:$AS$500,0))<>\"\",INDEX(Veri!$AM$31:$AM$500,MATCH(V172,Veri!$AS$31:$AS$500,0)),\"\"),\"\")","v":""},{"$f":"IFERROR(IF(INDEX(Veri!$AN$31:$AN$500,MATCH(V172,Veri!$AS$31:$AS$500,0))<>\"\",INDEX(Veri!$AN$31:$AN$500,MATCH(V172,Veri!$AS$31:$AS$500,0)),\"\"),\"\")","v":""},{"$f":"IFERROR(IF(INDEX(Veri!$AO$31:$AO$500,MATCH(V172,Veri!$AS$31:$AS$500,0))<>\"\",INDEX(Veri!$AO$31:$AO$500,MATCH(V172,Veri!$AS$31:$AS$500,0)),\"\"),\"\")","v":""}]
[null,null,null,null,null,null,null,null,null,null,null,null,null,null,121,{"$f":"IFERROR(IF(INDEX(Veri!$AA$31:$AA$500,MATCH(O130,Veri!$AI$31:$AI$500,0))<>\"\",INDEX(Veri!$AA$31:$AA$500,MATCH(O130,Veri!$AI$31:$AI$500,0)),\"\"),\"\")","v":""},{"$f":"IFERROR(IF(INDEX(Veri!$AG$31:$AG$500,MATCH(O130,Veri!$AI$31:$AI$500,0))<>\"\",INDEX(Veri!$AG$31:$AG$500,MATCH(O130,Veri!$AI$31:$AI$500,0)),\"\"),\"\")","v":""},{"$f":"IFERROR(IF(INDEX(Veri!$AC$31:$AC$500,MATCH(O130,Veri!$AI$31:$AI$500,0))<>\"\",INDEX(Veri!$AC$31:$AC$500,MATCH(O130,Veri!$AI$31:$AI$500,0)),\"\"),\"\")","v":""},{"$f":"IFERROR(IF(INDEX(Veri!$AD$31:$AD$500,MATCH(O130,Veri!$AI$31:$AI$500,0))<>\"\",INDEX(Veri!$AD$31:$AD$500,MATCH(O130,Veri!$AI$31:$AI$500,0)),\"\"),\"\")","v":""},{"$f":"IFERROR(IF(INDEX(Veri!$AE$31:$AE$500,MATCH(O130,Veri!$AI$31:$AI$500,0))<>\"\",INDEX(Veri!$AE$31:$AE$500,MATCH(O130,Veri!$AI$31:$AI$500,0)),\"\"),\"\")","v":""},null,121,{"$f":"IFERROR(IF(INDEX(Veri!$AK$31:$AK$500,MATCH(V173,Veri!$AS$31:$AS$500,0))<>\"\",INDEX(Veri!$AK$31:$AK$500,MATCH(V173,Veri!$AS$31:$AS$500,0)),\"\"),\"\")","v":""},{"$f":"IFERROR(IF(INDEX(Veri!$AQ$31:$AQ$500,MATCH(V173,Veri!$AS$31:$AS$500,0))<>\"\",INDEX(Veri!$AQ$31:$AQ$500,MATCH(V173,Veri!$AS$31:$AS$500,0)),\"\"),\"\")","v":""},{"$f":"IFERROR(IF(INDEX(Veri!$AM$31:$AM$500,MATCH(V173,Veri!$AS$31:$AS$500,0))<>\"\",INDEX(Veri!$AM$31:$AM$500,MATCH(V173,Veri!$AS$31:$AS$500,0)),\"\"),\"\")","v":""},{"$f":"IFERROR(IF(INDEX(Veri!$AN$31:$AN$500,MATCH(V173,Veri!$AS$31:$AS$500,0))<>\"\",INDEX(Veri!$AN$31:$AN$500,MATCH(V173,Veri!$AS$31:$AS$500,0)),\"\"),\"\")","v":""},{"$f":"IFERROR(IF(INDEX(Veri!$AO$31:$AO$500,MATCH(V173,Veri!$AS$31:$AS$500,0))<>\"\",INDEX(Veri!$AO$31:$AO$500,MATCH(V173,Veri!$AS$31:$AS$500,0)),\"\"),\"\")","v":""}]
[null,null,null,null,null,null,null,null,null,null,null,null,null,null,122,{"$f":"IFERROR(IF(INDEX(Veri!$AA$31:$AA$500,MATCH(O131,Veri!$AI$31:$AI$500,0))<>\"\",INDEX(Veri!$AA$31:$AA$500,MATCH(O131,Veri!$AI$31:$AI$500,0)),\"\"),\"\")","v":""},{"$f":"IFERROR(IF(INDEX(Veri!$AG$31:$AG$500,MATCH(O131,Veri!$AI$31:$AI$500,0))<>\"\",INDEX(Veri!$AG$31:$AG$500,MATCH(O131,Veri!$AI$31:$AI$500,0)),\"\"),\"\")","v":""},{"$f":"IFERROR(IF(INDEX(Veri!$AC$31:$AC$500,MATCH(O131,Veri!$AI$31:$AI$500,0))<>\"\",INDEX(Veri!$AC$31:$AC$500,MATCH(O131,Veri!$AI$31:$AI$500,0)),\"\"),\"\")","v":""},{"$f":"IFERROR(IF(INDEX(Veri!$AD$31:$AD$500,MATCH(O131,Veri!$AI$31:$AI$500,0))<>\"\",INDEX(Veri!$AD$31:$AD$500,MATCH(O131,Veri!$AI$31:$AI$500,0)),\"\"),\"\")","v":""},{"$f":"IFERROR(IF(INDEX(Veri!$AE$31:$AE$500,MATCH(O131,Veri!$AI$31:$AI$500,0))<>\"\",INDEX(Veri!$AE$31:$AE$500,MATCH(O131,Veri!$AI$31:$AI$500,0)),\"\"),\"\")","v":""},null,122,{"$f":"IFERROR(IF(INDEX(Veri!$AK$31:$AK$500,MATCH(V174,Veri!$AS$31:$AS$500,0))<>\"\",INDEX(Veri!$AK$31:$AK$500,MATCH(V174,Veri!$AS$31:$AS$500,0)),\"\"),\"\")","v":""},{"$f":"IFERROR(IF(INDEX(Veri!$AQ$31:$AQ$500,MATCH(V174,Veri!$AS$31:$AS$500,0))<>\"\",INDEX(Veri!$AQ$31:$AQ$500,MATCH(V174,Veri!$AS$31:$AS$500,0)),\"\"),\"\")","v":""},{"$f":"IFERROR(IF(INDEX(Veri!$AM$31:$AM$500,MATCH(V174,Veri!$AS$31:$AS$500,0))<>\"\",INDEX(Veri!$AM$31:$AM$500,MATCH(V174,Veri!$AS$31:$AS$500,0)),\"\"),\"\")","v":""},{"$f":"IFERROR(IF(INDEX(Veri!$AN$31:$AN$500,MATCH(V174,Veri!$AS$31:$AS$500,0))<>\"\",INDEX(Veri!$AN$31:$AN$500,MATCH(V174,Veri!$AS$31:$AS$500,0)),\"\"),\"\")","v":""},{"$f":"IFERROR(IF(INDEX(Veri!$AO$31:$AO$500,MATCH(V174,Veri!$AS$31:$AS$500,0))<>\"\",INDEX(Veri!$AO$31:$AO$500,MATCH(V174,Veri!$AS$31:$AS$500,0)),\"\"),\"\")","v":""}]
[null,null,null,null,null,null,null,null,null,null,null,null,null,null,123,{"$f":"IFERROR(IF(INDEX(Veri!$AA$31:$AA$500,MATCH(O132,Veri!$AI$31:$AI$500,0))<>\"\",INDEX(Veri!$AA$31:$AA$500,MATCH(O132,Veri!$AI$31:$AI$500,0)),\"\"),\"\")","v":""},{"$f":"IFERROR(IF(INDEX(Veri!$AG$31:$AG$500,MATCH(O132,Veri!$AI$31:$AI$500,0))<>\"\",INDEX(Veri!$AG$31:$AG$500,MATCH(O132,Veri!$AI$31:$AI$500,0)),\"\"),\"\")","v":""},{"$f":"IFERROR(IF(INDEX(Veri!$AC$31:$AC$500,MATCH(O132,Veri!$AI$31:$AI$500,0))<>\"\",INDEX(Veri!$AC$31:$AC$500,MATCH(O132,Veri!$AI$31:$AI$500,0)),\"\"),\"\")","v":""},{"$f":"IFERROR(IF(INDEX(Veri!$AD$31:$AD$500,MATCH(O132,Veri!$AI$31:$AI$500,0))<>\"\",INDEX(Veri!$AD$31:$AD$500,MATCH(O132,Veri!$AI$31:$AI$500,0)),\"\"),\"\")","v":""},{"$f":"IFERROR(IF(INDEX(Veri!$AE$31:$AE$500,MATCH(O132,Veri!$AI$31:$AI$500,0))<>\"\",INDEX(Veri!$AE$31:$AE$500,MATCH(O132,Veri!$AI$31:$AI$500,0)),\"\"),\"\")","v":""},null,123,{"$f":"IFERROR(IF(INDEX(Veri!$AK$31:$AK$500,MATCH(V175,Veri!$AS$31:$AS$500,0))<>\"\",INDEX(Veri!$AK$31:$AK$500,MATCH(V175,Veri!$AS$31:$AS$500,0)),\"\"),\"\")","v":""},{"$f":"IFERROR(IF(INDEX(Veri!$AQ$31:$AQ$500,MATCH(V175,Veri!$AS$31:$AS$500,0))<>\"\",INDEX(Veri!$AQ$31:$AQ$500,MATCH(V175,Veri!$AS$31:$AS$500,0)),\"\"),\"\")","v":""},{"$f":"IFERROR(IF(INDEX(Veri!$AM$31:$AM$500,MATCH(V175,Veri!$AS$31:$AS$500,0))<>\"\",INDEX(Veri!$AM$31:$AM$500,MATCH(V175,Veri!$AS$31:$AS$500,0)),\"\"),\"\")","v":""},{"$f":"IFERROR(IF(INDEX(Veri!$AN$31:$AN$500,MATCH(V175,Veri!$AS$31:$AS$500,0))<>\"\",INDEX(Veri!$AN$31:$AN$500,MATCH(V175,Veri!$AS$31:$AS$500,0)),\"\"),\"\")","v":""},{"$f":"IFERROR(IF(INDEX(Veri!$AO$31:$AO$500,MATCH(V175,Veri!$AS$31:$AS$500,0))<>\"\",INDEX(Veri!$AO$31:$AO$500,MATCH(V175,Veri!$AS$31:$AS$500,0)),\"\"),\"\")","v":""}]
[null,null,null,null,null,null,null,null,null,null,null,null,null,null,124,{"$f":"IFERROR(IF(INDEX(Veri!$AA$31:$AA$500,MATCH(O133,Veri!$AI$31:$AI$500,0))<>\"\",INDEX(Veri!$AA$31:$AA$500,MATCH(O133,Veri!$AI$31:$AI$500,0)),\"\"),\"\")","v":""},{"$f":"IFERROR(IF(INDEX(Veri!$AG$31:$AG$500,MATCH(O133,Veri!$AI$31:$AI$500,0))<>\"\",INDEX(Veri!$AG$31:$AG$500,MATCH(O133,Veri!$AI$31:$AI$500,0)),\"\"),\"\")","v":""},{"$f":"IFERROR(IF(INDEX(Veri!$AC$31:$AC$500,MATCH(O133,Veri!$AI$31:$AI$500,0))<>\"\",INDEX(Veri!$AC$31:$AC$500,MATCH(O133,Veri!$AI$31:$AI$500,0)),\"\"),\"\")","v":""},{"$f":"IFERROR(IF(INDEX(Veri!$AD$31:$AD$500,MATCH(O133,Veri!$AI$31:$AI$500,0))<>\"\",INDEX(Veri!$AD$31:$AD$500,MATCH(O133,Veri!$AI$31:$AI$500,0)),\"\"),\"\")","v":""},{"$f":"IFERROR(IF(INDEX(Veri!$AE$31:$AE$500,MATCH(O133,Veri!$AI$31:$AI$500,0))<>\"\",INDEX(Veri!$AE$31:$AE$500,MATCH(O133,Veri!$AI$31:$AI$500,0)),\"\"),\"\")","v":""},null,124,{"$f":"IFERROR(IF(INDEX(Veri!$AK$31:$AK$500,MATCH(V176,Veri!$AS$31:$AS$500,0))<>\"\",INDEX(Veri!$AK$31:$AK$500,MATCH(V176,Veri!$AS$31:$AS$500,0)),\"\"),\"\")","v":""},{"$f":"IFERROR(IF(INDEX(Veri!$AQ$31:$AQ$500,MATCH(V176,Veri!$AS$31:$AS$500,0))<>\"\",INDEX(Veri!$AQ$31:$AQ$500,MATCH(V176,Veri!$AS$31:$AS$500,0)),\"\"),\"\")","v":""},{"$f":"IFERROR(IF(INDEX(Veri!$AM$31:$AM$500,MATCH(V176,Veri!$AS$31:$AS$500,0))<>\"\",INDEX(Veri!$AM$31:$AM$500,MATCH(V176,Veri!$AS$31:$AS$500,0)),\"\"),\"\")","v":""},{"$f":"IFERROR(IF(INDEX(Veri!$AN$31:$AN$500,MATCH(V176,Veri!$AS$31:$AS$500,0))<>\"\",INDEX(Veri!$AN$31:$AN$500,MATCH(V176,Veri!$AS$31:$AS$500,0)),\"\"),\"\")","v":""},{"$f":"IFERROR(IF(INDEX(Veri!$AO$31:$AO$500,MATCH(V176,Veri!$AS$31:$AS$500,0))<>\"\",INDEX(Veri!$AO$31:$AO$500,MATCH(V176,Veri!$AS$31:$AS$500,0)),\"\"),\"\")","v":""}]
[null,null,null,null,null,null,null,null,null,null,null,null,null,null,125,{"$f":"IFERROR(IF(INDEX(Veri!$AA$31:$AA$500,MATCH(O134,Veri!$AI$31:$AI$500,0))<>\"\",INDEX(Veri!$AA$31:$AA$500,MATCH(O134,Veri!$AI$31:$AI$500,0)),\"\"),\"\")","v":""},{"$f":"IFERROR(IF(INDEX(Veri!$AG$31:$AG$500,MATCH(O134,Veri!$AI$31:$AI$500,0))<>\"\",INDEX(Veri!$AG$31:$AG$500,MATCH(O134,Veri!$AI$31:$AI$500,0)),\"\"),\"\")","v":""},{"$f":"IFERROR(IF(INDEX(Veri!$AC$31:$AC$500,MATCH(O134,Veri!$AI$31:$AI$500,0))<>\"\",INDEX(Veri!$AC$31:$AC$500,MATCH(O134,Veri!$AI$31:$AI$500,0)),\"\"),\"\")","v":""},{"$f":"IFERROR(IF(INDEX(Veri!$AD$31:$AD$500,MATCH(O134,Veri!$AI$31:$AI$500,0))<>\"\",INDEX(Veri!$AD$31:$AD$500,MATCH(O134,Veri!$AI$31:$AI$500,0)),\"\"),\"\")","v":""},{"$f":"IFERROR(IF(INDEX(Veri!$AE$31:$AE$500,MATCH(O134,Veri!$AI$31:$AI$500,0))<>\"\",INDEX(Veri!$AE$31:$AE$500,MATCH(O134,Veri!$AI$31:$AI$500,0)),\"\"),\"\")","v":""},null,125,{"$f":"IFERROR(IF(INDEX(Veri!$AK$31:$AK$500,MATCH(V177,Veri!$AS$31:$AS$500,0))<>\"\",INDEX(Veri!$AK$31:$AK$500,MATCH(V177,Veri!$AS$31:$AS$500,0)),\"\"),\"\")","v":""},{"$f":"IFERROR(IF(INDEX(Veri!$AQ$31:$AQ$500,MATCH(V177,Veri!$AS$31:$AS$500,0))<>\"\",INDEX(Veri!$AQ$31:$AQ$500,MATCH(V177,Veri!$AS$31:$AS$500,0)),\"\"),\"\")","v":""},{"$f":"IFERROR(IF(INDEX(Veri!$AM$31:$AM$500,MATCH(V177,Veri!$AS$31:$AS$500,0))<>\"\",INDEX(Veri!$AM$31:$AM$500,MATCH(V177,Veri!$AS$31:$AS$500,0)),\"\"),\"\")","v":""},{"$f":"IFERROR(IF(INDEX(Veri!$AN$31:$AN$500,MATCH(V177,Veri!$AS$31:$AS$500,0))<>\"\",INDEX(Veri!$AN$31:$AN$500,MATCH(V177,Veri!$AS$31:$AS$500,0)),\"\"),\"\")","v":""},{"$f":"IFERROR(IF(INDEX(Veri!$AO$31:$AO$500,MATCH(V177,Veri!$AS$31:$AS$500,0))<>\"\",INDEX(Veri!$AO$31:$AO$500,MATCH(V177,Veri!$AS$31:$AS$500,0)),\"\"),\"\")","v":""}]
[null,null,null,null,null,null,null,null,null,null,null,null,null,null,126,{"$f":"IFERROR(IF(INDEX(Veri!$AA$31:$AA$500,MATCH(O135,Veri!$AI$31:$AI$500,0))<>\"\",INDEX(Veri!$AA$31:$AA$500,MATCH(O135,Veri!$AI$31:$AI$500,0)),\"\"),\"\")","v":""},{"$f":"IFERROR(IF(INDEX(Veri!$AG$31:$AG$500,MATCH(O135,Veri!$AI$31:$AI$500,0))<>\"\",INDEX(Veri!$AG$31:$AG$500,MATCH(O135,Veri!$AI$31:$AI$500,0)),\"\"),\"\")","v":""},{"$f":"IFERROR(IF(INDEX(Veri!$AC$31:$AC$500,MATCH(O135,Veri!$AI$31:$AI$500,0))<>\"\",INDEX(Veri!$AC$31:$AC$500,MATCH(O135,Veri!$AI$31:$AI$500,0)),\"\"),\"\")","v":""},{"$f":"IFERROR(IF(INDEX(Veri!$AD$31:$AD$500,MATCH(O135,Veri!$AI$31:$AI$500,0))<>\"\",INDEX(Veri!$AD$31:$AD$500,MATCH(O135,Veri!$AI$31:$AI$500,0)),\"\"),\"\")","v":""},{"$f":"IFERROR(IF(INDEX(Veri!$AE$31:$AE$500,MATCH(O135,Veri!$AI$31:$AI$500,0))<>\"\",INDEX(Veri!$AE$31:$AE$500,MATCH(O135,Veri!$AI$31:$AI$500,0)),\"\"),\"\")","v":""},null,126,{"$f":"IFERROR(IF(INDEX(Veri!$AK$31:$AK$500,MATCH(V178,Veri!$AS$31:$AS$500,0))<>\"\",INDEX(Veri!$AK$31:$AK$500,MATCH(V178,Veri!$AS$31:$AS$500,0)),\"\"),\"\")","v":""},{"$f":"IFERROR(IF(INDEX(Veri!$AQ$31:$AQ$500,MATCH(V178,Veri!$AS$31:$AS$500,0))<>\"\",INDEX(Veri!$AQ$31:$AQ$500,MATCH(V178,Veri!$AS$31:$AS$500,0)),\"\"),\"\")","v":""},{"$f":"IFERROR(IF(INDEX(Veri!$AM$31:$AM$500,MATCH(V178,Veri!$AS$31:$AS$500,0))<>\"\",INDEX(Veri!$AM$31:$AM$500,MATCH(V178,Veri!$AS$31:$AS$500,0)),\"\"),\"\")","v":""},{"$f":"IFERROR(IF(INDEX(Veri!$AN$31:$AN$500,MATCH(V178,Veri!$AS$31:$AS$500,0))<>\"\",INDEX(Veri!$AN$31:$AN$500,MATCH(V178,Veri!$AS$31:$AS$500,0)),\"\"),\"\")","v":""},{"$f":"IFERROR(IF(INDEX(Veri!$AO$31:$AO$500,MATCH(V178,Veri!$AS$31:$AS$500,0))<>\"\",INDEX(Veri!$AO$31:$AO$500,MATCH(V178,Veri!$AS$31:$AS$500,0)),\"\"),\"\")","v":""}]
[null,null,null,null,null,null,null,null,null,null,null,null,null,null,127,{"$f":"IFERROR(IF(INDEX(Veri!$AA$31:$AA$500,MATCH(O136,Veri!$AI$31:$AI$500,0))<>\"\",INDEX(Veri!$AA$31:$AA$500,MATCH(O136,Veri!$AI$31:$AI$500,0)),\"\"),\"\")","v":""},{"$f":"IFERROR(IF(INDEX(Veri!$AG$31:$AG$500,MATCH(O136,Veri!$AI$31:$AI$500,0))<>\"\",INDEX(Veri!$AG$31:$AG$500,MATCH(O136,Veri!$AI$31:$AI$500,0)),\"\"),\"\")","v":""},{"$f":"IFERROR(IF(INDEX(Veri!$AC$31:$AC$500,MATCH(O136,Veri!$AI$31:$AI$500,0))<>\"\",INDEX(Veri!$AC$31:$AC$500,MATCH(O136,Veri!$AI$31:$AI$500,0)),\"\"),\"\")","v":""},{"$f":"IFERROR(IF(INDEX(Veri!$AD$31:$AD$500,MATCH(O136,Veri!$AI$31:$AI$500,0))<>\"\",INDEX(Veri!$AD$31:$AD$500,MATCH(O136,Veri!$AI$31:$AI$500,0)),\"\"),\"\")","v":""},{"$f":"IFERROR(IF(INDEX(Veri!$AE$31:$AE$500,MATCH(O136,Veri!$AI$31:$AI$500,0))<>\"\",INDEX(Veri!$AE$31:$AE$500,MATCH(O136,Veri!$AI$31:$AI$500,0)),\"\"),\"\")","v":""},null,127,{"$f":"IFERROR(IF(INDEX(Veri!$AK$31:$AK$500,MATCH(V179,Veri!$AS$31:$AS$500,0))<>\"\",INDEX(Veri!$AK$31:$AK$500,MATCH(V179,Veri!$AS$31:$AS$500,0)),\"\"),\"\")","v":""},{"$f":"IFERROR(IF(INDEX(Veri!$AQ$31:$AQ$500,MATCH(V179,Veri!$AS$31:$AS$500,0))<>\"\",INDEX(Veri!$AQ$31:$AQ$500,MATCH(V179,Veri!$AS$31:$AS$500,0)),\"\"),\"\")","v":""},{"$f":"IFERROR(IF(INDEX(Veri!$AM$31:$AM$500,MATCH(V179,Veri!$AS$31:$AS$500,0))<>\"\",INDEX(Veri!$AM$31:$AM$500,MATCH(V179,Veri!$AS$31:$AS$500,0)),\"\"),\"\")","v":""},{"$f":"IFERROR(IF(INDEX(Veri!$AN$31:$AN$500,MATCH(V179,Veri!$AS$31:$AS$500,0))<>\"\",INDEX(Veri!$AN$31:$AN$500,MATCH(V179,Veri!$AS$31:$AS$500,0)),\"\"),\"\")","v":""},{"$f":"IFERROR(IF(INDEX(Veri!$AO$31:$AO$500,MATCH(V179,Veri!$AS$31:$AS$500,0))<>\"\",INDEX(Veri!$AO$31:$AO$500,MATCH(V179,Veri!$AS$31:$AS$500,0)),\"\"),\"\")","v":""}]
[null,null,null,null,null,null,null,null,null,null,null,null,null,null,128,{"$f":"IFERROR(IF(INDEX(Veri!$AA$31:$AA$500,MATCH(O137,Veri!$AI$31:$AI$500,0))<>\"\",INDEX(Veri!$AA$31:$AA$500,MATCH(O137,Veri!$AI$31:$AI$500,0)),\"\"),\"\")","v":""},{"$f":"IFERROR(IF(INDEX(Veri!$AG$31:$AG$500,MATCH(O137,Veri!$AI$31:$AI$500,0))<>\"\",INDEX(Veri!$AG$31:$AG$500,MATCH(O137,Veri!$AI$31:$AI$500,0)),\"\"),\"\")","v":""},{"$f":"IFERROR(IF(INDEX(Veri!$AC$31:$AC$500,MATCH(O137,Veri!$AI$31:$AI$500,0))<>\"\",INDEX(Veri!$AC$31:$AC$500,MATCH(O137,Veri!$AI$31:$AI$500,0)),\"\"),\"\")","v":""},{"$f":"IFERROR(IF(INDEX(Veri!$AD$31:$AD$500,MATCH(O137,Veri!$AI$31:$AI$500,0))<>\"\",INDEX(Veri!$AD$31:$AD$500,MATCH(O137,Veri!$AI$31:$AI$500,0)),\"\"),\"\")","v":""},{"$f":"IFERROR(IF(INDEX(Veri!$AE$31:$AE$500,MATCH(O137,Veri!$AI$31:$AI$500,0))<>\"\",INDEX(Veri!$AE$31:$AE$500,MATCH(O137,Veri!$AI$31:$AI$500,0)),\"\"),\"\")","v":""},null,128,{"$f":"IFERROR(IF(INDEX(Veri!$AK$31:$AK$500,MATCH(V180,Veri!$AS$31:$AS$500,0))<>\"\",INDEX(Veri!$AK$31:$AK$500,MATCH(V180,Veri!$AS$31:$AS$500,0)),\"\"),\"\")","v":""},{"$f":"IFERROR(IF(INDEX(Veri!$AQ$31:$AQ$500,MATCH(V180,Veri!$AS$31:$AS$500,0))<>\"\",INDEX(Veri!$AQ$31:$AQ$500,MATCH(V180,Veri!$AS$31:$AS$500,0)),\"\"),\"\")","v":""},{"$f":"IFERROR(IF(INDEX(Veri!$AM$31:$AM$500,MATCH(V180,Veri!$AS$31:$AS$500,0))<>\"\",INDEX(Veri!$AM$31:$AM$500,MATCH(V180,Veri!$AS$31:$AS$500,0)),\"\"),\"\")","v":""},{"$f":"IFERROR(IF(INDEX(Veri!$AN$31:$AN$500,MATCH(V180,Veri!$AS$31:$AS$500,0))<>\"\",INDEX(Veri!$AN$31:$AN$500,MATCH(V180,Veri!$AS$31:$AS$500,0)),\"\"),\"\")","v":""},{"$f":"IFERROR(IF(INDEX(Veri!$AO$31:$AO$500,MATCH(V180,Veri!$AS$31:$AS$500,0))<>\"\",INDEX(Veri!$AO$31:$AO$500,MATCH(V180,Veri!$AS$31:$AS$500,0)),\"\"),\"\")","v":""}]
[null,null,null,null,null,null,null,null,null,null,null,null,null,null,129,{"$f":"IFERROR(IF(INDEX(Veri!$AA$31:$AA$500,MATCH(O138,Veri!$AI$31:$AI$500,0))<>\"\",INDEX(Veri!$AA$31:$AA$500,MATCH(O138,Veri!$AI$31:$AI$500,0)),\"\"),\"\")","v":""},{"$f":"IFERROR(IF(INDEX(Veri!$AG$31:$AG$500,MATCH(O138,Veri!$AI$31:$AI$500,0))<>\"\",INDEX(Veri!$AG$31:$AG$500,MATCH(O138,Veri!$AI$31:$AI$500,0)),\"\"),\"\")","v":""},{"$f":"IFERROR(IF(INDEX(Veri!$AC$31:$AC$500,MATCH(O138,Veri!$AI$31:$AI$500,0))<>\"\",INDEX(Veri!$AC$31:$AC$500,MATCH(O138,Veri!$AI$31:$AI$500,0)),\"\"),\"\")","v":""},{"$f":"IFERROR(IF(INDEX(Veri!$AD$31:$AD$500,MATCH(O138,Veri!$AI$31:$AI$500,0))<>\"\",INDEX(Veri!$AD$31:$AD$500,MATCH(O138,Veri!$AI$31:$AI$500,0)),\"\"),\"\")","v":""},{"$f":"IFERROR(IF(INDEX(Veri!$AE$31:$AE$500,MATCH(O138,Veri!$AI$31:$AI$500,0))<>\"\",INDEX(Veri!$AE$31:$AE$500,MATCH(O138,Veri!$AI$31:$AI$500,0)),\"\"),\"\")","v":""},null,129,{"$f":"IFERROR(IF(INDEX(Veri!$AK$31:$AK$500,MATCH(V181,Veri!$AS$31:$AS$500,0))<>\"\",INDEX(Veri!$AK$31:$AK$500,MATCH(V181,Veri!$AS$31:$AS$500,0)),\"\"),\"\")","v":""},{"$f":"IFERROR(IF(INDEX(Veri!$AQ$31:$AQ$500,MATCH(V181,Veri!$AS$31:$AS$500,0))<>\"\",INDEX(Veri!$AQ$31:$AQ$500,MATCH(V181,Veri!$AS$31:$AS$500,0)),\"\"),\"\")","v":""},{"$f":"IFERROR(IF(INDEX(Veri!$AM$31:$AM$500,MATCH(V181,Veri!$AS$31:$AS$500,0))<>\"\",INDEX(Veri!$AM$31:$AM$500,MATCH(V181,Veri!$AS$31:$AS$500,0)),\"\"),\"\")","v":""},{"$f":"IFERROR(IF(INDEX(Veri!$AN$31:$AN$500,MATCH(V181,Veri!$AS$31:$AS$500,0))<>\"\",INDEX(Veri!$AN$31:$AN$500,MATCH(V181,Veri!$AS$31:$AS$500,0)),\"\"),\"\")","v":""},{"$f":"IFERROR(IF(INDEX(Veri!$AO$31:$AO$500,MATCH(V181,Veri!$AS$31:$AS$500,0))<>\"\",INDEX(Veri!$AO$31:$AO$500,MATCH(V181,Veri!$AS$31:$AS$500,0)),\"\"),\"\")","v":""}]
[null,null,null,null,null,null,null,null,null,null,null,null,null,null,130,{"$f":"IFERROR(IF(INDEX(Veri!$AA$31:$AA$500,MATCH(O139,Veri!$AI$31:$AI$500,0))<>\"\",INDEX(Veri!$AA$31:$AA$500,MATCH(O139,Veri!$AI$31:$AI$500,0)),\"\"),\"\")","v":""},{"$f":"IFERROR(IF(INDEX(Veri!$AG$31:$AG$500,MATCH(O139,Veri!$AI$31:$AI$500,0))<>\"\",INDEX(Veri!$AG$31:$AG$500,MATCH(O139,Veri!$AI$31:$AI$500,0)),\"\"),\"\")","v":""},{"$f":"IFERROR(IF(INDEX(Veri!$AC$31:$AC$500,MATCH(O139,Veri!$AI$31:$AI$500,0))<>\"\",INDEX(Veri!$AC$31:$AC$500,MATCH(O139,Veri!$AI$31:$AI$500,0)),\"\"),\"\")","v":""},{"$f":"IFERROR(IF(INDEX(Veri!$AD$31:$AD$500,MATCH(O139,Veri!$AI$31:$AI$500,0))<>\"\",INDEX(Veri!$AD$31:$AD$500,MATCH(O139,Veri!$AI$31:$AI$500,0)),\"\"),\"\")","v":""},{"$f":"IFERROR(IF(INDEX(Veri!$AE$31:$AE$500,MATCH(O139,Veri!$AI$31:$AI$500,0))<>\"\",INDEX(Veri!$AE$31:$AE$500,MATCH(O139,Veri!$AI$31:$AI$500,0)),\"\"),\"\")","v":""},null,130,{"$f":"IFERROR(IF(INDEX(Veri!$AK$31:$AK$500,MATCH(V182,Veri!$AS$31:$AS$500,0))<>\"\",INDEX(Veri!$AK$31:$AK$500,MATCH(V182,Veri!$AS$31:$AS$500,0)),\"\"),\"\")","v":""},{"$f":"IFERROR(IF(INDEX(Veri!$AQ$31:$AQ$500,MATCH(V182,Veri!$AS$31:$AS$500,0))<>\"\",INDEX(Veri!$AQ$31:$AQ$500,MATCH(V182,Veri!$AS$31:$AS$500,0)),\"\"),\"\")","v":""},{"$f":"IFERROR(IF(INDEX(Veri!$AM$31:$AM$500,MATCH(V182,Veri!$AS$31:$AS$500,0))<>\"\",INDEX(Veri!$AM$31:$AM$500,MATCH(V182,Veri!$AS$31:$AS$500,0)),\"\"),\"\")","v":""},{"$f":"IFERROR(IF(INDEX(Veri!$AN$31:$AN$500,MATCH(V182,Veri!$AS$31:$AS$500,0))<>\"\",INDEX(Veri!$AN$31:$AN$500,MATCH(V182,Veri!$AS$31:$AS$500,0)),\"\"),\"\")","v":""},{"$f":"IFERROR(IF(INDEX(Veri!$AO$31:$AO$500,MATCH(V182,Veri!$AS$31:$AS$500,0))<>\"\",INDEX(Veri!$AO$31:$AO$500,MATCH(V182,Veri!$AS$31:$AS$500,0)),\"\"),\"\")","v":""}]
[null,null,null,null,null,null,null,null,null,null,null,null,null,null,131,{"$f":"IFERROR(IF(INDEX(Veri!$AA$31:$AA$500,MATCH(O140,Veri!$AI$31:$AI$500,0))<>\"\",INDEX(Veri!$AA$31:$AA$500,MATCH(O140,Veri!$AI$31:$AI$500,0)),\"\"),\"\")","v":""},{"$f":"IFERROR(IF(INDEX(Veri!$AG$31:$AG$500,MATCH(O140,Veri!$AI$31:$AI$500,0))<>\"\",INDEX(Veri!$AG$31:$AG$500,MATCH(O140,Veri!$AI$31:$AI$500,0)),\"\"),\"\")","v":""},{"$f":"IFERROR(IF(INDEX(Veri!$AC$31:$AC$500,MATCH(O140,Veri!$AI$31:$AI$500,0))<>\"\",INDEX(Veri!$AC$31:$AC$500,MATCH(O140,Veri!$AI$31:$AI$500,0)),\"\"),\"\")","v":""},{"$f":"IFERROR(IF(INDEX(Veri!$AD$31:$AD$500,MATCH(O140,Veri!$AI$31:$AI$500,0))<>\"\",INDEX(Veri!$AD$31:$AD$500,MATCH(O140,Veri!$AI$31:$AI$500,0)),\"\"),\"\")","v":""},{"$f":"IFERROR(IF(INDEX(Veri!$AE$31:$AE$500,MATCH(O140,Veri!$AI$31:$AI$500,0))<>\"\",INDEX(Veri!$AE$31:$AE$500,MATCH(O140,Veri!$AI$31:$AI$500,0)),\"\"),\"\")","v":""},null,131,{"$f":"IFERROR(IF(INDEX(Veri!$AK$31:$AK$500,MATCH(V183,Veri!$AS$31:$AS$500,0))<>\"\",INDEX(Veri!$AK$31:$AK$500,MATCH(V183,Veri!$AS$31:$AS$500,0)),\"\"),\"\")","v":""},{"$f":"IFERROR(IF(INDEX(Veri!$AQ$31:$AQ$500,MATCH(V183,Veri!$AS$31:$AS$500,0))<>\"\",INDEX(Veri!$AQ$31:$AQ$500,MATCH(V183,Veri!$AS$31:$AS$500,0)),\"\"),\"\")","v":""},{"$f":"IFERROR(IF(INDEX(Veri!$AM$31:$AM$500,MATCH(V183,Veri!$AS$31:$AS$500,0))<>\"\",INDEX(Veri!$AM$31:$AM$500,MATCH(V183,Veri!$AS$31:$AS$500,0)),\"\"),\"\")","v":""},{"$f":"IFERROR(IF(INDEX(Veri!$AN$31:$AN$500,MATCH(V183,Veri!$AS$31:$AS$500,0))<>\"\",INDEX(Veri!$AN$31:$AN$500,MATCH(V183,Veri!$AS$31:$AS$500,0)),\"\"),\"\")","v":""},{"$f":"IFERROR(IF(INDEX(Veri!$AO$31:$AO$500,MATCH(V183,Veri!$AS$31:$AS$500,0))<>\"\",INDEX(Veri!$AO$31:$AO$500,MATCH(V183,Veri!$AS$31:$AS$500,0)),\"\"),\"\")","v":""}]
[null,null,null,null,null,null,null,null,null,null,null,null,null,null,132,{"$f":"IFERROR(IF(INDEX(Veri!$AA$31:$AA$500,MATCH(O141,Veri!$AI$31:$AI$500,0))<>\"\",INDEX(Veri!$AA$31:$AA$500,MATCH(O141,Veri!$AI$31:$AI$500,0)),\"\"),\"\")","v":""},{"$f":"IFERROR(IF(INDEX(Veri!$AG$31:$AG$500,MATCH(O141,Veri!$AI$31:$AI$500,0))<>\"\",INDEX(Veri!$AG$31:$AG$500,MATCH(O141,Veri!$AI$31:$AI$500,0)),\"\"),\"\")","v":""},{"$f":"IFERROR(IF(INDEX(Veri!$AC$31:$AC$500,MATCH(O141,Veri!$AI$31:$AI$500,0))<>\"\",INDEX(Veri!$AC$31:$AC$500,MATCH(O141,Veri!$AI$31:$AI$500,0)),\"\"),\"\")","v":""},{"$f":"IFERROR(IF(INDEX(Veri!$AD$31:$AD$500,MATCH(O141,Veri!$AI$31:$AI$500,0))<>\"\",INDEX(Veri!$AD$31:$AD$500,MATCH(O141,Veri!$AI$31:$AI$500,0)),\"\"),\"\")","v":""},{"$f":"IFERROR(IF(INDEX(Veri!$AE$31:$AE$500,MATCH(O141,Veri!$AI$31:$AI$500,0))<>\"\",INDEX(Veri!$AE$31:$AE$500,MATCH(O141,Veri!$AI$31:$AI$500,0)),\"\"),\"\")","v":""},null,132,{"$f":"IFERROR(IF(INDEX(Veri!$AK$31:$AK$500,MATCH(V184,Veri!$AS$31:$AS$500,0))<>\"\",INDEX(Veri!$AK$31:$AK$500,MATCH(V184,Veri!$AS$31:$AS$500,0)),\"\"),\"\")","v":""},{"$f":"IFERROR(IF(INDEX(Veri!$AQ$31:$AQ$500,MATCH(V184,Veri!$AS$31:$AS$500,0))<>\"\",INDEX(Veri!$AQ$31:$AQ$500,MATCH(V184,Veri!$AS$31:$AS$500,0)),\"\"),\"\")","v":""},{"$f":"IFERROR(IF(INDEX(Veri!$AM$31:$AM$500,MATCH(V184,Veri!$AS$31:$AS$500,0))<>\"\",INDEX(Veri!$AM$31:$AM$500,MATCH(V184,Veri!$AS$31:$AS$500,0)),\"\"),\"\")","v":""},{"$f":"IFERROR(IF(INDEX(Veri!$AN$31:$AN$500,MATCH(V184,Veri!$AS$31:$AS$500,0))<>\"\",INDEX(Veri!$AN$31:$AN$500,MATCH(V184,Veri!$AS$31:$AS$500,0)),\"\"),\"\")","v":""},{"$f":"IFERROR(IF(INDEX(Veri!$AO$31:$AO$500,MATCH(V184,Veri!$AS$31:$AS$500,0))<>\"\",INDEX(Veri!$AO$31:$AO$500,MATCH(V184,Veri!$AS$31:$AS$500,0)),\"\"),\"\")","v":""}]
[null,null,null,null,null,null,null,null,null,null,null,null,null,null,133,{"$f":"IFERROR(IF(INDEX(Veri!$AA$31:$AA$500,MATCH(O142,Veri!$AI$31:$AI$500,0))<>\"\",INDEX(Veri!$AA$31:$AA$500,MATCH(O142,Veri!$AI$31:$AI$500,0)),\"\"),\"\")","v":""},{"$f":"IFERROR(IF(INDEX(Veri!$AG$31:$AG$500,MATCH(O142,Veri!$AI$31:$AI$500,0))<>\"\",INDEX(Veri!$AG$31:$AG$500,MATCH(O142,Veri!$AI$31:$AI$500,0)),\"\"),\"\")","v":""},{"$f":"IFERROR(IF(INDEX(Veri!$AC$31:$AC$500,MATCH(O142,Veri!$AI$31:$AI$500,0))<>\"\",INDEX(Veri!$AC$31:$AC$500,MATCH(O142,Veri!$AI$31:$AI$500,0)),\"\"),\"\")","v":""},{"$f":"IFERROR(IF(INDEX(Veri!$AD$31:$AD$500,MATCH(O142,Veri!$AI$31:$AI$500,0))<>\"\",INDEX(Veri!$AD$31:$AD$500,MATCH(O142,Veri!$AI$31:$AI$500,0)),\"\"),\"\")","v":""},{"$f":"IFERROR(IF(INDEX(Veri!$AE$31:$AE$500,MATCH(O142,Veri!$AI$31:$AI$500,0))<>\"\",INDEX(Veri!$AE$31:$AE$500,MATCH(O142,Veri!$AI$31:$AI$500,0)),\"\"),\"\")","v":""},null,133,{"$f":"IFERROR(IF(INDEX(Veri!$AK$31:$AK$500,MATCH(V185,Veri!$AS$31:$AS$500,0))<>\"\",INDEX(Veri!$AK$31:$AK$500,MATCH(V185,Veri!$AS$31:$AS$500,0)),\"\"),\"\")","v":""},{"$f":"IFERROR(IF(INDEX(Veri!$AQ$31:$AQ$500,MATCH(V185,Veri!$AS$31:$AS$500,0))<>\"\",INDEX(Veri!$AQ$31:$AQ$500,MATCH(V185,Veri!$AS$31:$AS$500,0)),\"\"),\"\")","v":""},{"$f":"IFERROR(IF(INDEX(Veri!$AM$31:$AM$500,MATCH(V185,Veri!$AS$31:$AS$500,0))<>\"\",INDEX(Veri!$AM$31:$AM$500,MATCH(V185,Veri!$AS$31:$AS$500,0)),\"\"),\"\")","v":""},{"$f":"IFERROR(IF(INDEX(Veri!$AN$31:$AN$500,MATCH(V185,Veri!$AS$31:$AS$500,0))<>\"\",INDEX(Veri!$AN$31:$AN$500,MATCH(V185,Veri!$AS$31:$AS$500,0)),\"\"),\"\")","v":""},{"$f":"IFERROR(IF(INDEX(Veri!$AO$31:$AO$500,MATCH(V185,Veri!$AS$31:$AS$500,0))<>\"\",INDEX(Veri!$AO$31:$AO$500,MATCH(V185,Veri!$AS$31:$AS$500,0)),\"\"),\"\")","v":""}]
[null,null,null,null,null,null,null,null,null,null,null,null,null,null,134,{"$f":"IFERROR(IF(INDEX(Veri!$AA$31:$AA$500,MATCH(O143,Veri!$AI$31:$AI$500,0))<>\"\",INDEX(Veri!$AA$31:$AA$500,MATCH(O143,Veri!$AI$31:$AI$500,0)),\"\"),\"\")","v":""},{"$f":"IFERROR(IF(INDEX(Veri!$AG$31:$AG$500,MATCH(O143,Veri!$AI$31:$AI$500,0))<>\"\",INDEX(Veri!$AG$31:$AG$500,MATCH(O143,Veri!$AI$31:$AI$500,0)),\"\"),\"\")","v":""},{"$f":"IFERROR(IF(INDEX(Veri!$AC$31:$AC$500,MATCH(O143,Veri!$AI$31:$AI$500,0))<>\"\",INDEX(Veri!$AC$31:$AC$500,MATCH(O143,Veri!$AI$31:$AI$500,0)),\"\"),\"\")","v":""},{"$f":"IFERROR(IF(INDEX(Veri!$AD$31:$AD$500,MATCH(O143,Veri!$AI$31:$AI$500,0))<>\"\",INDEX(Veri!$AD$31:$AD$500,MATCH(O143,Veri!$AI$31:$AI$500,0)),\"\"),\"\")","v":""},{"$f":"IFERROR(IF(INDEX(Veri!$AE$31:$AE$500,MATCH(O143,Veri!$AI$31:$AI$500,0))<>\"\",INDEX(Veri!$AE$31:$AE$500,MATCH(O143,Veri!$AI$31:$AI$500,0)),\"\"),\"\")","v":""},null,134,{"$f":"IFERROR(IF(INDEX(Veri!$AK$31:$AK$500,MATCH(V186,Veri!$AS$31:$AS$500,0))<>\"\",INDEX(Veri!$AK$31:$AK$500,MATCH(V186,Veri!$AS$31:$AS$500,0)),\"\"),\"\")","v":""},{"$f":"IFERROR(IF(INDEX(Veri!$AQ$31:$AQ$500,MATCH(V186,Veri!$AS$31:$AS$500,0))<>\"\",INDEX(Veri!$AQ$31:$AQ$500,MATCH(V186,Veri!$AS$31:$AS$500,0)),\"\"),\"\")","v":""},{"$f":"IFERROR(IF(INDEX(Veri!$AM$31:$AM$500,MATCH(V186,Veri!$AS$31:$AS$500,0))<>\"\",INDEX(Veri!$AM$31:$AM$500,MATCH(V186,Veri!$AS$31:$AS$500,0)),\"\"),\"\")","v":""},{"$f":"IFERROR(IF(INDEX(Veri!$AN$31:$AN$500,MATCH(V186,Veri!$AS$31:$AS$500,0))<>\"\",INDEX(Veri!$AN$31:$AN$500,MATCH(V186,Veri!$AS$31:$AS$500,0)),\"\"),\"\")","v":""},{"$f":"IFERROR(IF(INDEX(Veri!$AO$31:$AO$500,MATCH(V186,Veri!$AS$31:$AS$500,0))<>\"\",INDEX(Veri!$AO$31:$AO$500,MATCH(V186,Veri!$AS$31:$AS$500,0)),\"\"),\"\")","v":""}]
[null,null,null,null,null,null,null,null,null,null,null,null,null,null,135,{"$f":"IFERROR(IF(INDEX(Veri!$AA$31:$AA$500,MATCH(O144,Veri!$AI$31:$AI$500,0))<>\"\",INDEX(Veri!$AA$31:$AA$500,MATCH(O144,Veri!$AI$31:$AI$500,0)),\"\"),\"\")","v":""},{"$f":"IFERROR(IF(INDEX(Veri!$AG$31:$AG$500,MATCH(O144,Veri!$AI$31:$AI$500,0))<>\"\",INDEX(Veri!$AG$31:$AG$500,MATCH(O144,Veri!$AI$31:$AI$500,0)),\"\"),\"\")","v":""},{"$f":"IFERROR(IF(INDEX(Veri!$AC$31:$AC$500,MATCH(O144,Veri!$AI$31:$AI$500,0))<>\"\",INDEX(Veri!$AC$31:$AC$500,MATCH(O144,Veri!$AI$31:$AI$500,0)),\"\"),\"\")","v":""},{"$f":"IFERROR(IF(INDEX(Veri!$AD$31:$AD$500,MATCH(O144,Veri!$AI$31:$AI$500,0))<>\"\",INDEX(Veri!$AD$31:$AD$500,MATCH(O144,Veri!$AI$31:$AI$500,0)),\"\"),\"\")","v":""},{"$f":"IFERROR(IF(INDEX(Veri!$AE$31:$AE$500,MATCH(O144,Veri!$AI$31:$AI$500,0))<>\"\",INDEX(Veri!$AE$31:$AE$500,MATCH(O144,Veri!$AI$31:$AI$500,0)),\"\"),\"\")","v":""},null,135,{"$f":"IFERROR(IF(INDEX(Veri!$AK$31:$AK$500,MATCH(V187,Veri!$AS$31:$AS$500,0))<>\"\",INDEX(Veri!$AK$31:$AK$500,MATCH(V187,Veri!$AS$31:$AS$500,0)),\"\"),\"\")","v":""},{"$f":"IFERROR(IF(INDEX(Veri!$AQ$31:$AQ$500,MATCH(V187,Veri!$AS$31:$AS$500,0))<>\"\",INDEX(Veri!$AQ$31:$AQ$500,MATCH(V187,Veri!$AS$31:$AS$500,0)),\"\"),\"\")","v":""},{"$f":"IFERROR(IF(INDEX(Veri!$AM$31:$AM$500,MATCH(V187,Veri!$AS$31:$AS$500,0))<>\"\",INDEX(Veri!$AM$31:$AM$500,MATCH(V187,Veri!$AS$31:$AS$500,0)),\"\"),\"\")","v":""},{"$f":"IFERROR(IF(INDEX(Veri!$AN$31:$AN$500,MATCH(V187,Veri!$AS$31:$AS$500,0))<>\"\",INDEX(Veri!$AN$31:$AN$500,MATCH(V187,Veri!$AS$31:$AS$500,0)),\"\"),\"\")","v":""},{"$f":"IFERROR(IF(INDEX(Veri!$AO$31:$AO$500,MATCH(V187,Veri!$AS$31:$AS$500,0))<>\"\",INDEX(Veri!$AO$31:$AO$500,MATCH(V187,Veri!$AS$31:$AS$500,0)),\"\"),\"\")","v":""}]
[null,null,null,null,null,null,null,null,null,null,null,null,null,null,136,{"$f":"IFERROR(IF(INDEX(Veri!$AA$31:$AA$500,MATCH(O145,Veri!$AI$31:$AI$500,0))<>\"\",INDEX(Veri!$AA$31:$AA$500,MATCH(O145,Veri!$AI$31:$AI$500,0)),\"\"),\"\")","v":""},{"$f":"IFERROR(IF(INDEX(Veri!$AG$31:$AG$500,MATCH(O145,Veri!$AI$31:$AI$500,0))<>\"\",INDEX(Veri!$AG$31:$AG$500,MATCH(O145,Veri!$AI$31:$AI$500,0)),\"\"),\"\")","v":""},{"$f":"IFERROR(IF(INDEX(Veri!$AC$31:$AC$500,MATCH(O145,Veri!$AI$31:$AI$500,0))<>\"\",INDEX(Veri!$AC$31:$AC$500,MATCH(O145,Veri!$AI$31:$AI$500,0)),\"\"),\"\")","v":""},{"$f":"IFERROR(IF(INDEX(Veri!$AD$31:$AD$500,MATCH(O145,Veri!$AI$31:$AI$500,0))<>\"\",INDEX(Veri!$AD$31:$AD$500,MATCH(O145,Veri!$AI$31:$AI$500,0)),\"\"),\"\")","v":""},{"$f":"IFERROR(IF(INDEX(Veri!$AE$31:$AE$500,MATCH(O145,Veri!$AI$31:$AI$500,0))<>\"\",INDEX(Veri!$AE$31:$AE$500,MATCH(O145,Veri!$AI$31:$AI$500,0)),\"\"),\"\")","v":""},null,136,{"$f":"IFERROR(IF(INDEX(Veri!$AK$31:$AK$500,MATCH(V188,Veri!$AS$31:$AS$500,0))<>\"\",INDEX(Veri!$AK$31:$AK$500,MATCH(V188,Veri!$AS$31:$AS$500,0)),\"\"),\"\")","v":""},{"$f":"IFERROR(IF(INDEX(Veri!$AQ$31:$AQ$500,MATCH(V188,Veri!$AS$31:$AS$500,0))<>\"\",INDEX(Veri!$AQ$31:$AQ$500,MATCH(V188,Veri!$AS$31:$AS$500,0)),\"\"),\"\")","v":""},{"$f":"IFERROR(IF(INDEX(Veri!$AM$31:$AM$500,MATCH(V188,Veri!$AS$31:$AS$500,0))<>\"\",INDEX(Veri!$AM$31:$AM$500,MATCH(V188,Veri!$AS$31:$AS$500,0)),\"\"),\"\")","v":""},{"$f":"IFERROR(IF(INDEX(Veri!$AN$31:$AN$500,MATCH(V188,Veri!$AS$31:$AS$500,0))<>\"\",INDEX(Veri!$AN$31:$AN$500,MATCH(V188,Veri!$AS$31:$AS$500,0)),\"\"),\"\")","v":""},{"$f":"IFERROR(IF(INDEX(Veri!$AO$31:$AO$500,MATCH(V188,Veri!$AS$31:$AS$500,0))<>\"\",INDEX(Veri!$AO$31:$AO$500,MATCH(V188,Veri!$AS$31:$AS$500,0)),\"\"),\"\")","v":""}]
[null,null,null,null,null,null,null,null,null,null,null,null,null,null,137,{"$f":"IFERROR(IF(INDEX(Veri!$AA$31:$AA$500,MATCH(O146,Veri!$AI$31:$AI$500,0))<>\"\",INDEX(Veri!$AA$31:$AA$500,MATCH(O146,Veri!$AI$31:$AI$500,0)),\"\"),\"\")","v":""},{"$f":"IFERROR(IF(INDEX(Veri!$AG$31:$AG$500,MATCH(O146,Veri!$AI$31:$AI$500,0))<>\"\",INDEX(Veri!$AG$31:$AG$500,MATCH(O146,Veri!$AI$31:$AI$500,0)),\"\"),\"\")","v":""},{"$f":"IFERROR(IF(INDEX(Veri!$AC$31:$AC$500,MATCH(O146,Veri!$AI$31:$AI$500,0))<>\"\",INDEX(Veri!$AC$31:$AC$500,MATCH(O146,Veri!$AI$31:$AI$500,0)),\"\"),\"\")","v":""},{"$f":"IFERROR(IF(INDEX(Veri!$AD$31:$AD$500,MATCH(O146,Veri!$AI$31:$AI$500,0))<>\"\",INDEX(Veri!$AD$31:$AD$500,MATCH(O146,Veri!$AI$31:$AI$500,0)),\"\"),\"\")","v":""},{"$f":"IFERROR(IF(INDEX(Veri!$AE$31:$AE$500,MATCH(O146,Veri!$AI$31:$AI$500,0))<>\"\",INDEX(Veri!$AE$31:$AE$500,MATCH(O146,Veri!$AI$31:$AI$500,0)),\"\"),\"\")","v":""},null,137,{"$f":"IFERROR(IF(INDEX(Veri!$AK$31:$AK$500,MATCH(V189,Veri!$AS$31:$AS$500,0))<>\"\",INDEX(Veri!$AK$31:$AK$500,MATCH(V189,Veri!$AS$31:$AS$500,0)),\"\"),\"\")","v":""},{"$f":"IFERROR(IF(INDEX(Veri!$AQ$31:$AQ$500,MATCH(V189,Veri!$AS$31:$AS$500,0))<>\"\",INDEX(Veri!$AQ$31:$AQ$500,MATCH(V189,Veri!$AS$31:$AS$500,0)),\"\"),\"\")","v":""},{"$f":"IFERROR(IF(INDEX(Veri!$AM$31:$AM$500,MATCH(V189,Veri!$AS$31:$AS$500,0))<>\"\",INDEX(Veri!$AM$31:$AM$500,MATCH(V189,Veri!$AS$31:$AS$500,0)),\"\"),\"\")","v":""},{"$f":"IFERROR(IF(INDEX(Veri!$AN$31:$AN$500,MATCH(V189,Veri!$AS$31:$AS$500,0))<>\"\",INDEX(Veri!$AN$31:$AN$500,MATCH(V189,Veri!$AS$31:$AS$500,0)),\"\"),\"\")","v":""},{"$f":"IFERROR(IF(INDEX(Veri!$AO$31:$AO$500,MATCH(V189,Veri!$AS$31:$AS$500,0))<>\"\",INDEX(Veri!$AO$31:$AO$500,MATCH(V189,Veri!$AS$31:$AS$500,0)),\"\"),\"\")","v":""}]
[null,null,null,null,null,null,null,null,null,null,null,null,null,null,138,{"$f":"IFERROR(IF(INDEX(Veri!$AA$31:$AA$500,MATCH(O147,Veri!$AI$31:$AI$500,0))<>\"\",INDEX(Veri!$AA$31:$AA$500,MATCH(O147,Veri!$AI$31:$AI$500,0)),\"\"),\"\")","v":""},{"$f":"IFERROR(IF(INDEX(Veri!$AG$31:$AG$500,MATCH(O147,Veri!$AI$31:$AI$500,0))<>\"\",INDEX(Veri!$AG$31:$AG$500,MATCH(O147,Veri!$AI$31:$AI$500,0)),\"\"),\"\")","v":""},{"$f":"IFERROR(IF(INDEX(Veri!$AC$31:$AC$500,MATCH(O147,Veri!$AI$31:$AI$500,0))<>\"\",INDEX(Veri!$AC$31:$AC$500,MATCH(O147,Veri!$AI$31:$AI$500,0)),\"\"),\"\")","v":""},{"$f":"IFERROR(IF(INDEX(Veri!$AD$31:$AD$500,MATCH(O147,Veri!$AI$31:$AI$500,0))<>\"\",INDEX(Veri!$AD$31:$AD$500,MATCH(O147,Veri!$AI$31:$AI$500,0)),\"\"),\"\")","v":""},{"$f":"IFERROR(IF(INDEX(Veri!$AE$31:$AE$500,MATCH(O147,Veri!$AI$31:$AI$500,0))<>\"\",INDEX(Veri!$AE$31:$AE$500,MATCH(O147,Veri!$AI$31:$AI$500,0)),\"\"),\"\")","v":""},null,138,{"$f":"IFERROR(IF(INDEX(Veri!$AK$31:$AK$500,MATCH(V190,Veri!$AS$31:$AS$500,0))<>\"\",INDEX(Veri!$AK$31:$AK$500,MATCH(V190,Veri!$AS$31:$AS$500,0)),\"\"),\"\")","v":""},{"$f":"IFERROR(IF(INDEX(Veri!$AQ$31:$AQ$500,MATCH(V190,Veri!$AS$31:$AS$500,0))<>\"\",INDEX(Veri!$AQ$31:$AQ$500,MATCH(V190,Veri!$AS$31:$AS$500,0)),\"\"),\"\")","v":""},{"$f":"IFERROR(IF(INDEX(Veri!$AM$31:$AM$500,MATCH(V190,Veri!$AS$31:$AS$500,0))<>\"\",INDEX(Veri!$AM$31:$AM$500,MATCH(V190,Veri!$AS$31:$AS$500,0)),\"\"),\"\")","v":""},{"$f":"IFERROR(IF(INDEX(Veri!$AN$31:$AN$500,MATCH(V190,Veri!$AS$31:$AS$500,0))<>\"\",INDEX(Veri!$AN$31:$AN$500,MATCH(V190,Veri!$AS$31:$AS$500,0)),\"\"),\"\")","v":""},{"$f":"IFERROR(IF(INDEX(Veri!$AO$31:$AO$500,MATCH(V190,Veri!$AS$31:$AS$500,0))<>\"\",INDEX(Veri!$AO$31:$AO$500,MATCH(V190,Veri!$AS$31:$AS$500,0)),\"\"),\"\")","v":""}]
[null,null,null,null,null,null,null,null,null,null,null,null,null,null,139,{"$f":"IFERROR(IF(INDEX(Veri!$AA$31:$AA$500,MATCH(O148,Veri!$AI$31:$AI$500,0))<>\"\",INDEX(Veri!$AA$31:$AA$500,MATCH(O148,Veri!$AI$31:$AI$500,0)),\"\"),\"\")","v":""},{"$f":"IFERROR(IF(INDEX(Veri!$AG$31:$AG$500,MATCH(O148,Veri!$AI$31:$AI$500,0))<>\"\",INDEX(Veri!$AG$31:$AG$500,MATCH(O148,Veri!$AI$31:$AI$500,0)),\"\"),\"\")","v":""},{"$f":"IFERROR(IF(INDEX(Veri!$AC$31:$AC$500,MATCH(O148,Veri!$AI$31:$AI$500,0))<>\"\",INDEX(Veri!$AC$31:$AC$500,MATCH(O148,Veri!$AI$31:$AI$500,0)),\"\"),\"\")","v":""},{"$f":"IFERROR(IF(INDEX(Veri!$AD$31:$AD$500,MATCH(O148,Veri!$AI$31:$AI$500,0))<>\"\",INDEX(Veri!$AD$31:$AD$500,MATCH(O148,Veri!$AI$31:$AI$500,0)),\"\"),\"\")","v":""},{"$f":"IFERROR(IF(INDEX(Veri!$AE$31:$AE$500,MATCH(O148,Veri!$AI$31:$AI$500,0))<>\"\",INDEX(Veri!$AE$31:$AE$500,MATCH(O148,Veri!$AI$31:$AI$500,0)),\"\"),\"\")","v":""},null,139,{"$f":"IFERROR(IF(INDEX(Veri!$AK$31:$AK$500,MATCH(V191,Veri!$AS$31:$AS$500,0))<>\"\",INDEX(Veri!$AK$31:$AK$500,MATCH(V191,Veri!$AS$31:$AS$500,0)),\"\"),\"\")","v":""},{"$f":"IFERROR(IF(INDEX(Veri!$AQ$31:$AQ$500,MATCH(V191,Veri!$AS$31:$AS$500,0))<>\"\",INDEX(Veri!$AQ$31:$AQ$500,MATCH(V191,Veri!$AS$31:$AS$500,0)),\"\"),\"\")","v":""},{"$f":"IFERROR(IF(INDEX(Veri!$AM$31:$AM$500,MATCH(V191,Veri!$AS$31:$AS$500,0))<>\"\",INDEX(Veri!$AM$31:$AM$500,MATCH(V191,Veri!$AS$31:$AS$500,0)),\"\"),\"\")","v":""},{"$f":"IFERROR(IF(INDEX(Veri!$AN$31:$AN$500,MATCH(V191,Veri!$AS$31:$AS$500,0))<>\"\",INDEX(Veri!$AN$31:$AN$500,MATCH(V191,Veri!$AS$31:$AS$500,0)),\"\"),\"\")","v":""},{"$f":"IFERROR(IF(INDEX(Veri!$AO$31:$AO$500,MATCH(V191,Veri!$AS$31:$AS$500,0))<>\"\",INDEX(Veri!$AO$31:$AO$500,MATCH(V191,Veri!$AS$31:$AS$500,0)),\"\"),\"\")","v":""}]
[null,null,null,null,null,null,null,null,null,null,null,null,null,null,140,{"$f":"IFERROR(IF(INDEX(Veri!$AA$31:$AA$500,MATCH(O149,Veri!$AI$31:$AI$500,0))<>\"\",INDEX(Veri!$AA$31:$AA$500,MATCH(O149,Veri!$AI$31:$AI$500,0)),\"\"),\"\")","v":""},{"$f":"IFERROR(IF(INDEX(Veri!$AG$31:$AG$500,MATCH(O149,Veri!$AI$31:$AI$500,0))<>\"\",INDEX(Veri!$AG$31:$AG$500,MATCH(O149,Veri!$AI$31:$AI$500,0)),\"\"),\"\")","v":""},{"$f":"IFERROR(IF(INDEX(Veri!$AC$31:$AC$500,MATCH(O149,Veri!$AI$31:$AI$500,0))<>\"\",INDEX(Veri!$AC$31:$AC$500,MATCH(O149,Veri!$AI$31:$AI$500,0)),\"\"),\"\")","v":""},{"$f":"IFERROR(IF(INDEX(Veri!$AD$31:$AD$500,MATCH(O149,Veri!$AI$31:$AI$500,0))<>\"\",INDEX(Veri!$AD$31:$AD$500,MATCH(O149,Veri!$AI$31:$AI$500,0)),\"\"),\"\")","v":""},{"$f":"IFERROR(IF(INDEX(Veri!$AE$31:$AE$500,MATCH(O149,Veri!$AI$31:$AI$500,0))<>\"\",INDEX(Veri!$AE$31:$AE$500,MATCH(O149,Veri!$AI$31:$AI$500,0)),\"\"),\"\")","v":""},null,140,{"$f":"IFERROR(IF(INDEX(Veri!$AK$31:$AK$500,MATCH(V192,Veri!$AS$31:$AS$500,0))<>\"\",INDEX(Veri!$AK$31:$AK$500,MATCH(V192,Veri!$AS$31:$AS$500,0)),\"\"),\"\")","v":""},{"$f":"IFERROR(IF(INDEX(Veri!$AQ$31:$AQ$500,MATCH(V192,Veri!$AS$31:$AS$500,0))<>\"\",INDEX(Veri!$AQ$31:$AQ$500,MATCH(V192,Veri!$AS$31:$AS$500,0)),\"\"),\"\")","v":""},{"$f":"IFERROR(IF(INDEX(Veri!$AM$31:$AM$500,MATCH(V192,Veri!$AS$31:$AS$500,0))<>\"\",INDEX(Veri!$AM$31:$AM$500,MATCH(V192,Veri!$AS$31:$AS$500,0)),\"\"),\"\")","v":""},{"$f":"IFERROR(IF(INDEX(Veri!$AN$31:$AN$500,MATCH(V192,Veri!$AS$31:$AS$500,0))<>\"\",INDEX(Veri!$AN$31:$AN$500,MATCH(V192,Veri!$AS$31:$AS$500,0)),\"\"),\"\")","v":""},{"$f":"IFERROR(IF(INDEX(Veri!$AO$31:$AO$500,MATCH(V192,Veri!$AS$31:$AS$500,0))<>\"\",INDEX(Veri!$AO$31:$AO$500,MATCH(V192,Veri!$AS$31:$AS$500,0)),\"\"),\"\")","v":""}]
[null,null,null,null,null,null,null,null,null,null,null,null,null,null,141,{"$f":"IFERROR(IF(INDEX(Veri!$AA$31:$AA$500,MATCH(O150,Veri!$AI$31:$AI$500,0))<>\"\",INDEX(Veri!$AA$31:$AA$500,MATCH(O150,Veri!$AI$31:$AI$500,0)),\"\"),\"\")","v":""},{"$f":"IFERROR(IF(INDEX(Veri!$AG$31:$AG$500,MATCH(O150,Veri!$AI$31:$AI$500,0))<>\"\",INDEX(Veri!$AG$31:$AG$500,MATCH(O150,Veri!$AI$31:$AI$500,0)),\"\"),\"\")","v":""},{"$f":"IFERROR(IF(INDEX(Veri!$AC$31:$AC$500,MATCH(O150,Veri!$AI$31:$AI$500,0))<>\"\",INDEX(Veri!$AC$31:$AC$500,MATCH(O150,Veri!$AI$31:$AI$500,0)),\"\"),\"\")","v":""},{"$f":"IFERROR(IF(INDEX(Veri!$AD$31:$AD$500,MATCH(O150,Veri!$AI$31:$AI$500,0))<>\"\",INDEX(Veri!$AD$31:$AD$500,MATCH(O150,Veri!$AI$31:$AI$500,0)),\"\"),\"\")","v":""},{"$f":"IFERROR(IF(INDEX(Veri!$AE$31:$AE$500,MATCH(O150,Veri!$AI$31:$AI$500,0))<>\"\",INDEX(Veri!$AE$31:$AE$500,MATCH(O150,Veri!$AI$31:$AI$500,0)),\"\"),\"\")","v":""},null,141,{"$f":"IFERROR(IF(INDEX(Veri!$AK$31:$AK$500,MATCH(V193,Veri!$AS$31:$AS$500,0))<>\"\",INDEX(Veri!$AK$31:$AK$500,MATCH(V193,Veri!$AS$31:$AS$500,0)),\"\"),\"\")","v":""},{"$f":"IFERROR(IF(INDEX(Veri!$AQ$31:$AQ$500,MATCH(V193,Veri!$AS$31:$AS$500,0))<>\"\",INDEX(Veri!$AQ$31:$AQ$500,MATCH(V193,Veri!$AS$31:$AS$500,0)),\"\"),\"\")","v":""},{"$f":"IFERROR(IF(INDEX(Veri!$AM$31:$AM$500,MATCH(V193,Veri!$AS$31:$AS$500,0))<>\"\",INDEX(Veri!$AM$31:$AM$500,MATCH(V193,Veri!$AS$31:$AS$500,0)),\"\"),\"\")","v":""},{"$f":"IFERROR(IF(INDEX(Veri!$AN$31:$AN$500,MATCH(V193,Veri!$AS$31:$AS$500,0))<>\"\",INDEX(Veri!$AN$31:$AN$500,MATCH(V193,Veri!$AS$31:$AS$500,0)),\"\"),\"\")","v":""},{"$f":"IFERROR(IF(INDEX(Veri!$AO$31:$AO$500,MATCH(V193,Veri!$AS$31:$AS$500,0))<>\"\",INDEX(Veri!$AO$31:$AO$500,MATCH(V193,Veri!$AS$31:$AS$500,0)),\"\"),\"\")","v":""}]
[null,null,null,null,null,null,null,null,null,null,null,null,null,null,142,{"$f":"IFERROR(IF(INDEX(Veri!$AA$31:$AA$500,MATCH(O151,Veri!$AI$31:$AI$500,0))<>\"\",INDEX(Veri!$AA$31:$AA$500,MATCH(O151,Veri!$AI$31:$AI$500,0)),\"\"),\"\")","v":""},{"$f":"IFERROR(IF(INDEX(Veri!$AG$31:$AG$500,MATCH(O151,Veri!$AI$31:$AI$500,0))<>\"\",INDEX(Veri!$AG$31:$AG$500,MATCH(O151,Veri!$AI$31:$AI$500,0)),\"\"),\"\")","v":""},{"$f":"IFERROR(IF(INDEX(Veri!$AC$31:$AC$500,MATCH(O151,Veri!$AI$31:$AI$500,0))<>\"\",INDEX(Veri!$AC$31:$AC$500,MATCH(O151,Veri!$AI$31:$AI$500,0)),\"\"),\"\")","v":""},{"$f":"IFERROR(IF(INDEX(Veri!$AD$31:$AD$500,MATCH(O151,Veri!$AI$31:$AI$500,0))<>\"\",INDEX(Veri!$AD$31:$AD$500,MATCH(O151,Veri!$AI$31:$AI$500,0)),\"\"),\"\")","v":""},{"$f":"IFERROR(IF(INDEX(Veri!$AE$31:$AE$500,MATCH(O151,Veri!$AI$31:$AI$500,0))<>\"\",INDEX(Veri!$AE$31:$AE$500,MATCH(O151,Veri!$AI$31:$AI$500,0)),\"\"),\"\")","v":""},null,142,{"$f":"IFERROR(IF(INDEX(Veri!$AK$31:$AK$500,MATCH(V194,Veri!$AS$31:$AS$500,0))<>\"\",INDEX(Veri!$AK$31:$AK$500,MATCH(V194,Veri!$AS$31:$AS$500,0)),\"\"),\"\")","v":""},{"$f":"IFERROR(IF(INDEX(Veri!$AQ$31:$AQ$500,MATCH(V194,Veri!$AS$31:$AS$500,0))<>\"\",INDEX(Veri!$AQ$31:$AQ$500,MATCH(V194,Veri!$AS$31:$AS$500,0)),\"\"),\"\")","v":""},{"$f":"IFERROR(IF(INDEX(Veri!$AM$31:$AM$500,MATCH(V194,Veri!$AS$31:$AS$500,0))<>\"\",INDEX(Veri!$AM$31:$AM$500,MATCH(V194,Veri!$AS$31:$AS$500,0)),\"\"),\"\")","v":""},{"$f":"IFERROR(IF(INDEX(Veri!$AN$31:$AN$500,MATCH(V194,Veri!$AS$31:$AS$500,0))<>\"\",INDEX(Veri!$AN$31:$AN$500,MATCH(V194,Veri!$AS$31:$AS$500,0)),\"\"),\"\")","v":""},{"$f":"IFERROR(IF(INDEX(Veri!$AO$31:$AO$500,MATCH(V194,Veri!$AS$31:$AS$500,0))<>\"\",INDEX(Veri!$AO$31:$AO$500,MATCH(V194,Veri!$AS$31:$AS$500,0)),\"\"),\"\")","v":""}]
[null,null,null,null,null,null,null,null,null,null,null,null,null,null,143,{"$f":"IFERROR(IF(INDEX(Veri!$AA$31:$AA$500,MATCH(O500,Veri!$AI$31:$AI$500,0))<>\"\",INDEX(Veri!$AA$31:$AA$500,MATCH(O500,Veri!$AI$31:$AI$500,0)),\"\"),\"\")","v":""},{"$f":"IFERROR(IF(INDEX(Veri!$AG$31:$AG$500,MATCH(O500,Veri!$AI$31:$AI$500,0))<>\"\",INDEX(Veri!$AG$31:$AG$500,MATCH(O500,Veri!$AI$31:$AI$500,0)),\"\"),\"\")","v":""},{"$f":"IFERROR(IF(INDEX(Veri!$AC$31:$AC$500,MATCH(O500,Veri!$AI$31:$AI$500,0))<>\"\",INDEX(Veri!$AC$31:$AC$500,MATCH(O500,Veri!$AI$31:$AI$500,0)),\"\"),\"\")","v":""},{"$f":"IFERROR(IF(INDEX(Veri!$AD$31:$AD$500,MATCH(O500,Veri!$AI$31:$AI$500,0))<>\"\",INDEX(Veri!$AD$31:$AD$500,MATCH(O500,Veri!$AI$31:$AI$500,0)),\"\"),\"\")","v":""},{"$f":"IFERROR(IF(INDEX(Veri!$AE$31:$AE$500,MATCH(O500,Veri!$AI$31:$AI$500,0))<>\"\",INDEX(Veri!$AE$31:$AE$500,MATCH(O500,Veri!$AI$31:$AI$500,0)),\"\"),\"\")","v":""},null,143,{"$f":"IFERROR(IF(INDEX(Veri!$AK$31:$AK$500,MATCH(V195,Veri!$AS$31:$AS$500,0))<>\"\",INDEX(Veri!$AK$31:$AK$500,MATCH(V195,Veri!$AS$31:$AS$500,0)),\"\"),\"\")","v":""},{"$f":"IFERROR(IF(INDEX(Veri!$AQ$31:$AQ$500,MATCH(V195,Veri!$AS$31:$AS$500,0))<>\"\",INDEX(Veri!$AQ$31:$AQ$500,MATCH(V195,Veri!$AS$31:$AS$500,0)),\"\"),\"\")","v":""},{"$f":"IFERROR(IF(INDEX(Veri!$AM$31:$AM$500,MATCH(V195,Veri!$AS$31:$AS$500,0))<>\"\",INDEX(Veri!$AM$31:$AM$500,MATCH(V195,Veri!$AS$31:$AS$500,0)),\"\"),\"\")","v":""},{"$f":"IFERROR(IF(INDEX(Veri!$AN$31:$AN$500,MATCH(V195,Veri!$AS$31:$AS$500,0))<>\"\",INDEX(Veri!$AN$31:$AN$500,MATCH(V195,Veri!$AS$31:$AS$500,0)),\"\"),\"\")","v":""},{"$f":"IFERROR(IF(INDEX(Veri!$AO$31:$AO$500,MATCH(V195,Veri!$AS$31:$AS$500,0))<>\"\",INDEX(Veri!$AO$31:$AO$500,MATCH(V195,Veri!$AS$31:$AS$500,0)),\"\"),\"\")","v":""}]
[null,null,null,null,null,null,null,null,null,null,null,null,null,null,144,{"$f":"IFERROR(IF(INDEX(Veri!$AA$31:$AA$500,MATCH(O153,Veri!$AI$31:$AI$500,0))<>\"\",INDEX(Veri!$AA$31:$AA$500,MATCH(O153,Veri!$AI$31:$AI$500,0)),\"\"),\"\")","v":""},{"$f":"IFERROR(IF(INDEX(Veri!$AG$31:$AG$500,MATCH(O153,Veri!$AI$31:$AI$500,0))<>\"\",INDEX(Veri!$AG$31:$AG$500,MATCH(O153,Veri!$AI$31:$AI$500,0)),\"\"),\"\")","v":""},{"$f":"IFERROR(IF(INDEX(Veri!$AC$31:$AC$500,MATCH(O153,Veri!$AI$31:$AI$500,0))<>\"\",INDEX(Veri!$AC$31:$AC$500,MATCH(O153,Veri!$AI$31:$AI$500,0)),\"\"),\"\")","v":""},{"$f":"IFERROR(IF(INDEX(Veri!$AD$31:$AD$500,MATCH(O153,Veri!$AI$31:$AI$500,0))<>\"\",INDEX(Veri!$AD$31:$AD$500,MATCH(O153,Veri!$AI$31:$AI$500,0)),\"\"),\"\")","v":""},{"$f":"IFERROR(IF(INDEX(Veri!$AE$31:$AE$500,MATCH(O153,Veri!$AI$31:$AI$500,0))<>\"\",INDEX(Veri!$AE$31:$AE$500,MATCH(O153,Veri!$AI$31:$AI$500,0)),\"\"),\"\")","v":""},null,144,{"$f":"IFERROR(IF(INDEX(Veri!$AK$31:$AK$500,MATCH(V196,Veri!$AS$31:$AS$500,0))<>\"\",INDEX(Veri!$AK$31:$AK$500,MATCH(V196,Veri!$AS$31:$AS$500,0)),\"\"),\"\")","v":""},{"$f":"IFERROR(IF(INDEX(Veri!$AQ$31:$AQ$500,MATCH(V196,Veri!$AS$31:$AS$500,0))<>\"\",INDEX(Veri!$AQ$31:$AQ$500,MATCH(V196,Veri!$AS$31:$AS$500,0)),\"\"),\"\")","v":""},{"$f":"IFERROR(IF(INDEX(Veri!$AM$31:$AM$500,MATCH(V196,Veri!$AS$31:$AS$500,0))<>\"\",INDEX(Veri!$AM$31:$AM$500,MATCH(V196,Veri!$AS$31:$AS$500,0)),\"\"),\"\")","v":""},{"$f":"IFERROR(IF(INDEX(Veri!$AN$31:$AN$500,MATCH(V196,Veri!$AS$31:$AS$500,0))<>\"\",INDEX(Veri!$AN$31:$AN$500,MATCH(V196,Veri!$AS$31:$AS$500,0)),\"\"),\"\")","v":""},{"$f":"IFERROR(IF(INDEX(Veri!$AO$31:$AO$500,MATCH(V196,Veri!$AS$31:$AS$500,0))<>\"\",INDEX(Veri!$AO$31:$AO$500,MATCH(V196,Veri!$AS$31:$AS$500,0)),\"\"),\"\")","v":""}]
[null,null,null,null,null,null,null,null,null,null,null,null,null,null,145,{"$f":"IFERROR(IF(INDEX(Veri!$AA$31:$AA$500,MATCH(O154,Veri!$AI$31:$AI$500,0))<>\"\",INDEX(Veri!$AA$31:$AA$500,MATCH(O154,Veri!$AI$31:$AI$500,0)),\"\"),\"\")","v":""},{"$f":"IFERROR(IF(INDEX(Veri!$AG$31:$AG$500,MATCH(O154,Veri!$AI$31:$AI$500,0))<>\"\",INDEX(Veri!$AG$31:$AG$500,MATCH(O154,Veri!$AI$31:$AI$500,0)),\"\"),\"\")","v":""},{"$f":"IFERROR(IF(INDEX(Veri!$AC$31:$AC$500,MATCH(O154,Veri!$AI$31:$AI$500,0))<>\"\",INDEX(Veri!$AC$31:$AC$500,MATCH(O154,Veri!$AI$31:$AI$500,0)),\"\"),\"\")","v":""},{"$f":"IFERROR(IF(INDEX(Veri!$AD$31:$AD$500,MATCH(O154,Veri!$AI$31:$AI$500,0))<>\"\",INDEX(Veri!$AD$31:$AD$500,MATCH(O154,Veri!$AI$31:$AI$500,0)),\"\"),\"\")","v":""},{"$f":"IFERROR(IF(INDEX(Veri!$AE$31:$AE$500,MATCH(O154,Veri!$AI$31:$AI$500,0))<>\"\",INDEX(Veri!$AE$31:$AE$500,MATCH(O154,Veri!$AI$31:$AI$500,0)),\"\"),\"\")","v":""},null,145,{"$f":"IFERROR(IF(INDEX(Veri!$AK$31:$AK$500,MATCH(V197,Veri!$AS$31:$AS$500,0))<>\"\",INDEX(Veri!$AK$31:$AK$500,MATCH(V197,Veri!$AS$31:$AS$500,0)),\"\"),\"\")","v":""},{"$f":"IFERROR(IF(INDEX(Veri!$AQ$31:$AQ$500,MATCH(V197,Veri!$AS$31:$AS$500,0))<>\"\",INDEX(Veri!$AQ$31:$AQ$500,MATCH(V197,Veri!$AS$31:$AS$500,0)),\"\"),\"\")","v":""},{"$f":"IFERROR(IF(INDEX(Veri!$AM$31:$AM$500,MATCH(V197,Veri!$AS$31:$AS$500,0))<>\"\",INDEX(Veri!$AM$31:$AM$500,MATCH(V197,Veri!$AS$31:$AS$500,0)),\"\"),\"\")","v":""},{"$f":"IFERROR(IF(INDEX(Veri!$AN$31:$AN$500,MATCH(V197,Veri!$AS$31:$AS$500,0))<>\"\",INDEX(Veri!$AN$31:$AN$500,MATCH(V197,Veri!$AS$31:$AS$500,0)),\"\"),\"\")","v":""},{"$f":"IFERROR(IF(INDEX(Veri!$AO$31:$AO$500,MATCH(V197,Veri!$AS$31:$AS$500,0))<>\"\",INDEX(Veri!$AO$31:$AO$500,MATCH(V197,Veri!$AS$31:$AS$500,0)),\"\"),\"\")","v":""}]
[null,null,null,null,null,null,null,null,null,null,null,null,null,null,146,{"$f":"IFERROR(IF(INDEX(Veri!$AA$31:$AA$500,MATCH(O155,Veri!$AI$31:$AI$500,0))<>\"\",INDEX(Veri!$AA$31:$AA$500,MATCH(O155,Veri!$AI$31:$AI$500,0)),\"\"),\"\")","v":""},{"$f":"IFERROR(IF(INDEX(Veri!$AG$31:$AG$500,MATCH(O155,Veri!$AI$31:$AI$500,0))<>\"\",INDEX(Veri!$AG$31:$AG$500,MATCH(O155,Veri!$AI$31:$AI$500,0)),\"\"),\"\")","v":""},{"$f":"IFERROR(IF(INDEX(Veri!$AC$31:$AC$500,MATCH(O155,Veri!$AI$31:$AI$500,0))<>\"\",INDEX(Veri!$AC$31:$AC$500,MATCH(O155,Veri!$AI$31:$AI$500,0)),\"\"),\"\")","v":""},{"$f":"IFERROR(IF(INDEX(Veri!$AD$31:$AD$500,MATCH(O155,Veri!$AI$31:$AI$500,0))<>\"\",INDEX(Veri!$AD$31:$AD$500,MATCH(O155,Veri!$AI$31:$AI$500,0)),\"\"),\"\")","v":""},{"$f":"IFERROR(IF(INDEX(Veri!$AE$31:$AE$500,MATCH(O155,Veri!$AI$31:$AI$500,0))<>\"\",INDEX(Veri!$AE$31:$AE$500,MATCH(O155,Veri!$AI$31:$AI$500,0)),\"\"),\"\")","v":""},null,146,{"$f":"IFERROR(IF(INDEX(Veri!$AK$31:$AK$500,MATCH(V198,Veri!$AS$31:$AS$500,0))<>\"\",INDEX(Veri!$AK$31:$AK$500,MATCH(V198,Veri!$AS$31:$AS$500,0)),\"\"),\"\")","v":""},{"$f":"IFERROR(IF(INDEX(Veri!$AQ$31:$AQ$500,MATCH(V198,Veri!$AS$31:$AS$500,0))<>\"\",INDEX(Veri!$AQ$31:$AQ$500,MATCH(V198,Veri!$AS$31:$AS$500,0)),\"\"),\"\")","v":""},{"$f":"IFERROR(IF(INDEX(Veri!$AM$31:$AM$500,MATCH(V198,Veri!$AS$31:$AS$500,0))<>\"\",INDEX(Veri!$AM$31:$AM$500,MATCH(V198,Veri!$AS$31:$AS$500,0)),\"\"),\"\")","v":""},{"$f":"IFERROR(IF(INDEX(Veri!$AN$31:$AN$500,MATCH(V198,Veri!$AS$31:$AS$500,0))<>\"\",INDEX(Veri!$AN$31:$AN$500,MATCH(V198,Veri!$AS$31:$AS$500,0)),\"\"),\"\")","v":""},{"$f":"IFERROR(IF(INDEX(Veri!$AO$31:$AO$500,MATCH(V198,Veri!$AS$31:$AS$500,0))<>\"\",INDEX(Veri!$AO$31:$AO$500,MATCH(V198,Veri!$AS$31:$AS$500,0)),\"\"),\"\")","v":""}]
[null,null,null,null,null,null,null,null,null,null,null,null,null,null,147,{"$f":"IFERROR(IF(INDEX(Veri!$AA$31:$AA$500,MATCH(O156,Veri!$AI$31:$AI$500,0))<>\"\",INDEX(Veri!$AA$31:$AA$500,MATCH(O156,Veri!$AI$31:$AI$500,0)),\"\"),\"\")","v":""},{"$f":"IFERROR(IF(INDEX(Veri!$AG$31:$AG$500,MATCH(O156,Veri!$AI$31:$AI$500,0))<>\"\",INDEX(Veri!$AG$31:$AG$500,MATCH(O156,Veri!$AI$31:$AI$500,0)),\"\"),\"\")","v":""},{"$f":"IFERROR(IF(INDEX(Veri!$AC$31:$AC$500,MATCH(O156,Veri!$AI$31:$AI$500,0))<>\"\",INDEX(Veri!$AC$31:$AC$500,MATCH(O156,Veri!$AI$31:$AI$500,0)),\"\"),\"\")","v":""},{"$f":"IFERROR(IF(INDEX(Veri!$AD$31:$AD$500,MATCH(O156,Veri!$AI$31:$AI$500,0))<>\"\",INDEX(Veri!$AD$31:$AD$500,MATCH(O156,Veri!$AI$31:$AI$500,0)),\"\"),\"\")","v":""},{"$f":"IFERROR(IF(INDEX(Veri!$AE$31:$AE$500,MATCH(O156,Veri!$AI$31:$AI$500,0))<>\"\",INDEX(Veri!$AE$31:$AE$500,MATCH(O156,Veri!$AI$31:$AI$500,0)),\"\"),\"\")","v":""},null,147,{"$f":"IFERROR(IF(INDEX(Veri!$AK$31:$AK$500,MATCH(V199,Veri!$AS$31:$AS$500,0))<>\"\",INDEX(Veri!$AK$31:$AK$500,MATCH(V199,Veri!$AS$31:$AS$500,0)),\"\"),\"\")","v":""},{"$f":"IFERROR(IF(INDEX(Veri!$AQ$31:$AQ$500,MATCH(V199,Veri!$AS$31:$AS$500,0))<>\"\",INDEX(Veri!$AQ$31:$AQ$500,MATCH(V199,Veri!$AS$31:$AS$500,0)),\"\"),\"\")","v":""},{"$f":"IFERROR(IF(INDEX(Veri!$AM$31:$AM$500,MATCH(V199,Veri!$AS$31:$AS$500,0))<>\"\",INDEX(Veri!$AM$31:$AM$500,MATCH(V199,Veri!$AS$31:$AS$500,0)),\"\"),\"\")","v":""},{"$f":"IFERROR(IF(INDEX(Veri!$AN$31:$AN$500,MATCH(V199,Veri!$AS$31:$AS$500,0))<>\"\",INDEX(Veri!$AN$31:$AN$500,MATCH(V199,Veri!$AS$31:$AS$500,0)),\"\"),\"\")","v":""},{"$f":"IFERROR(IF(INDEX(Veri!$AO$31:$AO$500,MATCH(V199,Veri!$AS$31:$AS$500,0))<>\"\",INDEX(Veri!$AO$31:$AO$500,MATCH(V199,Veri!$AS$31:$AS$500,0)),\"\"),\"\")","v":""}]
[null,null,null,null,null,null,null,null,null,null,null,null,null,null,148,{"$f":"IFERROR(IF(INDEX(Veri!$AA$31:$AA$500,MATCH(O157,Veri!$AI$31:$AI$500,0))<>\"\",INDEX(Veri!$AA$31:$AA$500,MATCH(O157,Veri!$AI$31:$AI$500,0)),\"\"),\"\")","v":""},{"$f":"IFERROR(IF(INDEX(Veri!$AG$31:$AG$500,MATCH(O157,Veri!$AI$31:$AI$500,0))<>\"\",INDEX(Veri!$AG$31:$AG$500,MATCH(O157,Veri!$AI$31:$AI$500,0)),\"\"),\"\")","v":""},{"$f":"IFERROR(IF(INDEX(Veri!$AC$31:$AC$500,MATCH(O157,Veri!$AI$31:$AI$500,0))<>\"\",INDEX(Veri!$AC$31:$AC$500,MATCH(O157,Veri!$AI$31:$AI$500,0)),\"\"),\"\")","v":""},{"$f":"IFERROR(IF(INDEX(Veri!$AD$31:$AD$500,MATCH(O157,Veri!$AI$31:$AI$500,0))<>\"\",INDEX(Veri!$AD$31:$AD$500,MATCH(O157,Veri!$AI$31:$AI$500,0)),\"\"),\"\")","v":""},{"$f":"IFERROR(IF(INDEX(Veri!$AE$31:$AE$500,MATCH(O157,Veri!$AI$31:$AI$500,0))<>\"\",INDEX(Veri!$AE$31:$AE$500,MATCH(O157,Veri!$AI$31:$AI$500,0)),\"\"),\"\")","v":""},null,148,{"$f":"IFERROR(IF(INDEX(Veri!$AK$31:$AK$500,MATCH(V200,Veri!$AS$31:$AS$500,0))<>\"\",INDEX(Veri!$AK$31:$AK$500,MATCH(V200,Veri!$AS$31:$AS$500,0)),\"\"),\"\")","v":""},{"$f":"IFERROR(IF(INDEX(Veri!$AQ$31:$AQ$500,MATCH(V200,Veri!$AS$31:$AS$500,0))<>\"\",INDEX(Veri!$AQ$31:$AQ$500,MATCH(V200,Veri!$AS$31:$AS$500,0)),\"\"),\"\")","v":""},{"$f":"IFERROR(IF(INDEX(Veri!$AM$31:$AM$500,MATCH(V200,Veri!$AS$31:$AS$500,0))<>\"\",INDEX(Veri!$AM$31:$AM$500,MATCH(V200,Veri!$AS$31:$AS$500,0)),\"\"),\"\")","v":""},{"$f":"IFERROR(IF(INDEX(Veri!$AN$31:$AN$500,MATCH(V200,Veri!$AS$31:$AS$500,0))<>\"\",INDEX(Veri!$AN$31:$AN$500,MATCH(V200,Veri!$AS$31:$AS$500,0)),\"\"),\"\")","v":""},{"$f":"IFERROR(IF(INDEX(Veri!$AO$31:$AO$500,MATCH(V200,Veri!$AS$31:$AS$500,0))<>\"\",INDEX(Veri!$AO$31:$AO$500,MATCH(V200,Veri!$AS$31:$AS$500,0)),\"\"),\"\")","v":""}]
[null,null,null,null,null,null,null,null,null,null,null,null,null,null,149,{"$f":"IFERROR(IF(INDEX(Veri!$AA$31:$AA$500,MATCH(O158,Veri!$AI$31:$AI$500,0))<>\"\",INDEX(Veri!$AA$31:$AA$500,MATCH(O158,Veri!$AI$31:$AI$500,0)),\"\"),\"\")","v":""},{"$f":"IFERROR(IF(INDEX(Veri!$AG$31:$AG$500,MATCH(O158,Veri!$AI$31:$AI$500,0))<>\"\",INDEX(Veri!$AG$31:$AG$500,MATCH(O158,Veri!$AI$31:$AI$500,0)),\"\"),\"\")","v":""},{"$f":"IFERROR(IF(INDEX(Veri!$AC$31:$AC$500,MATCH(O158,Veri!$AI$31:$AI$500,0))<>\"\",INDEX(Veri!$AC$31:$AC$500,MATCH(O158,Veri!$AI$31:$AI$500,0)),\"\"),\"\")","v":""},{"$f":"IFERROR(IF(INDEX(Veri!$AD$31:$AD$500,MATCH(O158,Veri!$AI$31:$AI$500,0))<>\"\",INDEX(Veri!$AD$31:$AD$500,MATCH(O158,Veri!$AI$31:$AI$500,0)),\"\"),\"\")","v":""},{"$f":"IFERROR(IF(INDEX(Veri!$AE$31:$AE$500,MATCH(O158,Veri!$AI$31:$AI$500,0))<>\"\",INDEX(Veri!$AE$31:$AE$500,MATCH(O158,Veri!$AI$31:$AI$500,0)),\"\"),\"\")","v":""},null,149,{"$f":"IFERROR(IF(INDEX(Veri!$AK$31:$AK$500,MATCH(V201,Veri!$AS$31:$AS$500,0))<>\"\",INDEX(Veri!$AK$31:$AK$500,MATCH(V201,Veri!$AS$31:$AS$500,0)),\"\"),\"\")","v":""},{"$f":"IFERROR(IF(INDEX(Veri!$AQ$31:$AQ$500,MATCH(V201,Veri!$AS$31:$AS$500,0))<>\"\",INDEX(Veri!$AQ$31:$AQ$500,MATCH(V201,Veri!$AS$31:$AS$500,0)),\"\"),\"\")","v":""},{"$f":"IFERROR(IF(INDEX(Veri!$AM$31:$AM$500,MATCH(V201,Veri!$AS$31:$AS$500,0))<>\"\",INDEX(Veri!$AM$31:$AM$500,MATCH(V201,Veri!$AS$31:$AS$500,0)),\"\"),\"\")","v":""},{"$f":"IFERROR(IF(INDEX(Veri!$AN$31:$AN$500,MATCH(V201,Veri!$AS$31:$AS$500,0))<>\"\",INDEX(Veri!$AN$31:$AN$500,MATCH(V201,Veri!$AS$31:$AS$500,0)),\"\"),\"\")","v":""},{"$f":"IFERROR(IF(INDEX(Veri!$AO$31:$AO$500,MATCH(V201,Veri!$AS$31:$AS$500,0))<>\"\",INDEX(Veri!$AO$31:$AO$500,MATCH(V201,Veri!$AS$31:$AS$500,0)),\"\"),\"\")","v":""}]
[null,null,null,null,null,null,null,null,null,null,null,null,null,null,150,{"$f":"IFERROR(IF(INDEX(Veri!$AA$31:$AA$500,MATCH(O159,Veri!$AI$31:$AI$500,0))<>\"\",INDEX(Veri!$AA$31:$AA$500,MATCH(O159,Veri!$AI$31:$AI$500,0)),\"\"),\"\")","v":""},{"$f":"IFERROR(IF(INDEX(Veri!$AG$31:$AG$500,MATCH(O159,Veri!$AI$31:$AI$500,0))<>\"\",INDEX(Veri!$AG$31:$AG$500,MATCH(O159,Veri!$AI$31:$AI$500,0)),\"\"),\"\")","v":""},{"$f":"IFERROR(IF(INDEX(Veri!$AC$31:$AC$500,MATCH(O159,Veri!$AI$31:$AI$500,0))<>\"\",INDEX(Veri!$AC$31:$AC$500,MATCH(O159,Veri!$AI$31:$AI$500,0)),\"\"),\"\")","v":""},{"$f":"IFERROR(IF(INDEX(Veri!$AD$31:$AD$500,MATCH(O159,Veri!$AI$31:$AI$500,0))<>\"\",INDEX(Veri!$AD$31:$AD$500,MATCH(O159,Veri!$AI$31:$AI$500,0)),\"\"),\"\")","v":""},{"$f":"IFERROR(IF(INDEX(Veri!$AE$31:$AE$500,MATCH(O159,Veri!$AI$31:$AI$500,0))<>\"\",INDEX(Veri!$AE$31:$AE$500,MATCH(O159,Veri!$AI$31:$AI$500,0)),\"\"),\"\")","v":""},null,150,{"$f":"IFERROR(IF(INDEX(Veri!$AK$31:$AK$500,MATCH(V202,Veri!$AS$31:$AS$500,0))<>\"\",INDEX(Veri!$AK$31:$AK$500,MATCH(V202,Veri!$AS$31:$AS$500,0)),\"\"),\"\")","v":""},{"$f":"IFERROR(IF(INDEX(Veri!$AQ$31:$AQ$500,MATCH(V202,Veri!$AS$31:$AS$500,0))<>\"\",INDEX(Veri!$AQ$31:$AQ$500,MATCH(V202,Veri!$AS$31:$AS$500,0)),\"\"),\"\")","v":""},{"$f":"IFERROR(IF(INDEX(Veri!$AM$31:$AM$500,MATCH(V202,Veri!$AS$31:$AS$500,0))<>\"\",INDEX(Veri!$AM$31:$AM$500,MATCH(V202,Veri!$AS$31:$AS$500,0)),\"\"),\"\")","v":""},{"$f":"IFERROR(IF(INDEX(Veri!$AN$31:$AN$500,MATCH(V202,Veri!$AS$31:$AS$500,0))<>\"\",INDEX(Veri!$AN$31:$AN$500,MATCH(V202,Veri!$AS$31:$AS$500,0)),\"\"),\"\")","v":""},{"$f":"IFERROR(IF(INDEX(Veri!$AO$31:$AO$500,MATCH(V202,Veri!$AS$31:$AS$500,0))<>\"\",INDEX(Veri!$AO$31:$AO$500,MATCH(V202,Veri!$AS$31:$AS$500,0)),\"\"),\"\")","v":""}]