{"text_format":"1","workbook":"xlsx","n_sheets":17,"sheets":["Bulten","Veri1","Veri","ANALIZANDSI","Analiz","KAYIT","KUPONYAP1","20MAC","KUPONYAP2","H2H","KUPONYAP3","KUPONYAPSONUC","KUPONYAP","FORM","ANDSIPRO","Data","İstatistik"],"not_rendered":{"charts":0,"images":7,"macros":1,"external_links":1,"defined_names":42,"comments":0,"pivot_tables":0},"unopened":[],"bounds":{"document_bytes":16777216,"sheet_cells":100000,"rows_first":2000,"rows_last":500,"rows_between":2000,"halvings":0,"cell_chars":16384,"cell_head_chars":4096},"cells_cut":0,"cells_raw":0,"read":"whole","date_system":"1900"}

{"sheet":"Bulten","index":0,"n_rows":1998,"n_cols":37,"rows_kept":1998,"cut":false,"hidden":false,"merged":[[233,0,234,0],[233,1,234,1],[233,2,234,2],[233,10,234,10],[233,11,234,11],[235,0,236,0],[235,1,236,1],[235,2,236,2],[235,10,236,10],[235,11,236,11],[241,0,242,0],[241,1,242,1],[241,2,242,2],[241,10,242,10],[241,11,242,11],[237,0,238,0],[237,1,238,1],[237,2,238,2],[237,10,238,10],[237,11,238,11],[239,0,240,0],[239,1,240,1],[239,2,240,2],[239,10,240,10],[239,11,240,11],[225,0,226,0],[225,1,226,1],[225,2,226,2],[225,10,226,10],[225,11,226,11],[227,0,228,0],[227,1,228,1],[227,2,228,2],[227,10,228,10],[227,11,228,11],[229,0,230,0],[229,1,230,1],[229,2,230,2],[229,10,230,10],[229,11,230,11],[231,0,232,0],[231,1,232,1],[231,2,232,2],[231,10,232,10],[231,11,232,11],[217,0,218,0],[217,1,218,1],[217,2,218,2],[217,10,218,10],[217,11,218,11],[219,0,220,0],[219,1,220,1],[219,2,220,2],[219,10,220,10],[219,11,220,11],[221,0,222,0],[221,1,222,1],[221,2,222,2],[221,10,222,10],[221,11,222,11],[223,0,224,0],[223,1,224,1],[223,2,224,2],[223,10,224,10],[223,11,224,11],[209,0,210,0],[209,1,210,1],[209,2,210,2],[209,10,210,10],[209,11,210,11],[211,0,212,0],[211,1,212,1],[211,2,212,2],[211,10,212,10],[211,11,212,11],[213,0,214,0],[213,1,214,1],[213,2,214,2],[213,10,214,10],[213,11,214,11],[215,0,216,0],[215,1,216,1],[215,2,216,2],[215,10,216,10],[215,11,216,11],[201,0,202,0],[201,1,202,1],[201,2,202,2],[201,10,202,10],[201,11,202,11],[203,0,204,0],[203,1,204,1],[203,2,204,2],[203,10,204,10],[203,11,204,11],[205,0,206,0],[205,1,206,1],[205,2,206,2],[205,10,206,10],[205,11,206,11],[207,0,208,0],[207,1,208,1],[207,2,208,2],[207,10,208,10],[207,11,208,11],[193,0,194,0],[193,1,194,1],[193,2,194,2],[193,10,194,10],[193,11,194,11],[195,0,196,0],[195,1,196,1],[195,2,196,2],[195,10,196,10],[195,11,196,11],[197,0,198,0],[197,1,198,1],[197,2,198,2],[197,10,198,10],[197,11,198,11],[199,0,200,0],[199,1,200,1],[199,2,200,2],[199,10,200,10],[199,11,200,11],[185,0,186,0],[185,1,186,1],[185,2,186,2],[185,10,186,10],[185,11,186,11],[187,0,188,0],[187,1,188,1],[187,2,188,2],[187,10,188,10],[187,11,188,11],[189,0,190,0],[189,1,190,1],[189,2,190,2],[189,10,190,10],[189,11,190,11],[191,0,192,0],[191,1,192,1],[191,2,192,2],[191,10,192,10],[191,11,192,11],[177,0,178,0],[177,1,178,1],[177,2,178,2],[177,10,178,10],[177,11,178,11],[179,0,180,0],[179,1,180,1],[179,2,180,2],[179,10,180,10],[179,11,180,11],[181,0,182,0],[181,1,182,1],[181,2,182,2],[181,10,182,10],[181,11,182,11],[183,0,184,0],[183,1,184,1],[183,2,184,2],[183,10,184,10],[183,11,184,11],[169,0,170,0],[169,1,170,1],[169,2,170,2],[169,10,170,10],[169,11,170,11],[171,0,172,0],[171,1,172,1],[171,2,172,2],[171,10,172,10],[171,11,172,11],[173,0,174,0],[173,1,174,1],[173,2,174,2],[173,10,174,10],[173,11,174,11],[175,0,176,0],[175,1,176,1],[175,2,176,2],[175,10,176,10],[175,11,176,11],[161,2,162,2],[161,10,162,10],[161,11,162,11],[163,0,164,0],[163,1,164,1],[163,2,164,2],[163,10,164,10],[163,11,164,11],[165,0,166,0],[165,1,166,1],[165,2,166,2],[165,10,166,10],[165,11,166,11],[167,0,168,0],[167,1,168,1],[167,2,168,2],[167,10,168,10],[167,11,168,11],[61,0,62,0],[61,1,62,1],[61,2,62,2],[61,10,62,10],[61,11,62,11],[63,0,64,0],[63,1,64,1],[63,2,64,2],[63,10,64,10],[63,11,64,11],[57,0,58,0],[57,1,58,1],[57,2,58,2],[57,10,58,10],[57,11,58,11],[59,0,60,0],[59,1,60,1],[59,2,60,2],[59,10,60,10],[59,11,60,11],[53,0,54,0],[53,1,54,1],[53,2,54,2],[0,36,2,51],[47,0,48,0],[47,1,48,1],[47,2,48,2],[47,10,48,10],[47,11,48,11],[53,10,54,10],[53,11,54,11],[55,0,56,0],[55,1,56,1],[55,2,56,2],[55,10,56,10],[55,11,56,11],[49,0,50,0],[49,1,50,1],[49,2,50,2],[49,10,50,10],[49,11,50,11],[51,0,52,0],[51,1,52,1],[51,2,52,2],[51,10,52,10],[51,11,52,11],[39,0,40,0],[39,1,40,1],[39,2,40,2],[39,10,40,10],[39,11,40,11],[41,0,42,0],[41,1,42,1],[41,2,42,2],[41,10,42,10],[41,11,42,11],[43,0,44,0],[43,1,44,1],[43,2,44,2],[43,10,44,10],[43,11,44,11],[45,0,46,0],[45,1,46,1],[45,2,46,2],[45,10,46,10],[45,11,46,11],[31,0,32,0],[31,1,32,1],[31,2,32,2],[31,10,32,10],[31,11,32,11],[33,0,34,0],[33,1,34,1],[33,2,34,2],[33,10,34,10],[33,11,34,11],[35,0,36,0],[35,1,36,1],[35,2,36,2],[35,10,36,10],[35,11,36,11],[37,0,38,0],[37,1,38,1],[37,2,38,2],[37,10,38,10],[37,11,38,11],[15,0,16,0],[15,1,16,1],[21,0,22,0],[21,1,22,1],[21,2,22,2],[21,10,22,10],[21,11,22,11],[29,0,30,0],[29,1,30,1],[29,2,30,2],[29,10,30,10],[29,11,30,11],[25,0,26,0],[25,1,26,1],[25,2,26,2],[25,10,26,10],[25,11,26,11],[27,0,28,0],[27,1,28,1],[27,2,28,2],[27,10,28,10],[27,11,28,11],[23,0,24,0],[23,1,24,1],[23,2,24,2],[23,10,24,10],[1,0,2,0],[1,1,2,1],[1,2,2,2],[1,10,2,10],[1,11,2,11],[3,0,4,0],[3,1,4,1],[3,2,4,2],[3,10,4,10],[3,11,4,11],[23,11,24,11],[5,2,6,2],[5,10,6,10],[5,11,6,11],[7,0,8,0],[7,1,8,1],[7,2,8,2],[7,10,8,10],[7,11,8,11],[17,0,18,0],[17,1,18,1],[17,2,18,2],[17,10,18,10],[17,11,18,11],[19,0,20,0],[19,1,20,1],[19,2,20,2],[19,10,20,10],[19,11,20,11],[13,0,14,0],[5,1,6,1],[13,11,14,11],[67,0,68,0],[67,1,68,1],[67,2,68,2],[67,10,68,10],[67,11,68,11],[69,0,70,0],[69,1,70,1],[69,2,70,2],[69,10,70,10],[69,11,70,11],[5,0,6,0],[9,0,10,0],[9,1,10,1],[9,2,10,2],[9,10,10,10],[9,11,10,11],[11,0,12,0],[65,0,66,0],[65,1,66,1],[65,2,66,2],[65,10,66,10],[65,11,66,11],[15,2,16,2],[15,10,16,10],[15,11,16,11],[13,1,14,1],[13,2,14,2],[13,10,14,10],[11,1,12,1],[11,2,12,2],[11,10,12,10],[11,11,12,11],[75,0,76,0],[75,1,76,1],[75,2,76,2],[75,10,76,10],[75,11,76,11],[77,0,78,0],[77,1,78,1],[77,2,78,2],[77,10,78,10],[77,11,78,11],[71,0,72,0],[71,1,72,1],[71,2,72,2],[71,10,72,10],[71,11,72,11],[73,0,74,0],[73,1,74,1],[73,2,74,2],[73,10,74,10],[73,11,74,11],[83,0,84,0],[83,1,84,1],[83,2,84,2],[83,10,84,10],[83,11,84,11],[85,0,86,0],[85,1,86,1],[85,2,86,2],[85,10,86,10],[85,11,86,11],[79,0,80,0],[79,1,80,1],[79,2,80,2],[79,10,80,10],[79,11,80,11],[81,0,82,0],[81,1,82,1],[81,2,82,2],[81,10,82,10],[81,11,82,11],[91,0,92,0],[91,1,92,1],[91,2,92,2],[91,10,92,10],[91,11,92,11],[93,0,94,0],[93,1,94,1],[93,2,94,2],[93,10,94,10],[93,11,94,11],[87,0,88,0],[87,1,88,1],[87,2,88,2],[87,10,88,10],[87,11,88,11],[89,0,90,0],[89,1,90,1],[89,2,90,2],[89,10,90,10],[89,11,90,11],[99,0,100,0],[99,1,100,1],[99,2,100,2],[99,10,100,10],[99,11,100,11],[101,0,102,0],[101,1,102,1],[101,2,102,2],[101,10,102,10],[101,11,102,11],[95,0,96,0],[95,1,96,1],[95,2,96,2],[95,10,96,10],[95,11,96,11],[97,0,98,0],[97,1,98,1],[97,2,98,2],[97,10,98,10],[97,11,98,11],[107,0,108,0],[107,1,108,1],[107,2,108,2],[107,10,108,10],[107,11,108,11],[109,0,110,0],[109,1,110,1],[109,2,110,2],[109,10,110,10],[109,11,110,11],[103,0,104,0],[103,1,104,1],[103,2,104,2],[103,10,104,10],[103,11,104,11],[105,0,106,0],[105,1,106,1],[105,2,106,2],[105,10,106,10],[105,11,106,11],[115,0,116,0],[115,1,116,1],[115,2,116,2],[115,10,116,10],[115,11,116,11],[117,0,118,0],[117,1,118,1],[117,2,118,2],[117,10,118,10],[117,11,118,11],[111,0,112,0],[111,1,112,1],[111,2,112,2],[111,10,112,10],[111,11,112,11],[113,0,114,0],[113,1,114,1],[113,2,114,2],[113,10,114,10],[113,11,114,11],[123,0,124,0],[123,1,124,1],[123,2,124,2],[123,10,124,10],[123,11,124,11],[125,0,126,0],[125,1,126,1],[125,2,126,2],[125,10,126,10],[125,11,126,11],[119,0,120,0],[119,1,120,1],[119,2,120,2],[119,10,120,10],[119,11,120,11],[121,0,122,0],[121,1,122,1],[121,2,122,2],[121,10,122,10],[121,11,122,11],[131,0,132,0],[131,1,132,1],[131,2,132,2],[131,10,132,10],[131,11,132,11],[133,0,134,0],[133,1,134,1],[133,2,134,2],[133,10,134,10],[133,11,134,11],[127,0,128,0],[127,1,128,1],[127,2,128,2],[127,10,128,10],[127,11,128,11],[129,0,130,0],[129,1,130,1],[129,2,130,2],[129,10,130,10],[129,11,130,11],[139,0,140,0],[139,1,140,1],[139,2,140,2],[139,10,140,10],[139,11,140,11],[141,0,142,0],[141,1,142,1],[141,2,142,2],[141,10,142,10],[141,11,142,11],[135,0,136,0],[135,1,136,1],[135,2,136,2],[135,10,136,10],[135,11,136,11],[137,0,138,0],[137,1,138,1],[137,2,138,2],[137,10,138,10],[137,11,138,11],[147,0,148,0],[147,1,148,1],[147,2,148,2],[147,10,148,10],[147,11,148,11],[149,0,150,0],[149,1,150,1],[149,2,150,2],[149,10,150,10],[149,11,150,11],[143,0,144,0],[143,1,144,1],[143,2,144,2],[143,10,144,10],[143,11,144,11],[145,0,146,0],[145,1,146,1],[145,2,146,2],[145,10,146,10],[145,11,146,11],[155,0,156,0],[155,1,156,1],[155,2,156,2],[155,10,156,10],[155,11,156,11],[243,0,244,0],[243,1,244,1],[243,2,244,2],[243,10,244,10],[243,11,244,11],[151,0,152,0],[151,1,152,1],[151,2,152,2],[151,10,152,10],[151,11,152,11],[153,0,154,0],[153,1,154,1],[153,2,154,2],[153,10,154,10],[153,11,154,11],[157,0,158,0],[157,1,158,1],[157,2,158,2],[157,10,158,10],[157,11,158,11],[159,0,160,0],[159,1,160,1],[159,2,160,2],[159,10,160,10],[159,11,160,11],[161,0,162,0],[161,1,162,1],[249,0,250,0],[249,1,250,1],[249,2,250,2],[249,10,250,10],[249,11,250,11],[251,0,252,0],[251,1,252,1],[251,2,252,2],[251,10,252,10],[251,11,252,11],[245,0,246,0],[245,1,246,1],[245,2,246,2],[245,10,246,10],[245,11,246,11],[247,0,248,0],[247,1,248,1],[247,2,248,2],[247,10,248,10],[247,11,248,11],[257,0,258,0],[257,1,258,1],[257,2,258,2],[257,10,258,10],[257,11,258,11],[259,0,260,0],[259,1,260,1],[259,2,260,2],[259,10,260,10],[259,11,260,11],[253,0,254,0],[253,1,254,1],[253,2,254,2],[253,10,254,10],[253,11,254,11],[255,0,256,0],[255,1,256,1],[255,2,256,2],[255,10,256,10],[255,11,256,11],[265,0,266,0],[265,1,266,1],[265,2,266,2],[265,10,266,10],[265,11,266,11],[267,0,268,0],[267,1,268,1],[267,2,268,2],[267,10,268,10],[267,11,268,11],[261,0,262,0],[261,1,262,1],[261,2,262,2],[261,10,262,10],[261,11,262,11],[263,0,264,0],[263,1,264,1],[263,2,264,2],[263,10,264,10],[263,11,264,11],[273,0,274,0],[273,1,274,1],[273,2,274,2],[273,10,274,10],[273,11,274,11],[275,0,276,0],[275,1,276,1],[275,2,276,2],[275,10,276,10],[275,11,276,11],[269,0,270,0],[269,1,270,1],[269,2,270,2],[269,10,270,10],[269,11,270,11],[271,0,272,0],[271,1,272,1],[271,2,272,2],[271,10,272,10],[271,11,272,11],[281,0,282,0],[281,1,282,1],[281,2,282,2],[281,10,282,10],[281,11,282,11],[283,0,284,0],[283,1,284,1],[283,2,284,2],[283,10,284,10],[283,11,284,11],[277,0,278,0],[277,1,278,1],[277,2,278,2],[277,10,278,10],[277,11,278,11],[279,0,280,0],[279,1,280,1],[279,2,280,2],[279,10,280,10],[279,11,280,11],[289,0,290,0],[289,1,290,1],[289,2,290,2],[289,10,290,10],[289,11,290,11],[291,0,292,0],[291,1,292,1],[291,2,292,2],[291,10,292,10],[291,11,292,11],[285,0,286,0],[285,1,286,1],[285,2,286,2],[285,10,286,10],[285,11,286,11],[287,0,288,0],[287,1,288,1],[287,2,288,2],[287,10,288,10],[287,11,288,11],[297,0,298,0],[297,1,298,1],[297,2,298,2],[297,10,298,10],[297,11,298,11],[299,0,300,0],[299,1,300,1],[299,2,300,2],[299,10,300,10],[299,11,300,11],[293,0,294,0],[293,1,294,1],[293,2,294,2],[293,10,294,10],[293,11,294,11],[295,0,296,0],[295,1,296,1],[295,2,296,2],[295,10,296,10],[295,11,296,11],[305,0,306,0],[305,1,306,1],[305,2,306,2],[305,10,306,10],[305,11,306,11],[307,0,308,0],[307,1,308,1],[307,2,308,2],[307,10,308,10],[307,11,308,11],[301,0,302,0],[301,1,302,1],[301,2,302,2],[301,10,302,10],[301,11,302,11],[303,0,304,0],[303,1,304,1],[303,2,304,2],[303,10,304,10],[303,11,304,11],[313,0,314,0],[313,1,314,1],[313,2,314,2],[313,10,314,10],[313,11,314,11],[315,0,316,0],[315,1,316,1],[315,2,316,2],[315,10,316,10],[315,11,316,11],[309,0,310,0],[309,1,310,1],[309,2,310,2],[309,10,310,10],[309,11,310,11],[311,0,312,0],[311,1,312,1],[311,2,312,2],[311,10,312,10],[311,11,312,11],[321,0,322,0],[321,1,322,1],[321,2,322,2],[321,10,322,10],[321,11,322,11],[323,0,324,0],[323,1,324,1],[323,2,324,2],[323,10,324,10],[323,11,324,11],[317,0,318,0],[317,1,318,1],[317,2,318,2],[317,10,318,10],[317,11,318,11],[319,0,320,0],[319,1,320,1],[319,2,320,2],[319,10,320,10],[319,11,320,11],[329,0,330,0],[329,1,330,1],[329,2,330,2],[329,10,330,10],[329,11,330,11],[331,0,332,0],[331,1,332,1],[331,2,332,2],[331,10,332,10],[331,11,332,11],[325,0,326,0],[325,1,326,1],[325,2,326,2],[325,10,326,10],[325,11,326,11],[327,0,328,0],[327,1,328,1],[327,2,328,2],[327,10,328,10],[327,11,328,11],[337,0,338,0],[337,1,338,1],[337,2,338,2],[337,10,338,10],[337,11,338,11],[339,0,340,0],[339,1,340,1],[339,2,340,2],[339,10,340,10],[339,11,340,11],[333,0,334,0],[333,1,334,1],[333,2,334,2],[333,10,334,10],[333,11,334,11],[335,0,336,0],[335,1,336,1],[335,2,336,2],[335,10,336,10],[335,11,336,11],[345,0,346,0],[345,1,346,1],[345,2,346,2],[345,10,346,10],[345,11,346,11],[347,0,348,0],[347,1,348,1],[347,2,348,2],[347,10,348,10],[347,11,348,11],[341,0,342,0],[341,1,342,1],[341,2,342,2],[341,10,342,10],[341,11,342,11],[343,0,344,0],[343,1,344,1],[343,2,344,2],[343,10,344,10],[343,11,344,11],[353,0,354,0],[353,1,354,1],[353,2,354,2],[353,10,354,10],[353,11,354,11],[355,0,356,0],[355,1,356,1],[355,2,356,2],[355,10,356,10],[355,11,356,11],[349,0,350,0],[349,1,350,1],[349,2,350,2],[349,10,350,10],[349,11,350,11],[351,0,352,0],[351,1,352,1],[351,2,352,2],[351,10,352,10],[351,11,352,11],[361,0,362,0],[361,1,362,1],[361,2,362,2],[361,10,362,10],[361,11,362,11],[363,0,364,0],[363,1,364,1],[363,2,364,2],[363,10,364,10],[363,11,364,11],[357,0,358,0],[357,1,358,1],[357,2,358,2],[357,10,358,10],[357,11,358,11],[359,0,360,0],[359,1,360,1],[359,2,360,2],[359,10,360,10],[359,11,360,11],[369,0,370,0],[369,1,370,1],[369,2,370,2],[369,10,370,10],[369,11,370,11],[371,0,372,0],[371,1,372,1],[371,2,372,2],[371,10,372,10],[371,11,372,11],[365,0,366,0],[365,1,366,1],[365,2,366,2],[365,10,366,10],[365,11,366,11],[367,0,368,0],[367,1,368,1],[367,2,368,2],[367,10,368,10],[367,11,368,11],[377,0,378,0],[377,1,378,1],[377,2,378,2],[377,10,378,10],[377,11,378,11],[379,0,380,0],[379,1,380,1],[379,2,380,2],[379,10,380,10],[379,11,380,11],[373,0,374,0],[373,1,374,1],[373,2,374,2],[373,10,374,10],[373,11,374,11],[375,0,376,0],[375,1,376,1],[375,2,376,2],[375,10,376,10],[375,11,376,11],[385,0,386,0],[385,1,386,1],[385,2,386,2],[385,10,386,10],[385,11,386,11],[387,0,388,0],[387,1,388,1],[387,2,388,2],[387,10,388,10],[387,11,388,11],[381,0,382,0],[381,1,382,1],[381,2,382,2],[381,10,382,10],[381,11,382,11],[383,0,384,0],[383,1,384,1],[383,2,384,2],[383,10,384,10],[383,11,384,11],[393,0,394,0],[393,1,394,1],[393,2,394,2],[393,10,394,10],[393,11,394,11],[395,0,396,0],[395,1,396,1],[395,2,396,2],[395,10,396,10],[395,11,396,11],[389,0,390,0],[389,1,390,1],[389,2,390,2],[389,10,390,10],[389,11,390,11],[391,0,392,0],[391,1,392,1],[391,2,392,2],[391,10,392,10],[391,11,392,11],[401,0,402,0],[401,1,402,1],[401,2,402,2],[401,10,402,10],[401,11,402,11],[403,0,404,0],[403,1,404,1],[403,2,404,2],[403,10,404,10]],"merged_total":1151,"flags":["merged_cut"]}
["League","Time","Home","HW","D","AW","HWR","DR","AWR","Return","Away","Compare",null,null,null,null,null,null,null,null,null,null,null,null,null,null,null,null,null,null,null,null,null,"ANALİZ YAPILACAK TAKIM","BET365",{"$f":"VLOOKUP(AI1,AI2:AJ15,2,FALSE)","v":8},"pro analiz andsi v 19 . 02"]
["ISR D3",null,"Hapoel Bnei Zalfa",1.99,3.21,3.33,0.45050000000000001,0.27979999999999999,0.2697,0.8972,"Hapoel Migdal HaEmek","View(27)",null,{"$f":"IF(A2<>\"\",TEXT(A2,\"\"),\"\")","v":"ISR D3"},{"$f":"IF(N2=\"\",\"\",CONCATENATE(IF(C2<>\"\",TEXT(C2,\"\"),\"\"),\" - \",IF(K2<>\"\",TEXT(K2,\"\"),\"\")))","v":"Hapoel Bnei Zalfa - Hapoel Migdal HaEmek"},{"$f":"SUBSTITUTE(SUBSTITUTE(SUBSTITUTE(SUBSTITUTE(IF(L2<>\"\",HLink(L2),\"\"),\"htm\",\"html\"),\"1x2\",\"analysis\"),\"www\",\"www.data\"),\"com\",\"vip\")","v":"http://www.data.nowgoal.vip/analysis/1619236.html"},{"$f":"IF(D2<>\"\",D2,\"\")","v":1.99},{"$f":"IF(E2<>\"\",E2,\"\")","v":3.21},{"$f":"IF(F2<>\"\",F2,\"\")","v":3.33},{"$f":"IF(N2<>\"\",IF(D3<>\"\",D3,D2),\"\")","v":2.0099999999999998},{"$f":"IF(N2<>\"\",IF(E3<>\"\",E3,E2),\"\")","v":3.21},{"$f":"IF(N2<>\"\",IF(F3<>\"\",F3,F2),\"\")","v":3.28},null,"ISR D3","Hapoel Bnei Zalfa - Hapoel Migdal HaEmek","http://www.data.nowgoal.vip/analysis/1619236.html",1.99,3.21,3.33,2.0099999999999998,3.21,3.28,null,"SG Austria Klagenfurt - SC Kalsdorf","12BET",24]
[null,null,null,2.0099999999999998,3.21,3.28,0.44669999999999999,0.27950000000000003,0.27379999999999999,0.89739999999999998,null,null,null,null,null,{"$f":"SUBSTITUTE(SUBSTITUTE(SUBSTITUTE(SUBSTITUTE(IF(L3<>\"\",HLink(L3),\"\"),\"htm\",\"html\"),\"1x2\",\"analysis\"),\"www\",\"www.data\"),\"com\",\"vip\")","v":""},null,null,null,null,null,null,null,"ISR CL","Ironi Modiin - Maccabi Ironi Sderot","http://www.data.nowgoal.vip/analysis/1664936.html",2.38,3.52,2.4,2.4,3.48,2.4,null,{"$f":"VLOOKUP(AH2,Y:AA,2,FALSE)","v":"http://www.data.nowgoal.vip/analysis/1664005.html"},"188BET",23]
["ISR CL",null,"Ironi Modiin",2.38,3.52,2.4,0.37440000000000001,0.25380000000000003,0.37180000000000002,0.89229999999999998,"Maccabi Ironi Sderot","View(3)",null,{"$f":"IF(A4<>\"\",TEXT(A4,\"\"),\"\")","v":"ISR CL"},{"$f":"IF(N4=\"\",\"\",CONCATENATE(IF(C4<>\"\",TEXT(C4,\"\"),\"\"),\" - \",IF(K4<>\"\",TEXT(K4,\"\"),\"\")))","v":"Ironi Modiin - Maccabi Ironi Sderot"},"http://www.data.nowgoal.vip/analysis/1664936.html",{"$f":"IF(D4<>\"\",D4,\"\")","v":2.38},{"$f":"IF(E4<>\"\",E4,\"\")","v":3.52},{"$f":"IF(F4<>\"\",F4,\"\")","v":2.4},{"$f":"IF(N4<>\"\",IF(D5<>\"\",D5,D4),\"\")","v":2.4},{"$f":"IF(N4<>\"\",IF(E5<>\"\",E5,E4),\"\")","v":3.48},{"$f":"IF(N4<>\"\",IF(F5<>\"\",F5,F4),\"\")","v":2.4},null,"AUS PLNS","Inglewood United - Stirling Lions","http://www.data.nowgoal.vip/analysis/1660775.html",1.58,4.13,3.96,1.65,4.08,3.83,null,{"$f":"VLOOKUP(AH2,Y:AA,2,FALSE)","v":"http://www.data.nowgoal.vip/analysis/1664005.html"},"18BET",42]
[null,null,null,2.4,3.48,2.4,0.37190000000000001,0.25619999999999998,0.37190000000000001,0.89259999999999995,null,null,null,null,null,"",null,null,null,null,null,null,null,"AUS PLNS","Bayswater City - Perth Glory (Youth)","http://www.data.nowgoal.vip/analysis/1660790.html",3.16,3.75,1.85,2.92,3.83,1.95,null,{"$f":"VLOOKUP(AH2,Y:AA,2,FALSE)","v":"http://www.data.nowgoal.vip/analysis/1664005.html"},"BET365",8]
["AUS PLNS",null,"Inglewood United",1.58,4.13,3.96,0.56110000000000004,0.2147,0.22420000000000001,0.88759999999999994,"Stirling Lions","View(11)",null,{"$f":"IF(A6<>\"\",TEXT(A6,\"\"),\"\")","v":"AUS PLNS"},{"$f":"IF(N6=\"\",\"\",CONCATENATE(IF(C6<>\"\",TEXT(C6,\"\"),\"\"),\" - \",IF(K6<>\"\",TEXT(K6,\"\"),\"\")))","v":"Inglewood United - Stirling Lions"},"http://www.data.nowgoal.vip/analysis/1660775.html",{"$f":"IF(D6<>\"\",D6,\"\")","v":1.58},{"$f":"IF(E6<>\"\",E6,\"\")","v":4.13},{"$f":"IF(F6<>\"\",F6,\"\")","v":3.96},{"$f":"IF(N6<>\"\",IF(D7<>\"\",D7,D6),\"\")","v":1.65},{"$f":"IF(N6<>\"\",IF(E7<>\"\",E7,E6),\"\")","v":4.08},{"$f":"IF(N6<>\"\",IF(F7<>\"\",F7,F6),\"\")","v":3.83},null,"ISR CL","SC Shicun Hamizrah - Sport Club Dimona","http://www.data.nowgoal.vip/analysis/1664890.html",3.69,3.7,1.7,3.93,3.69,1.66,null,null,"CROWN",3]
[null,null,null,1.65,4.08,3.83,0.5454,0.22020000000000001,0.2344,0.89790000000000003,null,null,null,null,null,"",null,null,null,null,null,null,null,"ISR CL","Beitar Givat Zeev Shabi - Bnei Yeechalal Rehovot FC","http://www.data.nowgoal.vip/analysis/1664894.html",3.08,3.75,1.9,5.67,4.53,1.38,null,null,"EASYBET",12]
["AUS PLNS",null,"Bayswater City",3.16,3.75,1.85,0.28120000000000001,0.23730000000000001,0.48139999999999999,0.88880000000000003,"Perth Glory (Youth)","View(11)",null,{"$f":"IF(A8<>\"\",TEXT(A8,\"\"),\"\")","v":"AUS PLNS"},{"$f":"IF(N8=\"\",\"\",CONCATENATE(IF(C8<>\"\",TEXT(C8,\"\"),\"\"),\" - \",IF(K8<>\"\",TEXT(K8,\"\"),\"\")))","v":"Bayswater City - Perth Glory (Youth)"},"http://www.data.nowgoal.vip/analysis/1660790.html",{"$f":"IF(D8<>\"\",D8,\"\")","v":3.16},{"$f":"IF(E8<>\"\",E8,\"\")","v":3.75},{"$f":"IF(F8<>\"\",F8,\"\")","v":1.85},{"$f":"IF(N8<>\"\",IF(D9<>\"\",D9,D8),\"\")","v":2.92},{"$f":"IF(N8<>\"\",IF(E9<>\"\",E9,E8),\"\")","v":3.83},{"$f":"IF(N8<>\"\",IF(F9<>\"\",F9,F8),\"\")","v":1.95},null,"INT CF","Rakow Czestochowa - Znicz Pruszkow","http://www.data.nowgoal.vip/analysis/1664829.html",1.36,4.68,6.34,1.35,4.7,6.34,null,null,"INTERWETTEN",19]
[null,null,null,2.92,3.83,1.95,0.30680000000000002,0.2341,0.45910000000000001,0.89590000000000003,null,null,null,null,null,"",null,null,null,null,null,null,null,"INT CF","Baumit Jablonec - Hebei HX Xingfu","http://www.data.nowgoal.vip/analysis/1664830.html",1.32,4.97,6.77,1.26,5.35,7.64,null,null,"LADBROKES",4]
["ISR CL",null,"SC Shicun Hamizrah",3.69,3.7,1.7,0.24010000000000001,0.2397,0.5202,0.88600000000000001,"Sport Club Dimona","View(10)",null,{"$f":"IF(A10<>\"\",TEXT(A10,\"\"),\"\")","v":"ISR CL"},{"$f":"IF(N10=\"\",\"\",CONCATENATE(IF(C10<>\"\",TEXT(C10,\"\"),\"\"),\" - \",IF(K10<>\"\",TEXT(K10,\"\"),\"\")))","v":"SC Shicun Hamizrah - Sport Club Dimona"},"http://www.data.nowgoal.vip/analysis/1664890.html",{"$f":"IF(D10<>\"\",D10,\"\")","v":3.69},{"$f":"IF(E10<>\"\",E10,\"\")","v":3.7},{"$f":"IF(F10<>\"\",F10,\"\")","v":1.7},{"$f":"IF(N10<>\"\",IF(D11<>\"\",D11,D10),\"\")","v":3.93},{"$f":"IF(N10<>\"\",IF(E11<>\"\",E11,E10),\"\")","v":3.69},{"$f":"IF(N10<>\"\",IF(F11<>\"\",F11,F10),\"\")","v":1.66},null,"INT CF","AFC Progresul Spartac Bucuresti - Voin Tate Numa Glenn","http://www.data.nowgoal.vip/analysis/1664976.html",3,3.6,2,3,3.6,2,null,null,"M88",17]
[null,null,null,3.93,3.69,1.66,0.22570000000000001,0.24079999999999999,0.53349999999999997,0.88700000000000001,null,null,null,null,null,"",null,null,null,null,null,null,null,"INT CF","Torpedo Kutaisi - Dinamo Batumi","http://www.data.nowgoal.vip/analysis/1664980.html",1.28,5.5,6.5,1.28,5.5,6.5,null,{"$f":"VLOOKUP(AH2,O:S,3,FALSE)","v":1.29},"MACAUSLOT",1]
["ISR CL",null,"Beitar Givat Zeev Shabi",3.08,3.75,1.9,0.2903,0.2387,0.47110000000000002,0.89510000000000001,"Bnei Yeechalal Rehovot FC","View(3)",null,{"$f":"IF(A12<>\"\",TEXT(A12,\"\"),\"\")","v":"ISR CL"},{"$f":"IF(N12=\"\",\"\",CONCATENATE(IF(C12<>\"\",TEXT(C12,\"\"),\"\"),\" - \",IF(K12<>\"\",TEXT(K12,\"\"),\"\")))","v":"Beitar Givat Zeev Shabi - Bnei Yeechalal Rehovot FC"},"http://www.data.nowgoal.vip/analysis/1664894.html",{"$f":"IF(D12<>\"\",D12,\"\")","v":3.08},{"$f":"IF(E12<>\"\",E12,\"\")","v":3.75},{"$f":"IF(F12<>\"\",F12,\"\")","v":1.9},{"$f":"IF(N12<>\"\",IF(D13<>\"\",D13,D12),\"\")","v":5.67},{"$f":"IF(N12<>\"\",IF(E13<>\"\",E13,E12),\"\")","v":4.53},{"$f":"IF(N12<>\"\",IF(F13<>\"\",F13,F12),\"\")","v":1.38},null,"ISR D3","Hapoel Azor - AS Nordia Jerusalem","http://www.data.nowgoal.vip/analysis/1619476.html",2.2799999999999998,3.13,2.79,2.39,3.1,2.67,null,{"$f":"VLOOKUP(AH2,O:S,4,FALSE)","v":5.6},"SBOBET",31]
[null,null,null,5.67,4.53,1.38,0.15759999999999999,0.19700000000000001,0.64549999999999996,0.8931,null,null,null,null,null,"",null,null,null,null,null,null,null,"ISR D3","Maccabi Yavne - Hapoel Holon Yaniv","http://www.data.nowgoal.vip/analysis/1619483.html",1.83,3.28,3.84,1.7,3.35,4.41,null,{"$f":"VLOOKUP(AH2,O:S,5,FALSE)","v":6.54},"SNAI",7]
["INT CF",null,"Rakow Czestochowa",1.36,4.68,6.34,0.6653,0.1925,0.14219999999999999,0.90149999999999997,"Znicz Pruszkow","View(6)",null,{"$f":"IF(A14<>\"\",TEXT(A14,\"\"),\"\")","v":"INT CF"},{"$f":"IF(N14=\"\",\"\",CONCATENATE(IF(C14<>\"\",TEXT(C14,\"\"),\"\"),\" - \",IF(K14<>\"\",TEXT(K14,\"\"),\"\")))","v":"Rakow Czestochowa - Znicz Pruszkow"},"http://www.data.nowgoal.vip/analysis/1664829.html",{"$f":"IF(D14<>\"\",D14,\"\")","v":1.36},{"$f":"IF(E14<>\"\",E14,\"\")","v":4.68},{"$f":"IF(F14<>\"\",F14,\"\")","v":6.34},{"$f":"IF(N14<>\"\",IF(D15<>\"\",D15,D14),\"\")","v":1.35},{"$f":"IF(N14<>\"\",IF(E15<>\"\",E15,E14),\"\")","v":4.7},{"$f":"IF(N14<>\"\",IF(F15<>\"\",F15,F14),\"\")","v":6.34},null,"AUS WAL","Perth Glory (w) - Melbourne Victory (w)","http://www.data.nowgoal.vip/analysis/1634525.html",2.78,3.65,2.1,2.63,3.7,2.21,null,{"$f":"VLOOKUP(AH2,O:V,6,FALSE)","v":1.29},"VCBET",14]
[null,null,null,1.35,4.7,6.34,0.66610000000000003,0.1918,0.1421,0.90149999999999997,null,null,null,null,null,"",null,null,null,null,null,null,null,"PAR RT","Sol de America Reserves - Club General Diaz Reserves","http://www.data.nowgoal.vip/analysis/1665076.html",2.1800000000000002,3.41,2.75,2.2000000000000002,3.41,2.73,null,{"$f":"VLOOKUP(AH2,O:V,7,FALSE)","v":5.6},"WİLLHİLL",9]
["INT CF",null,"Baumit Jablonec",1.32,4.97,6.77,0.68530000000000002,0.18140000000000001,0.1333,0.90169999999999995,"Hebei HX Xingfu","View(12)",null,{"$f":"IF(A16<>\"\",TEXT(A16,\"\"),\"\")","v":"INT CF"},{"$f":"IF(N16=\"\",\"\",CONCATENATE(IF(C16<>\"\",TEXT(C16,\"\"),\"\"),\" - \",IF(K16<>\"\",TEXT(K16,\"\"),\"\")))","v":"Baumit Jablonec - Hebei HX Xingfu"},"http://www.data.nowgoal.vip/analysis/1664830.html",{"$f":"IF(D16<>\"\",D16,\"\")","v":1.32},{"$f":"IF(E16<>\"\",E16,\"\")","v":4.97},{"$f":"IF(F16<>\"\",F16,\"\")","v":6.77},{"$f":"IF(N16<>\"\",IF(D17<>\"\",D17,D16),\"\")","v":1.26},{"$f":"IF(N16<>\"\",IF(E17<>\"\",E17,E16),\"\")","v":5.35},{"$f":"IF(N16<>\"\",IF(F17<>\"\",F17,F16),\"\")","v":7.64},null,"ISR CL","Hapoel Beit She'any - Hapoel Tirat Karmel","http://www.data.nowgoal.vip/analysis/1664884.html",3.75,3.77,1.72,3.75,3.75,1.72,null,{"$f":"VLOOKUP(AH2,O:V,8,FALSE)","v":6.53}]
[null,null,null,1.26,5.35,7.64,0.71360000000000001,0.16839999999999999,0.11799999999999999,0.90090000000000003,null,null,null,null,null,"",null,null,null,null,null,null,null,"ISR CL","Hapoel Hod HaSharon - Ironi Or Yehuda","http://www.data.nowgoal.vip/analysis/1664892.html",4.59,4.1500000000000004,1.49,5.21,4.33,1.42]
["INT CF",null,"AFC Progresul Spartac Bucuresti",3,3.6,2,0.3,0.25,0.45,0.9,"Voin Tate Numa Glenn","View(1)",null,{"$f":"IF(A18<>\"\",TEXT(A18,\"\"),\"\")","v":"INT CF"},{"$f":"IF(N18=\"\",\"\",CONCATENATE(IF(C18<>\"\",TEXT(C18,\"\"),\"\"),\" - \",IF(K18<>\"\",TEXT(K18,\"\"),\"\")))","v":"AFC Progresul Spartac Bucuresti - Voin Tate Numa Glenn"},"http://www.data.nowgoal.vip/analysis/1664976.html",{"$f":"IF(D18<>\"\",D18,\"\")","v":3},{"$f":"IF(E18<>\"\",E18,\"\")","v":3.6},{"$f":"IF(F18<>\"\",F18,\"\")","v":2},{"$f":"IF(N18<>\"\",IF(D19<>\"\",D19,D18),\"\")","v":3},{"$f":"IF(N18<>\"\",IF(E19<>\"\",E19,E18),\"\")","v":3.6},{"$f":"IF(N18<>\"\",IF(F19<>\"\",F19,F18),\"\")","v":2},null,"MAC D1","CD Tim Iec - Sporting de Macau","http://www.data.nowgoal.vip/analysis/1660655.html",5.51,5.01,1.35,5.5,5,1.34]
[null,null,null,null,null,null,null,null,null,null,null,null,null,null,null,"",null,null,null,null,null,null,null,"ISR D3","Moadon Sport Tira - Maccabi Ironi Kiryat Ata","http://www.data.nowgoal.vip/analysis/1619241.html",1.93,3.4,3.31,1.94,3.39,3.31]
["INT CF",null,"Torpedo Kutaisi",1.28,5.5,6.5,0.69950000000000001,0.1628,0.13769999999999999,0.89539999999999997,"Dinamo Batumi","View(1)",null,{"$f":"IF(A20<>\"\",TEXT(A20,\"\"),\"\")","v":"INT CF"},{"$f":"IF(N20=\"\",\"\",CONCATENATE(IF(C20<>\"\",TEXT(C20,\"\"),\"\"),\" - \",IF(K20<>\"\",TEXT(K20,\"\"),\"\")))","v":"Torpedo Kutaisi - Dinamo Batumi"},"http://www.data.nowgoal.vip/analysis/1664980.html",{"$f":"IF(D20<>\"\",D20,\"\")","v":1.28},{"$f":"IF(E20<>\"\",E20,\"\")","v":5.5},{"$f":"IF(F20<>\"\",F20,\"\")","v":6.5},{"$f":"IF(N20<>\"\",IF(D21<>\"\",D21,D20),\"\")","v":1.28},{"$f":"IF(N20<>\"\",IF(E21<>\"\",E21,E20),\"\")","v":5.5},{"$f":"IF(N20<>\"\",IF(F21<>\"\",F21,F20),\"\")","v":6.5},null,"ISR D3","Maccabi Tzur Shalom - Hapoel Kafr Kanna","http://www.data.nowgoal.vip/analysis/1619240.html",2.79,3.29,2.2000000000000002,2.8,3.29,2.2000000000000002,null,"Crown"]
[null,null,null,null,null,null,null,null,null,null,null,null,null,null,null,"",null,null,null,null,null,null,null,"ISR D3","Ironi Nesher - Hapoel Ironi Baka El Garbiya","http://www.data.nowgoal.vip/analysis/1619242.html",3.85,3.46,1.79,3.89,3.47,1.78]
["ISR D3",null,"Hapoel Azor",2.2799999999999998,3.13,2.79,0.39279999999999998,0.28620000000000001,0.32100000000000001,0.89690000000000003,"AS Nordia Jerusalem","View(12)",null,{"$f":"IF(A22<>\"\",TEXT(A22,\"\"),\"\")","v":"ISR D3"},{"$f":"IF(N22=\"\",\"\",CONCATENATE(IF(C22<>\"\",TEXT(C22,\"\"),\"\"),\" - \",IF(K22<>\"\",TEXT(K22,\"\"),\"\")))","v":"Hapoel Azor - AS Nordia Jerusalem"},"http://www.data.nowgoal.vip/analysis/1619476.html",{"$f":"IF(D22<>\"\",D22,\"\")","v":2.2799999999999998},{"$f":"IF(E22<>\"\",E22,\"\")","v":3.13},{"$f":"IF(F22<>\"\",F22,\"\")","v":2.79},{"$f":"IF(N22<>\"\",IF(D23<>\"\",D23,D22),\"\")","v":2.39},{"$f":"IF(N22<>\"\",IF(E23<>\"\",E23,E22),\"\")","v":3.1},{"$f":"IF(N22<>\"\",IF(F23<>\"\",F23,F22),\"\")","v":2.67},null,"ISR D3","AS Ashdod - Hapoel Kfar Shalem","http://www.data.nowgoal.vip/analysis/1619477.html",1.79,3.4,3.84,1.84,3.38,3.64,null,"12BET"]
[null,null,null,2.39,3.1,2.67,0.375,0.2888,0.33610000000000001,0.89659999999999995,null,null,null,null,null,"",null,null,null,null,null,null,null,"ISR D3","Maccabi Kiryat Gat - Shimshon Kafr Qasim","http://www.data.nowgoal.vip/analysis/1619478.html",2.5,3.19,2.5,2.4900000000000002,3.19,2.4900000000000002]
["ISR D3",null,"Maccabi Yavne",1.83,3.28,3.84,0.49070000000000003,0.2747,0.2346,0.9002,"Hapoel Holon Yaniv","View(11)",null,{"$f":"IF(A24<>\"\",TEXT(A24,\"\"),\"\")","v":"ISR D3"},{"$f":"IF(N24=\"\",\"\",CONCATENATE(IF(C24<>\"\",TEXT(C24,\"\"),\"\"),\" - \",IF(K24<>\"\",TEXT(K24,\"\"),\"\")))","v":"Maccabi Yavne - Hapoel Holon Yaniv"},"http://www.data.nowgoal.vip/analysis/1619483.html",{"$f":"IF(D24<>\"\",D24,\"\")","v":1.83},{"$f":"IF(E24<>\"\",E24,\"\")","v":3.28},{"$f":"IF(F24<>\"\",F24,\"\")","v":3.84},{"$f":"IF(N24<>\"\",IF(D25<>\"\",D25,D24),\"\")","v":1.7},{"$f":"IF(N24<>\"\",IF(E25<>\"\",E25,E24),\"\")","v":3.35},{"$f":"IF(N24<>\"\",IF(F25<>\"\",F25,F24),\"\")","v":4.41},null,"ISR D3","Maccabi Shaarayim - Maccabi Herzliya","http://www.data.nowgoal.vip/analysis/1619479.html",1.61,3.59,4.72,1.83,3.31,3.85,null,"Sbobet"]
[null,null,null,1.7,3.35,4.41,0.52910000000000001,0.26740000000000003,0.20349999999999999,0.89710000000000001,null,null,null,null,null,"",null,null,null,null,null,null,null,"ISR D3","Kafr Qasim - Hapoel Bikat Hayarden","http://www.data.nowgoal.vip/analysis/1619481.html",1.22,5.49,8.83,1.22,5.51,8.84]
["AUS WAL",null,"Perth Glory (w)",2.78,3.65,2.1,0.3246,0.247,0.4284,0.90129999999999999,"Melbourne Victory (w)","View(78)",null,{"$f":"IF(A26<>\"\",TEXT(A26,\"\"),\"\")","v":"AUS WAL"},{"$f":"IF(N26=\"\",\"\",CONCATENATE(IF(C26<>\"\",TEXT(C26,\"\"),\"\"),\" - \",IF(K26<>\"\",TEXT(K26,\"\"),\"\")))","v":"Perth Glory (w) - Melbourne Victory (w)"},"http://www.data.nowgoal.vip/analysis/1634525.html",{"$f":"IF(D26<>\"\",D26,\"\")","v":2.78},{"$f":"IF(E26<>\"\",E26,\"\")","v":3.65},{"$f":"IF(F26<>\"\",F26,\"\")","v":2.1},{"$f":"IF(N26<>\"\",IF(D27<>\"\",D27,D26),\"\")","v":2.63},{"$f":"IF(N26<>\"\",IF(E27<>\"\",E27,E26),\"\")","v":3.7},{"$f":"IF(N26<>\"\",IF(F27<>\"\",F27,F26),\"\")","v":2.21},null,"ISR D3","Maccabi Kabilio Jaffa - Hapoel Mahane Yehuda","http://www.data.nowgoal.vip/analysis/1619482.html",1.57,3.75,4.71,1.57,3.74,4.7300000000000004,null,"Macauslot"]
[null,null,null,2.63,3.7,2.21,0.34499999999999997,0.24479999999999999,0.41010000000000002,0.90649999999999997,null,null,null,null,null,"",null,null,null,null,null,null,null,"SYR D1","Al-Wahda Damascus - Al-Shorta Damascus","http://www.data.nowgoal.vip/analysis/1664845.html",1.53,3.57,5.43,1.53,3.57,5.43]
["PAR RT",null,"Sol de America Reserves",2.1800000000000002,3.41,2.75,0.4108,0.2631,0.32600000000000001,0.8972,"Club General Diaz Reserves","View(5)",null,{"$f":"IF(A28<>\"\",TEXT(A28,\"\"),\"\")","v":"PAR RT"},{"$f":"IF(N28=\"\",\"\",CONCATENATE(IF(C28<>\"\",TEXT(C28,\"\"),\"\"),\" - \",IF(K28<>\"\",TEXT(K28,\"\"),\"\")))","v":"Sol de America Reserves - Club General Diaz Reserves"},"http://www.data.nowgoal.vip/analysis/1665076.html",{"$f":"IF(D28<>\"\",D28,\"\")","v":2.1800000000000002},{"$f":"IF(E28<>\"\",E28,\"\")","v":3.41},{"$f":"IF(F28<>\"\",F28,\"\")","v":2.75},{"$f":"IF(N28<>\"\",IF(D29<>\"\",D29,D28),\"\")","v":2.2000000000000002},{"$f":"IF(N28<>\"\",IF(E29<>\"\",E29,E28),\"\")","v":3.41},{"$f":"IF(N28<>\"\",IF(F29<>\"\",F29,F28),\"\")","v":2.73},null,"SYR D1","Al-Karamah - Al-Sahel(SYR)","http://www.data.nowgoal.vip/analysis/1664846.html",2.2000000000000002,3,3.1,2.2000000000000002,3,3.1,null,"Ladbrokes"]
[null,null,null,2.2000000000000002,3.41,2.73,0.40770000000000001,0.26350000000000001,0.32890000000000003,0.89859999999999995,null,null,null,null,null,"",null,null,null,null,null,null,null,"SYR D1","Al-Majd Damascus - Al Wathbah","http://www.data.nowgoal.vip/analysis/1664847.html",2.8,3,2.37,2.8,3,2.37]
["ISR CL",null,"Hapoel Beit She'any",3.75,3.77,1.72,0.2392,0.2382,0.52259999999999995,0.89700000000000002,"Hapoel Tirat Karmel","View(3)",null,{"$f":"IF(A30<>\"\",TEXT(A30,\"\"),\"\")","v":"ISR CL"},{"$f":"IF(N30=\"\",\"\",CONCATENATE(IF(C30<>\"\",TEXT(C30,\"\"),\"\"),\" - \",IF(K30<>\"\",TEXT(K30,\"\"),\"\")))","v":"Hapoel Beit She'any - Hapoel Tirat Karmel"},"http://www.data.nowgoal.vip/analysis/1664884.html",{"$f":"IF(D30<>\"\",D30,\"\")","v":3.75},{"$f":"IF(E30<>\"\",E30,\"\")","v":3.77},{"$f":"IF(F30<>\"\",F30,\"\")","v":1.72},{"$f":"IF(N30<>\"\",IF(D31<>\"\",D31,D30),\"\")","v":3.75},{"$f":"IF(N30<>\"\",IF(E31<>\"\",E31,E30),\"\")","v":3.75},{"$f":"IF(N30<>\"\",IF(F31<>\"\",F31,F30),\"\")","v":1.72},null,"SYR D1","Al-Taleiah - Hutteen FC","http://www.data.nowgoal.vip/analysis/1664848.html",1.8,3.25,4,1.8,3.25,4,null,"Bet365"]
[null,null,null,3.75,3.75,1.72,0.23899999999999999,0.23899999999999999,0.52200000000000002,0.8962,null,null,null,null,null,"",null,null,null,null,null,null,null,"SYR D1","Al Ittihad (SYR) - Jableh SC","http://www.data.nowgoal.vip/analysis/1664849.html",1.73,3.28,4.29,1.73,3.28,4.29]
["ISR CL",null,"Hapoel Hod HaSharon",4.59,4.1500000000000004,1.49,0.19309999999999999,0.21360000000000001,0.59330000000000005,0.88629999999999998,"Ironi Or Yehuda","View(10)",null,{"$f":"IF(A32<>\"\",TEXT(A32,\"\"),\"\")","v":"ISR CL"},{"$f":"IF(N32=\"\",\"\",CONCATENATE(IF(C32<>\"\",TEXT(C32,\"\"),\"\"),\" - \",IF(K32<>\"\",TEXT(K32,\"\"),\"\")))","v":"Hapoel Hod HaSharon - Ironi Or Yehuda"},"http://www.data.nowgoal.vip/analysis/1664892.html",{"$f":"IF(D32<>\"\",D32,\"\")","v":4.59},{"$f":"IF(E32<>\"\",E32,\"\")","v":4.1500000000000004},{"$f":"IF(F32<>\"\",F32,\"\")","v":1.49},{"$f":"IF(N32<>\"\",IF(D33<>\"\",D33,D32),\"\")","v":5.21},{"$f":"IF(N32<>\"\",IF(E33<>\"\",E33,E32),\"\")","v":4.33},{"$f":"IF(N32<>\"\",IF(F33<>\"\",F33,F32),\"\")","v":1.42},null,"SYR D1","Teshrin SC - Al Nawair","http://www.data.nowgoal.vip/analysis/1665009.html",1.66,3.4,4.5,1.66,3.4,4.5,null,"Easybet"]
[null,null,null,5.21,4.33,1.42,0.17030000000000001,0.2051,0.62470000000000003,0.88729999999999998,null,null,null,null,null,"",null,null,null,null,null,null,null,"INT CF","FK Palanga - Jelgava","http://www.data.nowgoal.vip/analysis/1664918.html",3.08,3.45,2.02,3.14,3.51,2]
["MAC D1",null,"CD Tim Iec",5.51,5.01,1.35,0.1613,0.1774,0.66120000000000001,0.88919999999999999,"Sporting de Macau","View(4)",null,{"$f":"IF(A34<>\"\",TEXT(A34,\"\"),\"\")","v":"MAC D1"},{"$f":"IF(N34=\"\",\"\",CONCATENATE(IF(C34<>\"\",TEXT(C34,\"\"),\"\"),\" - \",IF(K34<>\"\",TEXT(K34,\"\"),\"\")))","v":"CD Tim Iec - Sporting de Macau"},"http://www.data.nowgoal.vip/analysis/1660655.html",{"$f":"IF(D34<>\"\",D34,\"\")","v":5.51},{"$f":"IF(E34<>\"\",E34,\"\")","v":5.01},{"$f":"IF(F34<>\"\",F34,\"\")","v":1.35},{"$f":"IF(N34<>\"\",IF(D35<>\"\",D35,D34),\"\")","v":5.5},{"$f":"IF(N34<>\"\",IF(E35<>\"\",E35,E34),\"\")","v":5},{"$f":"IF(N34<>\"\",IF(F35<>\"\",F35,F34),\"\")","v":1.34},null,"INT CF","FK Senica U19 - Vysocina Jihlava U19","http://www.data.nowgoal.vip/analysis/1664920.html",3.8,4.1500000000000004,1.64,3.8,4.1500000000000004,1.64,null,"Vcbet"]
[null,null,null,5.5,5,1.34,0.16139999999999999,0.17749999999999999,0.66110000000000002,0.88770000000000004,null,null,null,null,null,"",null,null,null,null,null,null,null,"INT CF","Randers FC - Sturm Graz","http://www.data.nowgoal.vip/analysis/1663423.html",2.58,3.43,2.33,2.67,3.45,2.2799999999999998]
["ISR D3",null,"Moadon Sport Tira",1.93,3.4,3.31,0.46439999999999998,0.26429999999999998,0.27129999999999999,0.89810000000000001,"Maccabi Ironi Kiryat Ata","View(30)",null,{"$f":"IF(A36<>\"\",TEXT(A36,\"\"),\"\")","v":"ISR D3"},{"$f":"IF(N36=\"\",\"\",CONCATENATE(IF(C36<>\"\",TEXT(C36,\"\"),\"\"),\" - \",IF(K36<>\"\",TEXT(K36,\"\"),\"\")))","v":"Moadon Sport Tira - Maccabi Ironi Kiryat Ata"},"http://www.data.nowgoal.vip/analysis/1619241.html",{"$f":"IF(D36<>\"\",D36,\"\")","v":1.93},{"$f":"IF(E36<>\"\",E36,\"\")","v":3.4},{"$f":"IF(F36<>\"\",F36,\"\")","v":3.31},{"$f":"IF(N36<>\"\",IF(D37<>\"\",D37,D36),\"\")","v":1.94},{"$f":"IF(N36<>\"\",IF(E37<>\"\",E37,E36),\"\")","v":3.39},{"$f":"IF(N36<>\"\",IF(F37<>\"\",F37,F36),\"\")","v":3.31},null,"INT CF","Rapid Wien - AC Horsens","http://www.data.nowgoal.vip/analysis/1663424.html",1.78,3.6,3.62,1.75,3.63,3.7,null,"M88"]
[null,null,null,1.94,3.39,3.31,0.46379999999999999,0.2651,0.27110000000000001,0.89790000000000003,null,null,null,null,null,"",null,null,null,null,null,null,null,"INT CF","Trondheims Orn (w) - Valerenga (w)","http://www.data.nowgoal.vip/analysis/1663988.html",5,4.5,1.44,5,4.5,1.44]
["ISR D3",null,"Maccabi Tzur Shalom",2.79,3.29,2.2000000000000002,0.32090000000000002,0.27250000000000002,0.40660000000000002,0.89610000000000001,"Hapoel Kafr Kanna","View(23)",null,{"$f":"IF(A38<>\"\",TEXT(A38,\"\"),\"\")","v":"ISR D3"},{"$f":"IF(N38=\"\",\"\",CONCATENATE(IF(C38<>\"\",TEXT(C38,\"\"),\"\"),\" - \",IF(K38<>\"\",TEXT(K38,\"\"),\"\")))","v":"Maccabi Tzur Shalom - Hapoel Kafr Kanna"},"http://www.data.nowgoal.vip/analysis/1619240.html",{"$f":"IF(D38<>\"\",D38,\"\")","v":2.79},{"$f":"IF(E38<>\"\",E38,\"\")","v":3.29},{"$f":"IF(F38<>\"\",F38,\"\")","v":2.2000000000000002},{"$f":"IF(N38<>\"\",IF(D39<>\"\",D39,D38),\"\")","v":2.8},{"$f":"IF(N38<>\"\",IF(E39<>\"\",E39,E38),\"\")","v":3.29},{"$f":"IF(N38<>\"\",IF(F39<>\"\",F39,F38),\"\")","v":2.2000000000000002},null,"INT CF","Cracovia Krakow - Vojvodina Novi Sad","http://www.data.nowgoal.vip/analysis/1664828.html",2.23,3.55,2.75,2.23,3.55,2.75,null,"188bet"]
[null,null,null,2.8,3.29,2.2000000000000002,0.32029999999999997,0.27289999999999998,0.40679999999999999,0.89659999999999995,null,null,null,null,null,"",null,null,null,null,null,null,null,"INT CF","KS Energetyk ROW - Odra Opole","http://www.data.nowgoal.vip/analysis/1664833.html",4.17,4.04,1.61,4.17,4.03,1.61]
["ISR D3",null,"Ironi Nesher",3.85,3.46,1.79,0.2346,0.26150000000000001,0.504,0.9042,"Hapoel Ironi Baka El Garbiya","View(25)",null,{"$f":"IF(A40<>\"\",TEXT(A40,\"\"),\"\")","v":"ISR D3"},{"$f":"IF(N40=\"\",\"\",CONCATENATE(IF(C40<>\"\",TEXT(C40,\"\"),\"\"),\" - \",IF(K40<>\"\",TEXT(K40,\"\"),\"\")))","v":"Ironi Nesher - Hapoel Ironi Baka El Garbiya"},"http://www.data.nowgoal.vip/analysis/1619242.html",{"$f":"IF(D40<>\"\",D40,\"\")","v":3.85},{"$f":"IF(E40<>\"\",E40,\"\")","v":3.46},{"$f":"IF(F40<>\"\",F40,\"\")","v":1.79},{"$f":"IF(N40<>\"\",IF(D41<>\"\",D41,D40),\"\")","v":3.89},{"$f":"IF(N40<>\"\",IF(E41<>\"\",E41,E40),\"\")","v":3.47},{"$f":"IF(N40<>\"\",IF(F41<>\"\",F41,F40),\"\")","v":1.78},null,"ITA YTHL","Chievo U20 - Sassuolo U20","http://www.data.nowgoal.vip/analysis/1621183.html",2.04,3.56,2.96,2.08,3.49,2.93,null,"Willhill"]
[null,null,null,3.89,3.47,1.78,0.23219999999999999,0.25979999999999998,0.50800000000000001,0.90290000000000004,null,null,null,null,null,"",null,null,null,null,null,null,null,"ARG RESL","Talleres Remedios Reserves - Banfield Reserves","http://www.data.nowgoal.vip/analysis/1664908.html",2.2400000000000002,3.31,2.72,2.15,3.36,2.84]
["ISR D3",null,"AS Ashdod",1.79,3.4,3.84,0.50160000000000005,0.26419999999999999,0.23419999999999999,0.89970000000000006,"Hapoel Kfar Shalem","View(11)",null,{"$f":"IF(A42<>\"\",TEXT(A42,\"\"),\"\")","v":"ISR D3"},{"$f":"IF(N42=\"\",\"\",CONCATENATE(IF(C42<>\"\",TEXT(C42,\"\"),\"\"),\" - \",IF(K42<>\"\",TEXT(K42,\"\"),\"\")))","v":"AS Ashdod - Hapoel Kfar Shalem"},"http://www.data.nowgoal.vip/analysis/1619477.html",{"$f":"IF(D42<>\"\",D42,\"\")","v":1.79},{"$f":"IF(E42<>\"\",E42,\"\")","v":3.4},{"$f":"IF(F42<>\"\",F42,\"\")","v":3.84},{"$f":"IF(N42<>\"\",IF(D43<>\"\",D43,D42),\"\")","v":1.84},{"$f":"IF(N42<>\"\",IF(E43<>\"\",E43,E42),\"\")","v":3.38},{"$f":"IF(N42<>\"\",IF(F43<>\"\",F43,F42),\"\")","v":3.64},null,"ISR CL","Maccabi Lroni Kiryat Malakhi - MS Ironi Kuseife","http://www.data.nowgoal.vip/analysis/1664928.html",1.24,5.5,7.47,1.1599999999999999,6.38,9.82,null,"SNAI"]
[null,null,null,1.84,3.38,3.64,0.4874,0.26579999999999998,0.24679999999999999,0.89770000000000005,null,null,null,null,null,"",null,null,null,null,null,null,null,"ISR CL","Bnei Mamba Golan - FC Alnada Nazareth","http://www.data.nowgoal.vip/analysis/1664885.html",2.12,3.86,2.64,1.94,3.79,2.9]
["ISR D3",null,"Maccabi Kiryat Gat",2.5,3.19,2.5,0.35920000000000002,0.28149999999999997,0.35920000000000002,0.89800000000000002,"Shimshon Kafr Qasim","View(5)",null,{"$f":"IF(A44<>\"\",TEXT(A44,\"\"),\"\")","v":"ISR D3"},{"$f":"IF(N44=\"\",\"\",CONCATENATE(IF(C44<>\"\",TEXT(C44,\"\"),\"\"),\" - \",IF(K44<>\"\",TEXT(K44,\"\"),\"\")))","v":"Maccabi Kiryat Gat - Shimshon Kafr Qasim"},"http://www.data.nowgoal.vip/analysis/1619478.html",{"$f":"IF(D44<>\"\",D44,\"\")","v":2.5},{"$f":"IF(E44<>\"\",E44,\"\")","v":3.19},{"$f":"IF(F44<>\"\",F44,\"\")","v":2.5},{"$f":"IF(N44<>\"\",IF(D45<>\"\",D45,D44),\"\")","v":2.4900000000000002},{"$f":"IF(N44<>\"\",IF(E45<>\"\",E45,E44),\"\")","v":3.19},{"$f":"IF(N44<>\"\",IF(F45<>\"\",F45,F44),\"\")","v":2.4900000000000002},null,"ISR CL","Maccabi Bnei Nahf - Ironi Bnei Kabul","http://www.data.nowgoal.vip/analysis/1664886.html",2,3.58,2.98,2,3.57,2.98,null,"Interwetten"]
[null,null,null,2.4900000000000002,3.19,2.4900000000000002,0.35959999999999998,0.28070000000000001,0.35959999999999998,0.89539999999999997,null,null,null,null,null,"",null,null,null,null,null,null,null,"IDN C","Bali United - PSBK Blitar","http://www.data.nowgoal.vip/analysis/1660008.html",1.07,9.1999999999999993,15.78,1.06,9.94,17]
["ISR D3",null,"Maccabi Shaarayim",1.61,3.59,4.72,0.55830000000000002,0.25080000000000002,0.191,0.90069999999999995,"Maccabi Herzliya","View(12)",null,{"$f":"IF(A46<>\"\",TEXT(A46,\"\"),\"\")","v":"ISR D3"},{"$f":"IF(N46=\"\",\"\",CONCATENATE(IF(C46<>\"\",TEXT(C46,\"\"),\"\"),\" - \",IF(K46<>\"\",TEXT(K46,\"\"),\"\")))","v":"Maccabi Shaarayim - Maccabi Herzliya"},"http://www.data.nowgoal.vip/analysis/1619479.html",{"$f":"IF(D46<>\"\",D46,\"\")","v":1.61},{"$f":"IF(E46<>\"\",E46,\"\")","v":3.59},{"$f":"IF(F46<>\"\",F46,\"\")","v":4.72},{"$f":"IF(N46<>\"\",IF(D47<>\"\",D47,D46),\"\")","v":1.83},{"$f":"IF(N46<>\"\",IF(E47<>\"\",E47,E46),\"\")","v":3.31},{"$f":"IF(N46<>\"\",IF(F47<>\"\",F47,F46),\"\")","v":3.85},null,"ISR D3","Ironi Tiberias - Hapoel Kaukab","http://www.data.nowgoal.vip/analysis/1619238.html",2.36,3.19,2.66,2.35,3.19,2.68,null,"18Bet"]
[null,null,null,1.83,3.31,3.85,0.49330000000000002,0.27229999999999999,0.23449999999999999,0.90190000000000003,null,null,null,null,null,"",null,null,null,null,null,null,null,"ISR CL","Shimshon Tel Aviv - Ironi Beit Dagan","http://www.data.nowgoal.vip/analysis/1664891.html",1.42,4.46,5.05,1.46,4.38,4.68]
["ISR D3",null,"Kafr Qasim",1.22,5.49,8.83,0.73480000000000001,0.16350000000000001,0.1017,0.89790000000000003,"Hapoel Bikat Hayarden","View(5)",null,{"$f":"IF(A48<>\"\",TEXT(A48,\"\"),\"\")","v":"ISR D3"},{"$f":"IF(N48=\"\",\"\",CONCATENATE(IF(C48<>\"\",TEXT(C48,\"\"),\"\"),\" - \",IF(K48<>\"\",TEXT(K48,\"\"),\"\")))","v":"Kafr Qasim - Hapoel Bikat Hayarden"},"http://www.data.nowgoal.vip/analysis/1619481.html",{"$f":"IF(D48<>\"\",D48,\"\")","v":1.22},{"$f":"IF(E48<>\"\",E48,\"\")","v":5.49},{"$f":"IF(F48<>\"\",F48,\"\")","v":8.83},{"$f":"IF(N48<>\"\",IF(D49<>\"\",D49,D48),\"\")","v":1.22},{"$f":"IF(N48<>\"\",IF(E49<>\"\",E49,E48),\"\")","v":5.51},{"$f":"IF(N48<>\"\",IF(F49<>\"\",F49,F48),\"\")","v":8.84},null,"KSA D2","Jubail - Al-Sharq","http://www.data.nowgoal.vip/analysis/1635309.html",2.1800000000000002,3.38,2.75,2.2000000000000002,3.38,2.73]
[null,null,null,1.22,5.51,8.84,0.73529999999999995,0.16309999999999999,0.1016,0.89849999999999997,null,null,null,null,null,"",null,null,null,null,null,null,null,"INT CF","Guangzhou Evergrande Taobao FC - Dinamo Brest","http://www.data.nowgoal.vip/analysis/1664985.html",2.93,3.64,2,2.81,3.64,2.0699999999999998]
["ISR D3",null,"Maccabi Kabilio Jaffa",1.57,3.75,4.71,0.57050000000000001,0.23910000000000001,0.19040000000000001,0.89680000000000004,"Hapoel Mahane Yehuda","View(5)",null,{"$f":"IF(A50<>\"\",TEXT(A50,\"\"),\"\")","v":"ISR D3"},{"$f":"IF(N50=\"\",\"\",CONCATENATE(IF(C50<>\"\",TEXT(C50,\"\"),\"\"),\" - \",IF(K50<>\"\",TEXT(K50,\"\"),\"\")))","v":"Maccabi Kabilio Jaffa - Hapoel Mahane Yehuda"},"http://www.data.nowgoal.vip/analysis/1619482.html",{"$f":"IF(D50<>\"\",D50,\"\")","v":1.57},{"$f":"IF(E50<>\"\",E50,\"\")","v":3.75},{"$f":"IF(F50<>\"\",F50,\"\")","v":4.71},{"$f":"IF(N50<>\"\",IF(D51<>\"\",D51,D50),\"\")","v":1.57},{"$f":"IF(N50<>\"\",IF(E51<>\"\",E51,E50),\"\")","v":3.74},{"$f":"IF(N50<>\"\",IF(F51<>\"\",F51,F50),\"\")","v":4.7300000000000004},null,"INT CF","GKS Katowice - Podbeskidzie Bielsko-Biala","http://www.data.nowgoal.vip/analysis/1664832.html",3.03,3.51,2.02,3.05,3.53,2.02]
[null,null,null,1.57,3.74,4.7300000000000004,0.5706,0.23980000000000001,0.18959999999999999,0.89700000000000002,null,null,null,null,null,"",null,null,null,null,null,null,null,"AUS PLNS","Sorrento F.C. - ECU Joondalup","http://www.data.nowgoal.vip/analysis/1660776.html",2.56,3.64,2.17,2.54,3.65,2.2400000000000002]
["SYR D1",null,"Al-Wahda Damascus",1.53,3.57,5.43,0.58409999999999995,0.25109999999999999,0.1648,0.89559999999999995,"Al-Shorta Damascus","View(3)",null,{"$f":"IF(A52<>\"\",TEXT(A52,\"\"),\"\")","v":"SYR D1"},{"$f":"IF(N52=\"\",\"\",CONCATENATE(IF(C52<>\"\",TEXT(C52,\"\"),\"\"),\" - \",IF(K52<>\"\",TEXT(K52,\"\"),\"\")))","v":"Al-Wahda Damascus - Al-Shorta Damascus"},"http://www.data.nowgoal.vip/analysis/1664845.html",{"$f":"IF(D52<>\"\",D52,\"\")","v":1.53},{"$f":"IF(E52<>\"\",E52,\"\")","v":3.57},{"$f":"IF(F52<>\"\",F52,\"\")","v":5.43},{"$f":"IF(N52<>\"\",IF(D53<>\"\",D53,D52),\"\")","v":1.53},{"$f":"IF(N52<>\"\",IF(E53<>\"\",E53,E52),\"\")","v":3.57},{"$f":"IF(N52<>\"\",IF(F53<>\"\",F53,F52),\"\")","v":5.43},null,"AUS PLNS","Cockburn City - Armadale SC","http://www.data.nowgoal.vip/analysis/1660792.html",1.59,4.2300000000000004,3.93,1.57,4.3499999999999996,4.1399999999999997]
[null,null,null,null,null,null,null,null,null,null,null,null,null,null,null,"",null,null,null,null,null,null,null,"BSL","Wijaya FC - Najip I-Team","http://www.data.nowgoal.vip/analysis/1664876.html",1.07,9.8800000000000008,17.170000000000002,1.07,9.83,16.96]
["SYR D1",null,"Al-Karamah",2.2000000000000002,3,3.1,0.4093,0.30020000000000002,0.29049999999999998,0.90049999999999997,"Al-Sahel(SYR)","View(2)",null,{"$f":"IF(A54<>\"\",TEXT(A54,\"\"),\"\")","v":"SYR D1"},{"$f":"IF(N54=\"\",\"\",CONCATENATE(IF(C54<>\"\",TEXT(C54,\"\"),\"\"),\" - \",IF(K54<>\"\",TEXT(K54,\"\"),\"\")))","v":"Al-Karamah - Al-Sahel(SYR)"},"http://www.data.nowgoal.vip/analysis/1664846.html",{"$f":"IF(D54<>\"\",D54,\"\")","v":2.2000000000000002},{"$f":"IF(E54<>\"\",E54,\"\")","v":3},{"$f":"IF(F54<>\"\",F54,\"\")","v":3.1},{"$f":"IF(N54<>\"\",IF(D55<>\"\",D55,D54),\"\")","v":2.2000000000000002},{"$f":"IF(N54<>\"\",IF(E55<>\"\",E55,E54),\"\")","v":3},{"$f":"IF(N54<>\"\",IF(F55<>\"\",F55,F54),\"\")","v":3.1},null,"KSA D2","Al-Draih - Al-Akhdoud","http://www.data.nowgoal.vip/analysis/1635183.html",1.91,3.51,3.26,1.9,3.53,3.28]
[null,null,null,null,null,null,null,null,null,null,null,null,null,null,null,"",null,null,null,null,null,null,null,"KSA D2","Al-Arabi(KSA) - Hottain (KSA)","http://www.data.nowgoal.vip/analysis/1635310.html",2.25,3.1,2.87,2.25,3.1,2.87]
["SYR D1",null,"Al-Majd Damascus",2.8,3,2.37,0.3211,0.29959999999999998,0.37930000000000003,0.89910000000000001,"Al Wathbah","View(1)",null,{"$f":"IF(A56<>\"\",TEXT(A56,\"\"),\"\")","v":"SYR D1"},{"$f":"IF(N56=\"\",\"\",CONCATENATE(IF(C56<>\"\",TEXT(C56,\"\"),\"\"),\" - \",IF(K56<>\"\",TEXT(K56,\"\"),\"\")))","v":"Al-Majd Damascus - Al Wathbah"},"http://www.data.nowgoal.vip/analysis/1664847.html",{"$f":"IF(D56<>\"\",D56,\"\")","v":2.8},{"$f":"IF(E56<>\"\",E56,\"\")","v":3},{"$f":"IF(F56<>\"\",F56,\"\")","v":2.37},{"$f":"IF(N56<>\"\",IF(D57<>\"\",D57,D56),\"\")","v":2.8},{"$f":"IF(N56<>\"\",IF(E57<>\"\",E57,E56),\"\")","v":3},{"$f":"IF(N56<>\"\",IF(F57<>\"\",F57,F56),\"\")","v":2.37},null,"MAS SL","Kuala Lumpur - Pahang","http://www.data.nowgoal.vip/analysis/1662863.html",2.72,3.53,2.1800000000000002,2.84,3.53,2.12]
[null,null,null,null,null,null,null,null,null,null,null,null,null,null,null,"",null,null,null,null,null,null,null,"MAS SL","Terengganu - Selangor PKNS","http://www.data.nowgoal.vip/analysis/1662864.html",2.12,3.55,2.8,2.11,3.58,2.81]
["SYR D1",null,"Al-Taleiah",1.8,3.25,4,0.499,0.27639999999999998,0.22459999999999999,0.8982,"Hutteen FC","View(2)",null,{"$f":"IF(A58<>\"\",TEXT(A58,\"\"),\"\")","v":"SYR D1"},{"$f":"IF(N58=\"\",\"\",CONCATENATE(IF(C58<>\"\",TEXT(C58,\"\"),\"\"),\" - \",IF(K58<>\"\",TEXT(K58,\"\"),\"\")))","v":"Al-Taleiah - Hutteen FC"},"http://www.data.nowgoal.vip/analysis/1664848.html",{"$f":"IF(D58<>\"\",D58,\"\")","v":1.8},{"$f":"IF(E58<>\"\",E58,\"\")","v":3.25},{"$f":"IF(F58<>\"\",F58,\"\")","v":4},{"$f":"IF(N58<>\"\",IF(D59<>\"\",D59,D58),\"\")","v":1.8},{"$f":"IF(N58<>\"\",IF(E59<>\"\",E59,E58),\"\")","v":3.25},{"$f":"IF(N58<>\"\",IF(F59<>\"\",F59,F58),\"\")","v":4},null,"ISR D2","Hapoel Acco - Hapoel Iksal","http://www.data.nowgoal.vip/analysis/1602628.html",2.2000000000000002,3.08,3.08,2.17,3.02,3.24]
[null,null,null,null,null,null,null,null,null,null,null,null,null,null,null,"",null,null,null,null,null,null,null,"ISR D2","Hapoel Afula - Hapoel Katamon Jerusalem","http://www.data.nowgoal.vip/analysis/1602631.html",2.83,3.02,2.38,2.85,2.99,2.4]
["SYR D1",null,"Al Ittihad (SYR)",1.73,3.28,4.29,0.51870000000000005,0.27279999999999999,0.20860000000000001,0.89559999999999995,"Jableh SC","View(3)",null,{"$f":"IF(A60<>\"\",TEXT(A60,\"\"),\"\")","v":"SYR D1"},{"$f":"IF(N60=\"\",\"\",CONCATENATE(IF(C60<>\"\",TEXT(C60,\"\"),\"\"),\" - \",IF(K60<>\"\",TEXT(K60,\"\"),\"\")))","v":"Al Ittihad (SYR) - Jableh SC"},"http://www.data.nowgoal.vip/analysis/1664849.html",{"$f":"IF(D60<>\"\",D60,\"\")","v":1.73},{"$f":"IF(E60<>\"\",E60,\"\")","v":3.28},{"$f":"IF(F60<>\"\",F60,\"\")","v":4.29},{"$f":"IF(N60<>\"\",IF(D61<>\"\",D61,D60),\"\")","v":1.73},{"$f":"IF(N60<>\"\",IF(E61<>\"\",E61,E60),\"\")","v":3.28},{"$f":"IF(N60<>\"\",IF(F61<>\"\",F61,F60),\"\")","v":4.29},null,"ISR D2","Hapoel Kfar Saba - Hapoel Ashkelon","http://www.data.nowgoal.vip/analysis/1602632.html",2.09,3.02,3.38,2.1,3.05,3.36]
[null,null,null,null,null,null,null,null,null,null,null,null,null,null,null,"",null,null,null,null,null,null,null,"ISR D2","Hapoel Petah Tikva - Hapoel Natzrat Illit","http://www.data.nowgoal.vip/analysis/1602633.html",3.3,3.2,2.0499999999999998,3.24,3.15,2.11]
["SYR D1",null,"Teshrin SC",1.66,3.4,4.5,0.53849999999999998,0.26290000000000002,0.1986,0.89390000000000003,"Al Nawair","View(1)",null,{"$f":"IF(A62<>\"\",TEXT(A62,\"\"),\"\")","v":"SYR D1"},{"$f":"IF(N62=\"\",\"\",CONCATENATE(IF(C62<>\"\",TEXT(C62,\"\"),\"\"),\" - \",IF(K62<>\"\",TEXT(K62,\"\"),\"\")))","v":"Teshrin SC - Al Nawair"},"http://www.data.nowgoal.vip/analysis/1665009.html",{"$f":"IF(D62<>\"\",D62,\"\")","v":1.66},{"$f":"IF(E62<>\"\",E62,\"\")","v":3.4},{"$f":"IF(F62<>\"\",F62,\"\")","v":4.5},{"$f":"IF(N62<>\"\",IF(D63<>\"\",D63,D62),\"\")","v":1.66},{"$f":"IF(N62<>\"\",IF(E63<>\"\",E63,E62),\"\")","v":3.4},{"$f":"IF(N62<>\"\",IF(F63<>\"\",F63,F62),\"\")","v":4.5},null,"ISR D2","Maccabi Ahi Nazareth - Hapoel Bnei Lod","http://www.data.nowgoal.vip/analysis/1602634.html",2.39,3,2.83,2.36,2.97,2.92]
[null,null,null,null,null,null,null,null,null,null,null,null,null,null,null,"",null,null,null,null,null,null,null,"INT CF","HNK Sibenik - NK Junak","http://www.data.nowgoal.vip/analysis/1664929.html",1.49,4.3499999999999996,5.13,1.2,6.45,9]
["INT CF",null,"FK Palanga",3.08,3.45,2.02,0.29270000000000002,0.26140000000000002,0.44590000000000002,0.90190000000000003,"Jelgava","View(8)",null,{"$f":"IF(A64<>\"\",TEXT(A64,\"\"),\"\")","v":"INT CF"},{"$f":"IF(N64=\"\",\"\",CONCATENATE(IF(C64<>\"\",TEXT(C64,\"\"),\"\"),\" - \",IF(K64<>\"\",TEXT(K64,\"\"),\"\")))","v":"FK Palanga - Jelgava"},"http://www.data.nowgoal.vip/analysis/1664918.html",{"$f":"IF(D64<>\"\",D64,\"\")","v":3.08},{"$f":"IF(E64<>\"\",E64,\"\")","v":3.45},{"$f":"IF(F64<>\"\",F64,\"\")","v":2.02},{"$f":"IF(N64<>\"\",IF(D65<>\"\",D65,D64),\"\")","v":3.14},{"$f":"IF(N64<>\"\",IF(E65<>\"\",E65,E64),\"\")","v":3.51},{"$f":"IF(N64<>\"\",IF(F65<>\"\",F65,F64),\"\")","v":2},null,"INT CF","Mornar - OFK Petrovac","http://www.data.nowgoal.vip/analysis/1664931.html",3.09,3.25,2.1800000000000002,3.53,3.28,1.93]
[null,null,null,3.14,3.51,2,0.28860000000000002,0.25819999999999999,0.45319999999999999,0.90549999999999997,null,null,null,null,null,"",null,null,null,null,null,null,null,"INT CF","Shelbourne - St. Patricks Athletic","http://www.data.nowgoal.vip/analysis/1664838.html",2.87,3.59,2.08,3.03,3.63,2.0099999999999998]
["INT CF",null,"FK Senica U19",3.8,4.1500000000000004,1.64,0.23630000000000001,0.21629999999999999,0.5474,0.89790000000000003,"Vysocina Jihlava U19","View(2)",null,{"$f":"IF(A66<>\"\",TEXT(A66,\"\"),\"\")","v":"INT CF"},{"$f":"IF(N66=\"\",\"\",CONCATENATE(IF(C66<>\"\",TEXT(C66,\"\"),\"\"),\" - \",IF(K66<>\"\",TEXT(K66,\"\"),\"\")))","v":"FK Senica U19 - Vysocina Jihlava U19"},"http://www.data.nowgoal.vip/analysis/1664920.html",{"$f":"IF(D66<>\"\",D66,\"\")","v":3.8},{"$f":"IF(E66<>\"\",E66,\"\")","v":4.1500000000000004},{"$f":"IF(F66<>\"\",F66,\"\")","v":1.64},{"$f":"IF(N66<>\"\",IF(D67<>\"\",D67,D66),\"\")","v":3.8},{"$f":"IF(N66<>\"\",IF(E67<>\"\",E67,E66),\"\")","v":4.1500000000000004},{"$f":"IF(N66<>\"\",IF(F67<>\"\",F67,F66),\"\")","v":1.64},null,"UPL","Vipers - Kirinya Jinja SS","http://www.data.nowgoal.vip/analysis/1663989.html",1.29,4.57,9.0500000000000007,1.29,4.5599999999999996,9.0500000000000007]
[null,null,null,null,null,null,null,null,null,null,null,null,null,null,null,{"$f":"SUBSTITUTE(SUBSTITUTE(SUBSTITUTE(SUBSTITUTE(IF(L67<>\"\",HLink(L67),\"\"),\"htm\",\"html\"),\"1x2\",\"analysis\"),\"www\",\"www.data\"),\"com\",\"vip\")","v":""},null,null,null,null,null,null,null,"ENG U23 D1","Barnsley U23 - Sheffield Wed U23","http://www.data.nowgoal.vip/analysis/1619844.html",1.89,3.66,3.23,1.89,3.68,3.23]
["INT CF",null,"Randers FC",2.58,3.43,2.33,0.35,0.2631,0.38690000000000002,0.90300000000000002,"Sturm Graz","View(26)",null,{"$f":"IF(A68<>\"\",TEXT(A68,\"\"),\"\")","v":"INT CF"},{"$f":"IF(N68=\"\",\"\",CONCATENATE(IF(C68<>\"\",TEXT(C68,\"\"),\"\"),\" - \",IF(K68<>\"\",TEXT(K68,\"\"),\"\")))","v":"Randers FC - Sturm Graz"},"http://www.data.nowgoal.vip/analysis/1663423.html",{"$f":"IF(D68<>\"\",D68,\"\")","v":2.58},{"$f":"IF(E68<>\"\",E68,\"\")","v":3.43},{"$f":"IF(F68<>\"\",F68,\"\")","v":2.33},{"$f":"IF(N68<>\"\",IF(D69<>\"\",D69,D68),\"\")","v":2.67},{"$f":"IF(N68<>\"\",IF(E69<>\"\",E69,E68),\"\")","v":3.45},{"$f":"IF(N68<>\"\",IF(F69<>\"\",F69,F68),\"\")","v":2.2799999999999998},null,"Tanzania D1","JKT Tanzania - Mwadui FC","http://www.data.nowgoal.vip/analysis/1664817.html",1.85,2.87,4.51,1.85,2.88,4.51]
[null,null,null,2.67,3.45,2.2799999999999998,0.33929999999999999,0.26279999999999998,0.39789999999999998,0.90529999999999999,null,null,null,null,null,"",null,null,null,null,null,null,null,"Tanzania D1","Ruvu Shooting - Mbeya City","http://www.data.nowgoal.vip/analysis/1664818.html",2,2.77,4.03,2,2.78,4.03]
["INT CF",null,"Rapid Wien",1.78,3.6,3.62,0.50339999999999996,0.2492,0.24740000000000001,0.89610000000000001,"AC Horsens","View(14)",null,{"$f":"IF(A70<>\"\",TEXT(A70,\"\"),\"\")","v":"INT CF"},{"$f":"IF(N70=\"\",\"\",CONCATENATE(IF(C70<>\"\",TEXT(C70,\"\"),\"\"),\" - \",IF(K70<>\"\",TEXT(K70,\"\"),\"\")))","v":"Rapid Wien - AC Horsens"},"http://www.data.nowgoal.vip/analysis/1663424.html",{"$f":"IF(D70<>\"\",D70,\"\")","v":1.78},{"$f":"IF(E70<>\"\",E70,\"\")","v":3.6},{"$f":"IF(F70<>\"\",F70,\"\")","v":3.62},{"$f":"IF(N70<>\"\",IF(D71<>\"\",D71,D70),\"\")","v":1.75},{"$f":"IF(N70<>\"\",IF(E71<>\"\",E71,E70),\"\")","v":3.63},{"$f":"IF(N70<>\"\",IF(F71<>\"\",F71,F70),\"\")","v":3.7},null,"Tanzania D1","Stand United - KMC FC","http://www.data.nowgoal.vip/analysis/1664819.html",2.63,2.63,2.88,2.63,2.63,2.88]
[null,null,null,1.75,3.63,3.7,0.51129999999999998,0.247,0.2417,0.89510000000000001,null,null,null,null,null,"",null,null,null,null,null,null,null,"AOC","Red Bull Salzburg(N) - Beijing Guoan","http://www.data.nowgoal.vip/analysis/1660994.html",1.2,5.85,10.039999999999999,1.1599999999999999,6.44,11.55]
["INT CF",null,"Trondheims Orn (w)",5,4.5,1.44,0.17910000000000001,0.19900000000000001,0.62190000000000001,0.89549999999999996,"Valerenga (w)","View(1)",null,{"$f":"IF(A72<>\"\",TEXT(A72,\"\"),\"\")","v":"INT CF"},{"$f":"IF(N72=\"\",\"\",CONCATENATE(IF(C72<>\"\",TEXT(C72,\"\"),\"\"),\" - \",IF(K72<>\"\",TEXT(K72,\"\"),\"\")))","v":"Trondheims Orn (w) - Valerenga (w)"},"http://www.data.nowgoal.vip/analysis/1663988.html",{"$f":"IF(D72<>\"\",D72,\"\")","v":5},{"$f":"IF(E72<>\"\",E72,\"\")","v":4.5},{"$f":"IF(F72<>\"\",F72,\"\")","v":1.44},{"$f":"IF(N72<>\"\",IF(D73<>\"\",D73,D72),\"\")","v":5},{"$f":"IF(N72<>\"\",IF(E73<>\"\",E73,E72),\"\")","v":4.5},{"$f":"IF(N72<>\"\",IF(F73<>\"\",F73,F72),\"\")","v":1.44},null,"SAFL","Cape Umoya United - TS Galaxy","http://www.data.nowgoal.vip/analysis/1601791.html",2.72,2.78,2.61,2.69,2.79,2.65]
[null,null,null,null,null,null,null,null,null,null,null,null,null,null,null,"",null,null,null,null,null,null,null,"RWA CP","AS Kigali - Etincelles","http://www.data.nowgoal.vip/analysis/1664935.html",1.9,3,3.9,1.85,2.98,4.25]
["INT CF",null,"Cracovia Krakow",2.23,3.55,2.75,0.41039999999999999,0.25740000000000002,0.3322,0.91310000000000002,"Vojvodina Novi Sad","View(12)",null,{"$f":"IF(A74<>\"\",TEXT(A74,\"\"),\"\")","v":"INT CF"},{"$f":"IF(N74=\"\",\"\",CONCATENATE(IF(C74<>\"\",TEXT(C74,\"\"),\"\"),\" - \",IF(K74<>\"\",TEXT(K74,\"\"),\"\")))","v":"Cracovia Krakow - Vojvodina Novi Sad"},"http://www.data.nowgoal.vip/analysis/1664828.html",{"$f":"IF(D74<>\"\",D74,\"\")","v":2.23},{"$f":"IF(E74<>\"\",E74,\"\")","v":3.55},{"$f":"IF(F74<>\"\",F74,\"\")","v":2.75},{"$f":"IF(N74<>\"\",IF(D75<>\"\",D75,D74),\"\")","v":2.23},{"$f":"IF(N74<>\"\",IF(E75<>\"\",E75,E74),\"\")","v":3.55},{"$f":"IF(N74<>\"\",IF(F75<>\"\",F75,F74),\"\")","v":2.75},null,"UPL","Paidha Black Angels - Ndejje University","http://www.data.nowgoal.vip/analysis/1663990.html",2.12,2.82,3.63,2.12,2.82,3.63]
[null,null,null,null,null,null,null,null,null,null,null,null,null,null,null,"",null,null,null,null,null,null,null,"AFC","Japan(N) - Qatar","http://www.data.nowgoal.vip/analysis/1664279.html",2.0699999999999998,2.99,3.82,2.15,2.96,3.66]
["INT CF",null,"KS Energetyk ROW",4.17,4.04,1.61,0.21640000000000001,0.22339999999999999,0.56030000000000002,0.9022,"Odra Opole","View(12)",null,{"$f":"IF(A76<>\"\",TEXT(A76,\"\"),\"\")","v":"INT CF"},{"$f":"IF(N76=\"\",\"\",CONCATENATE(IF(C76<>\"\",TEXT(C76,\"\"),\"\"),\" - \",IF(K76<>\"\",TEXT(K76,\"\"),\"\")))","v":"KS Energetyk ROW - Odra Opole"},"http://www.data.nowgoal.vip/analysis/1664833.html",{"$f":"IF(D76<>\"\",D76,\"\")","v":4.17},{"$f":"IF(E76<>\"\",E76,\"\")","v":4.04},{"$f":"IF(F76<>\"\",F76,\"\")","v":1.61},{"$f":"IF(N76<>\"\",IF(D77<>\"\",D77,D76),\"\")","v":4.17},{"$f":"IF(N76<>\"\",IF(E77<>\"\",E77,E76),\"\")","v":4.03},{"$f":"IF(N76<>\"\",IF(F77<>\"\",F77,F76),\"\")","v":1.61},null,"BHR D1","Al-Muharraq - Malkia","http://www.data.nowgoal.vip/analysis/1664853.html",1.46,4.42,5.15,1.43,4.5199999999999996,5.42]
[null,null,null,4.17,4.03,1.61,0.21640000000000001,0.22389999999999999,0.55959999999999999,0.90129999999999999,null,null,null,null,null,"",null,null,null,null,null,null,null,"BHR D1","Al-Budaiya - Al-Hala","http://www.data.nowgoal.vip/analysis/1664854.html",2.39,3.18,2.65,2.4,3.19,2.66]
["ITA YTHL",null,"Chievo U20",2.04,3.56,2.96,0.44209999999999999,0.25319999999999998,0.30470000000000003,0.90249999999999997,"Sassuolo U20","View(52)",null,{"$f":"IF(A78<>\"\",TEXT(A78,\"\"),\"\")","v":"ITA YTHL"},{"$f":"IF(N78=\"\",\"\",CONCATENATE(IF(C78<>\"\",TEXT(C78,\"\"),\"\"),\" - \",IF(K78<>\"\",TEXT(K78,\"\"),\"\")))","v":"Chievo U20 - Sassuolo U20"},"http://www.data.nowgoal.vip/analysis/1621183.html",{"$f":"IF(D78<>\"\",D78,\"\")","v":2.04},{"$f":"IF(E78<>\"\",E78,\"\")","v":3.56},{"$f":"IF(F78<>\"\",F78,\"\")","v":2.96},{"$f":"IF(N78<>\"\",IF(D79<>\"\",D79,D78),\"\")","v":2.08},{"$f":"IF(N78<>\"\",IF(E79<>\"\",E79,E78),\"\")","v":3.49},{"$f":"IF(N78<>\"\",IF(F79<>\"\",F79,F78),\"\")","v":2.93},null,"INT CF","Dundalk(N) - Brommapojkarna","http://www.data.nowgoal.vip/analysis/1664834.html",2.19,3.5,2.7,2.29,3.52,2.56]
[null,null,null,2.08,3.49,2.93,0.43359999999999999,0.25850000000000001,0.30790000000000001,0.90310000000000001,null,null,null,null,null,"",null,null,null,null,null,null,null,"INT CF","FC Viktoria Plzen(N) - New England Revolution","http://www.data.nowgoal.vip/analysis/1664835.html",1.29,5.01,7.39,1.27,5.24,7.84]
["ARG RESL",null,"Talleres Remedios Reserves",2.2400000000000002,3.31,2.72,0.40039999999999998,0.27029999999999998,0.32929999999999998,0.89580000000000004,"Banfield Reserves","View(7)",null,{"$f":"IF(A80<>\"\",TEXT(A80,\"\"),\"\")","v":"ARG RESL"},{"$f":"IF(N80=\"\",\"\",CONCATENATE(IF(C80<>\"\",TEXT(C80,\"\"),\"\"),\" - \",IF(K80<>\"\",TEXT(K80,\"\"),\"\")))","v":"Talleres Remedios Reserves - Banfield Reserves"},"http://www.data.nowgoal.vip/analysis/1664908.html",{"$f":"IF(D80<>\"\",D80,\"\")","v":2.2400000000000002},{"$f":"IF(E80<>\"\",E80,\"\")","v":3.31},{"$f":"IF(F80<>\"\",F80,\"\")","v":2.72},{"$f":"IF(N80<>\"\",IF(D81<>\"\",D81,D80),\"\")","v":2.15},{"$f":"IF(N80<>\"\",IF(E81<>\"\",E81,E80),\"\")","v":3.36},{"$f":"IF(N80<>\"\",IF(F81<>\"\",F81,F80),\"\")","v":2.84},null,"INT CF","Stromsgodset(N) - Grorud","http://www.data.nowgoal.vip/analysis/1664836.html",1.33,5.13,6.04,1.33,5.14,6.03]
[null,null,null,2.15,3.36,2.84,0.41670000000000001,0.26719999999999999,0.31609999999999999,0.89710000000000001,null,null,null,null,null,"",null,null,null,null,null,null,null,"INT CF","MFK Karvina - GKS Tychy","http://www.data.nowgoal.vip/analysis/1663991.html",1.34,5.0199999999999996,6.19,1.34,5.05,6.45]
["ISR CL",null,"Maccabi Lroni Kiryat Malakhi",1.24,5.5,7.47,0.71909999999999996,0.1618,0.1191,0.88949999999999996,"MS Ironi Kuseife","View(10)",null,{"$f":"IF(A82<>\"\",TEXT(A82,\"\"),\"\")","v":"ISR CL"},{"$f":"IF(N82=\"\",\"\",CONCATENATE(IF(C82<>\"\",TEXT(C82,\"\"),\"\"),\" - \",IF(K82<>\"\",TEXT(K82,\"\"),\"\")))","v":"Maccabi Lroni Kiryat Malakhi - MS Ironi Kuseife"},"http://www.data.nowgoal.vip/analysis/1664928.html",{"$f":"IF(D82<>\"\",D82,\"\")","v":1.24},{"$f":"IF(E82<>\"\",E82,\"\")","v":5.5},{"$f":"IF(F82<>\"\",F82,\"\")","v":7.47},{"$f":"IF(N82<>\"\",IF(D83<>\"\",D83,D82),\"\")","v":1.1599999999999999},{"$f":"IF(N82<>\"\",IF(E83<>\"\",E83,E82),\"\")","v":6.38},{"$f":"IF(N82<>\"\",IF(F83<>\"\",F83,F82),\"\")","v":9.82},null,"INT CF","Ludogorets Razgrad - Terek Grozny","http://www.data.nowgoal.vip/analysis/1663993.html",1.61,3.8,4.32,1.61,3.8,4.32]
[null,null,null,1.1599999999999999,6.38,9.82,0.77,0.1394,9.06E-2,0.8901,null,null,null,null,null,"",null,null,null,null,null,null,null,"INT CF","St.Polten - FK Shkendija 79","http://www.data.nowgoal.vip/analysis/1664002.html",1.8,4,3.25,1.8,4,3.25]
["ISR CL",null,"Bnei Mamba Golan",2.12,3.86,2.64,0.4254,0.23369999999999999,0.34079999999999999,0.90100000000000002,"FC Alnada Nazareth","View(10)",null,{"$f":"IF(A84<>\"\",TEXT(A84,\"\"),\"\")","v":"ISR CL"},{"$f":"IF(N84=\"\",\"\",CONCATENATE(IF(C84<>\"\",TEXT(C84,\"\"),\"\"),\" - \",IF(K84<>\"\",TEXT(K84,\"\"),\"\")))","v":"Bnei Mamba Golan - FC Alnada Nazareth"},"http://www.data.nowgoal.vip/analysis/1664885.html",{"$f":"IF(D84<>\"\",D84,\"\")","v":2.12},{"$f":"IF(E84<>\"\",E84,\"\")","v":3.86},{"$f":"IF(F84<>\"\",F84,\"\")","v":2.64},{"$f":"IF(N84<>\"\",IF(D85<>\"\",D85,D84),\"\")","v":1.94},{"$f":"IF(N84<>\"\",IF(E85<>\"\",E85,E84),\"\")","v":3.79},{"$f":"IF(N84<>\"\",IF(F85<>\"\",F85,F84),\"\")","v":2.9},null,"ISL","Mumbai City - FC Goa","http://www.data.nowgoal.vip/analysis/1660386.html",2.13,3.34,3.01,2.17,3.39,2.96]
[null,null,null,1.94,3.79,2.9,0.45850000000000002,0.23480000000000001,0.30669999999999997,0.89039999999999997,null,null,null,null,null,"",null,null,null,null,null,null,null,"ITA YTHL","Inter Milan U20 - Sampdoria U20","http://www.data.nowgoal.vip/analysis/1621185.html",1.5,4.43,4.63,1.48,4.34,5.01]
["ISR CL",null,"Maccabi Bnei Nahf",2,3.58,2.98,0.44869999999999999,0.2505,0.30080000000000001,0.89739999999999998,"Ironi Bnei Kabul","View(3)",null,{"$f":"IF(A86<>\"\",TEXT(A86,\"\"),\"\")","v":"ISR CL"},{"$f":"IF(N86=\"\",\"\",CONCATENATE(IF(C86<>\"\",TEXT(C86,\"\"),\"\"),\" - \",IF(K86<>\"\",TEXT(K86,\"\"),\"\")))","v":"Maccabi Bnei Nahf - Ironi Bnei Kabul"},"http://www.data.nowgoal.vip/analysis/1664886.html",{"$f":"IF(D86<>\"\",D86,\"\")","v":2},{"$f":"IF(E86<>\"\",E86,\"\")","v":3.58},{"$f":"IF(F86<>\"\",F86,\"\")","v":2.98},{"$f":"IF(N86<>\"\",IF(D87<>\"\",D87,D86),\"\")","v":2},{"$f":"IF(N86<>\"\",IF(E87<>\"\",E87,E86),\"\")","v":3.57},{"$f":"IF(N86<>\"\",IF(F87<>\"\",F87,F86),\"\")","v":2.98},null,"ALG D2","ASM Oran - JSM Skikda","http://www.data.nowgoal.vip/analysis/1594593.html",1.87,2.81,4.58,1.77,2.96,4.84]
[null,null,null,2,3.57,2.98,0.44819999999999999,0.25130000000000002,0.30049999999999999,0.89639999999999997,null,null,null,null,null,"",null,null,null,null,null,null,null,"ALG D2","RC Kouba - JSM Bejaia","http://www.data.nowgoal.vip/analysis/1594595.html",2.0099999999999998,2.76,3.99,2.0099999999999998,2.77,3.99]
["IDN C",null,"Bali United",1.07,9.1999999999999993,15.78,0.8448,9.8000000000000004E-2,5.7099999999999998E-2,0.90180000000000005,"PSBK Blitar","View(24)",null,{"$f":"IF(A88<>\"\",TEXT(A88,\"\"),\"\")","v":"IDN C"},{"$f":"IF(N88=\"\",\"\",CONCATENATE(IF(C88<>\"\",TEXT(C88,\"\"),\"\"),\" - \",IF(K88<>\"\",TEXT(K88,\"\"),\"\")))","v":"Bali United - PSBK Blitar"},"http://www.data.nowgoal.vip/analysis/1660008.html",{"$f":"IF(D88<>\"\",D88,\"\")","v":1.07},{"$f":"IF(E88<>\"\",E88,\"\")","v":9.1999999999999993},{"$f":"IF(F88<>\"\",F88,\"\")","v":15.78},{"$f":"IF(N88<>\"\",IF(D89<>\"\",D89,D88),\"\")","v":1.06},{"$f":"IF(N88<>\"\",IF(E89<>\"\",E89,E88),\"\")","v":9.94},{"$f":"IF(N88<>\"\",IF(F89<>\"\",F89,F88),\"\")","v":17},null,"ALG D2","A Bou Saada - USM Blida","http://www.data.nowgoal.vip/analysis/1594596.html",1.25,4.43,11.09,1.25,4.4400000000000004,10.98]
[null,null,null,1.06,9.94,17,0.85599999999999998,9.0800000000000006E-2,5.3100000000000001E-2,0.90310000000000001,null,null,null,null,null,"",null,null,null,null,null,null,null,"ROM D1","Concordia Chiajna - Botosani","http://www.data.nowgoal.vip/analysis/1567433.html",2.95,3.04,2.35,3.31,3.12,2.14]
["ISR D3",null,"Ironi Tiberias",2.36,3.19,2.66,0.38009999999999999,0.28179999999999999,0.33810000000000001,0.89859999999999995,"Hapoel Kaukab","View(30)",null,{"$f":"IF(A90<>\"\",TEXT(A90,\"\"),\"\")","v":"ISR D3"},{"$f":"IF(N90=\"\",\"\",CONCATENATE(IF(C90<>\"\",TEXT(C90,\"\"),\"\"),\" - \",IF(K90<>\"\",TEXT(K90,\"\"),\"\")))","v":"Ironi Tiberias - Hapoel Kaukab"},"http://www.data.nowgoal.vip/analysis/1619238.html",{"$f":"IF(D90<>\"\",D90,\"\")","v":2.36},{"$f":"IF(E90<>\"\",E90,\"\")","v":3.19},{"$f":"IF(F90<>\"\",F90,\"\")","v":2.66},{"$f":"IF(N90<>\"\",IF(D91<>\"\",D91,D90),\"\")","v":2.35},{"$f":"IF(N90<>\"\",IF(E91<>\"\",E91,E90),\"\")","v":3.19},{"$f":"IF(N90<>\"\",IF(F91<>\"\",F91,F90),\"\")","v":2.68},null,"INT CF","SV Horn - KFC Komarno","http://www.data.nowgoal.vip/analysis/1663994.html",2.12,3.78,2.75,1.84,3.75,3.35]
[null,null,null,2.35,3.19,2.68,0.3826,0.28149999999999997,0.33589999999999998,0.89870000000000005,null,null,null,null,null,"",null,null,null,null,null,null,null,"INT CF","Halmstads - Lyngby","http://www.data.nowgoal.vip/analysis/1663996.html",1.84,3.68,3.51,1.84,3.68,3.5]
["ISR CL",null,"Shimshon Tel Aviv",1.42,4.46,5.05,0.62429999999999997,0.19950000000000001,0.1762,0.88900000000000001,"Ironi Beit Dagan","View(10)",null,{"$f":"IF(A92<>\"\",TEXT(A92,\"\"),\"\")","v":"ISR CL"},{"$f":"IF(N92=\"\",\"\",CONCATENATE(IF(C92<>\"\",TEXT(C92,\"\"),\"\"),\" - \",IF(K92<>\"\",TEXT(K92,\"\"),\"\")))","v":"Shimshon Tel Aviv - Ironi Beit Dagan"},"http://www.data.nowgoal.vip/analysis/1664891.html",{"$f":"IF(D92<>\"\",D92,\"\")","v":1.42},{"$f":"IF(E92<>\"\",E92,\"\")","v":4.46},{"$f":"IF(F92<>\"\",F92,\"\")","v":5.05},{"$f":"IF(N92<>\"\",IF(D93<>\"\",D93,D92),\"\")","v":1.46},{"$f":"IF(N92<>\"\",IF(E93<>\"\",E93,E92),\"\")","v":4.38},{"$f":"IF(N92<>\"\",IF(F93<>\"\",F93,F92),\"\")","v":4.68},null,"ALG D2","WA Tlemcen - USM EL HARRACH","http://www.data.nowgoal.vip/analysis/1594592.html",1.44,3.7,6.91,1.48,3.69,6.32]
[null,null,null,1.46,4.38,4.68,0.60729999999999995,0.20280000000000001,0.18990000000000001,0.88790000000000002,null,null,null,null,null,"",null,null,null,null,null,null,null,"ENG U23 D1","Watford U23 - Cardiff City U23","http://www.data.nowgoal.vip/analysis/1619845.html",1.72,3.74,3.8,1.72,3.78,3.81]
["KSA D2",null,"Jubail",2.1800000000000002,3.38,2.75,0.41,0.2646,0.32550000000000001,0.8952,"Al-Sharq","View(3)",null,{"$f":"IF(A94<>\"\",TEXT(A94,\"\"),\"\")","v":"KSA D2"},{"$f":"IF(N94=\"\",\"\",CONCATENATE(IF(C94<>\"\",TEXT(C94,\"\"),\"\"),\" - \",IF(K94<>\"\",TEXT(K94,\"\"),\"\")))","v":"Jubail - Al-Sharq"},"http://www.data.nowgoal.vip/analysis/1635309.html",{"$f":"IF(D94<>\"\",D94,\"\")","v":2.1800000000000002},{"$f":"IF(E94<>\"\",E94,\"\")","v":3.38},{"$f":"IF(F94<>\"\",F94,\"\")","v":2.75},{"$f":"IF(N94<>\"\",IF(D95<>\"\",D95,D94),\"\")","v":2.2000000000000002},{"$f":"IF(N94<>\"\",IF(E95<>\"\",E95,E94),\"\")","v":3.38},{"$f":"IF(N94<>\"\",IF(F95<>\"\",F95,F94),\"\")","v":2.73},null,"INT CF","Slavia Kromeriz - BrnoU21","http://www.data.nowgoal.vip/analysis/1665077.html",1.4,4.33,6,1.4,4.33,6]
[null,null,null,2.2000000000000002,3.38,2.73,0.4073,0.26490000000000002,0.32779999999999998,0.89610000000000001,null,null,null,null,null,"",null,null,null,null,null,null,null,"Estonia WT","Levadia Tallinn - Tartu JK Maag Tammeka","http://www.data.nowgoal.vip/analysis/1654395.html",1.1599999999999999,6.21,11.09,1.1599999999999999,6.12,11.36]
["INT CF",null,"Guangzhou Evergrande Taobao FC",2.93,3.64,2,0.30590000000000001,0.24640000000000001,0.4476,0.89580000000000004,"Dinamo Brest","View(7)",null,{"$f":"IF(A96<>\"\",TEXT(A96,\"\"),\"\")","v":"INT CF"},{"$f":"IF(N96=\"\",\"\",CONCATENATE(IF(C96<>\"\",TEXT(C96,\"\"),\"\"),\" - \",IF(K96<>\"\",TEXT(K96,\"\"),\"\")))","v":"Guangzhou Evergrande Taobao FC - Dinamo Brest"},"http://www.data.nowgoal.vip/analysis/1664985.html",{"$f":"IF(D96<>\"\",D96,\"\")","v":2.93},{"$f":"IF(E96<>\"\",E96,\"\")","v":3.64},{"$f":"IF(F96<>\"\",F96,\"\")","v":2},{"$f":"IF(N96<>\"\",IF(D97<>\"\",D97,D96),\"\")","v":2.81},{"$f":"IF(N96<>\"\",IF(E97<>\"\",E97,E96),\"\")","v":3.64},{"$f":"IF(N96<>\"\",IF(F97<>\"\",F97,F96),\"\")","v":2.0699999999999998},null,"KSA YTH","Al-Ittihad (Youth) - Al-Fath (Youth)","http://www.data.nowgoal.vip/analysis/1639331.html",1.57,3.73,4.7,1.57,3.73,4.7]
[null,null,null,2.81,3.64,2.0699999999999998,0.31929999999999997,0.2467,0.43409999999999999,0.89859999999999995,null,null,null,null,null,"",null,null,null,null,null,null,null,"TUR D2","Osmanlispor FC - Balikesirspor","http://www.data.nowgoal.vip/analysis/1574837.html",1.68,3.56,4.4800000000000004,1.67,3.51,4.76]
["INT CF",null,"GKS Katowice",3.03,3.51,2.02,0.29730000000000001,0.25669999999999998,0.44600000000000001,0.90090000000000003,"Podbeskidzie Bielsko-Biala","View(32)",null,{"$f":"IF(A98<>\"\",TEXT(A98,\"\"),\"\")","v":"INT CF"},{"$f":"IF(N98=\"\",\"\",CONCATENATE(IF(C98<>\"\",TEXT(C98,\"\"),\"\"),\" - \",IF(K98<>\"\",TEXT(K98,\"\"),\"\")))","v":"GKS Katowice - Podbeskidzie Bielsko-Biala"},"http://www.data.nowgoal.vip/analysis/1664832.html",{"$f":"IF(D98<>\"\",D98,\"\")","v":3.03},{"$f":"IF(E98<>\"\",E98,\"\")","v":3.51},{"$f":"IF(F98<>\"\",F98,\"\")","v":2.02},{"$f":"IF(N98<>\"\",IF(D99<>\"\",D99,D98),\"\")","v":3.05},{"$f":"IF(N98<>\"\",IF(E99<>\"\",E99,E98),\"\")","v":3.53},{"$f":"IF(N98<>\"\",IF(F99<>\"\",F99,F98),\"\")","v":2.02},null,"INT CF","FC Blau Weiss Linz - SV Schalding Heining","http://www.data.nowgoal.vip/analysis/1663998.html",1.28,5,7.5,1.2,5.75,9]
[null,null,null,3.05,3.53,2.02,0.29630000000000001,0.25580000000000003,0.44779999999999998,0.90249999999999997,null,null,null,null,null,"",null,null,null,null,null,null,null,"INT CF","VfL Wolfsburg (w)(N) - FFC Frankfurt (w)","http://www.data.nowgoal.vip/analysis/1664000.html",1.1200000000000001,8,10,1.1200000000000001,8,10]
["AUS PLNS",null,"Sorrento F.C.",2.56,3.64,2.17,0.34720000000000001,0.2442,0.40860000000000002,0.88790000000000002,"ECU Joondalup","View(11)",null,{"$f":"IF(A100<>\"\",TEXT(A100,\"\"),\"\")","v":"AUS PLNS"},{"$f":"IF(N100=\"\",\"\",CONCATENATE(IF(C100<>\"\",TEXT(C100,\"\"),\"\"),\" - \",IF(K100<>\"\",TEXT(K100,\"\"),\"\")))","v":"Sorrento F.C. - ECU Joondalup"},"http://www.data.nowgoal.vip/analysis/1660776.html",{"$f":"IF(D100<>\"\",D100,\"\")","v":2.56},{"$f":"IF(E100<>\"\",E100,\"\")","v":3.64},{"$f":"IF(F100<>\"\",F100,\"\")","v":2.17},{"$f":"IF(N100<>\"\",IF(D101<>\"\",D101,D100),\"\")","v":2.54},{"$f":"IF(N100<>\"\",IF(E101<>\"\",E101,E100),\"\")","v":3.65},{"$f":"IF(N100<>\"\",IF(F101<>\"\",F101,F100),\"\")","v":2.2400000000000002},null,"ALG D2","USM Annaba - MC Saida","http://www.data.nowgoal.vip/analysis/1594594.html",1.51,3.38,6.53,1.51,3.39,6.52]
[null,null,null,2.54,3.65,2.2400000000000002,0.35299999999999998,0.2455,0.40139999999999998,0.89729999999999999,null,null,null,null,null,"",null,null,null,null,null,null,null,"ALG D2","Biskra - ASO Chlef","http://www.data.nowgoal.vip/analysis/1594597.html",1.73,3.01,4.95,1.73,3.01,4.95]
["AUS PLNS",null,"Cockburn City",1.59,4.2300000000000004,3.93,0.56130000000000002,0.21129999999999999,0.22739999999999999,0.89380000000000004,"Armadale SC","View(13)",null,{"$f":"IF(A102<>\"\",TEXT(A102,\"\"),\"\")","v":"AUS PLNS"},{"$f":"IF(N102=\"\",\"\",CONCATENATE(IF(C102<>\"\",TEXT(C102,\"\"),\"\"),\" - \",IF(K102<>\"\",TEXT(K102,\"\"),\"\")))","v":"Cockburn City - Armadale SC"},"http://www.data.nowgoal.vip/analysis/1660792.html",{"$f":"IF(D102<>\"\",D102,\"\")","v":1.59},{"$f":"IF(E102<>\"\",E102,\"\")","v":4.2300000000000004},{"$f":"IF(F102<>\"\",F102,\"\")","v":3.93},{"$f":"IF(N102<>\"\",IF(D103<>\"\",D103,D102),\"\")","v":1.57},{"$f":"IF(N102<>\"\",IF(E103<>\"\",E103,E102),\"\")","v":4.3499999999999996},{"$f":"IF(N102<>\"\",IF(F103<>\"\",F103,F102),\"\")","v":4.1399999999999997},null,"MEX U20","Monarcas Morelia U20 - Atlas U20","http://www.data.nowgoal.vip/analysis/1664889.html",2.12,3.29,3,2.12,3.29,3]
[null,null,null,1.57,4.3499999999999996,4.1399999999999997,0.57450000000000001,0.2077,0.21790000000000001,0.90239999999999998,null,null,null,null,null,"",null,null,null,null,null,null,null,"MEX D3","Unam Pumas II - Coyotes FC","http://www.data.nowgoal.vip/analysis/1664897.html",2.14,3.21,3,2.14,3.21,3]
["BSL",null,"Wijaya FC",1.07,9.8800000000000008,17.170000000000002,0.8548,9.2200000000000004E-2,5.2999999999999999E-2,0.91039999999999999,"Najip I-Team","View(6)",null,{"$f":"IF(A104<>\"\",TEXT(A104,\"\"),\"\")","v":"BSL"},{"$f":"IF(N104=\"\",\"\",CONCATENATE(IF(C104<>\"\",TEXT(C104,\"\"),\"\"),\" - \",IF(K104<>\"\",TEXT(K104,\"\"),\"\")))","v":"Wijaya FC - Najip I-Team"},"http://www.data.nowgoal.vip/analysis/1664876.html",{"$f":"IF(D104<>\"\",D104,\"\")","v":1.07},{"$f":"IF(E104<>\"\",E104,\"\")","v":9.8800000000000008},{"$f":"IF(F104<>\"\",F104,\"\")","v":17.170000000000002},{"$f":"IF(N104<>\"\",IF(D105<>\"\",D105,D104),\"\")","v":1.07},{"$f":"IF(N104<>\"\",IF(E105<>\"\",E105,E104),\"\")","v":9.83},{"$f":"IF(N104<>\"\",IF(F105<>\"\",F105,F104),\"\")","v":16.96},null,"MEX D3","Club America II - Reboceros de La Piedad","http://www.data.nowgoal.vip/analysis/1664899.html",2.4,3.19,2.6,2.4,3.22,2.59]
[null,null,null,1.07,9.83,16.96,0.85370000000000001,9.2600000000000002E-2,5.3699999999999998E-2,0.91059999999999997,null,null,null,null,null,"",null,null,null,null,null,null,null,"BHR D1","Al-Hadd - Al-Riffa","http://www.data.nowgoal.vip/analysis/1664855.html",3.29,3.28,2.0099999999999998,3.29,3.29,2.0099999999999998]
["KSA D2",null,"Al-Draih",1.91,3.51,3.26,0.46989999999999998,0.25540000000000002,0.2747,0.89629999999999999,"Al-Akhdoud","View(15)",null,{"$f":"IF(A106<>\"\",TEXT(A106,\"\"),\"\")","v":"KSA D2"},{"$f":"IF(N106=\"\",\"\",CONCATENATE(IF(C106<>\"\",TEXT(C106,\"\"),\"\"),\" - \",IF(K106<>\"\",TEXT(K106,\"\"),\"\")))","v":"Al-Draih - Al-Akhdoud"},"http://www.data.nowgoal.vip/analysis/1635183.html",{"$f":"IF(D106<>\"\",D106,\"\")","v":1.91},{"$f":"IF(E106<>\"\",E106,\"\")","v":3.51},{"$f":"IF(F106<>\"\",F106,\"\")","v":3.26},{"$f":"IF(N106<>\"\",IF(D107<>\"\",D107,D106),\"\")","v":1.9},{"$f":"IF(N106<>\"\",IF(E107<>\"\",E107,E106),\"\")","v":3.53},{"$f":"IF(N106<>\"\",IF(F107<>\"\",F107,F106),\"\")","v":3.28},null,"INT CF","St.Polten Amateure - USC Rohrbach","http://www.data.nowgoal.vip/analysis/1664921.html",1.2,6,9,1.2,6,9]
[null,null,null,1.9,3.53,3.28,0.4723,0.25390000000000001,0.27389999999999998,0.89739999999999998,null,null,null,null,null,"",null,null,null,null,null,null,null,"FRA D4","Le Havre B - Vannes","http://www.data.nowgoal.vip/analysis/1579424.html",2,3.28,3.24,2.0099999999999998,3.28,3.25]
["KSA D2",null,"Al-Arabi(KSA)",2.25,3.1,2.87,0.39839999999999998,0.28920000000000001,0.31240000000000001,0.89639999999999997,"Hottain (KSA)","View(1)",null,{"$f":"IF(A108<>\"\",TEXT(A108,\"\"),\"\")","v":"KSA D2"},{"$f":"IF(N108=\"\",\"\",CONCATENATE(IF(C108<>\"\",TEXT(C108,\"\"),\"\"),\" - \",IF(K108<>\"\",TEXT(K108,\"\"),\"\")))","v":"Al-Arabi(KSA) - Hottain (KSA)"},"http://www.data.nowgoal.vip/analysis/1635310.html",{"$f":"IF(D108<>\"\",D108,\"\")","v":2.25},{"$f":"IF(E108<>\"\",E108,\"\")","v":3.1},{"$f":"IF(F108<>\"\",F108,\"\")","v":2.87},{"$f":"IF(N108<>\"\",IF(D109<>\"\",D109,D108),\"\")","v":2.25},{"$f":"IF(N108<>\"\",IF(E109<>\"\",E109,E108),\"\")","v":3.1},{"$f":"IF(N108<>\"\",IF(F109<>\"\",F109,F108),\"\")","v":2.87},null,"CRO D1","NK Lokomotiva Zagreb - Inter Zapresic","http://www.data.nowgoal.vip/analysis/1555533.html",1.58,3.63,5.31,1.5,3.94,5.65]
[null,null,null,null,null,null,null,null,null,null,null,null,null,null,null,"",null,null,null,null,null,null,null,"FIN CUP","KuPs - Vaasa VPS","http://www.data.nowgoal.vip/analysis/1657536.html",1.86,3.48,3.68,1.86,3.5,3.68]
["MAS SL",null,"Kuala Lumpur",2.72,3.53,2.1800000000000002,0.33119999999999999,0.25569999999999998,0.41310000000000002,0.90139999999999998,"Pahang","View(20)",null,{"$f":"IF(A110<>\"\",TEXT(A110,\"\"),\"\")","v":"MAS SL"},{"$f":"IF(N110=\"\",\"\",CONCATENATE(IF(C110<>\"\",TEXT(C110,\"\"),\"\"),\" - \",IF(K110<>\"\",TEXT(K110,\"\"),\"\")))","v":"Kuala Lumpur - Pahang"},"http://www.data.nowgoal.vip/analysis/1662863.html",{"$f":"IF(D110<>\"\",D110,\"\")","v":2.72},{"$f":"IF(E110<>\"\",E110,\"\")","v":3.53},{"$f":"IF(F110<>\"\",F110,\"\")","v":2.1800000000000002},{"$f":"IF(N110<>\"\",IF(D111<>\"\",D111,D110),\"\")","v":2.84},{"$f":"IF(N110<>\"\",IF(E111<>\"\",E111,E110),\"\")","v":3.53},{"$f":"IF(N110<>\"\",IF(F111<>\"\",F111,F110),\"\")","v":2.12},null,"ALB D1","KF Tirana - Teuta Durres","http://www.data.nowgoal.vip/analysis/1595944.html",3.03,3.2,2.09,3.03,3.22,2.08]
[null,null,null,2.84,3.53,2.12,0.31830000000000003,0.25559999999999999,0.42599999999999999,0.9032,null,null,null,null,null,"",null,null,null,null,null,null,null,"INT CF","Stabaek (w) - Grei (w)","http://www.data.nowgoal.vip/analysis/1663999.html",1.33,5,6,1.33,5,6]
["MAS SL",null,"Terengganu",2.12,3.55,2.8,0.42430000000000001,0.25369999999999998,0.32200000000000001,0.89990000000000003,"Selangor PKNS","View(20)",null,{"$f":"IF(A112<>\"\",TEXT(A112,\"\"),\"\")","v":"MAS SL"},{"$f":"IF(N112=\"\",\"\",CONCATENATE(IF(C112<>\"\",TEXT(C112,\"\"),\"\"),\" - \",IF(K112<>\"\",TEXT(K112,\"\"),\"\")))","v":"Terengganu - Selangor PKNS"},"http://www.data.nowgoal.vip/analysis/1662864.html",{"$f":"IF(D112<>\"\",D112,\"\")","v":2.12},{"$f":"IF(E112<>\"\",E112,\"\")","v":3.55},{"$f":"IF(F112<>\"\",F112,\"\")","v":2.8},{"$f":"IF(N112<>\"\",IF(D113<>\"\",D113,D112),\"\")","v":2.11},{"$f":"IF(N112<>\"\",IF(E113<>\"\",E113,E112),\"\")","v":3.58},{"$f":"IF(N112<>\"\",IF(F113<>\"\",F113,F112),\"\")","v":2.81},null,"INT CF","Viking - Sola","http://www.data.nowgoal.vip/analysis/1664003.html",1.1599999999999999,6.74,10.37,1.1599999999999999,6.74,10.44]
[null,null,null,2.11,3.58,2.81,0.42659999999999998,0.252,0.32140000000000002,0.90159999999999996,null,null,null,null,null,"",null,null,null,null,null,null,null,"INT CF","Weinland Gamlitz - SU Tillmitsch","http://www.data.nowgoal.vip/analysis/1664922.html",1.07,11,15,1.07,11,15]
["ISR D2",null,"Hapoel Acco",2.2000000000000002,3.08,3.08,0.41210000000000002,0.29399999999999998,0.29389999999999999,0.90480000000000005,"Hapoel Iksal","View(98)",null,{"$f":"IF(A114<>\"\",TEXT(A114,\"\"),\"\")","v":"ISR D2"},{"$f":"IF(N114=\"\",\"\",CONCATENATE(IF(C114<>\"\",TEXT(C114,\"\"),\"\"),\" - \",IF(K114<>\"\",TEXT(K114,\"\"),\"\")))","v":"Hapoel Acco - Hapoel Iksal"},"http://www.data.nowgoal.vip/analysis/1602628.html",{"$f":"IF(D114<>\"\",D114,\"\")","v":2.2000000000000002},{"$f":"IF(E114<>\"\",E114,\"\")","v":3.08},{"$f":"IF(F114<>\"\",F114,\"\")","v":3.08},{"$f":"IF(N114<>\"\",IF(D115<>\"\",D115,D114),\"\")","v":2.17},{"$f":"IF(N114<>\"\",IF(E115<>\"\",E115,E114),\"\")","v":3.02},{"$f":"IF(N114<>\"\",IF(F115<>\"\",F115,F114),\"\")","v":3.24},null,"CYP D2","Ethnikos Achnas FC - Anagennisi FC Deryneia","http://www.data.nowgoal.vip/analysis/1620293.html",1.6,3.54,4.8099999999999996,1.61,3.54,4.79]
[null,null,null,2.17,3.02,3.24,0.41880000000000001,0.30070000000000002,0.28050000000000003,0.90790000000000004,null,null,null,null,null,"",null,null,null,null,null,null,null,"INT CF","Sandnes Ulf - Vidar","http://www.data.nowgoal.vip/analysis/1664004.html",1.2,6.02,9.1999999999999993,1.2,6.01,9.1999999999999993]
["ISR D2",null,"Hapoel Afula",2.83,3.02,2.38,0.31969999999999998,0.2999,0.38030000000000003,0.90539999999999998,"Hapoel Katamon Jerusalem","View(99)",null,{"$f":"IF(A116<>\"\",TEXT(A116,\"\"),\"\")","v":"ISR D2"},{"$f":"IF(N116=\"\",\"\",CONCATENATE(IF(C116<>\"\",TEXT(C116,\"\"),\"\"),\" - \",IF(K116<>\"\",TEXT(K116,\"\"),\"\")))","v":"Hapoel Afula - Hapoel Katamon Jerusalem"},"http://www.data.nowgoal.vip/analysis/1602631.html",{"$f":"IF(D116<>\"\",D116,\"\")","v":2.83},{"$f":"IF(E116<>\"\",E116,\"\")","v":3.02},{"$f":"IF(F116<>\"\",F116,\"\")","v":2.38},{"$f":"IF(N116<>\"\",IF(D117<>\"\",D117,D116),\"\")","v":2.85},{"$f":"IF(N116<>\"\",IF(E117<>\"\",E117,E116),\"\")","v":2.99},{"$f":"IF(N116<>\"\",IF(F117<>\"\",F117,F116),\"\")","v":2.4},null,"GER D2","MSV Duisburg - Darmstadt","http://www.data.nowgoal.vip/analysis/1562254.html",2.23,3.17,3.14,2.46,3.17,2.83]
[null,null,null,2.85,2.99,2.4,0.31819999999999998,0.3039,0.378,0.90749999999999997,null,null,null,null,null,"",null,null,null,null,null,null,null,"GER D2","Ingolstadt - Magdeburg","http://www.data.nowgoal.vip/analysis/1562256.html",2.0499999999999998,3.33,3.37,2.04,3.3,3.56]
["ISR D2",null,"Hapoel Kfar Saba",2.09,3.02,3.38,0.43280000000000002,0.29959999999999998,0.2676,0.90539999999999998,"Hapoel Ashkelon","View(98)",null,{"$f":"IF(A118<>\"\",TEXT(A118,\"\"),\"\")","v":"ISR D2"},{"$f":"IF(N118=\"\",\"\",CONCATENATE(IF(C118<>\"\",TEXT(C118,\"\"),\"\"),\" - \",IF(K118<>\"\",TEXT(K118,\"\"),\"\")))","v":"Hapoel Kfar Saba - Hapoel Ashkelon"},"http://www.data.nowgoal.vip/analysis/1602632.html",{"$f":"IF(D118<>\"\",D118,\"\")","v":2.09},{"$f":"IF(E118<>\"\",E118,\"\")","v":3.02},{"$f":"IF(F118<>\"\",F118,\"\")","v":3.38},{"$f":"IF(N118<>\"\",IF(D119<>\"\",D119,D118),\"\")","v":2.1},{"$f":"IF(N118<>\"\",IF(E119<>\"\",E119,E118),\"\")","v":3.05},{"$f":"IF(N118<>\"\",IF(F119<>\"\",F119,F118),\"\")","v":3.36},null,"TUR D1","Fenerbahce - Goztepe","http://www.data.nowgoal.vip/analysis/1574526.html",1.71,3.59,4.6500000000000004,1.73,3.75,4.33]
[null,null,null,2.1,3.05,3.36,0.43230000000000002,0.2979,0.26979999999999998,0.90769999999999995,null,null,null,null,null,"",null,null,null,null,null,null,null,"INT CF","SJK Akatemia - Jazz Pori","http://www.data.nowgoal.vip/analysis/1664926.html",1.65,4.12,3.83,1.63,4.07,4.0199999999999996]
["ISR D2",null,"Hapoel Petah Tikva",3.3,3.2,2.0499999999999998,0.27450000000000002,0.2828,0.44269999999999998,0.90629999999999999,"Hapoel Natzrat Illit","View(93)",null,{"$f":"IF(A120<>\"\",TEXT(A120,\"\"),\"\")","v":"ISR D2"},{"$f":"IF(N120=\"\",\"\",CONCATENATE(IF(C120<>\"\",TEXT(C120,\"\"),\"\"),\" - \",IF(K120<>\"\",TEXT(K120,\"\"),\"\")))","v":"Hapoel Petah Tikva - Hapoel Natzrat Illit"},"http://www.data.nowgoal.vip/analysis/1602633.html",{"$f":"IF(D120<>\"\",D120,\"\")","v":3.3},{"$f":"IF(E120<>\"\",E120,\"\")","v":3.2},{"$f":"IF(F120<>\"\",F120,\"\")","v":2.0499999999999998},{"$f":"IF(N120<>\"\",IF(D121<>\"\",D121,D120),\"\")","v":3.24},{"$f":"IF(N120<>\"\",IF(E121<>\"\",E121,E120),\"\")","v":3.15},{"$f":"IF(N120<>\"\",IF(F121<>\"\",F121,F120),\"\")","v":2.11},null,"INT CF","SR Donaufeld Wien - ASV Bruck","http://www.data.nowgoal.vip/analysis/1665065.html",5,4.5,1.44,7.5,5,1.28]
[null,null,null,3.24,3.15,2.11,0.28079999999999999,0.28849999999999998,0.43070000000000003,0.90990000000000004,null,null,null,null,null,"",null,null,null,null,null,null,null,"Estonia WT","Viljandi Tulevik - FC Kuressaare","http://www.data.nowgoal.vip/analysis/1654410.html",1.86,3.71,3.3,2.0099999999999998,3.6,2.96]
["ISR D2",null,"Maccabi Ahi Nazareth",2.39,3,2.83,0.37830000000000003,0.30180000000000001,0.31990000000000002,0.90469999999999995,"Hapoel Bnei Lod","View(97)",null,{"$f":"IF(A122<>\"\",TEXT(A122,\"\"),\"\")","v":"ISR D2"},{"$f":"IF(N122=\"\",\"\",CONCATENATE(IF(C122<>\"\",TEXT(C122,\"\"),\"\"),\" - \",IF(K122<>\"\",TEXT(K122,\"\"),\"\")))","v":"Maccabi Ahi Nazareth - Hapoel Bnei Lod"},"http://www.data.nowgoal.vip/analysis/1602634.html",{"$f":"IF(D122<>\"\",D122,\"\")","v":2.39},{"$f":"IF(E122<>\"\",E122,\"\")","v":3},{"$f":"IF(F122<>\"\",F122,\"\")","v":2.83},{"$f":"IF(N122<>\"\",IF(D123<>\"\",D123,D122),\"\")","v":2.36},{"$f":"IF(N122<>\"\",IF(E123<>\"\",E123,E122),\"\")","v":2.97},{"$f":"IF(N122<>\"\",IF(F123<>\"\",F123,F122),\"\")","v":2.92},null,"INT CF","SV Burgaltendorf 1913 - SF Niederwenigern","http://www.data.nowgoal.vip/analysis/1665064.html",2.62,4.33,2,2.1,4.2,2.5]
[null,null,null,2.36,2.97,2.92,0.3841,0.3054,0.3105,0.90780000000000005,null,null,null,null,null,"",null,null,null,null,null,null,null,"GER D3","Preuben Munster - Kaiserslautern","http://www.data.nowgoal.vip/analysis/1566421.html",2.29,3.23,2.9,2.57,3.22,2.59]
["INT CF",null,"HNK Sibenik",1.49,4.3499999999999996,5.13,0.61309999999999998,0.20930000000000001,0.17760000000000001,0.91049999999999998,"NK Junak","View(2)",null,{"$f":"IF(A124<>\"\",TEXT(A124,\"\"),\"\")","v":"INT CF"},{"$f":"IF(N124=\"\",\"\",CONCATENATE(IF(C124<>\"\",TEXT(C124,\"\"),\"\"),\" - \",IF(K124<>\"\",TEXT(K124,\"\"),\"\")))","v":"HNK Sibenik - NK Junak"},"http://www.data.nowgoal.vip/analysis/1664929.html",{"$f":"IF(D124<>\"\",D124,\"\")","v":1.49},{"$f":"IF(E124<>\"\",E124,\"\")","v":4.3499999999999996},{"$f":"IF(F124<>\"\",F124,\"\")","v":5.13},{"$f":"IF(N124<>\"\",IF(D125<>\"\",D125,D124),\"\")","v":1.2},{"$f":"IF(N124<>\"\",IF(E125<>\"\",E125,E124),\"\")","v":6.45},{"$f":"IF(N124<>\"\",IF(F125<>\"\",F125,F124),\"\")","v":9},null,"ROM D1","Gaz Metan Medias - FC Astra Giurgiu","http://www.data.nowgoal.vip/analysis/1567429.html",2.35,2.94,3.03,2.5099999999999998,2.87,2.92]
[null,null,null,1.2,6.45,9,0.75790000000000002,0.14099999999999999,0.1011,0.90949999999999998,null,null,null,null,null,"",null,null,null,null,null,null,null,"SAPL D1","Bidvest Wits - Maritzburg United","http://www.data.nowgoal.vip/analysis/1588505.html",1.44,3.74,7.26,1.44,3.79,7.25]
["INT CF",null,"Mornar",3.09,3.25,2.1800000000000002,0.2969,0.28189999999999998,0.42120000000000002,0.91590000000000005,"OFK Petrovac","View(2)",null,{"$f":"IF(A126<>\"\",TEXT(A126,\"\"),\"\")","v":"INT CF"},{"$f":"IF(N126=\"\",\"\",CONCATENATE(IF(C126<>\"\",TEXT(C126,\"\"),\"\"),\" - \",IF(K126<>\"\",TEXT(K126,\"\"),\"\")))","v":"Mornar - OFK Petrovac"},"http://www.data.nowgoal.vip/analysis/1664931.html",{"$f":"IF(D126<>\"\",D126,\"\")","v":3.09},{"$f":"IF(E126<>\"\",E126,\"\")","v":3.25},{"$f":"IF(F126<>\"\",F126,\"\")","v":2.1800000000000002},{"$f":"IF(N126<>\"\",IF(D127<>\"\",D127,D126),\"\")","v":3.53},{"$f":"IF(N126<>\"\",IF(E127<>\"\",E127,E126),\"\")","v":3.28},{"$f":"IF(N126<>\"\",IF(F127<>\"\",F127,F126),\"\")","v":1.93},null,"MAL D1","Balzan FC(N) - Senglea Athletic","http://www.data.nowgoal.vip/analysis/1587629.html",1.34,4.1399999999999997,7.7,1.32,4.51,7.38]
[null,null,null,3.53,3.28,1.93,0.25590000000000002,0.27550000000000002,0.46860000000000002,0.90200000000000002,null,null,null,null,null,"",null,null,null,null,null,null,null,"INT CF","SF Baumberg - FC Kaan-Marienborn","http://www.data.nowgoal.vip/analysis/1664930.html",2.2200000000000002,3.78,2.5499999999999998,2.2200000000000002,3.78,2.5499999999999998]
["INT CF",null,"Shelbourne",2.87,3.59,2.08,0.31469999999999998,0.25169999999999998,0.43359999999999999,0.90300000000000002,"St. Patricks Athletic","View(21)",null,{"$f":"IF(A128<>\"\",TEXT(A128,\"\"),\"\")","v":"INT CF"},{"$f":"IF(N128=\"\",\"\",CONCATENATE(IF(C128<>\"\",TEXT(C128,\"\"),\"\"),\" - \",IF(K128<>\"\",TEXT(K128,\"\"),\"\")))","v":"Shelbourne - St. Patricks Athletic"},"http://www.data.nowgoal.vip/analysis/1664838.html",{"$f":"IF(D128<>\"\",D128,\"\")","v":2.87},{"$f":"IF(E128<>\"\",E128,\"\")","v":3.59},{"$f":"IF(F128<>\"\",F128,\"\")","v":2.08},{"$f":"IF(N128<>\"\",IF(D129<>\"\",D129,D128),\"\")","v":3.03},{"$f":"IF(N128<>\"\",IF(E129<>\"\",E129,E128),\"\")","v":3.63},{"$f":"IF(N128<>\"\",IF(F129<>\"\",F129,F128),\"\")","v":2.0099999999999998},null,"INT CF","KSV Ankerbrot - Leopoldsdorf","http://www.data.nowgoal.vip/analysis/1664942.html",1.4,4.5,5.5,6,4.2,1.44]
[null,null,null,3.03,3.63,2.0099999999999998,0.29920000000000002,0.24959999999999999,0.45119999999999999,0.90700000000000003,null,null,null,null,null,"",null,null,null,null,null,null,null,"INT CF","SG Austria Klagenfurt - SC Kalsdorf","http://www.data.nowgoal.vip/analysis/1664005.html",1.29,5.6,6.54,1.29,5.6,6.53]
["UPL",null,"Vipers",1.29,4.57,9.0500000000000007,0.70150000000000001,0.1983,0.10009999999999999,0.90580000000000005,"Kirinya Jinja SS","View(8)",null,{"$f":"IF(A130<>\"\",TEXT(A130,\"\"),\"\")","v":"UPL"},{"$f":"IF(N130=\"\",\"\",CONCATENATE(IF(C130<>\"\",TEXT(C130,\"\"),\"\"),\" - \",IF(K130<>\"\",TEXT(K130,\"\"),\"\")))","v":"Vipers - Kirinya Jinja SS"},"http://www.data.nowgoal.vip/analysis/1663989.html",{"$f":"IF(D130<>\"\",D130,\"\")","v":1.29},{"$f":"IF(E130<>\"\",E130,\"\")","v":4.57},{"$f":"IF(F130<>\"\",F130,\"\")","v":9.0500000000000007},{"$f":"IF(N130<>\"\",IF(D131<>\"\",D131,D130),\"\")","v":1.29},{"$f":"IF(N130<>\"\",IF(E131<>\"\",E131,E130),\"\")","v":4.5599999999999996},{"$f":"IF(N130<>\"\",IF(F131<>\"\",F131,F130),\"\")","v":9.0500000000000007},null,"INT CF","Oster - Jonkopings Sodra","http://www.data.nowgoal.vip/analysis/1664006.html",2.2000000000000002,3.51,2.71,2.2799999999999998,3.51,2.6]
[null,null,null,1.29,4.5599999999999996,9.0500000000000007,0.70120000000000005,0.19869999999999999,0.1002,0.90629999999999999,null,null,null,null,null,{"$f":"SUBSTITUTE(SUBSTITUTE(SUBSTITUTE(SUBSTITUTE(IF(L131<>\"\",HLink(L131),\"\"),\"htm\",\"html\"),\"1x2\",\"analysis\"),\"www\",\"www.data\"),\"com\",\"vip\")","v":""},null,null,null,null,null,null,null,"INT CF","Kapfenberg - SC Weiz","http://www.data.nowgoal.vip/analysis/1664007.html",1.39,8.67,4.8499999999999996,1.39,8.67,4.8499999999999996]
["ENG U23 D1",null,"Barnsley U23",1.89,3.66,3.23,0.47549999999999998,0.24590000000000001,0.27850000000000003,0.90049999999999997,"Sheffield Wed U23","View(13)",null,{"$f":"IF(A132<>\"\",TEXT(A132,\"\"),\"\")","v":"ENG U23 D1"},{"$f":"IF(N132=\"\",\"\",CONCATENATE(IF(C132<>\"\",TEXT(C132,\"\"),\"\"),\" - \",IF(K132<>\"\",TEXT(K132,\"\"),\"\")))","v":"Barnsley U23 - Sheffield Wed U23"},"http://www.data.nowgoal.vip/analysis/1619844.html",{"$f":"IF(D132<>\"\",D132,\"\")","v":1.89},{"$f":"IF(E132<>\"\",E132,\"\")","v":3.66},{"$f":"IF(F132<>\"\",F132,\"\")","v":3.23},{"$f":"IF(N132<>\"\",IF(D133<>\"\",D133,D132),\"\")","v":1.89},{"$f":"IF(N132<>\"\",IF(E133<>\"\",E133,E132),\"\")","v":3.68},{"$f":"IF(N132<>\"\",IF(F133<>\"\",F133,F132),\"\")","v":3.23},null,"MEX U20","Puebla U20 - Necaxa U20","http://www.data.nowgoal.vip/analysis/1664888.html",2.5,3.19,2.5099999999999998,2.5,3.2,2.5099999999999998]
[null,null,null,1.89,3.68,3.23,0.47599999999999998,0.2452,0.27879999999999999,0.90149999999999997,null,null,null,null,null,"",null,null,null,null,null,null,null,"MAL D2","Sirens(N) - Lija Athletic","http://www.data.nowgoal.vip/analysis/1619014.html",1.5,3.98,4.9800000000000004,1.45,4.07,5.42]
["Tanzania D1",null,"JKT Tanzania",1.85,2.87,4.51,0.48670000000000002,0.31359999999999999,0.1996,0.90110000000000001,"Mwadui FC","View(20)",null,{"$f":"IF(A134<>\"\",TEXT(A134,\"\"),\"\")","v":"Tanzania D1"},{"$f":"IF(N134=\"\",\"\",CONCATENATE(IF(C134<>\"\",TEXT(C134,\"\"),\"\"),\" - \",IF(K134<>\"\",TEXT(K134,\"\"),\"\")))","v":"JKT Tanzania - Mwadui FC"},"http://www.data.nowgoal.vip/analysis/1664817.html",{"$f":"IF(D134<>\"\",D134,\"\")","v":1.85},{"$f":"IF(E134<>\"\",E134,\"\")","v":2.87},{"$f":"IF(F134<>\"\",F134,\"\")","v":4.51},{"$f":"IF(N134<>\"\",IF(D135<>\"\",D135,D134),\"\")","v":1.85},{"$f":"IF(N134<>\"\",IF(E135<>\"\",E135,E134),\"\")","v":2.88},{"$f":"IF(N134<>\"\",IF(F135<>\"\",F135,F134),\"\")","v":4.51},null,"MAL D2","Zebbug Rangers(N) - Gudja United","http://www.data.nowgoal.vip/analysis/1619015.html",3.5,3.6,1.8,4.3499999999999996,3.73,1.62]
[null,null,null,1.85,2.88,4.51,0.48699999999999999,0.31319999999999998,0.19980000000000001,0.90169999999999995,null,null,null,null,null,"",null,null,null,null,null,null,null,"FIN CUP","TPS Turku(N) - Ekenas IF Fotboll","http://www.data.nowgoal.vip/analysis/1657559.html",1.51,4.13,5.51,1.47,4.21,5.87]
["Tanzania D1",null,"Ruvu Shooting",2,2.77,4.03,0.4516,0.32479999999999998,0.22359999999999999,0.90129999999999999,"Mbeya City","View(19)",null,{"$f":"IF(A136<>\"\",TEXT(A136,\"\"),\"\")","v":"Tanzania D1"},{"$f":"IF(N136=\"\",\"\",CONCATENATE(IF(C136<>\"\",TEXT(C136,\"\"),\"\"),\" - \",IF(K136<>\"\",TEXT(K136,\"\"),\"\")))","v":"Ruvu Shooting - Mbeya City"},"http://www.data.nowgoal.vip/analysis/1664818.html",{"$f":"IF(D136<>\"\",D136,\"\")","v":2},{"$f":"IF(E136<>\"\",E136,\"\")","v":2.77},{"$f":"IF(F136<>\"\",F136,\"\")","v":4.03},{"$f":"IF(N136<>\"\",IF(D137<>\"\",D137,D136),\"\")","v":2},{"$f":"IF(N136<>\"\",IF(E137<>\"\",E137,E136),\"\")","v":2.78},{"$f":"IF(N136<>\"\",IF(F137<>\"\",F137,F136),\"\")","v":4.03},null,"ICE PSC","HK Kopavogs - Akranes","http://www.data.nowgoal.vip/analysis/1665063.html",2.25,4.5,2.25,2.25,4.5,2.25]
[null,null,null,2,2.78,4.03,0.45179999999999998,0.3246,0.22359999999999999,0.90169999999999995,null,null,null,null,null,"",null,null,null,null,null,null,null,"HOL WD1","RKSV Achilles 29 (w) - Ajax Amsterdam (w)","http://www.data.nowgoal.vip/analysis/1616168.html",18.54,11.35,1.04,20.61,12.17,1.03]
["Tanzania D1",null,"Stand United",2.63,2.63,2.88,0.34300000000000003,0.34339999999999998,0.31359999999999999,0.90149999999999997,"KMC FC","View(18)",null,{"$f":"IF(A138<>\"\",TEXT(A138,\"\"),\"\")","v":"Tanzania D1"},{"$f":"IF(N138=\"\",\"\",CONCATENATE(IF(C138<>\"\",TEXT(C138,\"\"),\"\"),\" - \",IF(K138<>\"\",TEXT(K138,\"\"),\"\")))","v":"Stand United - KMC FC"},"http://www.data.nowgoal.vip/analysis/1664819.html",{"$f":"IF(D138<>\"\",D138,\"\")","v":2.63},{"$f":"IF(E138<>\"\",E138,\"\")","v":2.63},{"$f":"IF(F138<>\"\",F138,\"\")","v":2.88},{"$f":"IF(N138<>\"\",IF(D139<>\"\",D139,D138),\"\")","v":2.63},{"$f":"IF(N138<>\"\",IF(E139<>\"\",E139,E138),\"\")","v":2.63},{"$f":"IF(N138<>\"\",IF(F139<>\"\",F139,F138),\"\")","v":2.88},null,"HOL WD1","ADO Den Haag (w) - SC Heerenveen (w)","http://www.data.nowgoal.vip/analysis/1616169.html",1.67,4.24,3.62,1.67,4.25,3.64]
[null,null,null,2.63,2.63,2.88,0.34310000000000002,0.34350000000000003,0.31340000000000001,0.90180000000000005,null,null,null,null,null,"",null,null,null,null,null,null,null,"HOL WD1","Excelsior Barendrecht (w) - VV Alkmaar (w)","http://www.data.nowgoal.vip/analysis/1616170.html",4.2300000000000004,4.5,1.54,4.24,4.51,1.54]
["AOC",null,"Red Bull Salzburg(N)",1.2,5.85,10.039999999999999,0.75480000000000003,0.155,9.0200000000000002E-2,0.90629999999999999,"Beijing Guoan","View(26)",null,{"$f":"IF(A140<>\"\",TEXT(A140,\"\"),\"\")","v":"AOC"},{"$f":"IF(N140=\"\",\"\",CONCATENATE(IF(C140<>\"\",TEXT(C140,\"\"),\"\"),\" - \",IF(K140<>\"\",TEXT(K140,\"\"),\"\")))","v":"Red Bull Salzburg(N) - Beijing Guoan"},"http://www.data.nowgoal.vip/analysis/1660994.html",{"$f":"IF(D140<>\"\",D140,\"\")","v":1.2},{"$f":"IF(E140<>\"\",E140,\"\")","v":5.85},{"$f":"IF(F140<>\"\",F140,\"\")","v":10.039999999999999},{"$f":"IF(N140<>\"\",IF(D141<>\"\",D141,D140),\"\")","v":1.1599999999999999},{"$f":"IF(N140<>\"\",IF(E141<>\"\",E141,E140),\"\")","v":6.44},{"$f":"IF(N140<>\"\",IF(F141<>\"\",F141,F140),\"\")","v":11.55},null,"HOL WD1","PSV Eindhoven (w) - Zwolle (w)","http://www.data.nowgoal.vip/analysis/1616171.html",1.19,6.33,9.11,1.1299999999999999,7.68,10.97]
[null,null,null,1.1599999999999999,6.44,11.55,0.78049999999999997,0.1409,7.8600000000000003E-2,0.90780000000000005,null,null,null,null,null,"",null,null,null,null,null,null,null,"INT CF","Simmeringer SC - SV Wimpassing","http://www.data.nowgoal.vip/analysis/1664941.html",1.53,4.08,4.8499999999999996,1.4,4.3899999999999997,6]
["SAFL",null,"Cape Umoya United",2.72,2.78,2.61,0.33090000000000003,0.32390000000000002,0.34520000000000001,0.89900000000000002,"TS Galaxy","View(33)",null,{"$f":"IF(A142<>\"\",TEXT(A142,\"\"),\"\")","v":"SAFL"},{"$f":"IF(N142=\"\",\"\",CONCATENATE(IF(C142<>\"\",TEXT(C142,\"\"),\"\"),\" - \",IF(K142<>\"\",TEXT(K142,\"\"),\"\")))","v":"Cape Umoya United - TS Galaxy"},"http://www.data.nowgoal.vip/analysis/1601791.html",{"$f":"IF(D142<>\"\",D142,\"\")","v":2.72},{"$f":"IF(E142<>\"\",E142,\"\")","v":2.78},{"$f":"IF(F142<>\"\",F142,\"\")","v":2.61},{"$f":"IF(N142<>\"\",IF(D143<>\"\",D143,D142),\"\")","v":2.69},{"$f":"IF(N142<>\"\",IF(E143<>\"\",E143,E142),\"\")","v":2.79},{"$f":"IF(N142<>\"\",IF(F143<>\"\",F143,F142),\"\")","v":2.65},null,"FRA D2","Metz - Troyes","http://www.data.nowgoal.vip/analysis/1554029.html",1.68,3.36,5.26,1.62,3.47,5.9]
[null,null,null,2.69,2.79,2.65,0.33550000000000002,0.3236,0.34089999999999998,0.9022,null,null,null,null,null,"",null,null,null,null,null,null,null,"FRA D2","Chamois Niortais - Nancy","http://www.data.nowgoal.vip/analysis/1554030.html",2.0299999999999998,3.04,3.87,2.13,3.01,3.62]
["RWA CP",null,"AS Kigali",1.9,3,3.9,0.47160000000000002,0.29870000000000002,0.22969999999999999,0.89600000000000002,"Etincelles","View(2)",null,{"$f":"IF(A144<>\"\",TEXT(A144,\"\"),\"\")","v":"RWA CP"},{"$f":"IF(N144=\"\",\"\",CONCATENATE(IF(C144<>\"\",TEXT(C144,\"\"),\"\"),\" - \",IF(K144<>\"\",TEXT(K144,\"\"),\"\")))","v":"AS Kigali - Etincelles"},"http://www.data.nowgoal.vip/analysis/1664935.html",{"$f":"IF(D144<>\"\",D144,\"\")","v":1.9},{"$f":"IF(E144<>\"\",E144,\"\")","v":3},{"$f":"IF(F144<>\"\",F144,\"\")","v":3.9},{"$f":"IF(N144<>\"\",IF(D145<>\"\",D145,D144),\"\")","v":1.85},{"$f":"IF(N144<>\"\",IF(E145<>\"\",E145,E144),\"\")","v":2.98},{"$f":"IF(N144<>\"\",IF(F145<>\"\",F145,F144),\"\")","v":4.25},null,"FRA D2","Lorient - Ajaccio","http://www.data.nowgoal.vip/analysis/1554031.html",1.68,3.35,5.41,1.72,3.25,5.27]
[null,null,null,1.85,2.98,4.25,0.48680000000000001,0.3019,0.21129999999999999,0.89810000000000001,null,null,null,null,null,"",null,null,null,null,null,null,null,"FRA D2","Sochaux - Clermont","http://www.data.nowgoal.vip/analysis/1554032.html",3.51,3.02,2.15,3.84,3.07,2.04]
["UPL",null,"Paidha Black Angels",2.12,2.82,3.63,0.4274,0.32229999999999998,0.25030000000000002,0.90769999999999995,"Ndejje University","View(19)",null,{"$f":"IF(A146<>\"\",TEXT(A146,\"\"),\"\")","v":"UPL"},{"$f":"IF(N146=\"\",\"\",CONCATENATE(IF(C146<>\"\",TEXT(C146,\"\"),\"\"),\" - \",IF(K146<>\"\",TEXT(K146,\"\"),\"\")))","v":"Paidha Black Angels - Ndejje University"},"http://www.data.nowgoal.vip/analysis/1663990.html",{"$f":"IF(D146<>\"\",D146,\"\")","v":2.12},{"$f":"IF(E146<>\"\",E146,\"\")","v":2.82},{"$f":"IF(F146<>\"\",F146,\"\")","v":3.63},{"$f":"IF(N146<>\"\",IF(D147<>\"\",D147,D146),\"\")","v":2.12},{"$f":"IF(N146<>\"\",IF(E147<>\"\",E147,E146),\"\")","v":2.82},{"$f":"IF(N146<>\"\",IF(F147<>\"\",F147,F146),\"\")","v":3.63},null,"FRA D2","Le Havre - Stade Brestois","http://www.data.nowgoal.vip/analysis/1554034.html",2.39,2.96,3.08,2.5299999999999998,2.96,2.9]
[null,null,null,null,null,null,null,null,null,null,null,null,null,null,null,"",null,null,null,null,null,null,null,"FRA D2","Ajaccio Gfco - Valenciennes","http://www.data.nowgoal.vip/analysis/1554035.html",2.1,3.04,3.61,2.1800000000000002,3.1,3.35]
["AFC",null,"Japan(N)",2.0699999999999998,2.99,3.82,0.4476,0.30990000000000001,0.24249999999999999,0.92520000000000002,"Qatar","View(172)",null,{"$f":"IF(A148<>\"\",TEXT(A148,\"\"),\"\")","v":"AFC"},{"$f":"IF(N148=\"\",\"\",CONCATENATE(IF(C148<>\"\",TEXT(C148,\"\"),\"\"),\" - \",IF(K148<>\"\",TEXT(K148,\"\"),\"\")))","v":"Japan(N) - Qatar"},"http://www.data.nowgoal.vip/analysis/1664279.html",{"$f":"IF(D148<>\"\",D148,\"\")","v":2.0699999999999998},{"$f":"IF(E148<>\"\",E148,\"\")","v":2.99},{"$f":"IF(F148<>\"\",F148,\"\")","v":3.82},{"$f":"IF(N148<>\"\",IF(D149<>\"\",D149,D148),\"\")","v":2.15},{"$f":"IF(N148<>\"\",IF(E149<>\"\",E149,E148),\"\")","v":2.96},{"$f":"IF(N148<>\"\",IF(F149<>\"\",F149,F148),\"\")","v":3.66},null,"FRA D2","Paris FC - Orleans US 45","http://www.data.nowgoal.vip/analysis/1554036.html",1.87,3.01,4.66,1.86,3,4.8499999999999996]
[null,null,null,2.15,2.96,3.66,0.43190000000000001,0.31419999999999998,0.254,0.93049999999999999,null,null,null,null,null,"",null,null,null,null,null,null,null,"FRA D2","AJ Auxerre - Red Star FC 93","http://www.data.nowgoal.vip/analysis/1554037.html",1.57,3.59,6.07,1.55,3.64,6.36]
["BHR D1",null,"Al-Muharraq",1.46,4.42,5.15,0.62060000000000004,0.20419999999999999,0.17530000000000001,0.90300000000000002,"Malkia","View(54)",null,{"$f":"IF(A150<>\"\",TEXT(A150,\"\"),\"\")","v":"BHR D1"},{"$f":"IF(N150=\"\",\"\",CONCATENATE(IF(C150<>\"\",TEXT(C150,\"\"),\"\"),\" - \",IF(K150<>\"\",TEXT(K150,\"\"),\"\")))","v":"Al-Muharraq - Malkia"},"http://www.data.nowgoal.vip/analysis/1664853.html",{"$f":"IF(D150<>\"\",D150,\"\")","v":1.46},{"$f":"IF(E150<>\"\",E150,\"\")","v":4.42},{"$f":"IF(F150<>\"\",F150,\"\")","v":5.15},{"$f":"IF(N150<>\"\",IF(D151<>\"\",D151,D150),\"\")","v":1.43},{"$f":"IF(N150<>\"\",IF(E151<>\"\",E151,E150),\"\")","v":4.5199999999999996},{"$f":"IF(N150<>\"\",IF(F151<>\"\",F151,F150),\"\")","v":5.42},null,"FRA D2","Chateauroux - Grenoble","http://www.data.nowgoal.vip/analysis/1554038.html",2.97,2.94,2.48,2.74,2.9,2.73]
[null,null,null,1.43,4.5199999999999996,5.42,0.63360000000000005,0.19969999999999999,0.1666,0.90349999999999997,null,null,null,null,null,"",null,null,null,null,null,null,null,"HOL D1","De Graafschap - NAC Breda","http://www.data.nowgoal.vip/analysis/1552018.html",2.12,3.51,3.1,2.35,3.45,2.82]
["BHR D1",null,"Al-Budaiya",2.39,3.18,2.65,0.37709999999999999,0.28310000000000002,0.33979999999999999,0.90069999999999995,"Al-Hala","View(53)",null,{"$f":"IF(A152<>\"\",TEXT(A152,\"\"),\"\")","v":"BHR D1"},{"$f":"IF(N152=\"\",\"\",CONCATENATE(IF(C152<>\"\",TEXT(C152,\"\"),\"\"),\" - \",IF(K152<>\"\",TEXT(K152,\"\"),\"\")))","v":"Al-Budaiya - Al-Hala"},"http://www.data.nowgoal.vip/analysis/1664854.html",{"$f":"IF(D152<>\"\",D152,\"\")","v":2.39},{"$f":"IF(E152<>\"\",E152,\"\")","v":3.18},{"$f":"IF(F152<>\"\",F152,\"\")","v":2.65},{"$f":"IF(N152<>\"\",IF(D153<>\"\",D153,D152),\"\")","v":2.4},{"$f":"IF(N152<>\"\",IF(E153<>\"\",E153,E152),\"\")","v":3.19},{"$f":"IF(N152<>\"\",IF(F153<>\"\",F153,F152),\"\")","v":2.66},null,"FRA D3","Cholet So - Boulogne","http://www.data.nowgoal.vip/analysis/1574160.html",2.38,3.11,2.81,2.72,2.97,2.5499999999999998]
[null,null,null,2.4,3.19,2.66,0.37719999999999998,0.28289999999999998,0.33989999999999998,0.90359999999999996,null,null,null,null,null,"",null,null,null,null,null,null,null,"FRA D3","USL Dunkerque - Pau FC","http://www.data.nowgoal.vip/analysis/1574161.html",2.59,3.03,2.63,2.35,2.93,3.07]
["INT CF",null,"Dundalk(N)",2.19,3.5,2.7,0.4103,0.25659999999999999,0.3332,0.89929999999999999,"Brommapojkarna","View(11)",null,{"$f":"IF(A154<>\"\",TEXT(A154,\"\"),\"\")","v":"INT CF"},{"$f":"IF(N154=\"\",\"\",CONCATENATE(IF(C154<>\"\",TEXT(C154,\"\"),\"\"),\" - \",IF(K154<>\"\",TEXT(K154,\"\"),\"\")))","v":"Dundalk(N) - Brommapojkarna"},"http://www.data.nowgoal.vip/analysis/1664834.html",{"$f":"IF(D154<>\"\",D154,\"\")","v":2.19},{"$f":"IF(E154<>\"\",E154,\"\")","v":3.5},{"$f":"IF(F154<>\"\",F154,\"\")","v":2.7},{"$f":"IF(N154<>\"\",IF(D155<>\"\",D155,D154),\"\")","v":2.29},{"$f":"IF(N154<>\"\",IF(E155<>\"\",E155,E154),\"\")","v":3.52},{"$f":"IF(N154<>\"\",IF(F155<>\"\",F155,F154),\"\")","v":2.56},null,"FRA D3","Stade Lavallois MFC - Drancy","http://www.data.nowgoal.vip/analysis/1574162.html",1.71,3.26,4.79,1.88,3.07,4.17]
[null,null,null,2.29,3.52,2.56,0.39279999999999998,0.2555,0.35170000000000001,0.9002,null,null,null,null,null,"",null,null,null,null,null,null,null,"FRA D3","Marignane Gignac - Rodez Aveyron","http://www.data.nowgoal.vip/analysis/1574165.html",3.45,2.99,2.11,3.38,2.89,2.2000000000000002]
["INT CF",null,"FC Viktoria Plzen(N)",1.29,5.01,7.39,0.69810000000000005,0.1799,0.122,0.90159999999999996,"New England Revolution","View(33)",null,{"$f":"IF(A156<>\"\",TEXT(A156,\"\"),\"\")","v":"INT CF"},{"$f":"IF(N156=\"\",\"\",CONCATENATE(IF(C156<>\"\",TEXT(C156,\"\"),\"\"),\" - \",IF(K156<>\"\",TEXT(K156,\"\"),\"\")))","v":"FC Viktoria Plzen(N) - New England Revolution"},"http://www.data.nowgoal.vip/analysis/1664835.html",{"$f":"IF(D156<>\"\",D156,\"\")","v":1.29},{"$f":"IF(E156<>\"\",E156,\"\")","v":5.01},{"$f":"IF(F156<>\"\",F156,\"\")","v":7.39},{"$f":"IF(N156<>\"\",IF(D157<>\"\",D157,D156),\"\")","v":1.27},{"$f":"IF(N156<>\"\",IF(E157<>\"\",E157,E156),\"\")","v":5.24},{"$f":"IF(N156<>\"\",IF(F157<>\"\",F157,F156),\"\")","v":7.84},null,"HOL D2","Go Ahead Eagles - FC Eindhoven","http://www.data.nowgoal.vip/analysis/1553479.html",1.59,4.18,4.49,1.77,3.76,3.91]
[null,null,null,1.27,5.24,7.84,0.71220000000000006,0.17249999999999999,0.1152,0.9032,null,null,null,null,null,"",null,null,null,null,null,null,null,"HOL D2","NEC Nijmegen - FC Utrecht (Youth)","http://www.data.nowgoal.vip/analysis/1553480.html",1.26,5.52,8.7899999999999991,1.25,5.66,9.3000000000000007]
["INT CF",null,"Stromsgodset(N)",1.33,5.13,6.04,0.67579999999999996,0.1754,0.1489,0.89880000000000004,"Grorud","View(4)",null,{"$f":"IF(A158<>\"\",TEXT(A158,\"\"),\"\")","v":"INT CF"},{"$f":"IF(N158=\"\",\"\",CONCATENATE(IF(C158<>\"\",TEXT(C158,\"\"),\"\"),\" - \",IF(K158<>\"\",TEXT(K158,\"\"),\"\")))","v":"Stromsgodset(N) - Grorud"},"http://www.data.nowgoal.vip/analysis/1664836.html",{"$f":"IF(D158<>\"\",D158,\"\")","v":1.33},{"$f":"IF(E158<>\"\",E158,\"\")","v":5.13},{"$f":"IF(F158<>\"\",F158,\"\")","v":6.04},{"$f":"IF(N158<>\"\",IF(D159<>\"\",D159,D158),\"\")","v":1.33},{"$f":"IF(N158<>\"\",IF(E159<>\"\",E159,E158),\"\")","v":5.14},{"$f":"IF(N158<>\"\",IF(F159<>\"\",F159,F158),\"\")","v":6.03},null,"HOL D2","MVV Maastricht - SC Telstar","http://www.data.nowgoal.vip/analysis/1553481.html",1.99,3.46,3.34,1.83,3.63,3.79]
[null,null,null,1.33,5.14,6.03,0.67579999999999996,0.17499999999999999,0.1492,0.89880000000000004,null,null,null,null,null,"",null,null,null,null,null,null,null,"HOL D2","Roda JC - Almere City FC","http://www.data.nowgoal.vip/analysis/1553482.html",1.8,3.78,3.69,1.89,3.74,3.46]
["INT CF",null,"MFK Karvina",1.34,5.0199999999999996,6.19,0.6744,0.17979999999999999,0.14580000000000001,0.90210000000000001,"GKS Tychy","View(13)",null,{"$f":"IF(A160<>\"\",TEXT(A160,\"\"),\"\")","v":"INT CF"},{"$f":"IF(N160=\"\",\"\",CONCATENATE(IF(C160<>\"\",TEXT(C160,\"\"),\"\"),\" - \",IF(K160<>\"\",TEXT(K160,\"\"),\"\")))","v":"MFK Karvina - GKS Tychy"},"http://www.data.nowgoal.vip/analysis/1663991.html",{"$f":"IF(D160<>\"\",D160,\"\")","v":1.34},{"$f":"IF(E160<>\"\",E160,\"\")","v":5.0199999999999996},{"$f":"IF(F160<>\"\",F160,\"\")","v":6.19},{"$f":"IF(N160<>\"\",IF(D161<>\"\",D161,D160),\"\")","v":1.34},{"$f":"IF(N160<>\"\",IF(E161<>\"\",E161,E160),\"\")","v":5.05},{"$f":"IF(N160<>\"\",IF(F161<>\"\",F161,F160),\"\")","v":6.45},null,"HOL D2","Dordrecht - Jong Ajax (Youth)","http://www.data.nowgoal.vip/analysis/1553483.html",4.16,3.93,1.68,4.13,4.16,1.66]
[null,null,null,1.34,5.05,6.45,0.67949999999999999,0.1797,0.14080000000000001,0.90790000000000004,null,null,null,null,null,"",null,null,null,null,null,null,null,"HOL D2","RKC Waalwijk - Den Bosch","http://www.data.nowgoal.vip/analysis/1553484.html",2.73,3.78,2.1800000000000002,2.65,3.52,2.36]
["INT CF",null,"Ludogorets Razgrad",1.61,3.8,4.32,0.55649999999999999,0.23580000000000001,0.2077,0.89600000000000002,"Terek Grozny","View(2)",null,{"$f":"IF(A162<>\"\",TEXT(A162,\"\"),\"\")","v":"INT CF"},{"$f":"IF(N162=\"\",\"\",CONCATENATE(IF(C162<>\"\",TEXT(C162,\"\"),\"\"),\" - \",IF(K162<>\"\",TEXT(K162,\"\"),\"\")))","v":"Ludogorets Razgrad - Terek Grozny"},"http://www.data.nowgoal.vip/analysis/1663993.html",{"$f":"IF(D162<>\"\",D162,\"\")","v":1.61},{"$f":"IF(E162<>\"\",E162,\"\")","v":3.8},{"$f":"IF(F162<>\"\",F162,\"\")","v":4.32},{"$f":"IF(N162<>\"\",IF(D163<>\"\",D163,D162),\"\")","v":1.61},{"$f":"IF(N162<>\"\",IF(E163<>\"\",E163,E162),\"\")","v":3.8},{"$f":"IF(N162<>\"\",IF(F163<>\"\",F163,F162),\"\")","v":4.32},null,"HOL D2","Volendam - Sparta Rotterdam","http://www.data.nowgoal.vip/analysis/1553485.html",3.3,3.54,1.98,3.17,3.48,2.0699999999999998]
[null,null,null,1.61,3.8,4.32,0.55730000000000002,0.2354,0.20730000000000001,0.89449999999999996,null,null,null,null,null,"",null,null,null,null,null,null,null,"HOL D2","FC Twente Enschede - Helmond Sport","http://www.data.nowgoal.vip/analysis/1553486.html",1.19,6.29,11.13,1.21,6,10.63]
["INT CF",null,"St.Polten",1.8,4,3.25,0.499,0.22459999999999999,0.27639999999999998,0.8982,"FK Shkendija 79","View(2)",null,{"$f":"IF(A164<>\"\",TEXT(A164,\"\"),\"\")","v":"INT CF"},{"$f":"IF(N164=\"\",\"\",CONCATENATE(IF(C164<>\"\",TEXT(C164,\"\"),\"\"),\" - \",IF(K164<>\"\",TEXT(K164,\"\"),\"\")))","v":"St.Polten - FK Shkendija 79"},"http://www.data.nowgoal.vip/analysis/1664002.html",{"$f":"IF(D164<>\"\",D164,\"\")","v":1.8},{"$f":"IF(E164<>\"\",E164,\"\")","v":4},{"$f":"IF(F164<>\"\",F164,\"\")","v":3.25},{"$f":"IF(N164<>\"\",IF(D165<>\"\",D165,D164),\"\")","v":1.8},{"$f":"IF(N164<>\"\",IF(E165<>\"\",E165,E164),\"\")","v":4},{"$f":"IF(N164<>\"\",IF(F165<>\"\",F165,F164),\"\")","v":3.25},null,"SUI D1","Aarau - FC Wil 1900","http://www.data.nowgoal.vip/analysis/1555144.html",2,3.54,3.22,1.78,3.69,3.9]
[null,null,null,null,null,null,null,null,null,null,null,null,null,null,null,"",null,null,null,null,null,null,null,"CAF CL","Mamelodi Sundowns - ASEC MIMOSAS","http://www.data.nowgoal.vip/analysis/1654312.html",1.62,3.42,5.0199999999999996,1.54,3.57,5.69]
["ISL",null,"Mumbai City",2.13,3.34,3.01,0.4259,0.27179999999999999,0.30220000000000002,0.90869999999999995,"FC Goa","View(84)",null,{"$f":"IF(A166<>\"\",TEXT(A166,\"\"),\"\")","v":"ISL"},{"$f":"IF(N166=\"\",\"\",CONCATENATE(IF(C166<>\"\",TEXT(C166,\"\"),\"\"),\" - \",IF(K166<>\"\",TEXT(K166,\"\"),\"\")))","v":"Mumbai City - FC Goa"},"http://www.data.nowgoal.vip/analysis/1660386.html",{"$f":"IF(D166<>\"\",D166,\"\")","v":2.13},{"$f":"IF(E166<>\"\",E166,\"\")","v":3.34},{"$f":"IF(F166<>\"\",F166,\"\")","v":3.01},{"$f":"IF(N166<>\"\",IF(D167<>\"\",D167,D166),\"\")","v":2.17},{"$f":"IF(N166<>\"\",IF(E167<>\"\",E167,E166),\"\")","v":3.39},{"$f":"IF(N166<>\"\",IF(F167<>\"\",F167,F166),\"\")","v":2.96},null,"INT CF","FC Bad Radkersburg - TUS Bad Gleichenberg","http://www.data.nowgoal.vip/analysis/1664923.html",8.1300000000000008,5.2,1.28,10.25,5.6,1.2]
[null,null,null,2.17,3.39,2.96,0.42180000000000001,0.26979999999999998,0.30840000000000001,0.91369999999999996,null,null,null,null,null,"",null,null,null,null,null,null,null,"ICE CH B","Vikingur Olafsvik - Kari Akranes","http://www.data.nowgoal.vip/analysis/1665008.html",1.53,4.5,4.2,1.56,4.25,3.83]
["ITA YTHL",null,"Inter Milan U20",1.5,4.43,4.63,0.60150000000000003,0.20349999999999999,0.19500000000000001,0.90210000000000001,"Sampdoria U20","View(56)",null,{"$f":"IF(A168<>\"\",TEXT(A168,\"\"),\"\")","v":"ITA YTHL"},{"$f":"IF(N168=\"\",\"\",CONCATENATE(IF(C168<>\"\",TEXT(C168,\"\"),\"\"),\" - \",IF(K168<>\"\",TEXT(K168,\"\"),\"\")))","v":"Inter Milan U20 - Sampdoria U20"},"http://www.data.nowgoal.vip/analysis/1621185.html",{"$f":"IF(D168<>\"\",D168,\"\")","v":1.5},{"$f":"IF(E168<>\"\",E168,\"\")","v":4.43},{"$f":"IF(F168<>\"\",F168,\"\")","v":4.63},{"$f":"IF(N168<>\"\",IF(D169<>\"\",D169,D168),\"\")","v":1.48},{"$f":"IF(N168<>\"\",IF(E169<>\"\",E169,E168),\"\")","v":4.34},{"$f":"IF(N168<>\"\",IF(F169<>\"\",F169,F168),\"\")","v":5.01},null,"ENG PU23","Manchester United U23 - Southampton U23","http://www.data.nowgoal.vip/analysis/1598882.html",2.04,3.74,2.88,2.0299999999999998,3.73,2.88]
[null,null,null,1.48,4.34,5.01,0.61040000000000005,0.20860000000000001,0.18090000000000001,0.90610000000000002,null,null,null,null,null,"",null,null,null,null,null,null,null,"ENG PU23","Middlesbrough U23 - Stoke City U23","http://www.data.nowgoal.vip/analysis/1598883.html",1.92,3.4,3.4,1.91,3.4,3.4]
["ALG D2",null,"ASM Oran",1.87,2.81,4.58,0.48199999999999998,0.32100000000000001,0.19700000000000001,0.90180000000000005,"JSM Skikda","View(62)",null,{"$f":"IF(A170<>\"\",TEXT(A170,\"\"),\"\")","v":"ALG D2"},{"$f":"IF(N170=\"\",\"\",CONCATENATE(IF(C170<>\"\",TEXT(C170,\"\"),\"\"),\" - \",IF(K170<>\"\",TEXT(K170,\"\"),\"\")))","v":"ASM Oran - JSM Skikda"},"http://www.data.nowgoal.vip/analysis/1594593.html",{"$f":"IF(D170<>\"\",D170,\"\")","v":1.87},{"$f":"IF(E170<>\"\",E170,\"\")","v":2.81},{"$f":"IF(F170<>\"\",F170,\"\")","v":4.58},{"$f":"IF(N170<>\"\",IF(D171<>\"\",D171,D170),\"\")","v":1.77},{"$f":"IF(N170<>\"\",IF(E171<>\"\",E171,E170),\"\")","v":2.96},{"$f":"IF(N170<>\"\",IF(F171<>\"\",F171,F170),\"\")","v":4.84},null,"ENG PU23","Newcastle U23 - Wolves U23","http://www.data.nowgoal.vip/analysis/1598884.html",2.4300000000000002,3.43,2.52,2.4300000000000002,3.42,2.52]
[null,null,null,1.77,2.96,4.84,0.50939999999999996,0.30449999999999999,0.18609999999999999,0.90169999999999995,null,null,null,null,null,"",null,null,null,null,null,null,null,"ENG PU23","Norwich City U23 - West Bromwich U23","http://www.data.nowgoal.vip/analysis/1598885.html",1.81,3.42,3.77,1.8,3.43,3.78]
["ALG D2",null,"RC Kouba",2.0099999999999998,2.76,3.99,0.44869999999999999,0.3261,0.22520000000000001,0.89970000000000006,"JSM Bejaia","View(67)",null,{"$f":"IF(A172<>\"\",TEXT(A172,\"\"),\"\")","v":"ALG D2"},{"$f":"IF(N172=\"\",\"\",CONCATENATE(IF(C172<>\"\",TEXT(C172,\"\"),\"\"),\" - \",IF(K172<>\"\",TEXT(K172,\"\"),\"\")))","v":"RC Kouba - JSM Bejaia"},"http://www.data.nowgoal.vip/analysis/1594595.html",{"$f":"IF(D172<>\"\",D172,\"\")","v":2.0099999999999998},{"$f":"IF(E172<>\"\",E172,\"\")","v":2.76},{"$f":"IF(F172<>\"\",F172,\"\")","v":3.99},{"$f":"IF(N172<>\"\",IF(D173<>\"\",D173,D172),\"\")","v":2.0099999999999998},{"$f":"IF(N172<>\"\",IF(E173<>\"\",E173,E172),\"\")","v":2.77},{"$f":"IF(N172<>\"\",IF(F173<>\"\",F173,F172),\"\")","v":3.99},null,"WAL D1","Goytre Utd - Cambrian Clydach","http://www.data.nowgoal.vip/analysis/1664917.html",2.48,4.32,2.13,2.48,4.33,2.13]
[null,null,null,2.0099999999999998,2.77,3.99,0.44840000000000002,0.3256,0.22600000000000001,0.90090000000000003,null,null,null,null,null,"",null,null,null,null,null,null,null,"ICE PSC","KA Akureyri - Thor Akureyri","http://www.data.nowgoal.vip/analysis/1664878.html",1.25,5.93,7,1.25,5.93,7]
["ALG D2",null,"A Bou Saada",1.25,4.43,11.09,0.71640000000000004,0.2026,8.1000000000000003E-2,0.89770000000000005,"USM Blida","View(59)",null,{"$f":"IF(A174<>\"\",TEXT(A174,\"\"),\"\")","v":"ALG D2"},{"$f":"IF(N174=\"\",\"\",CONCATENATE(IF(C174<>\"\",TEXT(C174,\"\"),\"\"),\" - \",IF(K174<>\"\",TEXT(K174,\"\"),\"\")))","v":"A Bou Saada - USM Blida"},"http://www.data.nowgoal.vip/analysis/1594596.html",{"$f":"IF(D174<>\"\",D174,\"\")","v":1.25},{"$f":"IF(E174<>\"\",E174,\"\")","v":4.43},{"$f":"IF(F174<>\"\",F174,\"\")","v":11.09},{"$f":"IF(N174<>\"\",IF(D175<>\"\",D175,D174),\"\")","v":1.25},{"$f":"IF(N174<>\"\",IF(E175<>\"\",E175,E174),\"\")","v":4.4400000000000004},{"$f":"IF(N174<>\"\",IF(F175<>\"\",F175,F174),\"\")","v":10.98},null,"GER D1","Hannover 96 - RB Leipzig","http://www.data.nowgoal.vip/analysis/1561096.html",4.8099999999999996,3.96,1.65,5.66,4.37,1.55]
[null,null,null,1.25,4.4400000000000004,10.98,0.71609999999999996,0.2021,8.1799999999999998E-2,0.89829999999999999,null,null,null,null,null,"",null,null,null,null,null,null,null,"BEL D1","Mouscron Peruwelz - Charleroi","http://www.data.nowgoal.vip/analysis/1555811.html",3.07,3.32,2.2200000000000002,2.65,3.2,2.6]
["ROM D1",null,"Concordia Chiajna",2.95,3.04,2.35,0.30959999999999999,0.30109999999999998,0.38919999999999999,0.91459999999999997,"Botosani","View(164)",null,{"$f":"IF(A176<>\"\",TEXT(A176,\"\"),\"\")","v":"ROM D1"},{"$f":"IF(N176=\"\",\"\",CONCATENATE(IF(C176<>\"\",TEXT(C176,\"\"),\"\"),\" - \",IF(K176<>\"\",TEXT(K176,\"\"),\"\")))","v":"Concordia Chiajna - Botosani"},"http://www.data.nowgoal.vip/analysis/1567433.html",{"$f":"IF(D176<>\"\",D176,\"\")","v":2.95},{"$f":"IF(E176<>\"\",E176,\"\")","v":3.04},{"$f":"IF(F176<>\"\",F176,\"\")","v":2.35},{"$f":"IF(N176<>\"\",IF(D177<>\"\",D177,D176),\"\")","v":3.31},{"$f":"IF(N176<>\"\",IF(E177<>\"\",E177,E176),\"\")","v":3.12},{"$f":"IF(N176<>\"\",IF(F177<>\"\",F177,F176),\"\")","v":2.14},null,"BEL D2","Oud Heverlee - Roeselare","http://www.data.nowgoal.vip/analysis/1582447.html",1.96,3.3,3.54,2.1,3.4,3.1]
[null,null,null,3.31,3.12,2.14,0.27700000000000002,0.29449999999999998,0.42849999999999999,0.91810000000000003,null,null,null,null,null,"",null,null,null,null,null,null,null,"BPL (W)","KAA Gent Ladies (w) - Standard Liege (w)","http://www.data.nowgoal.vip/analysis/1587079.html",1.81,3.78,3.43,1.8,3.79,3.48]
["INT CF",null,"SV Horn",2.12,3.78,2.75,0.42930000000000001,0.2402,0.33050000000000002,0.90869999999999995,"KFC Komarno","View(3)",null,{"$f":"IF(A178<>\"\",TEXT(A178,\"\"),\"\")","v":"INT CF"},{"$f":"IF(N178=\"\",\"\",CONCATENATE(IF(C178<>\"\",TEXT(C178,\"\"),\"\"),\" - \",IF(K178<>\"\",TEXT(K178,\"\"),\"\")))","v":"SV Horn - KFC Komarno"},"http://www.data.nowgoal.vip/analysis/1663994.html",{"$f":"IF(D178<>\"\",D178,\"\")","v":2.12},{"$f":"IF(E178<>\"\",E178,\"\")","v":3.78},{"$f":"IF(F178<>\"\",F178,\"\")","v":2.75},{"$f":"IF(N178<>\"\",IF(D179<>\"\",D179,D178),\"\")","v":1.84},{"$f":"IF(N178<>\"\",IF(E179<>\"\",E179,E178),\"\")","v":3.75},{"$f":"IF(N178<>\"\",IF(F179<>\"\",F179,F178),\"\")","v":3.35},null,"BPL (W)","Racing Genk (w) - Oud Heverlee Leuven (w)","http://www.data.nowgoal.vip/analysis/1587081.html",1.44,4.5599999999999996,4.9800000000000004,1.41,4.7,5.36]
[null,null,null,1.84,3.75,3.35,0.48980000000000001,0.2407,0.26950000000000002,0.90290000000000004,null,null,null,null,null,"",null,null,null,null,null,null,null,"WAL CA","Rhyl FC - Conwy Utd","http://www.data.nowgoal.vip/analysis/1593590.html",1.71,4.0199999999999996,3.51,1.72,4.0199999999999996,3.5]
["INT CF",null,"Halmstads",1.84,3.68,3.51,0.49320000000000003,0.24740000000000001,0.25940000000000002,0.9093,"Lyngby","View(8)",null,{"$f":"IF(A180<>\"\",TEXT(A180,\"\"),\"\")","v":"INT CF"},{"$f":"IF(N180=\"\",\"\",CONCATENATE(IF(C180<>\"\",TEXT(C180,\"\"),\"\"),\" - \",IF(K180<>\"\",TEXT(K180,\"\"),\"\")))","v":"Halmstads - Lyngby"},"http://www.data.nowgoal.vip/analysis/1663996.html",{"$f":"IF(D180<>\"\",D180,\"\")","v":1.84},{"$f":"IF(E180<>\"\",E180,\"\")","v":3.68},{"$f":"IF(F180<>\"\",F180,\"\")","v":3.51},{"$f":"IF(N180<>\"\",IF(D181<>\"\",D181,D180),\"\")","v":1.84},{"$f":"IF(N180<>\"\",IF(E181<>\"\",E181,E180),\"\")","v":3.68},{"$f":"IF(N180<>\"\",IF(F181<>\"\",F181,F180),\"\")","v":3.5},null,"GIB PD","Lions Gibraltar - Gibraltar Phoenix","http://www.data.nowgoal.vip/analysis/1664932.html",11,7.5,1.1200000000000001,17,10,1.08]
[null,null,null,1.84,3.68,3.5,0.49299999999999999,0.24729999999999999,0.25969999999999999,0.90900000000000003,null,null,null,null,null,"",null,null,null,null,null,null,null,"FRA D1","Lille - Nice","http://www.data.nowgoal.vip/analysis/1549894.html",1.8,3.41,4.58,1.85,3.36,4.63]
["ALG D2",null,"WA Tlemcen",1.44,3.7,6.91,0.62580000000000002,0.24379999999999999,0.1305,0.90180000000000005,"USM EL HARRACH","View(57)",null,{"$f":"IF(A182<>\"\",TEXT(A182,\"\"),\"\")","v":"ALG D2"},{"$f":"IF(N182=\"\",\"\",CONCATENATE(IF(C182<>\"\",TEXT(C182,\"\"),\"\"),\" - \",IF(K182<>\"\",TEXT(K182,\"\"),\"\")))","v":"WA Tlemcen - USM EL HARRACH"},"http://www.data.nowgoal.vip/analysis/1594592.html",{"$f":"IF(D182<>\"\",D182,\"\")","v":1.44},{"$f":"IF(E182<>\"\",E182,\"\")","v":3.7},{"$f":"IF(F182<>\"\",F182,\"\")","v":6.91},{"$f":"IF(N182<>\"\",IF(D183<>\"\",D183,D182),\"\")","v":1.48},{"$f":"IF(N182<>\"\",IF(E183<>\"\",E183,E182),\"\")","v":3.69},{"$f":"IF(N182<>\"\",IF(F183<>\"\",F183,F182),\"\")","v":6.32},null,"ENG LCH","Preston North End - Derby County","http://www.data.nowgoal.vip/analysis/1557773.html",2.63,3.22,2.6,2.2999999999999998,3.3,3.03]
[null,null,null,1.48,3.69,6.32,0.6119,0.245,0.1431,0.9042,null,null,null,null,null,"",null,null,null,null,null,null,null,"SCO PR","Kilmarnock - Heart of Midlothian","http://www.data.nowgoal.vip/analysis/1553201.html",2.27,3.16,3.08,2.38,3.12,3.01]
["ENG U23 D1",null,"Watford U23",1.72,3.74,3.8,0.52349999999999997,0.2402,0.23630000000000001,0.89839999999999998,"Cardiff City U23","View(21)",null,{"$f":"IF(A184<>\"\",TEXT(A184,\"\"),\"\")","v":"ENG U23 D1"},{"$f":"IF(N184=\"\",\"\",CONCATENATE(IF(C184<>\"\",TEXT(C184,\"\"),\"\"),\" - \",IF(K184<>\"\",TEXT(K184,\"\"),\"\")))","v":"Watford U23 - Cardiff City U23"},"http://www.data.nowgoal.vip/analysis/1619845.html",{"$f":"IF(D184<>\"\",D184,\"\")","v":1.72},{"$f":"IF(E184<>\"\",E184,\"\")","v":3.74},{"$f":"IF(F184<>\"\",F184,\"\")","v":3.8},{"$f":"IF(N184<>\"\",IF(D185<>\"\",D185,D184),\"\")","v":1.72},{"$f":"IF(N184<>\"\",IF(E185<>\"\",E185,E184),\"\")","v":3.78},{"$f":"IF(N184<>\"\",IF(F185<>\"\",F185,F184),\"\")","v":3.81},null,"NIR D1","Newry City - Glentoran FC","http://www.data.nowgoal.vip/analysis/1582827.html",3.7,3.62,1.78,3.6,3.62,1.82]
[null,null,null,1.72,3.78,3.81,0.52490000000000003,0.23860000000000001,0.23649999999999999,0.90080000000000005,null,null,null,null,null,"",null,null,null,null,null,null,null,"WAL PR","Aberystwyth Town - Llandudno","http://www.data.nowgoal.vip/analysis/1663688.html",1.83,3.56,3.66,1.83,3.53,3.71]
["INT CF",null,"Slavia Kromeriz",1.4,4.33,6,0.64239999999999997,0.2077,0.14990000000000001,0.89939999999999998,"BrnoU21","View(1)",null,{"$f":"IF(A186<>\"\",TEXT(A186,\"\"),\"\")","v":"INT CF"},{"$f":"IF(N186=\"\",\"\",CONCATENATE(IF(C186<>\"\",TEXT(C186,\"\"),\"\"),\" - \",IF(K186<>\"\",TEXT(K186,\"\"),\"\")))","v":"Slavia Kromeriz - BrnoU21"},"http://www.data.nowgoal.vip/analysis/1665077.html",{"$f":"IF(D186<>\"\",D186,\"\")","v":1.4},{"$f":"IF(E186<>\"\",E186,\"\")","v":4.33},{"$f":"IF(F186<>\"\",F186,\"\")","v":6},{"$f":"IF(N186<>\"\",IF(D187<>\"\",D187,D186),\"\")","v":1.4},{"$f":"IF(N186<>\"\",IF(E187<>\"\",E187,E186),\"\")","v":4.33},{"$f":"IF(N186<>\"\",IF(F187<>\"\",F187,F186),\"\")","v":6},null,"WAL CA","Denbigh Town - Holywell","http://www.data.nowgoal.vip/analysis/1593589.html",2.0099999999999998,3.79,2.87,2.0099999999999998,3.79,2.87]
[null,null,null,null,null,null,null,null,null,null,null,null,null,null,null,"",null,null,null,null,null,null,null,"Ire LSL","Portlaoise AFC - Tolka Rovers","http://www.data.nowgoal.vip/analysis/1664934.html",2.86,3.6,2.0499999999999998,2.89,3.6,2.0499999999999998]
["Estonia WT",null,"Levadia Tallinn",1.1599999999999999,6.21,11.09,0.77429999999999999,0.1447,8.1000000000000003E-2,0.8982,"Tartu JK Maag Tammeka","View(11)",null,{"$f":"IF(A188<>\"\",TEXT(A188,\"\"),\"\")","v":"Estonia WT"},{"$f":"IF(N188=\"\",\"\",CONCATENATE(IF(C188<>\"\",TEXT(C188,\"\"),\"\"),\" - \",IF(K188<>\"\",TEXT(K188,\"\"),\"\")))","v":"Levadia Tallinn - Tartu JK Maag Tammeka"},"http://www.data.nowgoal.vip/analysis/1654395.html",{"$f":"IF(D188<>\"\",D188,\"\")","v":1.1599999999999999},{"$f":"IF(E188<>\"\",E188,\"\")","v":6.21},{"$f":"IF(F188<>\"\",F188,\"\")","v":11.09},{"$f":"IF(N188<>\"\",IF(D189<>\"\",D189,D188),\"\")","v":1.1599999999999999},{"$f":"IF(N188<>\"\",IF(E189<>\"\",E189,E188),\"\")","v":6.12},{"$f":"IF(N188<>\"\",IF(F189<>\"\",F189,F188),\"\")","v":11.36},null,"Ire LSL","Bangor Celtic - Bluebell United","http://www.data.nowgoal.vip/analysis/1664939.html",2.58,3.6,2.25,2.58,3.63,2.2799999999999998]
[null,null,null,1.1599999999999999,6.12,11.36,0.77390000000000003,0.14699999999999999,7.9200000000000007E-2,0.89980000000000004,null,null,null,null,null,"",null,null,null,null,null,null,null,"SPA D1","SD Huesca - Real Valladolid","http://www.data.nowgoal.vip/analysis/1583408.html",2.35,3.19,3.04,2.27,3.17,3.39]
["KSA YTH",null,"Al-Ittihad (Youth)",1.57,3.73,4.7,0.5696,0.24010000000000001,0.1903,0.89429999999999998,"Al-Fath (Youth)","View(2)",null,{"$f":"IF(A190<>\"\",TEXT(A190,\"\"),\"\")","v":"KSA YTH"},{"$f":"IF(N190=\"\",\"\",CONCATENATE(IF(C190<>\"\",TEXT(C190,\"\"),\"\"),\" - \",IF(K190<>\"\",TEXT(K190,\"\"),\"\")))","v":"Al-Ittihad (Youth) - Al-Fath (Youth)"},"http://www.data.nowgoal.vip/analysis/1639331.html",{"$f":"IF(D190<>\"\",D190,\"\")","v":1.57},{"$f":"IF(E190<>\"\",E190,\"\")","v":3.73},{"$f":"IF(F190<>\"\",F190,\"\")","v":4.7},{"$f":"IF(N190<>\"\",IF(D191<>\"\",D191,D190),\"\")","v":1.57},{"$f":"IF(N190<>\"\",IF(E191<>\"\",E191,E190),\"\")","v":3.73},{"$f":"IF(N190<>\"\",IF(F191<>\"\",F191,F190),\"\")","v":4.7},null,"ITA D2","Lecce - Ascoli","http://www.data.nowgoal.vip/analysis/1600192.html",1.8,3.21,4.66,1.78,3.24,4.87]
[null,null,null,null,null,null,null,null,null,null,null,null,null,null,null,"",null,null,null,null,null,null,null,"SPA D2","Malaga - Almeria","http://www.data.nowgoal.vip/analysis/1584236.html",1.57,3.45,6.25,1.75,3.16,5.3]
["TUR D2",null,"Osmanlispor FC",1.68,3.56,4.4800000000000004,0.54179999999999995,0.2555,0.20280000000000001,0.90880000000000005,"Balikesirspor","View(97)",null,{"$f":"IF(A192<>\"\",TEXT(A192,\"\"),\"\")","v":"TUR D2"},{"$f":"IF(N192=\"\",\"\",CONCATENATE(IF(C192<>\"\",TEXT(C192,\"\"),\"\"),\" - \",IF(K192<>\"\",TEXT(K192,\"\"),\"\")))","v":"Osmanlispor FC - Balikesirspor"},"http://www.data.nowgoal.vip/analysis/1574837.html",{"$f":"IF(D192<>\"\",D192,\"\")","v":1.68},{"$f":"IF(E192<>\"\",E192,\"\")","v":3.56},{"$f":"IF(F192<>\"\",F192,\"\")","v":4.4800000000000004},{"$f":"IF(N192<>\"\",IF(D193<>\"\",D193,D192),\"\")","v":1.67},{"$f":"IF(N192<>\"\",IF(E193<>\"\",E193,E192),\"\")","v":3.51},{"$f":"IF(N192<>\"\",IF(F193<>\"\",F193,F192),\"\")","v":4.76},null,"ARG B M","Deportivo Espanol - Tristan Suarez","http://www.data.nowgoal.vip/analysis/1603982.html",3.96,3.24,1.83,3.8,3.16,1.9]
[null,null,null,1.67,3.51,4.76,0.54820000000000002,0.26,0.1918,0.91390000000000005,null,null,null,null,null,"",null,null,null,null,null,null,null,"ACT M","Berazategui - Deportivo Laferrere","http://www.data.nowgoal.vip/analysis/1603613.html",3.64,3.21,1.92,3.64,3.21,1.92]
["INT CF",null,"FC Blau Weiss Linz",1.28,5,7.5,0.70089999999999997,0.1794,0.1196,0.8972,"SV Schalding Heining","View(2)",null,{"$f":"IF(A194<>\"\",TEXT(A194,\"\"),\"\")","v":"INT CF"},{"$f":"IF(N194=\"\",\"\",CONCATENATE(IF(C194<>\"\",TEXT(C194,\"\"),\"\"),\" - \",IF(K194<>\"\",TEXT(K194,\"\"),\"\")))","v":"FC Blau Weiss Linz - SV Schalding Heining"},"http://www.data.nowgoal.vip/analysis/1663998.html",{"$f":"IF(D194<>\"\",D194,\"\")","v":1.28},{"$f":"IF(E194<>\"\",E194,\"\")","v":5},{"$f":"IF(F194<>\"\",F194,\"\")","v":7.5},{"$f":"IF(N194<>\"\",IF(D195<>\"\",D195,D194),\"\")","v":1.2},{"$f":"IF(N194<>\"\",IF(E195<>\"\",E195,E194),\"\")","v":5.75},{"$f":"IF(N194<>\"\",IF(F195<>\"\",F195,F194),\"\")","v":9},null,"ADT M","Deportivo Paraguayo - Claypole","http://www.data.nowgoal.vip/analysis/1627298.html",3.02,3,2.2599999999999998,3.03,3,2.2599999999999998]
[null,null,null,1.2,5.75,9,0.74509999999999998,0.1555,9.9400000000000002E-2,0.89410000000000001,null,null,null,null,null,{"$f":"SUBSTITUTE(SUBSTITUTE(SUBSTITUTE(SUBSTITUTE(IF(L195<>\"\",HLink(L195),\"\"),\"htm\",\"html\"),\"1x2\",\"analysis\"),\"www\",\"www.data\"),\"com\",\"vip\")","v":""},null,null,null,null,null,null,null,"ADT M","CA Atlas - Puerto Nuevo","http://www.data.nowgoal.vip/analysis/1627301.html",1.67,3.32,4.79,1.67,3.32,4.79]
["INT CF",null,"VfL Wolfsburg (w)(N)",1.1200000000000001,8,10,0.79869999999999997,0.1118,8.9499999999999996E-2,0.89449999999999996,"FFC Frankfurt (w)","View(1)",null,{"$f":"IF(A196<>\"\",TEXT(A196,\"\"),\"\")","v":"INT CF"},{"$f":"IF(N196=\"\",\"\",CONCATENATE(IF(C196<>\"\",TEXT(C196,\"\"),\"\"),\" - \",IF(K196<>\"\",TEXT(K196,\"\"),\"\")))","v":"VfL Wolfsburg (w)(N) - FFC Frankfurt (w)"},"http://www.data.nowgoal.vip/analysis/1664000.html",{"$f":"IF(D196<>\"\",D196,\"\")","v":1.1200000000000001},{"$f":"IF(E196<>\"\",E196,\"\")","v":8},{"$f":"IF(F196<>\"\",F196,\"\")","v":10},{"$f":"IF(N196<>\"\",IF(D197<>\"\",D197,D196),\"\")","v":1.1200000000000001},{"$f":"IF(N196<>\"\",IF(E197<>\"\",E197,E196),\"\")","v":8},{"$f":"IF(N196<>\"\",IF(F197<>\"\",F197,F196),\"\")","v":10},null,"Ire LSL","St Patricks CY - Killester Donnycarne","http://www.data.nowgoal.vip/analysis/1664933.html",3.63,4.2,1.66,3.58,4.18,1.67]
[null,null,null,null,null,null,null,null,null,null,null,null,null,null,null,"",null,null,null,null,null,null,null,"Ire LSL","Cherry Orchard - Firhouse Clover FC","http://www.data.nowgoal.vip/analysis/1664940.html",1.37,4.53,6.4,1.37,4.55,6.45]
["ALG D2",null,"USM Annaba",1.51,3.38,6.53,0.59660000000000002,0.26579999999999998,0.13750000000000001,0.89839999999999998,"MC Saida","View(54)",null,{"$f":"IF(A198<>\"\",TEXT(A198,\"\"),\"\")","v":"ALG D2"},{"$f":"IF(N198=\"\",\"\",CONCATENATE(IF(C198<>\"\",TEXT(C198,\"\"),\"\"),\" - \",IF(K198<>\"\",TEXT(K198,\"\"),\"\")))","v":"USM Annaba - MC Saida"},"http://www.data.nowgoal.vip/analysis/1594594.html",{"$f":"IF(D198<>\"\",D198,\"\")","v":1.51},{"$f":"IF(E198<>\"\",E198,\"\")","v":3.38},{"$f":"IF(F198<>\"\",F198,\"\")","v":6.53},{"$f":"IF(N198<>\"\",IF(D199<>\"\",D199,D198),\"\")","v":1.51},{"$f":"IF(N198<>\"\",IF(E199<>\"\",E199,E198),\"\")","v":3.39},{"$f":"IF(N198<>\"\",IF(F199<>\"\",F199,F198),\"\")","v":6.52},null,"ICE PSC","Keflavik - IBV Vestmannaeyjar","http://www.data.nowgoal.vip/analysis/1664877.html",3.6,5,1.57,3.6,5,1.57]
[null,null,null,1.51,3.39,6.52,0.59689999999999999,0.26519999999999999,0.13789999999999999,0.89870000000000005,null,null,null,null,null,"",null,null,null,null,null,null,null,"AOC","Rosenborg(N) - Slavia Praha","http://www.data.nowgoal.vip/analysis/1660995.html",2.96,3.64,2.1,3.93,3.91,1.7]
["ALG D2",null,"Biskra",1.73,3.01,4.95,0.52010000000000001,0.29859999999999998,0.18140000000000001,0.89800000000000002,"ASO Chlef","View(54)",null,{"$f":"IF(A200<>\"\",TEXT(A200,\"\"),\"\")","v":"ALG D2"},{"$f":"IF(N200=\"\",\"\",CONCATENATE(IF(C200<>\"\",TEXT(C200,\"\"),\"\"),\" - \",IF(K200<>\"\",TEXT(K200,\"\"),\"\")))","v":"Biskra - ASO Chlef"},"http://www.data.nowgoal.vip/analysis/1594597.html",{"$f":"IF(D200<>\"\",D200,\"\")","v":1.73},{"$f":"IF(E200<>\"\",E200,\"\")","v":3.01},{"$f":"IF(F200<>\"\",F200,\"\")","v":4.95},{"$f":"IF(N200<>\"\",IF(D201<>\"\",D201,D200),\"\")","v":1.73},{"$f":"IF(N200<>\"\",IF(E201<>\"\",E201,E200),\"\")","v":3.01},{"$f":"IF(N200<>\"\",IF(F201<>\"\",F201,F200),\"\")","v":4.95},null,"POR D1","Rio Ave - CD Tondela","http://www.data.nowgoal.vip/analysis/1576259.html",1.99,3.33,3.63,1.98,3.38,3.68]
[null,null,null,1.73,3.01,4.95,0.51990000000000003,0.29849999999999999,0.18160000000000001,0.89880000000000004,null,null,null,null,null,"",null,null,null,null,null,null,null,"CSU20","Argentina U20(N) - Colombia U20","http://www.data.nowgoal.vip/analysis/1663727.html",2.39,3.03,2.84,2.37,3,2.94]
["MEX U20",null,"Monarcas Morelia U20",2.12,3.29,3,0.42580000000000001,0.27400000000000002,0.30020000000000002,0.90069999999999995,"Atlas U20","View(32)",null,{"$f":"IF(A202<>\"\",TEXT(A202,\"\"),\"\")","v":"MEX U20"},{"$f":"IF(N202=\"\",\"\",CONCATENATE(IF(C202<>\"\",TEXT(C202,\"\"),\"\"),\" - \",IF(K202<>\"\",TEXT(K202,\"\"),\"\")))","v":"Monarcas Morelia U20 - Atlas U20"},"http://www.data.nowgoal.vip/analysis/1664889.html",{"$f":"IF(D202<>\"\",D202,\"\")","v":2.12},{"$f":"IF(E202<>\"\",E202,\"\")","v":3.29},{"$f":"IF(F202<>\"\",F202,\"\")","v":3},{"$f":"IF(N202<>\"\",IF(D203<>\"\",D203,D202),\"\")","v":2.12},{"$f":"IF(N202<>\"\",IF(E203<>\"\",E203,E202),\"\")","v":3.29},{"$f":"IF(N202<>\"\",IF(F203<>\"\",F203,F202),\"\")","v":3},null,"INT CF","Atletico Marte - CD Sonsonate","http://www.data.nowgoal.vip/analysis/1665073.html",2.5,3.2,2.5,2.5,3.2,2.5]
[null,null,null,2.12,3.29,3,0.42559999999999998,0.27389999999999998,0.30049999999999999,0.90049999999999997,null,null,null,null,null,"",null,null,null,null,null,null,null,"Spain D4","CD Buzanada - Tenerife B","http://www.data.nowgoal.vip/analysis/1664900.html",2.67,3.07,2.44,2.74,3,2.44]
["MEX D3",null,"Unam Pumas II",2.14,3.21,3,0.42020000000000002,0.28010000000000002,0.29959999999999998,0.89980000000000004,"Coyotes FC","View(22)",null,{"$f":"IF(A204<>\"\",TEXT(A204,\"\"),\"\")","v":"MEX D3"},{"$f":"IF(N204=\"\",\"\",CONCATENATE(IF(C204<>\"\",TEXT(C204,\"\"),\"\"),\" - \",IF(K204<>\"\",TEXT(K204,\"\"),\"\")))","v":"Unam Pumas II - Coyotes FC"},"http://www.data.nowgoal.vip/analysis/1664897.html",{"$f":"IF(D204<>\"\",D204,\"\")","v":2.14},{"$f":"IF(E204<>\"\",E204,\"\")","v":3.21},{"$f":"IF(F204<>\"\",F204,\"\")","v":3},{"$f":"IF(N204<>\"\",IF(D205<>\"\",D205,D204),\"\")","v":2.14},{"$f":"IF(N204<>\"\",IF(E205<>\"\",E205,E204),\"\")","v":3.21},{"$f":"IF(N204<>\"\",IF(F205<>\"\",F205,F204),\"\")","v":3},null,"MEX D3","CD Nuevo Chimalhuacan - Deportivo Gladiadores","http://www.data.nowgoal.vip/analysis/1664898.html",1.53,4.2300000000000004,4.5,1.53,4.24,4.51]
[null,null,null,null,null,null,null,null,null,null,null,null,null,null,null,"",null,null,null,null,null,null,null,"PAR D1","Sol de America - General Diaz","http://www.data.nowgoal.vip/analysis/1650671.html",2.04,3.17,3.38,2.0299999999999998,3.2,3.38]
["MEX D3",null,"Club America II",2.4,3.19,2.6,0.3735,0.28149999999999997,0.34499999999999997,0.89749999999999996,"Reboceros de La Piedad","View(17)",null,{"$f":"IF(A206<>\"\",TEXT(A206,\"\"),\"\")","v":"MEX D3"},{"$f":"IF(N206=\"\",\"\",CONCATENATE(IF(C206<>\"\",TEXT(C206,\"\"),\"\"),\" - \",IF(K206<>\"\",TEXT(K206,\"\"),\"\")))","v":"Club America II - Reboceros de La Piedad"},"http://www.data.nowgoal.vip/analysis/1664899.html",{"$f":"IF(D206<>\"\",D206,\"\")","v":2.4},{"$f":"IF(E206<>\"\",E206,\"\")","v":3.19},{"$f":"IF(F206<>\"\",F206,\"\")","v":2.6},{"$f":"IF(N206<>\"\",IF(D207<>\"\",D207,D206),\"\")","v":2.4},{"$f":"IF(N206<>\"\",IF(E207<>\"\",E207,E206),\"\")","v":3.22},{"$f":"IF(N206<>\"\",IF(F207<>\"\",F207,F206),\"\")","v":2.59},null,"Mex MFW","Cruz Azul Women - Puebla Women","http://www.data.nowgoal.vip/analysis/1664901.html",9.31,5.47,1.22,9.36,5.49,1.22]
[null,null,null,2.4,3.22,2.59,0.37480000000000002,0.27900000000000003,0.34620000000000001,0.89800000000000002,null,null,null,null,null,"",null,null,null,null,null,null,null,"ARG D1","Gimnasia La Plata - Club Atletico Tigre","http://www.data.nowgoal.vip/analysis/1584652.html",2.23,2.99,3.34,2.29,3.01,3.19]
["BHR D1",null,"Al-Hadd",3.29,3.28,2.0099999999999998,0.27479999999999999,0.27529999999999999,0.44990000000000002,0.90359999999999996,"Al-Riffa","View(67)",null,{"$f":"IF(A208<>\"\",TEXT(A208,\"\"),\"\")","v":"BHR D1"},{"$f":"IF(N208=\"\",\"\",CONCATENATE(IF(C208<>\"\",TEXT(C208,\"\"),\"\"),\" - \",IF(K208<>\"\",TEXT(K208,\"\"),\"\")))","v":"Al-Hadd - Al-Riffa"},"http://www.data.nowgoal.vip/analysis/1664855.html",{"$f":"IF(D208<>\"\",D208,\"\")","v":3.29},{"$f":"IF(E208<>\"\",E208,\"\")","v":3.28},{"$f":"IF(F208<>\"\",F208,\"\")","v":2.0099999999999998},{"$f":"IF(N208<>\"\",IF(D209<>\"\",D209,D208),\"\")","v":3.29},{"$f":"IF(N208<>\"\",IF(E209<>\"\",E209,E208),\"\")","v":3.29},{"$f":"IF(N208<>\"\",IF(F209<>\"\",F209,F208),\"\")","v":2.0099999999999998},null,"Mex MFW","Club Necaxa Women - Tigres Women","http://www.data.nowgoal.vip/analysis/1664902.html",18.48,9.1199999999999992,1.07,18.489999999999998,9.1199999999999992,1.07]
[null,null,null,3.29,3.29,2.0099999999999998,0.27479999999999999,0.27539999999999998,0.44990000000000002,0.90539999999999998,null,null,null,null,null,"",null,null,null,null,null,null,null,"BRA CCX","Serra - Real Noroeste","http://www.data.nowgoal.vip/analysis/1664863.html",2,3.28,3.23,2,3.28,3.25]
["INT CF",null,"St.Polten Amateure",1.2,6,9,0.75,0.15,0.1,0.9,"USC Rohrbach","View(1)",null,{"$f":"IF(A210<>\"\",TEXT(A210,\"\"),\"\")","v":"INT CF"},{"$f":"IF(N210=\"\",\"\",CONCATENATE(IF(C210<>\"\",TEXT(C210,\"\"),\"\"),\" - \",IF(K210<>\"\",TEXT(K210,\"\"),\"\")))","v":"St.Polten Amateure - USC Rohrbach"},"http://www.data.nowgoal.vip/analysis/1664921.html",{"$f":"IF(D210<>\"\",D210,\"\")","v":1.2},{"$f":"IF(E210<>\"\",E210,\"\")","v":6},{"$f":"IF(F210<>\"\",F210,\"\")","v":9},{"$f":"IF(N210<>\"\",IF(D211<>\"\",D211,D210),\"\")","v":1.2},{"$f":"IF(N210<>\"\",IF(E211<>\"\",E211,E210),\"\")","v":6},{"$f":"IF(N210<>\"\",IF(F211<>\"\",F211,F210),\"\")","v":9},null,"INT CF","White City Woodville(N) - Metrostars SC","http://www.data.nowgoal.vip/analysis/1665062.html",5,4.5,1.44,8,4.75,1.28]
[null,null,null,null,null,null,null,null,null,null,null,null,null,null,null,"",null,null,null,null,null,null,null,"INT CF","CD Universidad de El Salvador - Alianza Lima","http://www.data.nowgoal.vip/analysis/1665072.html",11,7,1.1399999999999999,11,7,1.1399999999999999]
["FRA D4",null,"Le Havre B",2,3.28,3.24,0.44890000000000002,0.2737,0.27739999999999998,0.89880000000000004,"Vannes","View(14)",null,{"$f":"IF(A212<>\"\",TEXT(A212,\"\"),\"\")","v":"FRA D4"},{"$f":"IF(N212=\"\",\"\",CONCATENATE(IF(C212<>\"\",TEXT(C212,\"\"),\"\"),\" - \",IF(K212<>\"\",TEXT(K212,\"\"),\"\")))","v":"Le Havre B - Vannes"},"http://www.data.nowgoal.vip/analysis/1579424.html",{"$f":"IF(D212<>\"\",D212,\"\")","v":2},{"$f":"IF(E212<>\"\",E212,\"\")","v":3.28},{"$f":"IF(F212<>\"\",F212,\"\")","v":3.24},{"$f":"IF(N212<>\"\",IF(D213<>\"\",D213,D212),\"\")","v":2.0099999999999998},{"$f":"IF(N212<>\"\",IF(E213<>\"\",E213,E212),\"\")","v":3.28},{"$f":"IF(N212<>\"\",IF(F213<>\"\",F213,F212),\"\")","v":3.25},null,"NIC YL","UNAN Managua U21 - Deportivo Ocotal U21","http://www.data.nowgoal.vip/analysis/1664879.html",1.32,5.03,5.95,1.32,5.03,5.93]
[null,null,null,2.0099999999999998,3.28,3.25,0.44879999999999998,0.2742,0.27689999999999998,0.89980000000000004,null,null,null,null,null,"",null,null,null,null,null,null,null,"CSU20","Ecuador U20(N) - Uruguay U20","http://www.data.nowgoal.vip/analysis/1663728.html",3.23,3.22,2.09,3.53,3.24,1.98]
["CRO D1",null,"NK Lokomotiva Zagreb",1.58,3.63,5.31,0.57779999999999998,0.25069999999999998,0.17150000000000001,0.91080000000000005,"Inter Zapresic","View(117)",null,{"$f":"IF(A214<>\"\",TEXT(A214,\"\"),\"\")","v":"CRO D1"},{"$f":"IF(N214=\"\",\"\",CONCATENATE(IF(C214<>\"\",TEXT(C214,\"\"),\"\"),\" - \",IF(K214<>\"\",TEXT(K214,\"\"),\"\")))","v":"NK Lokomotiva Zagreb - Inter Zapresic"},"http://www.data.nowgoal.vip/analysis/1555533.html",{"$f":"IF(D214<>\"\",D214,\"\")","v":1.58},{"$f":"IF(E214<>\"\",E214,\"\")","v":3.63},{"$f":"IF(F214<>\"\",F214,\"\")","v":5.31},{"$f":"IF(N214<>\"\",IF(D215<>\"\",D215,D214),\"\")","v":1.5},{"$f":"IF(N214<>\"\",IF(E215<>\"\",E215,E214),\"\")","v":3.94},{"$f":"IF(N214<>\"\",IF(F215<>\"\",F215,F214),\"\")","v":5.65},null,"VEN D1","Caracas FC - Zamora Barinas","http://www.data.nowgoal.vip/analysis/1660811.html",2.23,3.24,2.91,2.23,3.24,2.91]
[null,null,null,1.5,3.94,5.65,0.60719999999999996,0.23150000000000001,0.1613,0.91159999999999997,null,null,null,null,null,"",null,null,null,null,null,null,null,"ARG D2","Los Andes - Gimnasia Mendoza","http://www.data.nowgoal.vip/analysis/1605425.html",3.02,3.24,2.19,2.86,2.93,2.4700000000000002]
["FIN CUP",null,"KuPs",1.86,3.48,3.68,0.4904,0.2621,0.2475,0.91080000000000005,"Vaasa VPS","View(15)",null,{"$f":"IF(A216<>\"\",TEXT(A216,\"\"),\"\")","v":"FIN CUP"},{"$f":"IF(N216=\"\",\"\",CONCATENATE(IF(C216<>\"\",TEXT(C216,\"\"),\"\"),\" - \",IF(K216<>\"\",TEXT(K216,\"\"),\"\")))","v":"KuPs - Vaasa VPS"},"http://www.data.nowgoal.vip/analysis/1657536.html",{"$f":"IF(D216<>\"\",D216,\"\")","v":1.86},{"$f":"IF(E216<>\"\",E216,\"\")","v":3.48},{"$f":"IF(F216<>\"\",F216,\"\")","v":3.68},{"$f":"IF(N216<>\"\",IF(D217<>\"\",D217,D216),\"\")","v":1.86},{"$f":"IF(N216<>\"\",IF(E217<>\"\",E217,E216),\"\")","v":3.5},{"$f":"IF(N216<>\"\",IF(F217<>\"\",F217,F216),\"\")","v":3.68},null,"PRL","San Francisco Reserves - CAI de la Chorrera Reserves","http://www.data.nowgoal.vip/analysis/1664938.html",2.7,3.5,2.2000000000000002,2.7,3.5,2.2000000000000002]
[null,null,null,1.86,3.5,3.68,0.49109999999999998,0.26100000000000001,0.24790000000000001,0.91310000000000002,null,null,null,null,null,"",null,null,null,null,null,null,null,"INT CF","Curico Unido - CSD Antofagasta","http://www.data.nowgoal.vip/analysis/1664872.html",2.75,3.4,2.2000000000000002,2.75,3.4,2.2000000000000002]
["ALB D1",null,"KF Tirana",3.03,3.2,2.09,0.29409999999999997,0.27829999999999999,0.42759999999999998,0.89139999999999997,"Teuta Durres","View(19)",null,{"$f":"IF(A218<>\"\",TEXT(A218,\"\"),\"\")","v":"ALB D1"},{"$f":"IF(N218=\"\",\"\",CONCATENATE(IF(C218<>\"\",TEXT(C218,\"\"),\"\"),\" - \",IF(K218<>\"\",TEXT(K218,\"\"),\"\")))","v":"KF Tirana - Teuta Durres"},"http://www.data.nowgoal.vip/analysis/1595944.html",{"$f":"IF(D218<>\"\",D218,\"\")","v":3.03},{"$f":"IF(E218<>\"\",E218,\"\")","v":3.2},{"$f":"IF(F218<>\"\",F218,\"\")","v":2.09},{"$f":"IF(N218<>\"\",IF(D219<>\"\",D219,D218),\"\")","v":3.03},{"$f":"IF(N218<>\"\",IF(E219<>\"\",E219,E218),\"\")","v":3.22},{"$f":"IF(N218<>\"\",IF(F219<>\"\",F219,F218),\"\")","v":2.08},null,"PAR D1","Guarani CA - Libertad","http://www.data.nowgoal.vip/analysis/1650669.html",2.62,3.19,2.42,2.63,3.18,2.42]
[null,null,null,3.03,3.22,2.08,0.2944,0.2772,0.42849999999999999,0.89229999999999998,null,null,null,null,null,"",null,null,null,null,null,null,null,"ARG D2","Atletico Rafaela - Villa Dalmine","http://www.data.nowgoal.vip/analysis/1605418.html",2.12,3,3.38,2.08,3,3.53]
["INT CF",null,"Stabaek (w)",1.33,5,6,0.67220000000000002,0.17879999999999999,0.14899999999999999,0.89400000000000002,"Grei (w)","View(1)",null,{"$f":"IF(A220<>\"\",TEXT(A220,\"\"),\"\")","v":"INT CF"},{"$f":"IF(N220=\"\",\"\",CONCATENATE(IF(C220<>\"\",TEXT(C220,\"\"),\"\"),\" - \",IF(K220<>\"\",TEXT(K220,\"\"),\"\")))","v":"Stabaek (w) - Grei (w)"},"http://www.data.nowgoal.vip/analysis/1663999.html",{"$f":"IF(D220<>\"\",D220,\"\")","v":1.33},{"$f":"IF(E220<>\"\",E220,\"\")","v":5},{"$f":"IF(F220<>\"\",F220,\"\")","v":6},{"$f":"IF(N220<>\"\",IF(D221<>\"\",D221,D220),\"\")","v":1.33},{"$f":"IF(N220<>\"\",IF(E221<>\"\",E221,E220),\"\")","v":5},{"$f":"IF(N220<>\"\",IF(F221<>\"\",F221,F220),\"\")","v":6},null,"INT CF","Deportivo Cuenca - Dep.San Martin","http://www.data.nowgoal.vip/analysis/1664873.html",1.9,3.4,3.4,1.9,3.4,3.4]
[null,null,null,null,null,null,null,null,null,null,null,null,null,null,null,"",null,null,null,null,null,null,null,"MEX D3","Estudiantes Tecos - Coras De Nayarit","http://www.data.nowgoal.vip/analysis/1664948.html",2.19,3.24,2.86,2.19,3.24,2.86]
["INT CF",null,"Viking",1.1599999999999999,6.74,10.37,0.77839999999999998,0.1343,8.7300000000000003E-2,0.9052,"Sola","View(14)",null,{"$f":"IF(A222<>\"\",TEXT(A222,\"\"),\"\")","v":"INT CF"},{"$f":"IF(N222=\"\",\"\",CONCATENATE(IF(C222<>\"\",TEXT(C222,\"\"),\"\"),\" - \",IF(K222<>\"\",TEXT(K222,\"\"),\"\")))","v":"Viking - Sola"},"http://www.data.nowgoal.vip/analysis/1664003.html",{"$f":"IF(D222<>\"\",D222,\"\")","v":1.1599999999999999},{"$f":"IF(E222<>\"\",E222,\"\")","v":6.74},{"$f":"IF(F222<>\"\",F222,\"\")","v":10.37},{"$f":"IF(N222<>\"\",IF(D223<>\"\",D223,D222),\"\")","v":1.1599999999999999},{"$f":"IF(N222<>\"\",IF(E223<>\"\",E223,E222),\"\")","v":6.74},{"$f":"IF(N222<>\"\",IF(F223<>\"\",F223,F222),\"\")","v":10.44},null,"ARG B M","Estudiantes de Caseros - Defensores Unidos","http://www.data.nowgoal.vip/analysis/1603987.html",1.49,3.78,5.73,1.52,3.68,5.63]
[null,null,null,1.1599999999999999,6.74,10.44,0.77900000000000003,0.1343,8.6699999999999999E-2,0.90529999999999999,null,null,null,null,null,"",null,null,null,null,null,null,null,"ARG D1","San Martin Tucuman - Defensa Y Justicia","http://www.data.nowgoal.vip/analysis/1584651.html",3.65,3.02,2.08,3.63,3.03,2.1]
["INT CF",null,"Weinland Gamlitz",1.07,11,15,0.85570000000000002,8.3199999999999996E-2,6.0999999999999999E-2,0.91559999999999997,"SU Tillmitsch","View(1)",null,{"$f":"IF(A224<>\"\",TEXT(A224,\"\"),\"\")","v":"INT CF"},{"$f":"IF(N224=\"\",\"\",CONCATENATE(IF(C224<>\"\",TEXT(C224,\"\"),\"\"),\" - \",IF(K224<>\"\",TEXT(K224,\"\"),\"\")))","v":"Weinland Gamlitz - SU Tillmitsch"},"http://www.data.nowgoal.vip/analysis/1664922.html",{"$f":"IF(D224<>\"\",D224,\"\")","v":1.07},{"$f":"IF(E224<>\"\",E224,\"\")","v":11},{"$f":"IF(F224<>\"\",F224,\"\")","v":15},{"$f":"IF(N224<>\"\",IF(D225<>\"\",D225,D224),\"\")","v":1.07},{"$f":"IF(N224<>\"\",IF(E225<>\"\",E225,E224),\"\")","v":11},{"$f":"IF(N224<>\"\",IF(F225<>\"\",F225,F224),\"\")","v":15},null,"ARG D1","Talleres Cordoba - Banfield","http://www.data.nowgoal.vip/analysis/1584661.html",2.02,2.99,3.93,2.09,2.93,3.83]
[null,null,null,null,null,null,null,null,null,null,null,null,null,null,null,"",null,null,null,null,null,null,null,"NZFC","Canterbury United - Auckland City","http://www.data.nowgoal.vip/analysis/1633366.html",10.8,5.33,1.2,10.73,5.34,1.2]
["CYP D2",null,"Ethnikos Achnas FC",1.6,3.54,4.8099999999999996,0.55969999999999998,0.25369999999999998,0.18659999999999999,0.89810000000000001,"Anagennisi FC Deryneia","View(24)",null,{"$f":"IF(A226<>\"\",TEXT(A226,\"\"),\"\")","v":"CYP D2"},{"$f":"IF(N226=\"\",\"\",CONCATENATE(IF(C226<>\"\",TEXT(C226,\"\"),\"\"),\" - \",IF(K226<>\"\",TEXT(K226,\"\"),\"\")))","v":"Ethnikos Achnas FC - Anagennisi FC Deryneia"},"http://www.data.nowgoal.vip/analysis/1620293.html",{"$f":"IF(D226<>\"\",D226,\"\")","v":1.6},{"$f":"IF(E226<>\"\",E226,\"\")","v":3.54},{"$f":"IF(F226<>\"\",F226,\"\")","v":4.8099999999999996},{"$f":"IF(N226<>\"\",IF(D227<>\"\",D227,D226),\"\")","v":1.61},{"$f":"IF(N226<>\"\",IF(E227<>\"\",E227,E226),\"\")","v":3.54},{"$f":"IF(N226<>\"\",IF(F227<>\"\",F227,F226),\"\")","v":4.79},null,"MEX D1","Monarcas Morelia - Atlas","http://www.data.nowgoal.vip/analysis/1651377.html",2.15,3.24,3.13,2.36,3.21,2.85]
[null,null,null,1.61,3.54,4.79,0.55859999999999999,0.25380000000000003,0.18770000000000001,0.89929999999999999,null,null,null,null,null,"",null,null,null,null,null,null,null,"ARG D2","Central Cordoba SDE - CA Platense","http://www.data.nowgoal.vip/analysis/1605420.html",1.99,3.03,3.63,2.0099999999999998,3.02,3.64]
["INT CF",null,"Sandnes Ulf",1.2,6.02,9.1999999999999993,0.75260000000000005,0.14949999999999999,9.7799999999999998E-2,0.90010000000000001,"Vidar","View(5)",null,{"$f":"IF(A228<>\"\",TEXT(A228,\"\"),\"\")","v":"INT CF"},{"$f":"IF(N228=\"\",\"\",CONCATENATE(IF(C228<>\"\",TEXT(C228,\"\"),\"\"),\" - \",IF(K228<>\"\",TEXT(K228,\"\"),\"\")))","v":"Sandnes Ulf - Vidar"},"http://www.data.nowgoal.vip/analysis/1664004.html",{"$f":"IF(D228<>\"\",D228,\"\")","v":1.2},{"$f":"IF(E228<>\"\",E228,\"\")","v":6.02},{"$f":"IF(F228<>\"\",F228,\"\")","v":9.1999999999999993},{"$f":"IF(N228<>\"\",IF(D229<>\"\",D229,D228),\"\")","v":1.2},{"$f":"IF(N228<>\"\",IF(E229<>\"\",E229,E228),\"\")","v":6.01},{"$f":"IF(N228<>\"\",IF(F229<>\"\",F229,F228),\"\")","v":9.1999999999999993},null,"MEX D1","Puebla - Necaxa","http://www.data.nowgoal.vip/analysis/1651378.html",2.44,3.04,2.81,2.44,3.08,2.83]
[null,null,null,1.2,6.01,9.1999999999999993,0.75239999999999996,0.1497,9.7799999999999998E-2,0.89990000000000003,null,null,null,null,null,"",null,null,null,null,null,null,null,"MEX D2","Leones Univ Guadalajara - Correcaminos UAT","http://www.data.nowgoal.vip/analysis/1652091.html",2,3.46,3.15,2,3.46,3.14]
["GER D2",null,"MSV Duisburg",2.23,3.17,3.14,0.41449999999999998,0.29149999999999998,0.29399999999999998,0.92259999999999998,"Darmstadt","View(186)",null,{"$f":"IF(A230<>\"\",TEXT(A230,\"\"),\"\")","v":"GER D2"},{"$f":"IF(N230=\"\",\"\",CONCATENATE(IF(C230<>\"\",TEXT(C230,\"\"),\"\"),\" - \",IF(K230<>\"\",TEXT(K230,\"\"),\"\")))","v":"MSV Duisburg - Darmstadt"},"http://www.data.nowgoal.vip/analysis/1562254.html",{"$f":"IF(D230<>\"\",D230,\"\")","v":2.23},{"$f":"IF(E230<>\"\",E230,\"\")","v":3.17},{"$f":"IF(F230<>\"\",F230,\"\")","v":3.14},{"$f":"IF(N230<>\"\",IF(D231<>\"\",D231,D230),\"\")","v":2.46},{"$f":"IF(N230<>\"\",IF(E231<>\"\",E231,E230),\"\")","v":3.17},{"$f":"IF(N230<>\"\",IF(F231<>\"\",F231,F230),\"\")","v":2.83},null,"MEX D2","Tampico Madero - FC Juarez","http://www.data.nowgoal.vip/analysis/1652092.html",2.25,3.05,2.98,2.3199999999999998,3.08,2.85]
[null,null,null,2.46,3.17,2.83,0.378,0.29349999999999998,0.32850000000000001,0.93100000000000005,null,null,null,null,null,"",null,null,null,null,null,null,null,"INT CF","Werribee City - Hume City","http://www.data.nowgoal.vip/analysis/1665069.html",2.75,4,2,2.75,4,2]
["GER D2",null,"Ingolstadt",2.0499999999999998,3.33,3.37,0.44919999999999999,0.27700000000000002,0.27379999999999999,0.92200000000000004,"Magdeburg","View(185)",null,{"$f":"IF(A232<>\"\",TEXT(A232,\"\"),\"\")","v":"GER D2"},{"$f":"IF(N232=\"\",\"\",CONCATENATE(IF(C232<>\"\",TEXT(C232,\"\"),\"\"),\" - \",IF(K232<>\"\",TEXT(K232,\"\"),\"\")))","v":"Ingolstadt - Magdeburg"},"http://www.data.nowgoal.vip/analysis/1562256.html",{"$f":"IF(D232<>\"\",D232,\"\")","v":2.0499999999999998},{"$f":"IF(E232<>\"\",E232,\"\")","v":3.33},{"$f":"IF(F232<>\"\",F232,\"\")","v":3.37},{"$f":"IF(N232<>\"\",IF(D233<>\"\",D233,D232),\"\")","v":2.04},{"$f":"IF(N232<>\"\",IF(E233<>\"\",E233,E232),\"\")","v":3.3},{"$f":"IF(N232<>\"\",IF(F233<>\"\",F233,F232),\"\")","v":3.56}]
[null,null,null,2.04,3.3,3.56,0.45669999999999999,0.28199999999999997,0.26129999999999998,0.93100000000000005,null,null,null,null,null,""]
["TUR D1",null,"Fenerbahce",1.71,3.59,4.6500000000000004,0.54259999999999997,0.25819999999999999,0.19919999999999999,0.92669999999999997,"Goztepe","View(181)",null,{"$f":"IF(A234<>\"\",TEXT(A234,\"\"),\"\")","v":"TUR D1"},{"$f":"IF(N234=\"\",\"\",CONCATENATE(IF(C234<>\"\",TEXT(C234,\"\"),\"\"),\" - \",IF(K234<>\"\",TEXT(K234,\"\"),\"\")))","v":"Fenerbahce - Goztepe"},"http://www.data.nowgoal.vip/analysis/1574526.html",{"$f":"IF(D234<>\"\",D234,\"\")","v":1.71},{"$f":"IF(E234<>\"\",E234,\"\")","v":3.59},{"$f":"IF(F234<>\"\",F234,\"\")","v":4.6500000000000004},{"$f":"IF(N234<>\"\",IF(D235<>\"\",D235,D234),\"\")","v":1.73},{"$f":"IF(N234<>\"\",IF(E235<>\"\",E235,E234),\"\")","v":3.75},{"$f":"IF(N234<>\"\",IF(F235<>\"\",F235,F234),\"\")","v":4.33}]
[null,null,null,1.73,3.75,4.33,0.53659999999999997,0.24840000000000001,0.215,0.93059999999999998,null,null,null,null,null,""]
["INT CF",null,"SJK Akatemia",1.65,4.12,3.83,0.54659999999999997,0.21859999999999999,0.23480000000000001,0.90010000000000001,"Jazz Pori","View(3)",null,{"$f":"IF(A236<>\"\",TEXT(A236,\"\"),\"\")","v":"INT CF"},{"$f":"IF(N236=\"\",\"\",CONCATENATE(IF(C236<>\"\",TEXT(C236,\"\"),\"\"),\" - \",IF(K236<>\"\",TEXT(K236,\"\"),\"\")))","v":"SJK Akatemia - Jazz Pori"},"http://www.data.nowgoal.vip/analysis/1664926.html",{"$f":"IF(D236<>\"\",D236,\"\")","v":1.65},{"$f":"IF(E236<>\"\",E236,\"\")","v":4.12},{"$f":"IF(F236<>\"\",F236,\"\")","v":3.83},{"$f":"IF(N236<>\"\",IF(D237<>\"\",D237,D236),\"\")","v":1.63},{"$f":"IF(N236<>\"\",IF(E237<>\"\",E237,E236),\"\")","v":4.07},{"$f":"IF(N236<>\"\",IF(F237<>\"\",F237,F236),\"\")","v":4.0199999999999996}]
[null,null,null,1.63,4.07,4.0199999999999996,0.55400000000000005,0.22159999999999999,0.22439999999999999,0.9012,null,null,null,null,null,""]
["INT CF",null,"SR Donaufeld Wien",5,4.5,1.44,0.17910000000000001,0.19900000000000001,0.62190000000000001,0.89549999999999996,"ASV Bruck","View(1)",null,{"$f":"IF(A238<>\"\",TEXT(A238,\"\"),\"\")","v":"INT CF"},{"$f":"IF(N238=\"\",\"\",CONCATENATE(IF(C238<>\"\",TEXT(C238,\"\"),\"\"),\" - \",IF(K238<>\"\",TEXT(K238,\"\"),\"\")))","v":"SR Donaufeld Wien - ASV Bruck"},"http://www.data.nowgoal.vip/analysis/1665065.html",{"$f":"IF(D238<>\"\",D238,\"\")","v":5},{"$f":"IF(E238<>\"\",E238,\"\")","v":4.5},{"$f":"IF(F238<>\"\",F238,\"\")","v":1.44},{"$f":"IF(N238<>\"\",IF(D239<>\"\",D239,D238),\"\")","v":7.5},{"$f":"IF(N238<>\"\",IF(E239<>\"\",E239,E238),\"\")","v":5},{"$f":"IF(N238<>\"\",IF(F239<>\"\",F239,F238),\"\")","v":1.28}]
[null,null,null,7.5,5,1.28,0.1196,0.1794,0.70089999999999997,0.89700000000000002,null,null,null,null,null,""]
["Estonia WT",null,"Viljandi Tulevik",1.86,3.71,3.3,0.48409999999999997,0.2427,0.2732,0.90039999999999998,"FC Kuressaare","View(11)",null,{"$f":"IF(A240<>\"\",TEXT(A240,\"\"),\"\")","v":"Estonia WT"},{"$f":"IF(N240=\"\",\"\",CONCATENATE(IF(C240<>\"\",TEXT(C240,\"\"),\"\"),\" - \",IF(K240<>\"\",TEXT(K240,\"\"),\"\")))","v":"Viljandi Tulevik - FC Kuressaare"},"http://www.data.nowgoal.vip/analysis/1654410.html",{"$f":"IF(D240<>\"\",D240,\"\")","v":1.86},{"$f":"IF(E240<>\"\",E240,\"\")","v":3.71},{"$f":"IF(F240<>\"\",F240,\"\")","v":3.3},{"$f":"IF(N240<>\"\",IF(D241<>\"\",D241,D240),\"\")","v":2.0099999999999998},{"$f":"IF(N240<>\"\",IF(E241<>\"\",E241,E240),\"\")","v":3.6},{"$f":"IF(N240<>\"\",IF(F241<>\"\",F241,F240),\"\")","v":2.96}]
[null,null,null,2.0099999999999998,3.6,2.96,0.4466,0.24979999999999999,0.30359999999999998,0.89929999999999999,null,null,null,null,null,""]
["INT CF",null,"SV Burgaltendorf 1913",2.62,4.33,2,0.34300000000000003,0.20760000000000001,0.44940000000000002,0.89870000000000005,"SF Niederwenigern","View(1)",null,{"$f":"IF(A242<>\"\",TEXT(A242,\"\"),\"\")","v":"INT CF"},{"$f":"IF(N242=\"\",\"\",CONCATENATE(IF(C242<>\"\",TEXT(C242,\"\"),\"\"),\" - \",IF(K242<>\"\",TEXT(K242,\"\"),\"\")))","v":"SV Burgaltendorf 1913 - SF Niederwenigern"},"http://www.data.nowgoal.vip/analysis/1665064.html",{"$f":"IF(D242<>\"\",D242,\"\")","v":2.62},{"$f":"IF(E242<>\"\",E242,\"\")","v":4.33},{"$f":"IF(F242<>\"\",F242,\"\")","v":2},{"$f":"IF(N242<>\"\",IF(D243<>\"\",D243,D242),\"\")","v":2.1},{"$f":"IF(N242<>\"\",IF(E243<>\"\",E243,E242),\"\")","v":4.2},{"$f":"IF(N242<>\"\",IF(F243<>\"\",F243,F242),\"\")","v":2.5}]
[null,null,null,2.1,4.2,2.5,0.4274,0.2137,0.35899999999999999,0.89749999999999996,null,null,null,null,null,""]
["GER D3",null,"Preuben Munster",2.29,3.23,2.9,0.39979999999999999,0.2838,0.31640000000000001,0.91600000000000004,"Kaiserslautern","View(116)",null,{"$f":"IF(A244<>\"\",TEXT(A244,\"\"),\"\")","v":"GER D3"},{"$f":"IF(N244=\"\",\"\",CONCATENATE(IF(C244<>\"\",TEXT(C244,\"\"),\"\"),\" - \",IF(K244<>\"\",TEXT(K244,\"\"),\"\")))","v":"Preuben Munster - Kaiserslautern"},"http://www.data.nowgoal.vip/analysis/1566421.html",{"$f":"IF(D244<>\"\",D244,\"\")","v":2.29},{"$f":"IF(E244<>\"\",E244,\"\")","v":3.23},{"$f":"IF(F244<>\"\",F244,\"\")","v":2.9},{"$f":"IF(N244<>\"\",IF(D245<>\"\",D245,D244),\"\")","v":2.57},{"$f":"IF(N244<>\"\",IF(E245<>\"\",E245,E244),\"\")","v":3.22},{"$f":"IF(N244<>\"\",IF(F245<>\"\",F245,F244),\"\")","v":2.59}]
[null,null,null,2.57,3.22,2.59,0.35759999999999997,0.2863,0.35599999999999998,0.92079999999999995,null,null,null,null,null,""]
["ROM D1",null,"Gaz Metan Medias",2.35,2.94,3.03,0.38819999999999999,0.31019999999999998,0.30159999999999998,0.91290000000000004,"FC Astra Giurgiu","View(173)",null,{"$f":"IF(A246<>\"\",TEXT(A246,\"\"),\"\")","v":"ROM D1"},{"$f":"IF(N246=\"\",\"\",CONCATENATE(IF(C246<>\"\",TEXT(C246,\"\"),\"\"),\" - \",IF(K246<>\"\",TEXT(K246,\"\"),\"\")))","v":"Gaz Metan Medias - FC Astra Giurgiu"},"http://www.data.nowgoal.vip/analysis/1567429.html",{"$f":"IF(D246<>\"\",D246,\"\")","v":2.35},{"$f":"IF(E246<>\"\",E246,\"\")","v":2.94},{"$f":"IF(F246<>\"\",F246,\"\")","v":3.03},{"$f":"IF(N246<>\"\",IF(D247<>\"\",D247,D246),\"\")","v":2.5099999999999998},{"$f":"IF(N246<>\"\",IF(E247<>\"\",E247,E246),\"\")","v":2.87},{"$f":"IF(N246<>\"\",IF(F247<>\"\",F247,F246),\"\")","v":2.92}]
[null,null,null,2.5099999999999998,2.87,2.92,0.36549999999999999,0.32029999999999997,0.31419999999999998,0.91810000000000003,null,null,null,null,null,""]
["SAPL D1",null,"Bidvest Wits",1.44,3.74,7.26,0.63119999999999998,0.24329999999999999,0.1255,0.91080000000000005,"Maritzburg United","View(97)",null,{"$f":"IF(A248<>\"\",TEXT(A248,\"\"),\"\")","v":"SAPL D1"},{"$f":"IF(N248=\"\",\"\",CONCATENATE(IF(C248<>\"\",TEXT(C248,\"\"),\"\"),\" - \",IF(K248<>\"\",TEXT(K248,\"\"),\"\")))","v":"Bidvest Wits - Maritzburg United"},"http://www.data.nowgoal.vip/analysis/1588505.html",{"$f":"IF(D248<>\"\",D248,\"\")","v":1.44},{"$f":"IF(E248<>\"\",E248,\"\")","v":3.74},{"$f":"IF(F248<>\"\",F248,\"\")","v":7.26},{"$f":"IF(N248<>\"\",IF(D249<>\"\",D249,D248),\"\")","v":1.44},{"$f":"IF(N248<>\"\",IF(E249<>\"\",E249,E248),\"\")","v":3.79},{"$f":"IF(N248<>\"\",IF(F249<>\"\",F249,F248),\"\")","v":7.25}]
[null,null,null,1.44,3.79,7.25,0.6331,0.24099999999999999,0.12590000000000001,0.9123,null,null,null,null,null,""]
["MAL D1",null,"Balzan FC(N)",1.34,4.1399999999999997,7.7,0.66720000000000002,0.2165,0.1163,0.89539999999999997,"Senglea Athletic","View(83)",null,{"$f":"IF(A250<>\"\",TEXT(A250,\"\"),\"\")","v":"MAL D1"},{"$f":"IF(N250=\"\",\"\",CONCATENATE(IF(C250<>\"\",TEXT(C250,\"\"),\"\"),\" - \",IF(K250<>\"\",TEXT(K250,\"\"),\"\")))","v":"Balzan FC(N) - Senglea Athletic"},"http://www.data.nowgoal.vip/analysis/1587629.html",{"$f":"IF(D250<>\"\",D250,\"\")","v":1.34},{"$f":"IF(E250<>\"\",E250,\"\")","v":4.1399999999999997},{"$f":"IF(F250<>\"\",F250,\"\")","v":7.7},{"$f":"IF(N250<>\"\",IF(D251<>\"\",D251,D250),\"\")","v":1.32},{"$f":"IF(N250<>\"\",IF(E251<>\"\",E251,E250),\"\")","v":4.51},{"$f":"IF(N250<>\"\",IF(F251<>\"\",F251,F250),\"\")","v":7.38}]
[null,null,null,1.32,4.51,7.38,0.68030000000000002,0.19839999999999999,0.1212,0.89500000000000002,null,null,null,null,null,""]
["INT CF",null,"SF Baumberg",2.2200000000000002,3.78,2.5499999999999998,0.4073,0.23860000000000001,0.35410000000000003,0.90280000000000005,"FC Kaan-Marienborn","View(3)",null,{"$f":"IF(A252<>\"\",TEXT(A252,\"\"),\"\")","v":"INT CF"},{"$f":"IF(N252=\"\",\"\",CONCATENATE(IF(C252<>\"\",TEXT(C252,\"\"),\"\"),\" - \",IF(K252<>\"\",TEXT(K252,\"\"),\"\")))","v":"SF Baumberg - FC Kaan-Marienborn"},"http://www.data.nowgoal.vip/analysis/1664930.html",{"$f":"IF(D252<>\"\",D252,\"\")","v":2.2200000000000002},{"$f":"IF(E252<>\"\",E252,\"\")","v":3.78},{"$f":"IF(F252<>\"\",F252,\"\")","v":2.5499999999999998},{"$f":"IF(N252<>\"\",IF(D253<>\"\",D253,D252),\"\")","v":2.2200000000000002},{"$f":"IF(N252<>\"\",IF(E253<>\"\",E253,E252),\"\")","v":3.78},{"$f":"IF(N252<>\"\",IF(F253<>\"\",F253,F252),\"\")","v":2.5499999999999998}]
[null,null,null,null,null,null,null,null,null,null,null,null,null,null,null,""]
["INT CF",null,"KSV Ankerbrot",1.4,4.5,5.5,0.63870000000000005,0.19869999999999999,0.16259999999999999,0.89419999999999999,"Leopoldsdorf","View(1)",null,{"$f":"IF(A254<>\"\",TEXT(A254,\"\"),\"\")","v":"INT CF"},{"$f":"IF(N254=\"\",\"\",CONCATENATE(IF(C254<>\"\",TEXT(C254,\"\"),\"\"),\" - \",IF(K254<>\"\",TEXT(K254,\"\"),\"\")))","v":"KSV Ankerbrot - Leopoldsdorf"},"http://www.data.nowgoal.vip/analysis/1664942.html",{"$f":"IF(D254<>\"\",D254,\"\")","v":1.4},{"$f":"IF(E254<>\"\",E254,\"\")","v":4.5},{"$f":"IF(F254<>\"\",F254,\"\")","v":5.5},{"$f":"IF(N254<>\"\",IF(D255<>\"\",D255,D254),\"\")","v":6},{"$f":"IF(N254<>\"\",IF(E255<>\"\",E255,E254),\"\")","v":4.2},{"$f":"IF(N254<>\"\",IF(F255<>\"\",F255,F254),\"\")","v":1.44}]
[null,null,null,6,4.2,1.44,0.15160000000000001,0.21659999999999999,0.63180000000000003,0.90959999999999996,null,null,null,null,null,""]
["INT CF",null,"SG Austria Klagenfurt",1.29,5.6,6.54,0.70089999999999997,0.16109999999999999,0.13800000000000001,0.9022,"SC Kalsdorf","View(14)",null,{"$f":"IF(A256<>\"\",TEXT(A256,\"\"),\"\")","v":"INT CF"},{"$f":"IF(N256=\"\",\"\",CONCATENATE(IF(C256<>\"\",TEXT(C256,\"\"),\"\"),\" - \",IF(K256<>\"\",TEXT(K256,\"\"),\"\")))","v":"SG Austria Klagenfurt - SC Kalsdorf"},"http://www.data.nowgoal.vip/analysis/1664005.html",{"$f":"IF(D256<>\"\",D256,\"\")","v":1.29},{"$f":"IF(E256<>\"\",E256,\"\")","v":5.6},{"$f":"IF(F256<>\"\",F256,\"\")","v":6.54},{"$f":"IF(N256<>\"\",IF(D257<>\"\",D257,D256),\"\")","v":1.29},{"$f":"IF(N256<>\"\",IF(E257<>\"\",E257,E256),\"\")","v":5.6},{"$f":"IF(N256<>\"\",IF(F257<>\"\",F257,F256),\"\")","v":6.53}]
[null,null,null,1.29,5.6,6.53,0.70079999999999998,0.16120000000000001,0.1381,0.90200000000000002,null,null,null,null,null,""]
["INT CF",null,"Oster",2.2000000000000002,3.51,2.71,0.41010000000000002,0.25700000000000001,0.33289999999999997,0.9022,"Jonkopings Sodra","View(5)",null,{"$f":"IF(A258<>\"\",TEXT(A258,\"\"),\"\")","v":"INT CF"},{"$f":"IF(N258=\"\",\"\",CONCATENATE(IF(C258<>\"\",TEXT(C258,\"\"),\"\"),\" - \",IF(K258<>\"\",TEXT(K258,\"\"),\"\")))","v":"Oster - Jonkopings Sodra"},"http://www.data.nowgoal.vip/analysis/1664006.html",{"$f":"IF(D258<>\"\",D258,\"\")","v":2.2000000000000002},{"$f":"IF(E258<>\"\",E258,\"\")","v":3.51},{"$f":"IF(F258<>\"\",F258,\"\")","v":2.71},{"$f":"IF(N258<>\"\",IF(D259<>\"\",D259,D258),\"\")","v":2.2799999999999998},{"$f":"IF(N258<>\"\",IF(E259<>\"\",E259,E258),\"\")","v":3.51},{"$f":"IF(N258<>\"\",IF(F259<>\"\",F259,F258),\"\")","v":2.6}]
[null,null,null,2.2799999999999998,3.51,2.6,0.39579999999999999,0.2571,0.34710000000000002,0.90239999999999998,null,null,null,null,null,{"$f":"SUBSTITUTE(SUBSTITUTE(SUBSTITUTE(SUBSTITUTE(IF(L259<>\"\",HLink(L259),\"\"),\"htm\",\"html\"),\"1x2\",\"analysis\"),\"www\",\"www.data\"),\"com\",\"vip\")","v":""}]
["INT CF",null,"Kapfenberg",1.39,8.67,4.8499999999999996,0.69069999999999998,0.111,0.1983,0.96240000000000003,"SC Weiz","View(3)",null,{"$f":"IF(A260<>\"\",TEXT(A260,\"\"),\"\")","v":"INT CF"},{"$f":"IF(N260=\"\",\"\",CONCATENATE(IF(C260<>\"\",TEXT(C260,\"\"),\"\"),\" - \",IF(K260<>\"\",TEXT(K260,\"\"),\"\")))","v":"Kapfenberg - SC Weiz"},"http://www.data.nowgoal.vip/analysis/1664007.html",{"$f":"IF(D260<>\"\",D260,\"\")","v":1.39},{"$f":"IF(E260<>\"\",E260,\"\")","v":8.67},{"$f":"IF(F260<>\"\",F260,\"\")","v":4.8499999999999996},{"$f":"IF(N260<>\"\",IF(D261<>\"\",D261,D260),\"\")","v":1.39},{"$f":"IF(N260<>\"\",IF(E261<>\"\",E261,E260),\"\")","v":8.67},{"$f":"IF(N260<>\"\",IF(F261<>\"\",F261,F260),\"\")","v":4.8499999999999996}]
[null,null,null,null,null,null,null,null,null,null,null,null,null,null,null,""]
["MEX U20",null,"Puebla U20",2.5,3.19,2.5099999999999998,0.35949999999999999,0.28170000000000001,0.35880000000000001,0.89890000000000003,"Necaxa U20","View(35)",null,{"$f":"IF(A262<>\"\",TEXT(A262,\"\"),\"\")","v":"MEX U20"},{"$f":"IF(N262=\"\",\"\",CONCATENATE(IF(C262<>\"\",TEXT(C262,\"\"),\"\"),\" - \",IF(K262<>\"\",TEXT(K262,\"\"),\"\")))","v":"Puebla U20 - Necaxa U20"},"http://www.data.nowgoal.vip/analysis/1664888.html",{"$f":"IF(D262<>\"\",D262,\"\")","v":2.5},{"$f":"IF(E262<>\"\",E262,\"\")","v":3.19},{"$f":"IF(F262<>\"\",F262,\"\")","v":2.5099999999999998},{"$f":"IF(N262<>\"\",IF(D263<>\"\",D263,D262),\"\")","v":2.5},{"$f":"IF(N262<>\"\",IF(E263<>\"\",E263,E262),\"\")","v":3.2},{"$f":"IF(N262<>\"\",IF(F263<>\"\",F263,F262),\"\")","v":2.5099999999999998}]
[null,null,null,2.5,3.2,2.5099999999999998,0.36,0.28149999999999997,0.35859999999999997,0.89959999999999996,null,null,null,null,null,""]
["MAL D2",null,"Sirens(N)",1.5,3.98,4.9800000000000004,0.59609999999999996,0.22450000000000001,0.1794,0.89419999999999999,"Lija Athletic","View(3)",null,{"$f":"IF(A264<>\"\",TEXT(A264,\"\"),\"\")","v":"MAL D2"},{"$f":"IF(N264=\"\",\"\",CONCATENATE(IF(C264<>\"\",TEXT(C264,\"\"),\"\"),\" - \",IF(K264<>\"\",TEXT(K264,\"\"),\"\")))","v":"Sirens(N) - Lija Athletic"},"http://www.data.nowgoal.vip/analysis/1619014.html",{"$f":"IF(D264<>\"\",D264,\"\")","v":1.5},{"$f":"IF(E264<>\"\",E264,\"\")","v":3.98},{"$f":"IF(F264<>\"\",F264,\"\")","v":4.9800000000000004},{"$f":"IF(N264<>\"\",IF(D265<>\"\",D265,D264),\"\")","v":1.45},{"$f":"IF(N264<>\"\",IF(E265<>\"\",E265,E264),\"\")","v":4.07},{"$f":"IF(N264<>\"\",IF(F265<>\"\",F265,F264),\"\")","v":5.42}]
[null,null,null,1.45,4.07,5.42,0.61619999999999997,0.21920000000000001,0.1646,0.89139999999999997,null,null,null,null,null,""]
["MAL D2",null,"Zebbug Rangers(N)",3.5,3.6,1.8,0.25530000000000003,0.2482,0.4965,0.89359999999999995,"Gudja United","View(3)",null,{"$f":"IF(A266<>\"\",TEXT(A266,\"\"),\"\")","v":"MAL D2"},{"$f":"IF(N266=\"\",\"\",CONCATENATE(IF(C266<>\"\",TEXT(C266,\"\"),\"\"),\" - \",IF(K266<>\"\",TEXT(K266,\"\"),\"\")))","v":"Zebbug Rangers(N) - Gudja United"},"http://www.data.nowgoal.vip/analysis/1619015.html",{"$f":"IF(D266<>\"\",D266,\"\")","v":3.5},{"$f":"IF(E266<>\"\",E266,\"\")","v":3.6},{"$f":"IF(F266<>\"\",F266,\"\")","v":1.8},{"$f":"IF(N266<>\"\",IF(D267<>\"\",D267,D266),\"\")","v":4.3499999999999996},{"$f":"IF(N266<>\"\",IF(E267<>\"\",E267,E266),\"\")","v":3.73},{"$f":"IF(N266<>\"\",IF(F267<>\"\",F267,F266),\"\")","v":1.62}]
[null,null,null,4.3499999999999996,3.73,1.62,0.20619999999999999,0.2402,0.55359999999999998,0.89700000000000002,null,null,null,null,null,""]
["FIN CUP",null,"TPS Turku(N)",1.51,4.13,5.51,0.60929999999999995,0.22339999999999999,0.1673,0.92259999999999998,"Ekenas IF Fotboll","View(43)",null,{"$f":"IF(A268<>\"\",TEXT(A268,\"\"),\"\")","v":"FIN CUP"},{"$f":"IF(N268=\"\",\"\",CONCATENATE(IF(C268<>\"\",TEXT(C268,\"\"),\"\"),\" - \",IF(K268<>\"\",TEXT(K268,\"\"),\"\")))","v":"TPS Turku(N) - Ekenas IF Fotboll"},"http://www.data.nowgoal.vip/analysis/1657559.html",{"$f":"IF(D268<>\"\",D268,\"\")","v":1.51},{"$f":"IF(E268<>\"\",E268,\"\")","v":4.13},{"$f":"IF(F268<>\"\",F268,\"\")","v":5.51},{"$f":"IF(N268<>\"\",IF(D269<>\"\",D269,D268),\"\")","v":1.47},{"$f":"IF(N268<>\"\",IF(E269<>\"\",E269,E268),\"\")","v":4.21},{"$f":"IF(N268<>\"\",IF(F269<>\"\",F269,F268),\"\")","v":5.87}]
[null,null,null,1.47,4.21,5.87,0.62519999999999998,0.21820000000000001,0.1565,0.91820000000000002,null,null,null,null,null,""]
["ICE PSC",null,"HK Kopavogs",2.25,4.5,2.25,0.4,0.2,0.4,0.9,"Akranes","View(1)",null,{"$f":"IF(A270<>\"\",TEXT(A270,\"\"),\"\")","v":"ICE PSC"},{"$f":"IF(N270=\"\",\"\",CONCATENATE(IF(C270<>\"\",TEXT(C270,\"\"),\"\"),\" - \",IF(K270<>\"\",TEXT(K270,\"\"),\"\")))","v":"HK Kopavogs - Akranes"},"http://www.data.nowgoal.vip/analysis/1665063.html",{"$f":"IF(D270<>\"\",D270,\"\")","v":2.25},{"$f":"IF(E270<>\"\",E270,\"\")","v":4.5},{"$f":"IF(F270<>\"\",F270,\"\")","v":2.25},{"$f":"IF(N270<>\"\",IF(D271<>\"\",D271,D270),\"\")","v":2.25},{"$f":"IF(N270<>\"\",IF(E271<>\"\",E271,E270),\"\")","v":4.5},{"$f":"IF(N270<>\"\",IF(F271<>\"\",F271,F270),\"\")","v":2.25}]
[null,null,null,null,null,null,null,null,null,null,null,null,null,null,null,""]
["HOL WD1",null,"RKSV Achilles 29 (w)",18.54,11.35,1.04,4.9000000000000002E-2,7.9899999999999999E-2,0.87109999999999999,0.90849999999999997,"Ajax Amsterdam (w)","View(48)",null,{"$f":"IF(A272<>\"\",TEXT(A272,\"\"),\"\")","v":"HOL WD1"},{"$f":"IF(N272=\"\",\"\",CONCATENATE(IF(C272<>\"\",TEXT(C272,\"\"),\"\"),\" - \",IF(K272<>\"\",TEXT(K272,\"\"),\"\")))","v":"RKSV Achilles 29 (w) - Ajax Amsterdam (w)"},"http://www.data.nowgoal.vip/analysis/1616168.html",{"$f":"IF(D272<>\"\",D272,\"\")","v":18.54},{"$f":"IF(E272<>\"\",E272,\"\")","v":11.35},{"$f":"IF(F272<>\"\",F272,\"\")","v":1.04},{"$f":"IF(N272<>\"\",IF(D273<>\"\",D273,D272),\"\")","v":20.61},{"$f":"IF(N272<>\"\",IF(E273<>\"\",E273,E272),\"\")","v":12.17},{"$f":"IF(N272<>\"\",IF(F273<>\"\",F273,F272),\"\")","v":1.03}]
[null,null,null,20.61,12.17,1.03,4.41E-2,7.4700000000000003E-2,0.88119999999999998,0.90880000000000005,null,null,null,null,null,""]
["HOL WD1",null,"ADO Den Haag (w)",1.67,4.24,3.62,0.53949999999999998,0.21199999999999999,0.2485,0.89970000000000006,"SC Heerenveen (w)","View(63)",null,{"$f":"IF(A274<>\"\",TEXT(A274,\"\"),\"\")","v":"HOL WD1"},{"$f":"IF(N274=\"\",\"\",CONCATENATE(IF(C274<>\"\",TEXT(C274,\"\"),\"\"),\" - \",IF(K274<>\"\",TEXT(K274,\"\"),\"\")))","v":"ADO Den Haag (w) - SC Heerenveen (w)"},"http://www.data.nowgoal.vip/analysis/1616169.html",{"$f":"IF(D274<>\"\",D274,\"\")","v":1.67},{"$f":"IF(E274<>\"\",E274,\"\")","v":4.24},{"$f":"IF(F274<>\"\",F274,\"\")","v":3.62},{"$f":"IF(N274<>\"\",IF(D275<>\"\",D275,D274),\"\")","v":1.67},{"$f":"IF(N274<>\"\",IF(E275<>\"\",E275,E274),\"\")","v":4.25},{"$f":"IF(N274<>\"\",IF(F275<>\"\",F275,F274),\"\")","v":3.64}]
[null,null,null,1.67,4.25,3.64,0.54010000000000002,0.2122,0.2477,0.90210000000000001,null,null,null,null,null,""]
["HOL WD1",null,"Excelsior Barendrecht (w)",4.2300000000000004,4.5,1.54,0.21329999999999999,0.2001,0.58660000000000001,0.90129999999999999,"VV Alkmaar (w)","View(48)",null,{"$f":"IF(A276<>\"\",TEXT(A276,\"\"),\"\")","v":"HOL WD1"},{"$f":"IF(N276=\"\",\"\",CONCATENATE(IF(C276<>\"\",TEXT(C276,\"\"),\"\"),\" - \",IF(K276<>\"\",TEXT(K276,\"\"),\"\")))","v":"Excelsior Barendrecht (w) - VV Alkmaar (w)"},"http://www.data.nowgoal.vip/analysis/1616170.html",{"$f":"IF(D276<>\"\",D276,\"\")","v":4.2300000000000004},{"$f":"IF(E276<>\"\",E276,\"\")","v":4.5},{"$f":"IF(F276<>\"\",F276,\"\")","v":1.54},{"$f":"IF(N276<>\"\",IF(D277<>\"\",D277,D276),\"\")","v":4.24},{"$f":"IF(N276<>\"\",IF(E277<>\"\",E277,E276),\"\")","v":4.51},{"$f":"IF(N276<>\"\",IF(F277<>\"\",F277,F276),\"\")","v":1.54}]
[null,null,null,4.24,4.51,1.54,0.21290000000000001,0.20019999999999999,0.58689999999999998,0.90290000000000004,null,null,null,null,null,""]
["HOL WD1",null,"PSV Eindhoven (w)",1.19,6.33,9.11,0.75819999999999999,0.14269999999999999,9.9199999999999997E-2,0.90369999999999995,"Zwolle (w)","View(46)",null,{"$f":"IF(A278<>\"\",TEXT(A278,\"\"),\"\")","v":"HOL WD1"},{"$f":"IF(N278=\"\",\"\",CONCATENATE(IF(C278<>\"\",TEXT(C278,\"\"),\"\"),\" - \",IF(K278<>\"\",TEXT(K278,\"\"),\"\")))","v":"PSV Eindhoven (w) - Zwolle (w)"},"http://www.data.nowgoal.vip/analysis/1616171.html",{"$f":"IF(D278<>\"\",D278,\"\")","v":1.19},{"$f":"IF(E278<>\"\",E278,\"\")","v":6.33},{"$f":"IF(F278<>\"\",F278,\"\")","v":9.11},{"$f":"IF(N278<>\"\",IF(D279<>\"\",D279,D278),\"\")","v":1.1299999999999999},{"$f":"IF(N278<>\"\",IF(E279<>\"\",E279,E278),\"\")","v":7.68},{"$f":"IF(N278<>\"\",IF(F279<>\"\",F279,F278),\"\")","v":10.97}]
[null,null,null,1.1299999999999999,7.68,10.97,0.79959999999999998,0.1179,8.2500000000000004E-2,0.90510000000000002,null,null,null,null,null,""]
["INT CF",null,"Simmeringer SC",1.53,4.08,4.8499999999999996,0.59219999999999995,0.22159999999999999,0.1862,0.90310000000000001,"SV Wimpassing","View(2)",null,{"$f":"IF(A280<>\"\",TEXT(A280,\"\"),\"\")","v":"INT CF"},{"$f":"IF(N280=\"\",\"\",CONCATENATE(IF(C280<>\"\",TEXT(C280,\"\"),\"\"),\" - \",IF(K280<>\"\",TEXT(K280,\"\"),\"\")))","v":"Simmeringer SC - SV Wimpassing"},"http://www.data.nowgoal.vip/analysis/1664941.html",{"$f":"IF(D280<>\"\",D280,\"\")","v":1.53},{"$f":"IF(E280<>\"\",E280,\"\")","v":4.08},{"$f":"IF(F280<>\"\",F280,\"\")","v":4.8499999999999996},{"$f":"IF(N280<>\"\",IF(D281<>\"\",D281,D280),\"\")","v":1.4},{"$f":"IF(N280<>\"\",IF(E281<>\"\",E281,E280),\"\")","v":4.3899999999999997},{"$f":"IF(N280<>\"\",IF(F281<>\"\",F281,F280),\"\")","v":6}]
[null,null,null,1.4,4.3899999999999997,6,0.64419999999999999,0.2054,0.15029999999999999,0.90190000000000003,null,null,null,null,null,""]
["FRA D2",null,"Metz",1.68,3.36,5.26,0.54879999999999995,0.27529999999999999,0.1759,0.92449999999999999,"Troyes","View(184)",null,{"$f":"IF(A282<>\"\",TEXT(A282,\"\"),\"\")","v":"FRA D2"},{"$f":"IF(N282=\"\",\"\",CONCATENATE(IF(C282<>\"\",TEXT(C282,\"\"),\"\"),\" - \",IF(K282<>\"\",TEXT(K282,\"\"),\"\")))","v":"Metz - Troyes"},"http://www.data.nowgoal.vip/analysis/1554029.html",{"$f":"IF(D282<>\"\",D282,\"\")","v":1.68},{"$f":"IF(E282<>\"\",E282,\"\")","v":3.36},{"$f":"IF(F282<>\"\",F282,\"\")","v":5.26},{"$f":"IF(N282<>\"\",IF(D283<>\"\",D283,D282),\"\")","v":1.62},{"$f":"IF(N282<>\"\",IF(E283<>\"\",E283,E282),\"\")","v":3.47},{"$f":"IF(N282<>\"\",IF(F283<>\"\",F283,F282),\"\")","v":5.9}]
[null,null,null,1.62,3.47,5.9,0.57469999999999999,0.26790000000000003,0.1575,0.92879999999999996,null,null,null,null,null,""]
["FRA D2",null,"Chamois Niortais",2.0299999999999998,3.04,3.87,0.45619999999999999,0.30480000000000002,0.23910000000000001,0.92610000000000003,"Nancy","View(181)",null,{"$f":"IF(A284<>\"\",TEXT(A284,\"\"),\"\")","v":"FRA D2"},{"$f":"IF(N284=\"\",\"\",CONCATENATE(IF(C284<>\"\",TEXT(C284,\"\"),\"\"),\" - \",IF(K284<>\"\",TEXT(K284,\"\"),\"\")))","v":"Chamois Niortais - Nancy"},"http://www.data.nowgoal.vip/analysis/1554030.html",{"$f":"IF(D284<>\"\",D284,\"\")","v":2.0299999999999998},{"$f":"IF(E284<>\"\",E284,\"\")","v":3.04},{"$f":"IF(F284<>\"\",F284,\"\")","v":3.87},{"$f":"IF(N284<>\"\",IF(D285<>\"\",D285,D284),\"\")","v":2.13},{"$f":"IF(N284<>\"\",IF(E285<>\"\",E285,E284),\"\")","v":3.01},{"$f":"IF(N284<>\"\",IF(F285<>\"\",F285,F284),\"\")","v":3.62}]
[null,null,null,2.13,3.01,3.62,0.43509999999999999,0.30830000000000002,0.25659999999999999,0.92879999999999996,null,null,null,null,null,""]
["FRA D2",null,"Lorient",1.68,3.35,5.41,0.55210000000000004,0.2767,0.17119999999999999,0.92589999999999995,"Ajaccio","View(185)",null,{"$f":"IF(A286<>\"\",TEXT(A286,\"\"),\"\")","v":"FRA D2"},{"$f":"IF(N286=\"\",\"\",CONCATENATE(IF(C286<>\"\",TEXT(C286,\"\"),\"\"),\" - \",IF(K286<>\"\",TEXT(K286,\"\"),\"\")))","v":"Lorient - Ajaccio"},"http://www.data.nowgoal.vip/analysis/1554031.html",{"$f":"IF(D286<>\"\",D286,\"\")","v":1.68},{"$f":"IF(E286<>\"\",E286,\"\")","v":3.35},{"$f":"IF(F286<>\"\",F286,\"\")","v":5.41},{"$f":"IF(N286<>\"\",IF(D287<>\"\",D287,D286),\"\")","v":1.72},{"$f":"IF(N286<>\"\",IF(E287<>\"\",E287,E286),\"\")","v":3.25},{"$f":"IF(N286<>\"\",IF(F287<>\"\",F287,F286),\"\")","v":5.27}]
[null,null,null,1.72,3.25,5.27,0.53820000000000001,0.28570000000000001,0.17610000000000001,0.92820000000000003,null,null,null,null,null,""]
["FRA D2",null,"Sochaux",3.51,3.02,2.15,0.2636,0.30620000000000003,0.43020000000000003,0.92630000000000001,"Clermont","View(185)",null,{"$f":"IF(A288<>\"\",TEXT(A288,\"\"),\"\")","v":"FRA D2"},{"$f":"IF(N288=\"\",\"\",CONCATENATE(IF(C288<>\"\",TEXT(C288,\"\"),\"\"),\" - \",IF(K288<>\"\",TEXT(K288,\"\"),\"\")))","v":"Sochaux - Clermont"},"http://www.data.nowgoal.vip/analysis/1554032.html",{"$f":"IF(D288<>\"\",D288,\"\")","v":3.51},{"$f":"IF(E288<>\"\",E288,\"\")","v":3.02},{"$f":"IF(F288<>\"\",F288,\"\")","v":2.15},{"$f":"IF(N288<>\"\",IF(D289<>\"\",D289,D288),\"\")","v":3.84},{"$f":"IF(N288<>\"\",IF(E289<>\"\",E289,E288),\"\")","v":3.07},{"$f":"IF(N288<>\"\",IF(F289<>\"\",F289,F288),\"\")","v":2.04}]
[null,null,null,3.84,3.07,2.04,0.2419,0.3029,0.45519999999999999,0.92930000000000001,null,null,null,null,null,""]
["FRA D2",null,"Le Havre",2.39,2.96,3.08,0.38669999999999999,0.31259999999999999,0.30070000000000002,0.92549999999999999,"Stade Brestois","View(185)",null,{"$f":"IF(A290<>\"\",TEXT(A290,\"\"),\"\")","v":"FRA D2"},{"$f":"IF(N290=\"\",\"\",CONCATENATE(IF(C290<>\"\",TEXT(C290,\"\"),\"\"),\" - \",IF(K290<>\"\",TEXT(K290,\"\"),\"\")))","v":"Le Havre - Stade Brestois"},"http://www.data.nowgoal.vip/analysis/1554034.html",{"$f":"IF(D290<>\"\",D290,\"\")","v":2.39},{"$f":"IF(E290<>\"\",E290,\"\")","v":2.96},{"$f":"IF(F290<>\"\",F290,\"\")","v":3.08},{"$f":"IF(N290<>\"\",IF(D291<>\"\",D291,D290),\"\")","v":2.5299999999999998},{"$f":"IF(N290<>\"\",IF(E291<>\"\",E291,E290),\"\")","v":2.96},{"$f":"IF(N290<>\"\",IF(F291<>\"\",F291,F290),\"\")","v":2.9}]
[null,null,null,2.5299999999999998,2.96,2.9,0.36630000000000001,0.31380000000000002,0.31990000000000002,0.92810000000000004,null,null,null,null,null,""]
["FRA D2",null,"Ajaccio Gfco",2.1,3.04,3.61,0.43990000000000001,0.3039,0.25619999999999998,0.9254,"Valenciennes","View(184)",null,{"$f":"IF(A292<>\"\",TEXT(A292,\"\"),\"\")","v":"FRA D2"},{"$f":"IF(N292=\"\",\"\",CONCATENATE(IF(C292<>\"\",TEXT(C292,\"\"),\"\"),\" - \",IF(K292<>\"\",TEXT(K292,\"\"),\"\")))","v":"Ajaccio Gfco - Valenciennes"},"http://www.data.nowgoal.vip/analysis/1554035.html",{"$f":"IF(D292<>\"\",D292,\"\")","v":2.1},{"$f":"IF(E292<>\"\",E292,\"\")","v":3.04},{"$f":"IF(F292<>\"\",F292,\"\")","v":3.61},{"$f":"IF(N292<>\"\",IF(D293<>\"\",D293,D292),\"\")","v":2.1800000000000002},{"$f":"IF(N292<>\"\",IF(E293<>\"\",E293,E292),\"\")","v":3.1},{"$f":"IF(N292<>\"\",IF(F293<>\"\",F293,F292),\"\")","v":3.35}]
[null,null,null,2.1800000000000002,3.1,3.35,0.42499999999999999,0.2989,0.2762,0.92659999999999998,null,null,null,null,null,""]
["FRA D2",null,"Paris FC",1.87,3.01,4.66,0.49390000000000001,0.30769999999999997,0.19839999999999999,0.92520000000000002,"Orleans US 45","View(184)",null,{"$f":"IF(A294<>\"\",TEXT(A294,\"\"),\"\")","v":"FRA D2"},{"$f":"IF(N294=\"\",\"\",CONCATENATE(IF(C294<>\"\",TEXT(C294,\"\"),\"\"),\" - \",IF(K294<>\"\",TEXT(K294,\"\"),\"\")))","v":"Paris FC - Orleans US 45"},"http://www.data.nowgoal.vip/analysis/1554036.html",{"$f":"IF(D294<>\"\",D294,\"\")","v":1.87},{"$f":"IF(E294<>\"\",E294,\"\")","v":3.01},{"$f":"IF(F294<>\"\",F294,\"\")","v":4.66},{"$f":"IF(N294<>\"\",IF(D295<>\"\",D295,D294),\"\")","v":1.86},{"$f":"IF(N294<>\"\",IF(E295<>\"\",E295,E294),\"\")","v":3},{"$f":"IF(N294<>\"\",IF(F295<>\"\",F295,F294),\"\")","v":4.8499999999999996}]
[null,null,null,1.86,3,4.8499999999999996,0.49869999999999998,0.30990000000000001,0.19139999999999999,0.92830000000000001,null,null,null,null,null,""]
["FRA D2",null,"AJ Auxerre",1.57,3.59,6.07,0.59019999999999995,0.25740000000000002,0.15240000000000001,0.92520000000000002,"Red Star FC 93","View(185)",null,{"$f":"IF(A296<>\"\",TEXT(A296,\"\"),\"\")","v":"FRA D2"},{"$f":"IF(N296=\"\",\"\",CONCATENATE(IF(C296<>\"\",TEXT(C296,\"\"),\"\"),\" - \",IF(K296<>\"\",TEXT(K296,\"\"),\"\")))","v":"AJ Auxerre - Red Star FC 93"},"http://www.data.nowgoal.vip/analysis/1554037.html",{"$f":"IF(D296<>\"\",D296,\"\")","v":1.57},{"$f":"IF(E296<>\"\",E296,\"\")","v":3.59},{"$f":"IF(F296<>\"\",F296,\"\")","v":6.07},{"$f":"IF(N296<>\"\",IF(D297<>\"\",D297,D296),\"\")","v":1.55},{"$f":"IF(N296<>\"\",IF(E297<>\"\",E297,E296),\"\")","v":3.64},{"$f":"IF(N296<>\"\",IF(F297<>\"\",F297,F296),\"\")","v":6.36}]
[null,null,null,1.55,3.64,6.36,0.59899999999999998,0.25509999999999999,0.14599999999999999,0.92769999999999997,null,null,null,null,null,""]
["FRA D2",null,"Chateauroux",2.97,2.94,2.48,0.312,0.31490000000000001,0.37309999999999999,0.92549999999999999,"Grenoble","View(186)",null,{"$f":"IF(A298<>\"\",TEXT(A298,\"\"),\"\")","v":"FRA D2"},{"$f":"IF(N298=\"\",\"\",CONCATENATE(IF(C298<>\"\",TEXT(C298,\"\"),\"\"),\" - \",IF(K298<>\"\",TEXT(K298,\"\"),\"\")))","v":"Chateauroux - Grenoble"},"http://www.data.nowgoal.vip/analysis/1554038.html",{"$f":"IF(D298<>\"\",D298,\"\")","v":2.97},{"$f":"IF(E298<>\"\",E298,\"\")","v":2.94},{"$f":"IF(F298<>\"\",F298,\"\")","v":2.48},{"$f":"IF(N298<>\"\",IF(D299<>\"\",D299,D298),\"\")","v":2.74},{"$f":"IF(N298<>\"\",IF(E299<>\"\",E299,E298),\"\")","v":2.9},{"$f":"IF(N298<>\"\",IF(F299<>\"\",F299,F298),\"\")","v":2.73}]
[null,null,null,2.74,2.9,2.73,0.33950000000000002,0.3201,0.34039999999999998,0.92869999999999997,null,null,null,null,null,""]
["HOL D1",null,"De Graafschap",2.12,3.51,3.1,0.43740000000000001,0.26379999999999998,0.29880000000000001,0.92589999999999995,"NAC Breda","View(187)",null,{"$f":"IF(A300<>\"\",TEXT(A300,\"\"),\"\")","v":"HOL D1"},{"$f":"IF(N300=\"\",\"\",CONCATENATE(IF(C300<>\"\",TEXT(C300,\"\"),\"\"),\" - \",IF(K300<>\"\",TEXT(K300,\"\"),\"\")))","v":"De Graafschap - NAC Breda"},"http://www.data.nowgoal.vip/analysis/1552018.html",{"$f":"IF(D300<>\"\",D300,\"\")","v":2.12},{"$f":"IF(E300<>\"\",E300,\"\")","v":3.51},{"$f":"IF(F300<>\"\",F300,\"\")","v":3.1},{"$f":"IF(N300<>\"\",IF(D301<>\"\",D301,D300),\"\")","v":2.35},{"$f":"IF(N300<>\"\",IF(E301<>\"\",E301,E300),\"\")","v":3.45},{"$f":"IF(N300<>\"\",IF(F301<>\"\",F301,F300),\"\")","v":2.82}]
[null,null,null,2.35,3.45,2.82,0.39750000000000002,0.27110000000000001,0.33139999999999997,0.93469999999999998,null,null,null,null,null,""]
["FRA D3",null,"Cholet So",2.38,3.11,2.81,0.38300000000000001,0.2928,0.32419999999999999,0.91139999999999999,"Boulogne","View(107)",null,{"$f":"IF(A302<>\"\",TEXT(A302,\"\"),\"\")","v":"FRA D3"},{"$f":"IF(N302=\"\",\"\",CONCATENATE(IF(C302<>\"\",TEXT(C302,\"\"),\"\"),\" - \",IF(K302<>\"\",TEXT(K302,\"\"),\"\")))","v":"Cholet So - Boulogne"},"http://www.data.nowgoal.vip/analysis/1574160.html",{"$f":"IF(D302<>\"\",D302,\"\")","v":2.38},{"$f":"IF(E302<>\"\",E302,\"\")","v":3.11},{"$f":"IF(F302<>\"\",F302,\"\")","v":2.81},{"$f":"IF(N302<>\"\",IF(D303<>\"\",D303,D302),\"\")","v":2.72},{"$f":"IF(N302<>\"\",IF(E303<>\"\",E303,E302),\"\")","v":2.97},{"$f":"IF(N302<>\"\",IF(F303<>\"\",F303,F302),\"\")","v":2.5499999999999998}]
[null,null,null,2.72,2.97,2.5499999999999998,0.33479999999999999,0.30759999999999998,0.35759999999999997,0.91210000000000002,null,null,null,null,null,""]
["FRA D3",null,"USL Dunkerque",2.59,3.03,2.63,0.35220000000000001,0.30109999999999998,0.34670000000000001,0.91349999999999998,"Pau FC","View(107)",null,{"$f":"IF(A304<>\"\",TEXT(A304,\"\"),\"\")","v":"FRA D3"},{"$f":"IF(N304=\"\",\"\",CONCATENATE(IF(C304<>\"\",TEXT(C304,\"\"),\"\"),\" - \",IF(K304<>\"\",TEXT(K304,\"\"),\"\")))","v":"USL Dunkerque - Pau FC"},"http://www.data.nowgoal.vip/analysis/1574161.html",{"$f":"IF(D304<>\"\",D304,\"\")","v":2.59},{"$f":"IF(E304<>\"\",E304,\"\")","v":3.03},{"$f":"IF(F304<>\"\",F304,\"\")","v":2.63},{"$f":"IF(N304<>\"\",IF(D305<>\"\",D305,D304),\"\")","v":2.35},{"$f":"IF(N304<>\"\",IF(E305<>\"\",E305,E304),\"\")","v":2.93},{"$f":"IF(N304<>\"\",IF(F305<>\"\",F305,F304),\"\")","v":3.07}]
[null,null,null,2.35,2.93,3.07,0.3896,0.3125,0.2979,0.91410000000000002,null,null,null,null,null,""]
["FRA D3",null,"Stade Lavallois MFC",1.71,3.26,4.79,0.53129999999999999,0.27900000000000003,0.18959999999999999,0.90900000000000003,"Drancy","View(107)",null,{"$f":"IF(A306<>\"\",TEXT(A306,\"\"),\"\")","v":"FRA D3"},{"$f":"IF(N306=\"\",\"\",CONCATENATE(IF(C306<>\"\",TEXT(C306,\"\"),\"\"),\" - \",IF(K306<>\"\",TEXT(K306,\"\"),\"\")))","v":"Stade Lavallois MFC - Drancy"},"http://www.data.nowgoal.vip/analysis/1574162.html",{"$f":"IF(D306<>\"\",D306,\"\")","v":1.71},{"$f":"IF(E306<>\"\",E306,\"\")","v":3.26},{"$f":"IF(F306<>\"\",F306,\"\")","v":4.79},{"$f":"IF(N306<>\"\",IF(D307<>\"\",D307,D306),\"\")","v":1.88},{"$f":"IF(N306<>\"\",IF(E307<>\"\",E307,E306),\"\")","v":3.07},{"$f":"IF(N306<>\"\",IF(F307<>\"\",F307,F306),\"\")","v":4.17}]
[null,null,null,1.88,3.07,4.17,0.48430000000000001,0.29709999999999998,0.21859999999999999,0.91249999999999998,null,null,null,null,null,""]
["FRA D3",null,"Marignane Gignac",3.45,2.99,2.11,0.26390000000000002,0.30449999999999999,0.43159999999999998,0.91,"Rodez Aveyron","View(108)",null,{"$f":"IF(A308<>\"\",TEXT(A308,\"\"),\"\")","v":"FRA D3"},{"$f":"IF(N308=\"\",\"\",CONCATENATE(IF(C308<>\"\",TEXT(C308,\"\"),\"\"),\" - \",IF(K308<>\"\",TEXT(K308,\"\"),\"\")))","v":"Marignane Gignac - Rodez Aveyron"},"http://www.data.nowgoal.vip/analysis/1574165.html",{"$f":"IF(D308<>\"\",D308,\"\")","v":3.45},{"$f":"IF(E308<>\"\",E308,\"\")","v":2.99},{"$f":"IF(F308<>\"\",F308,\"\")","v":2.11},{"$f":"IF(N308<>\"\",IF(D309<>\"\",D309,D308),\"\")","v":3.38},{"$f":"IF(N308<>\"\",IF(E309<>\"\",E309,E308),\"\")","v":2.89},{"$f":"IF(N308<>\"\",IF(F309<>\"\",F309,F308),\"\")","v":2.2000000000000002}]
[null,null,null,3.38,2.89,2.2000000000000002,0.27,0.31519999999999998,0.4148,0.91220000000000001,null,null,null,null,null,""]
["HOL D2",null,"Go Ahead Eagles",1.59,4.18,4.49,0.57609999999999995,0.2195,0.2044,0.91839999999999999,"FC Eindhoven","View(174)",null,{"$f":"IF(A310<>\"\",TEXT(A310,\"\"),\"\")","v":"HOL D2"},{"$f":"IF(N310=\"\",\"\",CONCATENATE(IF(C310<>\"\",TEXT(C310,\"\"),\"\"),\" - \",IF(K310<>\"\",TEXT(K310,\"\"),\"\")))","v":"Go Ahead Eagles - FC Eindhoven"},"http://www.data.nowgoal.vip/analysis/1553479.html",{"$f":"IF(D310<>\"\",D310,\"\")","v":1.59},{"$f":"IF(E310<>\"\",E310,\"\")","v":4.18},{"$f":"IF(F310<>\"\",F310,\"\")","v":4.49},{"$f":"IF(N310<>\"\",IF(D311<>\"\",D311,D310),\"\")","v":1.77},{"$f":"IF(N310<>\"\",IF(E311<>\"\",E311,E310),\"\")","v":3.76},{"$f":"IF(N310<>\"\",IF(F311<>\"\",F311,F310),\"\")","v":3.91}]
[null,null,null,1.77,3.76,3.91,0.51949999999999996,0.24510000000000001,0.2354,0.92159999999999997,null,null,null,null,null,""]
["HOL D2",null,"NEC Nijmegen",1.26,5.52,8.7899999999999991,0.72909999999999997,0.16639999999999999,0.1045,0.91869999999999996,"FC Utrecht (Youth)","View(169)",null,{"$f":"IF(A312<>\"\",TEXT(A312,\"\"),\"\")","v":"HOL D2"},{"$f":"IF(N312=\"\",\"\",CONCATENATE(IF(C312<>\"\",TEXT(C312,\"\"),\"\"),\" - \",IF(K312<>\"\",TEXT(K312,\"\"),\"\")))","v":"NEC Nijmegen - FC Utrecht (Youth)"},"http://www.data.nowgoal.vip/analysis/1553480.html",{"$f":"IF(D312<>\"\",D312,\"\")","v":1.26},{"$f":"IF(E312<>\"\",E312,\"\")","v":5.52},{"$f":"IF(F312<>\"\",F312,\"\")","v":8.7899999999999991},{"$f":"IF(N312<>\"\",IF(D313<>\"\",D313,D312),\"\")","v":1.25},{"$f":"IF(N312<>\"\",IF(E313<>\"\",E313,E312),\"\")","v":5.66},{"$f":"IF(N312<>\"\",IF(F313<>\"\",F313,F312),\"\")","v":9.3000000000000007}]
[null,null,null,1.25,5.66,9.3000000000000007,0.73799999999999999,0.16289999999999999,9.9099999999999994E-2,0.92190000000000005,null,null,null,null,null,""]
["HOL D2",null,"MVV Maastricht",1.99,3.46,3.34,0.46060000000000001,0.26500000000000001,0.27439999999999998,0.91769999999999996,"SC Telstar","View(177)",null,{"$f":"IF(A314<>\"\",TEXT(A314,\"\"),\"\")","v":"HOL D2"},{"$f":"IF(N314=\"\",\"\",CONCATENATE(IF(C314<>\"\",TEXT(C314,\"\"),\"\"),\" - \",IF(K314<>\"\",TEXT(K314,\"\"),\"\")))","v":"MVV Maastricht - SC Telstar"},"http://www.data.nowgoal.vip/analysis/1553481.html",{"$f":"IF(D314<>\"\",D314,\"\")","v":1.99},{"$f":"IF(E314<>\"\",E314,\"\")","v":3.46},{"$f":"IF(F314<>\"\",F314,\"\")","v":3.34},{"$f":"IF(N314<>\"\",IF(D315<>\"\",D315,D314),\"\")","v":1.83},{"$f":"IF(N314<>\"\",IF(E315<>\"\",E315,E314),\"\")","v":3.63},{"$f":"IF(N314<>\"\",IF(F315<>\"\",F315,F314),\"\")","v":3.79}]
[null,null,null,1.83,3.63,3.79,0.50280000000000002,0.25380000000000003,0.24349999999999999,0.92190000000000005,null,null,null,null,null,""]
["HOL D2",null,"Roda JC",1.8,3.78,3.69,0.50870000000000004,0.24249999999999999,0.24879999999999999,0.9173,"Almere City FC","View(179)",null,{"$f":"IF(A316<>\"\",TEXT(A316,\"\"),\"\")","v":"HOL D2"},{"$f":"IF(N316=\"\",\"\",CONCATENATE(IF(C316<>\"\",TEXT(C316,\"\"),\"\"),\" - \",IF(K316<>\"\",TEXT(K316,\"\"),\"\")))","v":"Roda JC - Almere City FC"},"http://www.data.nowgoal.vip/analysis/1553482.html",{"$f":"IF(D316<>\"\",D316,\"\")","v":1.8},{"$f":"IF(E316<>\"\",E316,\"\")","v":3.78},{"$f":"IF(F316<>\"\",F316,\"\")","v":3.69},{"$f":"IF(N316<>\"\",IF(D317<>\"\",D317,D316),\"\")","v":1.89},{"$f":"IF(N316<>\"\",IF(E317<>\"\",E317,E316),\"\")","v":3.74},{"$f":"IF(N316<>\"\",IF(F317<>\"\",F317,F316),\"\")","v":3.46}]
[null,null,null,1.89,3.74,3.46,0.48709999999999998,0.24629999999999999,0.26669999999999999,0.92210000000000003,null,null,null,null,null,""]
["HOL D2",null,"Dordrecht",4.16,3.93,1.68,0.2208,0.2334,0.54579999999999995,0.91769999999999996,"Jong Ajax (Youth)","View(171)",null,{"$f":"IF(A318<>\"\",TEXT(A318,\"\"),\"\")","v":"HOL D2"},{"$f":"IF(N318=\"\",\"\",CONCATENATE(IF(C318<>\"\",TEXT(C318,\"\"),\"\"),\" - \",IF(K318<>\"\",TEXT(K318,\"\"),\"\")))","v":"Dordrecht - Jong Ajax (Youth)"},"http://www.data.nowgoal.vip/analysis/1553483.html",{"$f":"IF(D318<>\"\",D318,\"\")","v":4.16},{"$f":"IF(E318<>\"\",E318,\"\")","v":3.93},{"$f":"IF(F318<>\"\",F318,\"\")","v":1.68},{"$f":"IF(N318<>\"\",IF(D319<>\"\",D319,D318),\"\")","v":4.13},{"$f":"IF(N318<>\"\",IF(E319<>\"\",E319,E318),\"\")","v":4.16},{"$f":"IF(N318<>\"\",IF(F319<>\"\",F319,F318),\"\")","v":1.66}]
[null,null,null,4.13,4.16,1.66,0.22309999999999999,0.22159999999999999,0.55520000000000003,0.92210000000000003,null,null,null,null,null,""]
["HOL D2",null,"RKC Waalwijk",2.73,3.78,2.1800000000000002,0.33639999999999998,0.24249999999999999,0.42099999999999999,0.91769999999999996,"Den Bosch","View(176)",null,{"$f":"IF(A320<>\"\",TEXT(A320,\"\"),\"\")","v":"HOL D2"},{"$f":"IF(N320=\"\",\"\",CONCATENATE(IF(C320<>\"\",TEXT(C320,\"\"),\"\"),\" - \",IF(K320<>\"\",TEXT(K320,\"\"),\"\")))","v":"RKC Waalwijk - Den Bosch"},"http://www.data.nowgoal.vip/analysis/1553484.html",{"$f":"IF(D320<>\"\",D320,\"\")","v":2.73},{"$f":"IF(E320<>\"\",E320,\"\")","v":3.78},{"$f":"IF(F320<>\"\",F320,\"\")","v":2.1800000000000002},{"$f":"IF(N320<>\"\",IF(D321<>\"\",D321,D320),\"\")","v":2.65},{"$f":"IF(N320<>\"\",IF(E321<>\"\",E321,E320),\"\")","v":3.52},{"$f":"IF(N320<>\"\",IF(F321<>\"\",F321,F320),\"\")","v":2.36}]
[null,null,null,2.65,3.52,2.36,0.34839999999999999,0.2616,0.39,0.92169999999999996,null,null,null,null,null,""]
["HOL D2",null,"Volendam",3.3,3.54,1.98,0.27829999999999999,0.25950000000000001,0.4622,0.91739999999999999,"Sparta Rotterdam","View(176)",null,{"$f":"IF(A322<>\"\",TEXT(A322,\"\"),\"\")","v":"HOL D2"},{"$f":"IF(N322=\"\",\"\",CONCATENATE(IF(C322<>\"\",TEXT(C322,\"\"),\"\"),\" - \",IF(K322<>\"\",TEXT(K322,\"\"),\"\")))","v":"Volendam - Sparta Rotterdam"},"http://www.data.nowgoal.vip/analysis/1553485.html",{"$f":"IF(D322<>\"\",D322,\"\")","v":3.3},{"$f":"IF(E322<>\"\",E322,\"\")","v":3.54},{"$f":"IF(F322<>\"\",F322,\"\")","v":1.98},{"$f":"IF(N322<>\"\",IF(D323<>\"\",D323,D322),\"\")","v":3.17},{"$f":"IF(N322<>\"\",IF(E323<>\"\",E323,E322),\"\")","v":3.48},{"$f":"IF(N322<>\"\",IF(F323<>\"\",F323,F322),\"\")","v":2.0699999999999998}]
[null,null,null,3.17,3.48,2.0699999999999998,0.28999999999999998,0.2646,0.44540000000000002,0.92069999999999996,null,null,null,null,null,{"$f":"SUBSTITUTE(SUBSTITUTE(SUBSTITUTE(SUBSTITUTE(IF(L323<>\"\",HLink(L323),\"\"),\"htm\",\"html\"),\"1x2\",\"analysis\"),\"www\",\"www.data\"),\"com\",\"vip\")","v":""}]
["HOL D2",null,"FC Twente Enschede",1.19,6.29,11.13,0.77129999999999999,0.14610000000000001,8.2500000000000004E-2,0.91859999999999997,"Helmond Sport","View(176)",null,{"$f":"IF(A324<>\"\",TEXT(A324,\"\"),\"\")","v":"HOL D2"},{"$f":"IF(N324=\"\",\"\",CONCATENATE(IF(C324<>\"\",TEXT(C324,\"\"),\"\"),\" - \",IF(K324<>\"\",TEXT(K324,\"\"),\"\")))","v":"FC Twente Enschede - Helmond Sport"},"http://www.data.nowgoal.vip/analysis/1553486.html",{"$f":"IF(D324<>\"\",D324,\"\")","v":1.19},{"$f":"IF(E324<>\"\",E324,\"\")","v":6.29},{"$f":"IF(F324<>\"\",F324,\"\")","v":11.13},{"$f":"IF(N324<>\"\",IF(D325<>\"\",D325,D324),\"\")","v":1.21},{"$f":"IF(N324<>\"\",IF(E325<>\"\",E325,E324),\"\")","v":6},{"$f":"IF(N324<>\"\",IF(F325<>\"\",F325,F324),\"\")","v":10.63}]
[null,null,null,1.21,6,10.63,0.7601,0.15329999999999999,8.6599999999999996E-2,0.92030000000000001,null,null,null,null,null,""]
["SUI D1",null,"Aarau",2,3.54,3.22,0.45739999999999997,0.25850000000000001,0.28410000000000002,0.91410000000000002,"FC Wil 1900","View(161)",null,{"$f":"IF(A326<>\"\",TEXT(A326,\"\"),\"\")","v":"SUI D1"},{"$f":"IF(N326=\"\",\"\",CONCATENATE(IF(C326<>\"\",TEXT(C326,\"\"),\"\"),\" - \",IF(K326<>\"\",TEXT(K326,\"\"),\"\")))","v":"Aarau - FC Wil 1900"},"http://www.data.nowgoal.vip/analysis/1555144.html",{"$f":"IF(D326<>\"\",D326,\"\")","v":2},{"$f":"IF(E326<>\"\",E326,\"\")","v":3.54},{"$f":"IF(F326<>\"\",F326,\"\")","v":3.22},{"$f":"IF(N326<>\"\",IF(D327<>\"\",D327,D326),\"\")","v":1.78},{"$f":"IF(N326<>\"\",IF(E327<>\"\",E327,E326),\"\")","v":3.69},{"$f":"IF(N326<>\"\",IF(F327<>\"\",F327,F326),\"\")","v":3.9}]
[null,null,null,1.78,3.69,3.9,0.51529999999999998,0.249,0.23569999999999999,0.91830000000000001,null,null,null,null,null,""]
["CAF CL",null,"Mamelodi Sundowns",1.62,3.42,5.0199999999999996,0.55620000000000003,0.26390000000000002,0.17979999999999999,0.9032,"ASEC MIMOSAS","View(96)",null,{"$f":"IF(A328<>\"\",TEXT(A328,\"\"),\"\")","v":"CAF CL"},{"$f":"IF(N328=\"\",\"\",CONCATENATE(IF(C328<>\"\",TEXT(C328,\"\"),\"\"),\" - \",IF(K328<>\"\",TEXT(K328,\"\"),\"\")))","v":"Mamelodi Sundowns - ASEC MIMOSAS"},"http://www.data.nowgoal.vip/analysis/1654312.html",{"$f":"IF(D328<>\"\",D328,\"\")","v":1.62},{"$f":"IF(E328<>\"\",E328,\"\")","v":3.42},{"$f":"IF(F328<>\"\",F328,\"\")","v":5.0199999999999996},{"$f":"IF(N328<>\"\",IF(D329<>\"\",D329,D328),\"\")","v":1.54},{"$f":"IF(N328<>\"\",IF(E329<>\"\",E329,E328),\"\")","v":3.57},{"$f":"IF(N328<>\"\",IF(F329<>\"\",F329,F328),\"\")","v":5.69}]
[null,null,null,1.54,3.57,5.69,0.58740000000000003,0.25340000000000001,0.15920000000000001,0.90539999999999998,null,null,null,null,null,""]
["INT CF",null,"FC Bad Radkersburg",8.1300000000000008,5.2,1.28,0.11219999999999999,0.1754,0.71240000000000003,0.91159999999999997,"TUS Bad Gleichenberg","View(2)",null,{"$f":"IF(A330<>\"\",TEXT(A330,\"\"),\"\")","v":"INT CF"},{"$f":"IF(N330=\"\",\"\",CONCATENATE(IF(C330<>\"\",TEXT(C330,\"\"),\"\"),\" - \",IF(K330<>\"\",TEXT(K330,\"\"),\"\")))","v":"FC Bad Radkersburg - TUS Bad Gleichenberg"},"http://www.data.nowgoal.vip/analysis/1664923.html",{"$f":"IF(D330<>\"\",D330,\"\")","v":8.1300000000000008},{"$f":"IF(E330<>\"\",E330,\"\")","v":5.2},{"$f":"IF(F330<>\"\",F330,\"\")","v":1.28},{"$f":"IF(N330<>\"\",IF(D331<>\"\",D331,D330),\"\")","v":10.25},{"$f":"IF(N330<>\"\",IF(E331<>\"\",E331,E330),\"\")","v":5.6},{"$f":"IF(N330<>\"\",IF(F331<>\"\",F331,F330),\"\")","v":1.2}]
[null,null,null,10.25,5.6,1.2,8.7900000000000006E-2,0.161,0.75109999999999999,0.90100000000000002,null,null,null,null,null,""]
["ICE CH B",null,"Vikingur Olafsvik",1.53,4.5,4.2,0.58679999999999999,0.19950000000000001,0.2137,0.89780000000000004,"Kari Akranes","View(2)",null,{"$f":"IF(A332<>\"\",TEXT(A332,\"\"),\"\")","v":"ICE CH B"},{"$f":"IF(N332=\"\",\"\",CONCATENATE(IF(C332<>\"\",TEXT(C332,\"\"),\"\"),\" - \",IF(K332<>\"\",TEXT(K332,\"\"),\"\")))","v":"Vikingur Olafsvik - Kari Akranes"},"http://www.data.nowgoal.vip/analysis/1665008.html",{"$f":"IF(D332<>\"\",D332,\"\")","v":1.53},{"$f":"IF(E332<>\"\",E332,\"\")","v":4.5},{"$f":"IF(F332<>\"\",F332,\"\")","v":4.2},{"$f":"IF(N332<>\"\",IF(D333<>\"\",D333,D332),\"\")","v":1.56},{"$f":"IF(N332<>\"\",IF(E333<>\"\",E333,E332),\"\")","v":4.25},{"$f":"IF(N332<>\"\",IF(F333<>\"\",F333,F332),\"\")","v":3.83}]
[null,null,null,1.56,4.25,3.83,0.56340000000000001,0.20680000000000001,0.2298,0.87890000000000001,null,null,null,null,null,""]
["ENG PU23",null,"Manchester United U23",2.04,3.74,2.88,0.44400000000000001,0.24199999999999999,0.314,0.90449999999999997,"Southampton U23","View(17)",null,{"$f":"IF(A334<>\"\",TEXT(A334,\"\"),\"\")","v":"ENG PU23"},{"$f":"IF(N334=\"\",\"\",CONCATENATE(IF(C334<>\"\",TEXT(C334,\"\"),\"\"),\" - \",IF(K334<>\"\",TEXT(K334,\"\"),\"\")))","v":"Manchester United U23 - Southampton U23"},"http://www.data.nowgoal.vip/analysis/1598882.html",{"$f":"IF(D334<>\"\",D334,\"\")","v":2.04},{"$f":"IF(E334<>\"\",E334,\"\")","v":3.74},{"$f":"IF(F334<>\"\",F334,\"\")","v":2.88},{"$f":"IF(N334<>\"\",IF(D335<>\"\",D335,D334),\"\")","v":2.0299999999999998},{"$f":"IF(N334<>\"\",IF(E335<>\"\",E335,E334),\"\")","v":3.73},{"$f":"IF(N334<>\"\",IF(F335<>\"\",F335,F334),\"\")","v":2.88}]
[null,null,null,2.0299999999999998,3.73,2.88,0.44429999999999997,0.2422,0.3135,0.90380000000000005,null,null,null,null,null,""]
["ENG PU23",null,"Middlesbrough U23",1.92,3.4,3.4,0.47,0.26500000000000001,0.26500000000000001,0.90080000000000005,"Stoke City U23","View(3)",null,{"$f":"IF(A336<>\"\",TEXT(A336,\"\"),\"\")","v":"ENG PU23"},{"$f":"IF(N336=\"\",\"\",CONCATENATE(IF(C336<>\"\",TEXT(C336,\"\"),\"\"),\" - \",IF(K336<>\"\",TEXT(K336,\"\"),\"\")))","v":"Middlesbrough U23 - Stoke City U23"},"http://www.data.nowgoal.vip/analysis/1598883.html",{"$f":"IF(D336<>\"\",D336,\"\")","v":1.92},{"$f":"IF(E336<>\"\",E336,\"\")","v":3.4},{"$f":"IF(F336<>\"\",F336,\"\")","v":3.4},{"$f":"IF(N336<>\"\",IF(D337<>\"\",D337,D336),\"\")","v":1.91},{"$f":"IF(N336<>\"\",IF(E337<>\"\",E337,E336),\"\")","v":3.4},{"$f":"IF(N336<>\"\",IF(F337<>\"\",F337,F336),\"\")","v":3.4}]
[null,null,null,1.91,3.4,3.4,0.4713,0.26429999999999998,0.26429999999999998,0.89859999999999995,null,null,null,null,null,""]
["ENG PU23",null,"Newcastle U23",2.4300000000000002,3.43,2.52,0.37409999999999999,0.26500000000000001,0.3609,0.90780000000000005,"Wolves U23","View(18)",null,{"$f":"IF(A338<>\"\",TEXT(A338,\"\"),\"\")","v":"ENG PU23"},{"$f":"IF(N338=\"\",\"\",CONCATENATE(IF(C338<>\"\",TEXT(C338,\"\"),\"\"),\" - \",IF(K338<>\"\",TEXT(K338,\"\"),\"\")))","v":"Newcastle U23 - Wolves U23"},"http://www.data.nowgoal.vip/analysis/1598884.html",{"$f":"IF(D338<>\"\",D338,\"\")","v":2.4300000000000002},{"$f":"IF(E338<>\"\",E338,\"\")","v":3.43},{"$f":"IF(F338<>\"\",F338,\"\")","v":2.52},{"$f":"IF(N338<>\"\",IF(D339<>\"\",D339,D338),\"\")","v":2.4300000000000002},{"$f":"IF(N338<>\"\",IF(E339<>\"\",E339,E338),\"\")","v":3.42},{"$f":"IF(N338<>\"\",IF(F339<>\"\",F339,F338),\"\")","v":2.52}]
[null,null,null,2.4300000000000002,3.42,2.52,0.37340000000000001,0.26590000000000003,0.36070000000000002,0.90820000000000001,null,null,null,null,null,""]
["ENG PU23",null,"Norwich City U23",1.81,3.42,3.77,0.49740000000000001,0.26350000000000001,0.23899999999999999,0.90029999999999999,"West Bromwich U23","View(3)",null,{"$f":"IF(A340<>\"\",TEXT(A340,\"\"),\"\")","v":"ENG PU23"},{"$f":"IF(N340=\"\",\"\",CONCATENATE(IF(C340<>\"\",TEXT(C340,\"\"),\"\"),\" - \",IF(K340<>\"\",TEXT(K340,\"\"),\"\")))","v":"Norwich City U23 - West Bromwich U23"},"http://www.data.nowgoal.vip/analysis/1598885.html",{"$f":"IF(D340<>\"\",D340,\"\")","v":1.81},{"$f":"IF(E340<>\"\",E340,\"\")","v":3.42},{"$f":"IF(F340<>\"\",F340,\"\")","v":3.77},{"$f":"IF(N340<>\"\",IF(D341<>\"\",D341,D340),\"\")","v":1.8},{"$f":"IF(N340<>\"\",IF(E341<>\"\",E341,E340),\"\")","v":3.43},{"$f":"IF(N340<>\"\",IF(F341<>\"\",F341,F340),\"\")","v":3.78}]
[null,null,null,1.8,3.43,3.78,0.5,0.2621,0.2379,0.9,null,null,null,null,null,""]
["WAL D1",null,"Goytre Utd",2.48,4.32,2.13,0.36509999999999998,0.2094,0.42559999999999998,0.90569999999999995,"Cambrian Clydach","View(15)",null,{"$f":"IF(A342<>\"\",TEXT(A342,\"\"),\"\")","v":"WAL D1"},{"$f":"IF(N342=\"\",\"\",CONCATENATE(IF(C342<>\"\",TEXT(C342,\"\"),\"\"),\" - \",IF(K342<>\"\",TEXT(K342,\"\"),\"\")))","v":"Goytre Utd - Cambrian Clydach"},"http://www.data.nowgoal.vip/analysis/1664917.html",{"$f":"IF(D342<>\"\",D342,\"\")","v":2.48},{"$f":"IF(E342<>\"\",E342,\"\")","v":4.32},{"$f":"IF(F342<>\"\",F342,\"\")","v":2.13},{"$f":"IF(N342<>\"\",IF(D343<>\"\",D343,D342),\"\")","v":2.48},{"$f":"IF(N342<>\"\",IF(E343<>\"\",E343,E342),\"\")","v":4.33},{"$f":"IF(N342<>\"\",IF(F343<>\"\",F343,F342),\"\")","v":2.13}]
[null,null,null,2.48,4.33,2.13,0.36509999999999998,0.20930000000000001,0.42559999999999998,0.90569999999999995,null,null,null,null,null,""]
["ICE PSC",null,"KA Akureyri",1.25,5.93,7,0.72050000000000003,0.15140000000000001,0.12809999999999999,0.89700000000000002,"Thor Akureyri","View(2)",null,{"$f":"IF(A344<>\"\",TEXT(A344,\"\"),\"\")","v":"ICE PSC"},{"$f":"IF(N344=\"\",\"\",CONCATENATE(IF(C344<>\"\",TEXT(C344,\"\"),\"\"),\" - \",IF(K344<>\"\",TEXT(K344,\"\"),\"\")))","v":"KA Akureyri - Thor Akureyri"},"http://www.data.nowgoal.vip/analysis/1664878.html",{"$f":"IF(D344<>\"\",D344,\"\")","v":1.25},{"$f":"IF(E344<>\"\",E344,\"\")","v":5.93},{"$f":"IF(F344<>\"\",F344,\"\")","v":7},{"$f":"IF(N344<>\"\",IF(D345<>\"\",D345,D344),\"\")","v":1.25},{"$f":"IF(N344<>\"\",IF(E345<>\"\",E345,E344),\"\")","v":5.93},{"$f":"IF(N344<>\"\",IF(F345<>\"\",F345,F344),\"\")","v":7}]
[null,null,null,1.25,5.93,7,0.71970000000000001,0.15179999999999999,0.1285,0.89959999999999996,null,null,null,null,null,""]
["GER D1",null,"Hannover 96",4.8099999999999996,3.96,1.65,0.1953,0.2369,0.56779999999999997,0.93889999999999996,"RB Leipzig","View(189)",null,{"$f":"IF(A346<>\"\",TEXT(A346,\"\"),\"\")","v":"GER D1"},{"$f":"IF(N346=\"\",\"\",CONCATENATE(IF(C346<>\"\",TEXT(C346,\"\"),\"\"),\" - \",IF(K346<>\"\",TEXT(K346,\"\"),\"\")))","v":"Hannover 96 - RB Leipzig"},"http://www.data.nowgoal.vip/analysis/1561096.html",{"$f":"IF(D346<>\"\",D346,\"\")","v":4.8099999999999996},{"$f":"IF(E346<>\"\",E346,\"\")","v":3.96},{"$f":"IF(F346<>\"\",F346,\"\")","v":1.65},{"$f":"IF(N346<>\"\",IF(D347<>\"\",D347,D346),\"\")","v":5.66},{"$f":"IF(N346<>\"\",IF(E347<>\"\",E347,E346),\"\")","v":4.37},{"$f":"IF(N346<>\"\",IF(F347<>\"\",F347,F346),\"\")","v":1.55}]
[null,null,null,5.66,4.37,1.55,0.1678,0.21759999999999999,0.61460000000000004,0.94979999999999998,null,null,null,null,null,""]
["BEL D1",null,"Mouscron Peruwelz",3.07,3.32,2.2200000000000002,0.30199999999999999,0.27950000000000003,0.41849999999999998,0.92830000000000001,"Charleroi","View(187)",null,{"$f":"IF(A348<>\"\",TEXT(A348,\"\"),\"\")","v":"BEL D1"},{"$f":"IF(N348=\"\",\"\",CONCATENATE(IF(C348<>\"\",TEXT(C348,\"\"),\"\"),\" - \",IF(K348<>\"\",TEXT(K348,\"\"),\"\")))","v":"Mouscron Peruwelz - Charleroi"},"http://www.data.nowgoal.vip/analysis/1555811.html",{"$f":"IF(D348<>\"\",D348,\"\")","v":3.07},{"$f":"IF(E348<>\"\",E348,\"\")","v":3.32},{"$f":"IF(F348<>\"\",F348,\"\")","v":2.2200000000000002},{"$f":"IF(N348<>\"\",IF(D349<>\"\",D349,D348),\"\")","v":2.65},{"$f":"IF(N348<>\"\",IF(E349<>\"\",E349,E348),\"\")","v":3.2},{"$f":"IF(N348<>\"\",IF(F349<>\"\",F349,F348),\"\")","v":2.6}]
[null,null,null,2.65,3.2,2.6,0.35099999999999998,0.29089999999999999,0.35809999999999997,0.93140000000000001,null,null,null,null,null,""]
["BEL D2",null,"Oud Heverlee",1.96,3.3,3.54,0.46629999999999999,0.27610000000000001,0.2576,0.9123,"Roeselare","View(166)",null,{"$f":"IF(A350<>\"\",TEXT(A350,\"\"),\"\")","v":"BEL D2"},{"$f":"IF(N350=\"\",\"\",CONCATENATE(IF(C350<>\"\",TEXT(C350,\"\"),\"\"),\" - \",IF(K350<>\"\",TEXT(K350,\"\"),\"\")))","v":"Oud Heverlee - Roeselare"},"http://www.data.nowgoal.vip/analysis/1582447.html",{"$f":"IF(D350<>\"\",D350,\"\")","v":1.96},{"$f":"IF(E350<>\"\",E350,\"\")","v":3.3},{"$f":"IF(F350<>\"\",F350,\"\")","v":3.54},{"$f":"IF(N350<>\"\",IF(D351<>\"\",D351,D350),\"\")","v":2.1},{"$f":"IF(N350<>\"\",IF(E351<>\"\",E351,E350),\"\")","v":3.4},{"$f":"IF(N350<>\"\",IF(F351<>\"\",F351,F350),\"\")","v":3.1}]
[null,null,null,2.1,3.4,3.1,0.43530000000000002,0.26919999999999999,0.29549999999999998,0.91590000000000005,null,null,null,null,null,""]
["BPL (W)",null,"KAA Gent Ladies (w)",1.81,3.78,3.43,0.49859999999999999,0.23860000000000001,0.26290000000000002,0.90149999999999997,"Standard Liege (w)","View(36)",null,{"$f":"IF(A352<>\"\",TEXT(A352,\"\"),\"\")","v":"BPL (W)"},{"$f":"IF(N352=\"\",\"\",CONCATENATE(IF(C352<>\"\",TEXT(C352,\"\"),\"\"),\" - \",IF(K352<>\"\",TEXT(K352,\"\"),\"\")))","v":"KAA Gent Ladies (w) - Standard Liege (w)"},"http://www.data.nowgoal.vip/analysis/1587079.html",{"$f":"IF(D352<>\"\",D352,\"\")","v":1.81},{"$f":"IF(E352<>\"\",E352,\"\")","v":3.78},{"$f":"IF(F352<>\"\",F352,\"\")","v":3.43},{"$f":"IF(N352<>\"\",IF(D353<>\"\",D353,D352),\"\")","v":1.8},{"$f":"IF(N352<>\"\",IF(E353<>\"\",E353,E352),\"\")","v":3.79},{"$f":"IF(N352<>\"\",IF(F353<>\"\",F353,F352),\"\")","v":3.48}]
[null,null,null,1.8,3.79,3.48,0.50180000000000002,0.23860000000000001,0.2596,0.90380000000000005,null,null,null,null,null,""]
["BPL (W)",null,"Racing Genk (w)",1.44,4.5599999999999996,4.9800000000000004,0.62260000000000004,0.19689999999999999,0.18049999999999999,0.89829999999999999,"Oud Heverlee Leuven (w)","View(35)",null,{"$f":"IF(A354<>\"\",TEXT(A354,\"\"),\"\")","v":"BPL (W)"},{"$f":"IF(N354=\"\",\"\",CONCATENATE(IF(C354<>\"\",TEXT(C354,\"\"),\"\"),\" - \",IF(K354<>\"\",TEXT(K354,\"\"),\"\")))","v":"Racing Genk (w) - Oud Heverlee Leuven (w)"},"http://www.data.nowgoal.vip/analysis/1587081.html",{"$f":"IF(D354<>\"\",D354,\"\")","v":1.44},{"$f":"IF(E354<>\"\",E354,\"\")","v":4.5599999999999996},{"$f":"IF(F354<>\"\",F354,\"\")","v":4.9800000000000004},{"$f":"IF(N354<>\"\",IF(D355<>\"\",D355,D354),\"\")","v":1.41},{"$f":"IF(N354<>\"\",IF(E355<>\"\",E355,E354),\"\")","v":4.7},{"$f":"IF(N354<>\"\",IF(F355<>\"\",F355,F354),\"\")","v":5.36}]
[null,null,null,1.41,4.7,5.36,0.6401,0.19170000000000001,0.1681,0.90029999999999999,null,null,null,null,null,""]
["WAL CA",null,"Rhyl FC",1.71,4.0199999999999996,3.51,0.52259999999999995,0.22239999999999999,0.25490000000000002,0.89459999999999995,"Conwy Utd","View(16)",null,{"$f":"IF(A356<>\"\",TEXT(A356,\"\"),\"\")","v":"WAL CA"},{"$f":"IF(N356=\"\",\"\",CONCATENATE(IF(C356<>\"\",TEXT(C356,\"\"),\"\"),\" - \",IF(K356<>\"\",TEXT(K356,\"\"),\"\")))","v":"Rhyl FC - Conwy Utd"},"http://www.data.nowgoal.vip/analysis/1593590.html",{"$f":"IF(D356<>\"\",D356,\"\")","v":1.71},{"$f":"IF(E356<>\"\",E356,\"\")","v":4.0199999999999996},{"$f":"IF(F356<>\"\",F356,\"\")","v":3.51},{"$f":"IF(N356<>\"\",IF(D357<>\"\",D357,D356),\"\")","v":1.72},{"$f":"IF(N356<>\"\",IF(E357<>\"\",E357,E356),\"\")","v":4.0199999999999996},{"$f":"IF(N356<>\"\",IF(F357<>\"\",F357,F356),\"\")","v":3.5}]
[null,null,null,1.72,4.0199999999999996,3.5,0.52180000000000004,0.22259999999999999,0.25559999999999999,0.8952,null,null,null,null,null,""]
["GIB PD",null,"Lions Gibraltar",11,7.5,1.1200000000000001,8.14E-2,0.11940000000000001,0.79930000000000001,0.89539999999999997,"Gibraltar Phoenix","View(2)",null,{"$f":"IF(A358<>\"\",TEXT(A358,\"\"),\"\")","v":"GIB PD"},{"$f":"IF(N358=\"\",\"\",CONCATENATE(IF(C358<>\"\",TEXT(C358,\"\"),\"\"),\" - \",IF(K358<>\"\",TEXT(K358,\"\"),\"\")))","v":"Lions Gibraltar - Gibraltar Phoenix"},"http://www.data.nowgoal.vip/analysis/1664932.html",{"$f":"IF(D358<>\"\",D358,\"\")","v":11},{"$f":"IF(E358<>\"\",E358,\"\")","v":7.5},{"$f":"IF(F358<>\"\",F358,\"\")","v":1.1200000000000001},{"$f":"IF(N358<>\"\",IF(D359<>\"\",D359,D358),\"\")","v":17},{"$f":"IF(N358<>\"\",IF(E359<>\"\",E359,E358),\"\")","v":10},{"$f":"IF(N358<>\"\",IF(F359<>\"\",F359,F358),\"\")","v":1.08}]
[null,null,null,17,10,1.08,5.3999999999999999E-2,9.1800000000000007E-2,0.85419999999999996,0.91800000000000004,null,null,null,null,null,""]
["FRA D1",null,"Lille",1.8,3.41,4.58,0.52059999999999995,0.27460000000000001,0.20480000000000001,0.93730000000000002,"Nice","View(189)",null,{"$f":"IF(A360<>\"\",TEXT(A360,\"\"),\"\")","v":"FRA D1"},{"$f":"IF(N360=\"\",\"\",CONCATENATE(IF(C360<>\"\",TEXT(C360,\"\"),\"\"),\" - \",IF(K360<>\"\",TEXT(K360,\"\"),\"\")))","v":"Lille - Nice"},"http://www.data.nowgoal.vip/analysis/1549894.html",{"$f":"IF(D360<>\"\",D360,\"\")","v":1.8},{"$f":"IF(E360<>\"\",E360,\"\")","v":3.41},{"$f":"IF(F360<>\"\",F360,\"\")","v":4.58},{"$f":"IF(N360<>\"\",IF(D361<>\"\",D361,D360),\"\")","v":1.85},{"$f":"IF(N360<>\"\",IF(E361<>\"\",E361,E360),\"\")","v":3.36},{"$f":"IF(N360<>\"\",IF(F361<>\"\",F361,F360),\"\")","v":4.63}]
[null,null,null,1.85,3.36,4.63,0.51259999999999994,0.28270000000000001,0.20469999999999999,0.94830000000000003,null,null,null,null,null,""]
["ENG LCH",null,"Preston North End",2.63,3.22,2.6,0.3533,0.28849999999999998,0.35820000000000002,0.93020000000000003,"Derby County","View(189)",null,{"$f":"IF(A362<>\"\",TEXT(A362,\"\"),\"\")","v":"ENG LCH"},{"$f":"IF(N362=\"\",\"\",CONCATENATE(IF(C362<>\"\",TEXT(C362,\"\"),\"\"),\" - \",IF(K362<>\"\",TEXT(K362,\"\"),\"\")))","v":"Preston North End - Derby County"},"http://www.data.nowgoal.vip/analysis/1557773.html",{"$f":"IF(D362<>\"\",D362,\"\")","v":2.63},{"$f":"IF(E362<>\"\",E362,\"\")","v":3.22},{"$f":"IF(F362<>\"\",F362,\"\")","v":2.6},{"$f":"IF(N362<>\"\",IF(D363<>\"\",D363,D362),\"\")","v":2.2999999999999998},{"$f":"IF(N362<>\"\",IF(E363<>\"\",E363,E362),\"\")","v":3.3},{"$f":"IF(N362<>\"\",IF(F363<>\"\",F363,F362),\"\")","v":3.03}]
[null,null,null,2.2999999999999998,3.3,3.03,0.40710000000000002,0.2838,0.30909999999999999,0.93769999999999998,null,null,null,null,null,""]
["SCO PR",null,"Kilmarnock",2.27,3.16,3.08,0.4078,0.29210000000000003,0.30009999999999998,0.92379999999999995,"Heart of Midlothian","View(187)",null,{"$f":"IF(A364<>\"\",TEXT(A364,\"\"),\"\")","v":"SCO PR"},{"$f":"IF(N364=\"\",\"\",CONCATENATE(IF(C364<>\"\",TEXT(C364,\"\"),\"\"),\" - \",IF(K364<>\"\",TEXT(K364,\"\"),\"\")))","v":"Kilmarnock - Heart of Midlothian"},"http://www.data.nowgoal.vip/analysis/1553201.html",{"$f":"IF(D364<>\"\",D364,\"\")","v":2.27},{"$f":"IF(E364<>\"\",E364,\"\")","v":3.16},{"$f":"IF(F364<>\"\",F364,\"\")","v":3.08},{"$f":"IF(N364<>\"\",IF(D365<>\"\",D365,D364),\"\")","v":2.38},{"$f":"IF(N364<>\"\",IF(E365<>\"\",E365,E364),\"\")","v":3.12},{"$f":"IF(N364<>\"\",IF(F365<>\"\",F365,F364),\"\")","v":3.01}]
[null,null,null,2.38,3.12,3.01,0.39190000000000003,0.29870000000000002,0.30940000000000001,0.93100000000000005,null,null,null,null,null,""]
["NIR D1",null,"Newry City",3.7,3.62,1.78,0.2437,0.2492,0.5071,0.90249999999999997,"Glentoran FC","View(83)",null,{"$f":"IF(A366<>\"\",TEXT(A366,\"\"),\"\")","v":"NIR D1"},{"$f":"IF(N366=\"\",\"\",CONCATENATE(IF(C366<>\"\",TEXT(C366,\"\"),\"\"),\" - \",IF(K366<>\"\",TEXT(K366,\"\"),\"\")))","v":"Newry City - Glentoran FC"},"http://www.data.nowgoal.vip/analysis/1582827.html",{"$f":"IF(D366<>\"\",D366,\"\")","v":3.7},{"$f":"IF(E366<>\"\",E366,\"\")","v":3.62},{"$f":"IF(F366<>\"\",F366,\"\")","v":1.78},{"$f":"IF(N366<>\"\",IF(D367<>\"\",D367,D366),\"\")","v":3.6},{"$f":"IF(N366<>\"\",IF(E367<>\"\",E367,E366),\"\")","v":3.62},{"$f":"IF(N366<>\"\",IF(F367<>\"\",F367,F366),\"\")","v":1.82}]
[null,null,null,3.6,3.62,1.82,0.252,0.25,0.498,0.90600000000000003,null,null,null,null,null,""]
["WAL PR",null,"Aberystwyth Town",1.83,3.56,3.66,0.49580000000000002,0.25559999999999999,0.2487,0.90969999999999995,"Llandudno","View(56)",null,{"$f":"IF(A368<>\"\",TEXT(A368,\"\"),\"\")","v":"WAL PR"},{"$f":"IF(N368=\"\",\"\",CONCATENATE(IF(C368<>\"\",TEXT(C368,\"\"),\"\"),\" - \",IF(K368<>\"\",TEXT(K368,\"\"),\"\")))","v":"Aberystwyth Town - Llandudno"},"http://www.data.nowgoal.vip/analysis/1663688.html",{"$f":"IF(D368<>\"\",D368,\"\")","v":1.83},{"$f":"IF(E368<>\"\",E368,\"\")","v":3.56},{"$f":"IF(F368<>\"\",F368,\"\")","v":3.66},{"$f":"IF(N368<>\"\",IF(D369<>\"\",D369,D368),\"\")","v":1.83},{"$f":"IF(N368<>\"\",IF(E369<>\"\",E369,E368),\"\")","v":3.53},{"$f":"IF(N368<>\"\",IF(F369<>\"\",F369,F368),\"\")","v":3.71}]
[null,null,null,1.83,3.53,3.71,0.497,0.25790000000000002,0.24510000000000001,0.90980000000000005,null,null,null,null,null,""]
["WAL CA",null,"Denbigh Town",2.0099999999999998,3.79,2.87,0.44829999999999998,0.23749999999999999,0.31419999999999998,0.90110000000000001,"Holywell","View(11)",null,{"$f":"IF(A370<>\"\",TEXT(A370,\"\"),\"\")","v":"WAL CA"},{"$f":"IF(N370=\"\",\"\",CONCATENATE(IF(C370<>\"\",TEXT(C370,\"\"),\"\"),\" - \",IF(K370<>\"\",TEXT(K370,\"\"),\"\")))","v":"Denbigh Town - Holywell"},"http://www.data.nowgoal.vip/analysis/1593589.html",{"$f":"IF(D370<>\"\",D370,\"\")","v":2.0099999999999998},{"$f":"IF(E370<>\"\",E370,\"\")","v":3.79},{"$f":"IF(F370<>\"\",F370,\"\")","v":2.87},{"$f":"IF(N370<>\"\",IF(D371<>\"\",D371,D370),\"\")","v":2.0099999999999998},{"$f":"IF(N370<>\"\",IF(E371<>\"\",E371,E370),\"\")","v":3.79},{"$f":"IF(N370<>\"\",IF(F371<>\"\",F371,F370),\"\")","v":2.87}]
[null,null,null,null,null,null,null,null,null,null,null,null,null,null,null,""]
["Ire LSL",null,"Portlaoise AFC",2.86,3.6,2.0499999999999998,0.3135,0.24909999999999999,0.43740000000000001,0.89659999999999995,"Tolka Rovers","View(2)",null,{"$f":"IF(A372<>\"\",TEXT(A372,\"\"),\"\")","v":"Ire LSL"},{"$f":"IF(N372=\"\",\"\",CONCATENATE(IF(C372<>\"\",TEXT(C372,\"\"),\"\"),\" - \",IF(K372<>\"\",TEXT(K372,\"\"),\"\")))","v":"Portlaoise AFC - Tolka Rovers"},"http://www.data.nowgoal.vip/analysis/1664934.html",{"$f":"IF(D372<>\"\",D372,\"\")","v":2.86},{"$f":"IF(E372<>\"\",E372,\"\")","v":3.6},{"$f":"IF(F372<>\"\",F372,\"\")","v":2.0499999999999998},{"$f":"IF(N372<>\"\",IF(D373<>\"\",D373,D372),\"\")","v":2.89},{"$f":"IF(N372<>\"\",IF(E373<>\"\",E373,E372),\"\")","v":3.6},{"$f":"IF(N372<>\"\",IF(F373<>\"\",F373,F372),\"\")","v":2.0499999999999998}]
[null,null,null,2.89,3.6,2.0499999999999998,0.31169999999999998,0.24979999999999999,0.43859999999999999,0.89929999999999999,null,null,null,null,null,""]
["Ire LSL",null,"Bangor Celtic",2.58,3.6,2.25,0.34970000000000001,0.25009999999999999,0.4002,0.90049999999999997,"Bluebell United","View(2)",null,{"$f":"IF(A374<>\"\",TEXT(A374,\"\"),\"\")","v":"Ire LSL"},{"$f":"IF(N374=\"\",\"\",CONCATENATE(IF(C374<>\"\",TEXT(C374,\"\"),\"\"),\" - \",IF(K374<>\"\",TEXT(K374,\"\"),\"\")))","v":"Bangor Celtic - Bluebell United"},"http://www.data.nowgoal.vip/analysis/1664939.html",{"$f":"IF(D374<>\"\",D374,\"\")","v":2.58},{"$f":"IF(E374<>\"\",E374,\"\")","v":3.6},{"$f":"IF(F374<>\"\",F374,\"\")","v":2.25},{"$f":"IF(N374<>\"\",IF(D375<>\"\",D375,D374),\"\")","v":2.58},{"$f":"IF(N374<>\"\",IF(E375<>\"\",E375,E374),\"\")","v":3.63},{"$f":"IF(N374<>\"\",IF(F375<>\"\",F375,F374),\"\")","v":2.2799999999999998}]
[null,null,null,2.58,3.63,2.2799999999999998,0.3518,0.24990000000000001,0.3982,0.90590000000000004,null,null,null,null,null,""]
["SPA D1",null,"SD Huesca",2.35,3.19,3.04,0.39810000000000001,0.29389999999999999,0.308,0.93669999999999998,"Real Valladolid","View(187)",null,{"$f":"IF(A376<>\"\",TEXT(A376,\"\"),\"\")","v":"SPA D1"},{"$f":"IF(N376=\"\",\"\",CONCATENATE(IF(C376<>\"\",TEXT(C376,\"\"),\"\"),\" - \",IF(K376<>\"\",TEXT(K376,\"\"),\"\")))","v":"SD Huesca - Real Valladolid"},"http://www.data.nowgoal.vip/analysis/1583408.html",{"$f":"IF(D376<>\"\",D376,\"\")","v":2.35},{"$f":"IF(E376<>\"\",E376,\"\")","v":3.19},{"$f":"IF(F376<>\"\",F376,\"\")","v":3.04},{"$f":"IF(N376<>\"\",IF(D377<>\"\",D377,D376),\"\")","v":2.27},{"$f":"IF(N376<>\"\",IF(E377<>\"\",E377,E376),\"\")","v":3.17},{"$f":"IF(N376<>\"\",IF(F377<>\"\",F377,F376),\"\")","v":3.39}]
[null,null,null,2.27,3.17,3.39,0.4194,0.30030000000000001,0.28029999999999999,0.95050000000000001,null,null,null,null,null,""]
["ITA D2",null,"Lecce",1.8,3.21,4.66,0.51339999999999997,0.28810000000000002,0.19850000000000001,0.92490000000000006,"Ascoli","View(180)",null,{"$f":"IF(A378<>\"\",TEXT(A378,\"\"),\"\")","v":"ITA D2"},{"$f":"IF(N378=\"\",\"\",CONCATENATE(IF(C378<>\"\",TEXT(C378,\"\"),\"\"),\" - \",IF(K378<>\"\",TEXT(K378,\"\"),\"\")))","v":"Lecce - Ascoli"},"http://www.data.nowgoal.vip/analysis/1600192.html",{"$f":"IF(D378<>\"\",D378,\"\")","v":1.8},{"$f":"IF(E378<>\"\",E378,\"\")","v":3.21},{"$f":"IF(F378<>\"\",F378,\"\")","v":4.66},{"$f":"IF(N378<>\"\",IF(D379<>\"\",D379,D378),\"\")","v":1.78},{"$f":"IF(N378<>\"\",IF(E379<>\"\",E379,E378),\"\")","v":3.24},{"$f":"IF(N378<>\"\",IF(F379<>\"\",F379,F378),\"\")","v":4.87}]
[null,null,null,1.78,3.24,4.87,0.52270000000000005,0.28660000000000002,0.19070000000000001,0.9284,null,null,null,null,null,""]
["SPA D2",null,"Malaga",1.57,3.45,6.25,0.58530000000000004,0.26729999999999998,0.1474,0.92179999999999995,"Almeria","View(183)",null,{"$f":"IF(A380<>\"\",TEXT(A380,\"\"),\"\")","v":"SPA D2"},{"$f":"IF(N380=\"\",\"\",CONCATENATE(IF(C380<>\"\",TEXT(C380,\"\"),\"\"),\" - \",IF(K380<>\"\",TEXT(K380,\"\"),\"\")))","v":"Malaga - Almeria"},"http://www.data.nowgoal.vip/analysis/1584236.html",{"$f":"IF(D380<>\"\",D380,\"\")","v":1.57},{"$f":"IF(E380<>\"\",E380,\"\")","v":3.45},{"$f":"IF(F380<>\"\",F380,\"\")","v":6.25},{"$f":"IF(N380<>\"\",IF(D381<>\"\",D381,D380),\"\")","v":1.75},{"$f":"IF(N380<>\"\",IF(E381<>\"\",E381,E380),\"\")","v":3.16},{"$f":"IF(N380<>\"\",IF(F381<>\"\",F381,F380),\"\")","v":5.3}]
[null,null,null,1.75,3.16,5.3,0.53129999999999999,0.29360000000000003,0.17510000000000001,0.92789999999999995,null,null,null,null,null,""]
["ARG B M",null,"Deportivo Espanol",3.96,3.24,1.83,0.22800000000000001,0.27839999999999998,0.49359999999999998,0.90280000000000005,"Tristan Suarez","View(75)",null,{"$f":"IF(A382<>\"\",TEXT(A382,\"\"),\"\")","v":"ARG B M"},{"$f":"IF(N382=\"\",\"\",CONCATENATE(IF(C382<>\"\",TEXT(C382,\"\"),\"\"),\" - \",IF(K382<>\"\",TEXT(K382,\"\"),\"\")))","v":"Deportivo Espanol - Tristan Suarez"},"http://www.data.nowgoal.vip/analysis/1603982.html",{"$f":"IF(D382<>\"\",D382,\"\")","v":3.96},{"$f":"IF(E382<>\"\",E382,\"\")","v":3.24},{"$f":"IF(F382<>\"\",F382,\"\")","v":1.83},{"$f":"IF(N382<>\"\",IF(D383<>\"\",D383,D382),\"\")","v":3.8},{"$f":"IF(N382<>\"\",IF(E383<>\"\",E383,E382),\"\")","v":3.16},{"$f":"IF(N382<>\"\",IF(F383<>\"\",F383,F382),\"\")","v":1.9}]
[null,null,null,3.8,3.16,1.9,0.2384,0.28599999999999998,0.47560000000000002,0.90469999999999995,null,null,null,null,null,""]
["ACT M",null,"Berazategui",3.64,3.21,1.92,0.248,0.28129999999999999,0.47070000000000001,0.9022,"Deportivo Laferrere","View(54)",null,{"$f":"IF(A384<>\"\",TEXT(A384,\"\"),\"\")","v":"ACT M"},{"$f":"IF(N384=\"\",\"\",CONCATENATE(IF(C384<>\"\",TEXT(C384,\"\"),\"\"),\" - \",IF(K384<>\"\",TEXT(K384,\"\"),\"\")))","v":"Berazategui - Deportivo Laferrere"},"http://www.data.nowgoal.vip/analysis/1603613.html",{"$f":"IF(D384<>\"\",D384,\"\")","v":3.64},{"$f":"IF(E384<>\"\",E384,\"\")","v":3.21},{"$f":"IF(F384<>\"\",F384,\"\")","v":1.92},{"$f":"IF(N384<>\"\",IF(D385<>\"\",D385,D384),\"\")","v":3.64},{"$f":"IF(N384<>\"\",IF(E385<>\"\",E385,E384),\"\")","v":3.21},{"$f":"IF(N384<>\"\",IF(F385<>\"\",F385,F384),\"\")","v":1.92}]
[null,null,null,3.64,3.21,1.92,0.24779999999999999,0.28149999999999997,0.4708,0.90280000000000005,null,null,null,null,null,""]
["ADT M",null,"Deportivo Paraguayo",3.02,3,2.2599999999999998,0.2989,0.3014,0.3997,0.90369999999999995,"Claypole","View(21)",null,{"$f":"IF(A386<>\"\",TEXT(A386,\"\"),\"\")","v":"ADT M"},{"$f":"IF(N386=\"\",\"\",CONCATENATE(IF(C386<>\"\",TEXT(C386,\"\"),\"\"),\" - \",IF(K386<>\"\",TEXT(K386,\"\"),\"\")))","v":"Deportivo Paraguayo - Claypole"},"http://www.data.nowgoal.vip/analysis/1627298.html",{"$f":"IF(D386<>\"\",D386,\"\")","v":3.02},{"$f":"IF(E386<>\"\",E386,\"\")","v":3},{"$f":"IF(F386<>\"\",F386,\"\")","v":2.2599999999999998},{"$f":"IF(N386<>\"\",IF(D387<>\"\",D387,D386),\"\")","v":3.03},{"$f":"IF(N386<>\"\",IF(E387<>\"\",E387,E386),\"\")","v":3},{"$f":"IF(N386<>\"\",IF(F387<>\"\",F387,F386),\"\")","v":2.2599999999999998}]
[null,null,null,3.03,3,2.2599999999999998,0.2989,0.30130000000000001,0.3997,0.9042,null,null,null,null,null,{"$f":"SUBSTITUTE(SUBSTITUTE(SUBSTITUTE(SUBSTITUTE(IF(L387<>\"\",HLink(L387),\"\"),\"htm\",\"html\"),\"1x2\",\"analysis\"),\"www\",\"www.data\"),\"com\",\"vip\")","v":""}]
["ADT M",null,"CA Atlas",1.67,3.32,4.79,0.54,0.2717,0.18840000000000001,0.90180000000000005,"Puerto Nuevo","View(21)",null,{"$f":"IF(A388<>\"\",TEXT(A388,\"\"),\"\")","v":"ADT M"},{"$f":"IF(N388=\"\",\"\",CONCATENATE(IF(C388<>\"\",TEXT(C388,\"\"),\"\"),\" - \",IF(K388<>\"\",TEXT(K388,\"\"),\"\")))","v":"CA Atlas - Puerto Nuevo"},"http://www.data.nowgoal.vip/analysis/1627301.html",{"$f":"IF(D388<>\"\",D388,\"\")","v":1.67},{"$f":"IF(E388<>\"\",E388,\"\")","v":3.32},{"$f":"IF(F388<>\"\",F388,\"\")","v":4.79},{"$f":"IF(N388<>\"\",IF(D389<>\"\",D389,D388),\"\")","v":1.67},{"$f":"IF(N388<>\"\",IF(E389<>\"\",E389,E388),\"\")","v":3.32},{"$f":"IF(N388<>\"\",IF(F389<>\"\",F389,F388),\"\")","v":4.79}]
[null,null,null,1.67,3.32,4.79,0.54010000000000002,0.27150000000000002,0.18840000000000001,0.9022,null,null,null,null,null,""]
["Ire LSL",null,"St Patricks CY",3.63,4.2,1.66,0.24709999999999999,0.21329999999999999,0.53959999999999997,0.89570000000000005,"Killester Donnycarne","View(2)",null,{"$f":"IF(A390<>\"\",TEXT(A390,\"\"),\"\")","v":"Ire LSL"},{"$f":"IF(N390=\"\",\"\",CONCATENATE(IF(C390<>\"\",TEXT(C390,\"\"),\"\"),\" - \",IF(K390<>\"\",TEXT(K390,\"\"),\"\")))","v":"St Patricks CY - Killester Donnycarne"},"http://www.data.nowgoal.vip/analysis/1664933.html",{"$f":"IF(D390<>\"\",D390,\"\")","v":3.63},{"$f":"IF(E390<>\"\",E390,\"\")","v":4.2},{"$f":"IF(F390<>\"\",F390,\"\")","v":1.66},{"$f":"IF(N390<>\"\",IF(D391<>\"\",D391,D390),\"\")","v":3.58},{"$f":"IF(N390<>\"\",IF(E391<>\"\",E391,E390),\"\")","v":4.18},{"$f":"IF(N390<>\"\",IF(F391<>\"\",F391,F390),\"\")","v":1.67}]
[null,null,null,3.58,4.18,1.67,0.25019999999999998,0.2142,0.53559999999999997,0.89449999999999996,null,null,null,null,null,""]
["Ire LSL",null,"Cherry Orchard",1.37,4.53,6.4,0.66010000000000002,0.1991,0.14080000000000001,0.90100000000000002,"Firhouse Clover FC","View(2)",null,{"$f":"IF(A392<>\"\",TEXT(A392,\"\"),\"\")","v":"Ire LSL"},{"$f":"IF(N392=\"\",\"\",CONCATENATE(IF(C392<>\"\",TEXT(C392,\"\"),\"\"),\" - \",IF(K392<>\"\",TEXT(K392,\"\"),\"\")))","v":"Cherry Orchard - Firhouse Clover FC"},"http://www.data.nowgoal.vip/analysis/1664940.html",{"$f":"IF(D392<>\"\",D392,\"\")","v":1.37},{"$f":"IF(E392<>\"\",E392,\"\")","v":4.53},{"$f":"IF(F392<>\"\",F392,\"\")","v":6.4},{"$f":"IF(N392<>\"\",IF(D393<>\"\",D393,D392),\"\")","v":1.37},{"$f":"IF(N392<>\"\",IF(E393<>\"\",E393,E392),\"\")","v":4.55},{"$f":"IF(N392<>\"\",IF(F393<>\"\",F393,F392),\"\")","v":6.45}]
[null,null,null,1.37,4.55,6.45,0.66149999999999998,0.19850000000000001,0.14000000000000001,0.90290000000000004,null,null,null,null,null,""]
["ICE PSC",null,"Keflavik",3.6,5,1.57,0.2492,0.1794,0.57140000000000002,0.89710000000000001,"IBV Vestmannaeyjar","View(2)",null,{"$f":"IF(A394<>\"\",TEXT(A394,\"\"),\"\")","v":"ICE PSC"},{"$f":"IF(N394=\"\",\"\",CONCATENATE(IF(C394<>\"\",TEXT(C394,\"\"),\"\"),\" - \",IF(K394<>\"\",TEXT(K394,\"\"),\"\")))","v":"Keflavik - IBV Vestmannaeyjar"},"http://www.data.nowgoal.vip/analysis/1664877.html",{"$f":"IF(D394<>\"\",D394,\"\")","v":3.6},{"$f":"IF(E394<>\"\",E394,\"\")","v":5},{"$f":"IF(F394<>\"\",F394,\"\")","v":1.57},{"$f":"IF(N394<>\"\",IF(D395<>\"\",D395,D394),\"\")","v":3.6},{"$f":"IF(N394<>\"\",IF(E395<>\"\",E395,E394),\"\")","v":5},{"$f":"IF(N394<>\"\",IF(F395<>\"\",F395,F394),\"\")","v":1.57}]
[null,null,null,null,null,null,null,null,null,null,null,null,null,null,null,""]
["AOC",null,"Rosenborg(N)",2.96,3.64,2.1,0.31030000000000002,0.25209999999999999,0.43759999999999999,0.91800000000000004,"Slavia Praha","View(21)",null,{"$f":"IF(A396<>\"\",TEXT(A396,\"\"),\"\")","v":"AOC"},{"$f":"IF(N396=\"\",\"\",CONCATENATE(IF(C396<>\"\",TEXT(C396,\"\"),\"\"),\" - \",IF(K396<>\"\",TEXT(K396,\"\"),\"\")))","v":"Rosenborg(N) - Slavia Praha"},"http://www.data.nowgoal.vip/analysis/1660995.html",{"$f":"IF(D396<>\"\",D396,\"\")","v":2.96},{"$f":"IF(E396<>\"\",E396,\"\")","v":3.64},{"$f":"IF(F396<>\"\",F396,\"\")","v":2.1},{"$f":"IF(N396<>\"\",IF(D397<>\"\",D397,D396),\"\")","v":3.93},{"$f":"IF(N396<>\"\",IF(E397<>\"\",E397,E396),\"\")","v":3.91},{"$f":"IF(N396<>\"\",IF(F397<>\"\",F397,F396),\"\")","v":1.7}]
[null,null,null,3.93,3.91,1.7,0.23130000000000001,0.2324,0.5363,0.90969999999999995,null,null,null,null,null,""]
["POR D1",null,"Rio Ave",1.99,3.33,3.63,0.46610000000000001,0.27829999999999999,0.2555,0.92769999999999997,"CD Tondela","View(185)",null,{"$f":"IF(A398<>\"\",TEXT(A398,\"\"),\"\")","v":"POR D1"},{"$f":"IF(N398=\"\",\"\",CONCATENATE(IF(C398<>\"\",TEXT(C398,\"\"),\"\"),\" - \",IF(K398<>\"\",TEXT(K398,\"\"),\"\")))","v":"Rio Ave - CD Tondela"},"http://www.data.nowgoal.vip/analysis/1576259.html",{"$f":"IF(D398<>\"\",D398,\"\")","v":1.99},{"$f":"IF(E398<>\"\",E398,\"\")","v":3.33},{"$f":"IF(F398<>\"\",F398,\"\")","v":3.63},{"$f":"IF(N398<>\"\",IF(D399<>\"\",D399,D398),\"\")","v":1.98},{"$f":"IF(N398<>\"\",IF(E399<>\"\",E399,E398),\"\")","v":3.38},{"$f":"IF(N398<>\"\",IF(F399<>\"\",F399,F398),\"\")","v":3.68}]
[null,null,null,1.98,3.38,3.68,0.47049999999999997,0.2762,0.25330000000000003,0.93289999999999995,null,null,null,null,null,""]
["CSU20",null,"Argentina U20(N)",2.39,3.03,2.84,0.37969999999999998,0.30030000000000001,0.32,0.90920000000000001,"Colombia U20","View(48)",null,{"$f":"IF(A400<>\"\",TEXT(A400,\"\"),\"\")","v":"CSU20"},{"$f":"IF(N400=\"\",\"\",CONCATENATE(IF(C400<>\"\",TEXT(C400,\"\"),\"\"),\" - \",IF(K400<>\"\",TEXT(K400,\"\"),\"\")))","v":"Argentina U20(N) - Colombia U20"},"http://www.data.nowgoal.vip/analysis/1663727.html",{"$f":"IF(D400<>\"\",D400,\"\")","v":2.39},{"$f":"IF(E400<>\"\",E400,\"\")","v":3.03},{"$f":"IF(F400<>\"\",F400,\"\")","v":2.84},{"$f":"IF(N400<>\"\",IF(D401<>\"\",D401,D400),\"\")","v":2.37},{"$f":"IF(N400<>\"\",IF(E401<>\"\",E401,E400),\"\")","v":3},{"$f":"IF(N400<>\"\",IF(F401<>\"\",F401,F400),\"\")","v":2.94}]
[null,null,null,2.37,3,2.94,0.38519999999999999,0.30430000000000001,0.3105,0.91400000000000003,null,null,null,null,null,""]
["INT CF",null,"Atletico Marte",2.5,3.2,2.5,0.35959999999999998,0.28089999999999998,0.35959999999999998,0.89900000000000002,"CD Sonsonate","View(1)",null,{"$f":"IF(A402<>\"\",TEXT(A402,\"\"),\"\")","v":"INT CF"},{"$f":"IF(N402=\"\",\"\",CONCATENATE(IF(C402<>\"\",TEXT(C402,\"\"),\"\"),\" - \",IF(K402<>\"\",TEXT(K402,\"\"),\"\")))","v":"Atletico Marte - CD Sonsonate"},"http://www.data.nowgoal.vip/analysis/1665073.html",{"$f":"IF(D402<>\"\",D402,\"\")","v":2.5},{"$f":"IF(E402<>\"\",E402,\"\")","v":3.2},{"$f":"IF(F402<>\"\",F402,\"\")","v":2.5},{"$f":"IF(N402<>\"\",IF(D403<>\"\",D403,D402),\"\")","v":2.5},{"$f":"IF(N402<>\"\",IF(E403<>\"\",E403,E402),\"\")","v":3.2},{"$f":"IF(N402<>\"\",IF(F403<>\"\",F403,F402),\"\")","v":2.5}]
[null,null,null,null,null,null,null,null,null,null,null,null,null,null,null,""]
["Spain D4",null,"CD Buzanada",2.67,3.07,2.44,0.3372,0.29370000000000002,0.36899999999999999,0.90069999999999995,"Tenerife B","View(9)",null,{"$f":"IF(A404<>\"\",TEXT(A404,\"\"),\"\")","v":"Spain D4"},{"$f":"IF(N404=\"\",\"\",CONCATENATE(IF(C404<>\"\",TEXT(C404,\"\"),\"\"),\" - \",IF(K404<>\"\",TEXT(K404,\"\"),\"\")))","v":"CD Buzanada - Tenerife B"},"http://www.data.nowgoal.vip/analysis/1664900.html",{"$f":"IF(D404<>\"\",D404,\"\")","v":2.67},{"$f":"IF(E404<>\"\",E404,\"\")","v":3.07},{"$f":"IF(F404<>\"\",F404,\"\")","v":2.44},{"$f":"IF(N404<>\"\",IF(D405<>\"\",D405,D404),\"\")","v":2.74},{"$f":"IF(N404<>\"\",IF(E405<>\"\",E405,E404),\"\")","v":3},{"$f":"IF(N404<>\"\",IF(F405<>\"\",F405,F404),\"\")","v":2.44}]
[null,null,null,2.74,3,2.44,0.32919999999999999,0.30109999999999998,0.36969999999999997,0.90349999999999997,null,null,null,null,null,""]
["MEX D3",null,"CD Nuevo Chimalhuacan",1.53,4.2300000000000004,4.5,0.58740000000000003,0.21249999999999999,0.2,0.89949999999999997,"Deportivo Gladiadores","View(22)",null,{"$f":"IF(A406<>\"\",TEXT(A406,\"\"),\"\")","v":"MEX D3"},{"$f":"IF(N406=\"\",\"\",CONCATENATE(IF(C406<>\"\",TEXT(C406,\"\"),\"\"),\" - \",IF(K406<>\"\",TEXT(K406,\"\"),\"\")))","v":"CD Nuevo Chimalhuacan - Deportivo Gladiadores"},"http://www.data.nowgoal.vip/analysis/1664898.html",{"$f":"IF(D406<>\"\",D406,\"\")","v":1.53},{"$f":"IF(E406<>\"\",E406,\"\")","v":4.2300000000000004},{"$f":"IF(F406<>\"\",F406,\"\")","v":4.5},{"$f":"IF(N406<>\"\",IF(D407<>\"\",D407,D406),\"\")","v":1.53},{"$f":"IF(N406<>\"\",IF(E407<>\"\",E407,E406),\"\")","v":4.24},{"$f":"IF(N406<>\"\",IF(F407<>\"\",F407,F406),\"\")","v":4.51}]
[null,null,null,1.53,4.24,4.51,0.58760000000000001,0.21240000000000001,0.19989999999999999,0.90090000000000003,null,null,null,null,null,""]
["PAR D1",null,"Sol de America",2.04,3.17,3.38,0.44550000000000001,0.28639999999999999,0.2681,0.9073,"General Diaz","View(18)",null,{"$f":"IF(A408<>\"\",TEXT(A408,\"\"),\"\")","v":"PAR D1"},{"$f":"IF(N408=\"\",\"\",CONCATENATE(IF(C408<>\"\",TEXT(C408,\"\"),\"\"),\" - \",IF(K408<>\"\",TEXT(K408,\"\"),\"\")))","v":"Sol de America - General Diaz"},"http://www.data.nowgoal.vip/analysis/1650671.html",{"$f":"IF(D408<>\"\",D408,\"\")","v":2.04},{"$f":"IF(E408<>\"\",E408,\"\")","v":3.17},{"$f":"IF(F408<>\"\",F408,\"\")","v":3.38},{"$f":"IF(N408<>\"\",IF(D409<>\"\",D409,D408),\"\")","v":2.0299999999999998},{"$f":"IF(N408<>\"\",IF(E409<>\"\",E409,E408),\"\")","v":3.2},{"$f":"IF(N408<>\"\",IF(F409<>\"\",F409,F408),\"\")","v":3.38}]
[null,null,null,2.0299999999999998,3.2,3.38,0.44779999999999998,0.28370000000000001,0.26860000000000001,0.90800000000000003,null,null,null,null,null,""]
["Mex MFW",null,"Cruz Azul Women",9.31,5.47,1.22,9.6500000000000002E-2,0.16420000000000001,0.73929999999999996,0.89839999999999998,"Puebla Women","View(30)",null,{"$f":"IF(A410<>\"\",TEXT(A410,\"\"),\"\")","v":"Mex MFW"},{"$f":"IF(N410=\"\",\"\",CONCATENATE(IF(C410<>\"\",TEXT(C410,\"\"),\"\"),\" - \",IF(K410<>\"\",TEXT(K410,\"\"),\"\")))","v":"Cruz Azul Women - Puebla Women"},"http://www.data.nowgoal.vip/analysis/1664901.html",{"$f":"IF(D410<>\"\",D410,\"\")","v":9.31},{"$f":"IF(E410<>\"\",E410,\"\")","v":5.47},{"$f":"IF(F410<>\"\",F410,\"\")","v":1.22},{"$f":"IF(N410<>\"\",IF(D411<>\"\",D411,D410),\"\")","v":9.36},{"$f":"IF(N410<>\"\",IF(E411<>\"\",E411,E410),\"\")","v":5.49},{"$f":"IF(N410<>\"\",IF(F411<>\"\",F411,F410),\"\")","v":1.22}]
[null,null,null,9.36,5.49,1.22,9.6199999999999994E-2,0.16400000000000001,0.73980000000000001,0.90039999999999998,null,null,null,null,null,""]
["ARG D1",null,"Gimnasia La Plata",2.23,2.99,3.34,0.41439999999999999,0.309,0.27660000000000001,0.92269999999999996,"Club Atletico Tigre","View(183)",null,{"$f":"IF(A412<>\"\",TEXT(A412,\"\"),\"\")","v":"ARG D1"},{"$f":"IF(N412=\"\",\"\",CONCATENATE(IF(C412<>\"\",TEXT(C412,\"\"),\"\"),\" - \",IF(K412<>\"\",TEXT(K412,\"\"),\"\")))","v":"Gimnasia La Plata - Club Atletico Tigre"},"http://www.data.nowgoal.vip/analysis/1584652.html",{"$f":"IF(D412<>\"\",D412,\"\")","v":2.23},{"$f":"IF(E412<>\"\",E412,\"\")","v":2.99},{"$f":"IF(F412<>\"\",F412,\"\")","v":3.34},{"$f":"IF(N412<>\"\",IF(D413<>\"\",D413,D412),\"\")","v":2.29},{"$f":"IF(N412<>\"\",IF(E413<>\"\",E413,E412),\"\")","v":3.01},{"$f":"IF(N412<>\"\",IF(F413<>\"\",F413,F412),\"\")","v":3.19}]
[null,null,null,2.29,3.01,3.19,0.40360000000000001,0.30690000000000001,0.28949999999999998,0.92510000000000003,null,null,null,null,null,""]
["Mex MFW",null,"Club Necaxa Women",18.48,9.1199999999999992,1.07,4.9399999999999999E-2,0.1002,0.85040000000000004,0.91269999999999996,"Tigres Women","View(22)",null,{"$f":"IF(A414<>\"\",TEXT(A414,\"\"),\"\")","v":"Mex MFW"},{"$f":"IF(N414=\"\",\"\",CONCATENATE(IF(C414<>\"\",TEXT(C414,\"\"),\"\"),\" - \",IF(K414<>\"\",TEXT(K414,\"\"),\"\")))","v":"Club Necaxa Women - Tigres Women"},"http://www.data.nowgoal.vip/analysis/1664902.html",{"$f":"IF(D414<>\"\",D414,\"\")","v":18.48},{"$f":"IF(E414<>\"\",E414,\"\")","v":9.1199999999999992},{"$f":"IF(F414<>\"\",F414,\"\")","v":1.07},{"$f":"IF(N414<>\"\",IF(D415<>\"\",D415,D414),\"\")","v":18.489999999999998},{"$f":"IF(N414<>\"\",IF(E415<>\"\",E415,E414),\"\")","v":9.1199999999999992},{"$f":"IF(N414<>\"\",IF(F415<>\"\",F415,F414),\"\")","v":1.07}]
[null,null,null,18.489999999999998,9.1199999999999992,1.07,4.9399999999999999E-2,0.10009999999999999,0.85060000000000002,0.9133,null,null,null,null,null,""]
["BRA CCX",null,"Serra",2,3.28,3.23,0.44890000000000002,0.27339999999999998,0.2777,0.89780000000000004,"Real Noroeste","View(3)",null,{"$f":"IF(A416<>\"\",TEXT(A416,\"\"),\"\")","v":"BRA CCX"},{"$f":"IF(N416=\"\",\"\",CONCATENATE(IF(C416<>\"\",TEXT(C416,\"\"),\"\"),\" - \",IF(K416<>\"\",TEXT(K416,\"\"),\"\")))","v":"Serra - Real Noroeste"},"http://www.data.nowgoal.vip/analysis/1664863.html",{"$f":"IF(D416<>\"\",D416,\"\")","v":2},{"$f":"IF(E416<>\"\",E416,\"\")","v":3.28},{"$f":"IF(F416<>\"\",F416,\"\")","v":3.23},{"$f":"IF(N416<>\"\",IF(D417<>\"\",D417,D416),\"\")","v":2},{"$f":"IF(N416<>\"\",IF(E417<>\"\",E417,E416),\"\")","v":3.28},{"$f":"IF(N416<>\"\",IF(F417<>\"\",F417,F416),\"\")","v":3.25}]
[null,null,null,2,3.28,3.25,0.44950000000000001,0.27379999999999999,0.27660000000000001,0.89900000000000002,null,null,null,null,null,""]
["INT CF",null,"White City Woodville(N)",5,4.5,1.44,0.17910000000000001,0.19900000000000001,0.62190000000000001,0.89549999999999996,"Metrostars SC","View(1)",null,{"$f":"IF(A418<>\"\",TEXT(A418,\"\"),\"\")","v":"INT CF"},{"$f":"IF(N418=\"\",\"\",CONCATENATE(IF(C418<>\"\",TEXT(C418,\"\"),\"\"),\" - \",IF(K418<>\"\",TEXT(K418,\"\"),\"\")))","v":"White City Woodville(N) - Metrostars SC"},"http://www.data.nowgoal.vip/analysis/1665062.html",{"$f":"IF(D418<>\"\",D418,\"\")","v":5},{"$f":"IF(E418<>\"\",E418,\"\")","v":4.5},{"$f":"IF(F418<>\"\",F418,\"\")","v":1.44},{"$f":"IF(N418<>\"\",IF(D419<>\"\",D419,D418),\"\")","v":8},{"$f":"IF(N418<>\"\",IF(E419<>\"\",E419,E418),\"\")","v":4.75},{"$f":"IF(N418<>\"\",IF(F419<>\"\",F419,F418),\"\")","v":1.28}]
[null,null,null,8,4.75,1.28,0.1119,0.1885,0.6996,0.8952,null,null,null,null,null,""]
["INT CF",null,"CD Universidad de El Salvador",11,7,1.1399999999999999,8.1799999999999998E-2,0.12859999999999999,0.78959999999999997,0.89980000000000004,"Alianza Lima","View(1)",null,{"$f":"IF(A420<>\"\",TEXT(A420,\"\"),\"\")","v":"INT CF"},{"$f":"IF(N420=\"\",\"\",CONCATENATE(IF(C420<>\"\",TEXT(C420,\"\"),\"\"),\" - \",IF(K420<>\"\",TEXT(K420,\"\"),\"\")))","v":"CD Universidad de El Salvador - Alianza Lima"},"http://www.data.nowgoal.vip/analysis/1665072.html",{"$f":"IF(D420<>\"\",D420,\"\")","v":11},{"$f":"IF(E420<>\"\",E420,\"\")","v":7},{"$f":"IF(F420<>\"\",F420,\"\")","v":1.1399999999999999},{"$f":"IF(N420<>\"\",IF(D421<>\"\",D421,D420),\"\")","v":11},{"$f":"IF(N420<>\"\",IF(E421<>\"\",E421,E420),\"\")","v":7},{"$f":"IF(N420<>\"\",IF(F421<>\"\",F421,F420),\"\")","v":1.1399999999999999}]
[null,null,null,null,null,null,null,null,null,null,null,null,null,null,null,""]
["NIC YL",null,"UNAN Managua U21",1.32,5.03,5.95,0.67359999999999998,0.1769,0.14940000000000001,0.88919999999999999,"Deportivo Ocotal U21","View(2)",null,{"$f":"IF(A422<>\"\",TEXT(A422,\"\"),\"\")","v":"NIC YL"},{"$f":"IF(N422=\"\",\"\",CONCATENATE(IF(C422<>\"\",TEXT(C422,\"\"),\"\"),\" - \",IF(K422<>\"\",TEXT(K422,\"\"),\"\")))","v":"UNAN Managua U21 - Deportivo Ocotal U21"},"http://www.data.nowgoal.vip/analysis/1664879.html",{"$f":"IF(D422<>\"\",D422,\"\")","v":1.32},{"$f":"IF(E422<>\"\",E422,\"\")","v":5.03},{"$f":"IF(F422<>\"\",F422,\"\")","v":5.95},{"$f":"IF(N422<>\"\",IF(D423<>\"\",D423,D422),\"\")","v":1.32},{"$f":"IF(N422<>\"\",IF(E423<>\"\",E423,E422),\"\")","v":5.03},{"$f":"IF(N422<>\"\",IF(F423<>\"\",F423,F422),\"\")","v":5.93}]
[null,null,null,1.32,5.03,5.93,0.67320000000000002,0.17680000000000001,0.15,0.88859999999999995,null,null,null,null,null,""]
["CSU20",null,"Ecuador U20(N)",3.23,3.22,2.09,0.28129999999999999,0.2823,0.43640000000000001,0.90990000000000004,"Uruguay U20","View(46)",null,{"$f":"IF(A424<>\"\",TEXT(A424,\"\"),\"\")","v":"CSU20"},{"$f":"IF(N424=\"\",\"\",CONCATENATE(IF(C424<>\"\",TEXT(C424,\"\"),\"\"),\" - \",IF(K424<>\"\",TEXT(K424,\"\"),\"\")))","v":"Ecuador U20(N) - Uruguay U20"},"http://www.data.nowgoal.vip/analysis/1663728.html",{"$f":"IF(D424<>\"\",D424,\"\")","v":3.23},{"$f":"IF(E424<>\"\",E424,\"\")","v":3.22},{"$f":"IF(F424<>\"\",F424,\"\")","v":2.09},{"$f":"IF(N424<>\"\",IF(D425<>\"\",D425,D424),\"\")","v":3.53},{"$f":"IF(N424<>\"\",IF(E425<>\"\",E425,E424),\"\")","v":3.24},{"$f":"IF(N424<>\"\",IF(F425<>\"\",F425,F424),\"\")","v":1.98}]
[null,null,null,3.53,3.24,1.98,0.25819999999999999,0.28149999999999997,0.46039999999999998,0.91220000000000001,null,null,null,null,null,""]
["VEN D1",null,"Caracas FC",2.23,3.24,2.91,0.40670000000000001,0.28050000000000003,0.31280000000000002,0.90869999999999995,"Zamora Barinas","View(14)",null,{"$f":"IF(A426<>\"\",TEXT(A426,\"\"),\"\")","v":"VEN D1"},{"$f":"IF(N426=\"\",\"\",CONCATENATE(IF(C426<>\"\",TEXT(C426,\"\"),\"\"),\" - \",IF(K426<>\"\",TEXT(K426,\"\"),\"\")))","v":"Caracas FC - Zamora Barinas"},"http://www.data.nowgoal.vip/analysis/1660811.html",{"$f":"IF(D426<>\"\",D426,\"\")","v":2.23},{"$f":"IF(E426<>\"\",E426,\"\")","v":3.24},{"$f":"IF(F426<>\"\",F426,\"\")","v":2.91},{"$f":"IF(N426<>\"\",IF(D427<>\"\",D427,D426),\"\")","v":2.23},{"$f":"IF(N426<>\"\",IF(E427<>\"\",E427,E426),\"\")","v":3.24},{"$f":"IF(N426<>\"\",IF(F427<>\"\",F427,F426),\"\")","v":2.91}]
[null,null,null,2.23,3.24,2.91,0.40739999999999998,0.2802,0.31240000000000001,0.90880000000000005,null,null,null,null,null,""]
["ARG D2",null,"Los Andes",3.02,3.24,2.19,0.30149999999999999,0.28139999999999998,0.41710000000000003,0.91169999999999995,"Gimnasia Mendoza","View(70)",null,{"$f":"IF(A428<>\"\",TEXT(A428,\"\"),\"\")","v":"ARG D2"},{"$f":"IF(N428=\"\",\"\",CONCATENATE(IF(C428<>\"\",TEXT(C428,\"\"),\"\"),\" - \",IF(K428<>\"\",TEXT(K428,\"\"),\"\")))","v":"Los Andes - Gimnasia Mendoza"},"http://www.data.nowgoal.vip/analysis/1605425.html",{"$f":"IF(D428<>\"\",D428,\"\")","v":3.02},{"$f":"IF(E428<>\"\",E428,\"\")","v":3.24},{"$f":"IF(F428<>\"\",F428,\"\")","v":2.19},{"$f":"IF(N428<>\"\",IF(D429<>\"\",D429,D428),\"\")","v":2.86},{"$f":"IF(N428<>\"\",IF(E429<>\"\",E429,E428),\"\")","v":2.93},{"$f":"IF(N428<>\"\",IF(F429<>\"\",F429,F428),\"\")","v":2.4700000000000002}]
[null,null,null,2.86,2.93,2.4700000000000002,0.31890000000000002,0.31180000000000002,0.36919999999999997,0.91239999999999999,null,null,null,null,null,""]
["PRL",null,"San Francisco Reserves",2.7,3.5,2.2000000000000002,0.33350000000000002,0.25729999999999997,0.4093,0.90039999999999998,"CAI de la Chorrera Reserves","View(1)",null,{"$f":"IF(A430<>\"\",TEXT(A430,\"\"),\"\")","v":"PRL"},{"$f":"IF(N430=\"\",\"\",CONCATENATE(IF(C430<>\"\",TEXT(C430,\"\"),\"\"),\" - \",IF(K430<>\"\",TEXT(K430,\"\"),\"\")))","v":"San Francisco Reserves - CAI de la Chorrera Reserves"},"http://www.data.nowgoal.vip/analysis/1664938.html",{"$f":"IF(D430<>\"\",D430,\"\")","v":2.7},{"$f":"IF(E430<>\"\",E430,\"\")","v":3.5},{"$f":"IF(F430<>\"\",F430,\"\")","v":2.2000000000000002},{"$f":"IF(N430<>\"\",IF(D431<>\"\",D431,D430),\"\")","v":2.7},{"$f":"IF(N430<>\"\",IF(E431<>\"\",E431,E430),\"\")","v":3.5},{"$f":"IF(N430<>\"\",IF(F431<>\"\",F431,F430),\"\")","v":2.2000000000000002}]
[null,null,null,null,null,null,null,null,null,null,null,null,null,null,null,""]
["INT CF",null,"Curico Unido",2.75,3.4,2.2000000000000002,0.32690000000000002,0.26440000000000002,0.40870000000000001,0.89900000000000002,"CSD Antofagasta","View(1)",null,{"$f":"IF(A432<>\"\",TEXT(A432,\"\"),\"\")","v":"INT CF"},{"$f":"IF(N432=\"\",\"\",CONCATENATE(IF(C432<>\"\",TEXT(C432,\"\"),\"\"),\" - \",IF(K432<>\"\",TEXT(K432,\"\"),\"\")))","v":"Curico Unido - CSD Antofagasta"},"http://www.data.nowgoal.vip/analysis/1664872.html",{"$f":"IF(D432<>\"\",D432,\"\")","v":2.75},{"$f":"IF(E432<>\"\",E432,\"\")","v":3.4},{"$f":"IF(F432<>\"\",F432,\"\")","v":2.2000000000000002},{"$f":"IF(N432<>\"\",IF(D433<>\"\",D433,D432),\"\")","v":2.75},{"$f":"IF(N432<>\"\",IF(E433<>\"\",E433,E432),\"\")","v":3.4},{"$f":"IF(N432<>\"\",IF(F433<>\"\",F433,F432),\"\")","v":2.2000000000000002}]
[null,null,null,null,null,null,null,null,null,null,null,null,null,null,null,""]
["PAR D1",null,"Guarani CA",2.62,3.19,2.42,0.3448,0.2823,0.37280000000000002,0.90180000000000005,"Libertad","View(59)",null,{"$f":"IF(A434<>\"\",TEXT(A434,\"\"),\"\")","v":"PAR D1"},{"$f":"IF(N434=\"\",\"\",CONCATENATE(IF(C434<>\"\",TEXT(C434,\"\"),\"\"),\" - \",IF(K434<>\"\",TEXT(K434,\"\"),\"\")))","v":"Guarani CA - Libertad"},"http://www.data.nowgoal.vip/analysis/1650669.html",{"$f":"IF(D434<>\"\",D434,\"\")","v":2.62},{"$f":"IF(E434<>\"\",E434,\"\")","v":3.19},{"$f":"IF(F434<>\"\",F434,\"\")","v":2.42},{"$f":"IF(N434<>\"\",IF(D435<>\"\",D435,D434),\"\")","v":2.63},{"$f":"IF(N434<>\"\",IF(E435<>\"\",E435,E434),\"\")","v":3.18},{"$f":"IF(N434<>\"\",IF(F435<>\"\",F435,F434),\"\")","v":2.42}]
[null,null,null,2.63,3.18,2.42,0.34310000000000002,0.28349999999999997,0.37340000000000001,0.90239999999999998,null,null,null,null,null,""]
["ARG D2",null,"Atletico Rafaela",2.12,3,3.38,0.42859999999999998,0.30249999999999999,0.26889999999999997,0.90739999999999998,"Villa Dalmine","View(84)",null,{"$f":"IF(A436<>\"\",TEXT(A436,\"\"),\"\")","v":"ARG D2"},{"$f":"IF(N436=\"\",\"\",CONCATENATE(IF(C436<>\"\",TEXT(C436,\"\"),\"\"),\" - \",IF(K436<>\"\",TEXT(K436,\"\"),\"\")))","v":"Atletico Rafaela - Villa Dalmine"},"http://www.data.nowgoal.vip/analysis/1605418.html",{"$f":"IF(D436<>\"\",D436,\"\")","v":2.12},{"$f":"IF(E436<>\"\",E436,\"\")","v":3},{"$f":"IF(F436<>\"\",F436,\"\")","v":3.38},{"$f":"IF(N436<>\"\",IF(D437<>\"\",D437,D436),\"\")","v":2.08},{"$f":"IF(N436<>\"\",IF(E437<>\"\",E437,E436),\"\")","v":3},{"$f":"IF(N436<>\"\",IF(F437<>\"\",F437,F436),\"\")","v":3.53}]
[null,null,null,2.08,3,3.53,0.4385,0.30349999999999999,0.25800000000000001,0.9103,null,null,null,null,null,""]
["INT CF",null,"Deportivo Cuenca",1.9,3.4,3.4,0.47220000000000001,0.26390000000000002,0.26390000000000002,0.8972,"Dep.San Martin","View(1)",null,{"$f":"IF(A438<>\"\",TEXT(A438,\"\"),\"\")","v":"INT CF"},{"$f":"IF(N438=\"\",\"\",CONCATENATE(IF(C438<>\"\",TEXT(C438,\"\"),\"\"),\" - \",IF(K438<>\"\",TEXT(K438,\"\"),\"\")))","v":"Deportivo Cuenca - Dep.San Martin"},"http://www.data.nowgoal.vip/analysis/1664873.html",{"$f":"IF(D438<>\"\",D438,\"\")","v":1.9},{"$f":"IF(E438<>\"\",E438,\"\")","v":3.4},{"$f":"IF(F438<>\"\",F438,\"\")","v":3.4},{"$f":"IF(N438<>\"\",IF(D439<>\"\",D439,D438),\"\")","v":1.9},{"$f":"IF(N438<>\"\",IF(E439<>\"\",E439,E438),\"\")","v":3.4},{"$f":"IF(N438<>\"\",IF(F439<>\"\",F439,F438),\"\")","v":3.4}]
[null,null,null,null,null,null,null,null,null,null,null,null,null,null,null,""]
["MEX D3",null,"Estudiantes Tecos",2.19,3.24,2.86,0.40949999999999998,0.2767,0.31380000000000002,0.89580000000000004,"Coras De Nayarit","View(4)",null,{"$f":"IF(A440<>\"\",TEXT(A440,\"\"),\"\")","v":"MEX D3"},{"$f":"IF(N440=\"\",\"\",CONCATENATE(IF(C440<>\"\",TEXT(C440,\"\"),\"\"),\" - \",IF(K440<>\"\",TEXT(K440,\"\"),\"\")))","v":"Estudiantes Tecos - Coras De Nayarit"},"http://www.data.nowgoal.vip/analysis/1664948.html",{"$f":"IF(D440<>\"\",D440,\"\")","v":2.19},{"$f":"IF(E440<>\"\",E440,\"\")","v":3.24},{"$f":"IF(F440<>\"\",F440,\"\")","v":2.86},{"$f":"IF(N440<>\"\",IF(D441<>\"\",D441,D440),\"\")","v":2.19},{"$f":"IF(N440<>\"\",IF(E441<>\"\",E441,E440),\"\")","v":3.24},{"$f":"IF(N440<>\"\",IF(F441<>\"\",F441,F440),\"\")","v":2.86}]
[null,null,null,null,null,null,null,null,null,null,null,null,null,null,null,""]
["ARG B M",null,"Estudiantes de Caseros",1.49,3.78,5.73,0.60429999999999995,0.2384,0.15720000000000001,0.9012,"Defensores Unidos","View(16)",null,{"$f":"IF(A442<>\"\",TEXT(A442,\"\"),\"\")","v":"ARG B M"},{"$f":"IF(N442=\"\",\"\",CONCATENATE(IF(C442<>\"\",TEXT(C442,\"\"),\"\"),\" - \",IF(K442<>\"\",TEXT(K442,\"\"),\"\")))","v":"Estudiantes de Caseros - Defensores Unidos"},"http://www.data.nowgoal.vip/analysis/1603987.html",{"$f":"IF(D442<>\"\",D442,\"\")","v":1.49},{"$f":"IF(E442<>\"\",E442,\"\")","v":3.78},{"$f":"IF(F442<>\"\",F442,\"\")","v":5.73},{"$f":"IF(N442<>\"\",IF(D443<>\"\",D443,D442),\"\")","v":1.52},{"$f":"IF(N442<>\"\",IF(E443<>\"\",E443,E442),\"\")","v":3.68},{"$f":"IF(N442<>\"\",IF(F443<>\"\",F443,F442),\"\")","v":5.63}]
[null,null,null,1.52,3.68,5.63,0.59379999999999999,0.24560000000000001,0.16059999999999999,0.90439999999999998,null,null,null,null,null,""]
["ARG D1",null,"San Martin Tucuman",3.65,3.02,2.08,0.25219999999999998,0.3054,0.44240000000000002,0.92169999999999996,"Defensa Y Justicia","View(174)",null,{"$f":"IF(A444<>\"\",TEXT(A444,\"\"),\"\")","v":"ARG D1"},{"$f":"IF(N444=\"\",\"\",CONCATENATE(IF(C444<>\"\",TEXT(C444,\"\"),\"\"),\" - \",IF(K444<>\"\",TEXT(K444,\"\"),\"\")))","v":"San Martin Tucuman - Defensa Y Justicia"},"http://www.data.nowgoal.vip/analysis/1584651.html",{"$f":"IF(D444<>\"\",D444,\"\")","v":3.65},{"$f":"IF(E444<>\"\",E444,\"\")","v":3.02},{"$f":"IF(F444<>\"\",F444,\"\")","v":2.08},{"$f":"IF(N444<>\"\",IF(D445<>\"\",D445,D444),\"\")","v":3.63},{"$f":"IF(N444<>\"\",IF(E445<>\"\",E445,E444),\"\")","v":3.03},{"$f":"IF(N444<>\"\",IF(F445<>\"\",F445,F444),\"\")","v":2.1}]
[null,null,null,3.63,3.03,2.1,0.25480000000000003,0.3049,0.44030000000000002,0.92490000000000006,null,null,null,null,null,""]
["ARG D1",null,"Talleres Cordoba",2.02,2.99,3.93,0.45729999999999998,0.30830000000000002,0.2344,0.92179999999999995,"Banfield","View(181)",null,{"$f":"IF(A446<>\"\",TEXT(A446,\"\"),\"\")","v":"ARG D1"},{"$f":"IF(N446=\"\",\"\",CONCATENATE(IF(C446<>\"\",TEXT(C446,\"\"),\"\"),\" - \",IF(K446<>\"\",TEXT(K446,\"\"),\"\")))","v":"Talleres Cordoba - Banfield"},"http://www.data.nowgoal.vip/analysis/1584661.html",{"$f":"IF(D446<>\"\",D446,\"\")","v":2.02},{"$f":"IF(E446<>\"\",E446,\"\")","v":2.99},{"$f":"IF(F446<>\"\",F446,\"\")","v":3.93},{"$f":"IF(N446<>\"\",IF(D447<>\"\",D447,D446),\"\")","v":2.09},{"$f":"IF(N446<>\"\",IF(E447<>\"\",E447,E446),\"\")","v":2.93},{"$f":"IF(N446<>\"\",IF(F447<>\"\",F447,F446),\"\")","v":3.83}]
[null,null,null,2.09,2.93,3.83,0.44259999999999999,0.31559999999999999,0.2419,0.92569999999999997,null,null,null,null,null,""]
["NZFC",null,"Canterbury United",10.8,5.33,1.2,8.3400000000000002E-2,0.16889999999999999,0.74770000000000003,0.90029999999999999,"Auckland City","View(11)",null,{"$f":"IF(A448<>\"\",TEXT(A448,\"\"),\"\")","v":"NZFC"},{"$f":"IF(N448=\"\",\"\",CONCATENATE(IF(C448<>\"\",TEXT(C448,\"\"),\"\"),\" - \",IF(K448<>\"\",TEXT(K448,\"\"),\"\")))","v":"Canterbury United - Auckland City"},"http://www.data.nowgoal.vip/analysis/1633366.html",{"$f":"IF(D448<>\"\",D448,\"\")","v":10.8},{"$f":"IF(E448<>\"\",E448,\"\")","v":5.33},{"$f":"IF(F448<>\"\",F448,\"\")","v":1.2},{"$f":"IF(N448<>\"\",IF(D449<>\"\",D449,D448),\"\")","v":10.73},{"$f":"IF(N448<>\"\",IF(E449<>\"\",E449,E448),\"\")","v":5.34},{"$f":"IF(N448<>\"\",IF(F449<>\"\",F449,F448),\"\")","v":1.2}]
[null,null,null,10.73,5.34,1.2,8.3900000000000002E-2,0.1686,0.74750000000000005,0.9,null,null,null,null,null,""]
["MEX D1",null,"Monarcas Morelia",2.15,3.24,3.13,0.42499999999999999,0.28270000000000001,0.2923,0.91469999999999996,"Atlas","View(173)",null,{"$f":"IF(A450<>\"\",TEXT(A450,\"\"),\"\")","v":"MEX D1"},{"$f":"IF(N450=\"\",\"\",CONCATENATE(IF(C450<>\"\",TEXT(C450,\"\"),\"\"),\" - \",IF(K450<>\"\",TEXT(K450,\"\"),\"\")))","v":"Monarcas Morelia - Atlas"},"http://www.data.nowgoal.vip/analysis/1651377.html",{"$f":"IF(D450<>\"\",D450,\"\")","v":2.15},{"$f":"IF(E450<>\"\",E450,\"\")","v":3.24},{"$f":"IF(F450<>\"\",F450,\"\")","v":3.13},{"$f":"IF(N450<>\"\",IF(D451<>\"\",D451,D450),\"\")","v":2.36},{"$f":"IF(N450<>\"\",IF(E451<>\"\",E451,E450),\"\")","v":3.21},{"$f":"IF(N450<>\"\",IF(F451<>\"\",F451,F450),\"\")","v":2.85}]
[null,null,null,2.36,3.21,2.85,0.3906,0.28649999999999998,0.32290000000000002,0.92069999999999996,null,null,null,null,null,{"$f":"SUBSTITUTE(SUBSTITUTE(SUBSTITUTE(SUBSTITUTE(IF(L451<>\"\",HLink(L451),\"\"),\"htm\",\"html\"),\"1x2\",\"analysis\"),\"www\",\"www.data\"),\"com\",\"vip\")","v":""}]
["ARG D2",null,"Central Cordoba SDE",1.99,3.03,3.63,0.4531,0.29799999999999999,0.24890000000000001,0.9032,"CA Platense","View(29)",null,{"$f":"IF(A452<>\"\",TEXT(A452,\"\"),\"\")","v":"ARG D2"},{"$f":"IF(N452=\"\",\"\",CONCATENATE(IF(C452<>\"\",TEXT(C452,\"\"),\"\"),\" - \",IF(K452<>\"\",TEXT(K452,\"\"),\"\")))","v":"Central Cordoba SDE - CA Platense"},"http://www.data.nowgoal.vip/analysis/1605420.html",{"$f":"IF(D452<>\"\",D452,\"\")","v":1.99},{"$f":"IF(E452<>\"\",E452,\"\")","v":3.03},{"$f":"IF(F452<>\"\",F452,\"\")","v":3.63},{"$f":"IF(N452<>\"\",IF(D453<>\"\",D453,D452),\"\")","v":2.0099999999999998},{"$f":"IF(N452<>\"\",IF(E453<>\"\",E453,E452),\"\")","v":3.02},{"$f":"IF(N452<>\"\",IF(F453<>\"\",F453,F452),\"\")","v":3.64}]
[null,null,null,2.0099999999999998,3.02,3.64,0.45079999999999998,0.30030000000000001,0.24890000000000001,0.90659999999999996,null,null,null,null,null,""]
["MEX D1",null,"Puebla",2.44,3.04,2.81,0.3745,0.30049999999999999,0.32490000000000002,0.91359999999999997,"Necaxa","View(175)",null,{"$f":"IF(A454<>\"\",TEXT(A454,\"\"),\"\")","v":"MEX D1"},{"$f":"IF(N454=\"\",\"\",CONCATENATE(IF(C454<>\"\",TEXT(C454,\"\"),\"\"),\" - \",IF(K454<>\"\",TEXT(K454,\"\"),\"\")))","v":"Puebla - Necaxa"},"http://www.data.nowgoal.vip/analysis/1651378.html",{"$f":"IF(D454<>\"\",D454,\"\")","v":2.44},{"$f":"IF(E454<>\"\",E454,\"\")","v":3.04},{"$f":"IF(F454<>\"\",F454,\"\")","v":2.81},{"$f":"IF(N454<>\"\",IF(D455<>\"\",D455,D454),\"\")","v":2.44},{"$f":"IF(N454<>\"\",IF(E455<>\"\",E455,E454),\"\")","v":3.08},{"$f":"IF(N454<>\"\",IF(F455<>\"\",F455,F454),\"\")","v":2.83}]
[null,null,null,2.44,3.08,2.83,0.37609999999999999,0.29899999999999999,0.32490000000000002,0.91949999999999998,null,null,null,null,null,""]
["MEX D2",null,"Leones Univ Guadalajara",2,3.46,3.15,0.45229999999999998,0.26090000000000002,0.2868,0.90259999999999996,"Correcaminos UAT","View(16)",null,{"$f":"IF(A456<>\"\",TEXT(A456,\"\"),\"\")","v":"MEX D2"},{"$f":"IF(N456=\"\",\"\",CONCATENATE(IF(C456<>\"\",TEXT(C456,\"\"),\"\"),\" - \",IF(K456<>\"\",TEXT(K456,\"\"),\"\")))","v":"Leones Univ Guadalajara - Correcaminos UAT"},"http://www.data.nowgoal.vip/analysis/1652091.html",{"$f":"IF(D456<>\"\",D456,\"\")","v":2},{"$f":"IF(E456<>\"\",E456,\"\")","v":3.46},{"$f":"IF(F456<>\"\",F456,\"\")","v":3.15},{"$f":"IF(N456<>\"\",IF(D457<>\"\",D457,D456),\"\")","v":2},{"$f":"IF(N456<>\"\",IF(E457<>\"\",E457,E456),\"\")","v":3.46},{"$f":"IF(N456<>\"\",IF(F457<>\"\",F457,F456),\"\")","v":3.14}]
[null,null,null,2,3.46,3.14,0.4521,0.26100000000000001,0.28689999999999999,0.9022,null,null,null,null,null,""]
["MEX D2",null,"Tampico Madero",2.25,3.05,2.98,0.40150000000000002,0.29559999999999997,0.3029,0.90310000000000001,"FC Juarez","View(15)",null,{"$f":"IF(A458<>\"\",TEXT(A458,\"\"),\"\")","v":"MEX D2"},{"$f":"IF(N458=\"\",\"\",CONCATENATE(IF(C458<>\"\",TEXT(C458,\"\"),\"\"),\" - \",IF(K458<>\"\",TEXT(K458,\"\"),\"\")))","v":"Tampico Madero - FC Juarez"},"http://www.data.nowgoal.vip/analysis/1652092.html",{"$f":"IF(D458<>\"\",D458,\"\")","v":2.25},{"$f":"IF(E458<>\"\",E458,\"\")","v":3.05},{"$f":"IF(F458<>\"\",F458,\"\")","v":2.98},{"$f":"IF(N458<>\"\",IF(D459<>\"\",D459,D458),\"\")","v":2.3199999999999998},{"$f":"IF(N458<>\"\",IF(E459<>\"\",E459,E458),\"\")","v":3.08},{"$f":"IF(N458<>\"\",IF(F459<>\"\",F459,F458),\"\")","v":2.85}]
[null,null,null,2.3199999999999998,3.08,2.85,0.38969999999999999,0.29360000000000003,0.31669999999999998,0.90280000000000005,null,null,null,null,null,""]
["INT CF",null,"Werribee City",2.75,4,2,0.32650000000000001,0.22450000000000001,0.44900000000000001,0.89790000000000003,"Hume City","View(2)",null,{"$f":"IF(A460<>\"\",TEXT(A460,\"\"),\"\")","v":"INT CF"},{"$f":"IF(N460=\"\",\"\",CONCATENATE(IF(C460<>\"\",TEXT(C460,\"\"),\"\"),\" - \",IF(K460<>\"\",TEXT(K460,\"\"),\"\")))","v":"Werribee City - Hume City"},"http://www.data.nowgoal.vip/analysis/1665069.html",{"$f":"IF(D460<>\"\",D460,\"\")","v":2.75},{"$f":"IF(E460<>\"\",E460,\"\")","v":4},{"$f":"IF(F460<>\"\",F460,\"\")","v":2},{"$f":"IF(N460<>\"\",IF(D461<>\"\",D461,D460),\"\")","v":2.75},{"$f":"IF(N460<>\"\",IF(E461<>\"\",E461,E460),\"\")","v":4},{"$f":"IF(N460<>\"\",IF(F461<>\"\",F461,F460),\"\")","v":2}]
[null,null,null,null,null,null,null,null,null,null,null,null,null,null,null,""]
[null,null,null,null,null,null,null,null,null,null,null,null,null,{"$f":"IF(A462<>\"\",TEXT(A462,\"\"),\"\")","v":""},{"$f":"IF(N462=\"\",\"\",CONCATENATE(IF(C462<>\"\",TEXT(C462,\"\"),\"\"),\" - \",IF(K462<>\"\",TEXT(K462,\"\"),\"\")))","v":""},"",{"$f":"IF(D462<>\"\",D462,\"\")","v":""},{"$f":"IF(E462<>\"\",E462,\"\")","v":""},{"$f":"IF(F462<>\"\",F462,\"\")","v":""},{"$f":"IF(N462<>\"\",IF(D463<>\"\",D463,D462),\"\")","v":""},{"$f":"IF(N462<>\"\",IF(E463<>\"\",E463,E462),\"\")","v":""},{"$f":"IF(N462<>\"\",IF(F463<>\"\",F463,F462),\"\")","v":""}]
["League","Time","Home","HW","D","AW","HWR","DR","AWR","Return","Away","Compare",null,null,null,""]
[null,null,null,null,null,null,null,null,null,null,null,null,null,{"$f":"IF(A464<>\"\",TEXT(A464,\"\"),\"\")","v":""},{"$f":"IF(N464=\"\",\"\",CONCATENATE(IF(C464<>\"\",TEXT(C464,\"\"),\"\"),\" - \",IF(K464<>\"\",TEXT(K464,\"\"),\"\")))","v":""},"",{"$f":"IF(D464<>\"\",D464,\"\")","v":""},{"$f":"IF(E464<>\"\",E464,\"\")","v":""},{"$f":"IF(F464<>\"\",F464,\"\")","v":""},{"$f":"IF(N464<>\"\",IF(D465<>\"\",D465,D464),\"\")","v":""},{"$f":"IF(N464<>\"\",IF(E465<>\"\",E465,E464),\"\")","v":""},{"$f":"IF(N464<>\"\",IF(F465<>\"\",F465,F464),\"\")","v":""}]
[null,null,null,null,null,null,null,null,null,null,null,null,null,null,null,""]
[null,null,null,null,null,null,null,null,null,null,null,null,null,{"$f":"IF(A466<>\"\",TEXT(A466,\"\"),\"\")","v":""},{"$f":"IF(N466=\"\",\"\",CONCATENATE(IF(C466<>\"\",TEXT(C466,\"\"),\"\"),\" - \",IF(K466<>\"\",TEXT(K466,\"\"),\"\")))","v":""},"",{"$f":"IF(D466<>\"\",D466,\"\")","v":""},{"$f":"IF(E466<>\"\",E466,\"\")","v":""},{"$f":"IF(F466<>\"\",F466,\"\")","v":""},{"$f":"IF(N466<>\"\",IF(D467<>\"\",D467,D466),\"\")","v":""},{"$f":"IF(N466<>\"\",IF(E467<>\"\",E467,E466),\"\")","v":""},{"$f":"IF(N466<>\"\",IF(F467<>\"\",F467,F466),\"\")","v":""}]
[null,null,null,null,null,null,null,null,null,null,null,null,null,null,null,""]
[null,null,null,null,null,null,null,null,null,null,null,null,null,{"$f":"IF(A468<>\"\",TEXT(A468,\"\"),\"\")","v":""},{"$f":"IF(N468=\"\",\"\",CONCATENATE(IF(C468<>\"\",TEXT(C468,\"\"),\"\"),\" - \",IF(K468<>\"\",TEXT(K468,\"\"),\"\")))","v":""},"",{"$f":"IF(D468<>\"\",D468,\"\")","v":""},{"$f":"IF(E468<>\"\",E468,\"\")","v":""},{"$f":"IF(F468<>\"\",F468,\"\")","v":""},{"$f":"IF(N468<>\"\",IF(D469<>\"\",D469,D468),\"\")","v":""},{"$f":"IF(N468<>\"\",IF(E469<>\"\",E469,E468),\"\")","v":""},{"$f":"IF(N468<>\"\",IF(F469<>\"\",F469,F468),\"\")","v":""}]
[null,null,null,null,null,null,null,null,null,null,null,null,null,null,null,""]
[null,null,null,null,null,null,null,null,null,null,null,null,null,{"$f":"IF(A470<>\"\",TEXT(A470,\"\"),\"\")","v":""},{"$f":"IF(N470=\"\",\"\",CONCATENATE(IF(C470<>\"\",TEXT(C470,\"\"),\"\"),\" - \",IF(K470<>\"\",TEXT(K470,\"\"),\"\")))","v":""},"",{"$f":"IF(D470<>\"\",D470,\"\")","v":""},{"$f":"IF(E470<>\"\",E470,\"\")","v":""},{"$f":"IF(F470<>\"\",F470,\"\")","v":""},{"$f":"IF(N470<>\"\",IF(D471<>\"\",D471,D470),\"\")","v":""},{"$f":"IF(N470<>\"\",IF(E471<>\"\",E471,E470),\"\")","v":""},{"$f":"IF(N470<>\"\",IF(F471<>\"\",F471,F470),\"\")","v":""}]
[null,null,null,null,null,null,null,null,null,null,null,null,null,null,null,""]
[null,null,null,null,null,null,null,null,null,null,null,null,null,{"$f":"IF(A472<>\"\",TEXT(A472,\"\"),\"\")","v":""},{"$f":"IF(N472=\"\",\"\",CONCATENATE(IF(C472<>\"\",TEXT(C472,\"\"),\"\"),\" - \",IF(K472<>\"\",TEXT(K472,\"\"),\"\")))","v":""},"",{"$f":"IF(D472<>\"\",D472,\"\")","v":""},{"$f":"IF(E472<>\"\",E472,\"\")","v":""},{"$f":"IF(F472<>\"\",F472,\"\")","v":""},{"$f":"IF(N472<>\"\",IF(D473<>\"\",D473,D472),\"\")","v":""},{"$f":"IF(N472<>\"\",IF(E473<>\"\",E473,E472),\"\")","v":""},{"$f":"IF(N472<>\"\",IF(F473<>\"\",F473,F472),\"\")","v":""}]
[null,null,null,null,null,null,null,null,null,null,null,null,null,null,null,""]
[null,null,null,null,null,null,null,null,null,null,null,null,null,{"$f":"IF(A474<>\"\",TEXT(A474,\"\"),\"\")","v":""},{"$f":"IF(N474=\"\",\"\",CONCATENATE(IF(C474<>\"\",TEXT(C474,\"\"),\"\"),\" - \",IF(K474<>\"\",TEXT(K474,\"\"),\"\")))","v":""},"",{"$f":"IF(D474<>\"\",D474,\"\")","v":""},{"$f":"IF(E474<>\"\",E474,\"\")","v":""},{"$f":"IF(F474<>\"\",F474,\"\")","v":""},{"$f":"IF(N474<>\"\",IF(D475<>\"\",D475,D474),\"\")","v":""},{"$f":"IF(N474<>\"\",IF(E475<>\"\",E475,E474),\"\")","v":""},{"$f":"IF(N474<>\"\",IF(F475<>\"\",F475,F474),\"\")","v":""}]
[null,null,null,null,null,null,null,null,null,null,null,null,null,null,null,""]
[null,null,null,null,null,null,null,null,null,null,null,null,null,{"$f":"IF(A476<>\"\",TEXT(A476,\"\"),\"\")","v":""},{"$f":"IF(N476=\"\",\"\",CONCATENATE(IF(C476<>\"\",TEXT(C476,\"\"),\"\"),\" - \",IF(K476<>\"\",TEXT(K476,\"\"),\"\")))","v":""},"",{"$f":"IF(D476<>\"\",D476,\"\")","v":""},{"$f":"IF(E476<>\"\",E476,\"\")","v":""},{"$f":"IF(F476<>\"\",F476,\"\")","v":""},{"$f":"IF(N476<>\"\",IF(D477<>\"\",D477,D476),\"\")","v":""},{"$f":"IF(N476<>\"\",IF(E477<>\"\",E477,E476),\"\")","v":""},{"$f":"IF(N476<>\"\",IF(F477<>\"\",F477,F476),\"\")","v":""}]
[null,null,null,null,null,null,null,null,null,null,null,null,null,null,null,""]
[null,null,null,null,null,null,null,null,null,null,null,null,null,{"$f":"IF(A478<>\"\",TEXT(A478,\"\"),\"\")","v":""},{"$f":"IF(N478=\"\",\"\",CONCATENATE(IF(C478<>\"\",TEXT(C478,\"\"),\"\"),\" - \",IF(K478<>\"\",TEXT(K478,\"\"),\"\")))","v":""},"",{"$f":"IF(D478<>\"\",D478,\"\")","v":""},{"$f":"IF(E478<>\"\",E478,\"\")","v":""},{"$f":"IF(F478<>\"\",F478,\"\")","v":""},{"$f":"IF(N478<>\"\",IF(D479<>\"\",D479,D478),\"\")","v":""},{"$f":"IF(N478<>\"\",IF(E479<>\"\",E479,E478),\"\")","v":""},{"$f":"IF(N478<>\"\",IF(F479<>\"\",F479,F478),\"\")","v":""}]
[null,null,null,null,null,null,null,null,null,null,null,null,null,null,null,""]
[null,null,null,null,null,null,null,null,null,null,null,null,null,{"$f":"IF(A480<>\"\",TEXT(A480,\"\"),\"\")","v":""},{"$f":"IF(N480=\"\",\"\",CONCATENATE(IF(C480<>\"\",TEXT(C480,\"\"),\"\"),\" - \",IF(K480<>\"\",TEXT(K480,\"\"),\"\")))","v":""},"",{"$f":"IF(D480<>\"\",D480,\"\")","v":""},{"$f":"IF(E480<>\"\",E480,\"\")","v":""},{"$f":"IF(F480<>\"\",F480,\"\")","v":""},{"$f":"IF(N480<>\"\",IF(D481<>\"\",D481,D480),\"\")","v":""},{"$f":"IF(N480<>\"\",IF(E481<>\"\",E481,E480),\"\")","v":""},{"$f":"IF(N480<>\"\",IF(F481<>\"\",F481,F480),\"\")","v":""}]
[null,null,null,null,null,null,null,null,null,null,null,null,null,null,null,""]
[null,null,null,null,null,null,null,null,null,null,null,null,null,{"$f":"IF(A482<>\"\",TEXT(A482,\"\"),\"\")","v":""},{"$f":"IF(N482=\"\",\"\",CONCATENATE(IF(C482<>\"\",TEXT(C482,\"\"),\"\"),\" - \",IF(K482<>\"\",TEXT(K482,\"\"),\"\")))","v":""},"",{"$f":"IF(D482<>\"\",D482,\"\")","v":""},{"$f":"IF(E482<>\"\",E482,\"\")","v":""},{"$f":"IF(F482<>\"\",F482,\"\")","v":""},{"$f":"IF(N482<>\"\",IF(D483<>\"\",D483,D482),\"\")","v":""},{"$f":"IF(N482<>\"\",IF(E483<>\"\",E483,E482),\"\")","v":""},{"$f":"IF(N482<>\"\",IF(F483<>\"\",F483,F482),\"\")","v":""}]
[null,null,null,null,null,null,null,null,null,null,null,null,null,null,null,""]
[null,null,null,null,null,null,null,null,null,null,null,null,null,{"$f":"IF(A484<>\"\",TEXT(A484,\"\"),\"\")","v":""},{"$f":"IF(N484=\"\",\"\",CONCATENATE(IF(C484<>\"\",TEXT(C484,\"\"),\"\"),\" - \",IF(K484<>\"\",TEXT(K484,\"\"),\"\")))","v":""},"",{"$f":"IF(D484<>\"\",D484,\"\")","v":""},{"$f":"IF(E484<>\"\",E484,\"\")","v":""},{"$f":"IF(F484<>\"\",F484,\"\")","v":""},{"$f":"IF(N484<>\"\",IF(D485<>\"\",D485,D484),\"\")","v":""},{"$f":"IF(N484<>\"\",IF(E485<>\"\",E485,E484),\"\")","v":""},{"$f":"IF(N484<>\"\",IF(F485<>\"\",F485,F484),\"\")","v":""}]
[null,null,null,null,null,null,null,null,null,null,null,null,null,null,null,""]
[null,null,null,null,null,null,null,null,null,null,null,null,null,{"$f":"IF(A486<>\"\",TEXT(A486,\"\"),\"\")","v":""},{"$f":"IF(N486=\"\",\"\",CONCATENATE(IF(C486<>\"\",TEXT(C486,\"\"),\"\"),\" - \",IF(K486<>\"\",TEXT(K486,\"\"),\"\")))","v":""},"",{"$f":"IF(D486<>\"\",D486,\"\")","v":""},{"$f":"IF(E486<>\"\",E486,\"\")","v":""},{"$f":"IF(F486<>\"\",F486,\"\")","v":""},{"$f":"IF(N486<>\"\",IF(D487<>\"\",D487,D486),\"\")","v":""},{"$f":"IF(N486<>\"\",IF(E487<>\"\",E487,E486),\"\")","v":""},{"$f":"IF(N486<>\"\",IF(F487<>\"\",F487,F486),\"\")","v":""}]
[null,null,null,null,null,null,null,null,null,null,null,null,null,null,null,""]
[null,null,null,null,null,null,null,null,null,null,null,null,null,{"$f":"IF(A488<>\"\",TEXT(A488,\"\"),\"\")","v":""},{"$f":"IF(N488=\"\",\"\",CONCATENATE(IF(C488<>\"\",TEXT(C488,\"\"),\"\"),\" - \",IF(K488<>\"\",TEXT(K488,\"\"),\"\")))","v":""},"",{"$f":"IF(D488<>\"\",D488,\"\")","v":""},{"$f":"IF(E488<>\"\",E488,\"\")","v":""},{"$f":"IF(F488<>\"\",F488,\"\")","v":""},{"$f":"IF(N488<>\"\",IF(D489<>\"\",D489,D488),\"\")","v":""},{"$f":"IF(N488<>\"\",IF(E489<>\"\",E489,E488),\"\")","v":""},{"$f":"IF(N488<>\"\",IF(F489<>\"\",F489,F488),\"\")","v":""}]
[null,null,null,null,null,null,null,null,null,null,null,null,null,null,null,""]
[null,null,null,null,null,null,null,null,null,null,null,null,null,{"$f":"IF(A490<>\"\",TEXT(A490,\"\"),\"\")","v":""},{"$f":"IF(N490=\"\",\"\",CONCATENATE(IF(C490<>\"\",TEXT(C490,\"\"),\"\"),\" - \",IF(K490<>\"\",TEXT(K490,\"\"),\"\")))","v":""},"",{"$f":"IF(D490<>\"\",D490,\"\")","v":""},{"$f":"IF(E490<>\"\",E490,\"\")","v":""},{"$f":"IF(F490<>\"\",F490,\"\")","v":""},{"$f":"IF(N490<>\"\",IF(D491<>\"\",D491,D490),\"\")","v":""},{"$f":"IF(N490<>\"\",IF(E491<>\"\",E491,E490),\"\")","v":""},{"$f":"IF(N490<>\"\",IF(F491<>\"\",F491,F490),\"\")","v":""}]
[null,null,null,null,null,null,null,null,null,null,null,null,null,null,null,""]
[null,null,null,null,null,null,null,null,null,null,null,null,null,{"$f":"IF(A492<>\"\",TEXT(A492,\"\"),\"\")","v":""},{"$f":"IF(N492=\"\",\"\",CONCATENATE(IF(C492<>\"\",TEXT(C492,\"\"),\"\"),\" - \",IF(K492<>\"\",TEXT(K492,\"\"),\"\")))","v":""},"",{"$f":"IF(D492<>\"\",D492,\"\")","v":""},{"$f":"IF(E492<>\"\",E492,\"\")","v":""},{"$f":"IF(F492<>\"\",F492,\"\")","v":""},{"$f":"IF(N492<>\"\",IF(D493<>\"\",D493,D492),\"\")","v":""},{"$f":"IF(N492<>\"\",IF(E493<>\"\",E493,E492),\"\")","v":""},{"$f":"IF(N492<>\"\",IF(F493<>\"\",F493,F492),\"\")","v":""}]
[null,null,null,null,null,null,null,null,null,null,null,null,null,null,null,""]
[null,null,null,null,null,null,null,null,null,null,null,null,null,{"$f":"IF(A494<>\"\",TEXT(A494,\"\"),\"\")","v":""},{"$f":"IF(N494=\"\",\"\",CONCATENATE(IF(C494<>\"\",TEXT(C494,\"\"),\"\"),\" - \",IF(K494<>\"\",TEXT(K494,\"\"),\"\")))","v":""},"",{"$f":"IF(D494<>\"\",D494,\"\")","v":""},{"$f":"IF(E494<>\"\",E494,\"\")","v":""},{"$f":"IF(F494<>\"\",F494,\"\")","v":""},{"$f":"IF(N494<>\"\",IF(D495<>\"\",D495,D494),\"\")","v":""},{"$f":"IF(N494<>\"\",IF(E495<>\"\",E495,E494),\"\")","v":""},{"$f":"IF(N494<>\"\",IF(F495<>\"\",F495,F494),\"\")","v":""}]
[null,null,null,null,null,null,null,null,null,null,null,null,null,null,null,""]
[null,null,null,null,null,null,null,null,null,null,null,null,null,{"$f":"IF(A496<>\"\",TEXT(A496,\"\"),\"\")","v":""},{"$f":"IF(N496=\"\",\"\",CONCATENATE(IF(C496<>\"\",TEXT(C496,\"\"),\"\"),\" - \",IF(K496<>\"\",TEXT(K496,\"\"),\"\")))","v":""},"",{"$f":"IF(D496<>\"\",D496,\"\")","v":""},{"$f":"IF(E496<>\"\",E496,\"\")","v":""},{"$f":"IF(F496<>\"\",F496,\"\")","v":""},{"$f":"IF(N496<>\"\",IF(D497<>\"\",D497,D496),\"\")","v":""},{"$f":"IF(N496<>\"\",IF(E497<>\"\",E497,E496),\"\")","v":""},{"$f":"IF(N496<>\"\",IF(F497<>\"\",F497,F496),\"\")","v":""}]
[null,null,null,null,null,null,null,null,null,null,null,null,null,null,null,""]
[null,null,null,null,null,null,null,null,null,null,null,null,null,{"$f":"IF(A498<>\"\",TEXT(A498,\"\"),\"\")","v":""},{"$f":"IF(N498=\"\",\"\",CONCATENATE(IF(C498<>\"\",TEXT(C498,\"\"),\"\"),\" - \",IF(K498<>\"\",TEXT(K498,\"\"),\"\")))","v":""},"",{"$f":"IF(D498<>\"\",D498,\"\")","v":""},{"$f":"IF(E498<>\"\",E498,\"\")","v":""},{"$f":"IF(F498<>\"\",F498,\"\")","v":""},{"$f":"IF(N498<>\"\",IF(D499<>\"\",D499,D498),\"\")","v":""},{"$f":"IF(N498<>\"\",IF(E499<>\"\",E499,E498),\"\")","v":""},{"$f":"IF(N498<>\"\",IF(F499<>\"\",F499,F498),\"\")","v":""}]
[null,null,null,null,null,null,null,null,null,null,null,null,null,null,null,""]
[null,null,null,null,null,null,null,null,null,null,null,null,null,{"$f":"IF(A500<>\"\",TEXT(A500,\"\"),\"\")","v":""},{"$f":"IF(N500=\"\",\"\",CONCATENATE(IF(C500<>\"\",TEXT(C500,\"\"),\"\"),\" - \",IF(K500<>\"\",TEXT(K500,\"\"),\"\")))","v":""},"",{"$f":"IF(D500<>\"\",D500,\"\")","v":""},{"$f":"IF(E500<>\"\",E500,\"\")","v":""},{"$f":"IF(F500<>\"\",F500,\"\")","v":""},{"$f":"IF(N500<>\"\",IF(D501<>\"\",D501,D500),\"\")","v":""},{"$f":"IF(N500<>\"\",IF(E501<>\"\",E501,E500),\"\")","v":""},{"$f":"IF(N500<>\"\",IF(F501<>\"\",F501,F500),\"\")","v":""}]
[null,null,null,null,null,null,null,null,null,null,null,null,null,null,null,""]
[null,null,null,null,null,null,null,null,null,null,null,null,null,{"$f":"IF(A502<>\"\",TEXT(A502,\"\"),\"\")","v":""},{"$f":"IF(N502=\"\",\"\",CONCATENATE(IF(C502<>\"\",TEXT(C502,\"\"),\"\"),\" - \",IF(K502<>\"\",TEXT(K502,\"\"),\"\")))","v":""},"",{"$f":"IF(D502<>\"\",D502,\"\")","v":""},{"$f":"IF(E502<>\"\",E502,\"\")","v":""},{"$f":"IF(F502<>\"\",F502,\"\")","v":""},{"$f":"IF(N502<>\"\",IF(D503<>\"\",D503,D502),\"\")","v":""},{"$f":"IF(N502<>\"\",IF(E503<>\"\",E503,E502),\"\")","v":""},{"$f":"IF(N502<>\"\",IF(F503<>\"\",F503,F502),\"\")","v":""}]
[null,null,null,null,null,null,null,null,null,null,null,null,null,null,null,""]
[null,null,null,null,null,null,null,null,null,null,null,null,null,{"$f":"IF(A504<>\"\",TEXT(A504,\"\"),\"\")","v":""},{"$f":"IF(N504=\"\",\"\",CONCATENATE(IF(C504<>\"\",TEXT(C504,\"\"),\"\"),\" - \",IF(K504<>\"\",TEXT(K504,\"\"),\"\")))","v":""},"",{"$f":"IF(D504<>\"\",D504,\"\")","v":""},{"$f":"IF(E504<>\"\",E504,\"\")","v":""},{"$f":"IF(F504<>\"\",F504,\"\")","v":""},{"$f":"IF(N504<>\"\",IF(D505<>\"\",D505,D504),\"\")","v":""},{"$f":"IF(N504<>\"\",IF(E505<>\"\",E505,E504),\"\")","v":""},{"$f":"IF(N504<>\"\",IF(F505<>\"\",F505,F504),\"\")","v":""}]
[null,null,null,null,null,null,null,null,null,null,null,null,null,null,null,""]
[null,null,null,null,null,null,null,null,null,null,null,null,null,{"$f":"IF(A506<>\"\",TEXT(A506,\"\"),\"\")","v":""},{"$f":"IF(N506=\"\",\"\",CONCATENATE(IF(C506<>\"\",TEXT(C506,\"\"),\"\"),\" - \",IF(K506<>\"\",TEXT(K506,\"\"),\"\")))","v":""},"",{"$f":"IF(D506<>\"\",D506,\"\")","v":""},{"$f":"IF(E506<>\"\",E506,\"\")","v":""},{"$f":"IF(F506<>\"\",F506,\"\")","v":""},{"$f":"IF(N506<>\"\",IF(D507<>\"\",D507,D506),\"\")","v":""},{"$f":"IF(N506<>\"\",IF(E507<>\"\",E507,E506),\"\")","v":""},{"$f":"IF(N506<>\"\",IF(F507<>\"\",F507,F506),\"\")","v":""}]
[null,null,null,null,null,null,null,null,null,null,null,null,null,null,null,""]
[null,null,null,null,null,null,null,null,null,null,null,null,null,{"$f":"IF(A508<>\"\",TEXT(A508,\"\"),\"\")","v":""},{"$f":"IF(N508=\"\",\"\",CONCATENATE(IF(C508<>\"\",TEXT(C508,\"\"),\"\"),\" - \",IF(K508<>\"\",TEXT(K508,\"\"),\"\")))","v":""},"",{"$f":"IF(D508<>\"\",D508,\"\")","v":""},{"$f":"IF(E508<>\"\",E508,\"\")","v":""},{"$f":"IF(F508<>\"\",F508,\"\")","v":""},{"$f":"IF(N508<>\"\",IF(D509<>\"\",D509,D508),\"\")","v":""},{"$f":"IF(N508<>\"\",IF(E509<>\"\",E509,E508),\"\")","v":""},{"$f":"IF(N508<>\"\",IF(F509<>\"\",F509,F508),\"\")","v":""}]
[null,null,null,null,null,null,null,null,null,null,null,null,null,null,null,""]
[null,null,null,null,null,null,null,null,null,null,null,null,null,{"$f":"IF(A510<>\"\",TEXT(A510,\"\"),\"\")","v":""},{"$f":"IF(N510=\"\",\"\",CONCATENATE(IF(C510<>\"\",TEXT(C510,\"\"),\"\"),\" - \",IF(K510<>\"\",TEXT(K510,\"\"),\"\")))","v":""},"",{"$f":"IF(D510<>\"\",D510,\"\")","v":""},{"$f":"IF(E510<>\"\",E510,\"\")","v":""},{"$f":"IF(F510<>\"\",F510,\"\")","v":""},{"$f":"IF(N510<>\"\",IF(D511<>\"\",D511,D510),\"\")","v":""},{"$f":"IF(N510<>\"\",IF(E511<>\"\",E511,E510),\"\")","v":""},{"$f":"IF(N510<>\"\",IF(F511<>\"\",F511,F510),\"\")","v":""}]
[null,null,null,null,null,null,null,null,null,null,null,null,null,null,null,""]
[null,null,null,null,null,null,null,null,null,null,null,null,null,{"$f":"IF(A512<>\"\",TEXT(A512,\"\"),\"\")","v":""},{"$f":"IF(N512=\"\",\"\",CONCATENATE(IF(C512<>\"\",TEXT(C512,\"\"),\"\"),\" - \",IF(K512<>\"\",TEXT(K512,\"\"),\"\")))","v":""},"",{"$f":"IF(D512<>\"\",D512,\"\")","v":""},{"$f":"IF(E512<>\"\",E512,\"\")","v":""},{"$f":"IF(F512<>\"\",F512,\"\")","v":""},{"$f":"IF(N512<>\"\",IF(D513<>\"\",D513,D512),\"\")","v":""},{"$f":"IF(N512<>\"\",IF(E513<>\"\",E513,E512),\"\")","v":""},{"$f":"IF(N512<>\"\",IF(F513<>\"\",F513,F512),\"\")","v":""}]
[null,null,null,null,null,null,null,null,null,null,null,null,null,null,null,""]
[null,null,null,null,null,null,null,null,null,null,null,null,null,{"$f":"IF(A514<>\"\",TEXT(A514,\"\"),\"\")","v":""},{"$f":"IF(N514=\"\",\"\",CONCATENATE(IF(C514<>\"\",TEXT(C514,\"\"),\"\"),\" - \",IF(K514<>\"\",TEXT(K514,\"\"),\"\")))","v":""},"",{"$f":"IF(D514<>\"\",D514,\"\")","v":""},{"$f":"IF(E514<>\"\",E514,\"\")","v":""},{"$f":"IF(F514<>\"\",F514,\"\")","v":""},{"$f":"IF(N514<>\"\",IF(D515<>\"\",D515,D514),\"\")","v":""},{"$f":"IF(N514<>\"\",IF(E515<>\"\",E515,E514),\"\")","v":""},{"$f":"IF(N514<>\"\",IF(F515<>\"\",F515,F514),\"\")","v":""}]
[null,null,null,null,null,null,null,null,null,null,null,null,null,null,null,{"$f":"SUBSTITUTE(SUBSTITUTE(SUBSTITUTE(SUBSTITUTE(IF(L515<>\"\",HLink(L515),\"\"),\"htm\",\"html\"),\"1x2\",\"analysis\"),\"www\",\"www.data\"),\"com\",\"vip\")","v":""}]
[null,null,null,null,null,null,null,null,null,null,null,null,null,{"$f":"IF(A516<>\"\",TEXT(A516,\"\"),\"\")","v":""},{"$f":"IF(N516=\"\",\"\",CONCATENATE(IF(C516<>\"\",TEXT(C516,\"\"),\"\"),\" - \",IF(K516<>\"\",TEXT(K516,\"\"),\"\")))","v":""},"",{"$f":"IF(D516<>\"\",D516,\"\")","v":""},{"$f":"IF(E516<>\"\",E516,\"\")","v":""},{"$f":"IF(F516<>\"\",F516,\"\")","v":""},{"$f":"IF(N516<>\"\",IF(D517<>\"\",D517,D516),\"\")","v":""},{"$f":"IF(N516<>\"\",IF(E517<>\"\",E517,E516),\"\")","v":""},{"$f":"IF(N516<>\"\",IF(F517<>\"\",F517,F516),\"\")","v":""}]
[null,null,null,null,null,null,null,null,null,null,null,null,null,null,null,""]
[null,null,null,null,null,null,null,null,null,null,null,null,null,{"$f":"IF(A518<>\"\",TEXT(A518,\"\"),\"\")","v":""},{"$f":"IF(N518=\"\",\"\",CONCATENATE(IF(C518<>\"\",TEXT(C518,\"\"),\"\"),\" - \",IF(K518<>\"\",TEXT(K518,\"\"),\"\")))","v":""},"",{"$f":"IF(D518<>\"\",D518,\"\")","v":""},{"$f":"IF(E518<>\"\",E518,\"\")","v":""},{"$f":"IF(F518<>\"\",F518,\"\")","v":""},{"$f":"IF(N518<>\"\",IF(D519<>\"\",D519,D518),\"\")","v":""},{"$f":"IF(N518<>\"\",IF(E519<>\"\",E519,E518),\"\")","v":""},{"$f":"IF(N518<>\"\",IF(F519<>\"\",F519,F518),\"\")","v":""}]
[null,null,null,null,null,null,null,null,null,null,null,null,null,null,null,""]
[null,null,null,null,null,null,null,null,null,null,null,null,null,{"$f":"IF(A520<>\"\",TEXT(A520,\"\"),\"\")","v":""},{"$f":"IF(N520=\"\",\"\",CONCATENATE(IF(C520<>\"\",TEXT(C520,\"\"),\"\"),\" - \",IF(K520<>\"\",TEXT(K520,\"\"),\"\")))","v":""},"",{"$f":"IF(D520<>\"\",D520,\"\")","v":""},{"$f":"IF(E520<>\"\",E520,\"\")","v":""},{"$f":"IF(F520<>\"\",F520,\"\")","v":""},{"$f":"IF(N520<>\"\",IF(D521<>\"\",D521,D520),\"\")","v":""},{"$f":"IF(N520<>\"\",IF(E521<>\"\",E521,E520),\"\")","v":""},{"$f":"IF(N520<>\"\",IF(F521<>\"\",F521,F520),\"\")","v":""}]
[null,null,null,null,null,null,null,null,null,null,null,null,null,null,null,""]
[null,null,null,null,null,null,null,null,null,null,null,null,null,{"$f":"IF(A522<>\"\",TEXT(A522,\"\"),\"\")","v":""},{"$f":"IF(N522=\"\",\"\",CONCATENATE(IF(C522<>\"\",TEXT(C522,\"\"),\"\"),\" - \",IF(K522<>\"\",TEXT(K522,\"\"),\"\")))","v":""},"",{"$f":"IF(D522<>\"\",D522,\"\")","v":""},{"$f":"IF(E522<>\"\",E522,\"\")","v":""},{"$f":"IF(F522<>\"\",F522,\"\")","v":""},{"$f":"IF(N522<>\"\",IF(D523<>\"\",D523,D522),\"\")","v":""},{"$f":"IF(N522<>\"\",IF(E523<>\"\",E523,E522),\"\")","v":""},{"$f":"IF(N522<>\"\",IF(F523<>\"\",F523,F522),\"\")","v":""}]
[null,null,null,null,null,null,null,null,null,null,null,null,null,null,null,""]
[null,null,null,null,null,null,null,null,null,null,null,null,null,{"$f":"IF(A524<>\"\",TEXT(A524,\"\"),\"\")","v":""},{"$f":"IF(N524=\"\",\"\",CONCATENATE(IF(C524<>\"\",TEXT(C524,\"\"),\"\"),\" - \",IF(K524<>\"\",TEXT(K524,\"\"),\"\")))","v":""},"",{"$f":"IF(D524<>\"\",D524,\"\")","v":""},{"$f":"IF(E524<>\"\",E524,\"\")","v":""},{"$f":"IF(F524<>\"\",F524,\"\")","v":""},{"$f":"IF(N524<>\"\",IF(D525<>\"\",D525,D524),\"\")","v":""},{"$f":"IF(N524<>\"\",IF(E525<>\"\",E525,E524),\"\")","v":""},{"$f":"IF(N524<>\"\",IF(F525<>\"\",F525,F524),\"\")","v":""}]
[null,null,null,null,null,null,null,null,null,null,null,null,null,null,null,""]
[null,null,null,null,null,null,null,null,null,null,null,null,null,{"$f":"IF(A526<>\"\",TEXT(A526,\"\"),\"\")","v":""},{"$f":"IF(N526=\"\",\"\",CONCATENATE(IF(C526<>\"\",TEXT(C526,\"\"),\"\"),\" - \",IF(K526<>\"\",TEXT(K526,\"\"),\"\")))","v":""},"",{"$f":"IF(D526<>\"\",D526,\"\")","v":""},{"$f":"IF(E526<>\"\",E526,\"\")","v":""},{"$f":"IF(F526<>\"\",F526,\"\")","v":""},{"$f":"IF(N526<>\"\",IF(D527<>\"\",D527,D526),\"\")","v":""},{"$f":"IF(N526<>\"\",IF(E527<>\"\",E527,E526),\"\")","v":""},{"$f":"IF(N526<>\"\",IF(F527<>\"\",F527,F526),\"\")","v":""}]
[null,null,null,null,null,null,null,null,null,null,null,null,null,null,null,""]
[null,null,null,null,null,null,null,null,null,null,null,null,null,{"$f":"IF(A528<>\"\",TEXT(A528,\"\"),\"\")","v":""},{"$f":"IF(N528=\"\",\"\",CONCATENATE(IF(C528<>\"\",TEXT(C528,\"\"),\"\"),\" - \",IF(K528<>\"\",TEXT(K528,\"\"),\"\")))","v":""},"",{"$f":"IF(D528<>\"\",D528,\"\")","v":""},{"$f":"IF(E528<>\"\",E528,\"\")","v":""},{"$f":"IF(F528<>\"\",F528,\"\")","v":""},{"$f":"IF(N528<>\"\",IF(D529<>\"\",D529,D528),\"\")","v":""},{"$f":"IF(N528<>\"\",IF(E529<>\"\",E529,E528),\"\")","v":""},{"$f":"IF(N528<>\"\",IF(F529<>\"\",F529,F528),\"\")","v":""}]
[null,null,null,null,null,null,null,null,null,null,null,null,null,null,null,""]
[null,null,null,null,null,null,null,null,null,null,null,null,null,{"$f":"IF(A530<>\"\",TEXT(A530,\"\"),\"\")","v":""},{"$f":"IF(N530=\"\",\"\",CONCATENATE(IF(C530<>\"\",TEXT(C530,\"\"),\"\"),\" - \",IF(K530<>\"\",TEXT(K530,\"\"),\"\")))","v":""},"",{"$f":"IF(D530<>\"\",D530,\"\")","v":""},{"$f":"IF(E530<>\"\",E530,\"\")","v":""},{"$f":"IF(F530<>\"\",F530,\"\")","v":""},{"$f":"IF(N530<>\"\",IF(D531<>\"\",D531,D530),\"\")","v":""},{"$f":"IF(N530<>\"\",IF(E531<>\"\",E531,E530),\"\")","v":""},{"$f":"IF(N530<>\"\",IF(F531<>\"\",F531,F530),\"\")","v":""}]
[null,null,null,null,null,null,null,null,null,null,null,null,null,null,null,""]
[null,null,null,null,null,null,null,null,null,null,null,null,null,{"$f":"IF(A532<>\"\",TEXT(A532,\"\"),\"\")","v":""},{"$f":"IF(N532=\"\",\"\",CONCATENATE(IF(C532<>\"\",TEXT(C532,\"\"),\"\"),\" - \",IF(K532<>\"\",TEXT(K532,\"\"),\"\")))","v":""},"",{"$f":"IF(D532<>\"\",D532,\"\")","v":""},{"$f":"IF(E532<>\"\",E532,\"\")","v":""},{"$f":"IF(F532<>\"\",F532,\"\")","v":""},{"$f":"IF(N532<>\"\",IF(D533<>\"\",D533,D532),\"\")","v":""},{"$f":"IF(N532<>\"\",IF(E533<>\"\",E533,E532),\"\")","v":""},{"$f":"IF(N532<>\"\",IF(F533<>\"\",F533,F532),\"\")","v":""}]
[]
[null,null,null,null,null,null,null,null,null,null,null,null,null,{"$f":"IF(A534<>\"\",TEXT(A534,\"\"),\"\")","v":""},{"$f":"IF(N534=\"\",\"\",CONCATENATE(IF(C534<>\"\",TEXT(C534,\"\"),\"\"),\" - \",IF(K534<>\"\",TEXT(K534,\"\"),\"\")))","v":""},{"$f":"SUBSTITUTE(SUBSTITUTE(SUBSTITUTE(SUBSTITUTE(IF(L534<>\"\",HLink(L534),\"\"),\"htm\",\"html\"),\"1x2\",\"analysis\"),\"www\",\"data\"),\"com\",\"vip\")","v":""},{"$f":"IF(D534<>\"\",D534,\"\")","v":""},{"$f":"IF(E534<>\"\",E534,\"\")","v":""},{"$f":"IF(F534<>\"\",F534,\"\")","v":""},{"$f":"IF(N534<>\"\",IF(D535<>\"\",D535,D534),\"\")","v":""},{"$f":"IF(N534<>\"\",IF(E535<>\"\",E535,E534),\"\")","v":""},{"$f":"IF(N534<>\"\",IF(F535<>\"\",F535,F534),\"\")","v":""}]
[]
[null,null,null,null,null,null,null,null,null,null,null,null,null,{"$f":"IF(A536<>\"\",TEXT(A536,\"\"),\"\")","v":""},{"$f":"IF(N536=\"\",\"\",CONCATENATE(IF(C536<>\"\",TEXT(C536,\"\"),\"\"),\" - \",IF(K536<>\"\",TEXT(K536,\"\"),\"\")))","v":""},{"$f":"SUBSTITUTE(SUBSTITUTE(SUBSTITUTE(SUBSTITUTE(IF(L536<>\"\",HLink(L536),\"\"),\"htm\",\"html\"),\"1x2\",\"analysis\"),\"www\",\"data\"),\"com\",\"vip\")","v":""},{"$f":"IF(D536<>\"\",D536,\"\")","v":""},{"$f":"IF(E536<>\"\",E536,\"\")","v":""},{"$f":"IF(F536<>\"\",F536,\"\")","v":""},{"$f":"IF(N536<>\"\",IF(D537<>\"\",D537,D536),\"\")","v":""},{"$f":"IF(N536<>\"\",IF(E537<>\"\",E537,E536),\"\")","v":""},{"$f":"IF(N536<>\"\",IF(F537<>\"\",F537,F536),\"\")","v":""}]
[]
[null,null,null,null,null,null,null,null,null,null,null,null,null,{"$f":"IF(A538<>\"\",TEXT(A538,\"\"),\"\")","v":""},{"$f":"IF(N538=\"\",\"\",CONCATENATE(IF(C538<>\"\",TEXT(C538,\"\"),\"\"),\" - \",IF(K538<>\"\",TEXT(K538,\"\"),\"\")))","v":""},{"$f":"SUBSTITUTE(SUBSTITUTE(SUBSTITUTE(SUBSTITUTE(IF(L538<>\"\",HLink(L538),\"\"),\"htm\",\"html\"),\"1x2\",\"analysis\"),\"www\",\"data\"),\"com\",\"vip\")","v":""},{"$f":"IF(D538<>\"\",D538,\"\")","v":""},{"$f":"IF(E538<>\"\",E538,\"\")","v":""},{"$f":"IF(F538<>\"\",F538,\"\")","v":""},{"$f":"IF(N538<>\"\",IF(D539<>\"\",D539,D538),\"\")","v":""},{"$f":"IF(N538<>\"\",IF(E539<>\"\",E539,E538),\"\")","v":""},{"$f":"IF(N538<>\"\",IF(F539<>\"\",F539,F538),\"\")","v":""}]
[]
[null,null,null,null,null,null,null,null,null,null,null,null,null,{"$f":"IF(A540<>\"\",TEXT(A540,\"\"),\"\")","v":""},{"$f":"IF(N540=\"\",\"\",CONCATENATE(IF(C540<>\"\",TEXT(C540,\"\"),\"\"),\" - \",IF(K540<>\"\",TEXT(K540,\"\"),\"\")))","v":""},{"$f":"SUBSTITUTE(SUBSTITUTE(SUBSTITUTE(SUBSTITUTE(IF(L540<>\"\",HLink(L540),\"\"),\"htm\",\"html\"),\"1x2\",\"analysis\"),\"www\",\"data\"),\"com\",\"vip\")","v":""},{"$f":"IF(D540<>\"\",D540,\"\")","v":""},{"$f":"IF(E540<>\"\",E540,\"\")","v":""},{"$f":"IF(F540<>\"\",F540,\"\")","v":""},{"$f":"IF(N540<>\"\",IF(D541<>\"\",D541,D540),\"\")","v":""},{"$f":"IF(N540<>\"\",IF(E541<>\"\",E541,E540),\"\")","v":""},{"$f":"IF(N540<>\"\",IF(F541<>\"\",F541,F540),\"\")","v":""}]
[]
[null,null,null,null,null,null,null,null,null,null,null,null,null,{"$f":"IF(A542<>\"\",TEXT(A542,\"\"),\"\")","v":""},{"$f":"IF(N542=\"\",\"\",CONCATENATE(IF(C542<>\"\",TEXT(C542,\"\"),\"\"),\" - \",IF(K542<>\"\",TEXT(K542,\"\"),\"\")))","v":""},{"$f":"SUBSTITUTE(SUBSTITUTE(SUBSTITUTE(SUBSTITUTE(IF(L542<>\"\",HLink(L542),\"\"),\"htm\",\"html\"),\"1x2\",\"analysis\"),\"www\",\"data\"),\"com\",\"vip\")","v":""},{"$f":"IF(D542<>\"\",D542,\"\")","v":""},{"$f":"IF(E542<>\"\",E542,\"\")","v":""},{"$f":"IF(F542<>\"\",F542,\"\")","v":""},{"$f":"IF(N542<>\"\",IF(D543<>\"\",D543,D542),\"\")","v":""},{"$f":"IF(N542<>\"\",IF(E543<>\"\",E543,E542),\"\")","v":""},{"$f":"IF(N542<>\"\",IF(F543<>\"\",F543,F542),\"\")","v":""}]
[]
[null,null,null,null,null,null,null,null,null,null,null,null,null,{"$f":"IF(A544<>\"\",TEXT(A544,\"\"),\"\")","v":""},{"$f":"IF(N544=\"\",\"\",CONCATENATE(IF(C544<>\"\",TEXT(C544,\"\"),\"\"),\" - \",IF(K544<>\"\",TEXT(K544,\"\"),\"\")))","v":""},{"$f":"SUBSTITUTE(SUBSTITUTE(SUBSTITUTE(SUBSTITUTE(IF(L544<>\"\",HLink(L544),\"\"),\"htm\",\"html\"),\"1x2\",\"analysis\"),\"www\",\"data\"),\"com\",\"vip\")","v":""},{"$f":"IF(D544<>\"\",D544,\"\")","v":""},{"$f":"IF(E544<>\"\",E544,\"\")","v":""},{"$f":"IF(F544<>\"\",F544,\"\")","v":""},{"$f":"IF(N544<>\"\",IF(D545<>\"\",D545,D544),\"\")","v":""},{"$f":"IF(N544<>\"\",IF(E545<>\"\",E545,E544),\"\")","v":""},{"$f":"IF(N544<>\"\",IF(F545<>\"\",F545,F544),\"\")","v":""}]
[]
[null,null,null,null,null,null,null,null,null,null,null,null,null,{"$f":"IF(A546<>\"\",TEXT(A546,\"\"),\"\")","v":""},{"$f":"IF(N546=\"\",\"\",CONCATENATE(IF(C546<>\"\",TEXT(C546,\"\"),\"\"),\" - \",IF(K546<>\"\",TEXT(K546,\"\"),\"\")))","v":""},{"$f":"SUBSTITUTE(SUBSTITUTE(SUBSTITUTE(SUBSTITUTE(IF(L546<>\"\",HLink(L546),\"\"),\"htm\",\"html\"),\"1x2\",\"analysis\"),\"www\",\"data\"),\"com\",\"vip\")","v":""},{"$f":"IF(D546<>\"\",D546,\"\")","v":""},{"$f":"IF(E546<>\"\",E546,\"\")","v":""},{"$f":"IF(F546<>\"\",F546,\"\")","v":""},{"$f":"IF(N546<>\"\",IF(D547<>\"\",D547,D546),\"\")","v":""},{"$f":"IF(N546<>\"\",IF(E547<>\"\",E547,E546),\"\")","v":""},{"$f":"IF(N546<>\"\",IF(F547<>\"\",F547,F546),\"\")","v":""}]
[]
[null,null,null,null,null,null,null,null,null,null,null,null,null,{"$f":"IF(A548<>\"\",TEXT(A548,\"\"),\"\")","v":""},{"$f":"IF(N548=\"\",\"\",CONCATENATE(IF(C548<>\"\",TEXT(C548,\"\"),\"\"),\" - \",IF(K548<>\"\",TEXT(K548,\"\"),\"\")))","v":""},{"$f":"SUBSTITUTE(SUBSTITUTE(SUBSTITUTE(SUBSTITUTE(IF(L548<>\"\",HLink(L548),\"\"),\"htm\",\"html\"),\"1x2\",\"analysis\"),\"www\",\"data\"),\"com\",\"vip\")","v":""},{"$f":"IF(D548<>\"\",D548,\"\")","v":""},{"$f":"IF(E548<>\"\",E548,\"\")","v":""},{"$f":"IF(F548<>\"\",F548,\"\")","v":""},{"$f":"IF(N548<>\"\",IF(D549<>\"\",D549,D548),\"\")","v":""},{"$f":"IF(N548<>\"\",IF(E549<>\"\",E549,E548),\"\")","v":""},{"$f":"IF(N548<>\"\",IF(F549<>\"\",F549,F548),\"\")","v":""}]
[]
[null,null,null,null,null,null,null,null,null,null,null,null,null,{"$f":"IF(A550<>\"\",TEXT(A550,\"\"),\"\")","v":""},{"$f":"IF(N550=\"\",\"\",CONCATENATE(IF(C550<>\"\",TEXT(C550,\"\"),\"\"),\" - \",IF(K550<>\"\",TEXT(K550,\"\"),\"\")))","v":""},{"$f":"SUBSTITUTE(SUBSTITUTE(SUBSTITUTE(SUBSTITUTE(IF(L550<>\"\",HLink(L550),\"\"),\"htm\",\"html\"),\"1x2\",\"analysis\"),\"www\",\"data\"),\"com\",\"vip\")","v":""},{"$f":"IF(D550<>\"\",D550,\"\")","v":""},{"$f":"IF(E550<>\"\",E550,\"\")","v":""},{"$f":"IF(F550<>\"\",F550,\"\")","v":""},{"$f":"IF(N550<>\"\",IF(D551<>\"\",D551,D550),\"\")","v":""},{"$f":"IF(N550<>\"\",IF(E551<>\"\",E551,E550),\"\")","v":""},{"$f":"IF(N550<>\"\",IF(F551<>\"\",F551,F550),\"\")","v":""}]
[]
[null,null,null,null,null,null,null,null,null,null,null,null,null,{"$f":"IF(A552<>\"\",TEXT(A552,\"\"),\"\")","v":""},{"$f":"IF(N552=\"\",\"\",CONCATENATE(IF(C552<>\"\",TEXT(C552,\"\"),\"\"),\" - \",IF(K552<>\"\",TEXT(K552,\"\"),\"\")))","v":""},{"$f":"SUBSTITUTE(SUBSTITUTE(SUBSTITUTE(SUBSTITUTE(IF(L552<>\"\",HLink(L552),\"\"),\"htm\",\"html\"),\"1x2\",\"analysis\"),\"www\",\"data\"),\"com\",\"vip\")","v":""},{"$f":"IF(D552<>\"\",D552,\"\")","v":""},{"$f":"IF(E552<>\"\",E552,\"\")","v":""},{"$f":"IF(F552<>\"\",F552,\"\")","v":""},{"$f":"IF(N552<>\"\",IF(D553<>\"\",D553,D552),\"\")","v":""},{"$f":"IF(N552<>\"\",IF(E553<>\"\",E553,E552),\"\")","v":""},{"$f":"IF(N552<>\"\",IF(F553<>\"\",F553,F552),\"\")","v":""}]
[]
[null,null,null,null,null,null,null,null,null,null,null,null,null,{"$f":"IF(A554<>\"\",TEXT(A554,\"\"),\"\")","v":""},{"$f":"IF(N554=\"\",\"\",CONCATENATE(IF(C554<>\"\",TEXT(C554,\"\"),\"\"),\" - \",IF(K554<>\"\",TEXT(K554,\"\"),\"\")))","v":""},{"$f":"SUBSTITUTE(SUBSTITUTE(SUBSTITUTE(SUBSTITUTE(IF(L554<>\"\",HLink(L554),\"\"),\"htm\",\"html\"),\"1x2\",\"analysis\"),\"www\",\"data\"),\"com\",\"vip\")","v":""},{"$f":"IF(D554<>\"\",D554,\"\")","v":""},{"$f":"IF(E554<>\"\",E554,\"\")","v":""},{"$f":"IF(F554<>\"\",F554,\"\")","v":""},{"$f":"IF(N554<>\"\",IF(D555<>\"\",D555,D554),\"\")","v":""},{"$f":"IF(N554<>\"\",IF(E555<>\"\",E555,E554),\"\")","v":""},{"$f":"IF(N554<>\"\",IF(F555<>\"\",F555,F554),\"\")","v":""}]
[]
[null,null,null,null,null,null,null,null,null,null,null,null,null,{"$f":"IF(A556<>\"\",TEXT(A556,\"\"),\"\")","v":""},{"$f":"IF(N556=\"\",\"\",CONCATENATE(IF(C556<>\"\",TEXT(C556,\"\"),\"\"),\" - \",IF(K556<>\"\",TEXT(K556,\"\"),\"\")))","v":""},{"$f":"SUBSTITUTE(SUBSTITUTE(SUBSTITUTE(SUBSTITUTE(IF(L556<>\"\",HLink(L556),\"\"),\"htm\",\"html\"),\"1x2\",\"analysis\"),\"www\",\"data\"),\"com\",\"vip\")","v":""},{"$f":"IF(D556<>\"\",D556,\"\")","v":""},{"$f":"IF(E556<>\"\",E556,\"\")","v":""},{"$f":"IF(F556<>\"\",F556,\"\")","v":""},{"$f":"IF(N556<>\"\",IF(D557<>\"\",D557,D556),\"\")","v":""},{"$f":"IF(N556<>\"\",IF(E557<>\"\",E557,E556),\"\")","v":""},{"$f":"IF(N556<>\"\",IF(F557<>\"\",F557,F556),\"\")","v":""}]
[]
[null,null,null,null,null,null,null,null,null,null,null,null,null,{"$f":"IF(A558<>\"\",TEXT(A558,\"\"),\"\")","v":""},{"$f":"IF(N558=\"\",\"\",CONCATENATE(IF(C558<>\"\",TEXT(C558,\"\"),\"\"),\" - \",IF(K558<>\"\",TEXT(K558,\"\"),\"\")))","v":""},{"$f":"SUBSTITUTE(SUBSTITUTE(SUBSTITUTE(SUBSTITUTE(IF(L558<>\"\",HLink(L558),\"\"),\"htm\",\"html\"),\"1x2\",\"analysis\"),\"www\",\"data\"),\"com\",\"vip\")","v":""},{"$f":"IF(D558<>\"\",D558,\"\")","v":""},{"$f":"IF(E558<>\"\",E558,\"\")","v":""},{"$f":"IF(F558<>\"\",F558,\"\")","v":""},{"$f":"IF(N558<>\"\",IF(D559<>\"\",D559,D558),\"\")","v":""},{"$f":"IF(N558<>\"\",IF(E559<>\"\",E559,E558),\"\")","v":""},{"$f":"IF(N558<>\"\",IF(F559<>\"\",F559,F558),\"\")","v":""}]
[]
[null,null,null,null,null,null,null,null,null,null,null,null,null,{"$f":"IF(A560<>\"\",TEXT(A560,\"\"),\"\")","v":""},{"$f":"IF(N560=\"\",\"\",CONCATENATE(IF(C560<>\"\",TEXT(C560,\"\"),\"\"),\" - \",IF(K560<>\"\",TEXT(K560,\"\"),\"\")))","v":""},{"$f":"SUBSTITUTE(SUBSTITUTE(SUBSTITUTE(SUBSTITUTE(IF(L560<>\"\",HLink(L560),\"\"),\"htm\",\"html\"),\"1x2\",\"analysis\"),\"www\",\"data\"),\"com\",\"vip\")","v":""},{"$f":"IF(D560<>\"\",D560,\"\")","v":""},{"$f":"IF(E560<>\"\",E560,\"\")","v":""},{"$f":"IF(F560<>\"\",F560,\"\")","v":""},{"$f":"IF(N560<>\"\",IF(D561<>\"\",D561,D560),\"\")","v":""},{"$f":"IF(N560<>\"\",IF(E561<>\"\",E561,E560),\"\")","v":""},{"$f":"IF(N560<>\"\",IF(F561<>\"\",F561,F560),\"\")","v":""}]
[]
[null,null,null,null,null,null,null,null,null,null,null,null,null,{"$f":"IF(A562<>\"\",TEXT(A562,\"\"),\"\")","v":""},{"$f":"IF(N562=\"\",\"\",CONCATENATE(IF(C562<>\"\",TEXT(C562,\"\"),\"\"),\" - \",IF(K562<>\"\",TEXT(K562,\"\"),\"\")))","v":""},{"$f":"SUBSTITUTE(SUBSTITUTE(SUBSTITUTE(SUBSTITUTE(IF(L562<>\"\",HLink(L562),\"\"),\"htm\",\"html\"),\"1x2\",\"analysis\"),\"www\",\"data\"),\"com\",\"vip\")","v":""},{"$f":"IF(D562<>\"\",D562,\"\")","v":""},{"$f":"IF(E562<>\"\",E562,\"\")","v":""},{"$f":"IF(F562<>\"\",F562,\"\")","v":""},{"$f":"IF(N562<>\"\",IF(D563<>\"\",D563,D562),\"\")","v":""},{"$f":"IF(N562<>\"\",IF(E563<>\"\",E563,E562),\"\")","v":""},{"$f":"IF(N562<>\"\",IF(F563<>\"\",F563,F562),\"\")","v":""}]
[]
[null,null,null,null,null,null,null,null,null,null,null,null,null,{"$f":"IF(A564<>\"\",TEXT(A564,\"\"),\"\")","v":""},{"$f":"IF(N564=\"\",\"\",CONCATENATE(IF(C564<>\"\",TEXT(C564,\"\"),\"\"),\" - \",IF(K564<>\"\",TEXT(K564,\"\"),\"\")))","v":""},{"$f":"SUBSTITUTE(SUBSTITUTE(SUBSTITUTE(SUBSTITUTE(IF(L564<>\"\",HLink(L564),\"\"),\"htm\",\"html\"),\"1x2\",\"analysis\"),\"www\",\"data\"),\"com\",\"vip\")","v":""},{"$f":"IF(D564<>\"\",D564,\"\")","v":""},{"$f":"IF(E564<>\"\",E564,\"\")","v":""},{"$f":"IF(F564<>\"\",F564,\"\")","v":""},{"$f":"IF(N564<>\"\",IF(D565<>\"\",D565,D564),\"\")","v":""},{"$f":"IF(N564<>\"\",IF(E565<>\"\",E565,E564),\"\")","v":""},{"$f":"IF(N564<>\"\",IF(F565<>\"\",F565,F564),\"\")","v":""}]
[]
[null,null,null,null,null,null,null,null,null,null,null,null,null,{"$f":"IF(A566<>\"\",TEXT(A566,\"\"),\"\")","v":""},{"$f":"IF(N566=\"\",\"\",CONCATENATE(IF(C566<>\"\",TEXT(C566,\"\"),\"\"),\" - \",IF(K566<>\"\",TEXT(K566,\"\"),\"\")))","v":""},{"$f":"SUBSTITUTE(SUBSTITUTE(SUBSTITUTE(SUBSTITUTE(IF(L566<>\"\",HLink(L566),\"\"),\"htm\",\"html\"),\"1x2\",\"analysis\"),\"www\",\"data\"),\"com\",\"vip\")","v":""},{"$f":"IF(D566<>\"\",D566,\"\")","v":""},{"$f":"IF(E566<>\"\",E566,\"\")","v":""},{"$f":"IF(F566<>\"\",F566,\"\")","v":""},{"$f":"IF(N566<>\"\",IF(D567<>\"\",D567,D566),\"\")","v":""},{"$f":"IF(N566<>\"\",IF(E567<>\"\",E567,E566),\"\")","v":""},{"$f":"IF(N566<>\"\",IF(F567<>\"\",F567,F566),\"\")","v":""}]
[]
[null,null,null,null,null,null,null,null,null,null,null,null,null,{"$f":"IF(A568<>\"\",TEXT(A568,\"\"),\"\")","v":""},{"$f":"IF(N568=\"\",\"\",CONCATENATE(IF(C568<>\"\",TEXT(C568,\"\"),\"\"),\" - \",IF(K568<>\"\",TEXT(K568,\"\"),\"\")))","v":""},{"$f":"SUBSTITUTE(SUBSTITUTE(SUBSTITUTE(SUBSTITUTE(IF(L568<>\"\",HLink(L568),\"\"),\"htm\",\"html\"),\"1x2\",\"analysis\"),\"www\",\"data\"),\"com\",\"vip\")","v":""},{"$f":"IF(D568<>\"\",D568,\"\")","v":""},{"$f":"IF(E568<>\"\",E568,\"\")","v":""},{"$f":"IF(F568<>\"\",F568,\"\")","v":""},{"$f":"IF(N568<>\"\",IF(D569<>\"\",D569,D568),\"\")","v":""},{"$f":"IF(N568<>\"\",IF(E569<>\"\",E569,E568),\"\")","v":""},{"$f":"IF(N568<>\"\",IF(F569<>\"\",F569,F568),\"\")","v":""}]
[]
[null,null,null,null,null,null,null,null,null,null,null,null,null,{"$f":"IF(A570<>\"\",TEXT(A570,\"\"),\"\")","v":""},{"$f":"IF(N570=\"\",\"\",CONCATENATE(IF(C570<>\"\",TEXT(C570,\"\"),\"\"),\" - \",IF(K570<>\"\",TEXT(K570,\"\"),\"\")))","v":""},{"$f":"SUBSTITUTE(SUBSTITUTE(SUBSTITUTE(SUBSTITUTE(IF(L570<>\"\",HLink(L570),\"\"),\"htm\",\"html\"),\"1x2\",\"analysis\"),\"www\",\"data\"),\"com\",\"vip\")","v":""},{"$f":"IF(D570<>\"\",D570,\"\")","v":""},{"$f":"IF(E570<>\"\",E570,\"\")","v":""},{"$f":"IF(F570<>\"\",F570,\"\")","v":""},{"$f":"IF(N570<>\"\",IF(D571<>\"\",D571,D570),\"\")","v":""},{"$f":"IF(N570<>\"\",IF(E571<>\"\",E571,E570),\"\")","v":""},{"$f":"IF(N570<>\"\",IF(F571<>\"\",F571,F570),\"\")","v":""}]
[]
[null,null,null,null,null,null,null,null,null,null,null,null,null,{"$f":"IF(A572<>\"\",TEXT(A572,\"\"),\"\")","v":""},{"$f":"IF(N572=\"\",\"\",CONCATENATE(IF(C572<>\"\",TEXT(C572,\"\"),\"\"),\" - \",IF(K572<>\"\",TEXT(K572,\"\"),\"\")))","v":""},{"$f":"SUBSTITUTE(SUBSTITUTE(SUBSTITUTE(SUBSTITUTE(IF(L572<>\"\",HLink(L572),\"\"),\"htm\",\"html\"),\"1x2\",\"analysis\"),\"www\",\"data\"),\"com\",\"vip\")","v":""},{"$f":"IF(D572<>\"\",D572,\"\")","v":""},{"$f":"IF(E572<>\"\",E572,\"\")","v":""},{"$f":"IF(F572<>\"\",F572,\"\")","v":""},{"$f":"IF(N572<>\"\",IF(D573<>\"\",D573,D572),\"\")","v":""},{"$f":"IF(N572<>\"\",IF(E573<>\"\",E573,E572),\"\")","v":""},{"$f":"IF(N572<>\"\",IF(F573<>\"\",F573,F572),\"\")","v":""}]
[]
[null,null,null,null,null,null,null,null,null,null,null,null,null,{"$f":"IF(A574<>\"\",TEXT(A574,\"\"),\"\")","v":""},{"$f":"IF(N574=\"\",\"\",CONCATENATE(IF(C574<>\"\",TEXT(C574,\"\"),\"\"),\" - \",IF(K574<>\"\",TEXT(K574,\"\"),\"\")))","v":""},{"$f":"SUBSTITUTE(SUBSTITUTE(SUBSTITUTE(SUBSTITUTE(IF(L574<>\"\",HLink(L574),\"\"),\"htm\",\"html\"),\"1x2\",\"analysis\"),\"www\",\"data\"),\"com\",\"vip\")","v":""},{"$f":"IF(D574<>\"\",D574,\"\")","v":""},{"$f":"IF(E574<>\"\",E574,\"\")","v":""},{"$f":"IF(F574<>\"\",F574,\"\")","v":""},{"$f":"IF(N574<>\"\",IF(D575<>\"\",D575,D574),\"\")","v":""},{"$f":"IF(N574<>\"\",IF(E575<>\"\",E575,E574),\"\")","v":""},{"$f":"IF(N574<>\"\",IF(F575<>\"\",F575,F574),\"\")","v":""}]
[]
[null,null,null,null,null,null,null,null,null,null,null,null,null,{"$f":"IF(A576<>\"\",TEXT(A576,\"\"),\"\")","v":""},{"$f":"IF(N576=\"\",\"\",CONCATENATE(IF(C576<>\"\",TEXT(C576,\"\"),\"\"),\" - \",IF(K576<>\"\",TEXT(K576,\"\"),\"\")))","v":""},{"$f":"SUBSTITUTE(SUBSTITUTE(SUBSTITUTE(SUBSTITUTE(IF(L576<>\"\",HLink(L576),\"\"),\"htm\",\"html\"),\"1x2\",\"analysis\"),\"www\",\"data\"),\"com\",\"vip\")","v":""},{"$f":"IF(D576<>\"\",D576,\"\")","v":""},{"$f":"IF(E576<>\"\",E576,\"\")","v":""},{"$f":"IF(F576<>\"\",F576,\"\")","v":""},{"$f":"IF(N576<>\"\",IF(D577<>\"\",D577,D576),\"\")","v":""},{"$f":"IF(N576<>\"\",IF(E577<>\"\",E577,E576),\"\")","v":""},{"$f":"IF(N576<>\"\",IF(F577<>\"\",F577,F576),\"\")","v":""}]
[]
[null,null,null,null,null,null,null,null,null,null,null,null,null,{"$f":"IF(A578<>\"\",TEXT(A578,\"\"),\"\")","v":""},{"$f":"IF(N578=\"\",\"\",CONCATENATE(IF(C578<>\"\",TEXT(C578,\"\"),\"\"),\" - \",IF(K578<>\"\",TEXT(K578,\"\"),\"\")))","v":""},{"$f":"SUBSTITUTE(SUBSTITUTE(SUBSTITUTE(SUBSTITUTE(IF(L578<>\"\",HLink(L578),\"\"),\"htm\",\"html\"),\"1x2\",\"analysis\"),\"www\",\"data\"),\"com\",\"vip\")","v":""},{"$f":"IF(D578<>\"\",D578,\"\")","v":""},{"$f":"IF(E578<>\"\",E578,\"\")","v":""},{"$f":"IF(F578<>\"\",F578,\"\")","v":""},{"$f":"IF(N578<>\"\",IF(D579<>\"\",D579,D578),\"\")","v":""},{"$f":"IF(N578<>\"\",IF(E579<>\"\",E579,E578),\"\")","v":""},{"$f":"IF(N578<>\"\",IF(F579<>\"\",F579,F578),\"\")","v":""}]
[]
[null,null,null,null,null,null,null,null,null,null,null,null,null,{"$f":"IF(A580<>\"\",TEXT(A580,\"\"),\"\")","v":""},{"$f":"IF(N580=\"\",\"\",CONCATENATE(IF(C580<>\"\",TEXT(C580,\"\"),\"\"),\" - \",IF(K580<>\"\",TEXT(K580,\"\"),\"\")))","v":""},{"$f":"SUBSTITUTE(SUBSTITUTE(SUBSTITUTE(SUBSTITUTE(IF(L580<>\"\",HLink(L580),\"\"),\"htm\",\"html\"),\"1x2\",\"analysis\"),\"www\",\"data\"),\"com\",\"vip\")","v":""},{"$f":"IF(D580<>\"\",D580,\"\")","v":""},{"$f":"IF(E580<>\"\",E580,\"\")","v":""},{"$f":"IF(F580<>\"\",F580,\"\")","v":""},{"$f":"IF(N580<>\"\",IF(D581<>\"\",D581,D580),\"\")","v":""},{"$f":"IF(N580<>\"\",IF(E581<>\"\",E581,E580),\"\")","v":""},{"$f":"IF(N580<>\"\",IF(F581<>\"\",F581,F580),\"\")","v":""}]
[]
[null,null,null,null,null,null,null,null,null,null,null,null,null,{"$f":"IF(A582<>\"\",TEXT(A582,\"\"),\"\")","v":""},{"$f":"IF(N582=\"\",\"\",CONCATENATE(IF(C582<>\"\",TEXT(C582,\"\"),\"\"),\" - \",IF(K582<>\"\",TEXT(K582,\"\"),\"\")))","v":""},{"$f":"SUBSTITUTE(SUBSTITUTE(SUBSTITUTE(SUBSTITUTE(IF(L582<>\"\",HLink(L582),\"\"),\"htm\",\"html\"),\"1x2\",\"analysis\"),\"www\",\"data\"),\"com\",\"vip\")","v":""},{"$f":"IF(D582<>\"\",D582,\"\")","v":""},{"$f":"IF(E582<>\"\",E582,\"\")","v":""},{"$f":"IF(F582<>\"\",F582,\"\")","v":""},{"$f":"IF(N582<>\"\",IF(D583<>\"\",D583,D582),\"\")","v":""},{"$f":"IF(N582<>\"\",IF(E583<>\"\",E583,E582),\"\")","v":""},{"$f":"IF(N582<>\"\",IF(F583<>\"\",F583,F582),\"\")","v":""}]
[]
[null,null,null,null,null,null,null,null,null,null,null,null,null,{"$f":"IF(A584<>\"\",TEXT(A584,\"\"),\"\")","v":""},{"$f":"IF(N584=\"\",\"\",CONCATENATE(IF(C584<>\"\",TEXT(C584,\"\"),\"\"),\" - \",IF(K584<>\"\",TEXT(K584,\"\"),\"\")))","v":""},{"$f":"SUBSTITUTE(SUBSTITUTE(SUBSTITUTE(SUBSTITUTE(IF(L584<>\"\",HLink(L584),\"\"),\"htm\",\"html\"),\"1x2\",\"analysis\"),\"www\",\"data\"),\"com\",\"vip\")","v":""},{"$f":"IF(D584<>\"\",D584,\"\")","v":""},{"$f":"IF(E584<>\"\",E584,\"\")","v":""},{"$f":"IF(F584<>\"\",F584,\"\")","v":""},{"$f":"IF(N584<>\"\",IF(D585<>\"\",D585,D584),\"\")","v":""},{"$f":"IF(N584<>\"\",IF(E585<>\"\",E585,E584),\"\")","v":""},{"$f":"IF(N584<>\"\",IF(F585<>\"\",F585,F584),\"\")","v":""}]
[]
[null,null,null,null,null,null,null,null,null,null,null,null,null,{"$f":"IF(A586<>\"\",TEXT(A586,\"\"),\"\")","v":""},{"$f":"IF(N586=\"\",\"\",CONCATENATE(IF(C586<>\"\",TEXT(C586,\"\"),\"\"),\" - \",IF(K586<>\"\",TEXT(K586,\"\"),\"\")))","v":""},{"$f":"SUBSTITUTE(SUBSTITUTE(SUBSTITUTE(SUBSTITUTE(IF(L586<>\"\",HLink(L586),\"\"),\"htm\",\"html\"),\"1x2\",\"analysis\"),\"www\",\"data\"),\"com\",\"vip\")","v":""},{"$f":"IF(D586<>\"\",D586,\"\")","v":""},{"$f":"IF(E586<>\"\",E586,\"\")","v":""},{"$f":"IF(F586<>\"\",F586,\"\")","v":""},{"$f":"IF(N586<>\"\",IF(D587<>\"\",D587,D586),\"\")","v":""},{"$f":"IF(N586<>\"\",IF(E587<>\"\",E587,E586),\"\")","v":""},{"$f":"IF(N586<>\"\",IF(F587<>\"\",F587,F586),\"\")","v":""}]
[]
[null,null,null,null,null,null,null,null,null,null,null,null,null,{"$f":"IF(A588<>\"\",TEXT(A588,\"\"),\"\")","v":""},{"$f":"IF(N588=\"\",\"\",CONCATENATE(IF(C588<>\"\",TEXT(C588,\"\"),\"\"),\" - \",IF(K588<>\"\",TEXT(K588,\"\"),\"\")))","v":""},{"$f":"SUBSTITUTE(SUBSTITUTE(SUBSTITUTE(SUBSTITUTE(IF(L588<>\"\",HLink(L588),\"\"),\"htm\",\"html\"),\"1x2\",\"analysis\"),\"www\",\"data\"),\"com\",\"vip\")","v":""},{"$f":"IF(D588<>\"\",D588,\"\")","v":""},{"$f":"IF(E588<>\"\",E588,\"\")","v":""},{"$f":"IF(F588<>\"\",F588,\"\")","v":""},{"$f":"IF(N588<>\"\",IF(D589<>\"\",D589,D588),\"\")","v":""},{"$f":"IF(N588<>\"\",IF(E589<>\"\",E589,E588),\"\")","v":""},{"$f":"IF(N588<>\"\",IF(F589<>\"\",F589,F588),\"\")","v":""}]
[]
[null,null,null,null,null,null,null,null,null,null,null,null,null,{"$f":"IF(A590<>\"\",TEXT(A590,\"\"),\"\")","v":""},{"$f":"IF(N590=\"\",\"\",CONCATENATE(IF(C590<>\"\",TEXT(C590,\"\"),\"\"),\" - \",IF(K590<>\"\",TEXT(K590,\"\"),\"\")))","v":""},{"$f":"SUBSTITUTE(SUBSTITUTE(SUBSTITUTE(SUBSTITUTE(IF(L590<>\"\",HLink(L590),\"\"),\"htm\",\"html\"),\"1x2\",\"analysis\"),\"www\",\"data\"),\"com\",\"vip\")","v":""},{"$f":"IF(D590<>\"\",D590,\"\")","v":""},{"$f":"IF(E590<>\"\",E590,\"\")","v":""},{"$f":"IF(F590<>\"\",F590,\"\")","v":""},{"$f":"IF(N590<>\"\",IF(D591<>\"\",D591,D590),\"\")","v":""},{"$f":"IF(N590<>\"\",IF(E591<>\"\",E591,E590),\"\")","v":""},{"$f":"IF(N590<>\"\",IF(F591<>\"\",F591,F590),\"\")","v":""}]
[]
[null,null,null,null,null,null,null,null,null,null,null,null,null,{"$f":"IF(A592<>\"\",TEXT(A592,\"\"),\"\")","v":""},{"$f":"IF(N592=\"\",\"\",CONCATENATE(IF(C592<>\"\",TEXT(C592,\"\"),\"\"),\" - \",IF(K592<>\"\",TEXT(K592,\"\"),\"\")))","v":""},{"$f":"SUBSTITUTE(SUBSTITUTE(SUBSTITUTE(SUBSTITUTE(IF(L592<>\"\",HLink(L592),\"\"),\"htm\",\"html\"),\"1x2\",\"analysis\"),\"www\",\"data\"),\"com\",\"vip\")","v":""},{"$f":"IF(D592<>\"\",D592,\"\")","v":""},{"$f":"IF(E592<>\"\",E592,\"\")","v":""},{"$f":"IF(F592<>\"\",F592,\"\")","v":""},{"$f":"IF(N592<>\"\",IF(D593<>\"\",D593,D592),\"\")","v":""},{"$f":"IF(N592<>\"\",IF(E593<>\"\",E593,E592),\"\")","v":""},{"$f":"IF(N592<>\"\",IF(F593<>\"\",F593,F592),\"\")","v":""}]
[]
[null,null,null,null,null,null,null,null,null,null,null,null,null,{"$f":"IF(A594<>\"\",TEXT(A594,\"\"),\"\")","v":""},{"$f":"IF(N594=\"\",\"\",CONCATENATE(IF(C594<>\"\",TEXT(C594,\"\"),\"\"),\" - \",IF(K594<>\"\",TEXT(K594,\"\"),\"\")))","v":""},{"$f":"SUBSTITUTE(SUBSTITUTE(SUBSTITUTE(SUBSTITUTE(IF(L594<>\"\",HLink(L594),\"\"),\"htm\",\"html\"),\"1x2\",\"analysis\"),\"www\",\"data\"),\"com\",\"vip\")","v":""},{"$f":"IF(D594<>\"\",D594,\"\")","v":""},{"$f":"IF(E594<>\"\",E594,\"\")","v":""},{"$f":"IF(F594<>\"\",F594,\"\")","v":""},{"$f":"IF(N594<>\"\",IF(D595<>\"\",D595,D594),\"\")","v":""},{"$f":"IF(N594<>\"\",IF(E595<>\"\",E595,E594),\"\")","v":""},{"$f":"IF(N594<>\"\",IF(F595<>\"\",F595,F594),\"\")","v":""}]
[]
[null,null,null,null,null,null,null,null,null,null,null,null,null,{"$f":"IF(A596<>\"\",TEXT(A596,\"\"),\"\")","v":""},{"$f":"IF(N596=\"\",\"\",CONCATENATE(IF(C596<>\"\",TEXT(C596,\"\"),\"\"),\" - \",IF(K596<>\"\",TEXT(K596,\"\"),\"\")))","v":""},{"$f":"SUBSTITUTE(SUBSTITUTE(SUBSTITUTE(SUBSTITUTE(IF(L596<>\"\",HLink(L596),\"\"),\"htm\",\"html\"),\"1x2\",\"analysis\"),\"www\",\"data\"),\"com\",\"vip\")","v":""},{"$f":"IF(D596<>\"\",D596,\"\")","v":""},{"$f":"IF(E596<>\"\",E596,\"\")","v":""},{"$f":"IF(F596<>\"\",F596,\"\")","v":""},{"$f":"IF(N596<>\"\",IF(D597<>\"\",D597,D596),\"\")","v":""},{"$f":"IF(N596<>\"\",IF(E597<>\"\",E597,E596),\"\")","v":""},{"$f":"IF(N596<>\"\",IF(F597<>\"\",F597,F596),\"\")","v":""}]
[]
[null,null,null,null,null,null,null,null,null,null,null,null,null,{"$f":"IF(A598<>\"\",TEXT(A598,\"\"),\"\")","v":""},{"$f":"IF(N598=\"\",\"\",CONCATENATE(IF(C598<>\"\",TEXT(C598,\"\"),\"\"),\" - \",IF(K598<>\"\",TEXT(K598,\"\"),\"\")))","v":""},{"$f":"SUBSTITUTE(SUBSTITUTE(SUBSTITUTE(SUBSTITUTE(IF(L598<>\"\",HLink(L598),\"\"),\"htm\",\"html\"),\"1x2\",\"analysis\"),\"www\",\"data\"),\"com\",\"vip\")","v":""},{"$f":"IF(D598<>\"\",D598,\"\")","v":""},{"$f":"IF(E598<>\"\",E598,\"\")","v":""},{"$f":"IF(F598<>\"\",F598,\"\")","v":""},{"$f":"IF(N598<>\"\",IF(D599<>\"\",D599,D598),\"\")","v":""},{"$f":"IF(N598<>\"\",IF(E599<>\"\",E599,E598),\"\")","v":""},{"$f":"IF(N598<>\"\",IF(F599<>\"\",F599,F598),\"\")","v":""}]
[]
[null,null,null,null,null,null,null,null,null,null,null,null,null,{"$f":"IF(A600<>\"\",TEXT(A600,\"\"),\"\")","v":""},{"$f":"IF(N600=\"\",\"\",CONCATENATE(IF(C600<>\"\",TEXT(C600,\"\"),\"\"),\" - \",IF(K600<>\"\",TEXT(K600,\"\"),\"\")))","v":""},{"$f":"SUBSTITUTE(SUBSTITUTE(SUBSTITUTE(SUBSTITUTE(IF(L600<>\"\",HLink(L600),\"\"),\"htm\",\"html\"),\"1x2\",\"analysis\"),\"www\",\"data\"),\"com\",\"vip\")","v":""},{"$f":"IF(D600<>\"\",D600,\"\")","v":""},{"$f":"IF(E600<>\"\",E600,\"\")","v":""},{"$f":"IF(F600<>\"\",F600,\"\")","v":""},{"$f":"IF(N600<>\"\",IF(D601<>\"\",D601,D600),\"\")","v":""},{"$f":"IF(N600<>\"\",IF(E601<>\"\",E601,E600),\"\")","v":""},{"$f":"IF(N600<>\"\",IF(F601<>\"\",F601,F600),\"\")","v":""}]
[]
[null,null,null,null,null,null,null,null,null,null,null,null,null,{"$f":"IF(A602<>\"\",TEXT(A602,\"\"),\"\")","v":""},{"$f":"IF(N602=\"\",\"\",CONCATENATE(IF(C602<>\"\",TEXT(C602,\"\"),\"\"),\" - \",IF(K602<>\"\",TEXT(K602,\"\"),\"\")))","v":""},{"$f":"SUBSTITUTE(SUBSTITUTE(SUBSTITUTE(SUBSTITUTE(IF(L602<>\"\",HLink(L602),\"\"),\"htm\",\"html\"),\"1x2\",\"analysis\"),\"www\",\"data\"),\"com\",\"vip\")","v":""},{"$f":"IF(D602<>\"\",D602,\"\")","v":""},{"$f":"IF(E602<>\"\",E602,\"\")","v":""},{"$f":"IF(F602<>\"\",F602,\"\")","v":""},{"$f":"IF(N602<>\"\",IF(D603<>\"\",D603,D602),\"\")","v":""},{"$f":"IF(N602<>\"\",IF(E603<>\"\",E603,E602),\"\")","v":""},{"$f":"IF(N602<>\"\",IF(F603<>\"\",F603,F602),\"\")","v":""}]
[]
[null,null,null,null,null,null,null,null,null,null,null,null,null,{"$f":"IF(A604<>\"\",TEXT(A604,\"\"),\"\")","v":""},{"$f":"IF(N604=\"\",\"\",CONCATENATE(IF(C604<>\"\",TEXT(C604,\"\"),\"\"),\" - \",IF(K604<>\"\",TEXT(K604,\"\"),\"\")))","v":""},{"$f":"SUBSTITUTE(SUBSTITUTE(SUBSTITUTE(SUBSTITUTE(IF(L604<>\"\",HLink(L604),\"\"),\"htm\",\"html\"),\"1x2\",\"analysis\"),\"www\",\"data\"),\"com\",\"vip\")","v":""},{"$f":"IF(D604<>\"\",D604,\"\")","v":""},{"$f":"IF(E604<>\"\",E604,\"\")","v":""},{"$f":"IF(F604<>\"\",F604,\"\")","v":""},{"$f":"IF(N604<>\"\",IF(D605<>\"\",D605,D604),\"\")","v":""},{"$f":"IF(N604<>\"\",IF(E605<>\"\",E605,E604),\"\")","v":""},{"$f":"IF(N604<>\"\",IF(F605<>\"\",F605,F604),\"\")","v":""}]
[]
[null,null,null,null,null,null,null,null,null,null,null,null,null,{"$f":"IF(A606<>\"\",TEXT(A606,\"\"),\"\")","v":""},{"$f":"IF(N606=\"\",\"\",CONCATENATE(IF(C606<>\"\",TEXT(C606,\"\"),\"\"),\" - \",IF(K606<>\"\",TEXT(K606,\"\"),\"\")))","v":""},{"$f":"SUBSTITUTE(SUBSTITUTE(SUBSTITUTE(SUBSTITUTE(IF(L606<>\"\",HLink(L606),\"\"),\"htm\",\"html\"),\"1x2\",\"analysis\"),\"www\",\"data\"),\"com\",\"vip\")","v":""},{"$f":"IF(D606<>\"\",D606,\"\")","v":""},{"$f":"IF(E606<>\"\",E606,\"\")","v":""},{"$f":"IF(F606<>\"\",F606,\"\")","v":""},{"$f":"IF(N606<>\"\",IF(D607<>\"\",D607,D606),\"\")","v":""},{"$f":"IF(N606<>\"\",IF(E607<>\"\",E607,E606),\"\")","v":""},{"$f":"IF(N606<>\"\",IF(F607<>\"\",F607,F606),\"\")","v":""}]
[]
[null,null,null,null,null,null,null,null,null,null,null,null,null,{"$f":"IF(A608<>\"\",TEXT(A608,\"\"),\"\")","v":""},{"$f":"IF(N608=\"\",\"\",CONCATENATE(IF(C608<>\"\",TEXT(C608,\"\"),\"\"),\" - \",IF(K608<>\"\",TEXT(K608,\"\"),\"\")))","v":""},{"$f":"SUBSTITUTE(SUBSTITUTE(SUBSTITUTE(SUBSTITUTE(IF(L608<>\"\",HLink(L608),\"\"),\"htm\",\"html\"),\"1x2\",\"analysis\"),\"www\",\"data\"),\"com\",\"vip\")","v":""},{"$f":"IF(D608<>\"\",D608,\"\")","v":""},{"$f":"IF(E608<>\"\",E608,\"\")","v":""},{"$f":"IF(F608<>\"\",F608,\"\")","v":""},{"$f":"IF(N608<>\"\",IF(D609<>\"\",D609,D608),\"\")","v":""},{"$f":"IF(N608<>\"\",IF(E609<>\"\",E609,E608),\"\")","v":""},{"$f":"IF(N608<>\"\",IF(F609<>\"\",F609,F608),\"\")","v":""}]
[]
[null,null,null,null,null,null,null,null,null,null,null,null,null,{"$f":"IF(A610<>\"\",TEXT(A610,\"\"),\"\")","v":""},{"$f":"IF(N610=\"\",\"\",CONCATENATE(IF(C610<>\"\",TEXT(C610,\"\"),\"\"),\" - \",IF(K610<>\"\",TEXT(K610,\"\"),\"\")))","v":""},{"$f":"SUBSTITUTE(SUBSTITUTE(SUBSTITUTE(SUBSTITUTE(IF(L610<>\"\",HLink(L610),\"\"),\"htm\",\"html\"),\"1x2\",\"analysis\"),\"www\",\"data\"),\"com\",\"vip\")","v":""},{"$f":"IF(D610<>\"\",D610,\"\")","v":""},{"$f":"IF(E610<>\"\",E610,\"\")","v":""},{"$f":"IF(F610<>\"\",F610,\"\")","v":""},{"$f":"IF(N610<>\"\",IF(D611<>\"\",D611,D610),\"\")","v":""},{"$f":"IF(N610<>\"\",IF(E611<>\"\",E611,E610),\"\")","v":""},{"$f":"IF(N610<>\"\",IF(F611<>\"\",F611,F610),\"\")","v":""}]
[]
[null,null,null,null,null,null,null,null,null,null,null,null,null,{"$f":"IF(A612<>\"\",TEXT(A612,\"\"),\"\")","v":""},{"$f":"IF(N612=\"\",\"\",CONCATENATE(IF(C612<>\"\",TEXT(C612,\"\"),\"\"),\" - \",IF(K612<>\"\",TEXT(K612,\"\"),\"\")))","v":""},{"$f":"SUBSTITUTE(SUBSTITUTE(SUBSTITUTE(SUBSTITUTE(IF(L612<>\"\",HLink(L612),\"\"),\"htm\",\"html\"),\"1x2\",\"analysis\"),\"www\",\"data\"),\"com\",\"vip\")","v":""},{"$f":"IF(D612<>\"\",D612,\"\")","v":""},{"$f":"IF(E612<>\"\",E612,\"\")","v":""},{"$f":"IF(F612<>\"\",F612,\"\")","v":""},{"$f":"IF(N612<>\"\",IF(D613<>\"\",D613,D612),\"\")","v":""},{"$f":"IF(N612<>\"\",IF(E613<>\"\",E613,E612),\"\")","v":""},{"$f":"IF(N612<>\"\",IF(F613<>\"\",F613,F612),\"\")","v":""}]
[]
[null,null,null,null,null,null,null,null,null,null,null,null,null,{"$f":"IF(A614<>\"\",TEXT(A614,\"\"),\"\")","v":""},{"$f":"IF(N614=\"\",\"\",CONCATENATE(IF(C614<>\"\",TEXT(C614,\"\"),\"\"),\" - \",IF(K614<>\"\",TEXT(K614,\"\"),\"\")))","v":""},{"$f":"SUBSTITUTE(SUBSTITUTE(SUBSTITUTE(SUBSTITUTE(IF(L614<>\"\",HLink(L614),\"\"),\"htm\",\"html\"),\"1x2\",\"analysis\"),\"www\",\"data\"),\"com\",\"vip\")","v":""},{"$f":"IF(D614<>\"\",D614,\"\")","v":""},{"$f":"IF(E614<>\"\",E614,\"\")","v":""},{"$f":"IF(F614<>\"\",F614,\"\")","v":""},{"$f":"IF(N614<>\"\",IF(D615<>\"\",D615,D614),\"\")","v":""},{"$f":"IF(N614<>\"\",IF(E615<>\"\",E615,E614),\"\")","v":""},{"$f":"IF(N614<>\"\",IF(F615<>\"\",F615,F614),\"\")","v":""}]
[]
[null,null,null,null,null,null,null,null,null,null,null,null,null,{"$f":"IF(A616<>\"\",TEXT(A616,\"\"),\"\")","v":""},{"$f":"IF(N616=\"\",\"\",CONCATENATE(IF(C616<>\"\",TEXT(C616,\"\"),\"\"),\" - \",IF(K616<>\"\",TEXT(K616,\"\"),\"\")))","v":""},{"$f":"SUBSTITUTE(SUBSTITUTE(SUBSTITUTE(SUBSTITUTE(IF(L616<>\"\",HLink(L616),\"\"),\"htm\",\"html\"),\"1x2\",\"analysis\"),\"www\",\"data\"),\"com\",\"vip\")","v":""},{"$f":"IF(D616<>\"\",D616,\"\")","v":""},{"$f":"IF(E616<>\"\",E616,\"\")","v":""},{"$f":"IF(F616<>\"\",F616,\"\")","v":""},{"$f":"IF(N616<>\"\",IF(D617<>\"\",D617,D616),\"\")","v":""},{"$f":"IF(N616<>\"\",IF(E617<>\"\",E617,E616),\"\")","v":""},{"$f":"IF(N616<>\"\",IF(F617<>\"\",F617,F616),\"\")","v":""}]
[]
[null,null,null,null,null,null,null,null,null,null,null,null,null,{"$f":"IF(A618<>\"\",TEXT(A618,\"\"),\"\")","v":""},{"$f":"IF(N618=\"\",\"\",CONCATENATE(IF(C618<>\"\",TEXT(C618,\"\"),\"\"),\" - \",IF(K618<>\"\",TEXT(K618,\"\"),\"\")))","v":""},{"$f":"SUBSTITUTE(SUBSTITUTE(SUBSTITUTE(SUBSTITUTE(IF(L618<>\"\",HLink(L618),\"\"),\"htm\",\"html\"),\"1x2\",\"analysis\"),\"www\",\"data\"),\"com\",\"vip\")","v":""},{"$f":"IF(D618<>\"\",D618,\"\")","v":""},{"$f":"IF(E618<>\"\",E618,\"\")","v":""},{"$f":"IF(F618<>\"\",F618,\"\")","v":""},{"$f":"IF(N618<>\"\",IF(D619<>\"\",D619,D618),\"\")","v":""},{"$f":"IF(N618<>\"\",IF(E619<>\"\",E619,E618),\"\")","v":""},{"$f":"IF(N618<>\"\",IF(F619<>\"\",F619,F618),\"\")","v":""}]
[]
[null,null,null,null,null,null,null,null,null,null,null,null,null,{"$f":"IF(A620<>\"\",TEXT(A620,\"\"),\"\")","v":""},{"$f":"IF(N620=\"\",\"\",CONCATENATE(IF(C620<>\"\",TEXT(C620,\"\"),\"\"),\" - \",IF(K620<>\"\",TEXT(K620,\"\"),\"\")))","v":""},{"$f":"SUBSTITUTE(SUBSTITUTE(SUBSTITUTE(SUBSTITUTE(IF(L620<>\"\",HLink(L620),\"\"),\"htm\",\"html\"),\"1x2\",\"analysis\"),\"www\",\"data\"),\"com\",\"vip\")","v":""},{"$f":"IF(D620<>\"\",D620,\"\")","v":""},{"$f":"IF(E620<>\"\",E620,\"\")","v":""},{"$f":"IF(F620<>\"\",F620,\"\")","v":""},{"$f":"IF(N620<>\"\",IF(D621<>\"\",D621,D620),\"\")","v":""},{"$f":"IF(N620<>\"\",IF(E621<>\"\",E621,E620),\"\")","v":""},{"$f":"IF(N620<>\"\",IF(F621<>\"\",F621,F620),\"\")","v":""}]
[]
[null,null,null,null,null,null,null,null,null,null,null,null,null,{"$f":"IF(A622<>\"\",TEXT(A622,\"\"),\"\")","v":""},{"$f":"IF(N622=\"\",\"\",CONCATENATE(IF(C622<>\"\",TEXT(C622,\"\"),\"\"),\" - \",IF(K622<>\"\",TEXT(K622,\"\"),\"\")))","v":""},{"$f":"SUBSTITUTE(SUBSTITUTE(SUBSTITUTE(SUBSTITUTE(IF(L622<>\"\",HLink(L622),\"\"),\"htm\",\"html\"),\"1x2\",\"analysis\"),\"www\",\"data\"),\"com\",\"vip\")","v":""},{"$f":"IF(D622<>\"\",D622,\"\")","v":""},{"$f":"IF(E622<>\"\",E622,\"\")","v":""},{"$f":"IF(F622<>\"\",F622,\"\")","v":""},{"$f":"IF(N622<>\"\",IF(D623<>\"\",D623,D622),\"\")","v":""},{"$f":"IF(N622<>\"\",IF(E623<>\"\",E623,E622),\"\")","v":""},{"$f":"IF(N622<>\"\",IF(F623<>\"\",F623,F622),\"\")","v":""}]
[]
[null,null,null,null,null,null,null,null,null,null,null,null,null,{"$f":"IF(A624<>\"\",TEXT(A624,\"\"),\"\")","v":""},{"$f":"IF(N624=\"\",\"\",CONCATENATE(IF(C624<>\"\",TEXT(C624,\"\"),\"\"),\" - \",IF(K624<>\"\",TEXT(K624,\"\"),\"\")))","v":""},{"$f":"SUBSTITUTE(SUBSTITUTE(SUBSTITUTE(SUBSTITUTE(IF(L624<>\"\",HLink(L624),\"\"),\"htm\",\"html\"),\"1x2\",\"analysis\"),\"www\",\"data\"),\"com\",\"vip\")","v":""},{"$f":"IF(D624<>\"\",D624,\"\")","v":""},{"$f":"IF(E624<>\"\",E624,\"\")","v":""},{"$f":"IF(F624<>\"\",F624,\"\")","v":""},{"$f":"IF(N624<>\"\",IF(D625<>\"\",D625,D624),\"\")","v":""},{"$f":"IF(N624<>\"\",IF(E625<>\"\",E625,E624),\"\")","v":""},{"$f":"IF(N624<>\"\",IF(F625<>\"\",F625,F624),\"\")","v":""}]
[]
[null,null,null,null,null,null,null,null,null,null,null,null,null,{"$f":"IF(A626<>\"\",TEXT(A626,\"\"),\"\")","v":""},{"$f":"IF(N626=\"\",\"\",CONCATENATE(IF(C626<>\"\",TEXT(C626,\"\"),\"\"),\" - \",IF(K626<>\"\",TEXT(K626,\"\"),\"\")))","v":""},{"$f":"SUBSTITUTE(SUBSTITUTE(SUBSTITUTE(SUBSTITUTE(IF(L626<>\"\",HLink(L626),\"\"),\"htm\",\"html\"),\"1x2\",\"analysis\"),\"www\",\"data\"),\"com\",\"vip\")","v":""},{"$f":"IF(D626<>\"\",D626,\"\")","v":""},{"$f":"IF(E626<>\"\",E626,\"\")","v":""},{"$f":"IF(F626<>\"\",F626,\"\")","v":""},{"$f":"IF(N626<>\"\",IF(D627<>\"\",D627,D626),\"\")","v":""},{"$f":"IF(N626<>\"\",IF(E627<>\"\",E627,E626),\"\")","v":""},{"$f":"IF(N626<>\"\",IF(F627<>\"\",F627,F626),\"\")","v":""}]
[]
[null,null,null,null,null,null,null,null,null,null,null,null,null,{"$f":"IF(A628<>\"\",TEXT(A628,\"\"),\"\")","v":""},{"$f":"IF(N628=\"\",\"\",CONCATENATE(IF(C628<>\"\",TEXT(C628,\"\"),\"\"),\" - \",IF(K628<>\"\",TEXT(K628,\"\"),\"\")))","v":""},{"$f":"SUBSTITUTE(SUBSTITUTE(SUBSTITUTE(SUBSTITUTE(IF(L628<>\"\",HLink(L628),\"\"),\"htm\",\"html\"),\"1x2\",\"analysis\"),\"www\",\"data\"),\"com\",\"vip\")","v":""},{"$f":"IF(D628<>\"\",D628,\"\")","v":""},{"$f":"IF(E628<>\"\",E628,\"\")","v":""},{"$f":"IF(F628<>\"\",F628,\"\")","v":""},{"$f":"IF(N628<>\"\",IF(D629<>\"\",D629,D628),\"\")","v":""},{"$f":"IF(N628<>\"\",IF(E629<>\"\",E629,E628),\"\")","v":""},{"$f":"IF(N628<>\"\",IF(F629<>\"\",F629,F628),\"\")","v":""}]
[]
[null,null,null,null,null,null,null,null,null,null,null,null,null,{"$f":"IF(A630<>\"\",TEXT(A630,\"\"),\"\")","v":""},{"$f":"IF(N630=\"\",\"\",CONCATENATE(IF(C630<>\"\",TEXT(C630,\"\"),\"\"),\" - \",IF(K630<>\"\",TEXT(K630,\"\"),\"\")))","v":""},{"$f":"SUBSTITUTE(SUBSTITUTE(SUBSTITUTE(SUBSTITUTE(IF(L630<>\"\",HLink(L630),\"\"),\"htm\",\"html\"),\"1x2\",\"analysis\"),\"www\",\"data\"),\"com\",\"vip\")","v":""},{"$f":"IF(D630<>\"\",D630,\"\")","v":""},{"$f":"IF(E630<>\"\",E630,\"\")","v":""},{"$f":"IF(F630<>\"\",F630,\"\")","v":""},{"$f":"IF(N630<>\"\",IF(D631<>\"\",D631,D630),\"\")","v":""},{"$f":"IF(N630<>\"\",IF(E631<>\"\",E631,E630),\"\")","v":""},{"$f":"IF(N630<>\"\",IF(F631<>\"\",F631,F630),\"\")","v":""}]
[]
[null,null,null,null,null,null,null,null,null,null,null,null,null,{"$f":"IF(A632<>\"\",TEXT(A632,\"\"),\"\")","v":""},{"$f":"IF(N632=\"\",\"\",CONCATENATE(IF(C632<>\"\",TEXT(C632,\"\"),\"\"),\" - \",IF(K632<>\"\",TEXT(K632,\"\"),\"\")))","v":""},{"$f":"SUBSTITUTE(SUBSTITUTE(SUBSTITUTE(SUBSTITUTE(IF(L632<>\"\",HLink(L632),\"\"),\"htm\",\"html\"),\"1x2\",\"analysis\"),\"www\",\"data\"),\"com\",\"vip\")","v":""},{"$f":"IF(D632<>\"\",D632,\"\")","v":""},{"$f":"IF(E632<>\"\",E632,\"\")","v":""},{"$f":"IF(F632<>\"\",F632,\"\")","v":""},{"$f":"IF(N632<>\"\",IF(D633<>\"\",D633,D632),\"\")","v":""},{"$f":"IF(N632<>\"\",IF(E633<>\"\",E633,E632),\"\")","v":""},{"$f":"IF(N632<>\"\",IF(F633<>\"\",F633,F632),\"\")","v":""}]
[]
[null,null,null,null,null,null,null,null,null,null,null,null,null,{"$f":"IF(A634<>\"\",TEXT(A634,\"\"),\"\")","v":""},{"$f":"IF(N634=\"\",\"\",CONCATENATE(IF(C634<>\"\",TEXT(C634,\"\"),\"\"),\" - \",IF(K634<>\"\",TEXT(K634,\"\"),\"\")))","v":""},{"$f":"SUBSTITUTE(SUBSTITUTE(SUBSTITUTE(SUBSTITUTE(IF(L634<>\"\",HLink(L634),\"\"),\"htm\",\"html\"),\"1x2\",\"analysis\"),\"www\",\"data\"),\"com\",\"vip\")","v":""},{"$f":"IF(D634<>\"\",D634,\"\")","v":""},{"$f":"IF(E634<>\"\",E634,\"\")","v":""},{"$f":"IF(F634<>\"\",F634,\"\")","v":""},{"$f":"IF(N634<>\"\",IF(D635<>\"\",D635,D634),\"\")","v":""},{"$f":"IF(N634<>\"\",IF(E635<>\"\",E635,E634),\"\")","v":""},{"$f":"IF(N634<>\"\",IF(F635<>\"\",F635,F634),\"\")","v":""}]
[]
[null,null,null,null,null,null,null,null,null,null,null,null,null,{"$f":"IF(A636<>\"\",TEXT(A636,\"\"),\"\")","v":""},{"$f":"IF(N636=\"\",\"\",CONCATENATE(IF(C636<>\"\",TEXT(C636,\"\"),\"\"),\" - \",IF(K636<>\"\",TEXT(K636,\"\"),\"\")))","v":""},{"$f":"SUBSTITUTE(SUBSTITUTE(SUBSTITUTE(SUBSTITUTE(IF(L636<>\"\",HLink(L636),\"\"),\"htm\",\"html\"),\"1x2\",\"analysis\"),\"www\",\"data\"),\"com\",\"vip\")","v":""},{"$f":"IF(D636<>\"\",D636,\"\")","v":""},{"$f":"IF(E636<>\"\",E636,\"\")","v":""},{"$f":"IF(F636<>\"\",F636,\"\")","v":""},{"$f":"IF(N636<>\"\",IF(D637<>\"\",D637,D636),\"\")","v":""},{"$f":"IF(N636<>\"\",IF(E637<>\"\",E637,E636),\"\")","v":""},{"$f":"IF(N636<>\"\",IF(F637<>\"\",F637,F636),\"\")","v":""}]
[]
[null,null,null,null,null,null,null,null,null,null,null,null,null,{"$f":"IF(A638<>\"\",TEXT(A638,\"\"),\"\")","v":""},{"$f":"IF(N638=\"\",\"\",CONCATENATE(IF(C638<>\"\",TEXT(C638,\"\"),\"\"),\" - \",IF(K638<>\"\",TEXT(K638,\"\"),\"\")))","v":""},{"$f":"SUBSTITUTE(SUBSTITUTE(SUBSTITUTE(SUBSTITUTE(IF(L638<>\"\",HLink(L638),\"\"),\"htm\",\"html\"),\"1x2\",\"analysis\"),\"www\",\"data\"),\"com\",\"vip\")","v":""},{"$f":"IF(D638<>\"\",D638,\"\")","v":""},{"$f":"IF(E638<>\"\",E638,\"\")","v":""},{"$f":"IF(F638<>\"\",F638,\"\")","v":""},{"$f":"IF(N638<>\"\",IF(D639<>\"\",D639,D638),\"\")","v":""},{"$f":"IF(N638<>\"\",IF(E639<>\"\",E639,E638),\"\")","v":""},{"$f":"IF(N638<>\"\",IF(F639<>\"\",F639,F638),\"\")","v":""}]
[]
[null,null,null,null,null,null,null,null,null,null,null,null,null,{"$f":"IF(A640<>\"\",TEXT(A640,\"\"),\"\")","v":""},{"$f":"IF(N640=\"\",\"\",CONCATENATE(IF(C640<>\"\",TEXT(C640,\"\"),\"\"),\" - \",IF(K640<>\"\",TEXT(K640,\"\"),\"\")))","v":""},{"$f":"SUBSTITUTE(SUBSTITUTE(SUBSTITUTE(SUBSTITUTE(IF(L640<>\"\",HLink(L640),\"\"),\"htm\",\"html\"),\"1x2\",\"analysis\"),\"www\",\"data\"),\"com\",\"vip\")","v":""},{"$f":"IF(D640<>\"\",D640,\"\")","v":""},{"$f":"IF(E640<>\"\",E640,\"\")","v":""},{"$f":"IF(F640<>\"\",F640,\"\")","v":""},{"$f":"IF(N640<>\"\",IF(D641<>\"\",D641,D640),\"\")","v":""},{"$f":"IF(N640<>\"\",IF(E641<>\"\",E641,E640),\"\")","v":""},{"$f":"IF(N640<>\"\",IF(F641<>\"\",F641,F640),\"\")","v":""}]
[]
[null,null,null,null,null,null,null,null,null,null,null,null,null,{"$f":"IF(A642<>\"\",TEXT(A642,\"\"),\"\")","v":""},{"$f":"IF(N642=\"\",\"\",CONCATENATE(IF(C642<>\"\",TEXT(C642,\"\"),\"\"),\" - \",IF(K642<>\"\",TEXT(K642,\"\"),\"\")))","v":""},{"$f":"SUBSTITUTE(SUBSTITUTE(SUBSTITUTE(SUBSTITUTE(IF(L642<>\"\",HLink(L642),\"\"),\"htm\",\"html\"),\"1x2\",\"analysis\"),\"www\",\"data\"),\"com\",\"vip\")","v":""},{"$f":"IF(D642<>\"\",D642,\"\")","v":""},{"$f":"IF(E642<>\"\",E642,\"\")","v":""},{"$f":"IF(F642<>\"\",F642,\"\")","v":""},{"$f":"IF(N642<>\"\",IF(D643<>\"\",D643,D642),\"\")","v":""},{"$f":"IF(N642<>\"\",IF(E643<>\"\",E643,E642),\"\")","v":""},{"$f":"IF(N642<>\"\",IF(F643<>\"\",F643,F642),\"\")","v":""}]
[]
[null,null,null,null,null,null,null,null,null,null,null,null,null,{"$f":"IF(A644<>\"\",TEXT(A644,\"\"),\"\")","v":""},{"$f":"IF(N644=\"\",\"\",CONCATENATE(IF(C644<>\"\",TEXT(C644,\"\"),\"\"),\" - \",IF(K644<>\"\",TEXT(K644,\"\"),\"\")))","v":""},{"$f":"SUBSTITUTE(SUBSTITUTE(SUBSTITUTE(SUBSTITUTE(IF(L644<>\"\",HLink(L644),\"\"),\"htm\",\"html\"),\"1x2\",\"analysis\"),\"www\",\"data\"),\"com\",\"vip\")","v":""},{"$f":"IF(D644<>\"\",D644,\"\")","v":""},{"$f":"IF(E644<>\"\",E644,\"\")","v":""},{"$f":"IF(F644<>\"\",F644,\"\")","v":""},{"$f":"IF(N644<>\"\",IF(D645<>\"\",D645,D644),\"\")","v":""},{"$f":"IF(N644<>\"\",IF(E645<>\"\",E645,E644),\"\")","v":""},{"$f":"IF(N644<>\"\",IF(F645<>\"\",F645,F644),\"\")","v":""}]
[]
[null,null,null,null,null,null,null,null,null,null,null,null,null,{"$f":"IF(A646<>\"\",TEXT(A646,\"\"),\"\")","v":""},{"$f":"IF(N646=\"\",\"\",CONCATENATE(IF(C646<>\"\",TEXT(C646,\"\"),\"\"),\" - \",IF(K646<>\"\",TEXT(K646,\"\"),\"\")))","v":""},{"$f":"SUBSTITUTE(SUBSTITUTE(SUBSTITUTE(SUBSTITUTE(IF(L646<>\"\",HLink(L646),\"\"),\"htm\",\"html\"),\"1x2\",\"analysis\"),\"www\",\"data\"),\"com\",\"vip\")","v":""},{"$f":"IF(D646<>\"\",D646,\"\")","v":""},{"$f":"IF(E646<>\"\",E646,\"\")","v":""},{"$f":"IF(F646<>\"\",F646,\"\")","v":""},{"$f":"IF(N646<>\"\",IF(D647<>\"\",D647,D646),\"\")","v":""},{"$f":"IF(N646<>\"\",IF(E647<>\"\",E647,E646),\"\")","v":""},{"$f":"IF(N646<>\"\",IF(F647<>\"\",F647,F646),\"\")","v":""}]
[]
[null,null,null,null,null,null,null,null,null,null,null,null,null,{"$f":"IF(A648<>\"\",TEXT(A648,\"\"),\"\")","v":""},{"$f":"IF(N648=\"\",\"\",CONCATENATE(IF(C648<>\"\",TEXT(C648,\"\"),\"\"),\" - \",IF(K648<>\"\",TEXT(K648,\"\"),\"\")))","v":""},{"$f":"SUBSTITUTE(SUBSTITUTE(SUBSTITUTE(SUBSTITUTE(IF(L648<>\"\",HLink(L648),\"\"),\"htm\",\"html\"),\"1x2\",\"analysis\"),\"www\",\"data\"),\"com\",\"vip\")","v":""},{"$f":"IF(D648<>\"\",D648,\"\")","v":""},{"$f":"IF(E648<>\"\",E648,\"\")","v":""},{"$f":"IF(F648<>\"\",F648,\"\")","v":""},{"$f":"IF(N648<>\"\",IF(D649<>\"\",D649,D648),\"\")","v":""},{"$f":"IF(N648<>\"\",IF(E649<>\"\",E649,E648),\"\")","v":""},{"$f":"IF(N648<>\"\",IF(F649<>\"\",F649,F648),\"\")","v":""}]
[]
[null,null,null,null,null,null,null,null,null,null,null,null,null,{"$f":"IF(A650<>\"\",TEXT(A650,\"\"),\"\")","v":""},{"$f":"IF(N650=\"\",\"\",CONCATENATE(IF(C650<>\"\",TEXT(C650,\"\"),\"\"),\" - \",IF(K650<>\"\",TEXT(K650,\"\"),\"\")))","v":""},{"$f":"SUBSTITUTE(SUBSTITUTE(SUBSTITUTE(SUBSTITUTE(IF(L650<>\"\",HLink(L650),\"\"),\"htm\",\"html\"),\"1x2\",\"analysis\"),\"www\",\"data\"),\"com\",\"vip\")","v":""},{"$f":"IF(D650<>\"\",D650,\"\")","v":""},{"$f":"IF(E650<>\"\",E650,\"\")","v":""},{"$f":"IF(F650<>\"\",F650,\"\")","v":""},{"$f":"IF(N650<>\"\",IF(D651<>\"\",D651,D650),\"\")","v":""},{"$f":"IF(N650<>\"\",IF(E651<>\"\",E651,E650),\"\")","v":""},{"$f":"IF(N650<>\"\",IF(F651<>\"\",F651,F650),\"\")","v":""}]
[]
[null,null,null,null,null,null,null,null,null,null,null,null,null,{"$f":"IF(A652<>\"\",TEXT(A652,\"\"),\"\")","v":""},{"$f":"IF(N652=\"\",\"\",CONCATENATE(IF(C652<>\"\",TEXT(C652,\"\"),\"\"),\" - \",IF(K652<>\"\",TEXT(K652,\"\"),\"\")))","v":""},{"$f":"SUBSTITUTE(SUBSTITUTE(SUBSTITUTE(SUBSTITUTE(IF(L652<>\"\",HLink(L652),\"\"),\"htm\",\"html\"),\"1x2\",\"analysis\"),\"www\",\"data\"),\"com\",\"vip\")","v":""},{"$f":"IF(D652<>\"\",D652,\"\")","v":""},{"$f":"IF(E652<>\"\",E652,\"\")","v":""},{"$f":"IF(F652<>\"\",F652,\"\")","v":""},{"$f":"IF(N652<>\"\",IF(D653<>\"\",D653,D652),\"\")","v":""},{"$f":"IF(N652<>\"\",IF(E653<>\"\",E653,E652),\"\")","v":""},{"$f":"IF(N652<>\"\",IF(F653<>\"\",F653,F652),\"\")","v":""}]
[]
[null,null,null,null,null,null,null,null,null,null,null,null,null,{"$f":"IF(A654<>\"\",TEXT(A654,\"\"),\"\")","v":""},{"$f":"IF(N654=\"\",\"\",CONCATENATE(IF(C654<>\"\",TEXT(C654,\"\"),\"\"),\" - \",IF(K654<>\"\",TEXT(K654,\"\"),\"\")))","v":""},{"$f":"SUBSTITUTE(SUBSTITUTE(SUBSTITUTE(SUBSTITUTE(IF(L654<>\"\",HLink(L654),\"\"),\"htm\",\"html\"),\"1x2\",\"analysis\"),\"www\",\"data\"),\"com\",\"vip\")","v":""},{"$f":"IF(D654<>\"\",D654,\"\")","v":""},{"$f":"IF(E654<>\"\",E654,\"\")","v":""},{"$f":"IF(F654<>\"\",F654,\"\")","v":""},{"$f":"IF(N654<>\"\",IF(D655<>\"\",D655,D654),\"\")","v":""},{"$f":"IF(N654<>\"\",IF(E655<>\"\",E655,E654),\"\")","v":""},{"$f":"IF(N654<>\"\",IF(F655<>\"\",F655,F654),\"\")","v":""}]
[]
[null,null,null,null,null,null,null,null,null,null,null,null,null,{"$f":"IF(A656<>\"\",TEXT(A656,\"\"),\"\")","v":""},{"$f":"IF(N656=\"\",\"\",CONCATENATE(IF(C656<>\"\",TEXT(C656,\"\"),\"\"),\" - \",IF(K656<>\"\",TEXT(K656,\"\"),\"\")))","v":""},{"$f":"SUBSTITUTE(SUBSTITUTE(SUBSTITUTE(SUBSTITUTE(IF(L656<>\"\",HLink(L656),\"\"),\"htm\",\"html\"),\"1x2\",\"analysis\"),\"www\",\"data\"),\"com\",\"vip\")","v":""},{"$f":"IF(D656<>\"\",D656,\"\")","v":""},{"$f":"IF(E656<>\"\",E656,\"\")","v":""},{"$f":"IF(F656<>\"\",F656,\"\")","v":""},{"$f":"IF(N656<>\"\",IF(D657<>\"\",D657,D656),\"\")","v":""},{"$f":"IF(N656<>\"\",IF(E657<>\"\",E657,E656),\"\")","v":""},{"$f":"IF(N656<>\"\",IF(F657<>\"\",F657,F656),\"\")","v":""}]
[]
[null,null,null,null,null,null,null,null,null,null,null,null,null,{"$f":"IF(A658<>\"\",TEXT(A658,\"\"),\"\")","v":""},{"$f":"IF(N658=\"\",\"\",CONCATENATE(IF(C658<>\"\",TEXT(C658,\"\"),\"\"),\" - \",IF(K658<>\"\",TEXT(K658,\"\"),\"\")))","v":""},{"$f":"SUBSTITUTE(SUBSTITUTE(SUBSTITUTE(SUBSTITUTE(IF(L658<>\"\",HLink(L658),\"\"),\"htm\",\"html\"),\"1x2\",\"analysis\"),\"www\",\"data\"),\"com\",\"vip\")","v":""},{"$f":"IF(D658<>\"\",D658,\"\")","v":""},{"$f":"IF(E658<>\"\",E658,\"\")","v":""},{"$f":"IF(F658<>\"\",F658,\"\")","v":""},{"$f":"IF(N658<>\"\",IF(D659<>\"\",D659,D658),\"\")","v":""},{"$f":"IF(N658<>\"\",IF(E659<>\"\",E659,E658),\"\")","v":""},{"$f":"IF(N658<>\"\",IF(F659<>\"\",F659,F658),\"\")","v":""}]
[]
[null,null,null,null,null,null,null,null,null,null,null,null,null,{"$f":"IF(A660<>\"\",TEXT(A660,\"\"),\"\")","v":""},{"$f":"IF(N660=\"\",\"\",CONCATENATE(IF(C660<>\"\",TEXT(C660,\"\"),\"\"),\" - \",IF(K660<>\"\",TEXT(K660,\"\"),\"\")))","v":""},{"$f":"SUBSTITUTE(SUBSTITUTE(SUBSTITUTE(SUBSTITUTE(IF(L660<>\"\",HLink(L660),\"\"),\"htm\",\"html\"),\"1x2\",\"analysis\"),\"www\",\"data\"),\"com\",\"vip\")","v":""},{"$f":"IF(D660<>\"\",D660,\"\")","v":""},{"$f":"IF(E660<>\"\",E660,\"\")","v":""},{"$f":"IF(F660<>\"\",F660,\"\")","v":""},{"$f":"IF(N660<>\"\",IF(D661<>\"\",D661,D660),\"\")","v":""},{"$f":"IF(N660<>\"\",IF(E661<>\"\",E661,E660),\"\")","v":""},{"$f":"IF(N660<>\"\",IF(F661<>\"\",F661,F660),\"\")","v":""}]
[]
[null,null,null,null,null,null,null,null,null,null,null,null,null,{"$f":"IF(A662<>\"\",TEXT(A662,\"\"),\"\")","v":""},{"$f":"IF(N662=\"\",\"\",CONCATENATE(IF(C662<>\"\",TEXT(C662,\"\"),\"\"),\" - \",IF(K662<>\"\",TEXT(K662,\"\"),\"\")))","v":""},{"$f":"SUBSTITUTE(SUBSTITUTE(SUBSTITUTE(SUBSTITUTE(IF(L662<>\"\",HLink(L662),\"\"),\"htm\",\"html\"),\"1x2\",\"analysis\"),\"www\",\"data\"),\"com\",\"vip\")","v":""},{"$f":"IF(D662<>\"\",D662,\"\")","v":""},{"$f":"IF(E662<>\"\",E662,\"\")","v":""},{"$f":"IF(F662<>\"\",F662,\"\")","v":""},{"$f":"IF(N662<>\"\",IF(D663<>\"\",D663,D662),\"\")","v":""},{"$f":"IF(N662<>\"\",IF(E663<>\"\",E663,E662),\"\")","v":""},{"$f":"IF(N662<>\"\",IF(F663<>\"\",F663,F662),\"\")","v":""}]
[]
[null,null,null,null,null,null,null,null,null,null,null,null,null,{"$f":"IF(A664<>\"\",TEXT(A664,\"\"),\"\")","v":""},{"$f":"IF(N664=\"\",\"\",CONCATENATE(IF(C664<>\"\",TEXT(C664,\"\"),\"\"),\" - \",IF(K664<>\"\",TEXT(K664,\"\"),\"\")))","v":""},{"$f":"SUBSTITUTE(SUBSTITUTE(SUBSTITUTE(SUBSTITUTE(IF(L664<>\"\",HLink(L664),\"\"),\"htm\",\"html\"),\"1x2\",\"analysis\"),\"www\",\"data\"),\"com\",\"vip\")","v":""},{"$f":"IF(D664<>\"\",D664,\"\")","v":""},{"$f":"IF(E664<>\"\",E664,\"\")","v":""},{"$f":"IF(F664<>\"\",F664,\"\")","v":""},{"$f":"IF(N664<>\"\",IF(D665<>\"\",D665,D664),\"\")","v":""},{"$f":"IF(N664<>\"\",IF(E665<>\"\",E665,E664),\"\")","v":""},{"$f":"IF(N664<>\"\",IF(F665<>\"\",F665,F664),\"\")","v":""}]
[]
[null,null,null,null,null,null,null,null,null,null,null,null,null,{"$f":"IF(A666<>\"\",TEXT(A666,\"\"),\"\")","v":""},{"$f":"IF(N666=\"\",\"\",CONCATENATE(IF(C666<>\"\",TEXT(C666,\"\"),\"\"),\" - \",IF(K666<>\"\",TEXT(K666,\"\"),\"\")))","v":""},{"$f":"SUBSTITUTE(SUBSTITUTE(SUBSTITUTE(SUBSTITUTE(IF(L666<>\"\",HLink(L666),\"\"),\"htm\",\"html\"),\"1x2\",\"analysis\"),\"www\",\"data\"),\"com\",\"vip\")","v":""},{"$f":"IF(D666<>\"\",D666,\"\")","v":""},{"$f":"IF(E666<>\"\",E666,\"\")","v":""},{"$f":"IF(F666<>\"\",F666,\"\")","v":""},{"$f":"IF(N666<>\"\",IF(D667<>\"\",D667,D666),\"\")","v":""},{"$f":"IF(N666<>\"\",IF(E667<>\"\",E667,E666),\"\")","v":""},{"$f":"IF(N666<>\"\",IF(F667<>\"\",F667,F666),\"\")","v":""}]
[]
[null,null,null,null,null,null,null,null,null,null,null,null,null,{"$f":"IF(A668<>\"\",TEXT(A668,\"\"),\"\")","v":""},{"$f":"IF(N668=\"\",\"\",CONCATENATE(IF(C668<>\"\",TEXT(C668,\"\"),\"\"),\" - \",IF(K668<>\"\",TEXT(K668,\"\"),\"\")))","v":""},{"$f":"SUBSTITUTE(SUBSTITUTE(SUBSTITUTE(SUBSTITUTE(IF(L668<>\"\",HLink(L668),\"\"),\"htm\",\"html\"),\"1x2\",\"analysis\"),\"www\",\"data\"),\"com\",\"vip\")","v":""},{"$f":"IF(D668<>\"\",D668,\"\")","v":""},{"$f":"IF(E668<>\"\",E668,\"\")","v":""},{"$f":"IF(F668<>\"\",F668,\"\")","v":""},{"$f":"IF(N668<>\"\",IF(D669<>\"\",D669,D668),\"\")","v":""},{"$f":"IF(N668<>\"\",IF(E669<>\"\",E669,E668),\"\")","v":""},{"$f":"IF(N668<>\"\",IF(F669<>\"\",F669,F668),\"\")","v":""}]
[]
[null,null,null,null,null,null,null,null,null,null,null,null,null,{"$f":"IF(A670<>\"\",TEXT(A670,\"\"),\"\")","v":""},{"$f":"IF(N670=\"\",\"\",CONCATENATE(IF(C670<>\"\",TEXT(C670,\"\"),\"\"),\" - \",IF(K670<>\"\",TEXT(K670,\"\"),\"\")))","v":""},{"$f":"SUBSTITUTE(SUBSTITUTE(SUBSTITUTE(SUBSTITUTE(IF(L670<>\"\",HLink(L670),\"\"),\"htm\",\"html\"),\"1x2\",\"analysis\"),\"www\",\"data\"),\"com\",\"vip\")","v":""},{"$f":"IF(D670<>\"\",D670,\"\")","v":""},{"$f":"IF(E670<>\"\",E670,\"\")","v":""},{"$f":"IF(F670<>\"\",F670,\"\")","v":""},{"$f":"IF(N670<>\"\",IF(D671<>\"\",D671,D670),\"\")","v":""},{"$f":"IF(N670<>\"\",IF(E671<>\"\",E671,E670),\"\")","v":""},{"$f":"IF(N670<>\"\",IF(F671<>\"\",F671,F670),\"\")","v":""}]
[]
[null,null,null,null,null,null,null,null,null,null,null,null,null,{"$f":"IF(A672<>\"\",TEXT(A672,\"\"),\"\")","v":""},{"$f":"IF(N672=\"\",\"\",CONCATENATE(IF(C672<>\"\",TEXT(C672,\"\"),\"\"),\" - \",IF(K672<>\"\",TEXT(K672,\"\"),\"\")))","v":""},{"$f":"SUBSTITUTE(SUBSTITUTE(SUBSTITUTE(SUBSTITUTE(IF(L672<>\"\",HLink(L672),\"\"),\"htm\",\"html\"),\"1x2\",\"analysis\"),\"www\",\"data\"),\"com\",\"vip\")","v":""},{"$f":"IF(D672<>\"\",D672,\"\")","v":""},{"$f":"IF(E672<>\"\",E672,\"\")","v":""},{"$f":"IF(F672<>\"\",F672,\"\")","v":""},{"$f":"IF(N672<>\"\",IF(D673<>\"\",D673,D672),\"\")","v":""},{"$f":"IF(N672<>\"\",IF(E673<>\"\",E673,E672),\"\")","v":""},{"$f":"IF(N672<>\"\",IF(F673<>\"\",F673,F672),\"\")","v":""}]
[]
[null,null,null,null,null,null,null,null,null,null,null,null,null,{"$f":"IF(A674<>\"\",TEXT(A674,\"\"),\"\")","v":""},{"$f":"IF(N674=\"\",\"\",CONCATENATE(IF(C674<>\"\",TEXT(C674,\"\"),\"\"),\" - \",IF(K674<>\"\",TEXT(K674,\"\"),\"\")))","v":""},{"$f":"SUBSTITUTE(SUBSTITUTE(SUBSTITUTE(SUBSTITUTE(IF(L674<>\"\",HLink(L674),\"\"),\"htm\",\"html\"),\"1x2\",\"analysis\"),\"www\",\"data\"),\"com\",\"vip\")","v":""},{"$f":"IF(D674<>\"\",D674,\"\")","v":""},{"$f":"IF(E674<>\"\",E674,\"\")","v":""},{"$f":"IF(F674<>\"\",F674,\"\")","v":""},{"$f":"IF(N674<>\"\",IF(D675<>\"\",D675,D674),\"\")","v":""},{"$f":"IF(N674<>\"\",IF(E675<>\"\",E675,E674),\"\")","v":""},{"$f":"IF(N674<>\"\",IF(F675<>\"\",F675,F674),\"\")","v":""}]
[]
[null,null,null,null,null,null,null,null,null,null,null,null,null,{"$f":"IF(A676<>\"\",TEXT(A676,\"\"),\"\")","v":""},{"$f":"IF(N676=\"\",\"\",CONCATENATE(IF(C676<>\"\",TEXT(C676,\"\"),\"\"),\" - \",IF(K676<>\"\",TEXT(K676,\"\"),\"\")))","v":""},{"$f":"SUBSTITUTE(SUBSTITUTE(SUBSTITUTE(SUBSTITUTE(IF(L676<>\"\",HLink(L676),\"\"),\"htm\",\"html\"),\"1x2\",\"analysis\"),\"www\",\"data\"),\"com\",\"vip\")","v":""},{"$f":"IF(D676<>\"\",D676,\"\")","v":""},{"$f":"IF(E676<>\"\",E676,\"\")","v":""},{"$f":"IF(F676<>\"\",F676,\"\")","v":""},{"$f":"IF(N676<>\"\",IF(D677<>\"\",D677,D676),\"\")","v":""},{"$f":"IF(N676<>\"\",IF(E677<>\"\",E677,E676),\"\")","v":""},{"$f":"IF(N676<>\"\",IF(F677<>\"\",F677,F676),\"\")","v":""}]
[]
[null,null,null,null,null,null,null,null,null,null,null,null,null,{"$f":"IF(A678<>\"\",TEXT(A678,\"\"),\"\")","v":""},{"$f":"IF(N678=\"\",\"\",CONCATENATE(IF(C678<>\"\",TEXT(C678,\"\"),\"\"),\" - \",IF(K678<>\"\",TEXT(K678,\"\"),\"\")))","v":""},{"$f":"SUBSTITUTE(SUBSTITUTE(SUBSTITUTE(SUBSTITUTE(IF(L678<>\"\",HLink(L678),\"\"),\"htm\",\"html\"),\"1x2\",\"analysis\"),\"www\",\"data\"),\"com\",\"vip\")","v":""},{"$f":"IF(D678<>\"\",D678,\"\")","v":""},{"$f":"IF(E678<>\"\",E678,\"\")","v":""},{"$f":"IF(F678<>\"\",F678,\"\")","v":""},{"$f":"IF(N678<>\"\",IF(D679<>\"\",D679,D678),\"\")","v":""},{"$f":"IF(N678<>\"\",IF(E679<>\"\",E679,E678),\"\")","v":""},{"$f":"IF(N678<>\"\",IF(F679<>\"\",F679,F678),\"\")","v":""}]
[]
[null,null,null,null,null,null,null,null,null,null,null,null,null,{"$f":"IF(A680<>\"\",TEXT(A680,\"\"),\"\")","v":""},{"$f":"IF(N680=\"\",\"\",CONCATENATE(IF(C680<>\"\",TEXT(C680,\"\"),\"\"),\" - \",IF(K680<>\"\",TEXT(K680,\"\"),\"\")))","v":""},{"$f":"SUBSTITUTE(SUBSTITUTE(SUBSTITUTE(SUBSTITUTE(IF(L680<>\"\",HLink(L680),\"\"),\"htm\",\"html\"),\"1x2\",\"analysis\"),\"www\",\"data\"),\"com\",\"vip\")","v":""},{"$f":"IF(D680<>\"\",D680,\"\")","v":""},{"$f":"IF(E680<>\"\",E680,\"\")","v":""},{"$f":"IF(F680<>\"\",F680,\"\")","v":""},{"$f":"IF(N680<>\"\",IF(D681<>\"\",D681,D680),\"\")","v":""},{"$f":"IF(N680<>\"\",IF(E681<>\"\",E681,E680),\"\")","v":""},{"$f":"IF(N680<>\"\",IF(F681<>\"\",F681,F680),\"\")","v":""}]
[]
[null,null,null,null,null,null,null,null,null,null,null,null,null,{"$f":"IF(A682<>\"\",TEXT(A682,\"\"),\"\")","v":""},{"$f":"IF(N682=\"\",\"\",CONCATENATE(IF(C682<>\"\",TEXT(C682,\"\"),\"\"),\" - \",IF(K682<>\"\",TEXT(K682,\"\"),\"\")))","v":""},{"$f":"SUBSTITUTE(SUBSTITUTE(SUBSTITUTE(SUBSTITUTE(IF(L682<>\"\",HLink(L682),\"\"),\"htm\",\"html\"),\"1x2\",\"analysis\"),\"www\",\"data\"),\"com\",\"vip\")","v":""},{"$f":"IF(D682<>\"\",D682,\"\")","v":""},{"$f":"IF(E682<>\"\",E682,\"\")","v":""},{"$f":"IF(F682<>\"\",F682,\"\")","v":""},{"$f":"IF(N682<>\"\",IF(D683<>\"\",D683,D682),\"\")","v":""},{"$f":"IF(N682<>\"\",IF(E683<>\"\",E683,E682),\"\")","v":""},{"$f":"IF(N682<>\"\",IF(F683<>\"\",F683,F682),\"\")","v":""}]
[]
[null,null,null,null,null,null,null,null,null,null,null,null,null,{"$f":"IF(A684<>\"\",TEXT(A684,\"\"),\"\")","v":""},{"$f":"IF(N684=\"\",\"\",CONCATENATE(IF(C684<>\"\",TEXT(C684,\"\"),\"\"),\" - \",IF(K684<>\"\",TEXT(K684,\"\"),\"\")))","v":""},{"$f":"SUBSTITUTE(SUBSTITUTE(SUBSTITUTE(SUBSTITUTE(IF(L684<>\"\",HLink(L684),\"\"),\"htm\",\"html\"),\"1x2\",\"analysis\"),\"www\",\"data\"),\"com\",\"vip\")","v":""},{"$f":"IF(D684<>\"\",D684,\"\")","v":""},{"$f":"IF(E684<>\"\",E684,\"\")","v":""},{"$f":"IF(F684<>\"\",F684,\"\")","v":""},{"$f":"IF(N684<>\"\",IF(D685<>\"\",D685,D684),\"\")","v":""},{"$f":"IF(N684<>\"\",IF(E685<>\"\",E685,E684),\"\")","v":""},{"$f":"IF(N684<>\"\",IF(F685<>\"\",F685,F684),\"\")","v":""}]
[]
[null,null,null,null,null,null,null,null,null,null,null,null,null,{"$f":"IF(A686<>\"\",TEXT(A686,\"\"),\"\")","v":""},{"$f":"IF(N686=\"\",\"\",CONCATENATE(IF(C686<>\"\",TEXT(C686,\"\"),\"\"),\" - \",IF(K686<>\"\",TEXT(K686,\"\"),\"\")))","v":""},{"$f":"SUBSTITUTE(SUBSTITUTE(SUBSTITUTE(SUBSTITUTE(IF(L686<>\"\",HLink(L686),\"\"),\"htm\",\"html\"),\"1x2\",\"analysis\"),\"www\",\"data\"),\"com\",\"vip\")","v":""},{"$f":"IF(D686<>\"\",D686,\"\")","v":""},{"$f":"IF(E686<>\"\",E686,\"\")","v":""},{"$f":"IF(F686<>\"\",F686,\"\")","v":""},{"$f":"IF(N686<>\"\",IF(D687<>\"\",D687,D686),\"\")","v":""},{"$f":"IF(N686<>\"\",IF(E687<>\"\",E687,E686),\"\")","v":""},{"$f":"IF(N686<>\"\",IF(F687<>\"\",F687,F686),\"\")","v":""}]
[]
[null,null,null,null,null,null,null,null,null,null,null,null,null,{"$f":"IF(A688<>\"\",TEXT(A688,\"\"),\"\")","v":""},{"$f":"IF(N688=\"\",\"\",CONCATENATE(IF(C688<>\"\",TEXT(C688,\"\"),\"\"),\" - \",IF(K688<>\"\",TEXT(K688,\"\"),\"\")))","v":""},{"$f":"SUBSTITUTE(SUBSTITUTE(SUBSTITUTE(SUBSTITUTE(IF(L688<>\"\",HLink(L688),\"\"),\"htm\",\"html\"),\"1x2\",\"analysis\"),\"www\",\"data\"),\"com\",\"vip\")","v":""},{"$f":"IF(D688<>\"\",D688,\"\")","v":""},{"$f":"IF(E688<>\"\",E688,\"\")","v":""},{"$f":"IF(F688<>\"\",F688,\"\")","v":""},{"$f":"IF(N688<>\"\",IF(D689<>\"\",D689,D688),\"\")","v":""},{"$f":"IF(N688<>\"\",IF(E689<>\"\",E689,E688),\"\")","v":""},{"$f":"IF(N688<>\"\",IF(F689<>\"\",F689,F688),\"\")","v":""}]
[]
[null,null,null,null,null,null,null,null,null,null,null,null,null,{"$f":"IF(A690<>\"\",TEXT(A690,\"\"),\"\")","v":""},{"$f":"IF(N690=\"\",\"\",CONCATENATE(IF(C690<>\"\",TEXT(C690,\"\"),\"\"),\" - \",IF(K690<>\"\",TEXT(K690,\"\"),\"\")))","v":""},{"$f":"SUBSTITUTE(SUBSTITUTE(SUBSTITUTE(SUBSTITUTE(IF(L690<>\"\",HLink(L690),\"\"),\"htm\",\"html\"),\"1x2\",\"analysis\"),\"www\",\"data\"),\"com\",\"vip\")","v":""},{"$f":"IF(D690<>\"\",D690,\"\")","v":""},{"$f":"IF(E690<>\"\",E690,\"\")","v":""},{"$f":"IF(F690<>\"\",F690,\"\")","v":""},{"$f":"IF(N690<>\"\",IF(D691<>\"\",D691,D690),\"\")","v":""},{"$f":"IF(N690<>\"\",IF(E691<>\"\",E691,E690),\"\")","v":""},{"$f":"IF(N690<>\"\",IF(F691<>\"\",F691,F690),\"\")","v":""}]
[]
[null,null,null,null,null,null,null,null,null,null,null,null,null,{"$f":"IF(A692<>\"\",TEXT(A692,\"\"),\"\")","v":""},{"$f":"IF(N692=\"\",\"\",CONCATENATE(IF(C692<>\"\",TEXT(C692,\"\"),\"\"),\" - \",IF(K692<>\"\",TEXT(K692,\"\"),\"\")))","v":""},{"$f":"SUBSTITUTE(SUBSTITUTE(SUBSTITUTE(SUBSTITUTE(IF(L692<>\"\",HLink(L692),\"\"),\"htm\",\"html\"),\"1x2\",\"analysis\"),\"www\",\"data\"),\"com\",\"vip\")","v":""},{"$f":"IF(D692<>\"\",D692,\"\")","v":""},{"$f":"IF(E692<>\"\",E692,\"\")","v":""},{"$f":"IF(F692<>\"\",F692,\"\")","v":""},{"$f":"IF(N692<>\"\",IF(D693<>\"\",D693,D692),\"\")","v":""},{"$f":"IF(N692<>\"\",IF(E693<>\"\",E693,E692),\"\")","v":""},{"$f":"IF(N692<>\"\",IF(F693<>\"\",F693,F692),\"\")","v":""}]
[]
[null,null,null,null,null,null,null,null,null,null,null,null,null,{"$f":"IF(A694<>\"\",TEXT(A694,\"\"),\"\")","v":""},{"$f":"IF(N694=\"\",\"\",CONCATENATE(IF(C694<>\"\",TEXT(C694,\"\"),\"\"),\" - \",IF(K694<>\"\",TEXT(K694,\"\"),\"\")))","v":""},{"$f":"SUBSTITUTE(SUBSTITUTE(SUBSTITUTE(SUBSTITUTE(IF(L694<>\"\",HLink(L694),\"\"),\"htm\",\"html\"),\"1x2\",\"analysis\"),\"www\",\"data\"),\"com\",\"vip\")","v":""},{"$f":"IF(D694<>\"\",D694,\"\")","v":""},{"$f":"IF(E694<>\"\",E694,\"\")","v":""},{"$f":"IF(F694<>\"\",F694,\"\")","v":""},{"$f":"IF(N694<>\"\",IF(D695<>\"\",D695,D694),\"\")","v":""},{"$f":"IF(N694<>\"\",IF(E695<>\"\",E695,E694),\"\")","v":""},{"$f":"IF(N694<>\"\",IF(F695<>\"\",F695,F694),\"\")","v":""}]
[]
[null,null,null,null,null,null,null,null,null,null,null,null,null,{"$f":"IF(A696<>\"\",TEXT(A696,\"\"),\"\")","v":""},{"$f":"IF(N696=\"\",\"\",CONCATENATE(IF(C696<>\"\",TEXT(C696,\"\"),\"\"),\" - \",IF(K696<>\"\",TEXT(K696,\"\"),\"\")))","v":""},{"$f":"SUBSTITUTE(SUBSTITUTE(SUBSTITUTE(SUBSTITUTE(IF(L696<>\"\",HLink(L696),\"\"),\"htm\",\"html\"),\"1x2\",\"analysis\"),\"www\",\"data\"),\"com\",\"vip\")","v":""},{"$f":"IF(D696<>\"\",D696,\"\")","v":""},{"$f":"IF(E696<>\"\",E696,\"\")","v":""},{"$f":"IF(F696<>\"\",F696,\"\")","v":""},{"$f":"IF(N696<>\"\",IF(D697<>\"\",D697,D696),\"\")","v":""},{"$f":"IF(N696<>\"\",IF(E697<>\"\",E697,E696),\"\")","v":""},{"$f":"IF(N696<>\"\",IF(F697<>\"\",F697,F696),\"\")","v":""}]
[]
[null,null,null,null,null,null,null,null,null,null,null,null,null,{"$f":"IF(A698<>\"\",TEXT(A698,\"\"),\"\")","v":""},{"$f":"IF(N698=\"\",\"\",CONCATENATE(IF(C698<>\"\",TEXT(C698,\"\"),\"\"),\" - \",IF(K698<>\"\",TEXT(K698,\"\"),\"\")))","v":""},{"$f":"SUBSTITUTE(SUBSTITUTE(SUBSTITUTE(SUBSTITUTE(IF(L698<>\"\",HLink(L698),\"\"),\"htm\",\"html\"),\"1x2\",\"analysis\"),\"www\",\"data\"),\"com\",\"vip\")","v":""},{"$f":"IF(D698<>\"\",D698,\"\")","v":""},{"$f":"IF(E698<>\"\",E698,\"\")","v":""},{"$f":"IF(F698<>\"\",F698,\"\")","v":""},{"$f":"IF(N698<>\"\",IF(D699<>\"\",D699,D698),\"\")","v":""},{"$f":"IF(N698<>\"\",IF(E699<>\"\",E699,E698),\"\")","v":""},{"$f":"IF(N698<>\"\",IF(F699<>\"\",F699,F698),\"\")","v":""}]
[]
[null,null,null,null,null,null,null,null,null,null,null,null,null,{"$f":"IF(A700<>\"\",TEXT(A700,\"\"),\"\")","v":""},{"$f":"IF(N700=\"\",\"\",CONCATENATE(IF(C700<>\"\",TEXT(C700,\"\"),\"\"),\" - \",IF(K700<>\"\",TEXT(K700,\"\"),\"\")))","v":""},{"$f":"SUBSTITUTE(SUBSTITUTE(SUBSTITUTE(SUBSTITUTE(IF(L700<>\"\",HLink(L700),\"\"),\"htm\",\"html\"),\"1x2\",\"analysis\"),\"www\",\"data\"),\"com\",\"vip\")","v":""},{"$f":"IF(D700<>\"\",D700,\"\")","v":""},{"$f":"IF(E700<>\"\",E700,\"\")","v":""},{"$f":"IF(F700<>\"\",F700,\"\")","v":""},{"$f":"IF(N700<>\"\",IF(D701<>\"\",D701,D700),\"\")","v":""},{"$f":"IF(N700<>\"\",IF(E701<>\"\",E701,E700),\"\")","v":""},{"$f":"IF(N700<>\"\",IF(F701<>\"\",F701,F700),\"\")","v":""}]
[]
[null,null,null,null,null,null,null,null,null,null,null,null,null,{"$f":"IF(A702<>\"\",TEXT(A702,\"\"),\"\")","v":""},{"$f":"IF(N702=\"\",\"\",CONCATENATE(IF(C702<>\"\",TEXT(C702,\"\"),\"\"),\" - \",IF(K702<>\"\",TEXT(K702,\"\"),\"\")))","v":""},{"$f":"SUBSTITUTE(SUBSTITUTE(SUBSTITUTE(SUBSTITUTE(IF(L702<>\"\",HLink(L702),\"\"),\"htm\",\"html\"),\"1x2\",\"analysis\"),\"www\",\"data\"),\"com\",\"vip\")","v":""},{"$f":"IF(D702<>\"\",D702,\"\")","v":""},{"$f":"IF(E702<>\"\",E702,\"\")","v":""},{"$f":"IF(F702<>\"\",F702,\"\")","v":""},{"$f":"IF(N702<>\"\",IF(D703<>\"\",D703,D702),\"\")","v":""},{"$f":"IF(N702<>\"\",IF(E703<>\"\",E703,E702),\"\")","v":""},{"$f":"IF(N702<>\"\",IF(F703<>\"\",F703,F702),\"\")","v":""}]
[]
[null,null,null,null,null,null,null,null,null,null,null,null,null,{"$f":"IF(A704<>\"\",TEXT(A704,\"\"),\"\")","v":""},{"$f":"IF(N704=\"\",\"\",CONCATENATE(IF(C704<>\"\",TEXT(C704,\"\"),\"\"),\" - \",IF(K704<>\"\",TEXT(K704,\"\"),\"\")))","v":""},{"$f":"SUBSTITUTE(SUBSTITUTE(SUBSTITUTE(SUBSTITUTE(IF(L704<>\"\",HLink(L704),\"\"),\"htm\",\"html\"),\"1x2\",\"analysis\"),\"www\",\"data\"),\"com\",\"vip\")","v":""},{"$f":"IF(D704<>\"\",D704,\"\")","v":""},{"$f":"IF(E704<>\"\",E704,\"\")","v":""},{"$f":"IF(F704<>\"\",F704,\"\")","v":""},{"$f":"IF(N704<>\"\",IF(D705<>\"\",D705,D704),\"\")","v":""},{"$f":"IF(N704<>\"\",IF(E705<>\"\",E705,E704),\"\")","v":""},{"$f":"IF(N704<>\"\",IF(F705<>\"\",F705,F704),\"\")","v":""}]
[]
[null,null,null,null,null,null,null,null,null,null,null,null,null,{"$f":"IF(A706<>\"\",TEXT(A706,\"\"),\"\")","v":""},{"$f":"IF(N706=\"\",\"\",CONCATENATE(IF(C706<>\"\",TEXT(C706,\"\"),\"\"),\" - \",IF(K706<>\"\",TEXT(K706,\"\"),\"\")))","v":""},{"$f":"SUBSTITUTE(SUBSTITUTE(SUBSTITUTE(SUBSTITUTE(IF(L706<>\"\",HLink(L706),\"\"),\"htm\",\"html\"),\"1x2\",\"analysis\"),\"www\",\"data\"),\"com\",\"vip\")","v":""},{"$f":"IF(D706<>\"\",D706,\"\")","v":""},{"$f":"IF(E706<>\"\",E706,\"\")","v":""},{"$f":"IF(F706<>\"\",F706,\"\")","v":""},{"$f":"IF(N706<>\"\",IF(D707<>\"\",D707,D706),\"\")","v":""},{"$f":"IF(N706<>\"\",IF(E707<>\"\",E707,E706),\"\")","v":""},{"$f":"IF(N706<>\"\",IF(F707<>\"\",F707,F706),\"\")","v":""}]
[]
[null,null,null,null,null,null,null,null,null,null,null,null,null,{"$f":"IF(A708<>\"\",TEXT(A708,\"\"),\"\")","v":""},{"$f":"IF(N708=\"\",\"\",CONCATENATE(IF(C708<>\"\",TEXT(C708,\"\"),\"\"),\" - \",IF(K708<>\"\",TEXT(K708,\"\"),\"\")))","v":""},{"$f":"SUBSTITUTE(SUBSTITUTE(SUBSTITUTE(SUBSTITUTE(IF(L708<>\"\",HLink(L708),\"\"),\"htm\",\"html\"),\"1x2\",\"analysis\"),\"www\",\"data\"),\"com\",\"vip\")","v":""},{"$f":"IF(D708<>\"\",D708,\"\")","v":""},{"$f":"IF(E708<>\"\",E708,\"\")","v":""},{"$f":"IF(F708<>\"\",F708,\"\")","v":""},{"$f":"IF(N708<>\"\",IF(D709<>\"\",D709,D708),\"\")","v":""},{"$f":"IF(N708<>\"\",IF(E709<>\"\",E709,E708),\"\")","v":""},{"$f":"IF(N708<>\"\",IF(F709<>\"\",F709,F708),\"\")","v":""}]
[]
[null,null,null,null,null,null,null,null,null,null,null,null,null,{"$f":"IF(A710<>\"\",TEXT(A710,\"\"),\"\")","v":""},{"$f":"IF(N710=\"\",\"\",CONCATENATE(IF(C710<>\"\",TEXT(C710,\"\"),\"\"),\" - \",IF(K710<>\"\",TEXT(K710,\"\"),\"\")))","v":""},{"$f":"SUBSTITUTE(SUBSTITUTE(SUBSTITUTE(SUBSTITUTE(IF(L710<>\"\",HLink(L710),\"\"),\"htm\",\"html\"),\"1x2\",\"analysis\"),\"www\",\"data\"),\"com\",\"vip\")","v":""},{"$f":"IF(D710<>\"\",D710,\"\")","v":""},{"$f":"IF(E710<>\"\",E710,\"\")","v":""},{"$f":"IF(F710<>\"\",F710,\"\")","v":""},{"$f":"IF(N710<>\"\",IF(D711<>\"\",D711,D710),\"\")","v":""},{"$f":"IF(N710<>\"\",IF(E711<>\"\",E711,E710),\"\")","v":""},{"$f":"IF(N710<>\"\",IF(F711<>\"\",F711,F710),\"\")","v":""}]
[]
[null,null,null,null,null,null,null,null,null,null,null,null,null,{"$f":"IF(A712<>\"\",TEXT(A712,\"\"),\"\")","v":""},{"$f":"IF(N712=\"\",\"\",CONCATENATE(IF(C712<>\"\",TEXT(C712,\"\"),\"\"),\" - \",IF(K712<>\"\",TEXT(K712,\"\"),\"\")))","v":""},{"$f":"SUBSTITUTE(SUBSTITUTE(SUBSTITUTE(SUBSTITUTE(IF(L712<>\"\",HLink(L712),\"\"),\"htm\",\"html\"),\"1x2\",\"analysis\"),\"www\",\"data\"),\"com\",\"vip\")","v":""},{"$f":"IF(D712<>\"\",D712,\"\")","v":""},{"$f":"IF(E712<>\"\",E712,\"\")","v":""},{"$f":"IF(F712<>\"\",F712,\"\")","v":""},{"$f":"IF(N712<>\"\",IF(D713<>\"\",D713,D712),\"\")","v":""},{"$f":"IF(N712<>\"\",IF(E713<>\"\",E713,E712),\"\")","v":""},{"$f":"IF(N712<>\"\",IF(F713<>\"\",F713,F712),\"\")","v":""}]
[]
[null,null,null,null,null,null,null,null,null,null,null,null,null,{"$f":"IF(A714<>\"\",TEXT(A714,\"\"),\"\")","v":""},{"$f":"IF(N714=\"\",\"\",CONCATENATE(IF(C714<>\"\",TEXT(C714,\"\"),\"\"),\" - \",IF(K714<>\"\",TEXT(K714,\"\"),\"\")))","v":""},{"$f":"SUBSTITUTE(SUBSTITUTE(SUBSTITUTE(SUBSTITUTE(IF(L714<>\"\",HLink(L714),\"\"),\"htm\",\"html\"),\"1x2\",\"analysis\"),\"www\",\"data\"),\"com\",\"vip\")","v":""},{"$f":"IF(D714<>\"\",D714,\"\")","v":""},{"$f":"IF(E714<>\"\",E714,\"\")","v":""},{"$f":"IF(F714<>\"\",F714,\"\")","v":""},{"$f":"IF(N714<>\"\",IF(D715<>\"\",D715,D714),\"\")","v":""},{"$f":"IF(N714<>\"\",IF(E715<>\"\",E715,E714),\"\")","v":""},{"$f":"IF(N714<>\"\",IF(F715<>\"\",F715,F714),\"\")","v":""}]
[]
[null,null,null,null,null,null,null,null,null,null,null,null,null,{"$f":"IF(A716<>\"\",TEXT(A716,\"\"),\"\")","v":""},{"$f":"IF(N716=\"\",\"\",CONCATENATE(IF(C716<>\"\",TEXT(C716,\"\"),\"\"),\" - \",IF(K716<>\"\",TEXT(K716,\"\"),\"\")))","v":""},{"$f":"SUBSTITUTE(SUBSTITUTE(SUBSTITUTE(SUBSTITUTE(IF(L716<>\"\",HLink(L716),\"\"),\"htm\",\"html\"),\"1x2\",\"analysis\"),\"www\",\"data\"),\"com\",\"vip\")","v":""},{"$f":"IF(D716<>\"\",D716,\"\")","v":""},{"$f":"IF(E716<>\"\",E716,\"\")","v":""},{"$f":"IF(F716<>\"\",F716,\"\")","v":""},{"$f":"IF(N716<>\"\",IF(D717<>\"\",D717,D716),\"\")","v":""},{"$f":"IF(N716<>\"\",IF(E717<>\"\",E717,E716),\"\")","v":""},{"$f":"IF(N716<>\"\",IF(F717<>\"\",F717,F716),\"\")","v":""}]
[]
[null,null,null,null,null,null,null,null,null,null,null,null,null,{"$f":"IF(A718<>\"\",TEXT(A718,\"\"),\"\")","v":""},{"$f":"IF(N718=\"\",\"\",CONCATENATE(IF(C718<>\"\",TEXT(C718,\"\"),\"\"),\" - \",IF(K718<>\"\",TEXT(K718,\"\"),\"\")))","v":""},{"$f":"SUBSTITUTE(SUBSTITUTE(SUBSTITUTE(SUBSTITUTE(IF(L718<>\"\",HLink(L718),\"\"),\"htm\",\"html\"),\"1x2\",\"analysis\"),\"www\",\"data\"),\"com\",\"vip\")","v":""},{"$f":"IF(D718<>\"\",D718,\"\")","v":""},{"$f":"IF(E718<>\"\",E718,\"\")","v":""},{"$f":"IF(F718<>\"\",F718,\"\")","v":""},{"$f":"IF(N718<>\"\",IF(D719<>\"\",D719,D718),\"\")","v":""},{"$f":"IF(N718<>\"\",IF(E719<>\"\",E719,E718),\"\")","v":""},{"$f":"IF(N718<>\"\",IF(F719<>\"\",F719,F718),\"\")","v":""}]
[]
[null,null,null,null,null,null,null,null,null,null,null,null,null,{"$f":"IF(A720<>\"\",TEXT(A720,\"\"),\"\")","v":""},{"$f":"IF(N720=\"\",\"\",CONCATENATE(IF(C720<>\"\",TEXT(C720,\"\"),\"\"),\" - \",IF(K720<>\"\",TEXT(K720,\"\"),\"\")))","v":""},{"$f":"SUBSTITUTE(SUBSTITUTE(SUBSTITUTE(SUBSTITUTE(IF(L720<>\"\",HLink(L720),\"\"),\"htm\",\"html\"),\"1x2\",\"analysis\"),\"www\",\"data\"),\"com\",\"vip\")","v":""},{"$f":"IF(D720<>\"\",D720,\"\")","v":""},{"$f":"IF(E720<>\"\",E720,\"\")","v":""},{"$f":"IF(F720<>\"\",F720,\"\")","v":""},{"$f":"IF(N720<>\"\",IF(D721<>\"\",D721,D720),\"\")","v":""},{"$f":"IF(N720<>\"\",IF(E721<>\"\",E721,E720),\"\")","v":""},{"$f":"IF(N720<>\"\",IF(F721<>\"\",F721,F720),\"\")","v":""}]
[]
[null,null,null,null,null,null,null,null,null,null,null,null,null,{"$f":"IF(A722<>\"\",TEXT(A722,\"\"),\"\")","v":""},{"$f":"IF(N722=\"\",\"\",CONCATENATE(IF(C722<>\"\",TEXT(C722,\"\"),\"\"),\" - \",IF(K722<>\"\",TEXT(K722,\"\"),\"\")))","v":""},{"$f":"SUBSTITUTE(SUBSTITUTE(SUBSTITUTE(SUBSTITUTE(IF(L722<>\"\",HLink(L722),\"\"),\"htm\",\"html\"),\"1x2\",\"analysis\"),\"www\",\"data\"),\"com\",\"vip\")","v":""},{"$f":"IF(D722<>\"\",D722,\"\")","v":""},{"$f":"IF(E722<>\"\",E722,\"\")","v":""},{"$f":"IF(F722<>\"\",F722,\"\")","v":""},{"$f":"IF(N722<>\"\",IF(D723<>\"\",D723,D722),\"\")","v":""},{"$f":"IF(N722<>\"\",IF(E723<>\"\",E723,E722),\"\")","v":""},{"$f":"IF(N722<>\"\",IF(F723<>\"\",F723,F722),\"\")","v":""}]
[]
[null,null,null,null,null,null,null,null,null,null,null,null,null,{"$f":"IF(A724<>\"\",TEXT(A724,\"\"),\"\")","v":""},{"$f":"IF(N724=\"\",\"\",CONCATENATE(IF(C724<>\"\",TEXT(C724,\"\"),\"\"),\" - \",IF(K724<>\"\",TEXT(K724,\"\"),\"\")))","v":""},{"$f":"SUBSTITUTE(SUBSTITUTE(SUBSTITUTE(SUBSTITUTE(IF(L724<>\"\",HLink(L724),\"\"),\"htm\",\"html\"),\"1x2\",\"analysis\"),\"www\",\"data\"),\"com\",\"vip\")","v":""},{"$f":"IF(D724<>\"\",D724,\"\")","v":""},{"$f":"IF(E724<>\"\",E724,\"\")","v":""},{"$f":"IF(F724<>\"\",F724,\"\")","v":""},{"$f":"IF(N724<>\"\",IF(D725<>\"\",D725,D724),\"\")","v":""},{"$f":"IF(N724<>\"\",IF(E725<>\"\",E725,E724),\"\")","v":""},{"$f":"IF(N724<>\"\",IF(F725<>\"\",F725,F724),\"\")","v":""}]
[]
[null,null,null,null,null,null,null,null,null,null,null,null,null,{"$f":"IF(A726<>\"\",TEXT(A726,\"\"),\"\")","v":""},{"$f":"IF(N726=\"\",\"\",CONCATENATE(IF(C726<>\"\",TEXT(C726,\"\"),\"\"),\" - \",IF(K726<>\"\",TEXT(K726,\"\"),\"\")))","v":""},{"$f":"SUBSTITUTE(SUBSTITUTE(SUBSTITUTE(SUBSTITUTE(IF(L726<>\"\",HLink(L726),\"\"),\"htm\",\"html\"),\"1x2\",\"analysis\"),\"www\",\"data\"),\"com\",\"vip\")","v":""},{"$f":"IF(D726<>\"\",D726,\"\")","v":""},{"$f":"IF(E726<>\"\",E726,\"\")","v":""},{"$f":"IF(F726<>\"\",F726,\"\")","v":""},{"$f":"IF(N726<>\"\",IF(D727<>\"\",D727,D726),\"\")","v":""},{"$f":"IF(N726<>\"\",IF(E727<>\"\",E727,E726),\"\")","v":""},{"$f":"IF(N726<>\"\",IF(F727<>\"\",F727,F726),\"\")","v":""}]
[]
[null,null,null,null,null,null,null,null,null,null,null,null,null,{"$f":"IF(A728<>\"\",TEXT(A728,\"\"),\"\")","v":""},{"$f":"IF(N728=\"\",\"\",CONCATENATE(IF(C728<>\"\",TEXT(C728,\"\"),\"\"),\" - \",IF(K728<>\"\",TEXT(K728,\"\"),\"\")))","v":""},{"$f":"SUBSTITUTE(SUBSTITUTE(SUBSTITUTE(SUBSTITUTE(IF(L728<>\"\",HLink(L728),\"\"),\"htm\",\"html\"),\"1x2\",\"analysis\"),\"www\",\"data\"),\"com\",\"vip\")","v":""},{"$f":"IF(D728<>\"\",D728,\"\")","v":""},{"$f":"IF(E728<>\"\",E728,\"\")","v":""},{"$f":"IF(F728<>\"\",F728,\"\")","v":""},{"$f":"IF(N728<>\"\",IF(D729<>\"\",D729,D728),\"\")","v":""},{"$f":"IF(N728<>\"\",IF(E729<>\"\",E729,E728),\"\")","v":""},{"$f":"IF(N728<>\"\",IF(F729<>\"\",F729,F728),\"\")","v":""}]
[]
[null,null,null,null,null,null,null,null,null,null,null,null,null,{"$f":"IF(A730<>\"\",TEXT(A730,\"\"),\"\")","v":""},{"$f":"IF(N730=\"\",\"\",CONCATENATE(IF(C730<>\"\",TEXT(C730,\"\"),\"\"),\" - \",IF(K730<>\"\",TEXT(K730,\"\"),\"\")))","v":""},{"$f":"SUBSTITUTE(SUBSTITUTE(SUBSTITUTE(SUBSTITUTE(IF(L730<>\"\",HLink(L730),\"\"),\"htm\",\"html\"),\"1x2\",\"analysis\"),\"www\",\"data\"),\"com\",\"vip\")","v":""},{"$f":"IF(D730<>\"\",D730,\"\")","v":""},{"$f":"IF(E730<>\"\",E730,\"\")","v":""},{"$f":"IF(F730<>\"\",F730,\"\")","v":""},{"$f":"IF(N730<>\"\",IF(D731<>\"\",D731,D730),\"\")","v":""},{"$f":"IF(N730<>\"\",IF(E731<>\"\",E731,E730),\"\")","v":""},{"$f":"IF(N730<>\"\",IF(F731<>\"\",F731,F730),\"\")","v":""}]
[]
[null,null,null,null,null,null,null,null,null,null,null,null,null,{"$f":"IF(A732<>\"\",TEXT(A732,\"\"),\"\")","v":""},{"$f":"IF(N732=\"\",\"\",CONCATENATE(IF(C732<>\"\",TEXT(C732,\"\"),\"\"),\" - \",IF(K732<>\"\",TEXT(K732,\"\"),\"\")))","v":""},{"$f":"SUBSTITUTE(SUBSTITUTE(SUBSTITUTE(SUBSTITUTE(IF(L732<>\"\",HLink(L732),\"\"),\"htm\",\"html\"),\"1x2\",\"analysis\"),\"www\",\"data\"),\"com\",\"vip\")","v":""},{"$f":"IF(D732<>\"\",D732,\"\")","v":""},{"$f":"IF(E732<>\"\",E732,\"\")","v":""},{"$f":"IF(F732<>\"\",F732,\"\")","v":""},{"$f":"IF(N732<>\"\",IF(D733<>\"\",D733,D732),\"\")","v":""},{"$f":"IF(N732<>\"\",IF(E733<>\"\",E733,E732),\"\")","v":""},{"$f":"IF(N732<>\"\",IF(F733<>\"\",F733,F732),\"\")","v":""}]
[]
[null,null,null,null,null,null,null,null,null,null,null,null,null,{"$f":"IF(A734<>\"\",TEXT(A734,\"\"),\"\")","v":""},{"$f":"IF(N734=\"\",\"\",CONCATENATE(IF(C734<>\"\",TEXT(C734,\"\"),\"\"),\" - \",IF(K734<>\"\",TEXT(K734,\"\"),\"\")))","v":""},{"$f":"SUBSTITUTE(SUBSTITUTE(SUBSTITUTE(SUBSTITUTE(IF(L734<>\"\",HLink(L734),\"\"),\"htm\",\"html\"),\"1x2\",\"analysis\"),\"www\",\"data\"),\"com\",\"vip\")","v":""},{"$f":"IF(D734<>\"\",D734,\"\")","v":""},{"$f":"IF(E734<>\"\",E734,\"\")","v":""},{"$f":"IF(F734<>\"\",F734,\"\")","v":""},{"$f":"IF(N734<>\"\",IF(D735<>\"\",D735,D734),\"\")","v":""},{"$f":"IF(N734<>\"\",IF(E735<>\"\",E735,E734),\"\")","v":""},{"$f":"IF(N734<>\"\",IF(F735<>\"\",F735,F734),\"\")","v":""}]
[]
[null,null,null,null,null,null,null,null,null,null,null,null,null,{"$f":"IF(A736<>\"\",TEXT(A736,\"\"),\"\")","v":""},{"$f":"IF(N736=\"\",\"\",CONCATENATE(IF(C736<>\"\",TEXT(C736,\"\"),\"\"),\" - \",IF(K736<>\"\",TEXT(K736,\"\"),\"\")))","v":""},{"$f":"SUBSTITUTE(SUBSTITUTE(SUBSTITUTE(SUBSTITUTE(IF(L736<>\"\",HLink(L736),\"\"),\"htm\",\"html\"),\"1x2\",\"analysis\"),\"www\",\"data\"),\"com\",\"vip\")","v":""},{"$f":"IF(D736<>\"\",D736,\"\")","v":""},{"$f":"IF(E736<>\"\",E736,\"\")","v":""},{"$f":"IF(F736<>\"\",F736,\"\")","v":""},{"$f":"IF(N736<>\"\",IF(D737<>\"\",D737,D736),\"\")","v":""},{"$f":"IF(N736<>\"\",IF(E737<>\"\",E737,E736),\"\")","v":""},{"$f":"IF(N736<>\"\",IF(F737<>\"\",F737,F736),\"\")","v":""}]
[]
[null,null,null,null,null,null,null,null,null,null,null,null,null,{"$f":"IF(A738<>\"\",TEXT(A738,\"\"),\"\")","v":""},{"$f":"IF(N738=\"\",\"\",CONCATENATE(IF(C738<>\"\",TEXT(C738,\"\"),\"\"),\" - \",IF(K738<>\"\",TEXT(K738,\"\"),\"\")))","v":""},{"$f":"SUBSTITUTE(SUBSTITUTE(SUBSTITUTE(SUBSTITUTE(IF(L738<>\"\",HLink(L738),\"\"),\"htm\",\"html\"),\"1x2\",\"analysis\"),\"www\",\"data\"),\"com\",\"vip\")","v":""},{"$f":"IF(D738<>\"\",D738,\"\")","v":""},{"$f":"IF(E738<>\"\",E738,\"\")","v":""},{"$f":"IF(F738<>\"\",F738,\"\")","v":""},{"$f":"IF(N738<>\"\",IF(D739<>\"\",D739,D738),\"\")","v":""},{"$f":"IF(N738<>\"\",IF(E739<>\"\",E739,E738),\"\")","v":""},{"$f":"IF(N738<>\"\",IF(F739<>\"\",F739,F738),\"\")","v":""}]
[]
[null,null,null,null,null,null,null,null,null,null,null,null,null,{"$f":"IF(A740<>\"\",TEXT(A740,\"\"),\"\")","v":""},{"$f":"IF(N740=\"\",\"\",CONCATENATE(IF(C740<>\"\",TEXT(C740,\"\"),\"\"),\" - \",IF(K740<>\"\",TEXT(K740,\"\"),\"\")))","v":""},{"$f":"SUBSTITUTE(SUBSTITUTE(SUBSTITUTE(SUBSTITUTE(IF(L740<>\"\",HLink(L740),\"\"),\"htm\",\"html\"),\"1x2\",\"analysis\"),\"www\",\"data\"),\"com\",\"vip\")","v":""},{"$f":"IF(D740<>\"\",D740,\"\")","v":""},{"$f":"IF(E740<>\"\",E740,\"\")","v":""},{"$f":"IF(F740<>\"\",F740,\"\")","v":""},{"$f":"IF(N740<>\"\",IF(D741<>\"\",D741,D740),\"\")","v":""},{"$f":"IF(N740<>\"\",IF(E741<>\"\",E741,E740),\"\")","v":""},{"$f":"IF(N740<>\"\",IF(F741<>\"\",F741,F740),\"\")","v":""}]
[]
[null,null,null,null,null,null,null,null,null,null,null,null,null,{"$f":"IF(A742<>\"\",TEXT(A742,\"\"),\"\")","v":""},{"$f":"IF(N742=\"\",\"\",CONCATENATE(IF(C742<>\"\",TEXT(C742,\"\"),\"\"),\" - \",IF(K742<>\"\",TEXT(K742,\"\"),\"\")))","v":""},{"$f":"SUBSTITUTE(SUBSTITUTE(SUBSTITUTE(SUBSTITUTE(IF(L742<>\"\",HLink(L742),\"\"),\"htm\",\"html\"),\"1x2\",\"analysis\"),\"www\",\"data\"),\"com\",\"vip\")","v":""},{"$f":"IF(D742<>\"\",D742,\"\")","v":""},{"$f":"IF(E742<>\"\",E742,\"\")","v":""},{"$f":"IF(F742<>\"\",F742,\"\")","v":""},{"$f":"IF(N742<>\"\",IF(D743<>\"\",D743,D742),\"\")","v":""},{"$f":"IF(N742<>\"\",IF(E743<>\"\",E743,E742),\"\")","v":""},{"$f":"IF(N742<>\"\",IF(F743<>\"\",F743,F742),\"\")","v":""}]
[]
[null,null,null,null,null,null,null,null,null,null,null,null,null,{"$f":"IF(A744<>\"\",TEXT(A744,\"\"),\"\")","v":""},{"$f":"IF(N744=\"\",\"\",CONCATENATE(IF(C744<>\"\",TEXT(C744,\"\"),\"\"),\" - \",IF(K744<>\"\",TEXT(K744,\"\"),\"\")))","v":""},{"$f":"SUBSTITUTE(SUBSTITUTE(SUBSTITUTE(SUBSTITUTE(IF(L744<>\"\",HLink(L744),\"\"),\"htm\",\"html\"),\"1x2\",\"analysis\"),\"www\",\"data\"),\"com\",\"vip\")","v":""},{"$f":"IF(D744<>\"\",D744,\"\")","v":""},{"$f":"IF(E744<>\"\",E744,\"\")","v":""},{"$f":"IF(F744<>\"\",F744,\"\")","v":""},{"$f":"IF(N744<>\"\",IF(D745<>\"\",D745,D744),\"\")","v":""},{"$f":"IF(N744<>\"\",IF(E745<>\"\",E745,E744),\"\")","v":""},{"$f":"IF(N744<>\"\",IF(F745<>\"\",F745,F744),\"\")","v":""}]
[]
[null,null,null,null,null,null,null,null,null,null,null,null,null,{"$f":"IF(A746<>\"\",TEXT(A746,\"\"),\"\")","v":""},{"$f":"IF(N746=\"\",\"\",CONCATENATE(IF(C746<>\"\",TEXT(C746,\"\"),\"\"),\" - \",IF(K746<>\"\",TEXT(K746,\"\"),\"\")))","v":""},{"$f":"SUBSTITUTE(SUBSTITUTE(SUBSTITUTE(SUBSTITUTE(IF(L746<>\"\",HLink(L746),\"\"),\"htm\",\"html\"),\"1x2\",\"analysis\"),\"www\",\"data\"),\"com\",\"vip\")","v":""},{"$f":"IF(D746<>\"\",D746,\"\")","v":""},{"$f":"IF(E746<>\"\",E746,\"\")","v":""},{"$f":"IF(F746<>\"\",F746,\"\")","v":""},{"$f":"IF(N746<>\"\",IF(D747<>\"\",D747,D746),\"\")","v":""},{"$f":"IF(N746<>\"\",IF(E747<>\"\",E747,E746),\"\")","v":""},{"$f":"IF(N746<>\"\",IF(F747<>\"\",F747,F746),\"\")","v":""}]
[]
[null,null,null,null,null,null,null,null,null,null,null,null,null,{"$f":"IF(A748<>\"\",TEXT(A748,\"\"),\"\")","v":""},{"$f":"IF(N748=\"\",\"\",CONCATENATE(IF(C748<>\"\",TEXT(C748,\"\"),\"\"),\" - \",IF(K748<>\"\",TEXT(K748,\"\"),\"\")))","v":""},{"$f":"SUBSTITUTE(SUBSTITUTE(SUBSTITUTE(SUBSTITUTE(IF(L748<>\"\",HLink(L748),\"\"),\"htm\",\"html\"),\"1x2\",\"analysis\"),\"www\",\"data\"),\"com\",\"vip\")","v":""},{"$f":"IF(D748<>\"\",D748,\"\")","v":""},{"$f":"IF(E748<>\"\",E748,\"\")","v":""},{"$f":"IF(F748<>\"\",F748,\"\")","v":""},{"$f":"IF(N748<>\"\",IF(D749<>\"\",D749,D748),\"\")","v":""},{"$f":"IF(N748<>\"\",IF(E749<>\"\",E749,E748),\"\")","v":""},{"$f":"IF(N748<>\"\",IF(F749<>\"\",F749,F748),\"\")","v":""}]
[]
[null,null,null,null,null,null,null,null,null,null,null,null,null,{"$f":"IF(A750<>\"\",TEXT(A750,\"\"),\"\")","v":""},{"$f":"IF(N750=\"\",\"\",CONCATENATE(IF(C750<>\"\",TEXT(C750,\"\"),\"\"),\" - \",IF(K750<>\"\",TEXT(K750,\"\"),\"\")))","v":""},{"$f":"SUBSTITUTE(SUBSTITUTE(SUBSTITUTE(SUBSTITUTE(IF(L750<>\"\",HLink(L750),\"\"),\"htm\",\"html\"),\"1x2\",\"analysis\"),\"www\",\"data\"),\"com\",\"vip\")","v":""},{"$f":"IF(D750<>\"\",D750,\"\")","v":""},{"$f":"IF(E750<>\"\",E750,\"\")","v":""},{"$f":"IF(F750<>\"\",F750,\"\")","v":""},{"$f":"IF(N750<>\"\",IF(D751<>\"\",D751,D750),\"\")","v":""},{"$f":"IF(N750<>\"\",IF(E751<>\"\",E751,E750),\"\")","v":""},{"$f":"IF(N750<>\"\",IF(F751<>\"\",F751,F750),\"\")","v":""}]
[]
[null,null,null,null,null,null,null,null,null,null,null,null,null,{"$f":"IF(A752<>\"\",TEXT(A752,\"\"),\"\")","v":""},{"$f":"IF(N752=\"\",\"\",CONCATENATE(IF(C752<>\"\",TEXT(C752,\"\"),\"\"),\" - \",IF(K752<>\"\",TEXT(K752,\"\"),\"\")))","v":""},{"$f":"SUBSTITUTE(SUBSTITUTE(SUBSTITUTE(SUBSTITUTE(IF(L752<>\"\",HLink(L752),\"\"),\"htm\",\"html\"),\"1x2\",\"analysis\"),\"www\",\"data\"),\"com\",\"vip\")","v":""},{"$f":"IF(D752<>\"\",D752,\"\")","v":""},{"$f":"IF(E752<>\"\",E752,\"\")","v":""},{"$f":"IF(F752<>\"\",F752,\"\")","v":""},{"$f":"IF(N752<>\"\",IF(D753<>\"\",D753,D752),\"\")","v":""},{"$f":"IF(N752<>\"\",IF(E753<>\"\",E753,E752),\"\")","v":""},{"$f":"IF(N752<>\"\",IF(F753<>\"\",F753,F752),\"\")","v":""}]
[]
[null,null,null,null,null,null,null,null,null,null,null,null,null,{"$f":"IF(A754<>\"\",TEXT(A754,\"\"),\"\")","v":""},{"$f":"IF(N754=\"\",\"\",CONCATENATE(IF(C754<>\"\",TEXT(C754,\"\"),\"\"),\" - \",IF(K754<>\"\",TEXT(K754,\"\"),\"\")))","v":""},{"$f":"SUBSTITUTE(SUBSTITUTE(SUBSTITUTE(SUBSTITUTE(IF(L754<>\"\",HLink(L754),\"\"),\"htm\",\"html\"),\"1x2\",\"analysis\"),\"www\",\"data\"),\"com\",\"vip\")","v":""},{"$f":"IF(D754<>\"\",D754,\"\")","v":""},{"$f":"IF(E754<>\"\",E754,\"\")","v":""},{"$f":"IF(F754<>\"\",F754,\"\")","v":""},{"$f":"IF(N754<>\"\",IF(D755<>\"\",D755,D754),\"\")","v":""},{"$f":"IF(N754<>\"\",IF(E755<>\"\",E755,E754),\"\")","v":""},{"$f":"IF(N754<>\"\",IF(F755<>\"\",F755,F754),\"\")","v":""}]
[]
[null,null,null,null,null,null,null,null,null,null,null,null,null,{"$f":"IF(A756<>\"\",TEXT(A756,\"\"),\"\")","v":""},{"$f":"IF(N756=\"\",\"\",CONCATENATE(IF(C756<>\"\",TEXT(C756,\"\"),\"\"),\" - \",IF(K756<>\"\",TEXT(K756,\"\"),\"\")))","v":""},{"$f":"SUBSTITUTE(SUBSTITUTE(SUBSTITUTE(SUBSTITUTE(IF(L756<>\"\",HLink(L756),\"\"),\"htm\",\"html\"),\"1x2\",\"analysis\"),\"www\",\"data\"),\"com\",\"vip\")","v":""},{"$f":"IF(D756<>\"\",D756,\"\")","v":""},{"$f":"IF(E756<>\"\",E756,\"\")","v":""},{"$f":"IF(F756<>\"\",F756,\"\")","v":""},{"$f":"IF(N756<>\"\",IF(D757<>\"\",D757,D756),\"\")","v":""},{"$f":"IF(N756<>\"\",IF(E757<>\"\",E757,E756),\"\")","v":""},{"$f":"IF(N756<>\"\",IF(F757<>\"\",F757,F756),\"\")","v":""}]
[]
[null,null,null,null,null,null,null,null,null,null,null,null,null,{"$f":"IF(A758<>\"\",TEXT(A758,\"\"),\"\")","v":""},{"$f":"IF(N758=\"\",\"\",CONCATENATE(IF(C758<>\"\",TEXT(C758,\"\"),\"\"),\" - \",IF(K758<>\"\",TEXT(K758,\"\"),\"\")))","v":""},{"$f":"SUBSTITUTE(SUBSTITUTE(SUBSTITUTE(SUBSTITUTE(IF(L758<>\"\",HLink(L758),\"\"),\"htm\",\"html\"),\"1x2\",\"analysis\"),\"www\",\"data\"),\"com\",\"vip\")","v":""},{"$f":"IF(D758<>\"\",D758,\"\")","v":""},{"$f":"IF(E758<>\"\",E758,\"\")","v":""},{"$f":"IF(F758<>\"\",F758,\"\")","v":""},{"$f":"IF(N758<>\"\",IF(D759<>\"\",D759,D758),\"\")","v":""},{"$f":"IF(N758<>\"\",IF(E759<>\"\",E759,E758),\"\")","v":""},{"$f":"IF(N758<>\"\",IF(F759<>\"\",F759,F758),\"\")","v":""}]
[]
[null,null,null,null,null,null,null,null,null,null,null,null,null,{"$f":"IF(A760<>\"\",TEXT(A760,\"\"),\"\")","v":""},{"$f":"IF(N760=\"\",\"\",CONCATENATE(IF(C760<>\"\",TEXT(C760,\"\"),\"\"),\" - \",IF(K760<>\"\",TEXT(K760,\"\"),\"\")))","v":""},{"$f":"SUBSTITUTE(SUBSTITUTE(SUBSTITUTE(SUBSTITUTE(IF(L760<>\"\",HLink(L760),\"\"),\"htm\",\"html\"),\"1x2\",\"analysis\"),\"www\",\"data\"),\"com\",\"vip\")","v":""},{"$f":"IF(D760<>\"\",D760,\"\")","v":""},{"$f":"IF(E760<>\"\",E760,\"\")","v":""},{"$f":"IF(F760<>\"\",F760,\"\")","v":""},{"$f":"IF(N760<>\"\",IF(D761<>\"\",D761,D760),\"\")","v":""},{"$f":"IF(N760<>\"\",IF(E761<>\"\",E761,E760),\"\")","v":""},{"$f":"IF(N760<>\"\",IF(F761<>\"\",F761,F760),\"\")","v":""}]
[]
[null,null,null,null,null,null,null,null,null,null,null,null,null,{"$f":"IF(A762<>\"\",TEXT(A762,\"\"),\"\")","v":""},{"$f":"IF(N762=\"\",\"\",CONCATENATE(IF(C762<>\"\",TEXT(C762,\"\"),\"\"),\" - \",IF(K762<>\"\",TEXT(K762,\"\"),\"\")))","v":""},{"$f":"SUBSTITUTE(SUBSTITUTE(SUBSTITUTE(SUBSTITUTE(IF(L762<>\"\",HLink(L762),\"\"),\"htm\",\"html\"),\"1x2\",\"analysis\"),\"www\",\"data\"),\"com\",\"vip\")","v":""},{"$f":"IF(D762<>\"\",D762,\"\")","v":""},{"$f":"IF(E762<>\"\",E762,\"\")","v":""},{"$f":"IF(F762<>\"\",F762,\"\")","v":""},{"$f":"IF(N762<>\"\",IF(D763<>\"\",D763,D762),\"\")","v":""},{"$f":"IF(N762<>\"\",IF(E763<>\"\",E763,E762),\"\")","v":""},{"$f":"IF(N762<>\"\",IF(F763<>\"\",F763,F762),\"\")","v":""}]
[]
[null,null,null,null,null,null,null,null,null,null,null,null,null,{"$f":"IF(A764<>\"\",TEXT(A764,\"\"),\"\")","v":""},{"$f":"IF(N764=\"\",\"\",CONCATENATE(IF(C764<>\"\",TEXT(C764,\"\"),\"\"),\" - \",IF(K764<>\"\",TEXT(K764,\"\"),\"\")))","v":""},{"$f":"SUBSTITUTE(SUBSTITUTE(SUBSTITUTE(SUBSTITUTE(IF(L764<>\"\",HLink(L764),\"\"),\"htm\",\"html\"),\"1x2\",\"analysis\"),\"www\",\"data\"),\"com\",\"vip\")","v":""},{"$f":"IF(D764<>\"\",D764,\"\")","v":""},{"$f":"IF(E764<>\"\",E764,\"\")","v":""},{"$f":"IF(F764<>\"\",F764,\"\")","v":""},{"$f":"IF(N764<>\"\",IF(D765<>\"\",D765,D764),\"\")","v":""},{"$f":"IF(N764<>\"\",IF(E765<>\"\",E765,E764),\"\")","v":""},{"$f":"IF(N764<>\"\",IF(F765<>\"\",F765,F764),\"\")","v":""}]
[]
[null,null,null,null,null,null,null,null,null,null,null,null,null,{"$f":"IF(A766<>\"\",TEXT(A766,\"\"),\"\")","v":""},{"$f":"IF(N766=\"\",\"\",CONCATENATE(IF(C766<>\"\",TEXT(C766,\"\"),\"\"),\" - \",IF(K766<>\"\",TEXT(K766,\"\"),\"\")))","v":""},{"$f":"SUBSTITUTE(SUBSTITUTE(SUBSTITUTE(SUBSTITUTE(IF(L766<>\"\",HLink(L766),\"\"),\"htm\",\"html\"),\"1x2\",\"analysis\"),\"www\",\"data\"),\"com\",\"vip\")","v":""},{"$f":"IF(D766<>\"\",D766,\"\")","v":""},{"$f":"IF(E766<>\"\",E766,\"\")","v":""},{"$f":"IF(F766<>\"\",F766,\"\")","v":""},{"$f":"IF(N766<>\"\",IF(D767<>\"\",D767,D766),\"\")","v":""},{"$f":"IF(N766<>\"\",IF(E767<>\"\",E767,E766),\"\")","v":""},{"$f":"IF(N766<>\"\",IF(F767<>\"\",F767,F766),\"\")","v":""}]
[]
[null,null,null,null,null,null,null,null,null,null,null,null,null,{"$f":"IF(A768<>\"\",TEXT(A768,\"\"),\"\")","v":""},{"$f":"IF(N768=\"\",\"\",CONCATENATE(IF(C768<>\"\",TEXT(C768,\"\"),\"\"),\" - \",IF(K768<>\"\",TEXT(K768,\"\"),\"\")))","v":""},{"$f":"SUBSTITUTE(SUBSTITUTE(SUBSTITUTE(SUBSTITUTE(IF(L768<>\"\",HLink(L768),\"\"),\"htm\",\"html\"),\"1x2\",\"analysis\"),\"www\",\"data\"),\"com\",\"vip\")","v":""},{"$f":"IF(D768<>\"\",D768,\"\")","v":""},{"$f":"IF(E768<>\"\",E768,\"\")","v":""},{"$f":"IF(F768<>\"\",F768,\"\")","v":""},{"$f":"IF(N768<>\"\",IF(D769<>\"\",D769,D768),\"\")","v":""},{"$f":"IF(N768<>\"\",IF(E769<>\"\",E769,E768),\"\")","v":""},{"$f":"IF(N768<>\"\",IF(F769<>\"\",F769,F768),\"\")","v":""}]
[]
[null,null,null,null,null,null,null,null,null,null,null,null,null,{"$f":"IF(A770<>\"\",TEXT(A770,\"\"),\"\")","v":""},{"$f":"IF(N770=\"\",\"\",CONCATENATE(IF(C770<>\"\",TEXT(C770,\"\"),\"\"),\" - \",IF(K770<>\"\",TEXT(K770,\"\"),\"\")))","v":""},{"$f":"SUBSTITUTE(SUBSTITUTE(SUBSTITUTE(SUBSTITUTE(IF(L770<>\"\",HLink(L770),\"\"),\"htm\",\"html\"),\"1x2\",\"analysis\"),\"www\",\"data\"),\"com\",\"vip\")","v":""},{"$f":"IF(D770<>\"\",D770,\"\")","v":""},{"$f":"IF(E770<>\"\",E770,\"\")","v":""},{"$f":"IF(F770<>\"\",F770,\"\")","v":""},{"$f":"IF(N770<>\"\",IF(D771<>\"\",D771,D770),\"\")","v":""},{"$f":"IF(N770<>\"\",IF(E771<>\"\",E771,E770),\"\")","v":""},{"$f":"IF(N770<>\"\",IF(F771<>\"\",F771,F770),\"\")","v":""}]
[]
[null,null,null,null,null,null,null,null,null,null,null,null,null,{"$f":"IF(A772<>\"\",TEXT(A772,\"\"),\"\")","v":""},{"$f":"IF(N772=\"\",\"\",CONCATENATE(IF(C772<>\"\",TEXT(C772,\"\"),\"\"),\" - \",IF(K772<>\"\",TEXT(K772,\"\"),\"\")))","v":""},{"$f":"SUBSTITUTE(SUBSTITUTE(SUBSTITUTE(SUBSTITUTE(IF(L772<>\"\",HLink(L772),\"\"),\"htm\",\"html\"),\"1x2\",\"analysis\"),\"www\",\"data\"),\"com\",\"vip\")","v":""},{"$f":"IF(D772<>\"\",D772,\"\")","v":""},{"$f":"IF(E772<>\"\",E772,\"\")","v":""},{"$f":"IF(F772<>\"\",F772,\"\")","v":""},{"$f":"IF(N772<>\"\",IF(D773<>\"\",D773,D772),\"\")","v":""},{"$f":"IF(N772<>\"\",IF(E773<>\"\",E773,E772),\"\")","v":""},{"$f":"IF(N772<>\"\",IF(F773<>\"\",F773,F772),\"\")","v":""}]
[]
[null,null,null,null,null,null,null,null,null,null,null,null,null,{"$f":"IF(A774<>\"\",TEXT(A774,\"\"),\"\")","v":""},{"$f":"IF(N774=\"\",\"\",CONCATENATE(IF(C774<>\"\",TEXT(C774,\"\"),\"\"),\" - \",IF(K774<>\"\",TEXT(K774,\"\"),\"\")))","v":""},{"$f":"SUBSTITUTE(SUBSTITUTE(SUBSTITUTE(SUBSTITUTE(IF(L774<>\"\",HLink(L774),\"\"),\"htm\",\"html\"),\"1x2\",\"analysis\"),\"www\",\"data\"),\"com\",\"vip\")","v":""},{"$f":"IF(D774<>\"\",D774,\"\")","v":""},{"$f":"IF(E774<>\"\",E774,\"\")","v":""},{"$f":"IF(F774<>\"\",F774,\"\")","v":""},{"$f":"IF(N774<>\"\",IF(D775<>\"\",D775,D774),\"\")","v":""},{"$f":"IF(N774<>\"\",IF(E775<>\"\",E775,E774),\"\")","v":""},{"$f":"IF(N774<>\"\",IF(F775<>\"\",F775,F774),\"\")","v":""}]
[]
[null,null,null,null,null,null,null,null,null,null,null,null,null,{"$f":"IF(A776<>\"\",TEXT(A776,\"\"),\"\")","v":""},{"$f":"IF(N776=\"\",\"\",CONCATENATE(IF(C776<>\"\",TEXT(C776,\"\"),\"\"),\" - \",IF(K776<>\"\",TEXT(K776,\"\"),\"\")))","v":""},{"$f":"SUBSTITUTE(SUBSTITUTE(SUBSTITUTE(SUBSTITUTE(IF(L776<>\"\",HLink(L776),\"\"),\"htm\",\"html\"),\"1x2\",\"analysis\"),\"www\",\"data\"),\"com\",\"vip\")","v":""},{"$f":"IF(D776<>\"\",D776,\"\")","v":""},{"$f":"IF(E776<>\"\",E776,\"\")","v":""},{"$f":"IF(F776<>\"\",F776,\"\")","v":""},{"$f":"IF(N776<>\"\",IF(D777<>\"\",D777,D776),\"\")","v":""},{"$f":"IF(N776<>\"\",IF(E777<>\"\",E777,E776),\"\")","v":""},{"$f":"IF(N776<>\"\",IF(F777<>\"\",F777,F776),\"\")","v":""}]
[]
[null,null,null,null,null,null,null,null,null,null,null,null,null,{"$f":"IF(A778<>\"\",TEXT(A778,\"\"),\"\")","v":""},{"$f":"IF(N778=\"\",\"\",CONCATENATE(IF(C778<>\"\",TEXT(C778,\"\"),\"\"),\" - \",IF(K778<>\"\",TEXT(K778,\"\"),\"\")))","v":""},{"$f":"SUBSTITUTE(SUBSTITUTE(SUBSTITUTE(SUBSTITUTE(IF(L778<>\"\",HLink(L778),\"\"),\"htm\",\"html\"),\"1x2\",\"analysis\"),\"www\",\"data\"),\"com\",\"vip\")","v":""},{"$f":"IF(D778<>\"\",D778,\"\")","v":""},{"$f":"IF(E778<>\"\",E778,\"\")","v":""},{"$f":"IF(F778<>\"\",F778,\"\")","v":""},{"$f":"IF(N778<>\"\",IF(D779<>\"\",D779,D778),\"\")","v":""},{"$f":"IF(N778<>\"\",IF(E779<>\"\",E779,E778),\"\")","v":""},{"$f":"IF(N778<>\"\",IF(F779<>\"\",F779,F778),\"\")","v":""}]
[]
[null,null,null,null,null,null,null,null,null,null,null,null,null,{"$f":"IF(A780<>\"\",TEXT(A780,\"\"),\"\")","v":""},{"$f":"IF(N780=\"\",\"\",CONCATENATE(IF(C780<>\"\",TEXT(C780,\"\"),\"\"),\" - \",IF(K780<>\"\",TEXT(K780,\"\"),\"\")))","v":""},{"$f":"SUBSTITUTE(SUBSTITUTE(SUBSTITUTE(SUBSTITUTE(IF(L780<>\"\",HLink(L780),\"\"),\"htm\",\"html\"),\"1x2\",\"analysis\"),\"www\",\"data\"),\"com\",\"vip\")","v":""},{"$f":"IF(D780<>\"\",D780,\"\")","v":""},{"$f":"IF(E780<>\"\",E780,\"\")","v":""},{"$f":"IF(F780<>\"\",F780,\"\")","v":""},{"$f":"IF(N780<>\"\",IF(D781<>\"\",D781,D780),\"\")","v":""},{"$f":"IF(N780<>\"\",IF(E781<>\"\",E781,E780),\"\")","v":""},{"$f":"IF(N780<>\"\",IF(F781<>\"\",F781,F780),\"\")","v":""}]
[]
[null,null,null,null,null,null,null,null,null,null,null,null,null,{"$f":"IF(A782<>\"\",TEXT(A782,\"\"),\"\")","v":""},{"$f":"IF(N782=\"\",\"\",CONCATENATE(IF(C782<>\"\",TEXT(C782,\"\"),\"\"),\" - \",IF(K782<>\"\",TEXT(K782,\"\"),\"\")))","v":""},{"$f":"SUBSTITUTE(SUBSTITUTE(SUBSTITUTE(SUBSTITUTE(IF(L782<>\"\",HLink(L782),\"\"),\"htm\",\"html\"),\"1x2\",\"analysis\"),\"www\",\"data\"),\"com\",\"vip\")","v":""},{"$f":"IF(D782<>\"\",D782,\"\")","v":""},{"$f":"IF(E782<>\"\",E782,\"\")","v":""},{"$f":"IF(F782<>\"\",F782,\"\")","v":""},{"$f":"IF(N782<>\"\",IF(D783<>\"\",D783,D782),\"\")","v":""},{"$f":"IF(N782<>\"\",IF(E783<>\"\",E783,E782),\"\")","v":""},{"$f":"IF(N782<>\"\",IF(F783<>\"\",F783,F782),\"\")","v":""}]
[]
[null,null,null,null,null,null,null,null,null,null,null,null,null,{"$f":"IF(A784<>\"\",TEXT(A784,\"\"),\"\")","v":""},{"$f":"IF(N784=\"\",\"\",CONCATENATE(IF(C784<>\"\",TEXT(C784,\"\"),\"\"),\" - \",IF(K784<>\"\",TEXT(K784,\"\"),\"\")))","v":""},{"$f":"SUBSTITUTE(SUBSTITUTE(SUBSTITUTE(SUBSTITUTE(IF(L784<>\"\",HLink(L784),\"\"),\"htm\",\"html\"),\"1x2\",\"analysis\"),\"www\",\"data\"),\"com\",\"vip\")","v":""},{"$f":"IF(D784<>\"\",D784,\"\")","v":""},{"$f":"IF(E784<>\"\",E784,\"\")","v":""},{"$f":"IF(F784<>\"\",F784,\"\")","v":""},{"$f":"IF(N784<>\"\",IF(D785<>\"\",D785,D784),\"\")","v":""},{"$f":"IF(N784<>\"\",IF(E785<>\"\",E785,E784),\"\")","v":""},{"$f":"IF(N784<>\"\",IF(F785<>\"\",F785,F784),\"\")","v":""}]
[]
[null,null,null,null,null,null,null,null,null,null,null,null,null,{"$f":"IF(A786<>\"\",TEXT(A786,\"\"),\"\")","v":""},{"$f":"IF(N786=\"\",\"\",CONCATENATE(IF(C786<>\"\",TEXT(C786,\"\"),\"\"),\" - \",IF(K786<>\"\",TEXT(K786,\"\"),\"\")))","v":""},{"$f":"SUBSTITUTE(SUBSTITUTE(SUBSTITUTE(SUBSTITUTE(IF(L786<>\"\",HLink(L786),\"\"),\"htm\",\"html\"),\"1x2\",\"analysis\"),\"www\",\"data\"),\"com\",\"vip\")","v":""},{"$f":"IF(D786<>\"\",D786,\"\")","v":""},{"$f":"IF(E786<>\"\",E786,\"\")","v":""},{"$f":"IF(F786<>\"\",F786,\"\")","v":""},{"$f":"IF(N786<>\"\",IF(D787<>\"\",D787,D786),\"\")","v":""},{"$f":"IF(N786<>\"\",IF(E787<>\"\",E787,E786),\"\")","v":""},{"$f":"IF(N786<>\"\",IF(F787<>\"\",F787,F786),\"\")","v":""}]
[]
[null,null,null,null,null,null,null,null,null,null,null,null,null,{"$f":"IF(A788<>\"\",TEXT(A788,\"\"),\"\")","v":""},{"$f":"IF(N788=\"\",\"\",CONCATENATE(IF(C788<>\"\",TEXT(C788,\"\"),\"\"),\" - \",IF(K788<>\"\",TEXT(K788,\"\"),\"\")))","v":""},{"$f":"SUBSTITUTE(SUBSTITUTE(SUBSTITUTE(SUBSTITUTE(IF(L788<>\"\",HLink(L788),\"\"),\"htm\",\"html\"),\"1x2\",\"analysis\"),\"www\",\"data\"),\"com\",\"vip\")","v":""},{"$f":"IF(D788<>\"\",D788,\"\")","v":""},{"$f":"IF(E788<>\"\",E788,\"\")","v":""},{"$f":"IF(F788<>\"\",F788,\"\")","v":""},{"$f":"IF(N788<>\"\",IF(D789<>\"\",D789,D788),\"\")","v":""},{"$f":"IF(N788<>\"\",IF(E789<>\"\",E789,E788),\"\")","v":""},{"$f":"IF(N788<>\"\",IF(F789<>\"\",F789,F788),\"\")","v":""}]
[]
[null,null,null,null,null,null,null,null,null,null,null,null,null,{"$f":"IF(A790<>\"\",TEXT(A790,\"\"),\"\")","v":""},{"$f":"IF(N790=\"\",\"\",CONCATENATE(IF(C790<>\"\",TEXT(C790,\"\"),\"\"),\" - \",IF(K790<>\"\",TEXT(K790,\"\"),\"\")))","v":""},{"$f":"SUBSTITUTE(SUBSTITUTE(SUBSTITUTE(SUBSTITUTE(IF(L790<>\"\",HLink(L790),\"\"),\"htm\",\"html\"),\"1x2\",\"analysis\"),\"www\",\"data\"),\"com\",\"vip\")","v":""},{"$f":"IF(D790<>\"\",D790,\"\")","v":""},{"$f":"IF(E790<>\"\",E790,\"\")","v":""},{"$f":"IF(F790<>\"\",F790,\"\")","v":""},{"$f":"IF(N790<>\"\",IF(D791<>\"\",D791,D790),\"\")","v":""},{"$f":"IF(N790<>\"\",IF(E791<>\"\",E791,E790),\"\")","v":""},{"$f":"IF(N790<>\"\",IF(F791<>\"\",F791,F790),\"\")","v":""}]
[]
[null,null,null,null,null,null,null,null,null,null,null,null,null,{"$f":"IF(A792<>\"\",TEXT(A792,\"\"),\"\")","v":""},{"$f":"IF(N792=\"\",\"\",CONCATENATE(IF(C792<>\"\",TEXT(C792,\"\"),\"\"),\" - \",IF(K792<>\"\",TEXT(K792,\"\"),\"\")))","v":""},{"$f":"SUBSTITUTE(SUBSTITUTE(SUBSTITUTE(SUBSTITUTE(IF(L792<>\"\",HLink(L792),\"\"),\"htm\",\"html\"),\"1x2\",\"analysis\"),\"www\",\"data\"),\"com\",\"vip\")","v":""},{"$f":"IF(D792<>\"\",D792,\"\")","v":""},{"$f":"IF(E792<>\"\",E792,\"\")","v":""},{"$f":"IF(F792<>\"\",F792,\"\")","v":""},{"$f":"IF(N792<>\"\",IF(D793<>\"\",D793,D792),\"\")","v":""},{"$f":"IF(N792<>\"\",IF(E793<>\"\",E793,E792),\"\")","v":""},{"$f":"IF(N792<>\"\",IF(F793<>\"\",F793,F792),\"\")","v":""}]
[]
[null,null,null,null,null,null,null,null,null,null,null,null,null,{"$f":"IF(A794<>\"\",TEXT(A794,\"\"),\"\")","v":""},{"$f":"IF(N794=\"\",\"\",CONCATENATE(IF(C794<>\"\",TEXT(C794,\"\"),\"\"),\" - \",IF(K794<>\"\",TEXT(K794,\"\"),\"\")))","v":""},{"$f":"SUBSTITUTE(SUBSTITUTE(SUBSTITUTE(SUBSTITUTE(IF(L794<>\"\",HLink(L794),\"\"),\"htm\",\"html\"),\"1x2\",\"analysis\"),\"www\",\"data\"),\"com\",\"vip\")","v":""},{"$f":"IF(D794<>\"\",D794,\"\")","v":""},{"$f":"IF(E794<>\"\",E794,\"\")","v":""},{"$f":"IF(F794<>\"\",F794,\"\")","v":""},{"$f":"IF(N794<>\"\",IF(D795<>\"\",D795,D794),\"\")","v":""},{"$f":"IF(N794<>\"\",IF(E795<>\"\",E795,E794),\"\")","v":""},{"$f":"IF(N794<>\"\",IF(F795<>\"\",F795,F794),\"\")","v":""}]
[]
[null,null,null,null,null,null,null,null,null,null,null,null,null,{"$f":"IF(A796<>\"\",TEXT(A796,\"\"),\"\")","v":""},{"$f":"IF(N796=\"\",\"\",CONCATENATE(IF(C796<>\"\",TEXT(C796,\"\"),\"\"),\" - \",IF(K796<>\"\",TEXT(K796,\"\"),\"\")))","v":""},{"$f":"SUBSTITUTE(SUBSTITUTE(SUBSTITUTE(SUBSTITUTE(IF(L796<>\"\",HLink(L796),\"\"),\"htm\",\"html\"),\"1x2\",\"analysis\"),\"www\",\"data\"),\"com\",\"vip\")","v":""},{"$f":"IF(D796<>\"\",D796,\"\")","v":""},{"$f":"IF(E796<>\"\",E796,\"\")","v":""},{"$f":"IF(F796<>\"\",F796,\"\")","v":""},{"$f":"IF(N796<>\"\",IF(D797<>\"\",D797,D796),\"\")","v":""},{"$f":"IF(N796<>\"\",IF(E797<>\"\",E797,E796),\"\")","v":""},{"$f":"IF(N796<>\"\",IF(F797<>\"\",F797,F796),\"\")","v":""}]
[]
[null,null,null,null,null,null,null,null,null,null,null,null,null,{"$f":"IF(A798<>\"\",TEXT(A798,\"\"),\"\")","v":""},{"$f":"IF(N798=\"\",\"\",CONCATENATE(IF(C798<>\"\",TEXT(C798,\"\"),\"\"),\" - \",IF(K798<>\"\",TEXT(K798,\"\"),\"\")))","v":""},{"$f":"SUBSTITUTE(SUBSTITUTE(SUBSTITUTE(SUBSTITUTE(IF(L798<>\"\",HLink(L798),\"\"),\"htm\",\"html\"),\"1x2\",\"analysis\"),\"www\",\"data\"),\"com\",\"vip\")","v":""},{"$f":"IF(D798<>\"\",D798,\"\")","v":""},{"$f":"IF(E798<>\"\",E798,\"\")","v":""},{"$f":"IF(F798<>\"\",F798,\"\")","v":""},{"$f":"IF(N798<>\"\",IF(D799<>\"\",D799,D798),\"\")","v":""},{"$f":"IF(N798<>\"\",IF(E799<>\"\",E799,E798),\"\")","v":""},{"$f":"IF(N798<>\"\",IF(F799<>\"\",F799,F798),\"\")","v":""}]
[]
[null,null,null,null,null,null,null,null,null,null,null,null,null,{"$f":"IF(A800<>\"\",TEXT(A800,\"\"),\"\")","v":""},{"$f":"IF(N800=\"\",\"\",CONCATENATE(IF(C800<>\"\",TEXT(C800,\"\"),\"\"),\" - \",IF(K800<>\"\",TEXT(K800,\"\"),\"\")))","v":""},{"$f":"SUBSTITUTE(SUBSTITUTE(SUBSTITUTE(SUBSTITUTE(IF(L800<>\"\",HLink(L800),\"\"),\"htm\",\"html\"),\"1x2\",\"analysis\"),\"www\",\"data\"),\"com\",\"vip\")","v":""},{"$f":"IF(D800<>\"\",D800,\"\")","v":""},{"$f":"IF(E800<>\"\",E800,\"\")","v":""},{"$f":"IF(F800<>\"\",F800,\"\")","v":""},{"$f":"IF(N800<>\"\",IF(D801<>\"\",D801,D800),\"\")","v":""},{"$f":"IF(N800<>\"\",IF(E801<>\"\",E801,E800),\"\")","v":""},{"$f":"IF(N800<>\"\",IF(F801<>\"\",F801,F800),\"\")","v":""}]
[]
[null,null,null,null,null,null,null,null,null,null,null,null,null,{"$f":"IF(A802<>\"\",TEXT(A802,\"\"),\"\")","v":""},{"$f":"IF(N802=\"\",\"\",CONCATENATE(IF(C802<>\"\",TEXT(C802,\"\"),\"\"),\" - \",IF(K802<>\"\",TEXT(K802,\"\"),\"\")))","v":""},{"$f":"SUBSTITUTE(SUBSTITUTE(SUBSTITUTE(SUBSTITUTE(IF(L802<>\"\",HLink(L802),\"\"),\"htm\",\"html\"),\"1x2\",\"analysis\"),\"www\",\"data\"),\"com\",\"vip\")","v":""},{"$f":"IF(D802<>\"\",D802,\"\")","v":""},{"$f":"IF(E802<>\"\",E802,\"\")","v":""},{"$f":"IF(F802<>\"\",F802,\"\")","v":""},{"$f":"IF(N802<>\"\",IF(D803<>\"\",D803,D802),\"\")","v":""},{"$f":"IF(N802<>\"\",IF(E803<>\"\",E803,E802),\"\")","v":""},{"$f":"IF(N802<>\"\",IF(F803<>\"\",F803,F802),\"\")","v":""}]
[]
[null,null,null,null,null,null,null,null,null,null,null,null,null,{"$f":"IF(A804<>\"\",TEXT(A804,\"\"),\"\")","v":""},{"$f":"IF(N804=\"\",\"\",CONCATENATE(IF(C804<>\"\",TEXT(C804,\"\"),\"\"),\" - \",IF(K804<>\"\",TEXT(K804,\"\"),\"\")))","v":""},{"$f":"SUBSTITUTE(SUBSTITUTE(SUBSTITUTE(SUBSTITUTE(IF(L804<>\"\",HLink(L804),\"\"),\"htm\",\"html\"),\"1x2\",\"analysis\"),\"www\",\"data\"),\"com\",\"vip\")","v":""},{"$f":"IF(D804<>\"\",D804,\"\")","v":""},{"$f":"IF(E804<>\"\",E804,\"\")","v":""},{"$f":"IF(F804<>\"\",F804,\"\")","v":""},{"$f":"IF(N804<>\"\",IF(D805<>\"\",D805,D804),\"\")","v":""},{"$f":"IF(N804<>\"\",IF(E805<>\"\",E805,E804),\"\")","v":""},{"$f":"IF(N804<>\"\",IF(F805<>\"\",F805,F804),\"\")","v":""}]
[]
[null,null,null,null,null,null,null,null,null,null,null,null,null,{"$f":"IF(A806<>\"\",TEXT(A806,\"\"),\"\")","v":""},{"$f":"IF(N806=\"\",\"\",CONCATENATE(IF(C806<>\"\",TEXT(C806,\"\"),\"\"),\" - \",IF(K806<>\"\",TEXT(K806,\"\"),\"\")))","v":""},{"$f":"SUBSTITUTE(SUBSTITUTE(SUBSTITUTE(SUBSTITUTE(IF(L806<>\"\",HLink(L806),\"\"),\"htm\",\"html\"),\"1x2\",\"analysis\"),\"www\",\"data\"),\"com\",\"vip\")","v":""},{"$f":"IF(D806<>\"\",D806,\"\")","v":""},{"$f":"IF(E806<>\"\",E806,\"\")","v":""},{"$f":"IF(F806<>\"\",F806,\"\")","v":""},{"$f":"IF(N806<>\"\",IF(D807<>\"\",D807,D806),\"\")","v":""},{"$f":"IF(N806<>\"\",IF(E807<>\"\",E807,E806),\"\")","v":""},{"$f":"IF(N806<>\"\",IF(F807<>\"\",F807,F806),\"\")","v":""}]
[]
[null,null,null,null,null,null,null,null,null,null,null,null,null,{"$f":"IF(A808<>\"\",TEXT(A808,\"\"),\"\")","v":""},{"$f":"IF(N808=\"\",\"\",CONCATENATE(IF(C808<>\"\",TEXT(C808,\"\"),\"\"),\" - \",IF(K808<>\"\",TEXT(K808,\"\"),\"\")))","v":""},{"$f":"SUBSTITUTE(SUBSTITUTE(SUBSTITUTE(SUBSTITUTE(IF(L808<>\"\",HLink(L808),\"\"),\"htm\",\"html\"),\"1x2\",\"analysis\"),\"www\",\"data\"),\"com\",\"vip\")","v":""},{"$f":"IF(D808<>\"\",D808,\"\")","v":""},{"$f":"IF(E808<>\"\",E808,\"\")","v":""},{"$f":"IF(F808<>\"\",F808,\"\")","v":""},{"$f":"IF(N808<>\"\",IF(D809<>\"\",D809,D808),\"\")","v":""},{"$f":"IF(N808<>\"\",IF(E809<>\"\",E809,E808),\"\")","v":""},{"$f":"IF(N808<>\"\",IF(F809<>\"\",F809,F808),\"\")","v":""}]
[]
[null,null,null,null,null,null,null,null,null,null,null,null,null,{"$f":"IF(A810<>\"\",TEXT(A810,\"\"),\"\")","v":""},{"$f":"IF(N810=\"\",\"\",CONCATENATE(IF(C810<>\"\",TEXT(C810,\"\"),\"\"),\" - \",IF(K810<>\"\",TEXT(K810,\"\"),\"\")))","v":""},{"$f":"SUBSTITUTE(SUBSTITUTE(SUBSTITUTE(SUBSTITUTE(IF(L810<>\"\",HLink(L810),\"\"),\"htm\",\"html\"),\"1x2\",\"analysis\"),\"www\",\"data\"),\"com\",\"vip\")","v":""},{"$f":"IF(D810<>\"\",D810,\"\")","v":""},{"$f":"IF(E810<>\"\",E810,\"\")","v":""},{"$f":"IF(F810<>\"\",F810,\"\")","v":""},{"$f":"IF(N810<>\"\",IF(D811<>\"\",D811,D810),\"\")","v":""},{"$f":"IF(N810<>\"\",IF(E811<>\"\",E811,E810),\"\")","v":""},{"$f":"IF(N810<>\"\",IF(F811<>\"\",F811,F810),\"\")","v":""}]
[]
[null,null,null,null,null,null,null,null,null,null,null,null,null,{"$f":"IF(A812<>\"\",TEXT(A812,\"\"),\"\")","v":""},{"$f":"IF(N812=\"\",\"\",CONCATENATE(IF(C812<>\"\",TEXT(C812,\"\"),\"\"),\" - \",IF(K812<>\"\",TEXT(K812,\"\"),\"\")))","v":""},{"$f":"SUBSTITUTE(SUBSTITUTE(SUBSTITUTE(SUBSTITUTE(IF(L812<>\"\",HLink(L812),\"\"),\"htm\",\"html\"),\"1x2\",\"analysis\"),\"www\",\"data\"),\"com\",\"vip\")","v":""},{"$f":"IF(D812<>\"\",D812,\"\")","v":""},{"$f":"IF(E812<>\"\",E812,\"\")","v":""},{"$f":"IF(F812<>\"\",F812,\"\")","v":""},{"$f":"IF(N812<>\"\",IF(D813<>\"\",D813,D812),\"\")","v":""},{"$f":"IF(N812<>\"\",IF(E813<>\"\",E813,E812),\"\")","v":""},{"$f":"IF(N812<>\"\",IF(F813<>\"\",F813,F812),\"\")","v":""}]
[]
[null,null,null,null,null,null,null,null,null,null,null,null,null,{"$f":"IF(A814<>\"\",TEXT(A814,\"\"),\"\")","v":""},{"$f":"IF(N814=\"\",\"\",CONCATENATE(IF(C814<>\"\",TEXT(C814,\"\"),\"\"),\" - \",IF(K814<>\"\",TEXT(K814,\"\"),\"\")))","v":""},{"$f":"SUBSTITUTE(SUBSTITUTE(SUBSTITUTE(SUBSTITUTE(IF(L814<>\"\",HLink(L814),\"\"),\"htm\",\"html\"),\"1x2\",\"analysis\"),\"www\",\"data\"),\"com\",\"vip\")","v":""},{"$f":"IF(D814<>\"\",D814,\"\")","v":""},{"$f":"IF(E814<>\"\",E814,\"\")","v":""},{"$f":"IF(F814<>\"\",F814,\"\")","v":""},{"$f":"IF(N814<>\"\",IF(D815<>\"\",D815,D814),\"\")","v":""},{"$f":"IF(N814<>\"\",IF(E815<>\"\",E815,E814),\"\")","v":""},{"$f":"IF(N814<>\"\",IF(F815<>\"\",F815,F814),\"\")","v":""}]
[]
[null,null,null,null,null,null,null,null,null,null,null,null,null,{"$f":"IF(A816<>\"\",TEXT(A816,\"\"),\"\")","v":""},{"$f":"IF(N816=\"\",\"\",CONCATENATE(IF(C816<>\"\",TEXT(C816,\"\"),\"\"),\" - \",IF(K816<>\"\",TEXT(K816,\"\"),\"\")))","v":""},{"$f":"SUBSTITUTE(SUBSTITUTE(SUBSTITUTE(SUBSTITUTE(IF(L816<>\"\",HLink(L816),\"\"),\"htm\",\"html\"),\"1x2\",\"analysis\"),\"www\",\"data\"),\"com\",\"vip\")","v":""},{"$f":"IF(D816<>\"\",D816,\"\")","v":""},{"$f":"IF(E816<>\"\",E816,\"\")","v":""},{"$f":"IF(F816<>\"\",F816,\"\")","v":""},{"$f":"IF(N816<>\"\",IF(D817<>\"\",D817,D816),\"\")","v":""},{"$f":"IF(N816<>\"\",IF(E817<>\"\",E817,E816),\"\")","v":""},{"$f":"IF(N816<>\"\",IF(F817<>\"\",F817,F816),\"\")","v":""}]
[]
[null,null,null,null,null,null,null,null,null,null,null,null,null,{"$f":"IF(A818<>\"\",TEXT(A818,\"\"),\"\")","v":""},{"$f":"IF(N818=\"\",\"\",CONCATENATE(IF(C818<>\"\",TEXT(C818,\"\"),\"\"),\" - \",IF(K818<>\"\",TEXT(K818,\"\"),\"\")))","v":""},{"$f":"SUBSTITUTE(SUBSTITUTE(SUBSTITUTE(SUBSTITUTE(IF(L818<>\"\",HLink(L818),\"\"),\"htm\",\"html\"),\"1x2\",\"analysis\"),\"www\",\"data\"),\"com\",\"vip\")","v":""},{"$f":"IF(D818<>\"\",D818,\"\")","v":""},{"$f":"IF(E818<>\"\",E818,\"\")","v":""},{"$f":"IF(F818<>\"\",F818,\"\")","v":""},{"$f":"IF(N818<>\"\",IF(D819<>\"\",D819,D818),\"\")","v":""},{"$f":"IF(N818<>\"\",IF(E819<>\"\",E819,E818),\"\")","v":""},{"$f":"IF(N818<>\"\",IF(F819<>\"\",F819,F818),\"\")","v":""}]
[]
[null,null,null,null,null,null,null,null,null,null,null,null,null,{"$f":"IF(A820<>\"\",TEXT(A820,\"\"),\"\")","v":""},{"$f":"IF(N820=\"\",\"\",CONCATENATE(IF(C820<>\"\",TEXT(C820,\"\"),\"\"),\" - \",IF(K820<>\"\",TEXT(K820,\"\"),\"\")))","v":""},{"$f":"SUBSTITUTE(SUBSTITUTE(SUBSTITUTE(SUBSTITUTE(IF(L820<>\"\",HLink(L820),\"\"),\"htm\",\"html\"),\"1x2\",\"analysis\"),\"www\",\"data\"),\"com\",\"vip\")","v":""},{"$f":"IF(D820<>\"\",D820,\"\")","v":""},{"$f":"IF(E820<>\"\",E820,\"\")","v":""},{"$f":"IF(F820<>\"\",F820,\"\")","v":""},{"$f":"IF(N820<>\"\",IF(D821<>\"\",D821,D820),\"\")","v":""},{"$f":"IF(N820<>\"\",IF(E821<>\"\",E821,E820),\"\")","v":""},{"$f":"IF(N820<>\"\",IF(F821<>\"\",F821,F820),\"\")","v":""}]
[]
[null,null,null,null,null,null,null,null,null,null,null,null,null,{"$f":"IF(A822<>\"\",TEXT(A822,\"\"),\"\")","v":""},{"$f":"IF(N822=\"\",\"\",CONCATENATE(IF(C822<>\"\",TEXT(C822,\"\"),\"\"),\" - \",IF(K822<>\"\",TEXT(K822,\"\"),\"\")))","v":""},{"$f":"SUBSTITUTE(SUBSTITUTE(SUBSTITUTE(SUBSTITUTE(IF(L822<>\"\",HLink(L822),\"\"),\"htm\",\"html\"),\"1x2\",\"analysis\"),\"www\",\"data\"),\"com\",\"vip\")","v":""},{"$f":"IF(D822<>\"\",D822,\"\")","v":""},{"$f":"IF(E822<>\"\",E822,\"\")","v":""},{"$f":"IF(F822<>\"\",F822,\"\")","v":""},{"$f":"IF(N822<>\"\",IF(D823<>\"\",D823,D822),\"\")","v":""},{"$f":"IF(N822<>\"\",IF(E823<>\"\",E823,E822),\"\")","v":""},{"$f":"IF(N822<>\"\",IF(F823<>\"\",F823,F822),\"\")","v":""}]
[]
[null,null,null,null,null,null,null,null,null,null,null,null,null,{"$f":"IF(A824<>\"\",TEXT(A824,\"\"),\"\")","v":""},{"$f":"IF(N824=\"\",\"\",CONCATENATE(IF(C824<>\"\",TEXT(C824,\"\"),\"\"),\" - \",IF(K824<>\"\",TEXT(K824,\"\"),\"\")))","v":""},{"$f":"SUBSTITUTE(SUBSTITUTE(SUBSTITUTE(SUBSTITUTE(IF(L824<>\"\",HLink(L824),\"\"),\"htm\",\"html\"),\"1x2\",\"analysis\"),\"www\",\"data\"),\"com\",\"vip\")","v":""},{"$f":"IF(D824<>\"\",D824,\"\")","v":""},{"$f":"IF(E824<>\"\",E824,\"\")","v":""},{"$f":"IF(F824<>\"\",F824,\"\")","v":""},{"$f":"IF(N824<>\"\",IF(D825<>\"\",D825,D824),\"\")","v":""},{"$f":"IF(N824<>\"\",IF(E825<>\"\",E825,E824),\"\")","v":""},{"$f":"IF(N824<>\"\",IF(F825<>\"\",F825,F824),\"\")","v":""}]
[]
[null,null,null,null,null,null,null,null,null,null,null,null,null,{"$f":"IF(A826<>\"\",TEXT(A826,\"\"),\"\")","v":""},{"$f":"IF(N826=\"\",\"\",CONCATENATE(IF(C826<>\"\",TEXT(C826,\"\"),\"\"),\" - \",IF(K826<>\"\",TEXT(K826,\"\"),\"\")))","v":""},{"$f":"SUBSTITUTE(SUBSTITUTE(SUBSTITUTE(SUBSTITUTE(IF(L826<>\"\",HLink(L826),\"\"),\"htm\",\"html\"),\"1x2\",\"analysis\"),\"www\",\"data\"),\"com\",\"vip\")","v":""},{"$f":"IF(D826<>\"\",D826,\"\")","v":""},{"$f":"IF(E826<>\"\",E826,\"\")","v":""},{"$f":"IF(F826<>\"\",F826,\"\")","v":""},{"$f":"IF(N826<>\"\",IF(D827<>\"\",D827,D826),\"\")","v":""},{"$f":"IF(N826<>\"\",IF(E827<>\"\",E827,E826),\"\")","v":""},{"$f":"IF(N826<>\"\",IF(F827<>\"\",F827,F826),\"\")","v":""}]
[]
[null,null,null,null,null,null,null,null,null,null,null,null,null,{"$f":"IF(A828<>\"\",TEXT(A828,\"\"),\"\")","v":""},{"$f":"IF(N828=\"\",\"\",CONCATENATE(IF(C828<>\"\",TEXT(C828,\"\"),\"\"),\" - \",IF(K828<>\"\",TEXT(K828,\"\"),\"\")))","v":""},{"$f":"SUBSTITUTE(SUBSTITUTE(SUBSTITUTE(SUBSTITUTE(IF(L828<>\"\",HLink(L828),\"\"),\"htm\",\"html\"),\"1x2\",\"analysis\"),\"www\",\"data\"),\"com\",\"vip\")","v":""},{"$f":"IF(D828<>\"\",D828,\"\")","v":""},{"$f":"IF(E828<>\"\",E828,\"\")","v":""},{"$f":"IF(F828<>\"\",F828,\"\")","v":""},{"$f":"IF(N828<>\"\",IF(D829<>\"\",D829,D828),\"\")","v":""},{"$f":"IF(N828<>\"\",IF(E829<>\"\",E829,E828),\"\")","v":""},{"$f":"IF(N828<>\"\",IF(F829<>\"\",F829,F828),\"\")","v":""}]
[]
[null,null,null,null,null,null,null,null,null,null,null,null,null,{"$f":"IF(A830<>\"\",TEXT(A830,\"\"),\"\")","v":""},{"$f":"IF(N830=\"\",\"\",CONCATENATE(IF(C830<>\"\",TEXT(C830,\"\"),\"\"),\" - \",IF(K830<>\"\",TEXT(K830,\"\"),\"\")))","v":""},{"$f":"SUBSTITUTE(SUBSTITUTE(SUBSTITUTE(SUBSTITUTE(IF(L830<>\"\",HLink(L830),\"\"),\"htm\",\"html\"),\"1x2\",\"analysis\"),\"www\",\"data\"),\"com\",\"vip\")","v":""},{"$f":"IF(D830<>\"\",D830,\"\")","v":""},{"$f":"IF(E830<>\"\",E830,\"\")","v":""},{"$f":"IF(F830<>\"\",F830,\"\")","v":""},{"$f":"IF(N830<>\"\",IF(D831<>\"\",D831,D830),\"\")","v":""},{"$f":"IF(N830<>\"\",IF(E831<>\"\",E831,E830),\"\")","v":""},{"$f":"IF(N830<>\"\",IF(F831<>\"\",F831,F830),\"\")","v":""}]
[]
[null,null,null,null,null,null,null,null,null,null,null,null,null,{"$f":"IF(A832<>\"\",TEXT(A832,\"\"),\"\")","v":""},{"$f":"IF(N832=\"\",\"\",CONCATENATE(IF(C832<>\"\",TEXT(C832,\"\"),\"\"),\" - \",IF(K832<>\"\",TEXT(K832,\"\"),\"\")))","v":""},{"$f":"SUBSTITUTE(SUBSTITUTE(SUBSTITUTE(SUBSTITUTE(IF(L832<>\"\",HLink(L832),\"\"),\"htm\",\"html\"),\"1x2\",\"analysis\"),\"www\",\"data\"),\"com\",\"vip\")","v":""},{"$f":"IF(D832<>\"\",D832,\"\")","v":""},{"$f":"IF(E832<>\"\",E832,\"\")","v":""},{"$f":"IF(F832<>\"\",F832,\"\")","v":""},{"$f":"IF(N832<>\"\",IF(D833<>\"\",D833,D832),\"\")","v":""},{"$f":"IF(N832<>\"\",IF(E833<>\"\",E833,E832),\"\")","v":""},{"$f":"IF(N832<>\"\",IF(F833<>\"\",F833,F832),\"\")","v":""}]
[]
[null,null,null,null,null,null,null,null,null,null,null,null,null,{"$f":"IF(A834<>\"\",TEXT(A834,\"\"),\"\")","v":""},{"$f":"IF(N834=\"\",\"\",CONCATENATE(IF(C834<>\"\",TEXT(C834,\"\"),\"\"),\" - \",IF(K834<>\"\",TEXT(K834,\"\"),\"\")))","v":""},{"$f":"SUBSTITUTE(SUBSTITUTE(SUBSTITUTE(SUBSTITUTE(IF(L834<>\"\",HLink(L834),\"\"),\"htm\",\"html\"),\"1x2\",\"analysis\"),\"www\",\"data\"),\"com\",\"vip\")","v":""},{"$f":"IF(D834<>\"\",D834,\"\")","v":""},{"$f":"IF(E834<>\"\",E834,\"\")","v":""},{"$f":"IF(F834<>\"\",F834,\"\")","v":""},{"$f":"IF(N834<>\"\",IF(D835<>\"\",D835,D834),\"\")","v":""},{"$f":"IF(N834<>\"\",IF(E835<>\"\",E835,E834),\"\")","v":""},{"$f":"IF(N834<>\"\",IF(F835<>\"\",F835,F834),\"\")","v":""}]
[]
[null,null,null,null,null,null,null,null,null,null,null,null,null,{"$f":"IF(A836<>\"\",TEXT(A836,\"\"),\"\")","v":""},{"$f":"IF(N836=\"\",\"\",CONCATENATE(IF(C836<>\"\",TEXT(C836,\"\"),\"\"),\" - \",IF(K836<>\"\",TEXT(K836,\"\"),\"\")))","v":""},{"$f":"SUBSTITUTE(SUBSTITUTE(SUBSTITUTE(SUBSTITUTE(IF(L836<>\"\",HLink(L836),\"\"),\"htm\",\"html\"),\"1x2\",\"analysis\"),\"www\",\"data\"),\"com\",\"vip\")","v":""},{"$f":"IF(D836<>\"\",D836,\"\")","v":""},{"$f":"IF(E836<>\"\",E836,\"\")","v":""},{"$f":"IF(F836<>\"\",F836,\"\")","v":""},{"$f":"IF(N836<>\"\",IF(D837<>\"\",D837,D836),\"\")","v":""},{"$f":"IF(N836<>\"\",IF(E837<>\"\",E837,E836),\"\")","v":""},{"$f":"IF(N836<>\"\",IF(F837<>\"\",F837,F836),\"\")","v":""}]
[]
[null,null,null,null,null,null,null,null,null,null,null,null,null,{"$f":"IF(A838<>\"\",TEXT(A838,\"\"),\"\")","v":""},{"$f":"IF(N838=\"\",\"\",CONCATENATE(IF(C838<>\"\",TEXT(C838,\"\"),\"\"),\" - \",IF(K838<>\"\",TEXT(K838,\"\"),\"\")))","v":""},{"$f":"SUBSTITUTE(SUBSTITUTE(SUBSTITUTE(SUBSTITUTE(IF(L838<>\"\",HLink(L838),\"\"),\"htm\",\"html\"),\"1x2\",\"analysis\"),\"www\",\"data\"),\"com\",\"vip\")","v":""},{"$f":"IF(D838<>\"\",D838,\"\")","v":""},{"$f":"IF(E838<>\"\",E838,\"\")","v":""},{"$f":"IF(F838<>\"\",F838,\"\")","v":""},{"$f":"IF(N838<>\"\",IF(D839<>\"\",D839,D838),\"\")","v":""},{"$f":"IF(N838<>\"\",IF(E839<>\"\",E839,E838),\"\")","v":""},{"$f":"IF(N838<>\"\",IF(F839<>\"\",F839,F838),\"\")","v":""}]
[]
[null,null,null,null,null,null,null,null,null,null,null,null,null,{"$f":"IF(A840<>\"\",TEXT(A840,\"\"),\"\")","v":""},{"$f":"IF(N840=\"\",\"\",CONCATENATE(IF(C840<>\"\",TEXT(C840,\"\"),\"\"),\" - \",IF(K840<>\"\",TEXT(K840,\"\"),\"\")))","v":""},{"$f":"SUBSTITUTE(SUBSTITUTE(SUBSTITUTE(SUBSTITUTE(IF(L840<>\"\",HLink(L840),\"\"),\"htm\",\"html\"),\"1x2\",\"analysis\"),\"www\",\"data\"),\"com\",\"vip\")","v":""},{"$f":"IF(D840<>\"\",D840,\"\")","v":""},{"$f":"IF(E840<>\"\",E840,\"\")","v":""},{"$f":"IF(F840<>\"\",F840,\"\")","v":""},{"$f":"IF(N840<>\"\",IF(D841<>\"\",D841,D840),\"\")","v":""},{"$f":"IF(N840<>\"\",IF(E841<>\"\",E841,E840),\"\")","v":""},{"$f":"IF(N840<>\"\",IF(F841<>\"\",F841,F840),\"\")","v":""}]
[]
[null,null,null,null,null,null,null,null,null,null,null,null,null,{"$f":"IF(A842<>\"\",TEXT(A842,\"\"),\"\")","v":""},{"$f":"IF(N842=\"\",\"\",CONCATENATE(IF(C842<>\"\",TEXT(C842,\"\"),\"\"),\" - \",IF(K842<>\"\",TEXT(K842,\"\"),\"\")))","v":""},{"$f":"SUBSTITUTE(SUBSTITUTE(SUBSTITUTE(SUBSTITUTE(IF(L842<>\"\",HLink(L842),\"\"),\"htm\",\"html\"),\"1x2\",\"analysis\"),\"www\",\"data\"),\"com\",\"vip\")","v":""},{"$f":"IF(D842<>\"\",D842,\"\")","v":""},{"$f":"IF(E842<>\"\",E842,\"\")","v":""},{"$f":"IF(F842<>\"\",F842,\"\")","v":""},{"$f":"IF(N842<>\"\",IF(D843<>\"\",D843,D842),\"\")","v":""},{"$f":"IF(N842<>\"\",IF(E843<>\"\",E843,E842),\"\")","v":""},{"$f":"IF(N842<>\"\",IF(F843<>\"\",F843,F842),\"\")","v":""}]
[]
[null,null,null,null,null,null,null,null,null,null,null,null,null,{"$f":"IF(A844<>\"\",TEXT(A844,\"\"),\"\")","v":""},{"$f":"IF(N844=\"\",\"\",CONCATENATE(IF(C844<>\"\",TEXT(C844,\"\"),\"\"),\" - \",IF(K844<>\"\",TEXT(K844,\"\"),\"\")))","v":""},{"$f":"SUBSTITUTE(SUBSTITUTE(SUBSTITUTE(SUBSTITUTE(IF(L844<>\"\",HLink(L844),\"\"),\"htm\",\"html\"),\"1x2\",\"analysis\"),\"www\",\"data\"),\"com\",\"vip\")","v":""},{"$f":"IF(D844<>\"\",D844,\"\")","v":""},{"$f":"IF(E844<>\"\",E844,\"\")","v":""},{"$f":"IF(F844<>\"\",F844,\"\")","v":""},{"$f":"IF(N844<>\"\",IF(D845<>\"\",D845,D844),\"\")","v":""},{"$f":"IF(N844<>\"\",IF(E845<>\"\",E845,E844),\"\")","v":""},{"$f":"IF(N844<>\"\",IF(F845<>\"\",F845,F844),\"\")","v":""}]
[]
[null,null,null,null,null,null,null,null,null,null,null,null,null,{"$f":"IF(A846<>\"\",TEXT(A846,\"\"),\"\")","v":""},{"$f":"IF(N846=\"\",\"\",CONCATENATE(IF(C846<>\"\",TEXT(C846,\"\"),\"\"),\" - \",IF(K846<>\"\",TEXT(K846,\"\"),\"\")))","v":""},{"$f":"SUBSTITUTE(SUBSTITUTE(SUBSTITUTE(SUBSTITUTE(IF(L846<>\"\",HLink(L846),\"\"),\"htm\",\"html\"),\"1x2\",\"analysis\"),\"www\",\"data\"),\"com\",\"vip\")","v":""},{"$f":"IF(D846<>\"\",D846,\"\")","v":""},{"$f":"IF(E846<>\"\",E846,\"\")","v":""},{"$f":"IF(F846<>\"\",F846,\"\")","v":""},{"$f":"IF(N846<>\"\",IF(D847<>\"\",D847,D846),\"\")","v":""},{"$f":"IF(N846<>\"\",IF(E847<>\"\",E847,E846),\"\")","v":""},{"$f":"IF(N846<>\"\",IF(F847<>\"\",F847,F846),\"\")","v":""}]
[]
[null,null,null,null,null,null,null,null,null,null,null,null,null,{"$f":"IF(A848<>\"\",TEXT(A848,\"\"),\"\")","v":""},{"$f":"IF(N848=\"\",\"\",CONCATENATE(IF(C848<>\"\",TEXT(C848,\"\"),\"\"),\" - \",IF(K848<>\"\",TEXT(K848,\"\"),\"\")))","v":""},{"$f":"SUBSTITUTE(SUBSTITUTE(SUBSTITUTE(SUBSTITUTE(IF(L848<>\"\",HLink(L848),\"\"),\"htm\",\"html\"),\"1x2\",\"analysis\"),\"www\",\"data\"),\"com\",\"vip\")","v":""},{"$f":"IF(D848<>\"\",D848,\"\")","v":""},{"$f":"IF(E848<>\"\",E848,\"\")","v":""},{"$f":"IF(F848<>\"\",F848,\"\")","v":""},{"$f":"IF(N848<>\"\",IF(D849<>\"\",D849,D848),\"\")","v":""},{"$f":"IF(N848<>\"\",IF(E849<>\"\",E849,E848),\"\")","v":""},{"$f":"IF(N848<>\"\",IF(F849<>\"\",F849,F848),\"\")","v":""}]
[]
[null,null,null,null,null,null,null,null,null,null,null,null,null,{"$f":"IF(A850<>\"\",TEXT(A850,\"\"),\"\")","v":""},{"$f":"IF(N850=\"\",\"\",CONCATENATE(IF(C850<>\"\",TEXT(C850,\"\"),\"\"),\" - \",IF(K850<>\"\",TEXT(K850,\"\"),\"\")))","v":""},{"$f":"SUBSTITUTE(SUBSTITUTE(SUBSTITUTE(SUBSTITUTE(IF(L850<>\"\",HLink(L850),\"\"),\"htm\",\"html\"),\"1x2\",\"analysis\"),\"www\",\"data\"),\"com\",\"vip\")","v":""},{"$f":"IF(D850<>\"\",D850,\"\")","v":""},{"$f":"IF(E850<>\"\",E850,\"\")","v":""},{"$f":"IF(F850<>\"\",F850,\"\")","v":""},{"$f":"IF(N850<>\"\",IF(D851<>\"\",D851,D850),\"\")","v":""},{"$f":"IF(N850<>\"\",IF(E851<>\"\",E851,E850),\"\")","v":""},{"$f":"IF(N850<>\"\",IF(F851<>\"\",F851,F850),\"\")","v":""}]
[]
[null,null,null,null,null,null,null,null,null,null,null,null,null,{"$f":"IF(A852<>\"\",TEXT(A852,\"\"),\"\")","v":""},{"$f":"IF(N852=\"\",\"\",CONCATENATE(IF(C852<>\"\",TEXT(C852,\"\"),\"\"),\" - \",IF(K852<>\"\",TEXT(K852,\"\"),\"\")))","v":""},{"$f":"SUBSTITUTE(SUBSTITUTE(SUBSTITUTE(SUBSTITUTE(IF(L852<>\"\",HLink(L852),\"\"),\"htm\",\"html\"),\"1x2\",\"analysis\"),\"www\",\"data\"),\"com\",\"vip\")","v":""},{"$f":"IF(D852<>\"\",D852,\"\")","v":""},{"$f":"IF(E852<>\"\",E852,\"\")","v":""},{"$f":"IF(F852<>\"\",F852,\"\")","v":""},{"$f":"IF(N852<>\"\",IF(D853<>\"\",D853,D852),\"\")","v":""},{"$f":"IF(N852<>\"\",IF(E853<>\"\",E853,E852),\"\")","v":""},{"$f":"IF(N852<>\"\",IF(F853<>\"\",F853,F852),\"\")","v":""}]
[]
[null,null,null,null,null,null,null,null,null,null,null,null,null,{"$f":"IF(A854<>\"\",TEXT(A854,\"\"),\"\")","v":""},{"$f":"IF(N854=\"\",\"\",CONCATENATE(IF(C854<>\"\",TEXT(C854,\"\"),\"\"),\" - \",IF(K854<>\"\",TEXT(K854,\"\"),\"\")))","v":""},{"$f":"SUBSTITUTE(SUBSTITUTE(SUBSTITUTE(SUBSTITUTE(IF(L854<>\"\",HLink(L854),\"\"),\"htm\",\"html\"),\"1x2\",\"analysis\"),\"www\",\"data\"),\"com\",\"vip\")","v":""},{"$f":"IF(D854<>\"\",D854,\"\")","v":""},{"$f":"IF(E854<>\"\",E854,\"\")","v":""},{"$f":"IF(F854<>\"\",F854,\"\")","v":""},{"$f":"IF(N854<>\"\",IF(D855<>\"\",D855,D854),\"\")","v":""},{"$f":"IF(N854<>\"\",IF(E855<>\"\",E855,E854),\"\")","v":""},{"$f":"IF(N854<>\"\",IF(F855<>\"\",F855,F854),\"\")","v":""}]
[]
[null,null,null,null,null,null,null,null,null,null,null,null,null,{"$f":"IF(A856<>\"\",TEXT(A856,\"\"),\"\")","v":""},{"$f":"IF(N856=\"\",\"\",CONCATENATE(IF(C856<>\"\",TEXT(C856,\"\"),\"\"),\" - \",IF(K856<>\"\",TEXT(K856,\"\"),\"\")))","v":""},{"$f":"SUBSTITUTE(SUBSTITUTE(SUBSTITUTE(SUBSTITUTE(IF(L856<>\"\",HLink(L856),\"\"),\"htm\",\"html\"),\"1x2\",\"analysis\"),\"www\",\"data\"),\"com\",\"vip\")","v":""},{"$f":"IF(D856<>\"\",D856,\"\")","v":""},{"$f":"IF(E856<>\"\",E856,\"\")","v":""},{"$f":"IF(F856<>\"\",F856,\"\")","v":""},{"$f":"IF(N856<>\"\",IF(D857<>\"\",D857,D856),\"\")","v":""},{"$f":"IF(N856<>\"\",IF(E857<>\"\",E857,E856),\"\")","v":""},{"$f":"IF(N856<>\"\",IF(F857<>\"\",F857,F856),\"\")","v":""}]
[]
[null,null,null,null,null,null,null,null,null,null,null,null,null,{"$f":"IF(A858<>\"\",TEXT(A858,\"\"),\"\")","v":""},{"$f":"IF(N858=\"\",\"\",CONCATENATE(IF(C858<>\"\",TEXT(C858,\"\"),\"\"),\" - \",IF(K858<>\"\",TEXT(K858,\"\"),\"\")))","v":""},{"$f":"SUBSTITUTE(SUBSTITUTE(SUBSTITUTE(SUBSTITUTE(IF(L858<>\"\",HLink(L858),\"\"),\"htm\",\"html\"),\"1x2\",\"analysis\"),\"www\",\"data\"),\"com\",\"vip\")","v":""},{"$f":"IF(D858<>\"\",D858,\"\")","v":""},{"$f":"IF(E858<>\"\",E858,\"\")","v":""},{"$f":"IF(F858<>\"\",F858,\"\")","v":""},{"$f":"IF(N858<>\"\",IF(D859<>\"\",D859,D858),\"\")","v":""},{"$f":"IF(N858<>\"\",IF(E859<>\"\",E859,E858),\"\")","v":""},{"$f":"IF(N858<>\"\",IF(F859<>\"\",F859,F858),\"\")","v":""}]
[]
[null,null,null,null,null,null,null,null,null,null,null,null,null,{"$f":"IF(A860<>\"\",TEXT(A860,\"\"),\"\")","v":""},{"$f":"IF(N860=\"\",\"\",CONCATENATE(IF(C860<>\"\",TEXT(C860,\"\"),\"\"),\" - \",IF(K860<>\"\",TEXT(K860,\"\"),\"\")))","v":""},{"$f":"SUBSTITUTE(SUBSTITUTE(SUBSTITUTE(SUBSTITUTE(IF(L860<>\"\",HLink(L860),\"\"),\"htm\",\"html\"),\"1x2\",\"analysis\"),\"www\",\"data\"),\"com\",\"vip\")","v":""},{"$f":"IF(D860<>\"\",D860,\"\")","v":""},{"$f":"IF(E860<>\"\",E860,\"\")","v":""},{"$f":"IF(F860<>\"\",F860,\"\")","v":""},{"$f":"IF(N860<>\"\",IF(D861<>\"\",D861,D860),\"\")","v":""},{"$f":"IF(N860<>\"\",IF(E861<>\"\",E861,E860),\"\")","v":""},{"$f":"IF(N860<>\"\",IF(F861<>\"\",F861,F860),\"\")","v":""}]
[]
[null,null,null,null,null,null,null,null,null,null,null,null,null,{"$f":"IF(A862<>\"\",TEXT(A862,\"\"),\"\")","v":""},{"$f":"IF(N862=\"\",\"\",CONCATENATE(IF(C862<>\"\",TEXT(C862,\"\"),\"\"),\" - \",IF(K862<>\"\",TEXT(K862,\"\"),\"\")))","v":""},{"$f":"SUBSTITUTE(SUBSTITUTE(SUBSTITUTE(SUBSTITUTE(IF(L862<>\"\",HLink(L862),\"\"),\"htm\",\"html\"),\"1x2\",\"analysis\"),\"www\",\"data\"),\"com\",\"vip\")","v":""},{"$f":"IF(D862<>\"\",D862,\"\")","v":""},{"$f":"IF(E862<>\"\",E862,\"\")","v":""},{"$f":"IF(F862<>\"\",F862,\"\")","v":""},{"$f":"IF(N862<>\"\",IF(D863<>\"\",D863,D862),\"\")","v":""},{"$f":"IF(N862<>\"\",IF(E863<>\"\",E863,E862),\"\")","v":""},{"$f":"IF(N862<>\"\",IF(F863<>\"\",F863,F862),\"\")","v":""}]
[]
[null,null,null,null,null,null,null,null,null,null,null,null,null,{"$f":"IF(A864<>\"\",TEXT(A864,\"\"),\"\")","v":""},{"$f":"IF(N864=\"\",\"\",CONCATENATE(IF(C864<>\"\",TEXT(C864,\"\"),\"\"),\" - \",IF(K864<>\"\",TEXT(K864,\"\"),\"\")))","v":""},{"$f":"SUBSTITUTE(SUBSTITUTE(SUBSTITUTE(SUBSTITUTE(IF(L864<>\"\",HLink(L864),\"\"),\"htm\",\"html\"),\"1x2\",\"analysis\"),\"www\",\"data\"),\"com\",\"vip\")","v":""},{"$f":"IF(D864<>\"\",D864,\"\")","v":""},{"$f":"IF(E864<>\"\",E864,\"\")","v":""},{"$f":"IF(F864<>\"\",F864,\"\")","v":""},{"$f":"IF(N864<>\"\",IF(D865<>\"\",D865,D864),\"\")","v":""},{"$f":"IF(N864<>\"\",IF(E865<>\"\",E865,E864),\"\")","v":""},{"$f":"IF(N864<>\"\",IF(F865<>\"\",F865,F864),\"\")","v":""}]
[]
[null,null,null,null,null,null,null,null,null,null,null,null,null,{"$f":"IF(A866<>\"\",TEXT(A866,\"\"),\"\")","v":""},{"$f":"IF(N866=\"\",\"\",CONCATENATE(IF(C866<>\"\",TEXT(C866,\"\"),\"\"),\" - \",IF(K866<>\"\",TEXT(K866,\"\"),\"\")))","v":""},{"$f":"SUBSTITUTE(SUBSTITUTE(SUBSTITUTE(SUBSTITUTE(IF(L866<>\"\",HLink(L866),\"\"),\"htm\",\"html\"),\"1x2\",\"analysis\"),\"www\",\"data\"),\"com\",\"vip\")","v":""},{"$f":"IF(D866<>\"\",D866,\"\")","v":""},{"$f":"IF(E866<>\"\",E866,\"\")","v":""},{"$f":"IF(F866<>\"\",F866,\"\")","v":""},{"$f":"IF(N866<>\"\",IF(D867<>\"\",D867,D866),\"\")","v":""},{"$f":"IF(N866<>\"\",IF(E867<>\"\",E867,E866),\"\")","v":""},{"$f":"IF(N866<>\"\",IF(F867<>\"\",F867,F866),\"\")","v":""}]
[]
[null,null,null,null,null,null,null,null,null,null,null,null,null,{"$f":"IF(A868<>\"\",TEXT(A868,\"\"),\"\")","v":""},{"$f":"IF(N868=\"\",\"\",CONCATENATE(IF(C868<>\"\",TEXT(C868,\"\"),\"\"),\" - \",IF(K868<>\"\",TEXT(K868,\"\"),\"\")))","v":""},{"$f":"SUBSTITUTE(SUBSTITUTE(SUBSTITUTE(SUBSTITUTE(IF(L868<>\"\",HLink(L868),\"\"),\"htm\",\"html\"),\"1x2\",\"analysis\"),\"www\",\"data\"),\"com\",\"vip\")","v":""},{"$f":"IF(D868<>\"\",D868,\"\")","v":""},{"$f":"IF(E868<>\"\",E868,\"\")","v":""},{"$f":"IF(F868<>\"\",F868,\"\")","v":""},{"$f":"IF(N868<>\"\",IF(D869<>\"\",D869,D868),\"\")","v":""},{"$f":"IF(N868<>\"\",IF(E869<>\"\",E869,E868),\"\")","v":""},{"$f":"IF(N868<>\"\",IF(F869<>\"\",F869,F868),\"\")","v":""}]
[]
[null,null,null,null,null,null,null,null,null,null,null,null,null,{"$f":"IF(A870<>\"\",TEXT(A870,\"\"),\"\")","v":""},{"$f":"IF(N870=\"\",\"\",CONCATENATE(IF(C870<>\"\",TEXT(C870,\"\"),\"\"),\" - \",IF(K870<>\"\",TEXT(K870,\"\"),\"\")))","v":""},{"$f":"SUBSTITUTE(SUBSTITUTE(SUBSTITUTE(SUBSTITUTE(IF(L870<>\"\",HLink(L870),\"\"),\"htm\",\"html\"),\"1x2\",\"analysis\"),\"www\",\"data\"),\"com\",\"vip\")","v":""},{"$f":"IF(D870<>\"\",D870,\"\")","v":""},{"$f":"IF(E870<>\"\",E870,\"\")","v":""},{"$f":"IF(F870<>\"\",F870,\"\")","v":""},{"$f":"IF(N870<>\"\",IF(D871<>\"\",D871,D870),\"\")","v":""},{"$f":"IF(N870<>\"\",IF(E871<>\"\",E871,E870),\"\")","v":""},{"$f":"IF(N870<>\"\",IF(F871<>\"\",F871,F870),\"\")","v":""}]
[]
[null,null,null,null,null,null,null,null,null,null,null,null,null,{"$f":"IF(A872<>\"\",TEXT(A872,\"\"),\"\")","v":""},{"$f":"IF(N872=\"\",\"\",CONCATENATE(IF(C872<>\"\",TEXT(C872,\"\"),\"\"),\" - \",IF(K872<>\"\",TEXT(K872,\"\"),\"\")))","v":""},{"$f":"SUBSTITUTE(SUBSTITUTE(SUBSTITUTE(SUBSTITUTE(IF(L872<>\"\",HLink(L872),\"\"),\"htm\",\"html\"),\"1x2\",\"analysis\"),\"www\",\"data\"),\"com\",\"vip\")","v":""},{"$f":"IF(D872<>\"\",D872,\"\")","v":""},{"$f":"IF(E872<>\"\",E872,\"\")","v":""},{"$f":"IF(F872<>\"\",F872,\"\")","v":""},{"$f":"IF(N872<>\"\",IF(D873<>\"\",D873,D872),\"\")","v":""},{"$f":"IF(N872<>\"\",IF(E873<>\"\",E873,E872),\"\")","v":""},{"$f":"IF(N872<>\"\",IF(F873<>\"\",F873,F872),\"\")","v":""}]
[]
[null,null,null,null,null,null,null,null,null,null,null,null,null,{"$f":"IF(A874<>\"\",TEXT(A874,\"\"),\"\")","v":""},{"$f":"IF(N874=\"\",\"\",CONCATENATE(IF(C874<>\"\",TEXT(C874,\"\"),\"\"),\" - \",IF(K874<>\"\",TEXT(K874,\"\"),\"\")))","v":""},{"$f":"SUBSTITUTE(SUBSTITUTE(SUBSTITUTE(SUBSTITUTE(IF(L874<>\"\",HLink(L874),\"\"),\"htm\",\"html\"),\"1x2\",\"analysis\"),\"www\",\"data\"),\"com\",\"vip\")","v":""},{"$f":"IF(D874<>\"\",D874,\"\")","v":""},{"$f":"IF(E874<>\"\",E874,\"\")","v":""},{"$f":"IF(F874<>\"\",F874,\"\")","v":""},{"$f":"IF(N874<>\"\",IF(D875<>\"\",D875,D874),\"\")","v":""},{"$f":"IF(N874<>\"\",IF(E875<>\"\",E875,E874),\"\")","v":""},{"$f":"IF(N874<>\"\",IF(F875<>\"\",F875,F874),\"\")","v":""}]
[]
[null,null,null,null,null,null,null,null,null,null,null,null,null,{"$f":"IF(A876<>\"\",TEXT(A876,\"\"),\"\")","v":""},{"$f":"IF(N876=\"\",\"\",CONCATENATE(IF(C876<>\"\",TEXT(C876,\"\"),\"\"),\" - \",IF(K876<>\"\",TEXT(K876,\"\"),\"\")))","v":""},{"$f":"SUBSTITUTE(SUBSTITUTE(SUBSTITUTE(SUBSTITUTE(IF(L876<>\"\",HLink(L876),\"\"),\"htm\",\"html\"),\"1x2\",\"analysis\"),\"www\",\"data\"),\"com\",\"vip\")","v":""},{"$f":"IF(D876<>\"\",D876,\"\")","v":""},{"$f":"IF(E876<>\"\",E876,\"\")","v":""},{"$f":"IF(F876<>\"\",F876,\"\")","v":""},{"$f":"IF(N876<>\"\",IF(D877<>\"\",D877,D876),\"\")","v":""},{"$f":"IF(N876<>\"\",IF(E877<>\"\",E877,E876),\"\")","v":""},{"$f":"IF(N876<>\"\",IF(F877<>\"\",F877,F876),\"\")","v":""}]
[]
[null,null,null,null,null,null,null,null,null,null,null,null,null,{"$f":"IF(A878<>\"\",TEXT(A878,\"\"),\"\")","v":""},{"$f":"IF(N878=\"\",\"\",CONCATENATE(IF(C878<>\"\",TEXT(C878,\"\"),\"\"),\" - \",IF(K878<>\"\",TEXT(K878,\"\"),\"\")))","v":""},{"$f":"SUBSTITUTE(SUBSTITUTE(SUBSTITUTE(SUBSTITUTE(IF(L878<>\"\",HLink(L878),\"\"),\"htm\",\"html\"),\"1x2\",\"analysis\"),\"www\",\"data\"),\"com\",\"vip\")","v":""},{"$f":"IF(D878<>\"\",D878,\"\")","v":""},{"$f":"IF(E878<>\"\",E878,\"\")","v":""},{"$f":"IF(F878<>\"\",F878,\"\")","v":""},{"$f":"IF(N878<>\"\",IF(D879<>\"\",D879,D878),\"\")","v":""},{"$f":"IF(N878<>\"\",IF(E879<>\"\",E879,E878),\"\")","v":""},{"$f":"IF(N878<>\"\",IF(F879<>\"\",F879,F878),\"\")","v":""}]
[]
[null,null,null,null,null,null,null,null,null,null,null,null,null,{"$f":"IF(A880<>\"\",TEXT(A880,\"\"),\"\")","v":""},{"$f":"IF(N880=\"\",\"\",CONCATENATE(IF(C880<>\"\",TEXT(C880,\"\"),\"\"),\" - \",IF(K880<>\"\",TEXT(K880,\"\"),\"\")))","v":""},{"$f":"SUBSTITUTE(SUBSTITUTE(SUBSTITUTE(SUBSTITUTE(IF(L880<>\"\",HLink(L880),\"\"),\"htm\",\"html\"),\"1x2\",\"analysis\"),\"www\",\"data\"),\"com\",\"vip\")","v":""},{"$f":"IF(D880<>\"\",D880,\"\")","v":""},{"$f":"IF(E880<>\"\",E880,\"\")","v":""},{"$f":"IF(F880<>\"\",F880,\"\")","v":""},{"$f":"IF(N880<>\"\",IF(D881<>\"\",D881,D880),\"\")","v":""},{"$f":"IF(N880<>\"\",IF(E881<>\"\",E881,E880),\"\")","v":""},{"$f":"IF(N880<>\"\",IF(F881<>\"\",F881,F880),\"\")","v":""}]
[]
[null,null,null,null,null,null,null,null,null,null,null,null,null,{"$f":"IF(A882<>\"\",TEXT(A882,\"\"),\"\")","v":""},{"$f":"IF(N882=\"\",\"\",CONCATENATE(IF(C882<>\"\",TEXT(C882,\"\"),\"\"),\" - \",IF(K882<>\"\",TEXT(K882,\"\"),\"\")))","v":""},{"$f":"SUBSTITUTE(SUBSTITUTE(SUBSTITUTE(SUBSTITUTE(IF(L882<>\"\",HLink(L882),\"\"),\"htm\",\"html\"),\"1x2\",\"analysis\"),\"www\",\"data\"),\"com\",\"vip\")","v":""},{"$f":"IF(D882<>\"\",D882,\"\")","v":""},{"$f":"IF(E882<>\"\",E882,\"\")","v":""},{"$f":"IF(F882<>\"\",F882,\"\")","v":""},{"$f":"IF(N882<>\"\",IF(D883<>\"\",D883,D882),\"\")","v":""},{"$f":"IF(N882<>\"\",IF(E883<>\"\",E883,E882),\"\")","v":""},{"$f":"IF(N882<>\"\",IF(F883<>\"\",F883,F882),\"\")","v":""}]
[]
[null,null,null,null,null,null,null,null,null,null,null,null,null,{"$f":"IF(A884<>\"\",TEXT(A884,\"\"),\"\")","v":""},{"$f":"IF(N884=\"\",\"\",CONCATENATE(IF(C884<>\"\",TEXT(C884,\"\"),\"\"),\" - \",IF(K884<>\"\",TEXT(K884,\"\"),\"\")))","v":""},{"$f":"SUBSTITUTE(SUBSTITUTE(SUBSTITUTE(SUBSTITUTE(IF(L884<>\"\",HLink(L884),\"\"),\"htm\",\"html\"),\"1x2\",\"analysis\"),\"www\",\"data\"),\"com\",\"vip\")","v":""},{"$f":"IF(D884<>\"\",D884,\"\")","v":""},{"$f":"IF(E884<>\"\",E884,\"\")","v":""},{"$f":"IF(F884<>\"\",F884,\"\")","v":""},{"$f":"IF(N884<>\"\",IF(D885<>\"\",D885,D884),\"\")","v":""},{"$f":"IF(N884<>\"\",IF(E885<>\"\",E885,E884),\"\")","v":""},{"$f":"IF(N884<>\"\",IF(F885<>\"\",F885,F884),\"\")","v":""}]
[]
[null,null,null,null,null,null,null,null,null,null,null,null,null,{"$f":"IF(A886<>\"\",TEXT(A886,\"\"),\"\")","v":""},{"$f":"IF(N886=\"\",\"\",CONCATENATE(IF(C886<>\"\",TEXT(C886,\"\"),\"\"),\" - \",IF(K886<>\"\",TEXT(K886,\"\"),\"\")))","v":""},{"$f":"SUBSTITUTE(SUBSTITUTE(SUBSTITUTE(SUBSTITUTE(IF(L886<>\"\",HLink(L886),\"\"),\"htm\",\"html\"),\"1x2\",\"analysis\"),\"www\",\"data\"),\"com\",\"vip\")","v":""},{"$f":"IF(D886<>\"\",D886,\"\")","v":""},{"$f":"IF(E886<>\"\",E886,\"\")","v":""},{"$f":"IF(F886<>\"\",F886,\"\")","v":""},{"$f":"IF(N886<>\"\",IF(D887<>\"\",D887,D886),\"\")","v":""},{"$f":"IF(N886<>\"\",IF(E887<>\"\",E887,E886),\"\")","v":""},{"$f":"IF(N886<>\"\",IF(F887<>\"\",F887,F886),\"\")","v":""}]
[]
[null,null,null,null,null,null,null,null,null,null,null,null,null,{"$f":"IF(A888<>\"\",TEXT(A888,\"\"),\"\")","v":""},{"$f":"IF(N888=\"\",\"\",CONCATENATE(IF(C888<>\"\",TEXT(C888,\"\"),\"\"),\" - \",IF(K888<>\"\",TEXT(K888,\"\"),\"\")))","v":""},{"$f":"SUBSTITUTE(SUBSTITUTE(SUBSTITUTE(SUBSTITUTE(IF(L888<>\"\",HLink(L888),\"\"),\"htm\",\"html\"),\"1x2\",\"analysis\"),\"www\",\"data\"),\"com\",\"vip\")","v":""},{"$f":"IF(D888<>\"\",D888,\"\")","v":""},{"$f":"IF(E888<>\"\",E888,\"\")","v":""},{"$f":"IF(F888<>\"\",F888,\"\")","v":""},{"$f":"IF(N888<>\"\",IF(D889<>\"\",D889,D888),\"\")","v":""},{"$f":"IF(N888<>\"\",IF(E889<>\"\",E889,E888),\"\")","v":""},{"$f":"IF(N888<>\"\",IF(F889<>\"\",F889,F888),\"\")","v":""}]
[]
[null,null,null,null,null,null,null,null,null,null,null,null,null,{"$f":"IF(A890<>\"\",TEXT(A890,\"\"),\"\")","v":""},{"$f":"IF(N890=\"\",\"\",CONCATENATE(IF(C890<>\"\",TEXT(C890,\"\"),\"\"),\" - \",IF(K890<>\"\",TEXT(K890,\"\"),\"\")))","v":""},{"$f":"SUBSTITUTE(SUBSTITUTE(SUBSTITUTE(SUBSTITUTE(IF(L890<>\"\",HLink(L890),\"\"),\"htm\",\"html\"),\"1x2\",\"analysis\"),\"www\",\"data\"),\"com\",\"vip\")","v":""},{"$f":"IF(D890<>\"\",D890,\"\")","v":""},{"$f":"IF(E890<>\"\",E890,\"\")","v":""},{"$f":"IF(F890<>\"\",F890,\"\")","v":""},{"$f":"IF(N890<>\"\",IF(D891<>\"\",D891,D890),\"\")","v":""},{"$f":"IF(N890<>\"\",IF(E891<>\"\",E891,E890),\"\")","v":""},{"$f":"IF(N890<>\"\",IF(F891<>\"\",F891,F890),\"\")","v":""}]
[]
[null,null,null,null,null,null,null,null,null,null,null,null,null,{"$f":"IF(A892<>\"\",TEXT(A892,\"\"),\"\")","v":""},{"$f":"IF(N892=\"\",\"\",CONCATENATE(IF(C892<>\"\",TEXT(C892,\"\"),\"\"),\" - \",IF(K892<>\"\",TEXT(K892,\"\"),\"\")))","v":""},{"$f":"SUBSTITUTE(SUBSTITUTE(SUBSTITUTE(SUBSTITUTE(IF(L892<>\"\",HLink(L892),\"\"),\"htm\",\"html\"),\"1x2\",\"analysis\"),\"www\",\"data\"),\"com\",\"vip\")","v":""},{"$f":"IF(D892<>\"\",D892,\"\")","v":""},{"$f":"IF(E892<>\"\",E892,\"\")","v":""},{"$f":"IF(F892<>\"\",F892,\"\")","v":""},{"$f":"IF(N892<>\"\",IF(D893<>\"\",D893,D892),\"\")","v":""},{"$f":"IF(N892<>\"\",IF(E893<>\"\",E893,E892),\"\")","v":""},{"$f":"IF(N892<>\"\",IF(F893<>\"\",F893,F892),\"\")","v":""}]
[]
[null,null,null,null,null,null,null,null,null,null,null,null,null,{"$f":"IF(A894<>\"\",TEXT(A894,\"\"),\"\")","v":""},{"$f":"IF(N894=\"\",\"\",CONCATENATE(IF(C894<>\"\",TEXT(C894,\"\"),\"\"),\" - \",IF(K894<>\"\",TEXT(K894,\"\"),\"\")))","v":""},{"$f":"SUBSTITUTE(SUBSTITUTE(SUBSTITUTE(SUBSTITUTE(IF(L894<>\"\",HLink(L894),\"\"),\"htm\",\"html\"),\"1x2\",\"analysis\"),\"www\",\"data\"),\"com\",\"vip\")","v":""},{"$f":"IF(D894<>\"\",D894,\"\")","v":""},{"$f":"IF(E894<>\"\",E894,\"\")","v":""},{"$f":"IF(F894<>\"\",F894,\"\")","v":""},{"$f":"IF(N894<>\"\",IF(D895<>\"\",D895,D894),\"\")","v":""},{"$f":"IF(N894<>\"\",IF(E895<>\"\",E895,E894),\"\")","v":""},{"$f":"IF(N894<>\"\",IF(F895<>\"\",F895,F894),\"\")","v":""}]
[]
[null,null,null,null,null,null,null,null,null,null,null,null,null,{"$f":"IF(A896<>\"\",TEXT(A896,\"\"),\"\")","v":""},{"$f":"IF(N896=\"\",\"\",CONCATENATE(IF(C896<>\"\",TEXT(C896,\"\"),\"\"),\" - \",IF(K896<>\"\",TEXT(K896,\"\"),\"\")))","v":""},{"$f":"SUBSTITUTE(SUBSTITUTE(SUBSTITUTE(SUBSTITUTE(IF(L896<>\"\",HLink(L896),\"\"),\"htm\",\"html\"),\"1x2\",\"analysis\"),\"www\",\"data\"),\"com\",\"vip\")","v":""},{"$f":"IF(D896<>\"\",D896,\"\")","v":""},{"$f":"IF(E896<>\"\",E896,\"\")","v":""},{"$f":"IF(F896<>\"\",F896,\"\")","v":""},{"$f":"IF(N896<>\"\",IF(D897<>\"\",D897,D896),\"\")","v":""},{"$f":"IF(N896<>\"\",IF(E897<>\"\",E897,E896),\"\")","v":""},{"$f":"IF(N896<>\"\",IF(F897<>\"\",F897,F896),\"\")","v":""}]
[]
[null,null,null,null,null,null,null,null,null,null,null,null,null,{"$f":"IF(A898<>\"\",TEXT(A898,\"\"),\"\")","v":""},{"$f":"IF(N898=\"\",\"\",CONCATENATE(IF(C898<>\"\",TEXT(C898,\"\"),\"\"),\" - \",IF(K898<>\"\",TEXT(K898,\"\"),\"\")))","v":""},{"$f":"SUBSTITUTE(SUBSTITUTE(SUBSTITUTE(SUBSTITUTE(IF(L898<>\"\",HLink(L898),\"\"),\"htm\",\"html\"),\"1x2\",\"analysis\"),\"www\",\"data\"),\"com\",\"vip\")","v":""},{"$f":"IF(D898<>\"\",D898,\"\")","v":""},{"$f":"IF(E898<>\"\",E898,\"\")","v":""},{"$f":"IF(F898<>\"\",F898,\"\")","v":""},{"$f":"IF(N898<>\"\",IF(D899<>\"\",D899,D898),\"\")","v":""},{"$f":"IF(N898<>\"\",IF(E899<>\"\",E899,E898),\"\")","v":""},{"$f":"IF(N898<>\"\",IF(F899<>\"\",F899,F898),\"\")","v":""}]
[]
[null,null,null,null,null,null,null,null,null,null,null,null,null,{"$f":"IF(A900<>\"\",TEXT(A900,\"\"),\"\")","v":""},{"$f":"IF(N900=\"\",\"\",CONCATENATE(IF(C900<>\"\",TEXT(C900,\"\"),\"\"),\" - \",IF(K900<>\"\",TEXT(K900,\"\"),\"\")))","v":""},{"$f":"SUBSTITUTE(SUBSTITUTE(SUBSTITUTE(SUBSTITUTE(IF(L900<>\"\",HLink(L900),\"\"),\"htm\",\"html\"),\"1x2\",\"analysis\"),\"www\",\"data\"),\"com\",\"vip\")","v":""},{"$f":"IF(D900<>\"\",D900,\"\")","v":""},{"$f":"IF(E900<>\"\",E900,\"\")","v":""},{"$f":"IF(F900<>\"\",F900,\"\")","v":""},{"$f":"IF(N900<>\"\",IF(D901<>\"\",D901,D900),\"\")","v":""},{"$f":"IF(N900<>\"\",IF(E901<>\"\",E901,E900),\"\")","v":""},{"$f":"IF(N900<>\"\",IF(F901<>\"\",F901,F900),\"\")","v":""}]
[]
[null,null,null,null,null,null,null,null,null,null,null,null,null,{"$f":"IF(A902<>\"\",TEXT(A902,\"\"),\"\")","v":""},{"$f":"IF(N902=\"\",\"\",CONCATENATE(IF(C902<>\"\",TEXT(C902,\"\"),\"\"),\" - \",IF(K902<>\"\",TEXT(K902,\"\"),\"\")))","v":""},{"$f":"SUBSTITUTE(SUBSTITUTE(SUBSTITUTE(SUBSTITUTE(IF(L902<>\"\",HLink(L902),\"\"),\"htm\",\"html\"),\"1x2\",\"analysis\"),\"www\",\"data\"),\"com\",\"vip\")","v":""},{"$f":"IF(D902<>\"\",D902,\"\")","v":""},{"$f":"IF(E902<>\"\",E902,\"\")","v":""},{"$f":"IF(F902<>\"\",F902,\"\")","v":""},{"$f":"IF(N902<>\"\",IF(D903<>\"\",D903,D902),\"\")","v":""},{"$f":"IF(N902<>\"\",IF(E903<>\"\",E903,E902),\"\")","v":""},{"$f":"IF(N902<>\"\",IF(F903<>\"\",F903,F902),\"\")","v":""}]
[]
[null,null,null,null,null,null,null,null,null,null,null,null,null,{"$f":"IF(A904<>\"\",TEXT(A904,\"\"),\"\")","v":""},{"$f":"IF(N904=\"\",\"\",CONCATENATE(IF(C904<>\"\",TEXT(C904,\"\"),\"\"),\" - \",IF(K904<>\"\",TEXT(K904,\"\"),\"\")))","v":""},{"$f":"SUBSTITUTE(SUBSTITUTE(SUBSTITUTE(SUBSTITUTE(IF(L904<>\"\",HLink(L904),\"\"),\"htm\",\"html\"),\"1x2\",\"analysis\"),\"www\",\"data\"),\"com\",\"vip\")","v":""},{"$f":"IF(D904<>\"\",D904,\"\")","v":""},{"$f":"IF(E904<>\"\",E904,\"\")","v":""},{"$f":"IF(F904<>\"\",F904,\"\")","v":""},{"$f":"IF(N904<>\"\",IF(D905<>\"\",D905,D904),\"\")","v":""},{"$f":"IF(N904<>\"\",IF(E905<>\"\",E905,E904),\"\")","v":""},{"$f":"IF(N904<>\"\",IF(F905<>\"\",F905,F904),\"\")","v":""}]
[]
[null,null,null,null,null,null,null,null,null,null,null,null,null,{"$f":"IF(A906<>\"\",TEXT(A906,\"\"),\"\")","v":""},{"$f":"IF(N906=\"\",\"\",CONCATENATE(IF(C906<>\"\",TEXT(C906,\"\"),\"\"),\" - \",IF(K906<>\"\",TEXT(K906,\"\"),\"\")))","v":""},{"$f":"SUBSTITUTE(SUBSTITUTE(SUBSTITUTE(SUBSTITUTE(IF(L906<>\"\",HLink(L906),\"\"),\"htm\",\"html\"),\"1x2\",\"analysis\"),\"www\",\"data\"),\"com\",\"vip\")","v":""},{"$f":"IF(D906<>\"\",D906,\"\")","v":""},{"$f":"IF(E906<>\"\",E906,\"\")","v":""},{"$f":"IF(F906<>\"\",F906,\"\")","v":""},{"$f":"IF(N906<>\"\",IF(D907<>\"\",D907,D906),\"\")","v":""},{"$f":"IF(N906<>\"\",IF(E907<>\"\",E907,E906),\"\")","v":""},{"$f":"IF(N906<>\"\",IF(F907<>\"\",F907,F906),\"\")","v":""}]
[]
[null,null,null,null,null,null,null,null,null,null,null,null,null,{"$f":"IF(A908<>\"\",TEXT(A908,\"\"),\"\")","v":""},{"$f":"IF(N908=\"\",\"\",CONCATENATE(IF(C908<>\"\",TEXT(C908,\"\"),\"\"),\" - \",IF(K908<>\"\",TEXT(K908,\"\"),\"\")))","v":""},{"$f":"SUBSTITUTE(SUBSTITUTE(SUBSTITUTE(SUBSTITUTE(IF(L908<>\"\",HLink(L908),\"\"),\"htm\",\"html\"),\"1x2\",\"analysis\"),\"www\",\"data\"),\"com\",\"vip\")","v":""},{"$f":"IF(D908<>\"\",D908,\"\")","v":""},{"$f":"IF(E908<>\"\",E908,\"\")","v":""},{"$f":"IF(F908<>\"\",F908,\"\")","v":""},{"$f":"IF(N908<>\"\",IF(D909<>\"\",D909,D908),\"\")","v":""},{"$f":"IF(N908<>\"\",IF(E909<>\"\",E909,E908),\"\")","v":""},{"$f":"IF(N908<>\"\",IF(F909<>\"\",F909,F908),\"\")","v":""}]
[]
[null,null,null,null,null,null,null,null,null,null,null,null,null,{"$f":"IF(A910<>\"\",TEXT(A910,\"\"),\"\")","v":""},{"$f":"IF(N910=\"\",\"\",CONCATENATE(IF(C910<>\"\",TEXT(C910,\"\"),\"\"),\" - \",IF(K910<>\"\",TEXT(K910,\"\"),\"\")))","v":""},{"$f":"SUBSTITUTE(SUBSTITUTE(SUBSTITUTE(SUBSTITUTE(IF(L910<>\"\",HLink(L910),\"\"),\"htm\",\"html\"),\"1x2\",\"analysis\"),\"www\",\"data\"),\"com\",\"vip\")","v":""},{"$f":"IF(D910<>\"\",D910,\"\")","v":""},{"$f":"IF(E910<>\"\",E910,\"\")","v":""},{"$f":"IF(F910<>\"\",F910,\"\")","v":""},{"$f":"IF(N910<>\"\",IF(D911<>\"\",D911,D910),\"\")","v":""},{"$f":"IF(N910<>\"\",IF(E911<>\"\",E911,E910),\"\")","v":""},{"$f":"IF(N910<>\"\",IF(F911<>\"\",F911,F910),\"\")","v":""}]
[]
[null,null,null,null,null,null,null,null,null,null,null,null,null,{"$f":"IF(A912<>\"\",TEXT(A912,\"\"),\"\")","v":""},{"$f":"IF(N912=\"\",\"\",CONCATENATE(IF(C912<>\"\",TEXT(C912,\"\"),\"\"),\" - \",IF(K912<>\"\",TEXT(K912,\"\"),\"\")))","v":""},{"$f":"SUBSTITUTE(SUBSTITUTE(SUBSTITUTE(SUBSTITUTE(IF(L912<>\"\",HLink(L912),\"\"),\"htm\",\"html\"),\"1x2\",\"analysis\"),\"www\",\"data\"),\"com\",\"vip\")","v":""},{"$f":"IF(D912<>\"\",D912,\"\")","v":""},{"$f":"IF(E912<>\"\",E912,\"\")","v":""},{"$f":"IF(F912<>\"\",F912,\"\")","v":""},{"$f":"IF(N912<>\"\",IF(D913<>\"\",D913,D912),\"\")","v":""},{"$f":"IF(N912<>\"\",IF(E913<>\"\",E913,E912),\"\")","v":""},{"$f":"IF(N912<>\"\",IF(F913<>\"\",F913,F912),\"\")","v":""}]
[]
[null,null,null,null,null,null,null,null,null,null,null,null,null,{"$f":"IF(A914<>\"\",TEXT(A914,\"\"),\"\")","v":""},{"$f":"IF(N914=\"\",\"\",CONCATENATE(IF(C914<>\"\",TEXT(C914,\"\"),\"\"),\" - \",IF(K914<>\"\",TEXT(K914,\"\"),\"\")))","v":""},{"$f":"SUBSTITUTE(SUBSTITUTE(SUBSTITUTE(SUBSTITUTE(IF(L914<>\"\",HLink(L914),\"\"),\"htm\",\"html\"),\"1x2\",\"analysis\"),\"www\",\"data\"),\"com\",\"vip\")","v":""},{"$f":"IF(D914<>\"\",D914,\"\")","v":""},{"$f":"IF(E914<>\"\",E914,\"\")","v":""},{"$f":"IF(F914<>\"\",F914,\"\")","v":""},{"$f":"IF(N914<>\"\",IF(D915<>\"\",D915,D914),\"\")","v":""},{"$f":"IF(N914<>\"\",IF(E915<>\"\",E915,E914),\"\")","v":""},{"$f":"IF(N914<>\"\",IF(F915<>\"\",F915,F914),\"\")","v":""}]
[]
[null,null,null,null,null,null,null,null,null,null,null,null,null,{"$f":"IF(A916<>\"\",TEXT(A916,\"\"),\"\")","v":""},{"$f":"IF(N916=\"\",\"\",CONCATENATE(IF(C916<>\"\",TEXT(C916,\"\"),\"\"),\" - \",IF(K916<>\"\",TEXT(K916,\"\"),\"\")))","v":""},{"$f":"SUBSTITUTE(SUBSTITUTE(SUBSTITUTE(SUBSTITUTE(IF(L916<>\"\",HLink(L916),\"\"),\"htm\",\"html\"),\"1x2\",\"analysis\"),\"www\",\"data\"),\"com\",\"vip\")","v":""},{"$f":"IF(D916<>\"\",D916,\"\")","v":""},{"$f":"IF(E916<>\"\",E916,\"\")","v":""},{"$f":"IF(F916<>\"\",F916,\"\")","v":""},{"$f":"IF(N916<>\"\",IF(D917<>\"\",D917,D916),\"\")","v":""},{"$f":"IF(N916<>\"\",IF(E917<>\"\",E917,E916),\"\")","v":""},{"$f":"IF(N916<>\"\",IF(F917<>\"\",F917,F916),\"\")","v":""}]
[]
[null,null,null,null,null,null,null,null,null,null,null,null,null,{"$f":"IF(A918<>\"\",TEXT(A918,\"\"),\"\")","v":""},{"$f":"IF(N918=\"\",\"\",CONCATENATE(IF(C918<>\"\",TEXT(C918,\"\"),\"\"),\" - \",IF(K918<>\"\",TEXT(K918,\"\"),\"\")))","v":""},{"$f":"SUBSTITUTE(SUBSTITUTE(SUBSTITUTE(SUBSTITUTE(IF(L918<>\"\",HLink(L918),\"\"),\"htm\",\"html\"),\"1x2\",\"analysis\"),\"www\",\"data\"),\"com\",\"vip\")","v":""},{"$f":"IF(D918<>\"\",D918,\"\")","v":""},{"$f":"IF(E918<>\"\",E918,\"\")","v":""},{"$f":"IF(F918<>\"\",F918,\"\")","v":""},{"$f":"IF(N918<>\"\",IF(D919<>\"\",D919,D918),\"\")","v":""},{"$f":"IF(N918<>\"\",IF(E919<>\"\",E919,E918),\"\")","v":""},{"$f":"IF(N918<>\"\",IF(F919<>\"\",F919,F918),\"\")","v":""}]
[]
[null,null,null,null,null,null,null,null,null,null,null,null,null,{"$f":"IF(A920<>\"\",TEXT(A920,\"\"),\"\")","v":""},{"$f":"IF(N920=\"\",\"\",CONCATENATE(IF(C920<>\"\",TEXT(C920,\"\"),\"\"),\" - \",IF(K920<>\"\",TEXT(K920,\"\"),\"\")))","v":""},{"$f":"SUBSTITUTE(SUBSTITUTE(SUBSTITUTE(SUBSTITUTE(IF(L920<>\"\",HLink(L920),\"\"),\"htm\",\"html\"),\"1x2\",\"analysis\"),\"www\",\"data\"),\"com\",\"vip\")","v":""},{"$f":"IF(D920<>\"\",D920,\"\")","v":""},{"$f":"IF(E920<>\"\",E920,\"\")","v":""},{"$f":"IF(F920<>\"\",F920,\"\")","v":""},{"$f":"IF(N920<>\"\",IF(D921<>\"\",D921,D920),\"\")","v":""},{"$f":"IF(N920<>\"\",IF(E921<>\"\",E921,E920),\"\")","v":""},{"$f":"IF(N920<>\"\",IF(F921<>\"\",F921,F920),\"\")","v":""}]
[]
[null,null,null,null,null,null,null,null,null,null,null,null,null,{"$f":"IF(A922<>\"\",TEXT(A922,\"\"),\"\")","v":""},{"$f":"IF(N922=\"\",\"\",CONCATENATE(IF(C922<>\"\",TEXT(C922,\"\"),\"\"),\" - \",IF(K922<>\"\",TEXT(K922,\"\"),\"\")))","v":""},{"$f":"SUBSTITUTE(SUBSTITUTE(SUBSTITUTE(SUBSTITUTE(IF(L922<>\"\",HLink(L922),\"\"),\"htm\",\"html\"),\"1x2\",\"analysis\"),\"www\",\"data\"),\"com\",\"vip\")","v":""},{"$f":"IF(D922<>\"\",D922,\"\")","v":""},{"$f":"IF(E922<>\"\",E922,\"\")","v":""},{"$f":"IF(F922<>\"\",F922,\"\")","v":""},{"$f":"IF(N922<>\"\",IF(D923<>\"\",D923,D922),\"\")","v":""},{"$f":"IF(N922<>\"\",IF(E923<>\"\",E923,E922),\"\")","v":""},{"$f":"IF(N922<>\"\",IF(F923<>\"\",F923,F922),\"\")","v":""}]
[]
[null,null,null,null,null,null,null,null,null,null,null,null,null,{"$f":"IF(A924<>\"\",TEXT(A924,\"\"),\"\")","v":""},{"$f":"IF(N924=\"\",\"\",CONCATENATE(IF(C924<>\"\",TEXT(C924,\"\"),\"\"),\" - \",IF(K924<>\"\",TEXT(K924,\"\"),\"\")))","v":""},{"$f":"SUBSTITUTE(SUBSTITUTE(SUBSTITUTE(SUBSTITUTE(IF(L924<>\"\",HLink(L924),\"\"),\"htm\",\"html\"),\"1x2\",\"analysis\"),\"www\",\"data\"),\"com\",\"vip\")","v":""},{"$f":"IF(D924<>\"\",D924,\"\")","v":""},{"$f":"IF(E924<>\"\",E924,\"\")","v":""},{"$f":"IF(F924<>\"\",F924,\"\")","v":""},{"$f":"IF(N924<>\"\",IF(D925<>\"\",D925,D924),\"\")","v":""},{"$f":"IF(N924<>\"\",IF(E925<>\"\",E925,E924),\"\")","v":""},{"$f":"IF(N924<>\"\",IF(F925<>\"\",F925,F924),\"\")","v":""}]
[]
[null,null,null,null,null,null,null,null,null,null,null,null,null,{"$f":"IF(A926<>\"\",TEXT(A926,\"\"),\"\")","v":""},{"$f":"IF(N926=\"\",\"\",CONCATENATE(IF(C926<>\"\",TEXT(C926,\"\"),\"\"),\" - \",IF(K926<>\"\",TEXT(K926,\"\"),\"\")))","v":""},{"$f":"SUBSTITUTE(SUBSTITUTE(SUBSTITUTE(SUBSTITUTE(IF(L926<>\"\",HLink(L926),\"\"),\"htm\",\"html\"),\"1x2\",\"analysis\"),\"www\",\"data\"),\"com\",\"vip\")","v":""},{"$f":"IF(D926<>\"\",D926,\"\")","v":""},{"$f":"IF(E926<>\"\",E926,\"\")","v":""},{"$f":"IF(F926<>\"\",F926,\"\")","v":""},{"$f":"IF(N926<>\"\",IF(D927<>\"\",D927,D926),\"\")","v":""},{"$f":"IF(N926<>\"\",IF(E927<>\"\",E927,E926),\"\")","v":""},{"$f":"IF(N926<>\"\",IF(F927<>\"\",F927,F926),\"\")","v":""}]
[]
[null,null,null,null,null,null,null,null,null,null,null,null,null,{"$f":"IF(A928<>\"\",TEXT(A928,\"\"),\"\")","v":""},{"$f":"IF(N928=\"\",\"\",CONCATENATE(IF(C928<>\"\",TEXT(C928,\"\"),\"\"),\" - \",IF(K928<>\"\",TEXT(K928,\"\"),\"\")))","v":""},{"$f":"SUBSTITUTE(SUBSTITUTE(SUBSTITUTE(SUBSTITUTE(IF(L928<>\"\",HLink(L928),\"\"),\"htm\",\"html\"),\"1x2\",\"analysis\"),\"www\",\"data\"),\"com\",\"vip\")","v":""},{"$f":"IF(D928<>\"\",D928,\"\")","v":""},{"$f":"IF(E928<>\"\",E928,\"\")","v":""},{"$f":"IF(F928<>\"\",F928,\"\")","v":""},{"$f":"IF(N928<>\"\",IF(D929<>\"\",D929,D928),\"\")","v":""},{"$f":"IF(N928<>\"\",IF(E929<>\"\",E929,E928),\"\")","v":""},{"$f":"IF(N928<>\"\",IF(F929<>\"\",F929,F928),\"\")","v":""}]
[]
[null,null,null,null,null,null,null,null,null,null,null,null,null,{"$f":"IF(A930<>\"\",TEXT(A930,\"\"),\"\")","v":""},{"$f":"IF(N930=\"\",\"\",CONCATENATE(IF(C930<>\"\",TEXT(C930,\"\"),\"\"),\" - \",IF(K930<>\"\",TEXT(K930,\"\"),\"\")))","v":""},{"$f":"SUBSTITUTE(SUBSTITUTE(SUBSTITUTE(SUBSTITUTE(IF(L930<>\"\",HLink(L930),\"\"),\"htm\",\"html\"),\"1x2\",\"analysis\"),\"www\",\"data\"),\"com\",\"vip\")","v":""},{"$f":"IF(D930<>\"\",D930,\"\")","v":""},{"$f":"IF(E930<>\"\",E930,\"\")","v":""},{"$f":"IF(F930<>\"\",F930,\"\")","v":""},{"$f":"IF(N930<>\"\",IF(D931<>\"\",D931,D930),\"\")","v":""},{"$f":"IF(N930<>\"\",IF(E931<>\"\",E931,E930),\"\")","v":""},{"$f":"IF(N930<>\"\",IF(F931<>\"\",F931,F930),\"\")","v":""}]
[]
[null,null,null,null,null,null,null,null,null,null,null,null,null,{"$f":"IF(A932<>\"\",TEXT(A932,\"\"),\"\")","v":""},{"$f":"IF(N932=\"\",\"\",CONCATENATE(IF(C932<>\"\",TEXT(C932,\"\"),\"\"),\" - \",IF(K932<>\"\",TEXT(K932,\"\"),\"\")))","v":""},{"$f":"SUBSTITUTE(SUBSTITUTE(SUBSTITUTE(SUBSTITUTE(IF(L932<>\"\",HLink(L932),\"\"),\"htm\",\"html\"),\"1x2\",\"analysis\"),\"www\",\"data\"),\"com\",\"vip\")","v":""},{"$f":"IF(D932<>\"\",D932,\"\")","v":""},{"$f":"IF(E932<>\"\",E932,\"\")","v":""},{"$f":"IF(F932<>\"\",F932,\"\")","v":""},{"$f":"IF(N932<>\"\",IF(D933<>\"\",D933,D932),\"\")","v":""},{"$f":"IF(N932<>\"\",IF(E933<>\"\",E933,E932),\"\")","v":""},{"$f":"IF(N932<>\"\",IF(F933<>\"\",F933,F932),\"\")","v":""}]
[]
[null,null,null,null,null,null,null,null,null,null,null,null,null,{"$f":"IF(A934<>\"\",TEXT(A934,\"\"),\"\")","v":""},{"$f":"IF(N934=\"\",\"\",CONCATENATE(IF(C934<>\"\",TEXT(C934,\"\"),\"\"),\" - \",IF(K934<>\"\",TEXT(K934,\"\"),\"\")))","v":""},{"$f":"SUBSTITUTE(SUBSTITUTE(SUBSTITUTE(SUBSTITUTE(IF(L934<>\"\",HLink(L934),\"\"),\"htm\",\"html\"),\"1x2\",\"analysis\"),\"www\",\"data\"),\"com\",\"vip\")","v":""},{"$f":"IF(D934<>\"\",D934,\"\")","v":""},{"$f":"IF(E934<>\"\",E934,\"\")","v":""},{"$f":"IF(F934<>\"\",F934,\"\")","v":""},{"$f":"IF(N934<>\"\",IF(D935<>\"\",D935,D934),\"\")","v":""},{"$f":"IF(N934<>\"\",IF(E935<>\"\",E935,E934),\"\")","v":""},{"$f":"IF(N934<>\"\",IF(F935<>\"\",F935,F934),\"\")","v":""}]
[]
[null,null,null,null,null,null,null,null,null,null,null,null,null,{"$f":"IF(A936<>\"\",TEXT(A936,\"\"),\"\")","v":""},{"$f":"IF(N936=\"\",\"\",CONCATENATE(IF(C936<>\"\",TEXT(C936,\"\"),\"\"),\" - \",IF(K936<>\"\",TEXT(K936,\"\"),\"\")))","v":""},{"$f":"SUBSTITUTE(SUBSTITUTE(SUBSTITUTE(SUBSTITUTE(IF(L936<>\"\",HLink(L936),\"\"),\"htm\",\"html\"),\"1x2\",\"analysis\"),\"www\",\"data\"),\"com\",\"vip\")","v":""},{"$f":"IF(D936<>\"\",D936,\"\")","v":""},{"$f":"IF(E936<>\"\",E936,\"\")","v":""},{"$f":"IF(F936<>\"\",F936,\"\")","v":""},{"$f":"IF(N936<>\"\",IF(D937<>\"\",D937,D936),\"\")","v":""},{"$f":"IF(N936<>\"\",IF(E937<>\"\",E937,E936),\"\")","v":""},{"$f":"IF(N936<>\"\",IF(F937<>\"\",F937,F936),\"\")","v":""}]
[]
[null,null,null,null,null,null,null,null,null,null,null,null,null,{"$f":"IF(A938<>\"\",TEXT(A938,\"\"),\"\")","v":""},{"$f":"IF(N938=\"\",\"\",CONCATENATE(IF(C938<>\"\",TEXT(C938,\"\"),\"\"),\" - \",IF(K938<>\"\",TEXT(K938,\"\"),\"\")))","v":""},{"$f":"SUBSTITUTE(SUBSTITUTE(SUBSTITUTE(SUBSTITUTE(IF(L938<>\"\",HLink(L938),\"\"),\"htm\",\"html\"),\"1x2\",\"analysis\"),\"www\",\"data\"),\"com\",\"vip\")","v":""},{"$f":"IF(D938<>\"\",D938,\"\")","v":""},{"$f":"IF(E938<>\"\",E938,\"\")","v":""},{"$f":"IF(F938<>\"\",F938,\"\")","v":""},{"$f":"IF(N938<>\"\",IF(D939<>\"\",D939,D938),\"\")","v":""},{"$f":"IF(N938<>\"\",IF(E939<>\"\",E939,E938),\"\")","v":""},{"$f":"IF(N938<>\"\",IF(F939<>\"\",F939,F938),\"\")","v":""}]
[]
[null,null,null,null,null,null,null,null,null,null,null,null,null,{"$f":"IF(A940<>\"\",TEXT(A940,\"\"),\"\")","v":""},{"$f":"IF(N940=\"\",\"\",CONCATENATE(IF(C940<>\"\",TEXT(C940,\"\"),\"\"),\" - \",IF(K940<>\"\",TEXT(K940,\"\"),\"\")))","v":""},{"$f":"SUBSTITUTE(SUBSTITUTE(SUBSTITUTE(SUBSTITUTE(IF(L940<>\"\",HLink(L940),\"\"),\"htm\",\"html\"),\"1x2\",\"analysis\"),\"www\",\"data\"),\"com\",\"vip\")","v":""},{"$f":"IF(D940<>\"\",D940,\"\")","v":""},{"$f":"IF(E940<>\"\",E940,\"\")","v":""},{"$f":"IF(F940<>\"\",F940,\"\")","v":""},{"$f":"IF(N940<>\"\",IF(D941<>\"\",D941,D940),\"\")","v":""},{"$f":"IF(N940<>\"\",IF(E941<>\"\",E941,E940),\"\")","v":""},{"$f":"IF(N940<>\"\",IF(F941<>\"\",F941,F940),\"\")","v":""}]
[]
[null,null,null,null,null,null,null,null,null,null,null,null,null,{"$f":"IF(A942<>\"\",TEXT(A942,\"\"),\"\")","v":""},{"$f":"IF(N942=\"\",\"\",CONCATENATE(IF(C942<>\"\",TEXT(C942,\"\"),\"\"),\" - \",IF(K942<>\"\",TEXT(K942,\"\"),\"\")))","v":""},{"$f":"SUBSTITUTE(SUBSTITUTE(SUBSTITUTE(SUBSTITUTE(IF(L942<>\"\",HLink(L942),\"\"),\"htm\",\"html\"),\"1x2\",\"analysis\"),\"www\",\"data\"),\"com\",\"vip\")","v":""},{"$f":"IF(D942<>\"\",D942,\"\")","v":""},{"$f":"IF(E942<>\"\",E942,\"\")","v":""},{"$f":"IF(F942<>\"\",F942,\"\")","v":""},{"$f":"IF(N942<>\"\",IF(D943<>\"\",D943,D942),\"\")","v":""},{"$f":"IF(N942<>\"\",IF(E943<>\"\",E943,E942),\"\")","v":""},{"$f":"IF(N942<>\"\",IF(F943<>\"\",F943,F942),\"\")","v":""}]
[]
[null,null,null,null,null,null,null,null,null,null,null,null,null,{"$f":"IF(A944<>\"\",TEXT(A944,\"\"),\"\")","v":""},{"$f":"IF(N944=\"\",\"\",CONCATENATE(IF(C944<>\"\",TEXT(C944,\"\"),\"\"),\" - \",IF(K944<>\"\",TEXT(K944,\"\"),\"\")))","v":""},{"$f":"SUBSTITUTE(SUBSTITUTE(SUBSTITUTE(SUBSTITUTE(IF(L944<>\"\",HLink(L944),\"\"),\"htm\",\"html\"),\"1x2\",\"analysis\"),\"www\",\"data\"),\"com\",\"vip\")","v":""},{"$f":"IF(D944<>\"\",D944,\"\")","v":""},{"$f":"IF(E944<>\"\",E944,\"\")","v":""},{"$f":"IF(F944<>\"\",F944,\"\")","v":""},{"$f":"IF(N944<>\"\",IF(D945<>\"\",D945,D944),\"\")","v":""},{"$f":"IF(N944<>\"\",IF(E945<>\"\",E945,E944),\"\")","v":""},{"$f":"IF(N944<>\"\",IF(F945<>\"\",F945,F944),\"\")","v":""}]
[]
[null,null,null,null,null,null,null,null,null,null,null,null,null,{"$f":"IF(A946<>\"\",TEXT(A946,\"\"),\"\")","v":""},{"$f":"IF(N946=\"\",\"\",CONCATENATE(IF(C946<>\"\",TEXT(C946,\"\"),\"\"),\" - \",IF(K946<>\"\",TEXT(K946,\"\"),\"\")))","v":""},{"$f":"SUBSTITUTE(SUBSTITUTE(SUBSTITUTE(SUBSTITUTE(IF(L946<>\"\",HLink(L946),\"\"),\"htm\",\"html\"),\"1x2\",\"analysis\"),\"www\",\"data\"),\"com\",\"vip\")","v":""},{"$f":"IF(D946<>\"\",D946,\"\")","v":""},{"$f":"IF(E946<>\"\",E946,\"\")","v":""},{"$f":"IF(F946<>\"\",F946,\"\")","v":""},{"$f":"IF(N946<>\"\",IF(D947<>\"\",D947,D946),\"\")","v":""},{"$f":"IF(N946<>\"\",IF(E947<>\"\",E947,E946),\"\")","v":""},{"$f":"IF(N946<>\"\",IF(F947<>\"\",F947,F946),\"\")","v":""}]
[]
[null,null,null,null,null,null,null,null,null,null,null,null,null,{"$f":"IF(A948<>\"\",TEXT(A948,\"\"),\"\")","v":""},{"$f":"IF(N948=\"\",\"\",CONCATENATE(IF(C948<>\"\",TEXT(C948,\"\"),\"\"),\" - \",IF(K948<>\"\",TEXT(K948,\"\"),\"\")))","v":""},{"$f":"SUBSTITUTE(SUBSTITUTE(SUBSTITUTE(SUBSTITUTE(IF(L948<>\"\",HLink(L948),\"\"),\"htm\",\"html\"),\"1x2\",\"analysis\"),\"www\",\"data\"),\"com\",\"vip\")","v":""},{"$f":"IF(D948<>\"\",D948,\"\")","v":""},{"$f":"IF(E948<>\"\",E948,\"\")","v":""},{"$f":"IF(F948<>\"\",F948,\"\")","v":""},{"$f":"IF(N948<>\"\",IF(D949<>\"\",D949,D948),\"\")","v":""},{"$f":"IF(N948<>\"\",IF(E949<>\"\",E949,E948),\"\")","v":""},{"$f":"IF(N948<>\"\",IF(F949<>\"\",F949,F948),\"\")","v":""}]
[]
[null,null,null,null,null,null,null,null,null,null,null,null,null,{"$f":"IF(A950<>\"\",TEXT(A950,\"\"),\"\")","v":""},{"$f":"IF(N950=\"\",\"\",CONCATENATE(IF(C950<>\"\",TEXT(C950,\"\"),\"\"),\" - \",IF(K950<>\"\",TEXT(K950,\"\"),\"\")))","v":""},{"$f":"SUBSTITUTE(SUBSTITUTE(SUBSTITUTE(SUBSTITUTE(IF(L950<>\"\",HLink(L950),\"\"),\"htm\",\"html\"),\"1x2\",\"analysis\"),\"www\",\"data\"),\"com\",\"vip\")","v":""},{"$f":"IF(D950<>\"\",D950,\"\")","v":""},{"$f":"IF(E950<>\"\",E950,\"\")","v":""},{"$f":"IF(F950<>\"\",F950,\"\")","v":""},{"$f":"IF(N950<>\"\",IF(D951<>\"\",D951,D950),\"\")","v":""},{"$f":"IF(N950<>\"\",IF(E951<>\"\",E951,E950),\"\")","v":""},{"$f":"IF(N950<>\"\",IF(F951<>\"\",F951,F950),\"\")","v":""}]
[]
[null,null,null,null,null,null,null,null,null,null,null,null,null,{"$f":"IF(A952<>\"\",TEXT(A952,\"\"),\"\")","v":""},{"$f":"IF(N952=\"\",\"\",CONCATENATE(IF(C952<>\"\",TEXT(C952,\"\"),\"\"),\" - \",IF(K952<>\"\",TEXT(K952,\"\"),\"\")))","v":""},{"$f":"SUBSTITUTE(SUBSTITUTE(SUBSTITUTE(SUBSTITUTE(IF(L952<>\"\",HLink(L952),\"\"),\"htm\",\"html\"),\"1x2\",\"analysis\"),\"www\",\"data\"),\"com\",\"vip\")","v":""},{"$f":"IF(D952<>\"\",D952,\"\")","v":""},{"$f":"IF(E952<>\"\",E952,\"\")","v":""},{"$f":"IF(F952<>\"\",F952,\"\")","v":""},{"$f":"IF(N952<>\"\",IF(D953<>\"\",D953,D952),\"\")","v":""},{"$f":"IF(N952<>\"\",IF(E953<>\"\",E953,E952),\"\")","v":""},{"$f":"IF(N952<>\"\",IF(F953<>\"\",F953,F952),\"\")","v":""}]
[]
[null,null,null,null,null,null,null,null,null,null,null,null,null,{"$f":"IF(A954<>\"\",TEXT(A954,\"\"),\"\")","v":""},{"$f":"IF(N954=\"\",\"\",CONCATENATE(IF(C954<>\"\",TEXT(C954,\"\"),\"\"),\" - \",IF(K954<>\"\",TEXT(K954,\"\"),\"\")))","v":""},{"$f":"SUBSTITUTE(SUBSTITUTE(SUBSTITUTE(SUBSTITUTE(IF(L954<>\"\",HLink(L954),\"\"),\"htm\",\"html\"),\"1x2\",\"analysis\"),\"www\",\"data\"),\"com\",\"vip\")","v":""},{"$f":"IF(D954<>\"\",D954,\"\")","v":""},{"$f":"IF(E954<>\"\",E954,\"\")","v":""},{"$f":"IF(F954<>\"\",F954,\"\")","v":""},{"$f":"IF(N954<>\"\",IF(D955<>\"\",D955,D954),\"\")","v":""},{"$f":"IF(N954<>\"\",IF(E955<>\"\",E955,E954),\"\")","v":""},{"$f":"IF(N954<>\"\",IF(F955<>\"\",F955,F954),\"\")","v":""}]
[]
[null,null,null,null,null,null,null,null,null,null,null,null,null,{"$f":"IF(A956<>\"\",TEXT(A956,\"\"),\"\")","v":""},{"$f":"IF(N956=\"\",\"\",CONCATENATE(IF(C956<>\"\",TEXT(C956,\"\"),\"\"),\" - \",IF(K956<>\"\",TEXT(K956,\"\"),\"\")))","v":""},{"$f":"SUBSTITUTE(SUBSTITUTE(SUBSTITUTE(SUBSTITUTE(IF(L956<>\"\",HLink(L956),\"\"),\"htm\",\"html\"),\"1x2\",\"analysis\"),\"www\",\"data\"),\"com\",\"vip\")","v":""},{"$f":"IF(D956<>\"\",D956,\"\")","v":""},{"$f":"IF(E956<>\"\",E956,\"\")","v":""},{"$f":"IF(F956<>\"\",F956,\"\")","v":""},{"$f":"IF(N956<>\"\",IF(D957<>\"\",D957,D956),\"\")","v":""},{"$f":"IF(N956<>\"\",IF(E957<>\"\",E957,E956),\"\")","v":""},{"$f":"IF(N956<>\"\",IF(F957<>\"\",F957,F956),\"\")","v":""}]
[]
[null,null,null,null,null,null,null,null,null,null,null,null,null,{"$f":"IF(A958<>\"\",TEXT(A958,\"\"),\"\")","v":""},{"$f":"IF(N958=\"\",\"\",CONCATENATE(IF(C958<>\"\",TEXT(C958,\"\"),\"\"),\" - \",IF(K958<>\"\",TEXT(K958,\"\"),\"\")))","v":""},{"$f":"SUBSTITUTE(SUBSTITUTE(SUBSTITUTE(SUBSTITUTE(IF(L958<>\"\",HLink(L958),\"\"),\"htm\",\"html\"),\"1x2\",\"analysis\"),\"www\",\"data\"),\"com\",\"vip\")","v":""},{"$f":"IF(D958<>\"\",D958,\"\")","v":""},{"$f":"IF(E958<>\"\",E958,\"\")","v":""},{"$f":"IF(F958<>\"\",F958,\"\")","v":""},{"$f":"IF(N958<>\"\",IF(D959<>\"\",D959,D958),\"\")","v":""},{"$f":"IF(N958<>\"\",IF(E959<>\"\",E959,E958),\"\")","v":""},{"$f":"IF(N958<>\"\",IF(F959<>\"\",F959,F958),\"\")","v":""}]
[]
[null,null,null,null,null,null,null,null,null,null,null,null,null,{"$f":"IF(A960<>\"\",TEXT(A960,\"\"),\"\")","v":""},{"$f":"IF(N960=\"\",\"\",CONCATENATE(IF(C960<>\"\",TEXT(C960,\"\"),\"\"),\" - \",IF(K960<>\"\",TEXT(K960,\"\"),\"\")))","v":""},{"$f":"SUBSTITUTE(SUBSTITUTE(SUBSTITUTE(SUBSTITUTE(IF(L960<>\"\",HLink(L960),\"\"),\"htm\",\"html\"),\"1x2\",\"analysis\"),\"www\",\"data\"),\"com\",\"vip\")","v":""},{"$f":"IF(D960<>\"\",D960,\"\")","v":""},{"$f":"IF(E960<>\"\",E960,\"\")","v":""},{"$f":"IF(F960<>\"\",F960,\"\")","v":""},{"$f":"IF(N960<>\"\",IF(D961<>\"\",D961,D960),\"\")","v":""},{"$f":"IF(N960<>\"\",IF(E961<>\"\",E961,E960),\"\")","v":""},{"$f":"IF(N960<>\"\",IF(F961<>\"\",F961,F960),\"\")","v":""}]
[]
[null,null,null,null,null,null,null,null,null,null,null,null,null,{"$f":"IF(A962<>\"\",TEXT(A962,\"\"),\"\")","v":""},{"$f":"IF(N962=\"\",\"\",CONCATENATE(IF(C962<>\"\",TEXT(C962,\"\"),\"\"),\" - \",IF(K962<>\"\",TEXT(K962,\"\"),\"\")))","v":""},{"$f":"SUBSTITUTE(SUBSTITUTE(SUBSTITUTE(SUBSTITUTE(IF(L962<>\"\",HLink(L962),\"\"),\"htm\",\"html\"),\"1x2\",\"analysis\"),\"www\",\"data\"),\"com\",\"vip\")","v":""},{"$f":"IF(D962<>\"\",D962,\"\")","v":""},{"$f":"IF(E962<>\"\",E962,\"\")","v":""},{"$f":"IF(F962<>\"\",F962,\"\")","v":""},{"$f":"IF(N962<>\"\",IF(D963<>\"\",D963,D962),\"\")","v":""},{"$f":"IF(N962<>\"\",IF(E963<>\"\",E963,E962),\"\")","v":""},{"$f":"IF(N962<>\"\",IF(F963<>\"\",F963,F962),\"\")","v":""}]
[]
[null,null,null,null,null,null,null,null,null,null,null,null,null,{"$f":"IF(A964<>\"\",TEXT(A964,\"\"),\"\")","v":""},{"$f":"IF(N964=\"\",\"\",CONCATENATE(IF(C964<>\"\",TEXT(C964,\"\"),\"\"),\" - \",IF(K964<>\"\",TEXT(K964,\"\"),\"\")))","v":""},{"$f":"SUBSTITUTE(SUBSTITUTE(SUBSTITUTE(SUBSTITUTE(IF(L964<>\"\",HLink(L964),\"\"),\"htm\",\"html\"),\"1x2\",\"analysis\"),\"www\",\"data\"),\"com\",\"vip\")","v":""},{"$f":"IF(D964<>\"\",D964,\"\")","v":""},{"$f":"IF(E964<>\"\",E964,\"\")","v":""},{"$f":"IF(F964<>\"\",F964,\"\")","v":""},{"$f":"IF(N964<>\"\",IF(D965<>\"\",D965,D964),\"\")","v":""},{"$f":"IF(N964<>\"\",IF(E965<>\"\",E965,E964),\"\")","v":""},{"$f":"IF(N964<>\"\",IF(F965<>\"\",F965,F964),\"\")","v":""}]
[]
[null,null,null,null,null,null,null,null,null,null,null,null,null,{"$f":"IF(A966<>\"\",TEXT(A966,\"\"),\"\")","v":""},{"$f":"IF(N966=\"\",\"\",CONCATENATE(IF(C966<>\"\",TEXT(C966,\"\"),\"\"),\" - \",IF(K966<>\"\",TEXT(K966,\"\"),\"\")))","v":""},{"$f":"SUBSTITUTE(SUBSTITUTE(SUBSTITUTE(SUBSTITUTE(IF(L966<>\"\",HLink(L966),\"\"),\"htm\",\"html\"),\"1x2\",\"analysis\"),\"www\",\"data\"),\"com\",\"vip\")","v":""},{"$f":"IF(D966<>\"\",D966,\"\")","v":""},{"$f":"IF(E966<>\"\",E966,\"\")","v":""},{"$f":"IF(F966<>\"\",F966,\"\")","v":""},{"$f":"IF(N966<>\"\",IF(D967<>\"\",D967,D966),\"\")","v":""},{"$f":"IF(N966<>\"\",IF(E967<>\"\",E967,E966),\"\")","v":""},{"$f":"IF(N966<>\"\",IF(F967<>\"\",F967,F966),\"\")","v":""}]
[]
[null,null,null,null,null,null,null,null,null,null,null,null,null,{"$f":"IF(A968<>\"\",TEXT(A968,\"\"),\"\")","v":""},{"$f":"IF(N968=\"\",\"\",CONCATENATE(IF(C968<>\"\",TEXT(C968,\"\"),\"\"),\" - \",IF(K968<>\"\",TEXT(K968,\"\"),\"\")))","v":""},{"$f":"SUBSTITUTE(SUBSTITUTE(SUBSTITUTE(SUBSTITUTE(IF(L968<>\"\",HLink(L968),\"\"),\"htm\",\"html\"),\"1x2\",\"analysis\"),\"www\",\"data\"),\"com\",\"vip\")","v":""},{"$f":"IF(D968<>\"\",D968,\"\")","v":""},{"$f":"IF(E968<>\"\",E968,\"\")","v":""},{"$f":"IF(F968<>\"\",F968,\"\")","v":""},{"$f":"IF(N968<>\"\",IF(D969<>\"\",D969,D968),\"\")","v":""},{"$f":"IF(N968<>\"\",IF(E969<>\"\",E969,E968),\"\")","v":""},{"$f":"IF(N968<>\"\",IF(F969<>\"\",F969,F968),\"\")","v":""}]
[]
[null,null,null,null,null,null,null,null,null,null,null,null,null,{"$f":"IF(A970<>\"\",TEXT(A970,\"\"),\"\")","v":""},{"$f":"IF(N970=\"\",\"\",CONCATENATE(IF(C970<>\"\",TEXT(C970,\"\"),\"\"),\" - \",IF(K970<>\"\",TEXT(K970,\"\"),\"\")))","v":""},{"$f":"SUBSTITUTE(SUBSTITUTE(SUBSTITUTE(SUBSTITUTE(IF(L970<>\"\",HLink(L970),\"\"),\"htm\",\"html\"),\"1x2\",\"analysis\"),\"www\",\"data\"),\"com\",\"vip\")","v":""},{"$f":"IF(D970<>\"\",D970,\"\")","v":""},{"$f":"IF(E970<>\"\",E970,\"\")","v":""},{"$f":"IF(F970<>\"\",F970,\"\")","v":""},{"$f":"IF(N970<>\"\",IF(D971<>\"\",D971,D970),\"\")","v":""},{"$f":"IF(N970<>\"\",IF(E971<>\"\",E971,E970),\"\")","v":""},{"$f":"IF(N970<>\"\",IF(F971<>\"\",F971,F970),\"\")","v":""}]
[]
[null,null,null,null,null,null,null,null,null,null,null,null,null,{"$f":"IF(A972<>\"\",TEXT(A972,\"\"),\"\")","v":""},{"$f":"IF(N972=\"\",\"\",CONCATENATE(IF(C972<>\"\",TEXT(C972,\"\"),\"\"),\" - \",IF(K972<>\"\",TEXT(K972,\"\"),\"\")))","v":""},{"$f":"SUBSTITUTE(SUBSTITUTE(SUBSTITUTE(SUBSTITUTE(IF(L972<>\"\",HLink(L972),\"\"),\"htm\",\"html\"),\"1x2\",\"analysis\"),\"www\",\"data\"),\"com\",\"vip\")","v":""},{"$f":"IF(D972<>\"\",D972,\"\")","v":""},{"$f":"IF(E972<>\"\",E972,\"\")","v":""},{"$f":"IF(F972<>\"\",F972,\"\")","v":""},{"$f":"IF(N972<>\"\",IF(D973<>\"\",D973,D972),\"\")","v":""},{"$f":"IF(N972<>\"\",IF(E973<>\"\",E973,E972),\"\")","v":""},{"$f":"IF(N972<>\"\",IF(F973<>\"\",F973,F972),\"\")","v":""}]
[]
[null,null,null,null,null,null,null,null,null,null,null,null,null,{"$f":"IF(A974<>\"\",TEXT(A974,\"\"),\"\")","v":""},{"$f":"IF(N974=\"\",\"\",CONCATENATE(IF(C974<>\"\",TEXT(C974,\"\"),\"\"),\" - \",IF(K974<>\"\",TEXT(K974,\"\"),\"\")))","v":""},{"$f":"SUBSTITUTE(SUBSTITUTE(SUBSTITUTE(SUBSTITUTE(IF(L974<>\"\",HLink(L974),\"\"),\"htm\",\"html\"),\"1x2\",\"analysis\"),\"www\",\"data\"),\"com\",\"vip\")","v":""},{"$f":"IF(D974<>\"\",D974,\"\")","v":""},{"$f":"IF(E974<>\"\",E974,\"\")","v":""},{"$f":"IF(F974<>\"\",F974,\"\")","v":""},{"$f":"IF(N974<>\"\",IF(D975<>\"\",D975,D974),\"\")","v":""},{"$f":"IF(N974<>\"\",IF(E975<>\"\",E975,E974),\"\")","v":""},{"$f":"IF(N974<>\"\",IF(F975<>\"\",F975,F974),\"\")","v":""}]
[]
[null,null,null,null,null,null,null,null,null,null,null,null,null,{"$f":"IF(A976<>\"\",TEXT(A976,\"\"),\"\")","v":""},{"$f":"IF(N976=\"\",\"\",CONCATENATE(IF(C976<>\"\",TEXT(C976,\"\"),\"\"),\" - \",IF(K976<>\"\",TEXT(K976,\"\"),\"\")))","v":""},{"$f":"SUBSTITUTE(SUBSTITUTE(SUBSTITUTE(SUBSTITUTE(IF(L976<>\"\",HLink(L976),\"\"),\"htm\",\"html\"),\"1x2\",\"analysis\"),\"www\",\"data\"),\"com\",\"vip\")","v":""},{"$f":"IF(D976<>\"\",D976,\"\")","v":""},{"$f":"IF(E976<>\"\",E976,\"\")","v":""},{"$f":"IF(F976<>\"\",F976,\"\")","v":""},{"$f":"IF(N976<>\"\",IF(D977<>\"\",D977,D976),\"\")","v":""},{"$f":"IF(N976<>\"\",IF(E977<>\"\",E977,E976),\"\")","v":""},{"$f":"IF(N976<>\"\",IF(F977<>\"\",F977,F976),\"\")","v":""}]
[]
[null,null,null,null,null,null,null,null,null,null,null,null,null,{"$f":"IF(A978<>\"\",TEXT(A978,\"\"),\"\")","v":""},{"$f":"IF(N978=\"\",\"\",CONCATENATE(IF(C978<>\"\",TEXT(C978,\"\"),\"\"),\" - \",IF(K978<>\"\",TEXT(K978,\"\"),\"\")))","v":""},{"$f":"SUBSTITUTE(SUBSTITUTE(SUBSTITUTE(SUBSTITUTE(IF(L978<>\"\",HLink(L978),\"\"),\"htm\",\"html\"),\"1x2\",\"analysis\"),\"www\",\"data\"),\"com\",\"vip\")","v":""},{"$f":"IF(D978<>\"\",D978,\"\")","v":""},{"$f":"IF(E978<>\"\",E978,\"\")","v":""},{"$f":"IF(F978<>\"\",F978,\"\")","v":""},{"$f":"IF(N978<>\"\",IF(D979<>\"\",D979,D978),\"\")","v":""},{"$f":"IF(N978<>\"\",IF(E979<>\"\",E979,E978),\"\")","v":""},{"$f":"IF(N978<>\"\",IF(F979<>\"\",F979,F978),\"\")","v":""}]
[]
[null,null,null,null,null,null,null,null,null,null,null,null,null,{"$f":"IF(A980<>\"\",TEXT(A980,\"\"),\"\")","v":""},{"$f":"IF(N980=\"\",\"\",CONCATENATE(IF(C980<>\"\",TEXT(C980,\"\"),\"\"),\" - \",IF(K980<>\"\",TEXT(K980,\"\"),\"\")))","v":""},{"$f":"SUBSTITUTE(SUBSTITUTE(SUBSTITUTE(SUBSTITUTE(IF(L980<>\"\",HLink(L980),\"\"),\"htm\",\"html\"),\"1x2\",\"analysis\"),\"www\",\"data\"),\"com\",\"vip\")","v":""},{"$f":"IF(D980<>\"\",D980,\"\")","v":""},{"$f":"IF(E980<>\"\",E980,\"\")","v":""},{"$f":"IF(F980<>\"\",F980,\"\")","v":""},{"$f":"IF(N980<>\"\",IF(D981<>\"\",D981,D980),\"\")","v":""},{"$f":"IF(N980<>\"\",IF(E981<>\"\",E981,E980),\"\")","v":""},{"$f":"IF(N980<>\"\",IF(F981<>\"\",F981,F980),\"\")","v":""}]
[]
[null,null,null,null,null,null,null,null,null,null,null,null,null,{"$f":"IF(A982<>\"\",TEXT(A982,\"\"),\"\")","v":""},{"$f":"IF(N982=\"\",\"\",CONCATENATE(IF(C982<>\"\",TEXT(C982,\"\"),\"\"),\" - \",IF(K982<>\"\",TEXT(K982,\"\"),\"\")))","v":""},{"$f":"SUBSTITUTE(SUBSTITUTE(SUBSTITUTE(SUBSTITUTE(IF(L982<>\"\",HLink(L982),\"\"),\"htm\",\"html\"),\"1x2\",\"analysis\"),\"www\",\"data\"),\"com\",\"vip\")","v":""},{"$f":"IF(D982<>\"\",D982,\"\")","v":""},{"$f":"IF(E982<>\"\",E982,\"\")","v":""},{"$f":"IF(F982<>\"\",F982,\"\")","v":""},{"$f":"IF(N982<>\"\",IF(D983<>\"\",D983,D982),\"\")","v":""},{"$f":"IF(N982<>\"\",IF(E983<>\"\",E983,E982),\"\")","v":""},{"$f":"IF(N982<>\"\",IF(F983<>\"\",F983,F982),\"\")","v":""}]
[]
[null,null,null,null,null,null,null,null,null,null,null,null,null,{"$f":"IF(A984<>\"\",TEXT(A984,\"\"),\"\")","v":""},{"$f":"IF(N984=\"\",\"\",CONCATENATE(IF(C984<>\"\",TEXT(C984,\"\"),\"\"),\" - \",IF(K984<>\"\",TEXT(K984,\"\"),\"\")))","v":""},{"$f":"SUBSTITUTE(SUBSTITUTE(SUBSTITUTE(SUBSTITUTE(IF(L984<>\"\",HLink(L984),\"\"),\"htm\",\"html\"),\"1x2\",\"analysis\"),\"www\",\"data\"),\"com\",\"vip\")","v":""},{"$f":"IF(D984<>\"\",D984,\"\")","v":""},{"$f":"IF(E984<>\"\",E984,\"\")","v":""},{"$f":"IF(F984<>\"\",F984,\"\")","v":""},{"$f":"IF(N984<>\"\",IF(D985<>\"\",D985,D984),\"\")","v":""},{"$f":"IF(N984<>\"\",IF(E985<>\"\",E985,E984),\"\")","v":""},{"$f":"IF(N984<>\"\",IF(F985<>\"\",F985,F984),\"\")","v":""}]
[]
[null,null,null,null,null,null,null,null,null,null,null,null,null,{"$f":"IF(A986<>\"\",TEXT(A986,\"\"),\"\")","v":""},{"$f":"IF(N986=\"\",\"\",CONCATENATE(IF(C986<>\"\",TEXT(C986,\"\"),\"\"),\" - \",IF(K986<>\"\",TEXT(K986,\"\"),\"\")))","v":""},{"$f":"SUBSTITUTE(SUBSTITUTE(SUBSTITUTE(SUBSTITUTE(IF(L986<>\"\",HLink(L986),\"\"),\"htm\",\"html\"),\"1x2\",\"analysis\"),\"www\",\"data\"),\"com\",\"vip\")","v":""},{"$f":"IF(D986<>\"\",D986,\"\")","v":""},{"$f":"IF(E986<>\"\",E986,\"\")","v":""},{"$f":"IF(F986<>\"\",F986,\"\")","v":""},{"$f":"IF(N986<>\"\",IF(D987<>\"\",D987,D986),\"\")","v":""},{"$f":"IF(N986<>\"\",IF(E987<>\"\",E987,E986),\"\")","v":""},{"$f":"IF(N986<>\"\",IF(F987<>\"\",F987,F986),\"\")","v":""}]
[]
[null,null,null,null,null,null,null,null,null,null,null,null,null,{"$f":"IF(A988<>\"\",TEXT(A988,\"\"),\"\")","v":""},{"$f":"IF(N988=\"\",\"\",CONCATENATE(IF(C988<>\"\",TEXT(C988,\"\"),\"\"),\" - \",IF(K988<>\"\",TEXT(K988,\"\"),\"\")))","v":""},{"$f":"SUBSTITUTE(SUBSTITUTE(SUBSTITUTE(SUBSTITUTE(IF(L988<>\"\",HLink(L988),\"\"),\"htm\",\"html\"),\"1x2\",\"analysis\"),\"www\",\"data\"),\"com\",\"vip\")","v":""},{"$f":"IF(D988<>\"\",D988,\"\")","v":""},{"$f":"IF(E988<>\"\",E988,\"\")","v":""},{"$f":"IF(F988<>\"\",F988,\"\")","v":""},{"$f":"IF(N988<>\"\",IF(D989<>\"\",D989,D988),\"\")","v":""},{"$f":"IF(N988<>\"\",IF(E989<>\"\",E989,E988),\"\")","v":""},{"$f":"IF(N988<>\"\",IF(F989<>\"\",F989,F988),\"\")","v":""}]
[]
[null,null,null,null,null,null,null,null,null,null,null,null,null,{"$f":"IF(A990<>\"\",TEXT(A990,\"\"),\"\")","v":""},{"$f":"IF(N990=\"\",\"\",CONCATENATE(IF(C990<>\"\",TEXT(C990,\"\"),\"\"),\" - \",IF(K990<>\"\",TEXT(K990,\"\"),\"\")))","v":""},{"$f":"SUBSTITUTE(SUBSTITUTE(SUBSTITUTE(SUBSTITUTE(IF(L990<>\"\",HLink(L990),\"\"),\"htm\",\"html\"),\"1x2\",\"analysis\"),\"www\",\"data\"),\"com\",\"vip\")","v":""},{"$f":"IF(D990<>\"\",D990,\"\")","v":""},{"$f":"IF(E990<>\"\",E990,\"\")","v":""},{"$f":"IF(F990<>\"\",F990,\"\")","v":""},{"$f":"IF(N990<>\"\",IF(D991<>\"\",D991,D990),\"\")","v":""},{"$f":"IF(N990<>\"\",IF(E991<>\"\",E991,E990),\"\")","v":""},{"$f":"IF(N990<>\"\",IF(F991<>\"\",F991,F990),\"\")","v":""}]
[]
[null,null,null,null,null,null,null,null,null,null,null,null,null,{"$f":"IF(A992<>\"\",TEXT(A992,\"\"),\"\")","v":""},{"$f":"IF(N992=\"\",\"\",CONCATENATE(IF(C992<>\"\",TEXT(C992,\"\"),\"\"),\" - \",IF(K992<>\"\",TEXT(K992,\"\"),\"\")))","v":""},{"$f":"SUBSTITUTE(SUBSTITUTE(SUBSTITUTE(SUBSTITUTE(IF(L992<>\"\",HLink(L992),\"\"),\"htm\",\"html\"),\"1x2\",\"analysis\"),\"www\",\"data\"),\"com\",\"vip\")","v":""},{"$f":"IF(D992<>\"\",D992,\"\")","v":""},{"$f":"IF(E992<>\"\",E992,\"\")","v":""},{"$f":"IF(F992<>\"\",F992,\"\")","v":""},{"$f":"IF(N992<>\"\",IF(D993<>\"\",D993,D992),\"\")","v":""},{"$f":"IF(N992<>\"\",IF(E993<>\"\",E993,E992),\"\")","v":""},{"$f":"IF(N992<>\"\",IF(F993<>\"\",F993,F992),\"\")","v":""}]
[]
[null,null,null,null,null,null,null,null,null,null,null,null,null,{"$f":"IF(A994<>\"\",TEXT(A994,\"\"),\"\")","v":""},{"$f":"IF(N994=\"\",\"\",CONCATENATE(IF(C994<>\"\",TEXT(C994,\"\"),\"\"),\" - \",IF(K994<>\"\",TEXT(K994,\"\"),\"\")))","v":""},{"$f":"SUBSTITUTE(SUBSTITUTE(SUBSTITUTE(SUBSTITUTE(IF(L994<>\"\",HLink(L994),\"\"),\"htm\",\"html\"),\"1x2\",\"analysis\"),\"www\",\"data\"),\"com\",\"vip\")","v":""},{"$f":"IF(D994<>\"\",D994,\"\")","v":""},{"$f":"IF(E994<>\"\",E994,\"\")","v":""},{"$f":"IF(F994<>\"\",F994,\"\")","v":""},{"$f":"IF(N994<>\"\",IF(D995<>\"\",D995,D994),\"\")","v":""},{"$f":"IF(N994<>\"\",IF(E995<>\"\",E995,E994),\"\")","v":""},{"$f":"IF(N994<>\"\",IF(F995<>\"\",F995,F994),\"\")","v":""}]
[]
[null,null,null,null,null,null,null,null,null,null,null,null,null,{"$f":"IF(A996<>\"\",TEXT(A996,\"\"),\"\")","v":""},{"$f":"IF(N996=\"\",\"\",CONCATENATE(IF(C996<>\"\",TEXT(C996,\"\"),\"\"),\" - \",IF(K996<>\"\",TEXT(K996,\"\"),\"\")))","v":""},{"$f":"SUBSTITUTE(SUBSTITUTE(SUBSTITUTE(SUBSTITUTE(IF(L996<>\"\",HLink(L996),\"\"),\"htm\",\"html\"),\"1x2\",\"analysis\"),\"www\",\"data\"),\"com\",\"vip\")","v":""},{"$f":"IF(D996<>\"\",D996,\"\")","v":""},{"$f":"IF(E996<>\"\",E996,\"\")","v":""},{"$f":"IF(F996<>\"\",F996,\"\")","v":""},{"$f":"IF(N996<>\"\",IF(D997<>\"\",D997,D996),\"\")","v":""},{"$f":"IF(N996<>\"\",IF(E997<>\"\",E997,E996),\"\")","v":""},{"$f":"IF(N996<>\"\",IF(F997<>\"\",F997,F996),\"\")","v":""}]
[]
[null,null,null,null,null,null,null,null,null,null,null,null,null,{"$f":"IF(A998<>\"\",TEXT(A998,\"\"),\"\")","v":""},{"$f":"IF(N998=\"\",\"\",CONCATENATE(IF(C998<>\"\",TEXT(C998,\"\"),\"\"),\" - \",IF(K998<>\"\",TEXT(K998,\"\"),\"\")))","v":""},{"$f":"SUBSTITUTE(SUBSTITUTE(SUBSTITUTE(SUBSTITUTE(IF(L998<>\"\",HLink(L998),\"\"),\"htm\",\"html\"),\"1x2\",\"analysis\"),\"www\",\"data\"),\"com\",\"vip\")","v":""},{"$f":"IF(D998<>\"\",D998,\"\")","v":""},{"$f":"IF(E998<>\"\",E998,\"\")","v":""},{"$f":"IF(F998<>\"\",F998,\"\")","v":""},{"$f":"IF(N998<>\"\",IF(D999<>\"\",D999,D998),\"\")","v":""},{"$f":"IF(N998<>\"\",IF(E999<>\"\",E999,E998),\"\")","v":""},{"$f":"IF(N998<>\"\",IF(F999<>\"\",F999,F998),\"\")","v":""}]
[]
[null,null,null,null,null,null,null,null,null,null,null,null,null,{"$f":"IF(A1000<>\"\",TEXT(A1000,\"\"),\"\")","v":""},{"$f":"IF(N1000=\"\",\"\",CONCATENATE(IF(C1000<>\"\",TEXT(C1000,\"\"),\"\"),\" - \",IF(K1000<>\"\",TEXT(K1000,\"\"),\"\")))","v":""},{"$f":"SUBSTITUTE(SUBSTITUTE(SUBSTITUTE(SUBSTITUTE(IF(L1000<>\"\",HLink(L1000),\"\"),\"htm\",\"html\"),\"1x2\",\"analysis\"),\"www\",\"data\"),\"com\",\"vip\")","v":""},{"$f":"IF(D1000<>\"\",D1000,\"\")","v":""},{"$f":"IF(E1000<>\"\",E1000,\"\")","v":""},{"$f":"IF(F1000<>\"\",F1000,\"\")","v":""},{"$f":"IF(N1000<>\"\",IF(D1001<>\"\",D1001,D1000),\"\")","v":""},{"$f":"IF(N1000<>\"\",IF(E1001<>\"\",E1001,E1000),\"\")","v":""},{"$f":"IF(N1000<>\"\",IF(F1001<>\"\",F1001,F1000),\"\")","v":""}]
[]
[null,null,null,null,null,null,null,null,null,null,null,null,null,{"$f":"IF(A1002<>\"\",TEXT(A1002,\"\"),\"\")","v":""},{"$f":"IF(N1002=\"\",\"\",CONCATENATE(IF(C1002<>\"\",TEXT(C1002,\"\"),\"\"),\" - \",IF(K1002<>\"\",TEXT(K1002,\"\"),\"\")))","v":""},{"$f":"SUBSTITUTE(SUBSTITUTE(SUBSTITUTE(SUBSTITUTE(IF(L1002<>\"\",HLink(L1002),\"\"),\"htm\",\"html\"),\"1x2\",\"analysis\"),\"www\",\"data\"),\"com\",\"vip\")","v":""},{"$f":"IF(D1002<>\"\",D1002,\"\")","v":""},{"$f":"IF(E1002<>\"\",E1002,\"\")","v":""},{"$f":"IF(F1002<>\"\",F1002,\"\")","v":""},{"$f":"IF(N1002<>\"\",IF(D1003<>\"\",D1003,D1002),\"\")","v":""},{"$f":"IF(N1002<>\"\",IF(E1003<>\"\",E1003,E1002),\"\")","v":""},{"$f":"IF(N1002<>\"\",IF(F1003<>\"\",F1003,F1002),\"\")","v":""}]
[]
[null,null,null,null,null,null,null,null,null,null,null,null,null,{"$f":"IF(A1004<>\"\",TEXT(A1004,\"\"),\"\")","v":""},{"$f":"IF(N1004=\"\",\"\",CONCATENATE(IF(C1004<>\"\",TEXT(C1004,\"\"),\"\"),\" - \",IF(K1004<>\"\",TEXT(K1004,\"\"),\"\")))","v":""},{"$f":"SUBSTITUTE(SUBSTITUTE(SUBSTITUTE(SUBSTITUTE(IF(L1004<>\"\",HLink(L1004),\"\"),\"htm\",\"html\"),\"1x2\",\"analysis\"),\"www\",\"data\"),\"com\",\"vip\")","v":""},{"$f":"IF(D1004<>\"\",D1004,\"\")","v":""},{"$f":"IF(E1004<>\"\",E1004,\"\")","v":""},{"$f":"IF(F1004<>\"\",F1004,\"\")","v":""},{"$f":"IF(N1004<>\"\",IF(D1005<>\"\",D1005,D1004),\"\")","v":""},{"$f":"IF(N1004<>\"\",IF(E1005<>\"\",E1005,E1004),\"\")","v":""},{"$f":"IF(N1004<>\"\",IF(F1005<>\"\",F1005,F1004),\"\")","v":""}]
[]
[null,null,null,null,null,null,null,null,null,null,null,null,null,{"$f":"IF(A1006<>\"\",TEXT(A1006,\"\"),\"\")","v":""},{"$f":"IF(N1006=\"\",\"\",CONCATENATE(IF(C1006<>\"\",TEXT(C1006,\"\"),\"\"),\" - \",IF(K1006<>\"\",TEXT(K1006,\"\"),\"\")))","v":""},{"$f":"SUBSTITUTE(SUBSTITUTE(SUBSTITUTE(SUBSTITUTE(IF(L1006<>\"\",HLink(L1006),\"\"),\"htm\",\"html\"),\"1x2\",\"analysis\"),\"www\",\"data\"),\"com\",\"vip\")","v":""},{"$f":"IF(D1006<>\"\",D1006,\"\")","v":""},{"$f":"IF(E1006<>\"\",E1006,\"\")","v":""},{"$f":"IF(F1006<>\"\",F1006,\"\")","v":""},{"$f":"IF(N1006<>\"\",IF(D1007<>\"\",D1007,D1006),\"\")","v":""},{"$f":"IF(N1006<>\"\",IF(E1007<>\"\",E1007,E1006),\"\")","v":""},{"$f":"IF(N1006<>\"\",IF(F1007<>\"\",F1007,F1006),\"\")","v":""}]
[]
[null,null,null,null,null,null,null,null,null,null,null,null,null,{"$f":"IF(A1008<>\"\",TEXT(A1008,\"\"),\"\")","v":""},{"$f":"IF(N1008=\"\",\"\",CONCATENATE(IF(C1008<>\"\",TEXT(C1008,\"\"),\"\"),\" - \",IF(K1008<>\"\",TEXT(K1008,\"\"),\"\")))","v":""},{"$f":"SUBSTITUTE(SUBSTITUTE(SUBSTITUTE(SUBSTITUTE(IF(L1008<>\"\",HLink(L1008),\"\"),\"htm\",\"html\"),\"1x2\",\"analysis\"),\"www\",\"data\"),\"com\",\"vip\")","v":""},{"$f":"IF(D1008<>\"\",D1008,\"\")","v":""},{"$f":"IF(E1008<>\"\",E1008,\"\")","v":""},{"$f":"IF(F1008<>\"\",F1008,\"\")","v":""},{"$f":"IF(N1008<>\"\",IF(D1009<>\"\",D1009,D1008),\"\")","v":""},{"$f":"IF(N1008<>\"\",IF(E1009<>\"\",E1009,E1008),\"\")","v":""},{"$f":"IF(N1008<>\"\",IF(F1009<>\"\",F1009,F1008),\"\")","v":""}]
[]
[null,null,null,null,null,null,null,null,null,null,null,null,null,{"$f":"IF(A1010<>\"\",TEXT(A1010,\"\"),\"\")","v":""},{"$f":"IF(N1010=\"\",\"\",CONCATENATE(IF(C1010<>\"\",TEXT(C1010,\"\"),\"\"),\" - \",IF(K1010<>\"\",TEXT(K1010,\"\"),\"\")))","v":""},{"$f":"SUBSTITUTE(SUBSTITUTE(SUBSTITUTE(SUBSTITUTE(IF(L1010<>\"\",HLink(L1010),\"\"),\"htm\",\"html\"),\"1x2\",\"analysis\"),\"www\",\"data\"),\"com\",\"vip\")","v":""},{"$f":"IF(D1010<>\"\",D1010,\"\")","v":""},{"$f":"IF(E1010<>\"\",E1010,\"\")","v":""},{"$f":"IF(F1010<>\"\",F1010,\"\")","v":""},{"$f":"IF(N1010<>\"\",IF(D1011<>\"\",D1011,D1010),\"\")","v":""},{"$f":"IF(N1010<>\"\",IF(E1011<>\"\",E1011,E1010),\"\")","v":""},{"$f":"IF(N1010<>\"\",IF(F1011<>\"\",F1011,F1010),\"\")","v":""}]
[]
[null,null,null,null,null,null,null,null,null,null,null,null,null,{"$f":"IF(A1012<>\"\",TEXT(A1012,\"\"),\"\")","v":""},{"$f":"IF(N1012=\"\",\"\",CONCATENATE(IF(C1012<>\"\",TEXT(C1012,\"\"),\"\"),\" - \",IF(K1012<>\"\",TEXT(K1012,\"\"),\"\")))","v":""},{"$f":"SUBSTITUTE(SUBSTITUTE(SUBSTITUTE(SUBSTITUTE(IF(L1012<>\"\",HLink(L1012),\"\"),\"htm\",\"html\"),\"1x2\",\"analysis\"),\"www\",\"data\"),\"com\",\"vip\")","v":""},{"$f":"IF(D1012<>\"\",D1012,\"\")","v":""},{"$f":"IF(E1012<>\"\",E1012,\"\")","v":""},{"$f":"IF(F1012<>\"\",F1012,\"\")","v":""},{"$f":"IF(N1012<>\"\",IF(D1013<>\"\",D1013,D1012),\"\")","v":""},{"$f":"IF(N1012<>\"\",IF(E1013<>\"\",E1013,E1012),\"\")","v":""},{"$f":"IF(N1012<>\"\",IF(F1013<>\"\",F1013,F1012),\"\")","v":""}]
[]
[null,null,null,null,null,null,null,null,null,null,null,null,null,{"$f":"IF(A1014<>\"\",TEXT(A1014,\"\"),\"\")","v":""},{"$f":"IF(N1014=\"\",\"\",CONCATENATE(IF(C1014<>\"\",TEXT(C1014,\"\"),\"\"),\" - \",IF(K1014<>\"\",TEXT(K1014,\"\"),\"\")))","v":""},{"$f":"SUBSTITUTE(SUBSTITUTE(SUBSTITUTE(SUBSTITUTE(IF(L1014<>\"\",HLink(L1014),\"\"),\"htm\",\"html\"),\"1x2\",\"analysis\"),\"www\",\"data\"),\"com\",\"vip\")","v":""},{"$f":"IF(D1014<>\"\",D1014,\"\")","v":""},{"$f":"IF(E1014<>\"\",E1014,\"\")","v":""},{"$f":"IF(F1014<>\"\",F1014,\"\")","v":""},{"$f":"IF(N1014<>\"\",IF(D1015<>\"\",D1015,D1014),\"\")","v":""},{"$f":"IF(N1014<>\"\",IF(E1015<>\"\",E1015,E1014),\"\")","v":""},{"$f":"IF(N1014<>\"\",IF(F1015<>\"\",F1015,F1014),\"\")","v":""}]
[]
[null,null,null,null,null,null,null,null,null,null,null,null,null,{"$f":"IF(A1016<>\"\",TEXT(A1016,\"\"),\"\")","v":""},{"$f":"IF(N1016=\"\",\"\",CONCATENATE(IF(C1016<>\"\",TEXT(C1016,\"\"),\"\"),\" - \",IF(K1016<>\"\",TEXT(K1016,\"\"),\"\")))","v":""},{"$f":"SUBSTITUTE(SUBSTITUTE(SUBSTITUTE(SUBSTITUTE(IF(L1016<>\"\",HLink(L1016),\"\"),\"htm\",\"html\"),\"1x2\",\"analysis\"),\"www\",\"data\"),\"com\",\"vip\")","v":""},{"$f":"IF(D1016<>\"\",D1016,\"\")","v":""},{"$f":"IF(E1016<>\"\",E1016,\"\")","v":""},{"$f":"IF(F1016<>\"\",F1016,\"\")","v":""},{"$f":"IF(N1016<>\"\",IF(D1017<>\"\",D1017,D1016),\"\")","v":""},{"$f":"IF(N1016<>\"\",IF(E1017<>\"\",E1017,E1016),\"\")","v":""},{"$f":"IF(N1016<>\"\",IF(F1017<>\"\",F1017,F1016),\"\")","v":""}]
[]
[null,null,null,null,null,null,null,null,null,null,null,null,null,{"$f":"IF(A1018<>\"\",TEXT(A1018,\"\"),\"\")","v":""},{"$f":"IF(N1018=\"\",\"\",CONCATENATE(IF(C1018<>\"\",TEXT(C1018,\"\"),\"\"),\" - \",IF(K1018<>\"\",TEXT(K1018,\"\"),\"\")))","v":""},{"$f":"SUBSTITUTE(SUBSTITUTE(SUBSTITUTE(SUBSTITUTE(IF(L1018<>\"\",HLink(L1018),\"\"),\"htm\",\"html\"),\"1x2\",\"analysis\"),\"www\",\"data\"),\"com\",\"vip\")","v":""},{"$f":"IF(D1018<>\"\",D1018,\"\")","v":""},{"$f":"IF(E1018<>\"\",E1018,\"\")","v":""},{"$f":"IF(F1018<>\"\",F1018,\"\")","v":""},{"$f":"IF(N1018<>\"\",IF(D1019<>\"\",D1019,D1018),\"\")","v":""},{"$f":"IF(N1018<>\"\",IF(E1019<>\"\",E1019,E1018),\"\")","v":""},{"$f":"IF(N1018<>\"\",IF(F1019<>\"\",F1019,F1018),\"\")","v":""}]
[]
[null,null,null,null,null,null,null,null,null,null,null,null,null,{"$f":"IF(A1020<>\"\",TEXT(A1020,\"\"),\"\")","v":""},{"$f":"IF(N1020=\"\",\"\",CONCATENATE(IF(C1020<>\"\",TEXT(C1020,\"\"),\"\"),\" - \",IF(K1020<>\"\",TEXT(K1020,\"\"),\"\")))","v":""},{"$f":"SUBSTITUTE(SUBSTITUTE(SUBSTITUTE(SUBSTITUTE(IF(L1020<>\"\",HLink(L1020),\"\"),\"htm\",\"html\"),\"1x2\",\"analysis\"),\"www\",\"data\"),\"com\",\"vip\")","v":""},{"$f":"IF(D1020<>\"\",D1020,\"\")","v":""},{"$f":"IF(E1020<>\"\",E1020,\"\")","v":""},{"$f":"IF(F1020<>\"\",F1020,\"\")","v":""},{"$f":"IF(N1020<>\"\",IF(D1021<>\"\",D1021,D1020),\"\")","v":""},{"$f":"IF(N1020<>\"\",IF(E1021<>\"\",E1021,E1020),\"\")","v":""},{"$f":"IF(N1020<>\"\",IF(F1021<>\"\",F1021,F1020),\"\")","v":""}]
[]
[null,null,null,null,null,null,null,null,null,null,null,null,null,{"$f":"IF(A1022<>\"\",TEXT(A1022,\"\"),\"\")","v":""},{"$f":"IF(N1022=\"\",\"\",CONCATENATE(IF(C1022<>\"\",TEXT(C1022,\"\"),\"\"),\" - \",IF(K1022<>\"\",TEXT(K1022,\"\"),\"\")))","v":""},{"$f":"SUBSTITUTE(SUBSTITUTE(SUBSTITUTE(SUBSTITUTE(IF(L1022<>\"\",HLink(L1022),\"\"),\"htm\",\"html\"),\"1x2\",\"analysis\"),\"www\",\"data\"),\"com\",\"vip\")","v":""},{"$f":"IF(D1022<>\"\",D1022,\"\")","v":""},{"$f":"IF(E1022<>\"\",E1022,\"\")","v":""},{"$f":"IF(F1022<>\"\",F1022,\"\")","v":""},{"$f":"IF(N1022<>\"\",IF(D1023<>\"\",D1023,D1022),\"\")","v":""},{"$f":"IF(N1022<>\"\",IF(E1023<>\"\",E1023,E1022),\"\")","v":""},{"$f":"IF(N1022<>\"\",IF(F1023<>\"\",F1023,F1022),\"\")","v":""}]
[]
[null,null,null,null,null,null,null,null,null,null,null,null,null,{"$f":"IF(A1024<>\"\",TEXT(A1024,\"\"),\"\")","v":""},{"$f":"IF(N1024=\"\",\"\",CONCATENATE(IF(C1024<>\"\",TEXT(C1024,\"\"),\"\"),\" - \",IF(K1024<>\"\",TEXT(K1024,\"\"),\"\")))","v":""},{"$f":"SUBSTITUTE(SUBSTITUTE(SUBSTITUTE(SUBSTITUTE(IF(L1024<>\"\",HLink(L1024),\"\"),\"htm\",\"html\"),\"1x2\",\"analysis\"),\"www\",\"data\"),\"com\",\"vip\")","v":""},{"$f":"IF(D1024<>\"\",D1024,\"\")","v":""},{"$f":"IF(E1024<>\"\",E1024,\"\")","v":""},{"$f":"IF(F1024<>\"\",F1024,\"\")","v":""},{"$f":"IF(N1024<>\"\",IF(D1025<>\"\",D1025,D1024),\"\")","v":""},{"$f":"IF(N1024<>\"\",IF(E1025<>\"\",E1025,E1024),\"\")","v":""},{"$f":"IF(N1024<>\"\",IF(F1025<>\"\",F1025,F1024),\"\")","v":""}]
[]
[null,null,null,null,null,null,null,null,null,null,null,null,null,{"$f":"IF(A1026<>\"\",TEXT(A1026,\"\"),\"\")","v":""},{"$f":"IF(N1026=\"\",\"\",CONCATENATE(IF(C1026<>\"\",TEXT(C1026,\"\"),\"\"),\" - \",IF(K1026<>\"\",TEXT(K1026,\"\"),\"\")))","v":""},{"$f":"SUBSTITUTE(SUBSTITUTE(SUBSTITUTE(SUBSTITUTE(IF(L1026<>\"\",HLink(L1026),\"\"),\"htm\",\"html\"),\"1x2\",\"analysis\"),\"www\",\"data\"),\"com\",\"vip\")","v":""},{"$f":"IF(D1026<>\"\",D1026,\"\")","v":""},{"$f":"IF(E1026<>\"\",E1026,\"\")","v":""},{"$f":"IF(F1026<>\"\",F1026,\"\")","v":""},{"$f":"IF(N1026<>\"\",IF(D1027<>\"\",D1027,D1026),\"\")","v":""},{"$f":"IF(N1026<>\"\",IF(E1027<>\"\",E1027,E1026),\"\")","v":""},{"$f":"IF(N1026<>\"\",IF(F1027<>\"\",F1027,F1026),\"\")","v":""}]
[]
[null,null,null,null,null,null,null,null,null,null,null,null,null,{"$f":"IF(A1028<>\"\",TEXT(A1028,\"\"),\"\")","v":""},{"$f":"IF(N1028=\"\",\"\",CONCATENATE(IF(C1028<>\"\",TEXT(C1028,\"\"),\"\"),\" - \",IF(K1028<>\"\",TEXT(K1028,\"\"),\"\")))","v":""},{"$f":"SUBSTITUTE(SUBSTITUTE(SUBSTITUTE(SUBSTITUTE(IF(L1028<>\"\",HLink(L1028),\"\"),\"htm\",\"html\"),\"1x2\",\"analysis\"),\"www\",\"data\"),\"com\",\"vip\")","v":""},{"$f":"IF(D1028<>\"\",D1028,\"\")","v":""},{"$f":"IF(E1028<>\"\",E1028,\"\")","v":""},{"$f":"IF(F1028<>\"\",F1028,\"\")","v":""},{"$f":"IF(N1028<>\"\",IF(D1029<>\"\",D1029,D1028),\"\")","v":""},{"$f":"IF(N1028<>\"\",IF(E1029<>\"\",E1029,E1028),\"\")","v":""},{"$f":"IF(N1028<>\"\",IF(F1029<>\"\",F1029,F1028),\"\")","v":""}]
[]
[null,null,null,null,null,null,null,null,null,null,null,null,null,{"$f":"IF(A1030<>\"\",TEXT(A1030,\"\"),\"\")","v":""},{"$f":"IF(N1030=\"\",\"\",CONCATENATE(IF(C1030<>\"\",TEXT(C1030,\"\"),\"\"),\" - \",IF(K1030<>\"\",TEXT(K1030,\"\"),\"\")))","v":""},{"$f":"SUBSTITUTE(SUBSTITUTE(SUBSTITUTE(SUBSTITUTE(IF(L1030<>\"\",HLink(L1030),\"\"),\"htm\",\"html\"),\"1x2\",\"analysis\"),\"www\",\"data\"),\"com\",\"vip\")","v":""},{"$f":"IF(D1030<>\"\",D1030,\"\")","v":""},{"$f":"IF(E1030<>\"\",E1030,\"\")","v":""},{"$f":"IF(F1030<>\"\",F1030,\"\")","v":""},{"$f":"IF(N1030<>\"\",IF(D1031<>\"\",D1031,D1030),\"\")","v":""},{"$f":"IF(N1030<>\"\",IF(E1031<>\"\",E1031,E1030),\"\")","v":""},{"$f":"IF(N1030<>\"\",IF(F1031<>\"\",F1031,F1030),\"\")","v":""}]
[]
[null,null,null,null,null,null,null,null,null,null,null,null,null,{"$f":"IF(A1032<>\"\",TEXT(A1032,\"\"),\"\")","v":""},{"$f":"IF(N1032=\"\",\"\",CONCATENATE(IF(C1032<>\"\",TEXT(C1032,\"\"),\"\"),\" - \",IF(K1032<>\"\",TEXT(K1032,\"\"),\"\")))","v":""},{"$f":"SUBSTITUTE(SUBSTITUTE(SUBSTITUTE(SUBSTITUTE(IF(L1032<>\"\",HLink(L1032),\"\"),\"htm\",\"html\"),\"1x2\",\"analysis\"),\"www\",\"data\"),\"com\",\"vip\")","v":""},{"$f":"IF(D1032<>\"\",D1032,\"\")","v":""},{"$f":"IF(E1032<>\"\",E1032,\"\")","v":""},{"$f":"IF(F1032<>\"\",F1032,\"\")","v":""},{"$f":"IF(N1032<>\"\",IF(D1033<>\"\",D1033,D1032),\"\")","v":""},{"$f":"IF(N1032<>\"\",IF(E1033<>\"\",E1033,E1032),\"\")","v":""},{"$f":"IF(N1032<>\"\",IF(F1033<>\"\",F1033,F1032),\"\")","v":""}]
[]
[null,null,null,null,null,null,null,null,null,null,null,null,null,{"$f":"IF(A1034<>\"\",TEXT(A1034,\"\"),\"\")","v":""},{"$f":"IF(N1034=\"\",\"\",CONCATENATE(IF(C1034<>\"\",TEXT(C1034,\"\"),\"\"),\" - \",IF(K1034<>\"\",TEXT(K1034,\"\"),\"\")))","v":""},{"$f":"SUBSTITUTE(SUBSTITUTE(SUBSTITUTE(SUBSTITUTE(IF(L1034<>\"\",HLink(L1034),\"\"),\"htm\",\"html\"),\"1x2\",\"analysis\"),\"www\",\"data\"),\"com\",\"vip\")","v":""},{"$f":"IF(D1034<>\"\",D1034,\"\")","v":""},{"$f":"IF(E1034<>\"\",E1034,\"\")","v":""},{"$f":"IF(F1034<>\"\",F1034,\"\")","v":""},{"$f":"IF(N1034<>\"\",IF(D1035<>\"\",D1035,D1034),\"\")","v":""},{"$f":"IF(N1034<>\"\",IF(E1035<>\"\",E1035,E1034),\"\")","v":""},{"$f":"IF(N1034<>\"\",IF(F1035<>\"\",F1035,F1034),\"\")","v":""}]
[]
[null,null,null,null,null,null,null,null,null,null,null,null,null,{"$f":"IF(A1036<>\"\",TEXT(A1036,\"\"),\"\")","v":""},{"$f":"IF(N1036=\"\",\"\",CONCATENATE(IF(C1036<>\"\",TEXT(C1036,\"\"),\"\"),\" - \",IF(K1036<>\"\",TEXT(K1036,\"\"),\"\")))","v":""},{"$f":"SUBSTITUTE(SUBSTITUTE(SUBSTITUTE(SUBSTITUTE(IF(L1036<>\"\",HLink(L1036),\"\"),\"htm\",\"html\"),\"1x2\",\"analysis\"),\"www\",\"data\"),\"com\",\"vip\")","v":""},{"$f":"IF(D1036<>\"\",D1036,\"\")","v":""},{"$f":"IF(E1036<>\"\",E1036,\"\")","v":""},{"$f":"IF(F1036<>\"\",F1036,\"\")","v":""},{"$f":"IF(N1036<>\"\",IF(D1037<>\"\",D1037,D1036),\"\")","v":""},{"$f":"IF(N1036<>\"\",IF(E1037<>\"\",E1037,E1036),\"\")","v":""},{"$f":"IF(N1036<>\"\",IF(F1037<>\"\",F1037,F1036),\"\")","v":""}]
[]
[null,null,null,null,null,null,null,null,null,null,null,null,null,{"$f":"IF(A1038<>\"\",TEXT(A1038,\"\"),\"\")","v":""},{"$f":"IF(N1038=\"\",\"\",CONCATENATE(IF(C1038<>\"\",TEXT(C1038,\"\"),\"\"),\" - \",IF(K1038<>\"\",TEXT(K1038,\"\"),\"\")))","v":""},{"$f":"SUBSTITUTE(SUBSTITUTE(SUBSTITUTE(SUBSTITUTE(IF(L1038<>\"\",HLink(L1038),\"\"),\"htm\",\"html\"),\"1x2\",\"analysis\"),\"www\",\"data\"),\"com\",\"vip\")","v":""},{"$f":"IF(D1038<>\"\",D1038,\"\")","v":""},{"$f":"IF(E1038<>\"\",E1038,\"\")","v":""},{"$f":"IF(F1038<>\"\",F1038,\"\")","v":""},{"$f":"IF(N1038<>\"\",IF(D1039<>\"\",D1039,D1038),\"\")","v":""},{"$f":"IF(N1038<>\"\",IF(E1039<>\"\",E1039,E1038),\"\")","v":""},{"$f":"IF(N1038<>\"\",IF(F1039<>\"\",F1039,F1038),\"\")","v":""}]
[]
[null,null,null,null,null,null,null,null,null,null,null,null,null,{"$f":"IF(A1040<>\"\",TEXT(A1040,\"\"),\"\")","v":""},{"$f":"IF(N1040=\"\",\"\",CONCATENATE(IF(C1040<>\"\",TEXT(C1040,\"\"),\"\"),\" - \",IF(K1040<>\"\",TEXT(K1040,\"\"),\"\")))","v":""},{"$f":"SUBSTITUTE(SUBSTITUTE(SUBSTITUTE(SUBSTITUTE(IF(L1040<>\"\",HLink(L1040),\"\"),\"htm\",\"html\"),\"1x2\",\"analysis\"),\"www\",\"data\"),\"com\",\"vip\")","v":""},{"$f":"IF(D1040<>\"\",D1040,\"\")","v":""},{"$f":"IF(E1040<>\"\",E1040,\"\")","v":""},{"$f":"IF(F1040<>\"\",F1040,\"\")","v":""},{"$f":"IF(N1040<>\"\",IF(D1041<>\"\",D1041,D1040),\"\")","v":""},{"$f":"IF(N1040<>\"\",IF(E1041<>\"\",E1041,E1040),\"\")","v":""},{"$f":"IF(N1040<>\"\",IF(F1041<>\"\",F1041,F1040),\"\")","v":""}]
[]
[null,null,null,null,null,null,null,null,null,null,null,null,null,{"$f":"IF(A1042<>\"\",TEXT(A1042,\"\"),\"\")","v":""},{"$f":"IF(N1042=\"\",\"\",CONCATENATE(IF(C1042<>\"\",TEXT(C1042,\"\"),\"\"),\" - \",IF(K1042<>\"\",TEXT(K1042,\"\"),\"\")))","v":""},{"$f":"SUBSTITUTE(SUBSTITUTE(SUBSTITUTE(SUBSTITUTE(IF(L1042<>\"\",HLink(L1042),\"\"),\"htm\",\"html\"),\"1x2\",\"analysis\"),\"www\",\"data\"),\"com\",\"vip\")","v":""},{"$f":"IF(D1042<>\"\",D1042,\"\")","v":""},{"$f":"IF(E1042<>\"\",E1042,\"\")","v":""},{"$f":"IF(F1042<>\"\",F1042,\"\")","v":""},{"$f":"IF(N1042<>\"\",IF(D1043<>\"\",D1043,D1042),\"\")","v":""},{"$f":"IF(N1042<>\"\",IF(E1043<>\"\",E1043,E1042),\"\")","v":""},{"$f":"IF(N1042<>\"\",IF(F1043<>\"\",F1043,F1042),\"\")","v":""}]
[]
[null,null,null,null,null,null,null,null,null,null,null,null,null,{"$f":"IF(A1044<>\"\",TEXT(A1044,\"\"),\"\")","v":""},{"$f":"IF(N1044=\"\",\"\",CONCATENATE(IF(C1044<>\"\",TEXT(C1044,\"\"),\"\"),\" - \",IF(K1044<>\"\",TEXT(K1044,\"\"),\"\")))","v":""},{"$f":"SUBSTITUTE(SUBSTITUTE(SUBSTITUTE(SUBSTITUTE(IF(L1044<>\"\",HLink(L1044),\"\"),\"htm\",\"html\"),\"1x2\",\"analysis\"),\"www\",\"data\"),\"com\",\"vip\")","v":""},{"$f":"IF(D1044<>\"\",D1044,\"\")","v":""},{"$f":"IF(E1044<>\"\",E1044,\"\")","v":""},{"$f":"IF(F1044<>\"\",F1044,\"\")","v":""},{"$f":"IF(N1044<>\"\",IF(D1045<>\"\",D1045,D1044),\"\")","v":""},{"$f":"IF(N1044<>\"\",IF(E1045<>\"\",E1045,E1044),\"\")","v":""},{"$f":"IF(N1044<>\"\",IF(F1045<>\"\",F1045,F1044),\"\")","v":""}]
[]
[null,null,null,null,null,null,null,null,null,null,null,null,null,{"$f":"IF(A1046<>\"\",TEXT(A1046,\"\"),\"\")","v":""},{"$f":"IF(N1046=\"\",\"\",CONCATENATE(IF(C1046<>\"\",TEXT(C1046,\"\"),\"\"),\" - \",IF(K1046<>\"\",TEXT(K1046,\"\"),\"\")))","v":""},{"$f":"SUBSTITUTE(SUBSTITUTE(SUBSTITUTE(SUBSTITUTE(IF(L1046<>\"\",HLink(L1046),\"\"),\"htm\",\"html\"),\"1x2\",\"analysis\"),\"www\",\"data\"),\"com\",\"vip\")","v":""},{"$f":"IF(D1046<>\"\",D1046,\"\")","v":""},{"$f":"IF(E1046<>\"\",E1046,\"\")","v":""},{"$f":"IF(F1046<>\"\",F1046,\"\")","v":""},{"$f":"IF(N1046<>\"\",IF(D1047<>\"\",D1047,D1046),\"\")","v":""},{"$f":"IF(N1046<>\"\",IF(E1047<>\"\",E1047,E1046),\"\")","v":""},{"$f":"IF(N1046<>\"\",IF(F1047<>\"\",F1047,F1046),\"\")","v":""}]
[]
[null,null,null,null,null,null,null,null,null,null,null,null,null,{"$f":"IF(A1048<>\"\",TEXT(A1048,\"\"),\"\")","v":""},{"$f":"IF(N1048=\"\",\"\",CONCATENATE(IF(C1048<>\"\",TEXT(C1048,\"\"),\"\"),\" - \",IF(K1048<>\"\",TEXT(K1048,\"\"),\"\")))","v":""},{"$f":"SUBSTITUTE(SUBSTITUTE(SUBSTITUTE(SUBSTITUTE(IF(L1048<>\"\",HLink(L1048),\"\"),\"htm\",\"html\"),\"1x2\",\"analysis\"),\"www\",\"data\"),\"com\",\"vip\")","v":""},{"$f":"IF(D1048<>\"\",D1048,\"\")","v":""},{"$f":"IF(E1048<>\"\",E1048,\"\")","v":""},{"$f":"IF(F1048<>\"\",F1048,\"\")","v":""},{"$f":"IF(N1048<>\"\",IF(D1049<>\"\",D1049,D1048),\"\")","v":""},{"$f":"IF(N1048<>\"\",IF(E1049<>\"\",E1049,E1048),\"\")","v":""},{"$f":"IF(N1048<>\"\",IF(F1049<>\"\",F1049,F1048),\"\")","v":""}]
[]
[null,null,null,null,null,null,null,null,null,null,null,null,null,{"$f":"IF(A1050<>\"\",TEXT(A1050,\"\"),\"\")","v":""},{"$f":"IF(N1050=\"\",\"\",CONCATENATE(IF(C1050<>\"\",TEXT(C1050,\"\"),\"\"),\" - \",IF(K1050<>\"\",TEXT(K1050,\"\"),\"\")))","v":""},{"$f":"SUBSTITUTE(SUBSTITUTE(SUBSTITUTE(SUBSTITUTE(IF(L1050<>\"\",HLink(L1050),\"\"),\"htm\",\"html\"),\"1x2\",\"analysis\"),\"www\",\"data\"),\"com\",\"vip\")","v":""},{"$f":"IF(D1050<>\"\",D1050,\"\")","v":""},{"$f":"IF(E1050<>\"\",E1050,\"\")","v":""},{"$f":"IF(F1050<>\"\",F1050,\"\")","v":""},{"$f":"IF(N1050<>\"\",IF(D1051<>\"\",D1051,D1050),\"\")","v":""},{"$f":"IF(N1050<>\"\",IF(E1051<>\"\",E1051,E1050),\"\")","v":""},{"$f":"IF(N1050<>\"\",IF(F1051<>\"\",F1051,F1050),\"\")","v":""}]
[]
[null,null,null,null,null,null,null,null,null,null,null,null,null,{"$f":"IF(A1052<>\"\",TEXT(A1052,\"\"),\"\")","v":""},{"$f":"IF(N1052=\"\",\"\",CONCATENATE(IF(C1052<>\"\",TEXT(C1052,\"\"),\"\"),\" - \",IF(K1052<>\"\",TEXT(K1052,\"\"),\"\")))","v":""},{"$f":"SUBSTITUTE(SUBSTITUTE(SUBSTITUTE(SUBSTITUTE(IF(L1052<>\"\",HLink(L1052),\"\"),\"htm\",\"html\"),\"1x2\",\"analysis\"),\"www\",\"data\"),\"com\",\"vip\")","v":""},{"$f":"IF(D1052<>\"\",D1052,\"\")","v":""},{"$f":"IF(E1052<>\"\",E1052,\"\")","v":""},{"$f":"IF(F1052<>\"\",F1052,\"\")","v":""},{"$f":"IF(N1052<>\"\",IF(D1053<>\"\",D1053,D1052),\"\")","v":""},{"$f":"IF(N1052<>\"\",IF(E1053<>\"\",E1053,E1052),\"\")","v":""},{"$f":"IF(N1052<>\"\",IF(F1053<>\"\",F1053,F1052),\"\")","v":""}]
[]
[null,null,null,null,null,null,null,null,null,null,null,null,null,{"$f":"IF(A1054<>\"\",TEXT(A1054,\"\"),\"\")","v":""},{"$f":"IF(N1054=\"\",\"\",CONCATENATE(IF(C1054<>\"\",TEXT(C1054,\"\"),\"\"),\" - \",IF(K1054<>\"\",TEXT(K1054,\"\"),\"\")))","v":""},{"$f":"SUBSTITUTE(SUBSTITUTE(SUBSTITUTE(SUBSTITUTE(IF(L1054<>\"\",HLink(L1054),\"\"),\"htm\",\"html\"),\"1x2\",\"analysis\"),\"www\",\"data\"),\"com\",\"vip\")","v":""},{"$f":"IF(D1054<>\"\",D1054,\"\")","v":""},{"$f":"IF(E1054<>\"\",E1054,\"\")","v":""},{"$f":"IF(F1054<>\"\",F1054,\"\")","v":""},{"$f":"IF(N1054<>\"\",IF(D1055<>\"\",D1055,D1054),\"\")","v":""},{"$f":"IF(N1054<>\"\",IF(E1055<>\"\",E1055,E1054),\"\")","v":""},{"$f":"IF(N1054<>\"\",IF(F1055<>\"\",F1055,F1054),\"\")","v":""}]
[]
[null,null,null,null,null,null,null,null,null,null,null,null,null,{"$f":"IF(A1056<>\"\",TEXT(A1056,\"\"),\"\")","v":""},{"$f":"IF(N1056=\"\",\"\",CONCATENATE(IF(C1056<>\"\",TEXT(C1056,\"\"),\"\"),\" - \",IF(K1056<>\"\",TEXT(K1056,\"\"),\"\")))","v":""},{"$f":"SUBSTITUTE(SUBSTITUTE(SUBSTITUTE(SUBSTITUTE(IF(L1056<>\"\",HLink(L1056),\"\"),\"htm\",\"html\"),\"1x2\",\"analysis\"),\"www\",\"data\"),\"com\",\"vip\")","v":""},{"$f":"IF(D1056<>\"\",D1056,\"\")","v":""},{"$f":"IF(E1056<>\"\",E1056,\"\")","v":""},{"$f":"IF(F1056<>\"\",F1056,\"\")","v":""},{"$f":"IF(N1056<>\"\",IF(D1057<>\"\",D1057,D1056),\"\")","v":""},{"$f":"IF(N1056<>\"\",IF(E1057<>\"\",E1057,E1056),\"\")","v":""},{"$f":"IF(N1056<>\"\",IF(F1057<>\"\",F1057,F1056),\"\")","v":""}]
[]
[null,null,null,null,null,null,null,null,null,null,null,null,null,{"$f":"IF(A1058<>\"\",TEXT(A1058,\"\"),\"\")","v":""},{"$f":"IF(N1058=\"\",\"\",CONCATENATE(IF(C1058<>\"\",TEXT(C1058,\"\"),\"\"),\" - \",IF(K1058<>\"\",TEXT(K1058,\"\"),\"\")))","v":""},{"$f":"SUBSTITUTE(SUBSTITUTE(SUBSTITUTE(SUBSTITUTE(IF(L1058<>\"\",HLink(L1058),\"\"),\"htm\",\"html\"),\"1x2\",\"analysis\"),\"www\",\"data\"),\"com\",\"vip\")","v":""},{"$f":"IF(D1058<>\"\",D1058,\"\")","v":""},{"$f":"IF(E1058<>\"\",E1058,\"\")","v":""},{"$f":"IF(F1058<>\"\",F1058,\"\")","v":""},{"$f":"IF(N1058<>\"\",IF(D1059<>\"\",D1059,D1058),\"\")","v":""},{"$f":"IF(N1058<>\"\",IF(E1059<>\"\",E1059,E1058),\"\")","v":""},{"$f":"IF(N1058<>\"\",IF(F1059<>\"\",F1059,F1058),\"\")","v":""}]
[]
[null,null,null,null,null,null,null,null,null,null,null,null,null,{"$f":"IF(A1060<>\"\",TEXT(A1060,\"\"),\"\")","v":""},{"$f":"IF(N1060=\"\",\"\",CONCATENATE(IF(C1060<>\"\",TEXT(C1060,\"\"),\"\"),\" - \",IF(K1060<>\"\",TEXT(K1060,\"\"),\"\")))","v":""},{"$f":"SUBSTITUTE(SUBSTITUTE(SUBSTITUTE(SUBSTITUTE(IF(L1060<>\"\",HLink(L1060),\"\"),\"htm\",\"html\"),\"1x2\",\"analysis\"),\"www\",\"data\"),\"com\",\"vip\")","v":""},{"$f":"IF(D1060<>\"\",D1060,\"\")","v":""},{"$f":"IF(E1060<>\"\",E1060,\"\")","v":""},{"$f":"IF(F1060<>\"\",F1060,\"\")","v":""},{"$f":"IF(N1060<>\"\",IF(D1061<>\"\",D1061,D1060),\"\")","v":""},{"$f":"IF(N1060<>\"\",IF(E1061<>\"\",E1061,E1060),\"\")","v":""},{"$f":"IF(N1060<>\"\",IF(F1061<>\"\",F1061,F1060),\"\")","v":""}]
[]
[null,null,null,null,null,null,null,null,null,null,null,null,null,{"$f":"IF(A1062<>\"\",TEXT(A1062,\"\"),\"\")","v":""},{"$f":"IF(N1062=\"\",\"\",CONCATENATE(IF(C1062<>\"\",TEXT(C1062,\"\"),\"\"),\" - \",IF(K1062<>\"\",TEXT(K1062,\"\"),\"\")))","v":""},{"$f":"SUBSTITUTE(SUBSTITUTE(SUBSTITUTE(SUBSTITUTE(IF(L1062<>\"\",HLink(L1062),\"\"),\"htm\",\"html\"),\"1x2\",\"analysis\"),\"www\",\"data\"),\"com\",\"vip\")","v":""},{"$f":"IF(D1062<>\"\",D1062,\"\")","v":""},{"$f":"IF(E1062<>\"\",E1062,\"\")","v":""},{"$f":"IF(F1062<>\"\",F1062,\"\")","v":""},{"$f":"IF(N1062<>\"\",IF(D1063<>\"\",D1063,D1062),\"\")","v":""},{"$f":"IF(N1062<>\"\",IF(E1063<>\"\",E1063,E1062),\"\")","v":""},{"$f":"IF(N1062<>\"\",IF(F1063<>\"\",F1063,F1062),\"\")","v":""}]
[]
[null,null,null,null,null,null,null,null,null,null,null,null,null,{"$f":"IF(A1064<>\"\",TEXT(A1064,\"\"),\"\")","v":""},{"$f":"IF(N1064=\"\",\"\",CONCATENATE(IF(C1064<>\"\",TEXT(C1064,\"\"),\"\"),\" - \",IF(K1064<>\"\",TEXT(K1064,\"\"),\"\")))","v":""},{"$f":"SUBSTITUTE(SUBSTITUTE(SUBSTITUTE(SUBSTITUTE(IF(L1064<>\"\",HLink(L1064),\"\"),\"htm\",\"html\"),\"1x2\",\"analysis\"),\"www\",\"data\"),\"com\",\"vip\")","v":""},{"$f":"IF(D1064<>\"\",D1064,\"\")","v":""},{"$f":"IF(E1064<>\"\",E1064,\"\")","v":""},{"$f":"IF(F1064<>\"\",F1064,\"\")","v":""},{"$f":"IF(N1064<>\"\",IF(D1065<>\"\",D1065,D1064),\"\")","v":""},{"$f":"IF(N1064<>\"\",IF(E1065<>\"\",E1065,E1064),\"\")","v":""},{"$f":"IF(N1064<>\"\",IF(F1065<>\"\",F1065,F1064),\"\")","v":""}]
[]
[null,null,null,null,null,null,null,null,null,null,null,null,null,{"$f":"IF(A1066<>\"\",TEXT(A1066,\"\"),\"\")","v":""},{"$f":"IF(N1066=\"\",\"\",CONCATENATE(IF(C1066<>\"\",TEXT(C1066,\"\"),\"\"),\" - \",IF(K1066<>\"\",TEXT(K1066,\"\"),\"\")))","v":""},{"$f":"SUBSTITUTE(SUBSTITUTE(SUBSTITUTE(SUBSTITUTE(IF(L1066<>\"\",HLink(L1066),\"\"),\"htm\",\"html\"),\"1x2\",\"analysis\"),\"www\",\"data\"),\"com\",\"vip\")","v":""},{"$f":"IF(D1066<>\"\",D1066,\"\")","v":""},{"$f":"IF(E1066<>\"\",E1066,\"\")","v":""},{"$f":"IF(F1066<>\"\",F1066,\"\")","v":""},{"$f":"IF(N1066<>\"\",IF(D1067<>\"\",D1067,D1066),\"\")","v":""},{"$f":"IF(N1066<>\"\",IF(E1067<>\"\",E1067,E1066),\"\")","v":""},{"$f":"IF(N1066<>\"\",IF(F1067<>\"\",F1067,F1066),\"\")","v":""}]
[]
[null,null,null,null,null,null,null,null,null,null,null,null,null,{"$f":"IF(A1068<>\"\",TEXT(A1068,\"\"),\"\")","v":""},{"$f":"IF(N1068=\"\",\"\",CONCATENATE(IF(C1068<>\"\",TEXT(C1068,\"\"),\"\"),\" - \",IF(K1068<>\"\",TEXT(K1068,\"\"),\"\")))","v":""},{"$f":"SUBSTITUTE(SUBSTITUTE(SUBSTITUTE(SUBSTITUTE(IF(L1068<>\"\",HLink(L1068),\"\"),\"htm\",\"html\"),\"1x2\",\"analysis\"),\"www\",\"data\"),\"com\",\"vip\")","v":""},{"$f":"IF(D1068<>\"\",D1068,\"\")","v":""},{"$f":"IF(E1068<>\"\",E1068,\"\")","v":""},{"$f":"IF(F1068<>\"\",F1068,\"\")","v":""},{"$f":"IF(N1068<>\"\",IF(D1069<>\"\",D1069,D1068),\"\")","v":""},{"$f":"IF(N1068<>\"\",IF(E1069<>\"\",E1069,E1068),\"\")","v":""},{"$f":"IF(N1068<>\"\",IF(F1069<>\"\",F1069,F1068),\"\")","v":""}]
[]
[null,null,null,null,null,null,null,null,null,null,null,null,null,{"$f":"IF(A1070<>\"\",TEXT(A1070,\"\"),\"\")","v":""},{"$f":"IF(N1070=\"\",\"\",CONCATENATE(IF(C1070<>\"\",TEXT(C1070,\"\"),\"\"),\" - \",IF(K1070<>\"\",TEXT(K1070,\"\"),\"\")))","v":""},{"$f":"SUBSTITUTE(SUBSTITUTE(SUBSTITUTE(SUBSTITUTE(IF(L1070<>\"\",HLink(L1070),\"\"),\"htm\",\"html\"),\"1x2\",\"analysis\"),\"www\",\"data\"),\"com\",\"vip\")","v":""},{"$f":"IF(D1070<>\"\",D1070,\"\")","v":""},{"$f":"IF(E1070<>\"\",E1070,\"\")","v":""},{"$f":"IF(F1070<>\"\",F1070,\"\")","v":""},{"$f":"IF(N1070<>\"\",IF(D1071<>\"\",D1071,D1070),\"\")","v":""},{"$f":"IF(N1070<>\"\",IF(E1071<>\"\",E1071,E1070),\"\")","v":""},{"$f":"IF(N1070<>\"\",IF(F1071<>\"\",F1071,F1070),\"\")","v":""}]
[]
[null,null,null,null,null,null,null,null,null,null,null,null,null,{"$f":"IF(A1072<>\"\",TEXT(A1072,\"\"),\"\")","v":""},{"$f":"IF(N1072=\"\",\"\",CONCATENATE(IF(C1072<>\"\",TEXT(C1072,\"\"),\"\"),\" - \",IF(K1072<>\"\",TEXT(K1072,\"\"),\"\")))","v":""},{"$f":"SUBSTITUTE(SUBSTITUTE(SUBSTITUTE(SUBSTITUTE(IF(L1072<>\"\",HLink(L1072),\"\"),\"htm\",\"html\"),\"1x2\",\"analysis\"),\"www\",\"data\"),\"com\",\"vip\")","v":""},{"$f":"IF(D1072<>\"\",D1072,\"\")","v":""},{"$f":"IF(E1072<>\"\",E1072,\"\")","v":""},{"$f":"IF(F1072<>\"\",F1072,\"\")","v":""},{"$f":"IF(N1072<>\"\",IF(D1073<>\"\",D1073,D1072),\"\")","v":""},{"$f":"IF(N1072<>\"\",IF(E1073<>\"\",E1073,E1072),\"\")","v":""},{"$f":"IF(N1072<>\"\",IF(F1073<>\"\",F1073,F1072),\"\")","v":""}]
[]
[null,null,null,null,null,null,null,null,null,null,null,null,null,{"$f":"IF(A1074<>\"\",TEXT(A1074,\"\"),\"\")","v":""},{"$f":"IF(N1074=\"\",\"\",CONCATENATE(IF(C1074<>\"\",TEXT(C1074,\"\"),\"\"),\" - \",IF(K1074<>\"\",TEXT(K1074,\"\"),\"\")))","v":""},{"$f":"SUBSTITUTE(SUBSTITUTE(SUBSTITUTE(SUBSTITUTE(IF(L1074<>\"\",HLink(L1074),\"\"),\"htm\",\"html\"),\"1x2\",\"analysis\"),\"www\",\"data\"),\"com\",\"vip\")","v":""},{"$f":"IF(D1074<>\"\",D1074,\"\")","v":""},{"$f":"IF(E1074<>\"\",E1074,\"\")","v":""},{"$f":"IF(F1074<>\"\",F1074,\"\")","v":""},{"$f":"IF(N1074<>\"\",IF(D1075<>\"\",D1075,D1074),\"\")","v":""},{"$f":"IF(N1074<>\"\",IF(E1075<>\"\",E1075,E1074),\"\")","v":""},{"$f":"IF(N1074<>\"\",IF(F1075<>\"\",F1075,F1074),\"\")","v":""}]
[]
[null,null,null,null,null,null,null,null,null,null,null,null,null,{"$f":"IF(A1076<>\"\",TEXT(A1076,\"\"),\"\")","v":""},{"$f":"IF(N1076=\"\",\"\",CONCATENATE(IF(C1076<>\"\",TEXT(C1076,\"\"),\"\"),\" - \",IF(K1076<>\"\",TEXT(K1076,\"\"),\"\")))","v":""},{"$f":"SUBSTITUTE(SUBSTITUTE(SUBSTITUTE(SUBSTITUTE(IF(L1076<>\"\",HLink(L1076),\"\"),\"htm\",\"html\"),\"1x2\",\"analysis\"),\"www\",\"data\"),\"com\",\"vip\")","v":""},{"$f":"IF(D1076<>\"\",D1076,\"\")","v":""},{"$f":"IF(E1076<>\"\",E1076,\"\")","v":""},{"$f":"IF(F1076<>\"\",F1076,\"\")","v":""},{"$f":"IF(N1076<>\"\",IF(D1077<>\"\",D1077,D1076),\"\")","v":""},{"$f":"IF(N1076<>\"\",IF(E1077<>\"\",E1077,E1076),\"\")","v":""},{"$f":"IF(N1076<>\"\",IF(F1077<>\"\",F1077,F1076),\"\")","v":""}]
[]
[null,null,null,null,null,null,null,null,null,null,null,null,null,{"$f":"IF(A1078<>\"\",TEXT(A1078,\"\"),\"\")","v":""},{"$f":"IF(N1078=\"\",\"\",CONCATENATE(IF(C1078<>\"\",TEXT(C1078,\"\"),\"\"),\" - \",IF(K1078<>\"\",TEXT(K1078,\"\"),\"\")))","v":""},{"$f":"SUBSTITUTE(SUBSTITUTE(SUBSTITUTE(SUBSTITUTE(IF(L1078<>\"\",HLink(L1078),\"\"),\"htm\",\"html\"),\"1x2\",\"analysis\"),\"www\",\"data\"),\"com\",\"vip\")","v":""},{"$f":"IF(D1078<>\"\",D1078,\"\")","v":""},{"$f":"IF(E1078<>\"\",E1078,\"\")","v":""},{"$f":"IF(F1078<>\"\",F1078,\"\")","v":""},{"$f":"IF(N1078<>\"\",IF(D1079<>\"\",D1079,D1078),\"\")","v":""},{"$f":"IF(N1078<>\"\",IF(E1079<>\"\",E1079,E1078),\"\")","v":""},{"$f":"IF(N1078<>\"\",IF(F1079<>\"\",F1079,F1078),\"\")","v":""}]
[]
[null,null,null,null,null,null,null,null,null,null,null,null,null,{"$f":"IF(A1080<>\"\",TEXT(A1080,\"\"),\"\")","v":""},{"$f":"IF(N1080=\"\",\"\",CONCATENATE(IF(C1080<>\"\",TEXT(C1080,\"\"),\"\"),\" - \",IF(K1080<>\"\",TEXT(K1080,\"\"),\"\")))","v":""},{"$f":"SUBSTITUTE(SUBSTITUTE(SUBSTITUTE(SUBSTITUTE(IF(L1080<>\"\",HLink(L1080),\"\"),\"htm\",\"html\"),\"1x2\",\"analysis\"),\"www\",\"data\"),\"com\",\"vip\")","v":""},{"$f":"IF(D1080<>\"\",D1080,\"\")","v":""},{"$f":"IF(E1080<>\"\",E1080,\"\")","v":""},{"$f":"IF(F1080<>\"\",F1080,\"\")","v":""},{"$f":"IF(N1080<>\"\",IF(D1081<>\"\",D1081,D1080),\"\")","v":""},{"$f":"IF(N1080<>\"\",IF(E1081<>\"\",E1081,E1080),\"\")","v":""},{"$f":"IF(N1080<>\"\",IF(F1081<>\"\",F1081,F1080),\"\")","v":""}]
[]
[null,null,null,null,null,null,null,null,null,null,null,null,null,{"$f":"IF(A1082<>\"\",TEXT(A1082,\"\"),\"\")","v":""},{"$f":"IF(N1082=\"\",\"\",CONCATENATE(IF(C1082<>\"\",TEXT(C1082,\"\"),\"\"),\" - \",IF(K1082<>\"\",TEXT(K1082,\"\"),\"\")))","v":""},{"$f":"SUBSTITUTE(SUBSTITUTE(SUBSTITUTE(SUBSTITUTE(IF(L1082<>\"\",HLink(L1082),\"\"),\"htm\",\"html\"),\"1x2\",\"analysis\"),\"www\",\"data\"),\"com\",\"vip\")","v":""},{"$f":"IF(D1082<>\"\",D1082,\"\")","v":""},{"$f":"IF(E1082<>\"\",E1082,\"\")","v":""},{"$f":"IF(F1082<>\"\",F1082,\"\")","v":""},{"$f":"IF(N1082<>\"\",IF(D1083<>\"\",D1083,D1082),\"\")","v":""},{"$f":"IF(N1082<>\"\",IF(E1083<>\"\",E1083,E1082),\"\")","v":""},{"$f":"IF(N1082<>\"\",IF(F1083<>\"\",F1083,F1082),\"\")","v":""}]
[]
[null,null,null,null,null,null,null,null,null,null,null,null,null,{"$f":"IF(A1084<>\"\",TEXT(A1084,\"\"),\"\")","v":""},{"$f":"IF(N1084=\"\",\"\",CONCATENATE(IF(C1084<>\"\",TEXT(C1084,\"\"),\"\"),\" - \",IF(K1084<>\"\",TEXT(K1084,\"\"),\"\")))","v":""},{"$f":"SUBSTITUTE(SUBSTITUTE(SUBSTITUTE(SUBSTITUTE(IF(L1084<>\"\",HLink(L1084),\"\"),\"htm\",\"html\"),\"1x2\",\"analysis\"),\"www\",\"data\"),\"com\",\"vip\")","v":""},{"$f":"IF(D1084<>\"\",D1084,\"\")","v":""},{"$f":"IF(E1084<>\"\",E1084,\"\")","v":""},{"$f":"IF(F1084<>\"\",F1084,\"\")","v":""},{"$f":"IF(N1084<>\"\",IF(D1085<>\"\",D1085,D1084),\"\")","v":""},{"$f":"IF(N1084<>\"\",IF(E1085<>\"\",E1085,E1084),\"\")","v":""},{"$f":"IF(N1084<>\"\",IF(F1085<>\"\",F1085,F1084),\"\")","v":""}]
[]
[null,null,null,null,null,null,null,null,null,null,null,null,null,{"$f":"IF(A1086<>\"\",TEXT(A1086,\"\"),\"\")","v":""},{"$f":"IF(N1086=\"\",\"\",CONCATENATE(IF(C1086<>\"\",TEXT(C1086,\"\"),\"\"),\" - \",IF(K1086<>\"\",TEXT(K1086,\"\"),\"\")))","v":""},{"$f":"SUBSTITUTE(SUBSTITUTE(SUBSTITUTE(SUBSTITUTE(IF(L1086<>\"\",HLink(L1086),\"\"),\"htm\",\"html\"),\"1x2\",\"analysis\"),\"www\",\"data\"),\"com\",\"vip\")","v":""},{"$f":"IF(D1086<>\"\",D1086,\"\")","v":""},{"$f":"IF(E1086<>\"\",E1086,\"\")","v":""},{"$f":"IF(F1086<>\"\",F1086,\"\")","v":""},{"$f":"IF(N1086<>\"\",IF(D1087<>\"\",D1087,D1086),\"\")","v":""},{"$f":"IF(N1086<>\"\",IF(E1087<>\"\",E1087,E1086),\"\")","v":""},{"$f":"IF(N1086<>\"\",IF(F1087<>\"\",F1087,F1086),\"\")","v":""}]
[]
[null,null,null,null,null,null,null,null,null,null,null,null,null,{"$f":"IF(A1088<>\"\",TEXT(A1088,\"\"),\"\")","v":""},{"$f":"IF(N1088=\"\",\"\",CONCATENATE(IF(C1088<>\"\",TEXT(C1088,\"\"),\"\"),\" - \",IF(K1088<>\"\",TEXT(K1088,\"\"),\"\")))","v":""},{"$f":"SUBSTITUTE(SUBSTITUTE(SUBSTITUTE(SUBSTITUTE(IF(L1088<>\"\",HLink(L1088),\"\"),\"htm\",\"html\"),\"1x2\",\"analysis\"),\"www\",\"data\"),\"com\",\"vip\")","v":""},{"$f":"IF(D1088<>\"\",D1088,\"\")","v":""},{"$f":"IF(E1088<>\"\",E1088,\"\")","v":""},{"$f":"IF(F1088<>\"\",F1088,\"\")","v":""},{"$f":"IF(N1088<>\"\",IF(D1089<>\"\",D1089,D1088),\"\")","v":""},{"$f":"IF(N1088<>\"\",IF(E1089<>\"\",E1089,E1088),\"\")","v":""},{"$f":"IF(N1088<>\"\",IF(F1089<>\"\",F1089,F1088),\"\")","v":""}]
[]
[null,null,null,null,null,null,null,null,null,null,null,null,null,{"$f":"IF(A1090<>\"\",TEXT(A1090,\"\"),\"\")","v":""},{"$f":"IF(N1090=\"\",\"\",CONCATENATE(IF(C1090<>\"\",TEXT(C1090,\"\"),\"\"),\" - \",IF(K1090<>\"\",TEXT(K1090,\"\"),\"\")))","v":""},{"$f":"SUBSTITUTE(SUBSTITUTE(SUBSTITUTE(SUBSTITUTE(IF(L1090<>\"\",HLink(L1090),\"\"),\"htm\",\"html\"),\"1x2\",\"analysis\"),\"www\",\"data\"),\"com\",\"vip\")","v":""},{"$f":"IF(D1090<>\"\",D1090,\"\")","v":""},{"$f":"IF(E1090<>\"\",E1090,\"\")","v":""},{"$f":"IF(F1090<>\"\",F1090,\"\")","v":""},{"$f":"IF(N1090<>\"\",IF(D1091<>\"\",D1091,D1090),\"\")","v":""},{"$f":"IF(N1090<>\"\",IF(E1091<>\"\",E1091,E1090),\"\")","v":""},{"$f":"IF(N1090<>\"\",IF(F1091<>\"\",F1091,F1090),\"\")","v":""}]
[]
[null,null,null,null,null,null,null,null,null,null,null,null,null,{"$f":"IF(A1092<>\"\",TEXT(A1092,\"\"),\"\")","v":""},{"$f":"IF(N1092=\"\",\"\",CONCATENATE(IF(C1092<>\"\",TEXT(C1092,\"\"),\"\"),\" - \",IF(K1092<>\"\",TEXT(K1092,\"\"),\"\")))","v":""},{"$f":"SUBSTITUTE(SUBSTITUTE(SUBSTITUTE(SUBSTITUTE(IF(L1092<>\"\",HLink(L1092),\"\"),\"htm\",\"html\"),\"1x2\",\"analysis\"),\"www\",\"data\"),\"com\",\"vip\")","v":""},{"$f":"IF(D1092<>\"\",D1092,\"\")","v":""},{"$f":"IF(E1092<>\"\",E1092,\"\")","v":""},{"$f":"IF(F1092<>\"\",F1092,\"\")","v":""},{"$f":"IF(N1092<>\"\",IF(D1093<>\"\",D1093,D1092),\"\")","v":""},{"$f":"IF(N1092<>\"\",IF(E1093<>\"\",E1093,E1092),\"\")","v":""},{"$f":"IF(N1092<>\"\",IF(F1093<>\"\",F1093,F1092),\"\")","v":""}]
[]
[null,null,null,null,null,null,null,null,null,null,null,null,null,{"$f":"IF(A1094<>\"\",TEXT(A1094,\"\"),\"\")","v":""},{"$f":"IF(N1094=\"\",\"\",CONCATENATE(IF(C1094<>\"\",TEXT(C1094,\"\"),\"\"),\" - \",IF(K1094<>\"\",TEXT(K1094,\"\"),\"\")))","v":""},{"$f":"SUBSTITUTE(SUBSTITUTE(SUBSTITUTE(SUBSTITUTE(IF(L1094<>\"\",HLink(L1094),\"\"),\"htm\",\"html\"),\"1x2\",\"analysis\"),\"www\",\"data\"),\"com\",\"vip\")","v":""},{"$f":"IF(D1094<>\"\",D1094,\"\")","v":""},{"$f":"IF(E1094<>\"\",E1094,\"\")","v":""},{"$f":"IF(F1094<>\"\",F1094,\"\")","v":""},{"$f":"IF(N1094<>\"\",IF(D1095<>\"\",D1095,D1094),\"\")","v":""},{"$f":"IF(N1094<>\"\",IF(E1095<>\"\",E1095,E1094),\"\")","v":""},{"$f":"IF(N1094<>\"\",IF(F1095<>\"\",F1095,F1094),\"\")","v":""}]
[]
[null,null,null,null,null,null,null,null,null,null,null,null,null,{"$f":"IF(A1096<>\"\",TEXT(A1096,\"\"),\"\")","v":""},{"$f":"IF(N1096=\"\",\"\",CONCATENATE(IF(C1096<>\"\",TEXT(C1096,\"\"),\"\"),\" - \",IF(K1096<>\"\",TEXT(K1096,\"\"),\"\")))","v":""},{"$f":"SUBSTITUTE(SUBSTITUTE(SUBSTITUTE(SUBSTITUTE(IF(L1096<>\"\",HLink(L1096),\"\"),\"htm\",\"html\"),\"1x2\",\"analysis\"),\"www\",\"data\"),\"com\",\"vip\")","v":""},{"$f":"IF(D1096<>\"\",D1096,\"\")","v":""},{"$f":"IF(E1096<>\"\",E1096,\"\")","v":""},{"$f":"IF(F1096<>\"\",F1096,\"\")","v":""},{"$f":"IF(N1096<>\"\",IF(D1097<>\"\",D1097,D1096),\"\")","v":""},{"$f":"IF(N1096<>\"\",IF(E1097<>\"\",E1097,E1096),\"\")","v":""},{"$f":"IF(N1096<>\"\",IF(F1097<>\"\",F1097,F1096),\"\")","v":""}]
[]
[null,null,null,null,null,null,null,null,null,null,null,null,null,{"$f":"IF(A1098<>\"\",TEXT(A1098,\"\"),\"\")","v":""},{"$f":"IF(N1098=\"\",\"\",CONCATENATE(IF(C1098<>\"\",TEXT(C1098,\"\"),\"\"),\" - \",IF(K1098<>\"\",TEXT(K1098,\"\"),\"\")))","v":""},{"$f":"SUBSTITUTE(SUBSTITUTE(SUBSTITUTE(SUBSTITUTE(IF(L1098<>\"\",HLink(L1098),\"\"),\"htm\",\"html\"),\"1x2\",\"analysis\"),\"www\",\"data\"),\"com\",\"vip\")","v":""},{"$f":"IF(D1098<>\"\",D1098,\"\")","v":""},{"$f":"IF(E1098<>\"\",E1098,\"\")","v":""},{"$f":"IF(F1098<>\"\",F1098,\"\")","v":""},{"$f":"IF(N1098<>\"\",IF(D1099<>\"\",D1099,D1098),\"\")","v":""},{"$f":"IF(N1098<>\"\",IF(E1099<>\"\",E1099,E1098),\"\")","v":""},{"$f":"IF(N1098<>\"\",IF(F1099<>\"\",F1099,F1098),\"\")","v":""}]
[]
[null,null,null,null,null,null,null,null,null,null,null,null,null,{"$f":"IF(A1100<>\"\",TEXT(A1100,\"\"),\"\")","v":""},{"$f":"IF(N1100=\"\",\"\",CONCATENATE(IF(C1100<>\"\",TEXT(C1100,\"\"),\"\"),\" - \",IF(K1100<>\"\",TEXT(K1100,\"\"),\"\")))","v":""},{"$f":"SUBSTITUTE(SUBSTITUTE(SUBSTITUTE(SUBSTITUTE(IF(L1100<>\"\",HLink(L1100),\"\"),\"htm\",\"html\"),\"1x2\",\"analysis\"),\"www\",\"data\"),\"com\",\"vip\")","v":""},{"$f":"IF(D1100<>\"\",D1100,\"\")","v":""},{"$f":"IF(E1100<>\"\",E1100,\"\")","v":""},{"$f":"IF(F1100<>\"\",F1100,\"\")","v":""},{"$f":"IF(N1100<>\"\",IF(D1101<>\"\",D1101,D1100),\"\")","v":""},{"$f":"IF(N1100<>\"\",IF(E1101<>\"\",E1101,E1100),\"\")","v":""},{"$f":"IF(N1100<>\"\",IF(F1101<>\"\",F1101,F1100),\"\")","v":""}]
[]
[null,null,null,null,null,null,null,null,null,null,null,null,null,{"$f":"IF(A1102<>\"\",TEXT(A1102,\"\"),\"\")","v":""},{"$f":"IF(N1102=\"\",\"\",CONCATENATE(IF(C1102<>\"\",TEXT(C1102,\"\"),\"\"),\" - \",IF(K1102<>\"\",TEXT(K1102,\"\"),\"\")))","v":""},{"$f":"SUBSTITUTE(SUBSTITUTE(SUBSTITUTE(SUBSTITUTE(IF(L1102<>\"\",HLink(L1102),\"\"),\"htm\",\"html\"),\"1x2\",\"analysis\"),\"www\",\"data\"),\"com\",\"vip\")","v":""},{"$f":"IF(D1102<>\"\",D1102,\"\")","v":""},{"$f":"IF(E1102<>\"\",E1102,\"\")","v":""},{"$f":"IF(F1102<>\"\",F1102,\"\")","v":""},{"$f":"IF(N1102<>\"\",IF(D1103<>\"\",D1103,D1102),\"\")","v":""},{"$f":"IF(N1102<>\"\",IF(E1103<>\"\",E1103,E1102),\"\")","v":""},{"$f":"IF(N1102<>\"\",IF(F1103<>\"\",F1103,F1102),\"\")","v":""}]
[]
[null,null,null,null,null,null,null,null,null,null,null,null,null,{"$f":"IF(A1104<>\"\",TEXT(A1104,\"\"),\"\")","v":""},{"$f":"IF(N1104=\"\",\"\",CONCATENATE(IF(C1104<>\"\",TEXT(C1104,\"\"),\"\"),\" - \",IF(K1104<>\"\",TEXT(K1104,\"\"),\"\")))","v":""},{"$f":"SUBSTITUTE(SUBSTITUTE(SUBSTITUTE(SUBSTITUTE(IF(L1104<>\"\",HLink(L1104),\"\"),\"htm\",\"html\"),\"1x2\",\"analysis\"),\"www\",\"data\"),\"com\",\"vip\")","v":""},{"$f":"IF(D1104<>\"\",D1104,\"\")","v":""},{"$f":"IF(E1104<>\"\",E1104,\"\")","v":""},{"$f":"IF(F1104<>\"\",F1104,\"\")","v":""},{"$f":"IF(N1104<>\"\",IF(D1105<>\"\",D1105,D1104),\"\")","v":""},{"$f":"IF(N1104<>\"\",IF(E1105<>\"\",E1105,E1104),\"\")","v":""},{"$f":"IF(N1104<>\"\",IF(F1105<>\"\",F1105,F1104),\"\")","v":""}]
[]
[null,null,null,null,null,null,null,null,null,null,null,null,null,{"$f":"IF(A1106<>\"\",TEXT(A1106,\"\"),\"\")","v":""},{"$f":"IF(N1106=\"\",\"\",CONCATENATE(IF(C1106<>\"\",TEXT(C1106,\"\"),\"\"),\" - \",IF(K1106<>\"\",TEXT(K1106,\"\"),\"\")))","v":""},{"$f":"SUBSTITUTE(SUBSTITUTE(SUBSTITUTE(SUBSTITUTE(IF(L1106<>\"\",HLink(L1106),\"\"),\"htm\",\"html\"),\"1x2\",\"analysis\"),\"www\",\"data\"),\"com\",\"vip\")","v":""},{"$f":"IF(D1106<>\"\",D1106,\"\")","v":""},{"$f":"IF(E1106<>\"\",E1106,\"\")","v":""},{"$f":"IF(F1106<>\"\",F1106,\"\")","v":""},{"$f":"IF(N1106<>\"\",IF(D1107<>\"\",D1107,D1106),\"\")","v":""},{"$f":"IF(N1106<>\"\",IF(E1107<>\"\",E1107,E1106),\"\")","v":""},{"$f":"IF(N1106<>\"\",IF(F1107<>\"\",F1107,F1106),\"\")","v":""}]
[]
[null,null,null,null,null,null,null,null,null,null,null,null,null,{"$f":"IF(A1108<>\"\",TEXT(A1108,\"\"),\"\")","v":""},{"$f":"IF(N1108=\"\",\"\",CONCATENATE(IF(C1108<>\"\",TEXT(C1108,\"\"),\"\"),\" - \",IF(K1108<>\"\",TEXT(K1108,\"\"),\"\")))","v":""},{"$f":"SUBSTITUTE(SUBSTITUTE(SUBSTITUTE(SUBSTITUTE(IF(L1108<>\"\",HLink(L1108),\"\"),\"htm\",\"html\"),\"1x2\",\"analysis\"),\"www\",\"data\"),\"com\",\"vip\")","v":""},{"$f":"IF(D1108<>\"\",D1108,\"\")","v":""},{"$f":"IF(E1108<>\"\",E1108,\"\")","v":""},{"$f":"IF(F1108<>\"\",F1108,\"\")","v":""},{"$f":"IF(N1108<>\"\",IF(D1109<>\"\",D1109,D1108),\"\")","v":""},{"$f":"IF(N1108<>\"\",IF(E1109<>\"\",E1109,E1108),\"\")","v":""},{"$f":"IF(N1108<>\"\",IF(F1109<>\"\",F1109,F1108),\"\")","v":""}]
[]
[null,null,null,null,null,null,null,null,null,null,null,null,null,{"$f":"IF(A1110<>\"\",TEXT(A1110,\"\"),\"\")","v":""},{"$f":"IF(N1110=\"\",\"\",CONCATENATE(IF(C1110<>\"\",TEXT(C1110,\"\"),\"\"),\" - \",IF(K1110<>\"\",TEXT(K1110,\"\"),\"\")))","v":""},{"$f":"SUBSTITUTE(SUBSTITUTE(SUBSTITUTE(SUBSTITUTE(IF(L1110<>\"\",HLink(L1110),\"\"),\"htm\",\"html\"),\"1x2\",\"analysis\"),\"www\",\"data\"),\"com\",\"vip\")","v":""},{"$f":"IF(D1110<>\"\",D1110,\"\")","v":""},{"$f":"IF(E1110<>\"\",E1110,\"\")","v":""},{"$f":"IF(F1110<>\"\",F1110,\"\")","v":""},{"$f":"IF(N1110<>\"\",IF(D1111<>\"\",D1111,D1110),\"\")","v":""},{"$f":"IF(N1110<>\"\",IF(E1111<>\"\",E1111,E1110),\"\")","v":""},{"$f":"IF(N1110<>\"\",IF(F1111<>\"\",F1111,F1110),\"\")","v":""}]
[]
[null,null,null,null,null,null,null,null,null,null,null,null,null,{"$f":"IF(A1112<>\"\",TEXT(A1112,\"\"),\"\")","v":""},{"$f":"IF(N1112=\"\",\"\",CONCATENATE(IF(C1112<>\"\",TEXT(C1112,\"\"),\"\"),\" - \",IF(K1112<>\"\",TEXT(K1112,\"\"),\"\")))","v":""},{"$f":"SUBSTITUTE(SUBSTITUTE(SUBSTITUTE(SUBSTITUTE(IF(L1112<>\"\",HLink(L1112),\"\"),\"htm\",\"html\"),\"1x2\",\"analysis\"),\"www\",\"data\"),\"com\",\"vip\")","v":""},{"$f":"IF(D1112<>\"\",D1112,\"\")","v":""},{"$f":"IF(E1112<>\"\",E1112,\"\")","v":""},{"$f":"IF(F1112<>\"\",F1112,\"\")","v":""},{"$f":"IF(N1112<>\"\",IF(D1113<>\"\",D1113,D1112),\"\")","v":""},{"$f":"IF(N1112<>\"\",IF(E1113<>\"\",E1113,E1112),\"\")","v":""},{"$f":"IF(N1112<>\"\",IF(F1113<>\"\",F1113,F1112),\"\")","v":""}]
[]
[null,null,null,null,null,null,null,null,null,null,null,null,null,{"$f":"IF(A1114<>\"\",TEXT(A1114,\"\"),\"\")","v":""},{"$f":"IF(N1114=\"\",\"\",CONCATENATE(IF(C1114<>\"\",TEXT(C1114,\"\"),\"\"),\" - \",IF(K1114<>\"\",TEXT(K1114,\"\"),\"\")))","v":""},{"$f":"SUBSTITUTE(SUBSTITUTE(SUBSTITUTE(SUBSTITUTE(IF(L1114<>\"\",HLink(L1114),\"\"),\"htm\",\"html\"),\"1x2\",\"analysis\"),\"www\",\"data\"),\"com\",\"vip\")","v":""},{"$f":"IF(D1114<>\"\",D1114,\"\")","v":""},{"$f":"IF(E1114<>\"\",E1114,\"\")","v":""},{"$f":"IF(F1114<>\"\",F1114,\"\")","v":""},{"$f":"IF(N1114<>\"\",IF(D1115<>\"\",D1115,D1114),\"\")","v":""},{"$f":"IF(N1114<>\"\",IF(E1115<>\"\",E1115,E1114),\"\")","v":""},{"$f":"IF(N1114<>\"\",IF(F1115<>\"\",F1115,F1114),\"\")","v":""}]
[]
[null,null,null,null,null,null,null,null,null,null,null,null,null,{"$f":"IF(A1116<>\"\",TEXT(A1116,\"\"),\"\")","v":""},{"$f":"IF(N1116=\"\",\"\",CONCATENATE(IF(C1116<>\"\",TEXT(C1116,\"\"),\"\"),\" - \",IF(K1116<>\"\",TEXT(K1116,\"\"),\"\")))","v":""},{"$f":"SUBSTITUTE(SUBSTITUTE(SUBSTITUTE(SUBSTITUTE(IF(L1116<>\"\",HLink(L1116),\"\"),\"htm\",\"html\"),\"1x2\",\"analysis\"),\"www\",\"data\"),\"com\",\"vip\")","v":""},{"$f":"IF(D1116<>\"\",D1116,\"\")","v":""},{"$f":"IF(E1116<>\"\",E1116,\"\")","v":""},{"$f":"IF(F1116<>\"\",F1116,\"\")","v":""},{"$f":"IF(N1116<>\"\",IF(D1117<>\"\",D1117,D1116),\"\")","v":""},{"$f":"IF(N1116<>\"\",IF(E1117<>\"\",E1117,E1116),\"\")","v":""},{"$f":"IF(N1116<>\"\",IF(F1117<>\"\",F1117,F1116),\"\")","v":""}]
[]
[null,null,null,null,null,null,null,null,null,null,null,null,null,{"$f":"IF(A1118<>\"\",TEXT(A1118,\"\"),\"\")","v":""},{"$f":"IF(N1118=\"\",\"\",CONCATENATE(IF(C1118<>\"\",TEXT(C1118,\"\"),\"\"),\" - \",IF(K1118<>\"\",TEXT(K1118,\"\"),\"\")))","v":""},{"$f":"SUBSTITUTE(SUBSTITUTE(SUBSTITUTE(SUBSTITUTE(IF(L1118<>\"\",HLink(L1118),\"\"),\"htm\",\"html\"),\"1x2\",\"analysis\"),\"www\",\"data\"),\"com\",\"vip\")","v":""},{"$f":"IF(D1118<>\"\",D1118,\"\")","v":""},{"$f":"IF(E1118<>\"\",E1118,\"\")","v":""},{"$f":"IF(F1118<>\"\",F1118,\"\")","v":""},{"$f":"IF(N1118<>\"\",IF(D1119<>\"\",D1119,D1118),\"\")","v":""},{"$f":"IF(N1118<>\"\",IF(E1119<>\"\",E1119,E1118),\"\")","v":""},{"$f":"IF(N1118<>\"\",IF(F1119<>\"\",F1119,F1118),\"\")","v":""}]
[]
[null,null,null,null,null,null,null,null,null,null,null,null,null,{"$f":"IF(A1120<>\"\",TEXT(A1120,\"\"),\"\")","v":""},{"$f":"IF(N1120=\"\",\"\",CONCATENATE(IF(C1120<>\"\",TEXT(C1120,\"\"),\"\"),\" - \",IF(K1120<>\"\",TEXT(K1120,\"\"),\"\")))","v":""},{"$f":"SUBSTITUTE(SUBSTITUTE(SUBSTITUTE(SUBSTITUTE(IF(L1120<>\"\",HLink(L1120),\"\"),\"htm\",\"html\"),\"1x2\",\"analysis\"),\"www\",\"data\"),\"com\",\"vip\")","v":""},{"$f":"IF(D1120<>\"\",D1120,\"\")","v":""},{"$f":"IF(E1120<>\"\",E1120,\"\")","v":""},{"$f":"IF(F1120<>\"\",F1120,\"\")","v":""},{"$f":"IF(N1120<>\"\",IF(D1121<>\"\",D1121,D1120),\"\")","v":""},{"$f":"IF(N1120<>\"\",IF(E1121<>\"\",E1121,E1120),\"\")","v":""},{"$f":"IF(N1120<>\"\",IF(F1121<>\"\",F1121,F1120),\"\")","v":""}]
[]
[null,null,null,null,null,null,null,null,null,null,null,null,null,{"$f":"IF(A1122<>\"\",TEXT(A1122,\"\"),\"\")","v":""},{"$f":"IF(N1122=\"\",\"\",CONCATENATE(IF(C1122<>\"\",TEXT(C1122,\"\"),\"\"),\" - \",IF(K1122<>\"\",TEXT(K1122,\"\"),\"\")))","v":""},{"$f":"SUBSTITUTE(SUBSTITUTE(SUBSTITUTE(SUBSTITUTE(IF(L1122<>\"\",HLink(L1122),\"\"),\"htm\",\"html\"),\"1x2\",\"analysis\"),\"www\",\"data\"),\"com\",\"vip\")","v":""},{"$f":"IF(D1122<>\"\",D1122,\"\")","v":""},{"$f":"IF(E1122<>\"\",E1122,\"\")","v":""},{"$f":"IF(F1122<>\"\",F1122,\"\")","v":""},{"$f":"IF(N1122<>\"\",IF(D1123<>\"\",D1123,D1122),\"\")","v":""},{"$f":"IF(N1122<>\"\",IF(E1123<>\"\",E1123,E1122),\"\")","v":""},{"$f":"IF(N1122<>\"\",IF(F1123<>\"\",F1123,F1122),\"\")","v":""}]
[]
[null,null,null,null,null,null,null,null,null,null,null,null,null,{"$f":"IF(A1124<>\"\",TEXT(A1124,\"\"),\"\")","v":""},{"$f":"IF(N1124=\"\",\"\",CONCATENATE(IF(C1124<>\"\",TEXT(C1124,\"\"),\"\"),\" - \",IF(K1124<>\"\",TEXT(K1124,\"\"),\"\")))","v":""},{"$f":"SUBSTITUTE(SUBSTITUTE(SUBSTITUTE(SUBSTITUTE(IF(L1124<>\"\",HLink(L1124),\"\"),\"htm\",\"html\"),\"1x2\",\"analysis\"),\"www\",\"data\"),\"com\",\"vip\")","v":""},{"$f":"IF(D1124<>\"\",D1124,\"\")","v":""},{"$f":"IF(E1124<>\"\",E1124,\"\")","v":""},{"$f":"IF(F1124<>\"\",F1124,\"\")","v":""},{"$f":"IF(N1124<>\"\",IF(D1125<>\"\",D1125,D1124),\"\")","v":""},{"$f":"IF(N1124<>\"\",IF(E1125<>\"\",E1125,E1124),\"\")","v":""},{"$f":"IF(N1124<>\"\",IF(F1125<>\"\",F1125,F1124),\"\")","v":""}]
[]
[null,null,null,null,null,null,null,null,null,null,null,null,null,{"$f":"IF(A1126<>\"\",TEXT(A1126,\"\"),\"\")","v":""},{"$f":"IF(N1126=\"\",\"\",CONCATENATE(IF(C1126<>\"\",TEXT(C1126,\"\"),\"\"),\" - \",IF(K1126<>\"\",TEXT(K1126,\"\"),\"\")))","v":""},{"$f":"SUBSTITUTE(SUBSTITUTE(SUBSTITUTE(SUBSTITUTE(IF(L1126<>\"\",HLink(L1126),\"\"),\"htm\",\"html\"),\"1x2\",\"analysis\"),\"www\",\"data\"),\"com\",\"vip\")","v":""},{"$f":"IF(D1126<>\"\",D1126,\"\")","v":""},{"$f":"IF(E1126<>\"\",E1126,\"\")","v":""},{"$f":"IF(F1126<>\"\",F1126,\"\")","v":""},{"$f":"IF(N1126<>\"\",IF(D1127<>\"\",D1127,D1126),\"\")","v":""},{"$f":"IF(N1126<>\"\",IF(E1127<>\"\",E1127,E1126),\"\")","v":""},{"$f":"IF(N1126<>\"\",IF(F1127<>\"\",F1127,F1126),\"\")","v":""}]
[]
[null,null,null,null,null,null,null,null,null,null,null,null,null,{"$f":"IF(A1128<>\"\",TEXT(A1128,\"\"),\"\")","v":""},{"$f":"IF(N1128=\"\",\"\",CONCATENATE(IF(C1128<>\"\",TEXT(C1128,\"\"),\"\"),\" - \",IF(K1128<>\"\",TEXT(K1128,\"\"),\"\")))","v":""},{"$f":"SUBSTITUTE(SUBSTITUTE(SUBSTITUTE(SUBSTITUTE(IF(L1128<>\"\",HLink(L1128),\"\"),\"htm\",\"html\"),\"1x2\",\"analysis\"),\"www\",\"data\"),\"com\",\"vip\")","v":""},{"$f":"IF(D1128<>\"\",D1128,\"\")","v":""},{"$f":"IF(E1128<>\"\",E1128,\"\")","v":""},{"$f":"IF(F1128<>\"\",F1128,\"\")","v":""},{"$f":"IF(N1128<>\"\",IF(D1129<>\"\",D1129,D1128),\"\")","v":""},{"$f":"IF(N1128<>\"\",IF(E1129<>\"\",E1129,E1128),\"\")","v":""},{"$f":"IF(N1128<>\"\",IF(F1129<>\"\",F1129,F1128),\"\")","v":""}]
[]
[null,null,null,null,null,null,null,null,null,null,null,null,null,{"$f":"IF(A1130<>\"\",TEXT(A1130,\"\"),\"\")","v":""},{"$f":"IF(N1130=\"\",\"\",CONCATENATE(IF(C1130<>\"\",TEXT(C1130,\"\"),\"\"),\" - \",IF(K1130<>\"\",TEXT(K1130,\"\"),\"\")))","v":""},{"$f":"SUBSTITUTE(SUBSTITUTE(SUBSTITUTE(SUBSTITUTE(IF(L1130<>\"\",HLink(L1130),\"\"),\"htm\",\"html\"),\"1x2\",\"analysis\"),\"www\",\"data\"),\"com\",\"vip\")","v":""},{"$f":"IF(D1130<>\"\",D1130,\"\")","v":""},{"$f":"IF(E1130<>\"\",E1130,\"\")","v":""},{"$f":"IF(F1130<>\"\",F1130,\"\")","v":""},{"$f":"IF(N1130<>\"\",IF(D1131<>\"\",D1131,D1130),\"\")","v":""},{"$f":"IF(N1130<>\"\",IF(E1131<>\"\",E1131,E1130),\"\")","v":""},{"$f":"IF(N1130<>\"\",IF(F1131<>\"\",F1131,F1130),\"\")","v":""}]
[]
[null,null,null,null,null,null,null,null,null,null,null,null,null,{"$f":"IF(A1132<>\"\",TEXT(A1132,\"\"),\"\")","v":""},{"$f":"IF(N1132=\"\",\"\",CONCATENATE(IF(C1132<>\"\",TEXT(C1132,\"\"),\"\"),\" - \",IF(K1132<>\"\",TEXT(K1132,\"\"),\"\")))","v":""},{"$f":"SUBSTITUTE(SUBSTITUTE(SUBSTITUTE(SUBSTITUTE(IF(L1132<>\"\",HLink(L1132),\"\"),\"htm\",\"html\"),\"1x2\",\"analysis\"),\"www\",\"data\"),\"com\",\"vip\")","v":""},{"$f":"IF(D1132<>\"\",D1132,\"\")","v":""},{"$f":"IF(E1132<>\"\",E1132,\"\")","v":""},{"$f":"IF(F1132<>\"\",F1132,\"\")","v":""},{"$f":"IF(N1132<>\"\",IF(D1133<>\"\",D1133,D1132),\"\")","v":""},{"$f":"IF(N1132<>\"\",IF(E1133<>\"\",E1133,E1132),\"\")","v":""},{"$f":"IF(N1132<>\"\",IF(F1133<>\"\",F1133,F1132),\"\")","v":""}]
[]
[null,null,null,null,null,null,null,null,null,null,null,null,null,{"$f":"IF(A1134<>\"\",TEXT(A1134,\"\"),\"\")","v":""},{"$f":"IF(N1134=\"\",\"\",CONCATENATE(IF(C1134<>\"\",TEXT(C1134,\"\"),\"\"),\" - \",IF(K1134<>\"\",TEXT(K1134,\"\"),\"\")))","v":""},{"$f":"SUBSTITUTE(SUBSTITUTE(SUBSTITUTE(SUBSTITUTE(IF(L1134<>\"\",HLink(L1134),\"\"),\"htm\",\"html\"),\"1x2\",\"analysis\"),\"www\",\"data\"),\"com\",\"vip\")","v":""},{"$f":"IF(D1134<>\"\",D1134,\"\")","v":""},{"$f":"IF(E1134<>\"\",E1134,\"\")","v":""},{"$f":"IF(F1134<>\"\",F1134,\"\")","v":""},{"$f":"IF(N1134<>\"\",IF(D1135<>\"\",D1135,D1134),\"\")","v":""},{"$f":"IF(N1134<>\"\",IF(E1135<>\"\",E1135,E1134),\"\")","v":""},{"$f":"IF(N1134<>\"\",IF(F1135<>\"\",F1135,F1134),\"\")","v":""}]
[]
[null,null,null,null,null,null,null,null,null,null,null,null,null,{"$f":"IF(A1136<>\"\",TEXT(A1136,\"\"),\"\")","v":""},{"$f":"IF(N1136=\"\",\"\",CONCATENATE(IF(C1136<>\"\",TEXT(C1136,\"\"),\"\"),\" - \",IF(K1136<>\"\",TEXT(K1136,\"\"),\"\")))","v":""},{"$f":"SUBSTITUTE(SUBSTITUTE(SUBSTITUTE(SUBSTITUTE(IF(L1136<>\"\",HLink(L1136),\"\"),\"htm\",\"html\"),\"1x2\",\"analysis\"),\"www\",\"data\"),\"com\",\"vip\")","v":""},{"$f":"IF(D1136<>\"\",D1136,\"\")","v":""},{"$f":"IF(E1136<>\"\",E1136,\"\")","v":""},{"$f":"IF(F1136<>\"\",F1136,\"\")","v":""},{"$f":"IF(N1136<>\"\",IF(D1137<>\"\",D1137,D1136),\"\")","v":""},{"$f":"IF(N1136<>\"\",IF(E1137<>\"\",E1137,E1136),\"\")","v":""},{"$f":"IF(N1136<>\"\",IF(F1137<>\"\",F1137,F1136),\"\")","v":""}]
[]
[null,null,null,null,null,null,null,null,null,null,null,null,null,{"$f":"IF(A1138<>\"\",TEXT(A1138,\"\"),\"\")","v":""},{"$f":"IF(N1138=\"\",\"\",CONCATENATE(IF(C1138<>\"\",TEXT(C1138,\"\"),\"\"),\" - \",IF(K1138<>\"\",TEXT(K1138,\"\"),\"\")))","v":""},{"$f":"SUBSTITUTE(SUBSTITUTE(SUBSTITUTE(SUBSTITUTE(IF(L1138<>\"\",HLink(L1138),\"\"),\"htm\",\"html\"),\"1x2\",\"analysis\"),\"www\",\"data\"),\"com\",\"vip\")","v":""},{"$f":"IF(D1138<>\"\",D1138,\"\")","v":""},{"$f":"IF(E1138<>\"\",E1138,\"\")","v":""},{"$f":"IF(F1138<>\"\",F1138,\"\")","v":""},{"$f":"IF(N1138<>\"\",IF(D1139<>\"\",D1139,D1138),\"\")","v":""},{"$f":"IF(N1138<>\"\",IF(E1139<>\"\",E1139,E1138),\"\")","v":""},{"$f":"IF(N1138<>\"\",IF(F1139<>\"\",F1139,F1138),\"\")","v":""}]
[]
[null,null,null,null,null,null,null,null,null,null,null,null,null,{"$f":"IF(A1140<>\"\",TEXT(A1140,\"\"),\"\")","v":""},{"$f":"IF(N1140=\"\",\"\",CONCATENATE(IF(C1140<>\"\",TEXT(C1140,\"\"),\"\"),\" - \",IF(K1140<>\"\",TEXT(K1140,\"\"),\"\")))","v":""},{"$f":"SUBSTITUTE(SUBSTITUTE(SUBSTITUTE(SUBSTITUTE(IF(L1140<>\"\",HLink(L1140),\"\"),\"htm\",\"html\"),\"1x2\",\"analysis\"),\"www\",\"data\"),\"com\",\"vip\")","v":""},{"$f":"IF(D1140<>\"\",D1140,\"\")","v":""},{"$f":"IF(E1140<>\"\",E1140,\"\")","v":""},{"$f":"IF(F1140<>\"\",F1140,\"\")","v":""},{"$f":"IF(N1140<>\"\",IF(D1141<>\"\",D1141,D1140),\"\")","v":""},{"$f":"IF(N1140<>\"\",IF(E1141<>\"\",E1141,E1140),\"\")","v":""},{"$f":"IF(N1140<>\"\",IF(F1141<>\"\",F1141,F1140),\"\")","v":""}]
[]
[null,null,null,null,null,null,null,null,null,null,null,null,null,{"$f":"IF(A1142<>\"\",TEXT(A1142,\"\"),\"\")","v":""},{"$f":"IF(N1142=\"\",\"\",CONCATENATE(IF(C1142<>\"\",TEXT(C1142,\"\"),\"\"),\" - \",IF(K1142<>\"\",TEXT(K1142,\"\"),\"\")))","v":""},{"$f":"SUBSTITUTE(SUBSTITUTE(SUBSTITUTE(SUBSTITUTE(IF(L1142<>\"\",HLink(L1142),\"\"),\"htm\",\"html\"),\"1x2\",\"analysis\"),\"www\",\"data\"),\"com\",\"vip\")","v":""},{"$f":"IF(D1142<>\"\",D1142,\"\")","v":""},{"$f":"IF(E1142<>\"\",E1142,\"\")","v":""},{"$f":"IF(F1142<>\"\",F1142,\"\")","v":""},{"$f":"IF(N1142<>\"\",IF(D1143<>\"\",D1143,D1142),\"\")","v":""},{"$f":"IF(N1142<>\"\",IF(E1143<>\"\",E1143,E1142),\"\")","v":""},{"$f":"IF(N1142<>\"\",IF(F1143<>\"\",F1143,F1142),\"\")","v":""}]
[]
[null,null,null,null,null,null,null,null,null,null,null,null,null,{"$f":"IF(A1144<>\"\",TEXT(A1144,\"\"),\"\")","v":""},{"$f":"IF(N1144=\"\",\"\",CONCATENATE(IF(C1144<>\"\",TEXT(C1144,\"\"),\"\"),\" - \",IF(K1144<>\"\",TEXT(K1144,\"\"),\"\")))","v":""},{"$f":"SUBSTITUTE(SUBSTITUTE(SUBSTITUTE(SUBSTITUTE(IF(L1144<>\"\",HLink(L1144),\"\"),\"htm\",\"html\"),\"1x2\",\"analysis\"),\"www\",\"data\"),\"com\",\"vip\")","v":""},{"$f":"IF(D1144<>\"\",D1144,\"\")","v":""},{"$f":"IF(E1144<>\"\",E1144,\"\")","v":""},{"$f":"IF(F1144<>\"\",F1144,\"\")","v":""},{"$f":"IF(N1144<>\"\",IF(D1145<>\"\",D1145,D1144),\"\")","v":""},{"$f":"IF(N1144<>\"\",IF(E1145<>\"\",E1145,E1144),\"\")","v":""},{"$f":"IF(N1144<>\"\",IF(F1145<>\"\",F1145,F1144),\"\")","v":""}]
[]
[null,null,null,null,null,null,null,null,null,null,null,null,null,{"$f":"IF(A1146<>\"\",TEXT(A1146,\"\"),\"\")","v":""},{"$f":"IF(N1146=\"\",\"\",CONCATENATE(IF(C1146<>\"\",TEXT(C1146,\"\"),\"\"),\" - \",IF(K1146<>\"\",TEXT(K1146,\"\"),\"\")))","v":""},{"$f":"SUBSTITUTE(SUBSTITUTE(SUBSTITUTE(SUBSTITUTE(IF(L1146<>\"\",HLink(L1146),\"\"),\"htm\",\"html\"),\"1x2\",\"analysis\"),\"www\",\"data\"),\"com\",\"vip\")","v":""},{"$f":"IF(D1146<>\"\",D1146,\"\")","v":""},{"$f":"IF(E1146<>\"\",E1146,\"\")","v":""},{"$f":"IF(F1146<>\"\",F1146,\"\")","v":""},{"$f":"IF(N1146<>\"\",IF(D1147<>\"\",D1147,D1146),\"\")","v":""},{"$f":"IF(N1146<>\"\",IF(E1147<>\"\",E1147,E1146),\"\")","v":""},{"$f":"IF(N1146<>\"\",IF(F1147<>\"\",F1147,F1146),\"\")","v":""}]
[]
[null,null,null,null,null,null,null,null,null,null,null,null,null,{"$f":"IF(A1148<>\"\",TEXT(A1148,\"\"),\"\")","v":""},{"$f":"IF(N1148=\"\",\"\",CONCATENATE(IF(C1148<>\"\",TEXT(C1148,\"\"),\"\"),\" - \",IF(K1148<>\"\",TEXT(K1148,\"\"),\"\")))","v":""},{"$f":"SUBSTITUTE(SUBSTITUTE(SUBSTITUTE(SUBSTITUTE(IF(L1148<>\"\",HLink(L1148),\"\"),\"htm\",\"html\"),\"1x2\",\"analysis\"),\"www\",\"data\"),\"com\",\"vip\")","v":""},{"$f":"IF(D1148<>\"\",D1148,\"\")","v":""},{"$f":"IF(E1148<>\"\",E1148,\"\")","v":""},{"$f":"IF(F1148<>\"\",F1148,\"\")","v":""},{"$f":"IF(N1148<>\"\",IF(D1149<>\"\",D1149,D1148),\"\")","v":""},{"$f":"IF(N1148<>\"\",IF(E1149<>\"\",E1149,E1148),\"\")","v":""},{"$f":"IF(N1148<>\"\",IF(F1149<>\"\",F1149,F1148),\"\")","v":""}]
[]
[null,null,null,null,null,null,null,null,null,null,null,null,null,{"$f":"IF(A1150<>\"\",TEXT(A1150,\"\"),\"\")","v":""},{"$f":"IF(N1150=\"\",\"\",CONCATENATE(IF(C1150<>\"\",TEXT(C1150,\"\"),\"\"),\" - \",IF(K1150<>\"\",TEXT(K1150,\"\"),\"\")))","v":""},{"$f":"SUBSTITUTE(SUBSTITUTE(SUBSTITUTE(SUBSTITUTE(IF(L1150<>\"\",HLink(L1150),\"\"),\"htm\",\"html\"),\"1x2\",\"analysis\"),\"www\",\"data\"),\"com\",\"vip\")","v":""},{"$f":"IF(D1150<>\"\",D1150,\"\")","v":""},{"$f":"IF(E1150<>\"\",E1150,\"\")","v":""},{"$f":"IF(F1150<>\"\",F1150,\"\")","v":""},{"$f":"IF(N1150<>\"\",IF(D1151<>\"\",D1151,D1150),\"\")","v":""},{"$f":"IF(N1150<>\"\",IF(E1151<>\"\",E1151,E1150),\"\")","v":""},{"$f":"IF(N1150<>\"\",IF(F1151<>\"\",F1151,F1150),\"\")","v":""}]
[]
[null,null,null,null,null,null,null,null,null,null,null,null,null,{"$f":"IF(A1152<>\"\",TEXT(A1152,\"\"),\"\")","v":""},{"$f":"IF(N1152=\"\",\"\",CONCATENATE(IF(C1152<>\"\",TEXT(C1152,\"\"),\"\"),\" - \",IF(K1152<>\"\",TEXT(K1152,\"\"),\"\")))","v":""},{"$f":"SUBSTITUTE(SUBSTITUTE(SUBSTITUTE(SUBSTITUTE(IF(L1152<>\"\",HLink(L1152),\"\"),\"htm\",\"html\"),\"1x2\",\"analysis\"),\"www\",\"data\"),\"com\",\"vip\")","v":""},{"$f":"IF(D1152<>\"\",D1152,\"\")","v":""},{"$f":"IF(E1152<>\"\",E1152,\"\")","v":""},{"$f":"IF(F1152<>\"\",F1152,\"\")","v":""},{"$f":"IF(N1152<>\"\",IF(D1153<>\"\",D1153,D1152),\"\")","v":""},{"$f":"IF(N1152<>\"\",IF(E1153<>\"\",E1153,E1152),\"\")","v":""},{"$f":"IF(N1152<>\"\",IF(F1153<>\"\",F1153,F1152),\"\")","v":""}]
[]
[null,null,null,null,null,null,null,null,null,null,null,null,null,{"$f":"IF(A1154<>\"\",TEXT(A1154,\"\"),\"\")","v":""},{"$f":"IF(N1154=\"\",\"\",CONCATENATE(IF(C1154<>\"\",TEXT(C1154,\"\"),\"\"),\" - \",IF(K1154<>\"\",TEXT(K1154,\"\"),\"\")))","v":""},{"$f":"SUBSTITUTE(SUBSTITUTE(SUBSTITUTE(SUBSTITUTE(IF(L1154<>\"\",HLink(L1154),\"\"),\"htm\",\"html\"),\"1x2\",\"analysis\"),\"www\",\"data\"),\"com\",\"vip\")","v":""},{"$f":"IF(D1154<>\"\",D1154,\"\")","v":""},{"$f":"IF(E1154<>\"\",E1154,\"\")","v":""},{"$f":"IF(F1154<>\"\",F1154,\"\")","v":""},{"$f":"IF(N1154<>\"\",IF(D1155<>\"\",D1155,D1154),\"\")","v":""},{"$f":"IF(N1154<>\"\",IF(E1155<>\"\",E1155,E1154),\"\")","v":""},{"$f":"IF(N1154<>\"\",IF(F1155<>\"\",F1155,F1154),\"\")","v":""}]
[]
[null,null,null,null,null,null,null,null,null,null,null,null,null,{"$f":"IF(A1156<>\"\",TEXT(A1156,\"\"),\"\")","v":""},{"$f":"IF(N1156=\"\",\"\",CONCATENATE(IF(C1156<>\"\",TEXT(C1156,\"\"),\"\"),\" - \",IF(K1156<>\"\",TEXT(K1156,\"\"),\"\")))","v":""},{"$f":"SUBSTITUTE(SUBSTITUTE(SUBSTITUTE(SUBSTITUTE(IF(L1156<>\"\",HLink(L1156),\"\"),\"htm\",\"html\"),\"1x2\",\"analysis\"),\"www\",\"data\"),\"com\",\"vip\")","v":""},{"$f":"IF(D1156<>\"\",D1156,\"\")","v":""},{"$f":"IF(E1156<>\"\",E1156,\"\")","v":""},{"$f":"IF(F1156<>\"\",F1156,\"\")","v":""},{"$f":"IF(N1156<>\"\",IF(D1157<>\"\",D1157,D1156),\"\")","v":""},{"$f":"IF(N1156<>\"\",IF(E1157<>\"\",E1157,E1156),\"\")","v":""},{"$f":"IF(N1156<>\"\",IF(F1157<>\"\",F1157,F1156),\"\")","v":""}]
[]
[null,null,null,null,null,null,null,null,null,null,null,null,null,{"$f":"IF(A1158<>\"\",TEXT(A1158,\"\"),\"\")","v":""},{"$f":"IF(N1158=\"\",\"\",CONCATENATE(IF(C1158<>\"\",TEXT(C1158,\"\"),\"\"),\" - \",IF(K1158<>\"\",TEXT(K1158,\"\"),\"\")))","v":""},{"$f":"SUBSTITUTE(SUBSTITUTE(SUBSTITUTE(SUBSTITUTE(IF(L1158<>\"\",HLink(L1158),\"\"),\"htm\",\"html\"),\"1x2\",\"analysis\"),\"www\",\"data\"),\"com\",\"vip\")","v":""},{"$f":"IF(D1158<>\"\",D1158,\"\")","v":""},{"$f":"IF(E1158<>\"\",E1158,\"\")","v":""},{"$f":"IF(F1158<>\"\",F1158,\"\")","v":""},{"$f":"IF(N1158<>\"\",IF(D1159<>\"\",D1159,D1158),\"\")","v":""},{"$f":"IF(N1158<>\"\",IF(E1159<>\"\",E1159,E1158),\"\")","v":""},{"$f":"IF(N1158<>\"\",IF(F1159<>\"\",F1159,F1158),\"\")","v":""}]
[]
[null,null,null,null,null,null,null,null,null,null,null,null,null,{"$f":"IF(A1160<>\"\",TEXT(A1160,\"\"),\"\")","v":""},{"$f":"IF(N1160=\"\",\"\",CONCATENATE(IF(C1160<>\"\",TEXT(C1160,\"\"),\"\"),\" - \",IF(K1160<>\"\",TEXT(K1160,\"\"),\"\")))","v":""},{"$f":"SUBSTITUTE(SUBSTITUTE(SUBSTITUTE(SUBSTITUTE(IF(L1160<>\"\",HLink(L1160),\"\"),\"htm\",\"html\"),\"1x2\",\"analysis\"),\"www\",\"data\"),\"com\",\"vip\")","v":""},{"$f":"IF(D1160<>\"\",D1160,\"\")","v":""},{"$f":"IF(E1160<>\"\",E1160,\"\")","v":""},{"$f":"IF(F1160<>\"\",F1160,\"\")","v":""},{"$f":"IF(N1160<>\"\",IF(D1161<>\"\",D1161,D1160),\"\")","v":""},{"$f":"IF(N1160<>\"\",IF(E1161<>\"\",E1161,E1160),\"\")","v":""},{"$f":"IF(N1160<>\"\",IF(F1161<>\"\",F1161,F1160),\"\")","v":""}]
[]
[null,null,null,null,null,null,null,null,null,null,null,null,null,{"$f":"IF(A1162<>\"\",TEXT(A1162,\"\"),\"\")","v":""},{"$f":"IF(N1162=\"\",\"\",CONCATENATE(IF(C1162<>\"\",TEXT(C1162,\"\"),\"\"),\" - \",IF(K1162<>\"\",TEXT(K1162,\"\"),\"\")))","v":""},{"$f":"SUBSTITUTE(SUBSTITUTE(SUBSTITUTE(SUBSTITUTE(IF(L1162<>\"\",HLink(L1162),\"\"),\"htm\",\"html\"),\"1x2\",\"analysis\"),\"www\",\"data\"),\"com\",\"vip\")","v":""},{"$f":"IF(D1162<>\"\",D1162,\"\")","v":""},{"$f":"IF(E1162<>\"\",E1162,\"\")","v":""},{"$f":"IF(F1162<>\"\",F1162,\"\")","v":""},{"$f":"IF(N1162<>\"\",IF(D1163<>\"\",D1163,D1162),\"\")","v":""},{"$f":"IF(N1162<>\"\",IF(E1163<>\"\",E1163,E1162),\"\")","v":""},{"$f":"IF(N1162<>\"\",IF(F1163<>\"\",F1163,F1162),\"\")","v":""}]
[]
[null,null,null,null,null,null,null,null,null,null,null,null,null,{"$f":"IF(A1164<>\"\",TEXT(A1164,\"\"),\"\")","v":""},{"$f":"IF(N1164=\"\",\"\",CONCATENATE(IF(C1164<>\"\",TEXT(C1164,\"\"),\"\"),\" - \",IF(K1164<>\"\",TEXT(K1164,\"\"),\"\")))","v":""},{"$f":"SUBSTITUTE(SUBSTITUTE(SUBSTITUTE(SUBSTITUTE(IF(L1164<>\"\",HLink(L1164),\"\"),\"htm\",\"html\"),\"1x2\",\"analysis\"),\"www\",\"data\"),\"com\",\"vip\")","v":""},{"$f":"IF(D1164<>\"\",D1164,\"\")","v":""},{"$f":"IF(E1164<>\"\",E1164,\"\")","v":""},{"$f":"IF(F1164<>\"\",F1164,\"\")","v":""},{"$f":"IF(N1164<>\"\",IF(D1165<>\"\",D1165,D1164),\"\")","v":""},{"$f":"IF(N1164<>\"\",IF(E1165<>\"\",E1165,E1164),\"\")","v":""},{"$f":"IF(N1164<>\"\",IF(F1165<>\"\",F1165,F1164),\"\")","v":""}]
[]
[null,null,null,null,null,null,null,null,null,null,null,null,null,{"$f":"IF(A1166<>\"\",TEXT(A1166,\"\"),\"\")","v":""},{"$f":"IF(N1166=\"\",\"\",CONCATENATE(IF(C1166<>\"\",TEXT(C1166,\"\"),\"\"),\" - \",IF(K1166<>\"\",TEXT(K1166,\"\"),\"\")))","v":""},{"$f":"SUBSTITUTE(SUBSTITUTE(SUBSTITUTE(SUBSTITUTE(IF(L1166<>\"\",HLink(L1166),\"\"),\"htm\",\"html\"),\"1x2\",\"analysis\"),\"www\",\"data\"),\"com\",\"vip\")","v":""},{"$f":"IF(D1166<>\"\",D1166,\"\")","v":""},{"$f":"IF(E1166<>\"\",E1166,\"\")","v":""},{"$f":"IF(F1166<>\"\",F1166,\"\")","v":""},{"$f":"IF(N1166<>\"\",IF(D1167<>\"\",D1167,D1166),\"\")","v":""},{"$f":"IF(N1166<>\"\",IF(E1167<>\"\",E1167,E1166),\"\")","v":""},{"$f":"IF(N1166<>\"\",IF(F1167<>\"\",F1167,F1166),\"\")","v":""}]
[]
[null,null,null,null,null,null,null,null,null,null,null,null,null,{"$f":"IF(A1168<>\"\",TEXT(A1168,\"\"),\"\")","v":""},{"$f":"IF(N1168=\"\",\"\",CONCATENATE(IF(C1168<>\"\",TEXT(C1168,\"\"),\"\"),\" - \",IF(K1168<>\"\",TEXT(K1168,\"\"),\"\")))","v":""},{"$f":"SUBSTITUTE(SUBSTITUTE(SUBSTITUTE(SUBSTITUTE(IF(L1168<>\"\",HLink(L1168),\"\"),\"htm\",\"html\"),\"1x2\",\"analysis\"),\"www\",\"data\"),\"com\",\"vip\")","v":""},{"$f":"IF(D1168<>\"\",D1168,\"\")","v":""},{"$f":"IF(E1168<>\"\",E1168,\"\")","v":""},{"$f":"IF(F1168<>\"\",F1168,\"\")","v":""},{"$f":"IF(N1168<>\"\",IF(D1169<>\"\",D1169,D1168),\"\")","v":""},{"$f":"IF(N1168<>\"\",IF(E1169<>\"\",E1169,E1168),\"\")","v":""},{"$f":"IF(N1168<>\"\",IF(F1169<>\"\",F1169,F1168),\"\")","v":""}]
[]
[null,null,null,null,null,null,null,null,null,null,null,null,null,{"$f":"IF(A1170<>\"\",TEXT(A1170,\"\"),\"\")","v":""},{"$f":"IF(N1170=\"\",\"\",CONCATENATE(IF(C1170<>\"\",TEXT(C1170,\"\"),\"\"),\" - \",IF(K1170<>\"\",TEXT(K1170,\"\"),\"\")))","v":""},{"$f":"SUBSTITUTE(SUBSTITUTE(SUBSTITUTE(SUBSTITUTE(IF(L1170<>\"\",HLink(L1170),\"\"),\"htm\",\"html\"),\"1x2\",\"analysis\"),\"www\",\"data\"),\"com\",\"vip\")","v":""},{"$f":"IF(D1170<>\"\",D1170,\"\")","v":""},{"$f":"IF(E1170<>\"\",E1170,\"\")","v":""},{"$f":"IF(F1170<>\"\",F1170,\"\")","v":""},{"$f":"IF(N1170<>\"\",IF(D1171<>\"\",D1171,D1170),\"\")","v":""},{"$f":"IF(N1170<>\"\",IF(E1171<>\"\",E1171,E1170),\"\")","v":""},{"$f":"IF(N1170<>\"\",IF(F1171<>\"\",F1171,F1170),\"\")","v":""}]
[]
[null,null,null,null,null,null,null,null,null,null,null,null,null,{"$f":"IF(A1172<>\"\",TEXT(A1172,\"\"),\"\")","v":""},{"$f":"IF(N1172=\"\",\"\",CONCATENATE(IF(C1172<>\"\",TEXT(C1172,\"\"),\"\"),\" - \",IF(K1172<>\"\",TEXT(K1172,\"\"),\"\")))","v":""},{"$f":"SUBSTITUTE(SUBSTITUTE(SUBSTITUTE(SUBSTITUTE(IF(L1172<>\"\",HLink(L1172),\"\"),\"htm\",\"html\"),\"1x2\",\"analysis\"),\"www\",\"data\"),\"com\",\"vip\")","v":""},{"$f":"IF(D1172<>\"\",D1172,\"\")","v":""},{"$f":"IF(E1172<>\"\",E1172,\"\")","v":""},{"$f":"IF(F1172<>\"\",F1172,\"\")","v":""},{"$f":"IF(N1172<>\"\",IF(D1173<>\"\",D1173,D1172),\"\")","v":""},{"$f":"IF(N1172<>\"\",IF(E1173<>\"\",E1173,E1172),\"\")","v":""},{"$f":"IF(N1172<>\"\",IF(F1173<>\"\",F1173,F1172),\"\")","v":""}]
[]
[null,null,null,null,null,null,null,null,null,null,null,null,null,{"$f":"IF(A1174<>\"\",TEXT(A1174,\"\"),\"\")","v":""},{"$f":"IF(N1174=\"\",\"\",CONCATENATE(IF(C1174<>\"\",TEXT(C1174,\"\"),\"\"),\" - \",IF(K1174<>\"\",TEXT(K1174,\"\"),\"\")))","v":""},{"$f":"SUBSTITUTE(SUBSTITUTE(SUBSTITUTE(SUBSTITUTE(IF(L1174<>\"\",HLink(L1174),\"\"),\"htm\",\"html\"),\"1x2\",\"analysis\"),\"www\",\"data\"),\"com\",\"vip\")","v":""},{"$f":"IF(D1174<>\"\",D1174,\"\")","v":""},{"$f":"IF(E1174<>\"\",E1174,\"\")","v":""},{"$f":"IF(F1174<>\"\",F1174,\"\")","v":""},{"$f":"IF(N1174<>\"\",IF(D1175<>\"\",D1175,D1174),\"\")","v":""},{"$f":"IF(N1174<>\"\",IF(E1175<>\"\",E1175,E1174),\"\")","v":""},{"$f":"IF(N1174<>\"\",IF(F1175<>\"\",F1175,F1174),\"\")","v":""}]
[]
[null,null,null,null,null,null,null,null,null,null,null,null,null,{"$f":"IF(A1176<>\"\",TEXT(A1176,\"\"),\"\")","v":""},{"$f":"IF(N1176=\"\",\"\",CONCATENATE(IF(C1176<>\"\",TEXT(C1176,\"\"),\"\"),\" - \",IF(K1176<>\"\",TEXT(K1176,\"\"),\"\")))","v":""},{"$f":"SUBSTITUTE(SUBSTITUTE(SUBSTITUTE(SUBSTITUTE(IF(L1176<>\"\",HLink(L1176),\"\"),\"htm\",\"html\"),\"1x2\",\"analysis\"),\"www\",\"data\"),\"com\",\"vip\")","v":""},{"$f":"IF(D1176<>\"\",D1176,\"\")","v":""},{"$f":"IF(E1176<>\"\",E1176,\"\")","v":""},{"$f":"IF(F1176<>\"\",F1176,\"\")","v":""},{"$f":"IF(N1176<>\"\",IF(D1177<>\"\",D1177,D1176),\"\")","v":""},{"$f":"IF(N1176<>\"\",IF(E1177<>\"\",E1177,E1176),\"\")","v":""},{"$f":"IF(N1176<>\"\",IF(F1177<>\"\",F1177,F1176),\"\")","v":""}]
[]
[null,null,null,null,null,null,null,null,null,null,null,null,null,{"$f":"IF(A1178<>\"\",TEXT(A1178,\"\"),\"\")","v":""},{"$f":"IF(N1178=\"\",\"\",CONCATENATE(IF(C1178<>\"\",TEXT(C1178,\"\"),\"\"),\" - \",IF(K1178<>\"\",TEXT(K1178,\"\"),\"\")))","v":""},{"$f":"SUBSTITUTE(SUBSTITUTE(SUBSTITUTE(SUBSTITUTE(IF(L1178<>\"\",HLink(L1178),\"\"),\"htm\",\"html\"),\"1x2\",\"analysis\"),\"www\",\"data\"),\"com\",\"vip\")","v":""},{"$f":"IF(D1178<>\"\",D1178,\"\")","v":""},{"$f":"IF(E1178<>\"\",E1178,\"\")","v":""},{"$f":"IF(F1178<>\"\",F1178,\"\")","v":""},{"$f":"IF(N1178<>\"\",IF(D1179<>\"\",D1179,D1178),\"\")","v":""},{"$f":"IF(N1178<>\"\",IF(E1179<>\"\",E1179,E1178),\"\")","v":""},{"$f":"IF(N1178<>\"\",IF(F1179<>\"\",F1179,F1178),\"\")","v":""}]
[]
[null,null,null,null,null,null,null,null,null,null,null,null,null,{"$f":"IF(A1180<>\"\",TEXT(A1180,\"\"),\"\")","v":""},{"$f":"IF(N1180=\"\",\"\",CONCATENATE(IF(C1180<>\"\",TEXT(C1180,\"\"),\"\"),\" - \",IF(K1180<>\"\",TEXT(K1180,\"\"),\"\")))","v":""},{"$f":"SUBSTITUTE(SUBSTITUTE(SUBSTITUTE(SUBSTITUTE(IF(L1180<>\"\",HLink(L1180),\"\"),\"htm\",\"html\"),\"1x2\",\"analysis\"),\"www\",\"data\"),\"com\",\"vip\")","v":""},{"$f":"IF(D1180<>\"\",D1180,\"\")","v":""},{"$f":"IF(E1180<>\"\",E1180,\"\")","v":""},{"$f":"IF(F1180<>\"\",F1180,\"\")","v":""},{"$f":"IF(N1180<>\"\",IF(D1181<>\"\",D1181,D1180),\"\")","v":""},{"$f":"IF(N1180<>\"\",IF(E1181<>\"\",E1181,E1180),\"\")","v":""},{"$f":"IF(N1180<>\"\",IF(F1181<>\"\",F1181,F1180),\"\")","v":""}]
[]
[null,null,null,null,null,null,null,null,null,null,null,null,null,{"$f":"IF(A1182<>\"\",TEXT(A1182,\"\"),\"\")","v":""},{"$f":"IF(N1182=\"\",\"\",CONCATENATE(IF(C1182<>\"\",TEXT(C1182,\"\"),\"\"),\" - \",IF(K1182<>\"\",TEXT(K1182,\"\"),\"\")))","v":""},{"$f":"SUBSTITUTE(SUBSTITUTE(SUBSTITUTE(SUBSTITUTE(IF(L1182<>\"\",HLink(L1182),\"\"),\"htm\",\"html\"),\"1x2\",\"analysis\"),\"www\",\"data\"),\"com\",\"vip\")","v":""},{"$f":"IF(D1182<>\"\",D1182,\"\")","v":""},{"$f":"IF(E1182<>\"\",E1182,\"\")","v":""},{"$f":"IF(F1182<>\"\",F1182,\"\")","v":""},{"$f":"IF(N1182<>\"\",IF(D1183<>\"\",D1183,D1182),\"\")","v":""},{"$f":"IF(N1182<>\"\",IF(E1183<>\"\",E1183,E1182),\"\")","v":""},{"$f":"IF(N1182<>\"\",IF(F1183<>\"\",F1183,F1182),\"\")","v":""}]
[]
[null,null,null,null,null,null,null,null,null,null,null,null,null,{"$f":"IF(A1184<>\"\",TEXT(A1184,\"\"),\"\")","v":""},{"$f":"IF(N1184=\"\",\"\",CONCATENATE(IF(C1184<>\"\",TEXT(C1184,\"\"),\"\"),\" - \",IF(K1184<>\"\",TEXT(K1184,\"\"),\"\")))","v":""},{"$f":"SUBSTITUTE(SUBSTITUTE(SUBSTITUTE(SUBSTITUTE(IF(L1184<>\"\",HLink(L1184),\"\"),\"htm\",\"html\"),\"1x2\",\"analysis\"),\"www\",\"data\"),\"com\",\"vip\")","v":""},{"$f":"IF(D1184<>\"\",D1184,\"\")","v":""},{"$f":"IF(E1184<>\"\",E1184,\"\")","v":""},{"$f":"IF(F1184<>\"\",F1184,\"\")","v":""},{"$f":"IF(N1184<>\"\",IF(D1185<>\"\",D1185,D1184),\"\")","v":""},{"$f":"IF(N1184<>\"\",IF(E1185<>\"\",E1185,E1184),\"\")","v":""},{"$f":"IF(N1184<>\"\",IF(F1185<>\"\",F1185,F1184),\"\")","v":""}]
[]
[null,null,null,null,null,null,null,null,null,null,null,null,null,{"$f":"IF(A1186<>\"\",TEXT(A1186,\"\"),\"\")","v":""},{"$f":"IF(N1186=\"\",\"\",CONCATENATE(IF(C1186<>\"\",TEXT(C1186,\"\"),\"\"),\" - \",IF(K1186<>\"\",TEXT(K1186,\"\"),\"\")))","v":""},{"$f":"SUBSTITUTE(SUBSTITUTE(SUBSTITUTE(SUBSTITUTE(IF(L1186<>\"\",HLink(L1186),\"\"),\"htm\",\"html\"),\"1x2\",\"analysis\"),\"www\",\"data\"),\"com\",\"vip\")","v":""},{"$f":"IF(D1186<>\"\",D1186,\"\")","v":""},{"$f":"IF(E1186<>\"\",E1186,\"\")","v":""},{"$f":"IF(F1186<>\"\",F1186,\"\")","v":""},{"$f":"IF(N1186<>\"\",IF(D1187<>\"\",D1187,D1186),\"\")","v":""},{"$f":"IF(N1186<>\"\",IF(E1187<>\"\",E1187,E1186),\"\")","v":""},{"$f":"IF(N1186<>\"\",IF(F1187<>\"\",F1187,F1186),\"\")","v":""}]
[]
[null,null,null,null,null,null,null,null,null,null,null,null,null,{"$f":"IF(A1188<>\"\",TEXT(A1188,\"\"),\"\")","v":""},{"$f":"IF(N1188=\"\",\"\",CONCATENATE(IF(C1188<>\"\",TEXT(C1188,\"\"),\"\"),\" - \",IF(K1188<>\"\",TEXT(K1188,\"\"),\"\")))","v":""},{"$f":"SUBSTITUTE(SUBSTITUTE(SUBSTITUTE(SUBSTITUTE(IF(L1188<>\"\",HLink(L1188),\"\"),\"htm\",\"html\"),\"1x2\",\"analysis\"),\"www\",\"data\"),\"com\",\"vip\")","v":""},{"$f":"IF(D1188<>\"\",D1188,\"\")","v":""},{"$f":"IF(E1188<>\"\",E1188,\"\")","v":""},{"$f":"IF(F1188<>\"\",F1188,\"\")","v":""},{"$f":"IF(N1188<>\"\",IF(D1189<>\"\",D1189,D1188),\"\")","v":""},{"$f":"IF(N1188<>\"\",IF(E1189<>\"\",E1189,E1188),\"\")","v":""},{"$f":"IF(N1188<>\"\",IF(F1189<>\"\",F1189,F1188),\"\")","v":""}]
[]
[null,null,null,null,null,null,null,null,null,null,null,null,null,{"$f":"IF(A1190<>\"\",TEXT(A1190,\"\"),\"\")","v":""},{"$f":"IF(N1190=\"\",\"\",CONCATENATE(IF(C1190<>\"\",TEXT(C1190,\"\"),\"\"),\" - \",IF(K1190<>\"\",TEXT(K1190,\"\"),\"\")))","v":""},{"$f":"SUBSTITUTE(SUBSTITUTE(SUBSTITUTE(SUBSTITUTE(IF(L1190<>\"\",HLink(L1190),\"\"),\"htm\",\"html\"),\"1x2\",\"analysis\"),\"www\",\"data\"),\"com\",\"vip\")","v":""},{"$f":"IF(D1190<>\"\",D1190,\"\")","v":""},{"$f":"IF(E1190<>\"\",E1190,\"\")","v":""},{"$f":"IF(F1190<>\"\",F1190,\"\")","v":""},{"$f":"IF(N1190<>\"\",IF(D1191<>\"\",D1191,D1190),\"\")","v":""},{"$f":"IF(N1190<>\"\",IF(E1191<>\"\",E1191,E1190),\"\")","v":""},{"$f":"IF(N1190<>\"\",IF(F1191<>\"\",F1191,F1190),\"\")","v":""}]
[]
[null,null,null,null,null,null,null,null,null,null,null,null,null,{"$f":"IF(A1192<>\"\",TEXT(A1192,\"\"),\"\")","v":""},{"$f":"IF(N1192=\"\",\"\",CONCATENATE(IF(C1192<>\"\",TEXT(C1192,\"\"),\"\"),\" - \",IF(K1192<>\"\",TEXT(K1192,\"\"),\"\")))","v":""},{"$f":"SUBSTITUTE(SUBSTITUTE(SUBSTITUTE(SUBSTITUTE(IF(L1192<>\"\",HLink(L1192),\"\"),\"htm\",\"html\"),\"1x2\",\"analysis\"),\"www\",\"data\"),\"com\",\"vip\")","v":""},{"$f":"IF(D1192<>\"\",D1192,\"\")","v":""},{"$f":"IF(E1192<>\"\",E1192,\"\")","v":""},{"$f":"IF(F1192<>\"\",F1192,\"\")","v":""},{"$f":"IF(N1192<>\"\",IF(D1193<>\"\",D1193,D1192),\"\")","v":""},{"$f":"IF(N1192<>\"\",IF(E1193<>\"\",E1193,E1192),\"\")","v":""},{"$f":"IF(N1192<>\"\",IF(F1193<>\"\",F1193,F1192),\"\")","v":""}]
[]
[null,null,null,null,null,null,null,null,null,null,null,null,null,{"$f":"IF(A1194<>\"\",TEXT(A1194,\"\"),\"\")","v":""},{"$f":"IF(N1194=\"\",\"\",CONCATENATE(IF(C1194<>\"\",TEXT(C1194,\"\"),\"\"),\" - \",IF(K1194<>\"\",TEXT(K1194,\"\"),\"\")))","v":""},{"$f":"SUBSTITUTE(SUBSTITUTE(SUBSTITUTE(SUBSTITUTE(IF(L1194<>\"\",HLink(L1194),\"\"),\"htm\",\"html\"),\"1x2\",\"analysis\"),\"www\",\"data\"),\"com\",\"vip\")","v":""},{"$f":"IF(D1194<>\"\",D1194,\"\")","v":""},{"$f":"IF(E1194<>\"\",E1194,\"\")","v":""},{"$f":"IF(F1194<>\"\",F1194,\"\")","v":""},{"$f":"IF(N1194<>\"\",IF(D1195<>\"\",D1195,D1194),\"\")","v":""},{"$f":"IF(N1194<>\"\",IF(E1195<>\"\",E1195,E1194),\"\")","v":""},{"$f":"IF(N1194<>\"\",IF(F1195<>\"\",F1195,F1194),\"\")","v":""}]
[]
[null,null,null,null,null,null,null,null,null,null,null,null,null,{"$f":"IF(A1196<>\"\",TEXT(A1196,\"\"),\"\")","v":""},{"$f":"IF(N1196=\"\",\"\",CONCATENATE(IF(C1196<>\"\",TEXT(C1196,\"\"),\"\"),\" - \",IF(K1196<>\"\",TEXT(K1196,\"\"),\"\")))","v":""},{"$f":"SUBSTITUTE(SUBSTITUTE(SUBSTITUTE(SUBSTITUTE(IF(L1196<>\"\",HLink(L1196),\"\"),\"htm\",\"html\"),\"1x2\",\"analysis\"),\"www\",\"data\"),\"com\",\"vip\")","v":""},{"$f":"IF(D1196<>\"\",D1196,\"\")","v":""},{"$f":"IF(E1196<>\"\",E1196,\"\")","v":""},{"$f":"IF(F1196<>\"\",F1196,\"\")","v":""},{"$f":"IF(N1196<>\"\",IF(D1197<>\"\",D1197,D1196),\"\")","v":""},{"$f":"IF(N1196<>\"\",IF(E1197<>\"\",E1197,E1196),\"\")","v":""},{"$f":"IF(N1196<>\"\",IF(F1197<>\"\",F1197,F1196),\"\")","v":""}]
[]
[null,null,null,null,null,null,null,null,null,null,null,null,null,{"$f":"IF(A1198<>\"\",TEXT(A1198,\"\"),\"\")","v":""},{"$f":"IF(N1198=\"\",\"\",CONCATENATE(IF(C1198<>\"\",TEXT(C1198,\"\"),\"\"),\" - \",IF(K1198<>\"\",TEXT(K1198,\"\"),\"\")))","v":""},{"$f":"SUBSTITUTE(SUBSTITUTE(SUBSTITUTE(SUBSTITUTE(IF(L1198<>\"\",HLink(L1198),\"\"),\"htm\",\"html\"),\"1x2\",\"analysis\"),\"www\",\"data\"),\"com\",\"vip\")","v":""},{"$f":"IF(D1198<>\"\",D1198,\"\")","v":""},{"$f":"IF(E1198<>\"\",E1198,\"\")","v":""},{"$f":"IF(F1198<>\"\",F1198,\"\")","v":""},{"$f":"IF(N1198<>\"\",IF(D1199<>\"\",D1199,D1198),\"\")","v":""},{"$f":"IF(N1198<>\"\",IF(E1199<>\"\",E1199,E1198),\"\")","v":""},{"$f":"IF(N1198<>\"\",IF(F1199<>\"\",F1199,F1198),\"\")","v":""}]
[]
[null,null,null,null,null,null,null,null,null,null,null,null,null,{"$f":"IF(A1200<>\"\",TEXT(A1200,\"\"),\"\")","v":""},{"$f":"IF(N1200=\"\",\"\",CONCATENATE(IF(C1200<>\"\",TEXT(C1200,\"\"),\"\"),\" - \",IF(K1200<>\"\",TEXT(K1200,\"\"),\"\")))","v":""},{"$f":"SUBSTITUTE(SUBSTITUTE(SUBSTITUTE(SUBSTITUTE(IF(L1200<>\"\",HLink(L1200),\"\"),\"htm\",\"html\"),\"1x2\",\"analysis\"),\"www\",\"data\"),\"com\",\"vip\")","v":""},{"$f":"IF(D1200<>\"\",D1200,\"\")","v":""},{"$f":"IF(E1200<>\"\",E1200,\"\")","v":""},{"$f":"IF(F1200<>\"\",F1200,\"\")","v":""},{"$f":"IF(N1200<>\"\",IF(D1201<>\"\",D1201,D1200),\"\")","v":""},{"$f":"IF(N1200<>\"\",IF(E1201<>\"\",E1201,E1200),\"\")","v":""},{"$f":"IF(N1200<>\"\",IF(F1201<>\"\",F1201,F1200),\"\")","v":""}]
[]
[null,null,null,null,null,null,null,null,null,null,null,null,null,{"$f":"IF(A1202<>\"\",TEXT(A1202,\"\"),\"\")","v":""},{"$f":"IF(N1202=\"\",\"\",CONCATENATE(IF(C1202<>\"\",TEXT(C1202,\"\"),\"\"),\" - \",IF(K1202<>\"\",TEXT(K1202,\"\"),\"\")))","v":""},{"$f":"SUBSTITUTE(SUBSTITUTE(SUBSTITUTE(SUBSTITUTE(IF(L1202<>\"\",HLink(L1202),\"\"),\"htm\",\"html\"),\"1x2\",\"analysis\"),\"www\",\"data\"),\"com\",\"vip\")","v":""},{"$f":"IF(D1202<>\"\",D1202,\"\")","v":""},{"$f":"IF(E1202<>\"\",E1202,\"\")","v":""},{"$f":"IF(F1202<>\"\",F1202,\"\")","v":""},{"$f":"IF(N1202<>\"\",IF(D1203<>\"\",D1203,D1202),\"\")","v":""},{"$f":"IF(N1202<>\"\",IF(E1203<>\"\",E1203,E1202),\"\")","v":""},{"$f":"IF(N1202<>\"\",IF(F1203<>\"\",F1203,F1202),\"\")","v":""}]
[]
[null,null,null,null,null,null,null,null,null,null,null,null,null,{"$f":"IF(A1204<>\"\",TEXT(A1204,\"\"),\"\")","v":""},{"$f":"IF(N1204=\"\",\"\",CONCATENATE(IF(C1204<>\"\",TEXT(C1204,\"\"),\"\"),\" - \",IF(K1204<>\"\",TEXT(K1204,\"\"),\"\")))","v":""},{"$f":"SUBSTITUTE(SUBSTITUTE(SUBSTITUTE(SUBSTITUTE(IF(L1204<>\"\",HLink(L1204),\"\"),\"htm\",\"html\"),\"1x2\",\"analysis\"),\"www\",\"data\"),\"com\",\"vip\")","v":""},{"$f":"IF(D1204<>\"\",D1204,\"\")","v":""},{"$f":"IF(E1204<>\"\",E1204,\"\")","v":""},{"$f":"IF(F1204<>\"\",F1204,\"\")","v":""},{"$f":"IF(N1204<>\"\",IF(D1205<>\"\",D1205,D1204),\"\")","v":""},{"$f":"IF(N1204<>\"\",IF(E1205<>\"\",E1205,E1204),\"\")","v":""},{"$f":"IF(N1204<>\"\",IF(F1205<>\"\",F1205,F1204),\"\")","v":""}]
[]
[null,null,null,null,null,null,null,null,null,null,null,null,null,{"$f":"IF(A1206<>\"\",TEXT(A1206,\"\"),\"\")","v":""},{"$f":"IF(N1206=\"\",\"\",CONCATENATE(IF(C1206<>\"\",TEXT(C1206,\"\"),\"\"),\" - \",IF(K1206<>\"\",TEXT(K1206,\"\"),\"\")))","v":""},{"$f":"SUBSTITUTE(SUBSTITUTE(SUBSTITUTE(SUBSTITUTE(IF(L1206<>\"\",HLink(L1206),\"\"),\"htm\",\"html\"),\"1x2\",\"analysis\"),\"www\",\"data\"),\"com\",\"vip\")","v":""},{"$f":"IF(D1206<>\"\",D1206,\"\")","v":""},{"$f":"IF(E1206<>\"\",E1206,\"\")","v":""},{"$f":"IF(F1206<>\"\",F1206,\"\")","v":""},{"$f":"IF(N1206<>\"\",IF(D1207<>\"\",D1207,D1206),\"\")","v":""},{"$f":"IF(N1206<>\"\",IF(E1207<>\"\",E1207,E1206),\"\")","v":""},{"$f":"IF(N1206<>\"\",IF(F1207<>\"\",F1207,F1206),\"\")","v":""}]
[]
[null,null,null,null,null,null,null,null,null,null,null,null,null,{"$f":"IF(A1208<>\"\",TEXT(A1208,\"\"),\"\")","v":""},{"$f":"IF(N1208=\"\",\"\",CONCATENATE(IF(C1208<>\"\",TEXT(C1208,\"\"),\"\"),\" - \",IF(K1208<>\"\",TEXT(K1208,\"\"),\"\")))","v":""},{"$f":"SUBSTITUTE(SUBSTITUTE(SUBSTITUTE(SUBSTITUTE(IF(L1208<>\"\",HLink(L1208),\"\"),\"htm\",\"html\"),\"1x2\",\"analysis\"),\"www\",\"data\"),\"com\",\"vip\")","v":""},{"$f":"IF(D1208<>\"\",D1208,\"\")","v":""},{"$f":"IF(E1208<>\"\",E1208,\"\")","v":""},{"$f":"IF(F1208<>\"\",F1208,\"\")","v":""},{"$f":"IF(N1208<>\"\",IF(D1209<>\"\",D1209,D1208),\"\")","v":""},{"$f":"IF(N1208<>\"\",IF(E1209<>\"\",E1209,E1208),\"\")","v":""},{"$f":"IF(N1208<>\"\",IF(F1209<>\"\",F1209,F1208),\"\")","v":""}]
[]
[null,null,null,null,null,null,null,null,null,null,null,null,null,{"$f":"IF(A1210<>\"\",TEXT(A1210,\"\"),\"\")","v":""},{"$f":"IF(N1210=\"\",\"\",CONCATENATE(IF(C1210<>\"\",TEXT(C1210,\"\"),\"\"),\" - \",IF(K1210<>\"\",TEXT(K1210,\"\"),\"\")))","v":""},{"$f":"SUBSTITUTE(SUBSTITUTE(SUBSTITUTE(SUBSTITUTE(IF(L1210<>\"\",HLink(L1210),\"\"),\"htm\",\"html\"),\"1x2\",\"analysis\"),\"www\",\"data\"),\"com\",\"vip\")","v":""},{"$f":"IF(D1210<>\"\",D1210,\"\")","v":""},{"$f":"IF(E1210<>\"\",E1210,\"\")","v":""},{"$f":"IF(F1210<>\"\",F1210,\"\")","v":""},{"$f":"IF(N1210<>\"\",IF(D1211<>\"\",D1211,D1210),\"\")","v":""},{"$f":"IF(N1210<>\"\",IF(E1211<>\"\",E1211,E1210),\"\")","v":""},{"$f":"IF(N1210<>\"\",IF(F1211<>\"\",F1211,F1210),\"\")","v":""}]
[]
[null,null,null,null,null,null,null,null,null,null,null,null,null,{"$f":"IF(A1212<>\"\",TEXT(A1212,\"\"),\"\")","v":""},{"$f":"IF(N1212=\"\",\"\",CONCATENATE(IF(C1212<>\"\",TEXT(C1212,\"\"),\"\"),\" - \",IF(K1212<>\"\",TEXT(K1212,\"\"),\"\")))","v":""},{"$f":"SUBSTITUTE(SUBSTITUTE(SUBSTITUTE(SUBSTITUTE(IF(L1212<>\"\",HLink(L1212),\"\"),\"htm\",\"html\"),\"1x2\",\"analysis\"),\"www\",\"data\"),\"com\",\"vip\")","v":""},{"$f":"IF(D1212<>\"\",D1212,\"\")","v":""},{"$f":"IF(E1212<>\"\",E1212,\"\")","v":""},{"$f":"IF(F1212<>\"\",F1212,\"\")","v":""},{"$f":"IF(N1212<>\"\",IF(D1213<>\"\",D1213,D1212),\"\")","v":""},{"$f":"IF(N1212<>\"\",IF(E1213<>\"\",E1213,E1212),\"\")","v":""},{"$f":"IF(N1212<>\"\",IF(F1213<>\"\",F1213,F1212),\"\")","v":""}]
[]
[null,null,null,null,null,null,null,null,null,null,null,null,null,{"$f":"IF(A1214<>\"\",TEXT(A1214,\"\"),\"\")","v":""},{"$f":"IF(N1214=\"\",\"\",CONCATENATE(IF(C1214<>\"\",TEXT(C1214,\"\"),\"\"),\" - \",IF(K1214<>\"\",TEXT(K1214,\"\"),\"\")))","v":""},{"$f":"SUBSTITUTE(SUBSTITUTE(SUBSTITUTE(SUBSTITUTE(IF(L1214<>\"\",HLink(L1214),\"\"),\"htm\",\"html\"),\"1x2\",\"analysis\"),\"www\",\"data\"),\"com\",\"vip\")","v":""},{"$f":"IF(D1214<>\"\",D1214,\"\")","v":""},{"$f":"IF(E1214<>\"\",E1214,\"\")","v":""},{"$f":"IF(F1214<>\"\",F1214,\"\")","v":""},{"$f":"IF(N1214<>\"\",IF(D1215<>\"\",D1215,D1214),\"\")","v":""},{"$f":"IF(N1214<>\"\",IF(E1215<>\"\",E1215,E1214),\"\")","v":""},{"$f":"IF(N1214<>\"\",IF(F1215<>\"\",F1215,F1214),\"\")","v":""}]
[]
[null,null,null,null,null,null,null,null,null,null,null,null,null,{"$f":"IF(A1216<>\"\",TEXT(A1216,\"\"),\"\")","v":""},{"$f":"IF(N1216=\"\",\"\",CONCATENATE(IF(C1216<>\"\",TEXT(C1216,\"\"),\"\"),\" - \",IF(K1216<>\"\",TEXT(K1216,\"\"),\"\")))","v":""},{"$f":"SUBSTITUTE(SUBSTITUTE(SUBSTITUTE(SUBSTITUTE(IF(L1216<>\"\",HLink(L1216),\"\"),\"htm\",\"html\"),\"1x2\",\"analysis\"),\"www\",\"data\"),\"com\",\"vip\")","v":""},{"$f":"IF(D1216<>\"\",D1216,\"\")","v":""},{"$f":"IF(E1216<>\"\",E1216,\"\")","v":""},{"$f":"IF(F1216<>\"\",F1216,\"\")","v":""},{"$f":"IF(N1216<>\"\",IF(D1217<>\"\",D1217,D1216),\"\")","v":""},{"$f":"IF(N1216<>\"\",IF(E1217<>\"\",E1217,E1216),\"\")","v":""},{"$f":"IF(N1216<>\"\",IF(F1217<>\"\",F1217,F1216),\"\")","v":""}]
[]
[null,null,null,null,null,null,null,null,null,null,null,null,null,{"$f":"IF(A1218<>\"\",TEXT(A1218,\"\"),\"\")","v":""},{"$f":"IF(N1218=\"\",\"\",CONCATENATE(IF(C1218<>\"\",TEXT(C1218,\"\"),\"\"),\" - \",IF(K1218<>\"\",TEXT(K1218,\"\"),\"\")))","v":""},{"$f":"SUBSTITUTE(SUBSTITUTE(SUBSTITUTE(SUBSTITUTE(IF(L1218<>\"\",HLink(L1218),\"\"),\"htm\",\"html\"),\"1x2\",\"analysis\"),\"www\",\"data\"),\"com\",\"vip\")","v":""},{"$f":"IF(D1218<>\"\",D1218,\"\")","v":""},{"$f":"IF(E1218<>\"\",E1218,\"\")","v":""},{"$f":"IF(F1218<>\"\",F1218,\"\")","v":""},{"$f":"IF(N1218<>\"\",IF(D1219<>\"\",D1219,D1218),\"\")","v":""},{"$f":"IF(N1218<>\"\",IF(E1219<>\"\",E1219,E1218),\"\")","v":""},{"$f":"IF(N1218<>\"\",IF(F1219<>\"\",F1219,F1218),\"\")","v":""}]
[]
[null,null,null,null,null,null,null,null,null,null,null,null,null,{"$f":"IF(A1220<>\"\",TEXT(A1220,\"\"),\"\")","v":""},{"$f":"IF(N1220=\"\",\"\",CONCATENATE(IF(C1220<>\"\",TEXT(C1220,\"\"),\"\"),\" - \",IF(K1220<>\"\",TEXT(K1220,\"\"),\"\")))","v":""},{"$f":"SUBSTITUTE(SUBSTITUTE(SUBSTITUTE(SUBSTITUTE(IF(L1220<>\"\",HLink(L1220),\"\"),\"htm\",\"html\"),\"1x2\",\"analysis\"),\"www\",\"data\"),\"com\",\"vip\")","v":""},{"$f":"IF(D1220<>\"\",D1220,\"\")","v":""},{"$f":"IF(E1220<>\"\",E1220,\"\")","v":""},{"$f":"IF(F1220<>\"\",F1220,\"\")","v":""},{"$f":"IF(N1220<>\"\",IF(D1221<>\"\",D1221,D1220),\"\")","v":""},{"$f":"IF(N1220<>\"\",IF(E1221<>\"\",E1221,E1220),\"\")","v":""},{"$f":"IF(N1220<>\"\",IF(F1221<>\"\",F1221,F1220),\"\")","v":""}]
[]
[null,null,null,null,null,null,null,null,null,null,null,null,null,{"$f":"IF(A1222<>\"\",TEXT(A1222,\"\"),\"\")","v":""},{"$f":"IF(N1222=\"\",\"\",CONCATENATE(IF(C1222<>\"\",TEXT(C1222,\"\"),\"\"),\" - \",IF(K1222<>\"\",TEXT(K1222,\"\"),\"\")))","v":""},{"$f":"SUBSTITUTE(SUBSTITUTE(SUBSTITUTE(SUBSTITUTE(IF(L1222<>\"\",HLink(L1222),\"\"),\"htm\",\"html\"),\"1x2\",\"analysis\"),\"www\",\"data\"),\"com\",\"vip\")","v":""},{"$f":"IF(D1222<>\"\",D1222,\"\")","v":""},{"$f":"IF(E1222<>\"\",E1222,\"\")","v":""},{"$f":"IF(F1222<>\"\",F1222,\"\")","v":""},{"$f":"IF(N1222<>\"\",IF(D1223<>\"\",D1223,D1222),\"\")","v":""},{"$f":"IF(N1222<>\"\",IF(E1223<>\"\",E1223,E1222),\"\")","v":""},{"$f":"IF(N1222<>\"\",IF(F1223<>\"\",F1223,F1222),\"\")","v":""}]
[]
[null,null,null,null,null,null,null,null,null,null,null,null,null,{"$f":"IF(A1224<>\"\",TEXT(A1224,\"\"),\"\")","v":""},{"$f":"IF(N1224=\"\",\"\",CONCATENATE(IF(C1224<>\"\",TEXT(C1224,\"\"),\"\"),\" - \",IF(K1224<>\"\",TEXT(K1224,\"\"),\"\")))","v":""},{"$f":"SUBSTITUTE(SUBSTITUTE(SUBSTITUTE(SUBSTITUTE(IF(L1224<>\"\",HLink(L1224),\"\"),\"htm\",\"html\"),\"1x2\",\"analysis\"),\"www\",\"data\"),\"com\",\"vip\")","v":""},{"$f":"IF(D1224<>\"\",D1224,\"\")","v":""},{"$f":"IF(E1224<>\"\",E1224,\"\")","v":""},{"$f":"IF(F1224<>\"\",F1224,\"\")","v":""},{"$f":"IF(N1224<>\"\",IF(D1225<>\"\",D1225,D1224),\"\")","v":""},{"$f":"IF(N1224<>\"\",IF(E1225<>\"\",E1225,E1224),\"\")","v":""},{"$f":"IF(N1224<>\"\",IF(F1225<>\"\",F1225,F1224),\"\")","v":""}]
[]
[null,null,null,null,null,null,null,null,null,null,null,null,null,{"$f":"IF(A1226<>\"\",TEXT(A1226,\"\"),\"\")","v":""},{"$f":"IF(N1226=\"\",\"\",CONCATENATE(IF(C1226<>\"\",TEXT(C1226,\"\"),\"\"),\" - \",IF(K1226<>\"\",TEXT(K1226,\"\"),\"\")))","v":""},{"$f":"SUBSTITUTE(SUBSTITUTE(SUBSTITUTE(SUBSTITUTE(IF(L1226<>\"\",HLink(L1226),\"\"),\"htm\",\"html\"),\"1x2\",\"analysis\"),\"www\",\"data\"),\"com\",\"vip\")","v":""},{"$f":"IF(D1226<>\"\",D1226,\"\")","v":""},{"$f":"IF(E1226<>\"\",E1226,\"\")","v":""},{"$f":"IF(F1226<>\"\",F1226,\"\")","v":""},{"$f":"IF(N1226<>\"\",IF(D1227<>\"\",D1227,D1226),\"\")","v":""},{"$f":"IF(N1226<>\"\",IF(E1227<>\"\",E1227,E1226),\"\")","v":""},{"$f":"IF(N1226<>\"\",IF(F1227<>\"\",F1227,F1226),\"\")","v":""}]
[]
[null,null,null,null,null,null,null,null,null,null,null,null,null,{"$f":"IF(A1228<>\"\",TEXT(A1228,\"\"),\"\")","v":""},{"$f":"IF(N1228=\"\",\"\",CONCATENATE(IF(C1228<>\"\",TEXT(C1228,\"\"),\"\"),\" - \",IF(K1228<>\"\",TEXT(K1228,\"\"),\"\")))","v":""},{"$f":"SUBSTITUTE(SUBSTITUTE(SUBSTITUTE(SUBSTITUTE(IF(L1228<>\"\",HLink(L1228),\"\"),\"htm\",\"html\"),\"1x2\",\"analysis\"),\"www\",\"data\"),\"com\",\"vip\")","v":""},{"$f":"IF(D1228<>\"\",D1228,\"\")","v":""},{"$f":"IF(E1228<>\"\",E1228,\"\")","v":""},{"$f":"IF(F1228<>\"\",F1228,\"\")","v":""},{"$f":"IF(N1228<>\"\",IF(D1229<>\"\",D1229,D1228),\"\")","v":""},{"$f":"IF(N1228<>\"\",IF(E1229<>\"\",E1229,E1228),\"\")","v":""},{"$f":"IF(N1228<>\"\",IF(F1229<>\"\",F1229,F1228),\"\")","v":""}]
[]
[null,null,null,null,null,null,null,null,null,null,null,null,null,{"$f":"IF(A1230<>\"\",TEXT(A1230,\"\"),\"\")","v":""},{"$f":"IF(N1230=\"\",\"\",CONCATENATE(IF(C1230<>\"\",TEXT(C1230,\"\"),\"\"),\" - \",IF(K1230<>\"\",TEXT(K1230,\"\"),\"\")))","v":""},{"$f":"SUBSTITUTE(SUBSTITUTE(SUBSTITUTE(SUBSTITUTE(IF(L1230<>\"\",HLink(L1230),\"\"),\"htm\",\"html\"),\"1x2\",\"analysis\"),\"www\",\"data\"),\"com\",\"vip\")","v":""},{"$f":"IF(D1230<>\"\",D1230,\"\")","v":""},{"$f":"IF(E1230<>\"\",E1230,\"\")","v":""},{"$f":"IF(F1230<>\"\",F1230,\"\")","v":""},{"$f":"IF(N1230<>\"\",IF(D1231<>\"\",D1231,D1230),\"\")","v":""},{"$f":"IF(N1230<>\"\",IF(E1231<>\"\",E1231,E1230),\"\")","v":""},{"$f":"IF(N1230<>\"\",IF(F1231<>\"\",F1231,F1230),\"\")","v":""}]
[]
[null,null,null,null,null,null,null,null,null,null,null,null,null,{"$f":"IF(A1232<>\"\",TEXT(A1232,\"\"),\"\")","v":""},{"$f":"IF(N1232=\"\",\"\",CONCATENATE(IF(C1232<>\"\",TEXT(C1232,\"\"),\"\"),\" - \",IF(K1232<>\"\",TEXT(K1232,\"\"),\"\")))","v":""},{"$f":"SUBSTITUTE(SUBSTITUTE(SUBSTITUTE(SUBSTITUTE(IF(L1232<>\"\",HLink(L1232),\"\"),\"htm\",\"html\"),\"1x2\",\"analysis\"),\"www\",\"data\"),\"com\",\"vip\")","v":""},{"$f":"IF(D1232<>\"\",D1232,\"\")","v":""},{"$f":"IF(E1232<>\"\",E1232,\"\")","v":""},{"$f":"IF(F1232<>\"\",F1232,\"\")","v":""},{"$f":"IF(N1232<>\"\",IF(D1233<>\"\",D1233,D1232),\"\")","v":""},{"$f":"IF(N1232<>\"\",IF(E1233<>\"\",E1233,E1232),\"\")","v":""},{"$f":"IF(N1232<>\"\",IF(F1233<>\"\",F1233,F1232),\"\")","v":""}]
[]
[null,null,null,null,null,null,null,null,null,null,null,null,null,{"$f":"IF(A1234<>\"\",TEXT(A1234,\"\"),\"\")","v":""},{"$f":"IF(N1234=\"\",\"\",CONCATENATE(IF(C1234<>\"\",TEXT(C1234,\"\"),\"\"),\" - \",IF(K1234<>\"\",TEXT(K1234,\"\"),\"\")))","v":""},{"$f":"SUBSTITUTE(SUBSTITUTE(SUBSTITUTE(SUBSTITUTE(IF(L1234<>\"\",HLink(L1234),\"\"),\"htm\",\"html\"),\"1x2\",\"analysis\"),\"www\",\"data\"),\"com\",\"vip\")","v":""},{"$f":"IF(D1234<>\"\",D1234,\"\")","v":""},{"$f":"IF(E1234<>\"\",E1234,\"\")","v":""},{"$f":"IF(F1234<>\"\",F1234,\"\")","v":""},{"$f":"IF(N1234<>\"\",IF(D1235<>\"\",D1235,D1234),\"\")","v":""},{"$f":"IF(N1234<>\"\",IF(E1235<>\"\",E1235,E1234),\"\")","v":""},{"$f":"IF(N1234<>\"\",IF(F1235<>\"\",F1235,F1234),\"\")","v":""}]
[]
[null,null,null,null,null,null,null,null,null,null,null,null,null,{"$f":"IF(A1236<>\"\",TEXT(A1236,\"\"),\"\")","v":""},{"$f":"IF(N1236=\"\",\"\",CONCATENATE(IF(C1236<>\"\",TEXT(C1236,\"\"),\"\"),\" - \",IF(K1236<>\"\",TEXT(K1236,\"\"),\"\")))","v":""},{"$f":"SUBSTITUTE(SUBSTITUTE(SUBSTITUTE(SUBSTITUTE(IF(L1236<>\"\",HLink(L1236),\"\"),\"htm\",\"html\"),\"1x2\",\"analysis\"),\"www\",\"data\"),\"com\",\"vip\")","v":""},{"$f":"IF(D1236<>\"\",D1236,\"\")","v":""},{"$f":"IF(E1236<>\"\",E1236,\"\")","v":""},{"$f":"IF(F1236<>\"\",F1236,\"\")","v":""},{"$f":"IF(N1236<>\"\",IF(D1237<>\"\",D1237,D1236),\"\")","v":""},{"$f":"IF(N1236<>\"\",IF(E1237<>\"\",E1237,E1236),\"\")","v":""},{"$f":"IF(N1236<>\"\",IF(F1237<>\"\",F1237,F1236),\"\")","v":""}]
[]
[null,null,null,null,null,null,null,null,null,null,null,null,null,{"$f":"IF(A1238<>\"\",TEXT(A1238,\"\"),\"\")","v":""},{"$f":"IF(N1238=\"\",\"\",CONCATENATE(IF(C1238<>\"\",TEXT(C1238,\"\"),\"\"),\" - \",IF(K1238<>\"\",TEXT(K1238,\"\"),\"\")))","v":""},{"$f":"SUBSTITUTE(SUBSTITUTE(SUBSTITUTE(SUBSTITUTE(IF(L1238<>\"\",HLink(L1238),\"\"),\"htm\",\"html\"),\"1x2\",\"analysis\"),\"www\",\"data\"),\"com\",\"vip\")","v":""},{"$f":"IF(D1238<>\"\",D1238,\"\")","v":""},{"$f":"IF(E1238<>\"\",E1238,\"\")","v":""},{"$f":"IF(F1238<>\"\",F1238,\"\")","v":""},{"$f":"IF(N1238<>\"\",IF(D1239<>\"\",D1239,D1238),\"\")","v":""},{"$f":"IF(N1238<>\"\",IF(E1239<>\"\",E1239,E1238),\"\")","v":""},{"$f":"IF(N1238<>\"\",IF(F1239<>\"\",F1239,F1238),\"\")","v":""}]
[]
[null,null,null,null,null,null,null,null,null,null,null,null,null,{"$f":"IF(A1240<>\"\",TEXT(A1240,\"\"),\"\")","v":""},{"$f":"IF(N1240=\"\",\"\",CONCATENATE(IF(C1240<>\"\",TEXT(C1240,\"\"),\"\"),\" - \",IF(K1240<>\"\",TEXT(K1240,\"\"),\"\")))","v":""},{"$f":"SUBSTITUTE(SUBSTITUTE(SUBSTITUTE(SUBSTITUTE(IF(L1240<>\"\",HLink(L1240),\"\"),\"htm\",\"html\"),\"1x2\",\"analysis\"),\"www\",\"data\"),\"com\",\"vip\")","v":""},{"$f":"IF(D1240<>\"\",D1240,\"\")","v":""},{"$f":"IF(E1240<>\"\",E1240,\"\")","v":""},{"$f":"IF(F1240<>\"\",F1240,\"\")","v":""},{"$f":"IF(N1240<>\"\",IF(D1241<>\"\",D1241,D1240),\"\")","v":""},{"$f":"IF(N1240<>\"\",IF(E1241<>\"\",E1241,E1240),\"\")","v":""},{"$f":"IF(N1240<>\"\",IF(F1241<>\"\",F1241,F1240),\"\")","v":""}]
[]
[null,null,null,null,null,null,null,null,null,null,null,null,null,{"$f":"IF(A1242<>\"\",TEXT(A1242,\"\"),\"\")","v":""},{"$f":"IF(N1242=\"\",\"\",CONCATENATE(IF(C1242<>\"\",TEXT(C1242,\"\"),\"\"),\" - \",IF(K1242<>\"\",TEXT(K1242,\"\"),\"\")))","v":""},{"$f":"SUBSTITUTE(SUBSTITUTE(SUBSTITUTE(SUBSTITUTE(IF(L1242<>\"\",HLink(L1242),\"\"),\"htm\",\"html\"),\"1x2\",\"analysis\"),\"www\",\"data\"),\"com\",\"vip\")","v":""},{"$f":"IF(D1242<>\"\",D1242,\"\")","v":""},{"$f":"IF(E1242<>\"\",E1242,\"\")","v":""},{"$f":"IF(F1242<>\"\",F1242,\"\")","v":""},{"$f":"IF(N1242<>\"\",IF(D1243<>\"\",D1243,D1242),\"\")","v":""},{"$f":"IF(N1242<>\"\",IF(E1243<>\"\",E1243,E1242),\"\")","v":""},{"$f":"IF(N1242<>\"\",IF(F1243<>\"\",F1243,F1242),\"\")","v":""}]
[]
[null,null,null,null,null,null,null,null,null,null,null,null,null,{"$f":"IF(A1244<>\"\",TEXT(A1244,\"\"),\"\")","v":""},{"$f":"IF(N1244=\"\",\"\",CONCATENATE(IF(C1244<>\"\",TEXT(C1244,\"\"),\"\"),\" - \",IF(K1244<>\"\",TEXT(K1244,\"\"),\"\")))","v":""},{"$f":"SUBSTITUTE(SUBSTITUTE(SUBSTITUTE(SUBSTITUTE(IF(L1244<>\"\",HLink(L1244),\"\"),\"htm\",\"html\"),\"1x2\",\"analysis\"),\"www\",\"data\"),\"com\",\"vip\")","v":""},{"$f":"IF(D1244<>\"\",D1244,\"\")","v":""},{"$f":"IF(E1244<>\"\",E1244,\"\")","v":""},{"$f":"IF(F1244<>\"\",F1244,\"\")","v":""},{"$f":"IF(N1244<>\"\",IF(D1245<>\"\",D1245,D1244),\"\")","v":""},{"$f":"IF(N1244<>\"\",IF(E1245<>\"\",E1245,E1244),\"\")","v":""},{"$f":"IF(N1244<>\"\",IF(F1245<>\"\",F1245,F1244),\"\")","v":""}]
[]
[null,null,null,null,null,null,null,null,null,null,null,null,null,{"$f":"IF(A1246<>\"\",TEXT(A1246,\"\"),\"\")","v":""},{"$f":"IF(N1246=\"\",\"\",CONCATENATE(IF(C1246<>\"\",TEXT(C1246,\"\"),\"\"),\" - \",IF(K1246<>\"\",TEXT(K1246,\"\"),\"\")))","v":""},{"$f":"SUBSTITUTE(SUBSTITUTE(SUBSTITUTE(SUBSTITUTE(IF(L1246<>\"\",HLink(L1246),\"\"),\"htm\",\"html\"),\"1x2\",\"analysis\"),\"www\",\"data\"),\"com\",\"vip\")","v":""},{"$f":"IF(D1246<>\"\",D1246,\"\")","v":""},{"$f":"IF(E1246<>\"\",E1246,\"\")","v":""},{"$f":"IF(F1246<>\"\",F1246,\"\")","v":""},{"$f":"IF(N1246<>\"\",IF(D1247<>\"\",D1247,D1246),\"\")","v":""},{"$f":"IF(N1246<>\"\",IF(E1247<>\"\",E1247,E1246),\"\")","v":""},{"$f":"IF(N1246<>\"\",IF(F1247<>\"\",F1247,F1246),\"\")","v":""}]
[]
[null,null,null,null,null,null,null,null,null,null,null,null,null,{"$f":"IF(A1248<>\"\",TEXT(A1248,\"\"),\"\")","v":""},{"$f":"IF(N1248=\"\",\"\",CONCATENATE(IF(C1248<>\"\",TEXT(C1248,\"\"),\"\"),\" - \",IF(K1248<>\"\",TEXT(K1248,\"\"),\"\")))","v":""},{"$f":"SUBSTITUTE(SUBSTITUTE(SUBSTITUTE(SUBSTITUTE(IF(L1248<>\"\",HLink(L1248),\"\"),\"htm\",\"html\"),\"1x2\",\"analysis\"),\"www\",\"data\"),\"com\",\"vip\")","v":""},{"$f":"IF(D1248<>\"\",D1248,\"\")","v":""},{"$f":"IF(E1248<>\"\",E1248,\"\")","v":""},{"$f":"IF(F1248<>\"\",F1248,\"\")","v":""},{"$f":"IF(N1248<>\"\",IF(D1249<>\"\",D1249,D1248),\"\")","v":""},{"$f":"IF(N1248<>\"\",IF(E1249<>\"\",E1249,E1248),\"\")","v":""},{"$f":"IF(N1248<>\"\",IF(F1249<>\"\",F1249,F1248),\"\")","v":""}]
[]
[null,null,null,null,null,null,null,null,null,null,null,null,null,{"$f":"IF(A1250<>\"\",TEXT(A1250,\"\"),\"\")","v":""},{"$f":"IF(N1250=\"\",\"\",CONCATENATE(IF(C1250<>\"\",TEXT(C1250,\"\"),\"\"),\" - \",IF(K1250<>\"\",TEXT(K1250,\"\"),\"\")))","v":""},{"$f":"SUBSTITUTE(SUBSTITUTE(SUBSTITUTE(SUBSTITUTE(IF(L1250<>\"\",HLink(L1250),\"\"),\"htm\",\"html\"),\"1x2\",\"analysis\"),\"www\",\"data\"),\"com\",\"vip\")","v":""},{"$f":"IF(D1250<>\"\",D1250,\"\")","v":""},{"$f":"IF(E1250<>\"\",E1250,\"\")","v":""},{"$f":"IF(F1250<>\"\",F1250,\"\")","v":""},{"$f":"IF(N1250<>\"\",IF(D1251<>\"\",D1251,D1250),\"\")","v":""},{"$f":"IF(N1250<>\"\",IF(E1251<>\"\",E1251,E1250),\"\")","v":""},{"$f":"IF(N1250<>\"\",IF(F1251<>\"\",F1251,F1250),\"\")","v":""}]
[]
[null,null,null,null,null,null,null,null,null,null,null,null,null,{"$f":"IF(A1252<>\"\",TEXT(A1252,\"\"),\"\")","v":""},{"$f":"IF(N1252=\"\",\"\",CONCATENATE(IF(C1252<>\"\",TEXT(C1252,\"\"),\"\"),\" - \",IF(K1252<>\"\",TEXT(K1252,\"\"),\"\")))","v":""},{"$f":"SUBSTITUTE(SUBSTITUTE(SUBSTITUTE(SUBSTITUTE(IF(L1252<>\"\",HLink(L1252),\"\"),\"htm\",\"html\"),\"1x2\",\"analysis\"),\"www\",\"data\"),\"com\",\"vip\")","v":""},{"$f":"IF(D1252<>\"\",D1252,\"\")","v":""},{"$f":"IF(E1252<>\"\",E1252,\"\")","v":""},{"$f":"IF(F1252<>\"\",F1252,\"\")","v":""},{"$f":"IF(N1252<>\"\",IF(D1253<>\"\",D1253,D1252),\"\")","v":""},{"$f":"IF(N1252<>\"\",IF(E1253<>\"\",E1253,E1252),\"\")","v":""},{"$f":"IF(N1252<>\"\",IF(F1253<>\"\",F1253,F1252),\"\")","v":""}]
[]
[null,null,null,null,null,null,null,null,null,null,null,null,null,{"$f":"IF(A1254<>\"\",TEXT(A1254,\"\"),\"\")","v":""},{"$f":"IF(N1254=\"\",\"\",CONCATENATE(IF(C1254<>\"\",TEXT(C1254,\"\"),\"\"),\" - \",IF(K1254<>\"\",TEXT(K1254,\"\"),\"\")))","v":""},{"$f":"SUBSTITUTE(SUBSTITUTE(SUBSTITUTE(SUBSTITUTE(IF(L1254<>\"\",HLink(L1254),\"\"),\"htm\",\"html\"),\"1x2\",\"analysis\"),\"www\",\"data\"),\"com\",\"vip\")","v":""},{"$f":"IF(D1254<>\"\",D1254,\"\")","v":""},{"$f":"IF(E1254<>\"\",E1254,\"\")","v":""},{"$f":"IF(F1254<>\"\",F1254,\"\")","v":""},{"$f":"IF(N1254<>\"\",IF(D1255<>\"\",D1255,D1254),\"\")","v":""},{"$f":"IF(N1254<>\"\",IF(E1255<>\"\",E1255,E1254),\"\")","v":""},{"$f":"IF(N1254<>\"\",IF(F1255<>\"\",F1255,F1254),\"\")","v":""}]
[]
[null,null,null,null,null,null,null,null,null,null,null,null,null,{"$f":"IF(A1256<>\"\",TEXT(A1256,\"\"),\"\")","v":""},{"$f":"IF(N1256=\"\",\"\",CONCATENATE(IF(C1256<>\"\",TEXT(C1256,\"\"),\"\"),\" - \",IF(K1256<>\"\",TEXT(K1256,\"\"),\"\")))","v":""},{"$f":"SUBSTITUTE(SUBSTITUTE(SUBSTITUTE(SUBSTITUTE(IF(L1256<>\"\",HLink(L1256),\"\"),\"htm\",\"html\"),\"1x2\",\"analysis\"),\"www\",\"data\"),\"com\",\"vip\")","v":""},{"$f":"IF(D1256<>\"\",D1256,\"\")","v":""},{"$f":"IF(E1256<>\"\",E1256,\"\")","v":""},{"$f":"IF(F1256<>\"\",F1256,\"\")","v":""},{"$f":"IF(N1256<>\"\",IF(D1257<>\"\",D1257,D1256),\"\")","v":""},{"$f":"IF(N1256<>\"\",IF(E1257<>\"\",E1257,E1256),\"\")","v":""},{"$f":"IF(N1256<>\"\",IF(F1257<>\"\",F1257,F1256),\"\")","v":""}]
[]
[null,null,null,null,null,null,null,null,null,null,null,null,null,{"$f":"IF(A1258<>\"\",TEXT(A1258,\"\"),\"\")","v":""},{"$f":"IF(N1258=\"\",\"\",CONCATENATE(IF(C1258<>\"\",TEXT(C1258,\"\"),\"\"),\" - \",IF(K1258<>\"\",TEXT(K1258,\"\"),\"\")))","v":""},{"$f":"SUBSTITUTE(SUBSTITUTE(SUBSTITUTE(SUBSTITUTE(IF(L1258<>\"\",HLink(L1258),\"\"),\"htm\",\"html\"),\"1x2\",\"analysis\"),\"www\",\"data\"),\"com\",\"vip\")","v":""},{"$f":"IF(D1258<>\"\",D1258,\"\")","v":""},{"$f":"IF(E1258<>\"\",E1258,\"\")","v":""},{"$f":"IF(F1258<>\"\",F1258,\"\")","v":""},{"$f":"IF(N1258<>\"\",IF(D1259<>\"\",D1259,D1258),\"\")","v":""},{"$f":"IF(N1258<>\"\",IF(E1259<>\"\",E1259,E1258),\"\")","v":""},{"$f":"IF(N1258<>\"\",IF(F1259<>\"\",F1259,F1258),\"\")","v":""}]
[]
[null,null,null,null,null,null,null,null,null,null,null,null,null,{"$f":"IF(A1260<>\"\",TEXT(A1260,\"\"),\"\")","v":""},{"$f":"IF(N1260=\"\",\"\",CONCATENATE(IF(C1260<>\"\",TEXT(C1260,\"\"),\"\"),\" - \",IF(K1260<>\"\",TEXT(K1260,\"\"),\"\")))","v":""},{"$f":"SUBSTITUTE(SUBSTITUTE(SUBSTITUTE(SUBSTITUTE(IF(L1260<>\"\",HLink(L1260),\"\"),\"htm\",\"html\"),\"1x2\",\"analysis\"),\"www\",\"data\"),\"com\",\"vip\")","v":""},{"$f":"IF(D1260<>\"\",D1260,\"\")","v":""},{"$f":"IF(E1260<>\"\",E1260,\"\")","v":""},{"$f":"IF(F1260<>\"\",F1260,\"\")","v":""},{"$f":"IF(N1260<>\"\",IF(D1261<>\"\",D1261,D1260),\"\")","v":""},{"$f":"IF(N1260<>\"\",IF(E1261<>\"\",E1261,E1260),\"\")","v":""},{"$f":"IF(N1260<>\"\",IF(F1261<>\"\",F1261,F1260),\"\")","v":""}]
[]
[null,null,null,null,null,null,null,null,null,null,null,null,null,{"$f":"IF(A1262<>\"\",TEXT(A1262,\"\"),\"\")","v":""},{"$f":"IF(N1262=\"\",\"\",CONCATENATE(IF(C1262<>\"\",TEXT(C1262,\"\"),\"\"),\" - \",IF(K1262<>\"\",TEXT(K1262,\"\"),\"\")))","v":""},{"$f":"SUBSTITUTE(SUBSTITUTE(SUBSTITUTE(SUBSTITUTE(IF(L1262<>\"\",HLink(L1262),\"\"),\"htm\",\"html\"),\"1x2\",\"analysis\"),\"www\",\"data\"),\"com\",\"vip\")","v":""},{"$f":"IF(D1262<>\"\",D1262,\"\")","v":""},{"$f":"IF(E1262<>\"\",E1262,\"\")","v":""},{"$f":"IF(F1262<>\"\",F1262,\"\")","v":""},{"$f":"IF(N1262<>\"\",IF(D1263<>\"\",D1263,D1262),\"\")","v":""},{"$f":"IF(N1262<>\"\",IF(E1263<>\"\",E1263,E1262),\"\")","v":""},{"$f":"IF(N1262<>\"\",IF(F1263<>\"\",F1263,F1262),\"\")","v":""}]
[]
[null,null,null,null,null,null,null,null,null,null,null,null,null,{"$f":"IF(A1264<>\"\",TEXT(A1264,\"\"),\"\")","v":""},{"$f":"IF(N1264=\"\",\"\",CONCATENATE(IF(C1264<>\"\",TEXT(C1264,\"\"),\"\"),\" - \",IF(K1264<>\"\",TEXT(K1264,\"\"),\"\")))","v":""},{"$f":"SUBSTITUTE(SUBSTITUTE(SUBSTITUTE(SUBSTITUTE(IF(L1264<>\"\",HLink(L1264),\"\"),\"htm\",\"html\"),\"1x2\",\"analysis\"),\"www\",\"data\"),\"com\",\"vip\")","v":""},{"$f":"IF(D1264<>\"\",D1264,\"\")","v":""},{"$f":"IF(E1264<>\"\",E1264,\"\")","v":""},{"$f":"IF(F1264<>\"\",F1264,\"\")","v":""},{"$f":"IF(N1264<>\"\",IF(D1265<>\"\",D1265,D1264),\"\")","v":""},{"$f":"IF(N1264<>\"\",IF(E1265<>\"\",E1265,E1264),\"\")","v":""},{"$f":"IF(N1264<>\"\",IF(F1265<>\"\",F1265,F1264),\"\")","v":""}]
[]
[null,null,null,null,null,null,null,null,null,null,null,null,null,{"$f":"IF(A1266<>\"\",TEXT(A1266,\"\"),\"\")","v":""},{"$f":"IF(N1266=\"\",\"\",CONCATENATE(IF(C1266<>\"\",TEXT(C1266,\"\"),\"\"),\" - \",IF(K1266<>\"\",TEXT(K1266,\"\"),\"\")))","v":""},{"$f":"SUBSTITUTE(SUBSTITUTE(SUBSTITUTE(SUBSTITUTE(IF(L1266<>\"\",HLink(L1266),\"\"),\"htm\",\"html\"),\"1x2\",\"analysis\"),\"www\",\"data\"),\"com\",\"vip\")","v":""},{"$f":"IF(D1266<>\"\",D1266,\"\")","v":""},{"$f":"IF(E1266<>\"\",E1266,\"\")","v":""},{"$f":"IF(F1266<>\"\",F1266,\"\")","v":""},{"$f":"IF(N1266<>\"\",IF(D1267<>\"\",D1267,D1266),\"\")","v":""},{"$f":"IF(N1266<>\"\",IF(E1267<>\"\",E1267,E1266),\"\")","v":""},{"$f":"IF(N1266<>\"\",IF(F1267<>\"\",F1267,F1266),\"\")","v":""}]
[]
[null,null,null,null,null,null,null,null,null,null,null,null,null,{"$f":"IF(A1268<>\"\",TEXT(A1268,\"\"),\"\")","v":""},{"$f":"IF(N1268=\"\",\"\",CONCATENATE(IF(C1268<>\"\",TEXT(C1268,\"\"),\"\"),\" - \",IF(K1268<>\"\",TEXT(K1268,\"\"),\"\")))","v":""},{"$f":"SUBSTITUTE(SUBSTITUTE(SUBSTITUTE(SUBSTITUTE(IF(L1268<>\"\",HLink(L1268),\"\"),\"htm\",\"html\"),\"1x2\",\"analysis\"),\"www\",\"data\"),\"com\",\"vip\")","v":""},{"$f":"IF(D1268<>\"\",D1268,\"\")","v":""},{"$f":"IF(E1268<>\"\",E1268,\"\")","v":""},{"$f":"IF(F1268<>\"\",F1268,\"\")","v":""},{"$f":"IF(N1268<>\"\",IF(D1269<>\"\",D1269,D1268),\"\")","v":""},{"$f":"IF(N1268<>\"\",IF(E1269<>\"\",E1269,E1268),\"\")","v":""},{"$f":"IF(N1268<>\"\",IF(F1269<>\"\",F1269,F1268),\"\")","v":""}]
[]
[null,null,null,null,null,null,null,null,null,null,null,null,null,{"$f":"IF(A1270<>\"\",TEXT(A1270,\"\"),\"\")","v":""},{"$f":"IF(N1270=\"\",\"\",CONCATENATE(IF(C1270<>\"\",TEXT(C1270,\"\"),\"\"),\" - \",IF(K1270<>\"\",TEXT(K1270,\"\"),\"\")))","v":""},{"$f":"SUBSTITUTE(SUBSTITUTE(SUBSTITUTE(SUBSTITUTE(IF(L1270<>\"\",HLink(L1270),\"\"),\"htm\",\"html\"),\"1x2\",\"analysis\"),\"www\",\"data\"),\"com\",\"vip\")","v":""},{"$f":"IF(D1270<>\"\",D1270,\"\")","v":""},{"$f":"IF(E1270<>\"\",E1270,\"\")","v":""},{"$f":"IF(F1270<>\"\",F1270,\"\")","v":""},{"$f":"IF(N1270<>\"\",IF(D1271<>\"\",D1271,D1270),\"\")","v":""},{"$f":"IF(N1270<>\"\",IF(E1271<>\"\",E1271,E1270),\"\")","v":""},{"$f":"IF(N1270<>\"\",IF(F1271<>\"\",F1271,F1270),\"\")","v":""}]
[]
[null,null,null,null,null,null,null,null,null,null,null,null,null,{"$f":"IF(A1272<>\"\",TEXT(A1272,\"\"),\"\")","v":""},{"$f":"IF(N1272=\"\",\"\",CONCATENATE(IF(C1272<>\"\",TEXT(C1272,\"\"),\"\"),\" - \",IF(K1272<>\"\",TEXT(K1272,\"\"),\"\")))","v":""},{"$f":"SUBSTITUTE(SUBSTITUTE(SUBSTITUTE(SUBSTITUTE(IF(L1272<>\"\",HLink(L1272),\"\"),\"htm\",\"html\"),\"1x2\",\"analysis\"),\"www\",\"data\"),\"com\",\"vip\")","v":""},{"$f":"IF(D1272<>\"\",D1272,\"\")","v":""},{"$f":"IF(E1272<>\"\",E1272,\"\")","v":""},{"$f":"IF(F1272<>\"\",F1272,\"\")","v":""},{"$f":"IF(N1272<>\"\",IF(D1273<>\"\",D1273,D1272),\"\")","v":""},{"$f":"IF(N1272<>\"\",IF(E1273<>\"\",E1273,E1272),\"\")","v":""},{"$f":"IF(N1272<>\"\",IF(F1273<>\"\",F1273,F1272),\"\")","v":""}]
[]
[null,null,null,null,null,null,null,null,null,null,null,null,null,{"$f":"IF(A1274<>\"\",TEXT(A1274,\"\"),\"\")","v":""},{"$f":"IF(N1274=\"\",\"\",CONCATENATE(IF(C1274<>\"\",TEXT(C1274,\"\"),\"\"),\" - \",IF(K1274<>\"\",TEXT(K1274,\"\"),\"\")))","v":""},{"$f":"SUBSTITUTE(SUBSTITUTE(SUBSTITUTE(SUBSTITUTE(IF(L1274<>\"\",HLink(L1274),\"\"),\"htm\",\"html\"),\"1x2\",\"analysis\"),\"www\",\"data\"),\"com\",\"vip\")","v":""},{"$f":"IF(D1274<>\"\",D1274,\"\")","v":""},{"$f":"IF(E1274<>\"\",E1274,\"\")","v":""},{"$f":"IF(F1274<>\"\",F1274,\"\")","v":""},{"$f":"IF(N1274<>\"\",IF(D1275<>\"\",D1275,D1274),\"\")","v":""},{"$f":"IF(N1274<>\"\",IF(E1275<>\"\",E1275,E1274),\"\")","v":""},{"$f":"IF(N1274<>\"\",IF(F1275<>\"\",F1275,F1274),\"\")","v":""}]
[]
[null,null,null,null,null,null,null,null,null,null,null,null,null,{"$f":"IF(A1276<>\"\",TEXT(A1276,\"\"),\"\")","v":""},{"$f":"IF(N1276=\"\",\"\",CONCATENATE(IF(C1276<>\"\",TEXT(C1276,\"\"),\"\"),\" - \",IF(K1276<>\"\",TEXT(K1276,\"\"),\"\")))","v":""},{"$f":"SUBSTITUTE(SUBSTITUTE(SUBSTITUTE(SUBSTITUTE(IF(L1276<>\"\",HLink(L1276),\"\"),\"htm\",\"html\"),\"1x2\",\"analysis\"),\"www\",\"data\"),\"com\",\"vip\")","v":""},{"$f":"IF(D1276<>\"\",D1276,\"\")","v":""},{"$f":"IF(E1276<>\"\",E1276,\"\")","v":""},{"$f":"IF(F1276<>\"\",F1276,\"\")","v":""},{"$f":"IF(N1276<>\"\",IF(D1277<>\"\",D1277,D1276),\"\")","v":""},{"$f":"IF(N1276<>\"\",IF(E1277<>\"\",E1277,E1276),\"\")","v":""},{"$f":"IF(N1276<>\"\",IF(F1277<>\"\",F1277,F1276),\"\")","v":""}]
[]
[null,null,null,null,null,null,null,null,null,null,null,null,null,{"$f":"IF(A1278<>\"\",TEXT(A1278,\"\"),\"\")","v":""},{"$f":"IF(N1278=\"\",\"\",CONCATENATE(IF(C1278<>\"\",TEXT(C1278,\"\"),\"\"),\" - \",IF(K1278<>\"\",TEXT(K1278,\"\"),\"\")))","v":""},{"$f":"SUBSTITUTE(SUBSTITUTE(SUBSTITUTE(SUBSTITUTE(IF(L1278<>\"\",HLink(L1278),\"\"),\"htm\",\"html\"),\"1x2\",\"analysis\"),\"www\",\"data\"),\"com\",\"vip\")","v":""},{"$f":"IF(D1278<>\"\",D1278,\"\")","v":""},{"$f":"IF(E1278<>\"\",E1278,\"\")","v":""},{"$f":"IF(F1278<>\"\",F1278,\"\")","v":""},{"$f":"IF(N1278<>\"\",IF(D1279<>\"\",D1279,D1278),\"\")","v":""},{"$f":"IF(N1278<>\"\",IF(E1279<>\"\",E1279,E1278),\"\")","v":""},{"$f":"IF(N1278<>\"\",IF(F1279<>\"\",F1279,F1278),\"\")","v":""}]
[]
[null,null,null,null,null,null,null,null,null,null,null,null,null,{"$f":"IF(A1280<>\"\",TEXT(A1280,\"\"),\"\")","v":""},{"$f":"IF(N1280=\"\",\"\",CONCATENATE(IF(C1280<>\"\",TEXT(C1280,\"\"),\"\"),\" - \",IF(K1280<>\"\",TEXT(K1280,\"\"),\"\")))","v":""},{"$f":"SUBSTITUTE(SUBSTITUTE(SUBSTITUTE(SUBSTITUTE(IF(L1280<>\"\",HLink(L1280),\"\"),\"htm\",\"html\"),\"1x2\",\"analysis\"),\"www\",\"data\"),\"com\",\"vip\")","v":""},{"$f":"IF(D1280<>\"\",D1280,\"\")","v":""},{"$f":"IF(E1280<>\"\",E1280,\"\")","v":""},{"$f":"IF(F1280<>\"\",F1280,\"\")","v":""},{"$f":"IF(N1280<>\"\",IF(D1281<>\"\",D1281,D1280),\"\")","v":""},{"$f":"IF(N1280<>\"\",IF(E1281<>\"\",E1281,E1280),\"\")","v":""},{"$f":"IF(N1280<>\"\",IF(F1281<>\"\",F1281,F1280),\"\")","v":""}]
[]
[null,null,null,null,null,null,null,null,null,null,null,null,null,{"$f":"IF(A1282<>\"\",TEXT(A1282,\"\"),\"\")","v":""},{"$f":"IF(N1282=\"\",\"\",CONCATENATE(IF(C1282<>\"\",TEXT(C1282,\"\"),\"\"),\" - \",IF(K1282<>\"\",TEXT(K1282,\"\"),\"\")))","v":""},{"$f":"SUBSTITUTE(SUBSTITUTE(SUBSTITUTE(SUBSTITUTE(IF(L1282<>\"\",HLink(L1282),\"\"),\"htm\",\"html\"),\"1x2\",\"analysis\"),\"www\",\"data\"),\"com\",\"vip\")","v":""},{"$f":"IF(D1282<>\"\",D1282,\"\")","v":""},{"$f":"IF(E1282<>\"\",E1282,\"\")","v":""},{"$f":"IF(F1282<>\"\",F1282,\"\")","v":""},{"$f":"IF(N1282<>\"\",IF(D1283<>\"\",D1283,D1282),\"\")","v":""},{"$f":"IF(N1282<>\"\",IF(E1283<>\"\",E1283,E1282),\"\")","v":""},{"$f":"IF(N1282<>\"\",IF(F1283<>\"\",F1283,F1282),\"\")","v":""}]
[]
[null,null,null,null,null,null,null,null,null,null,null,null,null,{"$f":"IF(A1284<>\"\",TEXT(A1284,\"\"),\"\")","v":""},{"$f":"IF(N1284=\"\",\"\",CONCATENATE(IF(C1284<>\"\",TEXT(C1284,\"\"),\"\"),\" - \",IF(K1284<>\"\",TEXT(K1284,\"\"),\"\")))","v":""},{"$f":"SUBSTITUTE(SUBSTITUTE(SUBSTITUTE(SUBSTITUTE(IF(L1284<>\"\",HLink(L1284),\"\"),\"htm\",\"html\"),\"1x2\",\"analysis\"),\"www\",\"data\"),\"com\",\"vip\")","v":""},{"$f":"IF(D1284<>\"\",D1284,\"\")","v":""},{"$f":"IF(E1284<>\"\",E1284,\"\")","v":""},{"$f":"IF(F1284<>\"\",F1284,\"\")","v":""},{"$f":"IF(N1284<>\"\",IF(D1285<>\"\",D1285,D1284),\"\")","v":""},{"$f":"IF(N1284<>\"\",IF(E1285<>\"\",E1285,E1284),\"\")","v":""},{"$f":"IF(N1284<>\"\",IF(F1285<>\"\",F1285,F1284),\"\")","v":""}]
[]
[null,null,null,null,null,null,null,null,null,null,null,null,null,{"$f":"IF(A1286<>\"\",TEXT(A1286,\"\"),\"\")","v":""},{"$f":"IF(N1286=\"\",\"\",CONCATENATE(IF(C1286<>\"\",TEXT(C1286,\"\"),\"\"),\" - \",IF(K1286<>\"\",TEXT(K1286,\"\"),\"\")))","v":""},{"$f":"SUBSTITUTE(SUBSTITUTE(SUBSTITUTE(SUBSTITUTE(IF(L1286<>\"\",HLink(L1286),\"\"),\"htm\",\"html\"),\"1x2\",\"analysis\"),\"www\",\"data\"),\"com\",\"vip\")","v":""},{"$f":"IF(D1286<>\"\",D1286,\"\")","v":""},{"$f":"IF(E1286<>\"\",E1286,\"\")","v":""},{"$f":"IF(F1286<>\"\",F1286,\"\")","v":""},{"$f":"IF(N1286<>\"\",IF(D1287<>\"\",D1287,D1286),\"\")","v":""},{"$f":"IF(N1286<>\"\",IF(E1287<>\"\",E1287,E1286),\"\")","v":""},{"$f":"IF(N1286<>\"\",IF(F1287<>\"\",F1287,F1286),\"\")","v":""}]
[]
[null,null,null,null,null,null,null,null,null,null,null,null,null,{"$f":"IF(A1288<>\"\",TEXT(A1288,\"\"),\"\")","v":""},{"$f":"IF(N1288=\"\",\"\",CONCATENATE(IF(C1288<>\"\",TEXT(C1288,\"\"),\"\"),\" - \",IF(K1288<>\"\",TEXT(K1288,\"\"),\"\")))","v":""},{"$f":"SUBSTITUTE(SUBSTITUTE(SUBSTITUTE(SUBSTITUTE(IF(L1288<>\"\",HLink(L1288),\"\"),\"htm\",\"html\"),\"1x2\",\"analysis\"),\"www\",\"data\"),\"com\",\"vip\")","v":""},{"$f":"IF(D1288<>\"\",D1288,\"\")","v":""},{"$f":"IF(E1288<>\"\",E1288,\"\")","v":""},{"$f":"IF(F1288<>\"\",F1288,\"\")","v":""},{"$f":"IF(N1288<>\"\",IF(D1289<>\"\",D1289,D1288),\"\")","v":""},{"$f":"IF(N1288<>\"\",IF(E1289<>\"\",E1289,E1288),\"\")","v":""},{"$f":"IF(N1288<>\"\",IF(F1289<>\"\",F1289,F1288),\"\")","v":""}]
[]
[null,null,null,null,null,null,null,null,null,null,null,null,null,{"$f":"IF(A1290<>\"\",TEXT(A1290,\"\"),\"\")","v":""},{"$f":"IF(N1290=\"\",\"\",CONCATENATE(IF(C1290<>\"\",TEXT(C1290,\"\"),\"\"),\" - \",IF(K1290<>\"\",TEXT(K1290,\"\"),\"\")))","v":""},{"$f":"SUBSTITUTE(SUBSTITUTE(SUBSTITUTE(SUBSTITUTE(IF(L1290<>\"\",HLink(L1290),\"\"),\"htm\",\"html\"),\"1x2\",\"analysis\"),\"www\",\"data\"),\"com\",\"vip\")","v":""},{"$f":"IF(D1290<>\"\",D1290,\"\")","v":""},{"$f":"IF(E1290<>\"\",E1290,\"\")","v":""},{"$f":"IF(F1290<>\"\",F1290,\"\")","v":""},{"$f":"IF(N1290<>\"\",IF(D1291<>\"\",D1291,D1290),\"\")","v":""},{"$f":"IF(N1290<>\"\",IF(E1291<>\"\",E1291,E1290),\"\")","v":""},{"$f":"IF(N1290<>\"\",IF(F1291<>\"\",F1291,F1290),\"\")","v":""}]
[]
[null,null,null,null,null,null,null,null,null,null,null,null,null,{"$f":"IF(A1292<>\"\",TEXT(A1292,\"\"),\"\")","v":""},{"$f":"IF(N1292=\"\",\"\",CONCATENATE(IF(C1292<>\"\",TEXT(C1292,\"\"),\"\"),\" - \",IF(K1292<>\"\",TEXT(K1292,\"\"),\"\")))","v":""},{"$f":"SUBSTITUTE(SUBSTITUTE(SUBSTITUTE(SUBSTITUTE(IF(L1292<>\"\",HLink(L1292),\"\"),\"htm\",\"html\"),\"1x2\",\"analysis\"),\"www\",\"data\"),\"com\",\"vip\")","v":""},{"$f":"IF(D1292<>\"\",D1292,\"\")","v":""},{"$f":"IF(E1292<>\"\",E1292,\"\")","v":""},{"$f":"IF(F1292<>\"\",F1292,\"\")","v":""},{"$f":"IF(N1292<>\"\",IF(D1293<>\"\",D1293,D1292),\"\")","v":""},{"$f":"IF(N1292<>\"\",IF(E1293<>\"\",E1293,E1292),\"\")","v":""},{"$f":"IF(N1292<>\"\",IF(F1293<>\"\",F1293,F1292),\"\")","v":""}]
[]
[null,null,null,null,null,null,null,null,null,null,null,null,null,{"$f":"IF(A1294<>\"\",TEXT(A1294,\"\"),\"\")","v":""},{"$f":"IF(N1294=\"\",\"\",CONCATENATE(IF(C1294<>\"\",TEXT(C1294,\"\"),\"\"),\" - \",IF(K1294<>\"\",TEXT(K1294,\"\"),\"\")))","v":""},{"$f":"SUBSTITUTE(SUBSTITUTE(SUBSTITUTE(SUBSTITUTE(IF(L1294<>\"\",HLink(L1294),\"\"),\"htm\",\"html\"),\"1x2\",\"analysis\"),\"www\",\"data\"),\"com\",\"vip\")","v":""},{"$f":"IF(D1294<>\"\",D1294,\"\")","v":""},{"$f":"IF(E1294<>\"\",E1294,\"\")","v":""},{"$f":"IF(F1294<>\"\",F1294,\"\")","v":""},{"$f":"IF(N1294<>\"\",IF(D1295<>\"\",D1295,D1294),\"\")","v":""},{"$f":"IF(N1294<>\"\",IF(E1295<>\"\",E1295,E1294),\"\")","v":""},{"$f":"IF(N1294<>\"\",IF(F1295<>\"\",F1295,F1294),\"\")","v":""}]
[]
[null,null,null,null,null,null,null,null,null,null,null,null,null,{"$f":"IF(A1296<>\"\",TEXT(A1296,\"\"),\"\")","v":""},{"$f":"IF(N1296=\"\",\"\",CONCATENATE(IF(C1296<>\"\",TEXT(C1296,\"\"),\"\"),\" - \",IF(K1296<>\"\",TEXT(K1296,\"\"),\"\")))","v":""},{"$f":"SUBSTITUTE(SUBSTITUTE(SUBSTITUTE(SUBSTITUTE(IF(L1296<>\"\",HLink(L1296),\"\"),\"htm\",\"html\"),\"1x2\",\"analysis\"),\"www\",\"data\"),\"com\",\"vip\")","v":""},{"$f":"IF(D1296<>\"\",D1296,\"\")","v":""},{"$f":"IF(E1296<>\"\",E1296,\"\")","v":""},{"$f":"IF(F1296<>\"\",F1296,\"\")","v":""},{"$f":"IF(N1296<>\"\",IF(D1297<>\"\",D1297,D1296),\"\")","v":""},{"$f":"IF(N1296<>\"\",IF(E1297<>\"\",E1297,E1296),\"\")","v":""},{"$f":"IF(N1296<>\"\",IF(F1297<>\"\",F1297,F1296),\"\")","v":""}]
[]
[null,null,null,null,null,null,null,null,null,null,null,null,null,{"$f":"IF(A1298<>\"\",TEXT(A1298,\"\"),\"\")","v":""},{"$f":"IF(N1298=\"\",\"\",CONCATENATE(IF(C1298<>\"\",TEXT(C1298,\"\"),\"\"),\" - \",IF(K1298<>\"\",TEXT(K1298,\"\"),\"\")))","v":""},{"$f":"SUBSTITUTE(SUBSTITUTE(SUBSTITUTE(SUBSTITUTE(IF(L1298<>\"\",HLink(L1298),\"\"),\"htm\",\"html\"),\"1x2\",\"analysis\"),\"www\",\"data\"),\"com\",\"vip\")","v":""},{"$f":"IF(D1298<>\"\",D1298,\"\")","v":""},{"$f":"IF(E1298<>\"\",E1298,\"\")","v":""},{"$f":"IF(F1298<>\"\",F1298,\"\")","v":""},{"$f":"IF(N1298<>\"\",IF(D1299<>\"\",D1299,D1298),\"\")","v":""},{"$f":"IF(N1298<>\"\",IF(E1299<>\"\",E1299,E1298),\"\")","v":""},{"$f":"IF(N1298<>\"\",IF(F1299<>\"\",F1299,F1298),\"\")","v":""}]
[]
[null,null,null,null,null,null,null,null,null,null,null,null,null,{"$f":"IF(A1300<>\"\",TEXT(A1300,\"\"),\"\")","v":""},{"$f":"IF(N1300=\"\",\"\",CONCATENATE(IF(C1300<>\"\",TEXT(C1300,\"\"),\"\"),\" - \",IF(K1300<>\"\",TEXT(K1300,\"\"),\"\")))","v":""},{"$f":"SUBSTITUTE(SUBSTITUTE(SUBSTITUTE(SUBSTITUTE(IF(L1300<>\"\",HLink(L1300),\"\"),\"htm\",\"html\"),\"1x2\",\"analysis\"),\"www\",\"data\"),\"com\",\"vip\")","v":""},{"$f":"IF(D1300<>\"\",D1300,\"\")","v":""},{"$f":"IF(E1300<>\"\",E1300,\"\")","v":""},{"$f":"IF(F1300<>\"\",F1300,\"\")","v":""},{"$f":"IF(N1300<>\"\",IF(D1301<>\"\",D1301,D1300),\"\")","v":""},{"$f":"IF(N1300<>\"\",IF(E1301<>\"\",E1301,E1300),\"\")","v":""},{"$f":"IF(N1300<>\"\",IF(F1301<>\"\",F1301,F1300),\"\")","v":""}]
[]
[null,null,null,null,null,null,null,null,null,null,null,null,null,{"$f":"IF(A1302<>\"\",TEXT(A1302,\"\"),\"\")","v":""},{"$f":"IF(N1302=\"\",\"\",CONCATENATE(IF(C1302<>\"\",TEXT(C1302,\"\"),\"\"),\" - \",IF(K1302<>\"\",TEXT(K1302,\"\"),\"\")))","v":""},{"$f":"SUBSTITUTE(SUBSTITUTE(SUBSTITUTE(SUBSTITUTE(IF(L1302<>\"\",HLink(L1302),\"\"),\"htm\",\"html\"),\"1x2\",\"analysis\"),\"www\",\"data\"),\"com\",\"vip\")","v":""},{"$f":"IF(D1302<>\"\",D1302,\"\")","v":""},{"$f":"IF(E1302<>\"\",E1302,\"\")","v":""},{"$f":"IF(F1302<>\"\",F1302,\"\")","v":""},{"$f":"IF(N1302<>\"\",IF(D1303<>\"\",D1303,D1302),\"\")","v":""},{"$f":"IF(N1302<>\"\",IF(E1303<>\"\",E1303,E1302),\"\")","v":""},{"$f":"IF(N1302<>\"\",IF(F1303<>\"\",F1303,F1302),\"\")","v":""}]
[]
[null,null,null,null,null,null,null,null,null,null,null,null,null,{"$f":"IF(A1304<>\"\",TEXT(A1304,\"\"),\"\")","v":""},{"$f":"IF(N1304=\"\",\"\",CONCATENATE(IF(C1304<>\"\",TEXT(C1304,\"\"),\"\"),\" - \",IF(K1304<>\"\",TEXT(K1304,\"\"),\"\")))","v":""},{"$f":"SUBSTITUTE(SUBSTITUTE(SUBSTITUTE(SUBSTITUTE(IF(L1304<>\"\",HLink(L1304),\"\"),\"htm\",\"html\"),\"1x2\",\"analysis\"),\"www\",\"data\"),\"com\",\"vip\")","v":""},{"$f":"IF(D1304<>\"\",D1304,\"\")","v":""},{"$f":"IF(E1304<>\"\",E1304,\"\")","v":""},{"$f":"IF(F1304<>\"\",F1304,\"\")","v":""},{"$f":"IF(N1304<>\"\",IF(D1305<>\"\",D1305,D1304),\"\")","v":""},{"$f":"IF(N1304<>\"\",IF(E1305<>\"\",E1305,E1304),\"\")","v":""},{"$f":"IF(N1304<>\"\",IF(F1305<>\"\",F1305,F1304),\"\")","v":""}]
[]
[null,null,null,null,null,null,null,null,null,null,null,null,null,{"$f":"IF(A1306<>\"\",TEXT(A1306,\"\"),\"\")","v":""},{"$f":"IF(N1306=\"\",\"\",CONCATENATE(IF(C1306<>\"\",TEXT(C1306,\"\"),\"\"),\" - \",IF(K1306<>\"\",TEXT(K1306,\"\"),\"\")))","v":""},{"$f":"SUBSTITUTE(SUBSTITUTE(SUBSTITUTE(SUBSTITUTE(IF(L1306<>\"\",HLink(L1306),\"\"),\"htm\",\"html\"),\"1x2\",\"analysis\"),\"www\",\"data\"),\"com\",\"vip\")","v":""},{"$f":"IF(D1306<>\"\",D1306,\"\")","v":""},{"$f":"IF(E1306<>\"\",E1306,\"\")","v":""},{"$f":"IF(F1306<>\"\",F1306,\"\")","v":""},{"$f":"IF(N1306<>\"\",IF(D1307<>\"\",D1307,D1306),\"\")","v":""},{"$f":"IF(N1306<>\"\",IF(E1307<>\"\",E1307,E1306),\"\")","v":""},{"$f":"IF(N1306<>\"\",IF(F1307<>\"\",F1307,F1306),\"\")","v":""}]
[]
[null,null,null,null,null,null,null,null,null,null,null,null,null,{"$f":"IF(A1308<>\"\",TEXT(A1308,\"\"),\"\")","v":""},{"$f":"IF(N1308=\"\",\"\",CONCATENATE(IF(C1308<>\"\",TEXT(C1308,\"\"),\"\"),\" - \",IF(K1308<>\"\",TEXT(K1308,\"\"),\"\")))","v":""},{"$f":"SUBSTITUTE(SUBSTITUTE(SUBSTITUTE(SUBSTITUTE(IF(L1308<>\"\",HLink(L1308),\"\"),\"htm\",\"html\"),\"1x2\",\"analysis\"),\"www\",\"data\"),\"com\",\"vip\")","v":""},{"$f":"IF(D1308<>\"\",D1308,\"\")","v":""},{"$f":"IF(E1308<>\"\",E1308,\"\")","v":""},{"$f":"IF(F1308<>\"\",F1308,\"\")","v":""},{"$f":"IF(N1308<>\"\",IF(D1309<>\"\",D1309,D1308),\"\")","v":""},{"$f":"IF(N1308<>\"\",IF(E1309<>\"\",E1309,E1308),\"\")","v":""},{"$f":"IF(N1308<>\"\",IF(F1309<>\"\",F1309,F1308),\"\")","v":""}]
[]
[null,null,null,null,null,null,null,null,null,null,null,null,null,{"$f":"IF(A1310<>\"\",TEXT(A1310,\"\"),\"\")","v":""},{"$f":"IF(N1310=\"\",\"\",CONCATENATE(IF(C1310<>\"\",TEXT(C1310,\"\"),\"\"),\" - \",IF(K1310<>\"\",TEXT(K1310,\"\"),\"\")))","v":""},{"$f":"SUBSTITUTE(SUBSTITUTE(SUBSTITUTE(SUBSTITUTE(IF(L1310<>\"\",HLink(L1310),\"\"),\"htm\",\"html\"),\"1x2\",\"analysis\"),\"www\",\"data\"),\"com\",\"vip\")","v":""},{"$f":"IF(D1310<>\"\",D1310,\"\")","v":""},{"$f":"IF(E1310<>\"\",E1310,\"\")","v":""},{"$f":"IF(F1310<>\"\",F1310,\"\")","v":""},{"$f":"IF(N1310<>\"\",IF(D1311<>\"\",D1311,D1310),\"\")","v":""},{"$f":"IF(N1310<>\"\",IF(E1311<>\"\",E1311,E1310),\"\")","v":""},{"$f":"IF(N1310<>\"\",IF(F1311<>\"\",F1311,F1310),\"\")","v":""}]
[]
[null,null,null,null,null,null,null,null,null,null,null,null,null,{"$f":"IF(A1312<>\"\",TEXT(A1312,\"\"),\"\")","v":""},{"$f":"IF(N1312=\"\",\"\",CONCATENATE(IF(C1312<>\"\",TEXT(C1312,\"\"),\"\"),\" - \",IF(K1312<>\"\",TEXT(K1312,\"\"),\"\")))","v":""},{"$f":"SUBSTITUTE(SUBSTITUTE(SUBSTITUTE(SUBSTITUTE(IF(L1312<>\"\",HLink(L1312),\"\"),\"htm\",\"html\"),\"1x2\",\"analysis\"),\"www\",\"data\"),\"com\",\"vip\")","v":""},{"$f":"IF(D1312<>\"\",D1312,\"\")","v":""},{"$f":"IF(E1312<>\"\",E1312,\"\")","v":""},{"$f":"IF(F1312<>\"\",F1312,\"\")","v":""},{"$f":"IF(N1312<>\"\",IF(D1313<>\"\",D1313,D1312),\"\")","v":""},{"$f":"IF(N1312<>\"\",IF(E1313<>\"\",E1313,E1312),\"\")","v":""},{"$f":"IF(N1312<>\"\",IF(F1313<>\"\",F1313,F1312),\"\")","v":""}]
[]
[null,null,null,null,null,null,null,null,null,null,null,null,null,{"$f":"IF(A1314<>\"\",TEXT(A1314,\"\"),\"\")","v":""},{"$f":"IF(N1314=\"\",\"\",CONCATENATE(IF(C1314<>\"\",TEXT(C1314,\"\"),\"\"),\" - \",IF(K1314<>\"\",TEXT(K1314,\"\"),\"\")))","v":""},{"$f":"SUBSTITUTE(SUBSTITUTE(SUBSTITUTE(SUBSTITUTE(IF(L1314<>\"\",HLink(L1314),\"\"),\"htm\",\"html\"),\"1x2\",\"analysis\"),\"www\",\"data\"),\"com\",\"vip\")","v":""},{"$f":"IF(D1314<>\"\",D1314,\"\")","v":""},{"$f":"IF(E1314<>\"\",E1314,\"\")","v":""},{"$f":"IF(F1314<>\"\",F1314,\"\")","v":""},{"$f":"IF(N1314<>\"\",IF(D1315<>\"\",D1315,D1314),\"\")","v":""},{"$f":"IF(N1314<>\"\",IF(E1315<>\"\",E1315,E1314),\"\")","v":""},{"$f":"IF(N1314<>\"\",IF(F1315<>\"\",F1315,F1314),\"\")","v":""}]
[]
[null,null,null,null,null,null,null,null,null,null,null,null,null,{"$f":"IF(A1316<>\"\",TEXT(A1316,\"\"),\"\")","v":""},{"$f":"IF(N1316=\"\",\"\",CONCATENATE(IF(C1316<>\"\",TEXT(C1316,\"\"),\"\"),\" - \",IF(K1316<>\"\",TEXT(K1316,\"\"),\"\")))","v":""},{"$f":"SUBSTITUTE(SUBSTITUTE(SUBSTITUTE(SUBSTITUTE(IF(L1316<>\"\",HLink(L1316),\"\"),\"htm\",\"html\"),\"1x2\",\"analysis\"),\"www\",\"data\"),\"com\",\"vip\")","v":""},{"$f":"IF(D1316<>\"\",D1316,\"\")","v":""},{"$f":"IF(E1316<>\"\",E1316,\"\")","v":""},{"$f":"IF(F1316<>\"\",F1316,\"\")","v":""},{"$f":"IF(N1316<>\"\",IF(D1317<>\"\",D1317,D1316),\"\")","v":""},{"$f":"IF(N1316<>\"\",IF(E1317<>\"\",E1317,E1316),\"\")","v":""},{"$f":"IF(N1316<>\"\",IF(F1317<>\"\",F1317,F1316),\"\")","v":""}]
[]
[null,null,null,null,null,null,null,null,null,null,null,null,null,{"$f":"IF(A1318<>\"\",TEXT(A1318,\"\"),\"\")","v":""},{"$f":"IF(N1318=\"\",\"\",CONCATENATE(IF(C1318<>\"\",TEXT(C1318,\"\"),\"\"),\" - \",IF(K1318<>\"\",TEXT(K1318,\"\"),\"\")))","v":""},{"$f":"SUBSTITUTE(SUBSTITUTE(SUBSTITUTE(SUBSTITUTE(IF(L1318<>\"\",HLink(L1318),\"\"),\"htm\",\"html\"),\"1x2\",\"analysis\"),\"www\",\"data\"),\"com\",\"vip\")","v":""},{"$f":"IF(D1318<>\"\",D1318,\"\")","v":""},{"$f":"IF(E1318<>\"\",E1318,\"\")","v":""},{"$f":"IF(F1318<>\"\",F1318,\"\")","v":""},{"$f":"IF(N1318<>\"\",IF(D1319<>\"\",D1319,D1318),\"\")","v":""},{"$f":"IF(N1318<>\"\",IF(E1319<>\"\",E1319,E1318),\"\")","v":""},{"$f":"IF(N1318<>\"\",IF(F1319<>\"\",F1319,F1318),\"\")","v":""}]
[]
[null,null,null,null,null,null,null,null,null,null,null,null,null,{"$f":"IF(A1320<>\"\",TEXT(A1320,\"\"),\"\")","v":""},{"$f":"IF(N1320=\"\",\"\",CONCATENATE(IF(C1320<>\"\",TEXT(C1320,\"\"),\"\"),\" - \",IF(K1320<>\"\",TEXT(K1320,\"\"),\"\")))","v":""},{"$f":"SUBSTITUTE(SUBSTITUTE(SUBSTITUTE(SUBSTITUTE(IF(L1320<>\"\",HLink(L1320),\"\"),\"htm\",\"html\"),\"1x2\",\"analysis\"),\"www\",\"data\"),\"com\",\"vip\")","v":""},{"$f":"IF(D1320<>\"\",D1320,\"\")","v":""},{"$f":"IF(E1320<>\"\",E1320,\"\")","v":""},{"$f":"IF(F1320<>\"\",F1320,\"\")","v":""},{"$f":"IF(N1320<>\"\",IF(D1321<>\"\",D1321,D1320),\"\")","v":""},{"$f":"IF(N1320<>\"\",IF(E1321<>\"\",E1321,E1320),\"\")","v":""},{"$f":"IF(N1320<>\"\",IF(F1321<>\"\",F1321,F1320),\"\")","v":""}]
[]
[null,null,null,null,null,null,null,null,null,null,null,null,null,{"$f":"IF(A1322<>\"\",TEXT(A1322,\"\"),\"\")","v":""},{"$f":"IF(N1322=\"\",\"\",CONCATENATE(IF(C1322<>\"\",TEXT(C1322,\"\"),\"\"),\" - \",IF(K1322<>\"\",TEXT(K1322,\"\"),\"\")))","v":""},{"$f":"SUBSTITUTE(SUBSTITUTE(SUBSTITUTE(SUBSTITUTE(IF(L1322<>\"\",HLink(L1322),\"\"),\"htm\",\"html\"),\"1x2\",\"analysis\"),\"www\",\"data\"),\"com\",\"vip\")","v":""},{"$f":"IF(D1322<>\"\",D1322,\"\")","v":""},{"$f":"IF(E1322<>\"\",E1322,\"\")","v":""},{"$f":"IF(F1322<>\"\",F1322,\"\")","v":""},{"$f":"IF(N1322<>\"\",IF(D1323<>\"\",D1323,D1322),\"\")","v":""},{"$f":"IF(N1322<>\"\",IF(E1323<>\"\",E1323,E1322),\"\")","v":""},{"$f":"IF(N1322<>\"\",IF(F1323<>\"\",F1323,F1322),\"\")","v":""}]
[]
[null,null,null,null,null,null,null,null,null,null,null,null,null,{"$f":"IF(A1324<>\"\",TEXT(A1324,\"\"),\"\")","v":""},{"$f":"IF(N1324=\"\",\"\",CONCATENATE(IF(C1324<>\"\",TEXT(C1324,\"\"),\"\"),\" - \",IF(K1324<>\"\",TEXT(K1324,\"\"),\"\")))","v":""},{"$f":"SUBSTITUTE(SUBSTITUTE(SUBSTITUTE(SUBSTITUTE(IF(L1324<>\"\",HLink(L1324),\"\"),\"htm\",\"html\"),\"1x2\",\"analysis\"),\"www\",\"data\"),\"com\",\"vip\")","v":""},{"$f":"IF(D1324<>\"\",D1324,\"\")","v":""},{"$f":"IF(E1324<>\"\",E1324,\"\")","v":""},{"$f":"IF(F1324<>\"\",F1324,\"\")","v":""},{"$f":"IF(N1324<>\"\",IF(D1325<>\"\",D1325,D1324),\"\")","v":""},{"$f":"IF(N1324<>\"\",IF(E1325<>\"\",E1325,E1324),\"\")","v":""},{"$f":"IF(N1324<>\"\",IF(F1325<>\"\",F1325,F1324),\"\")","v":""}]
[]
[null,null,null,null,null,null,null,null,null,null,null,null,null,{"$f":"IF(A1326<>\"\",TEXT(A1326,\"\"),\"\")","v":""},{"$f":"IF(N1326=\"\",\"\",CONCATENATE(IF(C1326<>\"\",TEXT(C1326,\"\"),\"\"),\" - \",IF(K1326<>\"\",TEXT(K1326,\"\"),\"\")))","v":""},{"$f":"SUBSTITUTE(SUBSTITUTE(SUBSTITUTE(SUBSTITUTE(IF(L1326<>\"\",HLink(L1326),\"\"),\"htm\",\"html\"),\"1x2\",\"analysis\"),\"www\",\"data\"),\"com\",\"vip\")","v":""},{"$f":"IF(D1326<>\"\",D1326,\"\")","v":""},{"$f":"IF(E1326<>\"\",E1326,\"\")","v":""},{"$f":"IF(F1326<>\"\",F1326,\"\")","v":""},{"$f":"IF(N1326<>\"\",IF(D1327<>\"\",D1327,D1326),\"\")","v":""},{"$f":"IF(N1326<>\"\",IF(E1327<>\"\",E1327,E1326),\"\")","v":""},{"$f":"IF(N1326<>\"\",IF(F1327<>\"\",F1327,F1326),\"\")","v":""}]
[]
[null,null,null,null,null,null,null,null,null,null,null,null,null,{"$f":"IF(A1328<>\"\",TEXT(A1328,\"\"),\"\")","v":""},{"$f":"IF(N1328=\"\",\"\",CONCATENATE(IF(C1328<>\"\",TEXT(C1328,\"\"),\"\"),\" - \",IF(K1328<>\"\",TEXT(K1328,\"\"),\"\")))","v":""},{"$f":"SUBSTITUTE(SUBSTITUTE(SUBSTITUTE(SUBSTITUTE(IF(L1328<>\"\",HLink(L1328),\"\"),\"htm\",\"html\"),\"1x2\",\"analysis\"),\"www\",\"data\"),\"com\",\"vip\")","v":""},{"$f":"IF(D1328<>\"\",D1328,\"\")","v":""},{"$f":"IF(E1328<>\"\",E1328,\"\")","v":""},{"$f":"IF(F1328<>\"\",F1328,\"\")","v":""},{"$f":"IF(N1328<>\"\",IF(D1329<>\"\",D1329,D1328),\"\")","v":""},{"$f":"IF(N1328<>\"\",IF(E1329<>\"\",E1329,E1328),\"\")","v":""},{"$f":"IF(N1328<>\"\",IF(F1329<>\"\",F1329,F1328),\"\")","v":""}]
[]
[null,null,null,null,null,null,null,null,null,null,null,null,null,{"$f":"IF(A1330<>\"\",TEXT(A1330,\"\"),\"\")","v":""},{"$f":"IF(N1330=\"\",\"\",CONCATENATE(IF(C1330<>\"\",TEXT(C1330,\"\"),\"\"),\" - \",IF(K1330<>\"\",TEXT(K1330,\"\"),\"\")))","v":""},{"$f":"SUBSTITUTE(SUBSTITUTE(SUBSTITUTE(SUBSTITUTE(IF(L1330<>\"\",HLink(L1330),\"\"),\"htm\",\"html\"),\"1x2\",\"analysis\"),\"www\",\"data\"),\"com\",\"vip\")","v":""},{"$f":"IF(D1330<>\"\",D1330,\"\")","v":""},{"$f":"IF(E1330<>\"\",E1330,\"\")","v":""},{"$f":"IF(F1330<>\"\",F1330,\"\")","v":""},{"$f":"IF(N1330<>\"\",IF(D1331<>\"\",D1331,D1330),\"\")","v":""},{"$f":"IF(N1330<>\"\",IF(E1331<>\"\",E1331,E1330),\"\")","v":""},{"$f":"IF(N1330<>\"\",IF(F1331<>\"\",F1331,F1330),\"\")","v":""}]
[]
[null,null,null,null,null,null,null,null,null,null,null,null,null,{"$f":"IF(A1332<>\"\",TEXT(A1332,\"\"),\"\")","v":""},{"$f":"IF(N1332=\"\",\"\",CONCATENATE(IF(C1332<>\"\",TEXT(C1332,\"\"),\"\"),\" - \",IF(K1332<>\"\",TEXT(K1332,\"\"),\"\")))","v":""},{"$f":"SUBSTITUTE(SUBSTITUTE(SUBSTITUTE(SUBSTITUTE(IF(L1332<>\"\",HLink(L1332),\"\"),\"htm\",\"html\"),\"1x2\",\"analysis\"),\"www\",\"data\"),\"com\",\"vip\")","v":""},{"$f":"IF(D1332<>\"\",D1332,\"\")","v":""},{"$f":"IF(E1332<>\"\",E1332,\"\")","v":""},{"$f":"IF(F1332<>\"\",F1332,\"\")","v":""},{"$f":"IF(N1332<>\"\",IF(D1333<>\"\",D1333,D1332),\"\")","v":""},{"$f":"IF(N1332<>\"\",IF(E1333<>\"\",E1333,E1332),\"\")","v":""},{"$f":"IF(N1332<>\"\",IF(F1333<>\"\",F1333,F1332),\"\")","v":""}]
[]
[null,null,null,null,null,null,null,null,null,null,null,null,null,{"$f":"IF(A1334<>\"\",TEXT(A1334,\"\"),\"\")","v":""},{"$f":"IF(N1334=\"\",\"\",CONCATENATE(IF(C1334<>\"\",TEXT(C1334,\"\"),\"\"),\" - \",IF(K1334<>\"\",TEXT(K1334,\"\"),\"\")))","v":""},{"$f":"SUBSTITUTE(SUBSTITUTE(SUBSTITUTE(SUBSTITUTE(IF(L1334<>\"\",HLink(L1334),\"\"),\"htm\",\"html\"),\"1x2\",\"analysis\"),\"www\",\"data\"),\"com\",\"vip\")","v":""},{"$f":"IF(D1334<>\"\",D1334,\"\")","v":""},{"$f":"IF(E1334<>\"\",E1334,\"\")","v":""},{"$f":"IF(F1334<>\"\",F1334,\"\")","v":""},{"$f":"IF(N1334<>\"\",IF(D1335<>\"\",D1335,D1334),\"\")","v":""},{"$f":"IF(N1334<>\"\",IF(E1335<>\"\",E1335,E1334),\"\")","v":""},{"$f":"IF(N1334<>\"\",IF(F1335<>\"\",F1335,F1334),\"\")","v":""}]
[]
[null,null,null,null,null,null,null,null,null,null,null,null,null,{"$f":"IF(A1336<>\"\",TEXT(A1336,\"\"),\"\")","v":""},{"$f":"IF(N1336=\"\",\"\",CONCATENATE(IF(C1336<>\"\",TEXT(C1336,\"\"),\"\"),\" - \",IF(K1336<>\"\",TEXT(K1336,\"\"),\"\")))","v":""},{"$f":"SUBSTITUTE(SUBSTITUTE(SUBSTITUTE(SUBSTITUTE(IF(L1336<>\"\",HLink(L1336),\"\"),\"htm\",\"html\"),\"1x2\",\"analysis\"),\"www\",\"data\"),\"com\",\"vip\")","v":""},{"$f":"IF(D1336<>\"\",D1336,\"\")","v":""},{"$f":"IF(E1336<>\"\",E1336,\"\")","v":""},{"$f":"IF(F1336<>\"\",F1336,\"\")","v":""},{"$f":"IF(N1336<>\"\",IF(D1337<>\"\",D1337,D1336),\"\")","v":""},{"$f":"IF(N1336<>\"\",IF(E1337<>\"\",E1337,E1336),\"\")","v":""},{"$f":"IF(N1336<>\"\",IF(F1337<>\"\",F1337,F1336),\"\")","v":""}]
[]
[null,null,null,null,null,null,null,null,null,null,null,null,null,{"$f":"IF(A1338<>\"\",TEXT(A1338,\"\"),\"\")","v":""},{"$f":"IF(N1338=\"\",\"\",CONCATENATE(IF(C1338<>\"\",TEXT(C1338,\"\"),\"\"),\" - \",IF(K1338<>\"\",TEXT(K1338,\"\"),\"\")))","v":""},{"$f":"SUBSTITUTE(SUBSTITUTE(SUBSTITUTE(SUBSTITUTE(IF(L1338<>\"\",HLink(L1338),\"\"),\"htm\",\"html\"),\"1x2\",\"analysis\"),\"www\",\"data\"),\"com\",\"vip\")","v":""},{"$f":"IF(D1338<>\"\",D1338,\"\")","v":""},{"$f":"IF(E1338<>\"\",E1338,\"\")","v":""},{"$f":"IF(F1338<>\"\",F1338,\"\")","v":""},{"$f":"IF(N1338<>\"\",IF(D1339<>\"\",D1339,D1338),\"\")","v":""},{"$f":"IF(N1338<>\"\",IF(E1339<>\"\",E1339,E1338),\"\")","v":""},{"$f":"IF(N1338<>\"\",IF(F1339<>\"\",F1339,F1338),\"\")","v":""}]
[]
[null,null,null,null,null,null,null,null,null,null,null,null,null,{"$f":"IF(A1340<>\"\",TEXT(A1340,\"\"),\"\")","v":""},{"$f":"IF(N1340=\"\",\"\",CONCATENATE(IF(C1340<>\"\",TEXT(C1340,\"\"),\"\"),\" - \",IF(K1340<>\"\",TEXT(K1340,\"\"),\"\")))","v":""},{"$f":"SUBSTITUTE(SUBSTITUTE(SUBSTITUTE(SUBSTITUTE(IF(L1340<>\"\",HLink(L1340),\"\"),\"htm\",\"html\"),\"1x2\",\"analysis\"),\"www\",\"data\"),\"com\",\"vip\")","v":""},{"$f":"IF(D1340<>\"\",D1340,\"\")","v":""},{"$f":"IF(E1340<>\"\",E1340,\"\")","v":""},{"$f":"IF(F1340<>\"\",F1340,\"\")","v":""},{"$f":"IF(N1340<>\"\",IF(D1341<>\"\",D1341,D1340),\"\")","v":""},{"$f":"IF(N1340<>\"\",IF(E1341<>\"\",E1341,E1340),\"\")","v":""},{"$f":"IF(N1340<>\"\",IF(F1341<>\"\",F1341,F1340),\"\")","v":""}]
[]
[null,null,null,null,null,null,null,null,null,null,null,null,null,{"$f":"IF(A1342<>\"\",TEXT(A1342,\"\"),\"\")","v":""},{"$f":"IF(N1342=\"\",\"\",CONCATENATE(IF(C1342<>\"\",TEXT(C1342,\"\"),\"\"),\" - \",IF(K1342<>\"\",TEXT(K1342,\"\"),\"\")))","v":""},{"$f":"SUBSTITUTE(SUBSTITUTE(SUBSTITUTE(SUBSTITUTE(IF(L1342<>\"\",HLink(L1342),\"\"),\"htm\",\"html\"),\"1x2\",\"analysis\"),\"www\",\"data\"),\"com\",\"vip\")","v":""},{"$f":"IF(D1342<>\"\",D1342,\"\")","v":""},{"$f":"IF(E1342<>\"\",E1342,\"\")","v":""},{"$f":"IF(F1342<>\"\",F1342,\"\")","v":""},{"$f":"IF(N1342<>\"\",IF(D1343<>\"\",D1343,D1342),\"\")","v":""},{"$f":"IF(N1342<>\"\",IF(E1343<>\"\",E1343,E1342),\"\")","v":""},{"$f":"IF(N1342<>\"\",IF(F1343<>\"\",F1343,F1342),\"\")","v":""}]
[]
[null,null,null,null,null,null,null,null,null,null,null,null,null,{"$f":"IF(A1344<>\"\",TEXT(A1344,\"\"),\"\")","v":""},{"$f":"IF(N1344=\"\",\"\",CONCATENATE(IF(C1344<>\"\",TEXT(C1344,\"\"),\"\"),\" - \",IF(K1344<>\"\",TEXT(K1344,\"\"),\"\")))","v":""},{"$f":"SUBSTITUTE(SUBSTITUTE(SUBSTITUTE(SUBSTITUTE(IF(L1344<>\"\",HLink(L1344),\"\"),\"htm\",\"html\"),\"1x2\",\"analysis\"),\"www\",\"data\"),\"com\",\"vip\")","v":""},{"$f":"IF(D1344<>\"\",D1344,\"\")","v":""},{"$f":"IF(E1344<>\"\",E1344,\"\")","v":""},{"$f":"IF(F1344<>\"\",F1344,\"\")","v":""},{"$f":"IF(N1344<>\"\",IF(D1345<>\"\",D1345,D1344),\"\")","v":""},{"$f":"IF(N1344<>\"\",IF(E1345<>\"\",E1345,E1344),\"\")","v":""},{"$f":"IF(N1344<>\"\",IF(F1345<>\"\",F1345,F1344),\"\")","v":""}]
[]
[null,null,null,null,null,null,null,null,null,null,null,null,null,{"$f":"IF(A1346<>\"\",TEXT(A1346,\"\"),\"\")","v":""},{"$f":"IF(N1346=\"\",\"\",CONCATENATE(IF(C1346<>\"\",TEXT(C1346,\"\"),\"\"),\" - \",IF(K1346<>\"\",TEXT(K1346,\"\"),\"\")))","v":""},{"$f":"SUBSTITUTE(SUBSTITUTE(SUBSTITUTE(SUBSTITUTE(IF(L1346<>\"\",HLink(L1346),\"\"),\"htm\",\"html\"),\"1x2\",\"analysis\"),\"www\",\"data\"),\"com\",\"vip\")","v":""},{"$f":"IF(D1346<>\"\",D1346,\"\")","v":""},{"$f":"IF(E1346<>\"\",E1346,\"\")","v":""},{"$f":"IF(F1346<>\"\",F1346,\"\")","v":""},{"$f":"IF(N1346<>\"\",IF(D1347<>\"\",D1347,D1346),\"\")","v":""},{"$f":"IF(N1346<>\"\",IF(E1347<>\"\",E1347,E1346),\"\")","v":""},{"$f":"IF(N1346<>\"\",IF(F1347<>\"\",F1347,F1346),\"\")","v":""}]
[]
[null,null,null,null,null,null,null,null,null,null,null,null,null,{"$f":"IF(A1348<>\"\",TEXT(A1348,\"\"),\"\")","v":""},{"$f":"IF(N1348=\"\",\"\",CONCATENATE(IF(C1348<>\"\",TEXT(C1348,\"\"),\"\"),\" - \",IF(K1348<>\"\",TEXT(K1348,\"\"),\"\")))","v":""},{"$f":"SUBSTITUTE(SUBSTITUTE(SUBSTITUTE(SUBSTITUTE(IF(L1348<>\"\",HLink(L1348),\"\"),\"htm\",\"html\"),\"1x2\",\"analysis\"),\"www\",\"data\"),\"com\",\"vip\")","v":""},{"$f":"IF(D1348<>\"\",D1348,\"\")","v":""},{"$f":"IF(E1348<>\"\",E1348,\"\")","v":""},{"$f":"IF(F1348<>\"\",F1348,\"\")","v":""},{"$f":"IF(N1348<>\"\",IF(D1349<>\"\",D1349,D1348),\"\")","v":""},{"$f":"IF(N1348<>\"\",IF(E1349<>\"\",E1349,E1348),\"\")","v":""},{"$f":"IF(N1348<>\"\",IF(F1349<>\"\",F1349,F1348),\"\")","v":""}]
[]
[null,null,null,null,null,null,null,null,null,null,null,null,null,{"$f":"IF(A1350<>\"\",TEXT(A1350,\"\"),\"\")","v":""},{"$f":"IF(N1350=\"\",\"\",CONCATENATE(IF(C1350<>\"\",TEXT(C1350,\"\"),\"\"),\" - \",IF(K1350<>\"\",TEXT(K1350,\"\"),\"\")))","v":""},{"$f":"SUBSTITUTE(SUBSTITUTE(SUBSTITUTE(SUBSTITUTE(IF(L1350<>\"\",HLink(L1350),\"\"),\"htm\",\"html\"),\"1x2\",\"analysis\"),\"www\",\"data\"),\"com\",\"vip\")","v":""},{"$f":"IF(D1350<>\"\",D1350,\"\")","v":""},{"$f":"IF(E1350<>\"\",E1350,\"\")","v":""},{"$f":"IF(F1350<>\"\",F1350,\"\")","v":""},{"$f":"IF(N1350<>\"\",IF(D1351<>\"\",D1351,D1350),\"\")","v":""},{"$f":"IF(N1350<>\"\",IF(E1351<>\"\",E1351,E1350),\"\")","v":""},{"$f":"IF(N1350<>\"\",IF(F1351<>\"\",F1351,F1350),\"\")","v":""}]
[]
[null,null,null,null,null,null,null,null,null,null,null,null,null,{"$f":"IF(A1352<>\"\",TEXT(A1352,\"\"),\"\")","v":""},{"$f":"IF(N1352=\"\",\"\",CONCATENATE(IF(C1352<>\"\",TEXT(C1352,\"\"),\"\"),\" - \",IF(K1352<>\"\",TEXT(K1352,\"\"),\"\")))","v":""},{"$f":"SUBSTITUTE(SUBSTITUTE(SUBSTITUTE(SUBSTITUTE(IF(L1352<>\"\",HLink(L1352),\"\"),\"htm\",\"html\"),\"1x2\",\"analysis\"),\"www\",\"data\"),\"com\",\"vip\")","v":""},{"$f":"IF(D1352<>\"\",D1352,\"\")","v":""},{"$f":"IF(E1352<>\"\",E1352,\"\")","v":""},{"$f":"IF(F1352<>\"\",F1352,\"\")","v":""},{"$f":"IF(N1352<>\"\",IF(D1353<>\"\",D1353,D1352),\"\")","v":""},{"$f":"IF(N1352<>\"\",IF(E1353<>\"\",E1353,E1352),\"\")","v":""},{"$f":"IF(N1352<>\"\",IF(F1353<>\"\",F1353,F1352),\"\")","v":""}]
[]
[null,null,null,null,null,null,null,null,null,null,null,null,null,{"$f":"IF(A1354<>\"\",TEXT(A1354,\"\"),\"\")","v":""},{"$f":"IF(N1354=\"\",\"\",CONCATENATE(IF(C1354<>\"\",TEXT(C1354,\"\"),\"\"),\" - \",IF(K1354<>\"\",TEXT(K1354,\"\"),\"\")))","v":""},{"$f":"SUBSTITUTE(SUBSTITUTE(SUBSTITUTE(SUBSTITUTE(IF(L1354<>\"\",HLink(L1354),\"\"),\"htm\",\"html\"),\"1x2\",\"analysis\"),\"www\",\"data\"),\"com\",\"vip\")","v":""},{"$f":"IF(D1354<>\"\",D1354,\"\")","v":""},{"$f":"IF(E1354<>\"\",E1354,\"\")","v":""},{"$f":"IF(F1354<>\"\",F1354,\"\")","v":""},{"$f":"IF(N1354<>\"\",IF(D1355<>\"\",D1355,D1354),\"\")","v":""},{"$f":"IF(N1354<>\"\",IF(E1355<>\"\",E1355,E1354),\"\")","v":""},{"$f":"IF(N1354<>\"\",IF(F1355<>\"\",F1355,F1354),\"\")","v":""}]
[]
[null,null,null,null,null,null,null,null,null,null,null,null,null,{"$f":"IF(A1356<>\"\",TEXT(A1356,\"\"),\"\")","v":""},{"$f":"IF(N1356=\"\",\"\",CONCATENATE(IF(C1356<>\"\",TEXT(C1356,\"\"),\"\"),\" - \",IF(K1356<>\"\",TEXT(K1356,\"\"),\"\")))","v":""},{"$f":"SUBSTITUTE(SUBSTITUTE(SUBSTITUTE(SUBSTITUTE(IF(L1356<>\"\",HLink(L1356),\"\"),\"htm\",\"html\"),\"1x2\",\"analysis\"),\"www\",\"data\"),\"com\",\"vip\")","v":""},{"$f":"IF(D1356<>\"\",D1356,\"\")","v":""},{"$f":"IF(E1356<>\"\",E1356,\"\")","v":""},{"$f":"IF(F1356<>\"\",F1356,\"\")","v":""},{"$f":"IF(N1356<>\"\",IF(D1357<>\"\",D1357,D1356),\"\")","v":""},{"$f":"IF(N1356<>\"\",IF(E1357<>\"\",E1357,E1356),\"\")","v":""},{"$f":"IF(N1356<>\"\",IF(F1357<>\"\",F1357,F1356),\"\")","v":""}]
[]
[null,null,null,null,null,null,null,null,null,null,null,null,null,{"$f":"IF(A1358<>\"\",TEXT(A1358,\"\"),\"\")","v":""},{"$f":"IF(N1358=\"\",\"\",CONCATENATE(IF(C1358<>\"\",TEXT(C1358,\"\"),\"\"),\" - \",IF(K1358<>\"\",TEXT(K1358,\"\"),\"\")))","v":""},{"$f":"SUBSTITUTE(SUBSTITUTE(SUBSTITUTE(SUBSTITUTE(IF(L1358<>\"\",HLink(L1358),\"\"),\"htm\",\"html\"),\"1x2\",\"analysis\"),\"www\",\"data\"),\"com\",\"vip\")","v":""},{"$f":"IF(D1358<>\"\",D1358,\"\")","v":""},{"$f":"IF(E1358<>\"\",E1358,\"\")","v":""},{"$f":"IF(F1358<>\"\",F1358,\"\")","v":""},{"$f":"IF(N1358<>\"\",IF(D1359<>\"\",D1359,D1358),\"\")","v":""},{"$f":"IF(N1358<>\"\",IF(E1359<>\"\",E1359,E1358),\"\")","v":""},{"$f":"IF(N1358<>\"\",IF(F1359<>\"\",F1359,F1358),\"\")","v":""}]
[]
[null,null,null,null,null,null,null,null,null,null,null,null,null,{"$f":"IF(A1360<>\"\",TEXT(A1360,\"\"),\"\")","v":""},{"$f":"IF(N1360=\"\",\"\",CONCATENATE(IF(C1360<>\"\",TEXT(C1360,\"\"),\"\"),\" - \",IF(K1360<>\"\",TEXT(K1360,\"\"),\"\")))","v":""},{"$f":"SUBSTITUTE(SUBSTITUTE(SUBSTITUTE(SUBSTITUTE(IF(L1360<>\"\",HLink(L1360),\"\"),\"htm\",\"html\"),\"1x2\",\"analysis\"),\"www\",\"data\"),\"com\",\"vip\")","v":""},{"$f":"IF(D1360<>\"\",D1360,\"\")","v":""},{"$f":"IF(E1360<>\"\",E1360,\"\")","v":""},{"$f":"IF(F1360<>\"\",F1360,\"\")","v":""},{"$f":"IF(N1360<>\"\",IF(D1361<>\"\",D1361,D1360),\"\")","v":""},{"$f":"IF(N1360<>\"\",IF(E1361<>\"\",E1361,E1360),\"\")","v":""},{"$f":"IF(N1360<>\"\",IF(F1361<>\"\",F1361,F1360),\"\")","v":""}]
[]
[null,null,null,null,null,null,null,null,null,null,null,null,null,{"$f":"IF(A1362<>\"\",TEXT(A1362,\"\"),\"\")","v":""},{"$f":"IF(N1362=\"\",\"\",CONCATENATE(IF(C1362<>\"\",TEXT(C1362,\"\"),\"\"),\" - \",IF(K1362<>\"\",TEXT(K1362,\"\"),\"\")))","v":""},{"$f":"SUBSTITUTE(SUBSTITUTE(SUBSTITUTE(SUBSTITUTE(IF(L1362<>\"\",HLink(L1362),\"\"),\"htm\",\"html\"),\"1x2\",\"analysis\"),\"www\",\"data\"),\"com\",\"vip\")","v":""},{"$f":"IF(D1362<>\"\",D1362,\"\")","v":""},{"$f":"IF(E1362<>\"\",E1362,\"\")","v":""},{"$f":"IF(F1362<>\"\",F1362,\"\")","v":""},{"$f":"IF(N1362<>\"\",IF(D1363<>\"\",D1363,D1362),\"\")","v":""},{"$f":"IF(N1362<>\"\",IF(E1363<>\"\",E1363,E1362),\"\")","v":""},{"$f":"IF(N1362<>\"\",IF(F1363<>\"\",F1363,F1362),\"\")","v":""}]
[]
[null,null,null,null,null,null,null,null,null,null,null,null,null,{"$f":"IF(A1364<>\"\",TEXT(A1364,\"\"),\"\")","v":""},{"$f":"IF(N1364=\"\",\"\",CONCATENATE(IF(C1364<>\"\",TEXT(C1364,\"\"),\"\"),\" - \",IF(K1364<>\"\",TEXT(K1364,\"\"),\"\")))","v":""},{"$f":"SUBSTITUTE(SUBSTITUTE(SUBSTITUTE(SUBSTITUTE(IF(L1364<>\"\",HLink(L1364),\"\"),\"htm\",\"html\"),\"1x2\",\"analysis\"),\"www\",\"data\"),\"com\",\"vip\")","v":""},{"$f":"IF(D1364<>\"\",D1364,\"\")","v":""},{"$f":"IF(E1364<>\"\",E1364,\"\")","v":""},{"$f":"IF(F1364<>\"\",F1364,\"\")","v":""},{"$f":"IF(N1364<>\"\",IF(D1365<>\"\",D1365,D1364),\"\")","v":""},{"$f":"IF(N1364<>\"\",IF(E1365<>\"\",E1365,E1364),\"\")","v":""},{"$f":"IF(N1364<>\"\",IF(F1365<>\"\",F1365,F1364),\"\")","v":""}]
[]
[null,null,null,null,null,null,null,null,null,null,null,null,null,{"$f":"IF(A1366<>\"\",TEXT(A1366,\"\"),\"\")","v":""},{"$f":"IF(N1366=\"\",\"\",CONCATENATE(IF(C1366<>\"\",TEXT(C1366,\"\"),\"\"),\" - \",IF(K1366<>\"\",TEXT(K1366,\"\"),\"\")))","v":""},{"$f":"SUBSTITUTE(SUBSTITUTE(SUBSTITUTE(SUBSTITUTE(IF(L1366<>\"\",HLink(L1366),\"\"),\"htm\",\"html\"),\"1x2\",\"analysis\"),\"www\",\"data\"),\"com\",\"vip\")","v":""},{"$f":"IF(D1366<>\"\",D1366,\"\")","v":""},{"$f":"IF(E1366<>\"\",E1366,\"\")","v":""},{"$f":"IF(F1366<>\"\",F1366,\"\")","v":""},{"$f":"IF(N1366<>\"\",IF(D1367<>\"\",D1367,D1366),\"\")","v":""},{"$f":"IF(N1366<>\"\",IF(E1367<>\"\",E1367,E1366),\"\")","v":""},{"$f":"IF(N1366<>\"\",IF(F1367<>\"\",F1367,F1366),\"\")","v":""}]
[]
[null,null,null,null,null,null,null,null,null,null,null,null,null,{"$f":"IF(A1368<>\"\",TEXT(A1368,\"\"),\"\")","v":""},{"$f":"IF(N1368=\"\",\"\",CONCATENATE(IF(C1368<>\"\",TEXT(C1368,\"\"),\"\"),\" - \",IF(K1368<>\"\",TEXT(K1368,\"\"),\"\")))","v":""},{"$f":"SUBSTITUTE(SUBSTITUTE(SUBSTITUTE(SUBSTITUTE(IF(L1368<>\"\",HLink(L1368),\"\"),\"htm\",\"html\"),\"1x2\",\"analysis\"),\"www\",\"data\"),\"com\",\"vip\")","v":""},{"$f":"IF(D1368<>\"\",D1368,\"\")","v":""},{"$f":"IF(E1368<>\"\",E1368,\"\")","v":""},{"$f":"IF(F1368<>\"\",F1368,\"\")","v":""},{"$f":"IF(N1368<>\"\",IF(D1369<>\"\",D1369,D1368),\"\")","v":""},{"$f":"IF(N1368<>\"\",IF(E1369<>\"\",E1369,E1368),\"\")","v":""},{"$f":"IF(N1368<>\"\",IF(F1369<>\"\",F1369,F1368),\"\")","v":""}]
[]
[null,null,null,null,null,null,null,null,null,null,null,null,null,{"$f":"IF(A1370<>\"\",TEXT(A1370,\"\"),\"\")","v":""},{"$f":"IF(N1370=\"\",\"\",CONCATENATE(IF(C1370<>\"\",TEXT(C1370,\"\"),\"\"),\" - \",IF(K1370<>\"\",TEXT(K1370,\"\"),\"\")))","v":""},{"$f":"SUBSTITUTE(SUBSTITUTE(SUBSTITUTE(SUBSTITUTE(IF(L1370<>\"\",HLink(L1370),\"\"),\"htm\",\"html\"),\"1x2\",\"analysis\"),\"www\",\"data\"),\"com\",\"vip\")","v":""},{"$f":"IF(D1370<>\"\",D1370,\"\")","v":""},{"$f":"IF(E1370<>\"\",E1370,\"\")","v":""},{"$f":"IF(F1370<>\"\",F1370,\"\")","v":""},{"$f":"IF(N1370<>\"\",IF(D1371<>\"\",D1371,D1370),\"\")","v":""},{"$f":"IF(N1370<>\"\",IF(E1371<>\"\",E1371,E1370),\"\")","v":""},{"$f":"IF(N1370<>\"\",IF(F1371<>\"\",F1371,F1370),\"\")","v":""}]
[]
[null,null,null,null,null,null,null,null,null,null,null,null,null,{"$f":"IF(A1372<>\"\",TEXT(A1372,\"\"),\"\")","v":""},{"$f":"IF(N1372=\"\",\"\",CONCATENATE(IF(C1372<>\"\",TEXT(C1372,\"\"),\"\"),\" - \",IF(K1372<>\"\",TEXT(K1372,\"\"),\"\")))","v":""},{"$f":"SUBSTITUTE(SUBSTITUTE(SUBSTITUTE(SUBSTITUTE(IF(L1372<>\"\",HLink(L1372),\"\"),\"htm\",\"html\"),\"1x2\",\"analysis\"),\"www\",\"data\"),\"com\",\"vip\")","v":""},{"$f":"IF(D1372<>\"\",D1372,\"\")","v":""},{"$f":"IF(E1372<>\"\",E1372,\"\")","v":""},{"$f":"IF(F1372<>\"\",F1372,\"\")","v":""},{"$f":"IF(N1372<>\"\",IF(D1373<>\"\",D1373,D1372),\"\")","v":""},{"$f":"IF(N1372<>\"\",IF(E1373<>\"\",E1373,E1372),\"\")","v":""},{"$f":"IF(N1372<>\"\",IF(F1373<>\"\",F1373,F1372),\"\")","v":""}]
[]
[null,null,null,null,null,null,null,null,null,null,null,null,null,{"$f":"IF(A1374<>\"\",TEXT(A1374,\"\"),\"\")","v":""},{"$f":"IF(N1374=\"\",\"\",CONCATENATE(IF(C1374<>\"\",TEXT(C1374,\"\"),\"\"),\" - \",IF(K1374<>\"\",TEXT(K1374,\"\"),\"\")))","v":""},{"$f":"SUBSTITUTE(SUBSTITUTE(SUBSTITUTE(SUBSTITUTE(IF(L1374<>\"\",HLink(L1374),\"\"),\"htm\",\"html\"),\"1x2\",\"analysis\"),\"www\",\"data\"),\"com\",\"vip\")","v":""},{"$f":"IF(D1374<>\"\",D1374,\"\")","v":""},{"$f":"IF(E1374<>\"\",E1374,\"\")","v":""},{"$f":"IF(F1374<>\"\",F1374,\"\")","v":""},{"$f":"IF(N1374<>\"\",IF(D1375<>\"\",D1375,D1374),\"\")","v":""},{"$f":"IF(N1374<>\"\",IF(E1375<>\"\",E1375,E1374),\"\")","v":""},{"$f":"IF(N1374<>\"\",IF(F1375<>\"\",F1375,F1374),\"\")","v":""}]
[]
[null,null,null,null,null,null,null,null,null,null,null,null,null,{"$f":"IF(A1376<>\"\",TEXT(A1376,\"\"),\"\")","v":""},{"$f":"IF(N1376=\"\",\"\",CONCATENATE(IF(C1376<>\"\",TEXT(C1376,\"\"),\"\"),\" - \",IF(K1376<>\"\",TEXT(K1376,\"\"),\"\")))","v":""},{"$f":"SUBSTITUTE(SUBSTITUTE(SUBSTITUTE(SUBSTITUTE(IF(L1376<>\"\",HLink(L1376),\"\"),\"htm\",\"html\"),\"1x2\",\"analysis\"),\"www\",\"data\"),\"com\",\"vip\")","v":""},{"$f":"IF(D1376<>\"\",D1376,\"\")","v":""},{"$f":"IF(E1376<>\"\",E1376,\"\")","v":""},{"$f":"IF(F1376<>\"\",F1376,\"\")","v":""},{"$f":"IF(N1376<>\"\",IF(D1377<>\"\",D1377,D1376),\"\")","v":""},{"$f":"IF(N1376<>\"\",IF(E1377<>\"\",E1377,E1376),\"\")","v":""},{"$f":"IF(N1376<>\"\",IF(F1377<>\"\",F1377,F1376),\"\")","v":""}]
[]
[null,null,null,null,null,null,null,null,null,null,null,null,null,{"$f":"IF(A1378<>\"\",TEXT(A1378,\"\"),\"\")","v":""},{"$f":"IF(N1378=\"\",\"\",CONCATENATE(IF(C1378<>\"\",TEXT(C1378,\"\"),\"\"),\" - \",IF(K1378<>\"\",TEXT(K1378,\"\"),\"\")))","v":""},{"$f":"SUBSTITUTE(SUBSTITUTE(SUBSTITUTE(SUBSTITUTE(IF(L1378<>\"\",HLink(L1378),\"\"),\"htm\",\"html\"),\"1x2\",\"analysis\"),\"www\",\"data\"),\"com\",\"vip\")","v":""},{"$f":"IF(D1378<>\"\",D1378,\"\")","v":""},{"$f":"IF(E1378<>\"\",E1378,\"\")","v":""},{"$f":"IF(F1378<>\"\",F1378,\"\")","v":""},{"$f":"IF(N1378<>\"\",IF(D1379<>\"\",D1379,D1378),\"\")","v":""},{"$f":"IF(N1378<>\"\",IF(E1379<>\"\",E1379,E1378),\"\")","v":""},{"$f":"IF(N1378<>\"\",IF(F1379<>\"\",F1379,F1378),\"\")","v":""}]
[]
[null,null,null,null,null,null,null,null,null,null,null,null,null,{"$f":"IF(A1380<>\"\",TEXT(A1380,\"\"),\"\")","v":""},{"$f":"IF(N1380=\"\",\"\",CONCATENATE(IF(C1380<>\"\",TEXT(C1380,\"\"),\"\"),\" - \",IF(K1380<>\"\",TEXT(K1380,\"\"),\"\")))","v":""},{"$f":"SUBSTITUTE(SUBSTITUTE(SUBSTITUTE(SUBSTITUTE(IF(L1380<>\"\",HLink(L1380),\"\"),\"htm\",\"html\"),\"1x2\",\"analysis\"),\"www\",\"data\"),\"com\",\"vip\")","v":""},{"$f":"IF(D1380<>\"\",D1380,\"\")","v":""},{"$f":"IF(E1380<>\"\",E1380,\"\")","v":""},{"$f":"IF(F1380<>\"\",F1380,\"\")","v":""},{"$f":"IF(N1380<>\"\",IF(D1381<>\"\",D1381,D1380),\"\")","v":""},{"$f":"IF(N1380<>\"\",IF(E1381<>\"\",E1381,E1380),\"\")","v":""},{"$f":"IF(N1380<>\"\",IF(F1381<>\"\",F1381,F1380),\"\")","v":""}]
[]
[null,null,null,null,null,null,null,null,null,null,null,null,null,{"$f":"IF(A1382<>\"\",TEXT(A1382,\"\"),\"\")","v":""},{"$f":"IF(N1382=\"\",\"\",CONCATENATE(IF(C1382<>\"\",TEXT(C1382,\"\"),\"\"),\" - \",IF(K1382<>\"\",TEXT(K1382,\"\"),\"\")))","v":""},{"$f":"SUBSTITUTE(SUBSTITUTE(SUBSTITUTE(SUBSTITUTE(IF(L1382<>\"\",HLink(L1382),\"\"),\"htm\",\"html\"),\"1x2\",\"analysis\"),\"www\",\"data\"),\"com\",\"vip\")","v":""},{"$f":"IF(D1382<>\"\",D1382,\"\")","v":""},{"$f":"IF(E1382<>\"\",E1382,\"\")","v":""},{"$f":"IF(F1382<>\"\",F1382,\"\")","v":""},{"$f":"IF(N1382<>\"\",IF(D1383<>\"\",D1383,D1382),\"\")","v":""},{"$f":"IF(N1382<>\"\",IF(E1383<>\"\",E1383,E1382),\"\")","v":""},{"$f":"IF(N1382<>\"\",IF(F1383<>\"\",F1383,F1382),\"\")","v":""}]
[]
[null,null,null,null,null,null,null,null,null,null,null,null,null,{"$f":"IF(A1384<>\"\",TEXT(A1384,\"\"),\"\")","v":""},{"$f":"IF(N1384=\"\",\"\",CONCATENATE(IF(C1384<>\"\",TEXT(C1384,\"\"),\"\"),\" - \",IF(K1384<>\"\",TEXT(K1384,\"\"),\"\")))","v":""},{"$f":"SUBSTITUTE(SUBSTITUTE(SUBSTITUTE(SUBSTITUTE(IF(L1384<>\"\",HLink(L1384),\"\"),\"htm\",\"html\"),\"1x2\",\"analysis\"),\"www\",\"data\"),\"com\",\"vip\")","v":""},{"$f":"IF(D1384<>\"\",D1384,\"\")","v":""},{"$f":"IF(E1384<>\"\",E1384,\"\")","v":""},{"$f":"IF(F1384<>\"\",F1384,\"\")","v":""},{"$f":"IF(N1384<>\"\",IF(D1385<>\"\",D1385,D1384),\"\")","v":""},{"$f":"IF(N1384<>\"\",IF(E1385<>\"\",E1385,E1384),\"\")","v":""},{"$f":"IF(N1384<>\"\",IF(F1385<>\"\",F1385,F1384),\"\")","v":""}]
[]
[null,null,null,null,null,null,null,null,null,null,null,null,null,{"$f":"IF(A1386<>\"\",TEXT(A1386,\"\"),\"\")","v":""},{"$f":"IF(N1386=\"\",\"\",CONCATENATE(IF(C1386<>\"\",TEXT(C1386,\"\"),\"\"),\" - \",IF(K1386<>\"\",TEXT(K1386,\"\"),\"\")))","v":""},{"$f":"SUBSTITUTE(SUBSTITUTE(SUBSTITUTE(SUBSTITUTE(IF(L1386<>\"\",HLink(L1386),\"\"),\"htm\",\"html\"),\"1x2\",\"analysis\"),\"www\",\"data\"),\"com\",\"vip\")","v":""},{"$f":"IF(D1386<>\"\",D1386,\"\")","v":""},{"$f":"IF(E1386<>\"\",E1386,\"\")","v":""},{"$f":"IF(F1386<>\"\",F1386,\"\")","v":""},{"$f":"IF(N1386<>\"\",IF(D1387<>\"\",D1387,D1386),\"\")","v":""},{"$f":"IF(N1386<>\"\",IF(E1387<>\"\",E1387,E1386),\"\")","v":""},{"$f":"IF(N1386<>\"\",IF(F1387<>\"\",F1387,F1386),\"\")","v":""}]
[]
[null,null,null,null,null,null,null,null,null,null,null,null,null,{"$f":"IF(A1388<>\"\",TEXT(A1388,\"\"),\"\")","v":""},{"$f":"IF(N1388=\"\",\"\",CONCATENATE(IF(C1388<>\"\",TEXT(C1388,\"\"),\"\"),\" - \",IF(K1388<>\"\",TEXT(K1388,\"\"),\"\")))","v":""},{"$f":"SUBSTITUTE(SUBSTITUTE(SUBSTITUTE(SUBSTITUTE(IF(L1388<>\"\",HLink(L1388),\"\"),\"htm\",\"html\"),\"1x2\",\"analysis\"),\"www\",\"data\"),\"com\",\"vip\")","v":""},{"$f":"IF(D1388<>\"\",D1388,\"\")","v":""},{"$f":"IF(E1388<>\"\",E1388,\"\")","v":""},{"$f":"IF(F1388<>\"\",F1388,\"\")","v":""},{"$f":"IF(N1388<>\"\",IF(D1389<>\"\",D1389,D1388),\"\")","v":""},{"$f":"IF(N1388<>\"\",IF(E1389<>\"\",E1389,E1388),\"\")","v":""},{"$f":"IF(N1388<>\"\",IF(F1389<>\"\",F1389,F1388),\"\")","v":""}]
[]
[null,null,null,null,null,null,null,null,null,null,null,null,null,{"$f":"IF(A1390<>\"\",TEXT(A1390,\"\"),\"\")","v":""},{"$f":"IF(N1390=\"\",\"\",CONCATENATE(IF(C1390<>\"\",TEXT(C1390,\"\"),\"\"),\" - \",IF(K1390<>\"\",TEXT(K1390,\"\"),\"\")))","v":""},{"$f":"SUBSTITUTE(SUBSTITUTE(SUBSTITUTE(SUBSTITUTE(IF(L1390<>\"\",HLink(L1390),\"\"),\"htm\",\"html\"),\"1x2\",\"analysis\"),\"www\",\"data\"),\"com\",\"vip\")","v":""},{"$f":"IF(D1390<>\"\",D1390,\"\")","v":""},{"$f":"IF(E1390<>\"\",E1390,\"\")","v":""},{"$f":"IF(F1390<>\"\",F1390,\"\")","v":""},{"$f":"IF(N1390<>\"\",IF(D1391<>\"\",D1391,D1390),\"\")","v":""},{"$f":"IF(N1390<>\"\",IF(E1391<>\"\",E1391,E1390),\"\")","v":""},{"$f":"IF(N1390<>\"\",IF(F1391<>\"\",F1391,F1390),\"\")","v":""}]
[]
[null,null,null,null,null,null,null,null,null,null,null,null,null,{"$f":"IF(A1392<>\"\",TEXT(A1392,\"\"),\"\")","v":""},{"$f":"IF(N1392=\"\",\"\",CONCATENATE(IF(C1392<>\"\",TEXT(C1392,\"\"),\"\"),\" - \",IF(K1392<>\"\",TEXT(K1392,\"\"),\"\")))","v":""},{"$f":"SUBSTITUTE(SUBSTITUTE(SUBSTITUTE(SUBSTITUTE(IF(L1392<>\"\",HLink(L1392),\"\"),\"htm\",\"html\"),\"1x2\",\"analysis\"),\"www\",\"data\"),\"com\",\"vip\")","v":""},{"$f":"IF(D1392<>\"\",D1392,\"\")","v":""},{"$f":"IF(E1392<>\"\",E1392,\"\")","v":""},{"$f":"IF(F1392<>\"\",F1392,\"\")","v":""},{"$f":"IF(N1392<>\"\",IF(D1393<>\"\",D1393,D1392),\"\")","v":""},{"$f":"IF(N1392<>\"\",IF(E1393<>\"\",E1393,E1392),\"\")","v":""},{"$f":"IF(N1392<>\"\",IF(F1393<>\"\",F1393,F1392),\"\")","v":""}]
[]
[null,null,null,null,null,null,null,null,null,null,null,null,null,{"$f":"IF(A1394<>\"\",TEXT(A1394,\"\"),\"\")","v":""},{"$f":"IF(N1394=\"\",\"\",CONCATENATE(IF(C1394<>\"\",TEXT(C1394,\"\"),\"\"),\" - \",IF(K1394<>\"\",TEXT(K1394,\"\"),\"\")))","v":""},{"$f":"SUBSTITUTE(SUBSTITUTE(SUBSTITUTE(SUBSTITUTE(IF(L1394<>\"\",HLink(L1394),\"\"),\"htm\",\"html\"),\"1x2\",\"analysis\"),\"www\",\"data\"),\"com\",\"vip\")","v":""},{"$f":"IF(D1394<>\"\",D1394,\"\")","v":""},{"$f":"IF(E1394<>\"\",E1394,\"\")","v":""},{"$f":"IF(F1394<>\"\",F1394,\"\")","v":""},{"$f":"IF(N1394<>\"\",IF(D1395<>\"\",D1395,D1394),\"\")","v":""},{"$f":"IF(N1394<>\"\",IF(E1395<>\"\",E1395,E1394),\"\")","v":""},{"$f":"IF(N1394<>\"\",IF(F1395<>\"\",F1395,F1394),\"\")","v":""}]
[]
[null,null,null,null,null,null,null,null,null,null,null,null,null,{"$f":"IF(A1396<>\"\",TEXT(A1396,\"\"),\"\")","v":""},{"$f":"IF(N1396=\"\",\"\",CONCATENATE(IF(C1396<>\"\",TEXT(C1396,\"\"),\"\"),\" - \",IF(K1396<>\"\",TEXT(K1396,\"\"),\"\")))","v":""},{"$f":"SUBSTITUTE(SUBSTITUTE(SUBSTITUTE(SUBSTITUTE(IF(L1396<>\"\",HLink(L1396),\"\"),\"htm\",\"html\"),\"1x2\",\"analysis\"),\"www\",\"data\"),\"com\",\"vip\")","v":""},{"$f":"IF(D1396<>\"\",D1396,\"\")","v":""},{"$f":"IF(E1396<>\"\",E1396,\"\")","v":""},{"$f":"IF(F1396<>\"\",F1396,\"\")","v":""},{"$f":"IF(N1396<>\"\",IF(D1397<>\"\",D1397,D1396),\"\")","v":""},{"$f":"IF(N1396<>\"\",IF(E1397<>\"\",E1397,E1396),\"\")","v":""},{"$f":"IF(N1396<>\"\",IF(F1397<>\"\",F1397,F1396),\"\")","v":""}]
[]
[null,null,null,null,null,null,null,null,null,null,null,null,null,{"$f":"IF(A1398<>\"\",TEXT(A1398,\"\"),\"\")","v":""},{"$f":"IF(N1398=\"\",\"\",CONCATENATE(IF(C1398<>\"\",TEXT(C1398,\"\"),\"\"),\" - \",IF(K1398<>\"\",TEXT(K1398,\"\"),\"\")))","v":""},{"$f":"SUBSTITUTE(SUBSTITUTE(SUBSTITUTE(SUBSTITUTE(IF(L1398<>\"\",HLink(L1398),\"\"),\"htm\",\"html\"),\"1x2\",\"analysis\"),\"www\",\"data\"),\"com\",\"vip\")","v":""},{"$f":"IF(D1398<>\"\",D1398,\"\")","v":""},{"$f":"IF(E1398<>\"\",E1398,\"\")","v":""},{"$f":"IF(F1398<>\"\",F1398,\"\")","v":""},{"$f":"IF(N1398<>\"\",IF(D1399<>\"\",D1399,D1398),\"\")","v":""},{"$f":"IF(N1398<>\"\",IF(E1399<>\"\",E1399,E1398),\"\")","v":""},{"$f":"IF(N1398<>\"\",IF(F1399<>\"\",F1399,F1398),\"\")","v":""}]
[]
[null,null,null,null,null,null,null,null,null,null,null,null,null,{"$f":"IF(A1400<>\"\",TEXT(A1400,\"\"),\"\")","v":""},{"$f":"IF(N1400=\"\",\"\",CONCATENATE(IF(C1400<>\"\",TEXT(C1400,\"\"),\"\"),\" - \",IF(K1400<>\"\",TEXT(K1400,\"\"),\"\")))","v":""},{"$f":"SUBSTITUTE(SUBSTITUTE(SUBSTITUTE(SUBSTITUTE(IF(L1400<>\"\",HLink(L1400),\"\"),\"htm\",\"html\"),\"1x2\",\"analysis\"),\"www\",\"data\"),\"com\",\"vip\")","v":""},{"$f":"IF(D1400<>\"\",D1400,\"\")","v":""},{"$f":"IF(E1400<>\"\",E1400,\"\")","v":""},{"$f":"IF(F1400<>\"\",F1400,\"\")","v":""},{"$f":"IF(N1400<>\"\",IF(D1401<>\"\",D1401,D1400),\"\")","v":""},{"$f":"IF(N1400<>\"\",IF(E1401<>\"\",E1401,E1400),\"\")","v":""},{"$f":"IF(N1400<>\"\",IF(F1401<>\"\",F1401,F1400),\"\")","v":""}]
[]
[null,null,null,null,null,null,null,null,null,null,null,null,null,{"$f":"IF(A1402<>\"\",TEXT(A1402,\"\"),\"\")","v":""},{"$f":"IF(N1402=\"\",\"\",CONCATENATE(IF(C1402<>\"\",TEXT(C1402,\"\"),\"\"),\" - \",IF(K1402<>\"\",TEXT(K1402,\"\"),\"\")))","v":""},{"$f":"SUBSTITUTE(SUBSTITUTE(SUBSTITUTE(SUBSTITUTE(IF(L1402<>\"\",HLink(L1402),\"\"),\"htm\",\"html\"),\"1x2\",\"analysis\"),\"www\",\"data\"),\"com\",\"vip\")","v":""},{"$f":"IF(D1402<>\"\",D1402,\"\")","v":""},{"$f":"IF(E1402<>\"\",E1402,\"\")","v":""},{"$f":"IF(F1402<>\"\",F1402,\"\")","v":""},{"$f":"IF(N1402<>\"\",IF(D1403<>\"\",D1403,D1402),\"\")","v":""},{"$f":"IF(N1402<>\"\",IF(E1403<>\"\",E1403,E1402),\"\")","v":""},{"$f":"IF(N1402<>\"\",IF(F1403<>\"\",F1403,F1402),\"\")","v":""}]
[]
[null,null,null,null,null,null,null,null,null,null,null,null,null,{"$f":"IF(A1404<>\"\",TEXT(A1404,\"\"),\"\")","v":""},{"$f":"IF(N1404=\"\",\"\",CONCATENATE(IF(C1404<>\"\",TEXT(C1404,\"\"),\"\"),\" - \",IF(K1404<>\"\",TEXT(K1404,\"\"),\"\")))","v":""},{"$f":"SUBSTITUTE(SUBSTITUTE(SUBSTITUTE(SUBSTITUTE(IF(L1404<>\"\",HLink(L1404),\"\"),\"htm\",\"html\"),\"1x2\",\"analysis\"),\"www\",\"data\"),\"com\",\"vip\")","v":""},{"$f":"IF(D1404<>\"\",D1404,\"\")","v":""},{"$f":"IF(E1404<>\"\",E1404,\"\")","v":""},{"$f":"IF(F1404<>\"\",F1404,\"\")","v":""},{"$f":"IF(N1404<>\"\",IF(D1405<>\"\",D1405,D1404),\"\")","v":""},{"$f":"IF(N1404<>\"\",IF(E1405<>\"\",E1405,E1404),\"\")","v":""},{"$f":"IF(N1404<>\"\",IF(F1405<>\"\",F1405,F1404),\"\")","v":""}]
[]
[null,null,null,null,null,null,null,null,null,null,null,null,null,{"$f":"IF(A1406<>\"\",TEXT(A1406,\"\"),\"\")","v":""},{"$f":"IF(N1406=\"\",\"\",CONCATENATE(IF(C1406<>\"\",TEXT(C1406,\"\"),\"\"),\" - \",IF(K1406<>\"\",TEXT(K1406,\"\"),\"\")))","v":""},{"$f":"SUBSTITUTE(SUBSTITUTE(SUBSTITUTE(SUBSTITUTE(IF(L1406<>\"\",HLink(L1406),\"\"),\"htm\",\"html\"),\"1x2\",\"analysis\"),\"www\",\"data\"),\"com\",\"vip\")","v":""},{"$f":"IF(D1406<>\"\",D1406,\"\")","v":""},{"$f":"IF(E1406<>\"\",E1406,\"\")","v":""},{"$f":"IF(F1406<>\"\",F1406,\"\")","v":""},{"$f":"IF(N1406<>\"\",IF(D1407<>\"\",D1407,D1406),\"\")","v":""},{"$f":"IF(N1406<>\"\",IF(E1407<>\"\",E1407,E1406),\"\")","v":""},{"$f":"IF(N1406<>\"\",IF(F1407<>\"\",F1407,F1406),\"\")","v":""}]
[]
[null,null,null,null,null,null,null,null,null,null,null,null,null,{"$f":"IF(A1408<>\"\",TEXT(A1408,\"\"),\"\")","v":""},{"$f":"IF(N1408=\"\",\"\",CONCATENATE(IF(C1408<>\"\",TEXT(C1408,\"\"),\"\"),\" - \",IF(K1408<>\"\",TEXT(K1408,\"\"),\"\")))","v":""},{"$f":"SUBSTITUTE(SUBSTITUTE(SUBSTITUTE(SUBSTITUTE(IF(L1408<>\"\",HLink(L1408),\"\"),\"htm\",\"html\"),\"1x2\",\"analysis\"),\"www\",\"data\"),\"com\",\"vip\")","v":""},{"$f":"IF(D1408<>\"\",D1408,\"\")","v":""},{"$f":"IF(E1408<>\"\",E1408,\"\")","v":""},{"$f":"IF(F1408<>\"\",F1408,\"\")","v":""},{"$f":"IF(N1408<>\"\",IF(D1409<>\"\",D1409,D1408),\"\")","v":""},{"$f":"IF(N1408<>\"\",IF(E1409<>\"\",E1409,E1408),\"\")","v":""},{"$f":"IF(N1408<>\"\",IF(F1409<>\"\",F1409,F1408),\"\")","v":""}]
[]
[null,null,null,null,null,null,null,null,null,null,null,null,null,{"$f":"IF(A1410<>\"\",TEXT(A1410,\"\"),\"\")","v":""},{"$f":"IF(N1410=\"\",\"\",CONCATENATE(IF(C1410<>\"\",TEXT(C1410,\"\"),\"\"),\" - \",IF(K1410<>\"\",TEXT(K1410,\"\"),\"\")))","v":""},{"$f":"SUBSTITUTE(SUBSTITUTE(SUBSTITUTE(SUBSTITUTE(IF(L1410<>\"\",HLink(L1410),\"\"),\"htm\",\"html\"),\"1x2\",\"analysis\"),\"www\",\"data\"),\"com\",\"vip\")","v":""},{"$f":"IF(D1410<>\"\",D1410,\"\")","v":""},{"$f":"IF(E1410<>\"\",E1410,\"\")","v":""},{"$f":"IF(F1410<>\"\",F1410,\"\")","v":""},{"$f":"IF(N1410<>\"\",IF(D1411<>\"\",D1411,D1410),\"\")","v":""},{"$f":"IF(N1410<>\"\",IF(E1411<>\"\",E1411,E1410),\"\")","v":""},{"$f":"IF(N1410<>\"\",IF(F1411<>\"\",F1411,F1410),\"\")","v":""}]
[]
[null,null,null,null,null,null,null,null,null,null,null,null,null,{"$f":"IF(A1412<>\"\",TEXT(A1412,\"\"),\"\")","v":""},{"$f":"IF(N1412=\"\",\"\",CONCATENATE(IF(C1412<>\"\",TEXT(C1412,\"\"),\"\"),\" - \",IF(K1412<>\"\",TEXT(K1412,\"\"),\"\")))","v":""},{"$f":"SUBSTITUTE(SUBSTITUTE(SUBSTITUTE(SUBSTITUTE(IF(L1412<>\"\",HLink(L1412),\"\"),\"htm\",\"html\"),\"1x2\",\"analysis\"),\"www\",\"data\"),\"com\",\"vip\")","v":""},{"$f":"IF(D1412<>\"\",D1412,\"\")","v":""},{"$f":"IF(E1412<>\"\",E1412,\"\")","v":""},{"$f":"IF(F1412<>\"\",F1412,\"\")","v":""},{"$f":"IF(N1412<>\"\",IF(D1413<>\"\",D1413,D1412),\"\")","v":""},{"$f":"IF(N1412<>\"\",IF(E1413<>\"\",E1413,E1412),\"\")","v":""},{"$f":"IF(N1412<>\"\",IF(F1413<>\"\",F1413,F1412),\"\")","v":""}]
[]
[null,null,null,null,null,null,null,null,null,null,null,null,null,{"$f":"IF(A1414<>\"\",TEXT(A1414,\"\"),\"\")","v":""},{"$f":"IF(N1414=\"\",\"\",CONCATENATE(IF(C1414<>\"\",TEXT(C1414,\"\"),\"\"),\" - \",IF(K1414<>\"\",TEXT(K1414,\"\"),\"\")))","v":""},{"$f":"SUBSTITUTE(SUBSTITUTE(SUBSTITUTE(SUBSTITUTE(IF(L1414<>\"\",HLink(L1414),\"\"),\"htm\",\"html\"),\"1x2\",\"analysis\"),\"www\",\"data\"),\"com\",\"vip\")","v":""},{"$f":"IF(D1414<>\"\",D1414,\"\")","v":""},{"$f":"IF(E1414<>\"\",E1414,\"\")","v":""},{"$f":"IF(F1414<>\"\",F1414,\"\")","v":""},{"$f":"IF(N1414<>\"\",IF(D1415<>\"\",D1415,D1414),\"\")","v":""},{"$f":"IF(N1414<>\"\",IF(E1415<>\"\",E1415,E1414),\"\")","v":""},{"$f":"IF(N1414<>\"\",IF(F1415<>\"\",F1415,F1414),\"\")","v":""}]
[]
[null,null,null,null,null,null,null,null,null,null,null,null,null,{"$f":"IF(A1416<>\"\",TEXT(A1416,\"\"),\"\")","v":""},{"$f":"IF(N1416=\"\",\"\",CONCATENATE(IF(C1416<>\"\",TEXT(C1416,\"\"),\"\"),\" - \",IF(K1416<>\"\",TEXT(K1416,\"\"),\"\")))","v":""},{"$f":"SUBSTITUTE(SUBSTITUTE(SUBSTITUTE(SUBSTITUTE(IF(L1416<>\"\",HLink(L1416),\"\"),\"htm\",\"html\"),\"1x2\",\"analysis\"),\"www\",\"data\"),\"com\",\"vip\")","v":""},{"$f":"IF(D1416<>\"\",D1416,\"\")","v":""},{"$f":"IF(E1416<>\"\",E1416,\"\")","v":""},{"$f":"IF(F1416<>\"\",F1416,\"\")","v":""},{"$f":"IF(N1416<>\"\",IF(D1417<>\"\",D1417,D1416),\"\")","v":""},{"$f":"IF(N1416<>\"\",IF(E1417<>\"\",E1417,E1416),\"\")","v":""},{"$f":"IF(N1416<>\"\",IF(F1417<>\"\",F1417,F1416),\"\")","v":""}]
[]
[null,null,null,null,null,null,null,null,null,null,null,null,null,{"$f":"IF(A1418<>\"\",TEXT(A1418,\"\"),\"\")","v":""},{"$f":"IF(N1418=\"\",\"\",CONCATENATE(IF(C1418<>\"\",TEXT(C1418,\"\"),\"\"),\" - \",IF(K1418<>\"\",TEXT(K1418,\"\"),\"\")))","v":""},{"$f":"SUBSTITUTE(SUBSTITUTE(SUBSTITUTE(SUBSTITUTE(IF(L1418<>\"\",HLink(L1418),\"\"),\"htm\",\"html\"),\"1x2\",\"analysis\"),\"www\",\"data\"),\"com\",\"vip\")","v":""},{"$f":"IF(D1418<>\"\",D1418,\"\")","v":""},{"$f":"IF(E1418<>\"\",E1418,\"\")","v":""},{"$f":"IF(F1418<>\"\",F1418,\"\")","v":""},{"$f":"IF(N1418<>\"\",IF(D1419<>\"\",D1419,D1418),\"\")","v":""},{"$f":"IF(N1418<>\"\",IF(E1419<>\"\",E1419,E1418),\"\")","v":""},{"$f":"IF(N1418<>\"\",IF(F1419<>\"\",F1419,F1418),\"\")","v":""}]
[]
[null,null,null,null,null,null,null,null,null,null,null,null,null,{"$f":"IF(A1420<>\"\",TEXT(A1420,\"\"),\"\")","v":""},{"$f":"IF(N1420=\"\",\"\",CONCATENATE(IF(C1420<>\"\",TEXT(C1420,\"\"),\"\"),\" - \",IF(K1420<>\"\",TEXT(K1420,\"\"),\"\")))","v":""},{"$f":"SUBSTITUTE(SUBSTITUTE(SUBSTITUTE(SUBSTITUTE(IF(L1420<>\"\",HLink(L1420),\"\"),\"htm\",\"html\"),\"1x2\",\"analysis\"),\"www\",\"data\"),\"com\",\"vip\")","v":""},{"$f":"IF(D1420<>\"\",D1420,\"\")","v":""},{"$f":"IF(E1420<>\"\",E1420,\"\")","v":""},{"$f":"IF(F1420<>\"\",F1420,\"\")","v":""},{"$f":"IF(N1420<>\"\",IF(D1421<>\"\",D1421,D1420),\"\")","v":""},{"$f":"IF(N1420<>\"\",IF(E1421<>\"\",E1421,E1420),\"\")","v":""},{"$f":"IF(N1420<>\"\",IF(F1421<>\"\",F1421,F1420),\"\")","v":""}]
[]
[null,null,null,null,null,null,null,null,null,null,null,null,null,{"$f":"IF(A1422<>\"\",TEXT(A1422,\"\"),\"\")","v":""},{"$f":"IF(N1422=\"\",\"\",CONCATENATE(IF(C1422<>\"\",TEXT(C1422,\"\"),\"\"),\" - \",IF(K1422<>\"\",TEXT(K1422,\"\"),\"\")))","v":""},{"$f":"SUBSTITUTE(SUBSTITUTE(SUBSTITUTE(SUBSTITUTE(IF(L1422<>\"\",HLink(L1422),\"\"),\"htm\",\"html\"),\"1x2\",\"analysis\"),\"www\",\"data\"),\"com\",\"vip\")","v":""},{"$f":"IF(D1422<>\"\",D1422,\"\")","v":""},{"$f":"IF(E1422<>\"\",E1422,\"\")","v":""},{"$f":"IF(F1422<>\"\",F1422,\"\")","v":""},{"$f":"IF(N1422<>\"\",IF(D1423<>\"\",D1423,D1422),\"\")","v":""},{"$f":"IF(N1422<>\"\",IF(E1423<>\"\",E1423,E1422),\"\")","v":""},{"$f":"IF(N1422<>\"\",IF(F1423<>\"\",F1423,F1422),\"\")","v":""}]
[]
[null,null,null,null,null,null,null,null,null,null,null,null,null,{"$f":"IF(A1424<>\"\",TEXT(A1424,\"\"),\"\")","v":""},{"$f":"IF(N1424=\"\",\"\",CONCATENATE(IF(C1424<>\"\",TEXT(C1424,\"\"),\"\"),\" - \",IF(K1424<>\"\",TEXT(K1424,\"\"),\"\")))","v":""},{"$f":"SUBSTITUTE(SUBSTITUTE(SUBSTITUTE(SUBSTITUTE(IF(L1424<>\"\",HLink(L1424),\"\"),\"htm\",\"html\"),\"1x2\",\"analysis\"),\"www\",\"data\"),\"com\",\"vip\")","v":""},{"$f":"IF(D1424<>\"\",D1424,\"\")","v":""},{"$f":"IF(E1424<>\"\",E1424,\"\")","v":""},{"$f":"IF(F1424<>\"\",F1424,\"\")","v":""},{"$f":"IF(N1424<>\"\",IF(D1425<>\"\",D1425,D1424),\"\")","v":""},{"$f":"IF(N1424<>\"\",IF(E1425<>\"\",E1425,E1424),\"\")","v":""},{"$f":"IF(N1424<>\"\",IF(F1425<>\"\",F1425,F1424),\"\")","v":""}]
[]
[null,null,null,null,null,null,null,null,null,null,null,null,null,{"$f":"IF(A1426<>\"\",TEXT(A1426,\"\"),\"\")","v":""},{"$f":"IF(N1426=\"\",\"\",CONCATENATE(IF(C1426<>\"\",TEXT(C1426,\"\"),\"\"),\" - \",IF(K1426<>\"\",TEXT(K1426,\"\"),\"\")))","v":""},{"$f":"SUBSTITUTE(SUBSTITUTE(SUBSTITUTE(SUBSTITUTE(IF(L1426<>\"\",HLink(L1426),\"\"),\"htm\",\"html\"),\"1x2\",\"analysis\"),\"www\",\"data\"),\"com\",\"vip\")","v":""},{"$f":"IF(D1426<>\"\",D1426,\"\")","v":""},{"$f":"IF(E1426<>\"\",E1426,\"\")","v":""},{"$f":"IF(F1426<>\"\",F1426,\"\")","v":""},{"$f":"IF(N1426<>\"\",IF(D1427<>\"\",D1427,D1426),\"\")","v":""},{"$f":"IF(N1426<>\"\",IF(E1427<>\"\",E1427,E1426),\"\")","v":""},{"$f":"IF(N1426<>\"\",IF(F1427<>\"\",F1427,F1426),\"\")","v":""}]
[]
[null,null,null,null,null,null,null,null,null,null,null,null,null,{"$f":"IF(A1428<>\"\",TEXT(A1428,\"\"),\"\")","v":""},{"$f":"IF(N1428=\"\",\"\",CONCATENATE(IF(C1428<>\"\",TEXT(C1428,\"\"),\"\"),\" - \",IF(K1428<>\"\",TEXT(K1428,\"\"),\"\")))","v":""},{"$f":"SUBSTITUTE(SUBSTITUTE(SUBSTITUTE(SUBSTITUTE(IF(L1428<>\"\",HLink(L1428),\"\"),\"htm\",\"html\"),\"1x2\",\"analysis\"),\"www\",\"data\"),\"com\",\"vip\")","v":""},{"$f":"IF(D1428<>\"\",D1428,\"\")","v":""},{"$f":"IF(E1428<>\"\",E1428,\"\")","v":""},{"$f":"IF(F1428<>\"\",F1428,\"\")","v":""},{"$f":"IF(N1428<>\"\",IF(D1429<>\"\",D1429,D1428),\"\")","v":""},{"$f":"IF(N1428<>\"\",IF(E1429<>\"\",E1429,E1428),\"\")","v":""},{"$f":"IF(N1428<>\"\",IF(F1429<>\"\",F1429,F1428),\"\")","v":""}]
[]
[null,null,null,null,null,null,null,null,null,null,null,null,null,{"$f":"IF(A1430<>\"\",TEXT(A1430,\"\"),\"\")","v":""},{"$f":"IF(N1430=\"\",\"\",CONCATENATE(IF(C1430<>\"\",TEXT(C1430,\"\"),\"\"),\" - \",IF(K1430<>\"\",TEXT(K1430,\"\"),\"\")))","v":""},{"$f":"SUBSTITUTE(SUBSTITUTE(SUBSTITUTE(SUBSTITUTE(IF(L1430<>\"\",HLink(L1430),\"\"),\"htm\",\"html\"),\"1x2\",\"analysis\"),\"www\",\"data\"),\"com\",\"vip\")","v":""},{"$f":"IF(D1430<>\"\",D1430,\"\")","v":""},{"$f":"IF(E1430<>\"\",E1430,\"\")","v":""},{"$f":"IF(F1430<>\"\",F1430,\"\")","v":""},{"$f":"IF(N1430<>\"\",IF(D1431<>\"\",D1431,D1430),\"\")","v":""},{"$f":"IF(N1430<>\"\",IF(E1431<>\"\",E1431,E1430),\"\")","v":""},{"$f":"IF(N1430<>\"\",IF(F1431<>\"\",F1431,F1430),\"\")","v":""}]
[]
[null,null,null,null,null,null,null,null,null,null,null,null,null,{"$f":"IF(A1432<>\"\",TEXT(A1432,\"\"),\"\")","v":""},{"$f":"IF(N1432=\"\",\"\",CONCATENATE(IF(C1432<>\"\",TEXT(C1432,\"\"),\"\"),\" - \",IF(K1432<>\"\",TEXT(K1432,\"\"),\"\")))","v":""},{"$f":"SUBSTITUTE(SUBSTITUTE(SUBSTITUTE(SUBSTITUTE(IF(L1432<>\"\",HLink(L1432),\"\"),\"htm\",\"html\"),\"1x2\",\"analysis\"),\"www\",\"data\"),\"com\",\"vip\")","v":""},{"$f":"IF(D1432<>\"\",D1432,\"\")","v":""},{"$f":"IF(E1432<>\"\",E1432,\"\")","v":""},{"$f":"IF(F1432<>\"\",F1432,\"\")","v":""},{"$f":"IF(N1432<>\"\",IF(D1433<>\"\",D1433,D1432),\"\")","v":""},{"$f":"IF(N1432<>\"\",IF(E1433<>\"\",E1433,E1432),\"\")","v":""},{"$f":"IF(N1432<>\"\",IF(F1433<>\"\",F1433,F1432),\"\")","v":""}]
[]
[null,null,null,null,null,null,null,null,null,null,null,null,null,{"$f":"IF(A1434<>\"\",TEXT(A1434,\"\"),\"\")","v":""},{"$f":"IF(N1434=\"\",\"\",CONCATENATE(IF(C1434<>\"\",TEXT(C1434,\"\"),\"\"),\" - \",IF(K1434<>\"\",TEXT(K1434,\"\"),\"\")))","v":""},{"$f":"SUBSTITUTE(SUBSTITUTE(SUBSTITUTE(SUBSTITUTE(IF(L1434<>\"\",HLink(L1434),\"\"),\"htm\",\"html\"),\"1x2\",\"analysis\"),\"www\",\"data\"),\"com\",\"vip\")","v":""},{"$f":"IF(D1434<>\"\",D1434,\"\")","v":""},{"$f":"IF(E1434<>\"\",E1434,\"\")","v":""},{"$f":"IF(F1434<>\"\",F1434,\"\")","v":""},{"$f":"IF(N1434<>\"\",IF(D1435<>\"\",D1435,D1434),\"\")","v":""},{"$f":"IF(N1434<>\"\",IF(E1435<>\"\",E1435,E1434),\"\")","v":""},{"$f":"IF(N1434<>\"\",IF(F1435<>\"\",F1435,F1434),\"\")","v":""}]
[]
[null,null,null,null,null,null,null,null,null,null,null,null,null,{"$f":"IF(A1436<>\"\",TEXT(A1436,\"\"),\"\")","v":""},{"$f":"IF(N1436=\"\",\"\",CONCATENATE(IF(C1436<>\"\",TEXT(C1436,\"\"),\"\"),\" - \",IF(K1436<>\"\",TEXT(K1436,\"\"),\"\")))","v":""},{"$f":"SUBSTITUTE(SUBSTITUTE(SUBSTITUTE(SUBSTITUTE(IF(L1436<>\"\",HLink(L1436),\"\"),\"htm\",\"html\"),\"1x2\",\"analysis\"),\"www\",\"data\"),\"com\",\"vip\")","v":""},{"$f":"IF(D1436<>\"\",D1436,\"\")","v":""},{"$f":"IF(E1436<>\"\",E1436,\"\")","v":""},{"$f":"IF(F1436<>\"\",F1436,\"\")","v":""},{"$f":"IF(N1436<>\"\",IF(D1437<>\"\",D1437,D1436),\"\")","v":""},{"$f":"IF(N1436<>\"\",IF(E1437<>\"\",E1437,E1436),\"\")","v":""},{"$f":"IF(N1436<>\"\",IF(F1437<>\"\",F1437,F1436),\"\")","v":""}]
[]
[null,null,null,null,null,null,null,null,null,null,null,null,null,{"$f":"IF(A1438<>\"\",TEXT(A1438,\"\"),\"\")","v":""},{"$f":"IF(N1438=\"\",\"\",CONCATENATE(IF(C1438<>\"\",TEXT(C1438,\"\"),\"\"),\" - \",IF(K1438<>\"\",TEXT(K1438,\"\"),\"\")))","v":""},{"$f":"SUBSTITUTE(SUBSTITUTE(SUBSTITUTE(SUBSTITUTE(IF(L1438<>\"\",HLink(L1438),\"\"),\"htm\",\"html\"),\"1x2\",\"analysis\"),\"www\",\"data\"),\"com\",\"vip\")","v":""},{"$f":"IF(D1438<>\"\",D1438,\"\")","v":""},{"$f":"IF(E1438<>\"\",E1438,\"\")","v":""},{"$f":"IF(F1438<>\"\",F1438,\"\")","v":""},{"$f":"IF(N1438<>\"\",IF(D1439<>\"\",D1439,D1438),\"\")","v":""},{"$f":"IF(N1438<>\"\",IF(E1439<>\"\",E1439,E1438),\"\")","v":""},{"$f":"IF(N1438<>\"\",IF(F1439<>\"\",F1439,F1438),\"\")","v":""}]
[]
[null,null,null,null,null,null,null,null,null,null,null,null,null,{"$f":"IF(A1440<>\"\",TEXT(A1440,\"\"),\"\")","v":""},{"$f":"IF(N1440=\"\",\"\",CONCATENATE(IF(C1440<>\"\",TEXT(C1440,\"\"),\"\"),\" - \",IF(K1440<>\"\",TEXT(K1440,\"\"),\"\")))","v":""},{"$f":"SUBSTITUTE(SUBSTITUTE(SUBSTITUTE(SUBSTITUTE(IF(L1440<>\"\",HLink(L1440),\"\"),\"htm\",\"html\"),\"1x2\",\"analysis\"),\"www\",\"data\"),\"com\",\"vip\")","v":""},{"$f":"IF(D1440<>\"\",D1440,\"\")","v":""},{"$f":"IF(E1440<>\"\",E1440,\"\")","v":""},{"$f":"IF(F1440<>\"\",F1440,\"\")","v":""},{"$f":"IF(N1440<>\"\",IF(D1441<>\"\",D1441,D1440),\"\")","v":""},{"$f":"IF(N1440<>\"\",IF(E1441<>\"\",E1441,E1440),\"\")","v":""},{"$f":"IF(N1440<>\"\",IF(F1441<>\"\",F1441,F1440),\"\")","v":""}]
[]
[null,null,null,null,null,null,null,null,null,null,null,null,null,{"$f":"IF(A1442<>\"\",TEXT(A1442,\"\"),\"\")","v":""},{"$f":"IF(N1442=\"\",\"\",CONCATENATE(IF(C1442<>\"\",TEXT(C1442,\"\"),\"\"),\" - \",IF(K1442<>\"\",TEXT(K1442,\"\"),\"\")))","v":""},{"$f":"SUBSTITUTE(SUBSTITUTE(SUBSTITUTE(SUBSTITUTE(IF(L1442<>\"\",HLink(L1442),\"\"),\"htm\",\"html\"),\"1x2\",\"analysis\"),\"www\",\"data\"),\"com\",\"vip\")","v":""},{"$f":"IF(D1442<>\"\",D1442,\"\")","v":""},{"$f":"IF(E1442<>\"\",E1442,\"\")","v":""},{"$f":"IF(F1442<>\"\",F1442,\"\")","v":""},{"$f":"IF(N1442<>\"\",IF(D1443<>\"\",D1443,D1442),\"\")","v":""},{"$f":"IF(N1442<>\"\",IF(E1443<>\"\",E1443,E1442),\"\")","v":""},{"$f":"IF(N1442<>\"\",IF(F1443<>\"\",F1443,F1442),\"\")","v":""}]
[]
[null,null,null,null,null,null,null,null,null,null,null,null,null,{"$f":"IF(A1444<>\"\",TEXT(A1444,\"\"),\"\")","v":""},{"$f":"IF(N1444=\"\",\"\",CONCATENATE(IF(C1444<>\"\",TEXT(C1444,\"\"),\"\"),\" - \",IF(K1444<>\"\",TEXT(K1444,\"\"),\"\")))","v":""},{"$f":"SUBSTITUTE(SUBSTITUTE(SUBSTITUTE(SUBSTITUTE(IF(L1444<>\"\",HLink(L1444),\"\"),\"htm\",\"html\"),\"1x2\",\"analysis\"),\"www\",\"data\"),\"com\",\"vip\")","v":""},{"$f":"IF(D1444<>\"\",D1444,\"\")","v":""},{"$f":"IF(E1444<>\"\",E1444,\"\")","v":""},{"$f":"IF(F1444<>\"\",F1444,\"\")","v":""},{"$f":"IF(N1444<>\"\",IF(D1445<>\"\",D1445,D1444),\"\")","v":""},{"$f":"IF(N1444<>\"\",IF(E1445<>\"\",E1445,E1444),\"\")","v":""},{"$f":"IF(N1444<>\"\",IF(F1445<>\"\",F1445,F1444),\"\")","v":""}]
[]
[null,null,null,null,null,null,null,null,null,null,null,null,null,{"$f":"IF(A1446<>\"\",TEXT(A1446,\"\"),\"\")","v":""},{"$f":"IF(N1446=\"\",\"\",CONCATENATE(IF(C1446<>\"\",TEXT(C1446,\"\"),\"\"),\" - \",IF(K1446<>\"\",TEXT(K1446,\"\"),\"\")))","v":""},{"$f":"SUBSTITUTE(SUBSTITUTE(SUBSTITUTE(SUBSTITUTE(IF(L1446<>\"\",HLink(L1446),\"\"),\"htm\",\"html\"),\"1x2\",\"analysis\"),\"www\",\"data\"),\"com\",\"vip\")","v":""},{"$f":"IF(D1446<>\"\",D1446,\"\")","v":""},{"$f":"IF(E1446<>\"\",E1446,\"\")","v":""},{"$f":"IF(F1446<>\"\",F1446,\"\")","v":""},{"$f":"IF(N1446<>\"\",IF(D1447<>\"\",D1447,D1446),\"\")","v":""},{"$f":"IF(N1446<>\"\",IF(E1447<>\"\",E1447,E1446),\"\")","v":""},{"$f":"IF(N1446<>\"\",IF(F1447<>\"\",F1447,F1446),\"\")","v":""}]
[]
[null,null,null,null,null,null,null,null,null,null,null,null,null,{"$f":"IF(A1448<>\"\",TEXT(A1448,\"\"),\"\")","v":""},{"$f":"IF(N1448=\"\",\"\",CONCATENATE(IF(C1448<>\"\",TEXT(C1448,\"\"),\"\"),\" - \",IF(K1448<>\"\",TEXT(K1448,\"\"),\"\")))","v":""},{"$f":"SUBSTITUTE(SUBSTITUTE(SUBSTITUTE(SUBSTITUTE(IF(L1448<>\"\",HLink(L1448),\"\"),\"htm\",\"html\"),\"1x2\",\"analysis\"),\"www\",\"data\"),\"com\",\"vip\")","v":""},{"$f":"IF(D1448<>\"\",D1448,\"\")","v":""},{"$f":"IF(E1448<>\"\",E1448,\"\")","v":""},{"$f":"IF(F1448<>\"\",F1448,\"\")","v":""},{"$f":"IF(N1448<>\"\",IF(D1449<>\"\",D1449,D1448),\"\")","v":""},{"$f":"IF(N1448<>\"\",IF(E1449<>\"\",E1449,E1448),\"\")","v":""},{"$f":"IF(N1448<>\"\",IF(F1449<>\"\",F1449,F1448),\"\")","v":""}]
[]
[null,null,null,null,null,null,null,null,null,null,null,null,null,{"$f":"IF(A1450<>\"\",TEXT(A1450,\"\"),\"\")","v":""},{"$f":"IF(N1450=\"\",\"\",CONCATENATE(IF(C1450<>\"\",TEXT(C1450,\"\"),\"\"),\" - \",IF(K1450<>\"\",TEXT(K1450,\"\"),\"\")))","v":""},{"$f":"SUBSTITUTE(SUBSTITUTE(SUBSTITUTE(SUBSTITUTE(IF(L1450<>\"\",HLink(L1450),\"\"),\"htm\",\"html\"),\"1x2\",\"analysis\"),\"www\",\"data\"),\"com\",\"vip\")","v":""},{"$f":"IF(D1450<>\"\",D1450,\"\")","v":""},{"$f":"IF(E1450<>\"\",E1450,\"\")","v":""},{"$f":"IF(F1450<>\"\",F1450,\"\")","v":""},{"$f":"IF(N1450<>\"\",IF(D1451<>\"\",D1451,D1450),\"\")","v":""},{"$f":"IF(N1450<>\"\",IF(E1451<>\"\",E1451,E1450),\"\")","v":""},{"$f":"IF(N1450<>\"\",IF(F1451<>\"\",F1451,F1450),\"\")","v":""}]
[]
[null,null,null,null,null,null,null,null,null,null,null,null,null,{"$f":"IF(A1452<>\"\",TEXT(A1452,\"\"),\"\")","v":""},{"$f":"IF(N1452=\"\",\"\",CONCATENATE(IF(C1452<>\"\",TEXT(C1452,\"\"),\"\"),\" - \",IF(K1452<>\"\",TEXT(K1452,\"\"),\"\")))","v":""},{"$f":"SUBSTITUTE(SUBSTITUTE(SUBSTITUTE(SUBSTITUTE(IF(L1452<>\"\",HLink(L1452),\"\"),\"htm\",\"html\"),\"1x2\",\"analysis\"),\"www\",\"data\"),\"com\",\"vip\")","v":""},{"$f":"IF(D1452<>\"\",D1452,\"\")","v":""},{"$f":"IF(E1452<>\"\",E1452,\"\")","v":""},{"$f":"IF(F1452<>\"\",F1452,\"\")","v":""},{"$f":"IF(N1452<>\"\",IF(D1453<>\"\",D1453,D1452),\"\")","v":""},{"$f":"IF(N1452<>\"\",IF(E1453<>\"\",E1453,E1452),\"\")","v":""},{"$f":"IF(N1452<>\"\",IF(F1453<>\"\",F1453,F1452),\"\")","v":""}]
[]
[null,null,null,null,null,null,null,null,null,null,null,null,null,{"$f":"IF(A1454<>\"\",TEXT(A1454,\"\"),\"\")","v":""},{"$f":"IF(N1454=\"\",\"\",CONCATENATE(IF(C1454<>\"\",TEXT(C1454,\"\"),\"\"),\" - \",IF(K1454<>\"\",TEXT(K1454,\"\"),\"\")))","v":""},{"$f":"SUBSTITUTE(SUBSTITUTE(SUBSTITUTE(SUBSTITUTE(IF(L1454<>\"\",HLink(L1454),\"\"),\"htm\",\"html\"),\"1x2\",\"analysis\"),\"www\",\"data\"),\"com\",\"vip\")","v":""},{"$f":"IF(D1454<>\"\",D1454,\"\")","v":""},{"$f":"IF(E1454<>\"\",E1454,\"\")","v":""},{"$f":"IF(F1454<>\"\",F1454,\"\")","v":""},{"$f":"IF(N1454<>\"\",IF(D1455<>\"\",D1455,D1454),\"\")","v":""},{"$f":"IF(N1454<>\"\",IF(E1455<>\"\",E1455,E1454),\"\")","v":""},{"$f":"IF(N1454<>\"\",IF(F1455<>\"\",F1455,F1454),\"\")","v":""}]
[]
[null,null,null,null,null,null,null,null,null,null,null,null,null,{"$f":"IF(A1456<>\"\",TEXT(A1456,\"\"),\"\")","v":""},{"$f":"IF(N1456=\"\",\"\",CONCATENATE(IF(C1456<>\"\",TEXT(C1456,\"\"),\"\"),\" - \",IF(K1456<>\"\",TEXT(K1456,\"\"),\"\")))","v":""},{"$f":"SUBSTITUTE(SUBSTITUTE(SUBSTITUTE(SUBSTITUTE(IF(L1456<>\"\",HLink(L1456),\"\"),\"htm\",\"html\"),\"1x2\",\"analysis\"),\"www\",\"data\"),\"com\",\"vip\")","v":""},{"$f":"IF(D1456<>\"\",D1456,\"\")","v":""},{"$f":"IF(E1456<>\"\",E1456,\"\")","v":""},{"$f":"IF(F1456<>\"\",F1456,\"\")","v":""},{"$f":"IF(N1456<>\"\",IF(D1457<>\"\",D1457,D1456),\"\")","v":""},{"$f":"IF(N1456<>\"\",IF(E1457<>\"\",E1457,E1456),\"\")","v":""},{"$f":"IF(N1456<>\"\",IF(F1457<>\"\",F1457,F1456),\"\")","v":""}]
[]
[null,null,null,null,null,null,null,null,null,null,null,null,null,{"$f":"IF(A1458<>\"\",TEXT(A1458,\"\"),\"\")","v":""},{"$f":"IF(N1458=\"\",\"\",CONCATENATE(IF(C1458<>\"\",TEXT(C1458,\"\"),\"\"),\" - \",IF(K1458<>\"\",TEXT(K1458,\"\"),\"\")))","v":""},{"$f":"SUBSTITUTE(SUBSTITUTE(SUBSTITUTE(SUBSTITUTE(IF(L1458<>\"\",HLink(L1458),\"\"),\"htm\",\"html\"),\"1x2\",\"analysis\"),\"www\",\"data\"),\"com\",\"vip\")","v":""},{"$f":"IF(D1458<>\"\",D1458,\"\")","v":""},{"$f":"IF(E1458<>\"\",E1458,\"\")","v":""},{"$f":"IF(F1458<>\"\",F1458,\"\")","v":""},{"$f":"IF(N1458<>\"\",IF(D1459<>\"\",D1459,D1458),\"\")","v":""},{"$f":"IF(N1458<>\"\",IF(E1459<>\"\",E1459,E1458),\"\")","v":""},{"$f":"IF(N1458<>\"\",IF(F1459<>\"\",F1459,F1458),\"\")","v":""}]
[]
[null,null,null,null,null,null,null,null,null,null,null,null,null,{"$f":"IF(A1460<>\"\",TEXT(A1460,\"\"),\"\")","v":""},{"$f":"IF(N1460=\"\",\"\",CONCATENATE(IF(C1460<>\"\",TEXT(C1460,\"\"),\"\"),\" - \",IF(K1460<>\"\",TEXT(K1460,\"\"),\"\")))","v":""},{"$f":"SUBSTITUTE(SUBSTITUTE(SUBSTITUTE(SUBSTITUTE(IF(L1460<>\"\",HLink(L1460),\"\"),\"htm\",\"html\"),\"1x2\",\"analysis\"),\"www\",\"data\"),\"com\",\"vip\")","v":""},{"$f":"IF(D1460<>\"\",D1460,\"\")","v":""},{"$f":"IF(E1460<>\"\",E1460,\"\")","v":""},{"$f":"IF(F1460<>\"\",F1460,\"\")","v":""},{"$f":"IF(N1460<>\"\",IF(D1461<>\"\",D1461,D1460),\"\")","v":""},{"$f":"IF(N1460<>\"\",IF(E1461<>\"\",E1461,E1460),\"\")","v":""},{"$f":"IF(N1460<>\"\",IF(F1461<>\"\",F1461,F1460),\"\")","v":""}]
[]
[null,null,null,null,null,null,null,null,null,null,null,null,null,{"$f":"IF(A1462<>\"\",TEXT(A1462,\"\"),\"\")","v":""},{"$f":"IF(N1462=\"\",\"\",CONCATENATE(IF(C1462<>\"\",TEXT(C1462,\"\"),\"\"),\" - \",IF(K1462<>\"\",TEXT(K1462,\"\"),\"\")))","v":""},{"$f":"SUBSTITUTE(SUBSTITUTE(SUBSTITUTE(SUBSTITUTE(IF(L1462<>\"\",HLink(L1462),\"\"),\"htm\",\"html\"),\"1x2\",\"analysis\"),\"www\",\"data\"),\"com\",\"vip\")","v":""},{"$f":"IF(D1462<>\"\",D1462,\"\")","v":""},{"$f":"IF(E1462<>\"\",E1462,\"\")","v":""},{"$f":"IF(F1462<>\"\",F1462,\"\")","v":""},{"$f":"IF(N1462<>\"\",IF(D1463<>\"\",D1463,D1462),\"\")","v":""},{"$f":"IF(N1462<>\"\",IF(E1463<>\"\",E1463,E1462),\"\")","v":""},{"$f":"IF(N1462<>\"\",IF(F1463<>\"\",F1463,F1462),\"\")","v":""}]
[]
[null,null,null,null,null,null,null,null,null,null,null,null,null,{"$f":"IF(A1464<>\"\",TEXT(A1464,\"\"),\"\")","v":""},{"$f":"IF(N1464=\"\",\"\",CONCATENATE(IF(C1464<>\"\",TEXT(C1464,\"\"),\"\"),\" - \",IF(K1464<>\"\",TEXT(K1464,\"\"),\"\")))","v":""},{"$f":"SUBSTITUTE(SUBSTITUTE(SUBSTITUTE(SUBSTITUTE(IF(L1464<>\"\",HLink(L1464),\"\"),\"htm\",\"html\"),\"1x2\",\"analysis\"),\"www\",\"data\"),\"com\",\"vip\")","v":""},{"$f":"IF(D1464<>\"\",D1464,\"\")","v":""},{"$f":"IF(E1464<>\"\",E1464,\"\")","v":""},{"$f":"IF(F1464<>\"\",F1464,\"\")","v":""},{"$f":"IF(N1464<>\"\",IF(D1465<>\"\",D1465,D1464),\"\")","v":""},{"$f":"IF(N1464<>\"\",IF(E1465<>\"\",E1465,E1464),\"\")","v":""},{"$f":"IF(N1464<>\"\",IF(F1465<>\"\",F1465,F1464),\"\")","v":""}]
[]
[null,null,null,null,null,null,null,null,null,null,null,null,null,{"$f":"IF(A1466<>\"\",TEXT(A1466,\"\"),\"\")","v":""},{"$f":"IF(N1466=\"\",\"\",CONCATENATE(IF(C1466<>\"\",TEXT(C1466,\"\"),\"\"),\" - \",IF(K1466<>\"\",TEXT(K1466,\"\"),\"\")))","v":""},{"$f":"SUBSTITUTE(SUBSTITUTE(SUBSTITUTE(SUBSTITUTE(IF(L1466<>\"\",HLink(L1466),\"\"),\"htm\",\"html\"),\"1x2\",\"analysis\"),\"www\",\"data\"),\"com\",\"vip\")","v":""},{"$f":"IF(D1466<>\"\",D1466,\"\")","v":""},{"$f":"IF(E1466<>\"\",E1466,\"\")","v":""},{"$f":"IF(F1466<>\"\",F1466,\"\")","v":""},{"$f":"IF(N1466<>\"\",IF(D1467<>\"\",D1467,D1466),\"\")","v":""},{"$f":"IF(N1466<>\"\",IF(E1467<>\"\",E1467,E1466),\"\")","v":""},{"$f":"IF(N1466<>\"\",IF(F1467<>\"\",F1467,F1466),\"\")","v":""}]
[]
[null,null,null,null,null,null,null,null,null,null,null,null,null,{"$f":"IF(A1468<>\"\",TEXT(A1468,\"\"),\"\")","v":""},{"$f":"IF(N1468=\"\",\"\",CONCATENATE(IF(C1468<>\"\",TEXT(C1468,\"\"),\"\"),\" - \",IF(K1468<>\"\",TEXT(K1468,\"\"),\"\")))","v":""},{"$f":"SUBSTITUTE(SUBSTITUTE(SUBSTITUTE(SUBSTITUTE(IF(L1468<>\"\",HLink(L1468),\"\"),\"htm\",\"html\"),\"1x2\",\"analysis\"),\"www\",\"data\"),\"com\",\"vip\")","v":""},{"$f":"IF(D1468<>\"\",D1468,\"\")","v":""},{"$f":"IF(E1468<>\"\",E1468,\"\")","v":""},{"$f":"IF(F1468<>\"\",F1468,\"\")","v":""},{"$f":"IF(N1468<>\"\",IF(D1469<>\"\",D1469,D1468),\"\")","v":""},{"$f":"IF(N1468<>\"\",IF(E1469<>\"\",E1469,E1468),\"\")","v":""},{"$f":"IF(N1468<>\"\",IF(F1469<>\"\",F1469,F1468),\"\")","v":""}]
[]
[null,null,null,null,null,null,null,null,null,null,null,null,null,{"$f":"IF(A1470<>\"\",TEXT(A1470,\"\"),\"\")","v":""},{"$f":"IF(N1470=\"\",\"\",CONCATENATE(IF(C1470<>\"\",TEXT(C1470,\"\"),\"\"),\" - \",IF(K1470<>\"\",TEXT(K1470,\"\"),\"\")))","v":""},{"$f":"SUBSTITUTE(SUBSTITUTE(SUBSTITUTE(SUBSTITUTE(IF(L1470<>\"\",HLink(L1470),\"\"),\"htm\",\"html\"),\"1x2\",\"analysis\"),\"www\",\"data\"),\"com\",\"vip\")","v":""},{"$f":"IF(D1470<>\"\",D1470,\"\")","v":""},{"$f":"IF(E1470<>\"\",E1470,\"\")","v":""},{"$f":"IF(F1470<>\"\",F1470,\"\")","v":""},{"$f":"IF(N1470<>\"\",IF(D1471<>\"\",D1471,D1470),\"\")","v":""},{"$f":"IF(N1470<>\"\",IF(E1471<>\"\",E1471,E1470),\"\")","v":""},{"$f":"IF(N1470<>\"\",IF(F1471<>\"\",F1471,F1470),\"\")","v":""}]
[]
[null,null,null,null,null,null,null,null,null,null,null,null,null,{"$f":"IF(A1472<>\"\",TEXT(A1472,\"\"),\"\")","v":""},{"$f":"IF(N1472=\"\",\"\",CONCATENATE(IF(C1472<>\"\",TEXT(C1472,\"\"),\"\"),\" - \",IF(K1472<>\"\",TEXT(K1472,\"\"),\"\")))","v":""},{"$f":"SUBSTITUTE(SUBSTITUTE(SUBSTITUTE(SUBSTITUTE(IF(L1472<>\"\",HLink(L1472),\"\"),\"htm\",\"html\"),\"1x2\",\"analysis\"),\"www\",\"data\"),\"com\",\"vip\")","v":""},{"$f":"IF(D1472<>\"\",D1472,\"\")","v":""},{"$f":"IF(E1472<>\"\",E1472,\"\")","v":""},{"$f":"IF(F1472<>\"\",F1472,\"\")","v":""},{"$f":"IF(N1472<>\"\",IF(D1473<>\"\",D1473,D1472),\"\")","v":""},{"$f":"IF(N1472<>\"\",IF(E1473<>\"\",E1473,E1472),\"\")","v":""},{"$f":"IF(N1472<>\"\",IF(F1473<>\"\",F1473,F1472),\"\")","v":""}]
[]
[null,null,null,null,null,null,null,null,null,null,null,null,null,{"$f":"IF(A1474<>\"\",TEXT(A1474,\"\"),\"\")","v":""},{"$f":"IF(N1474=\"\",\"\",CONCATENATE(IF(C1474<>\"\",TEXT(C1474,\"\"),\"\"),\" - \",IF(K1474<>\"\",TEXT(K1474,\"\"),\"\")))","v":""},{"$f":"SUBSTITUTE(SUBSTITUTE(SUBSTITUTE(SUBSTITUTE(IF(L1474<>\"\",HLink(L1474),\"\"),\"htm\",\"html\"),\"1x2\",\"analysis\"),\"www\",\"data\"),\"com\",\"vip\")","v":""},{"$f":"IF(D1474<>\"\",D1474,\"\")","v":""},{"$f":"IF(E1474<>\"\",E1474,\"\")","v":""},{"$f":"IF(F1474<>\"\",F1474,\"\")","v":""},{"$f":"IF(N1474<>\"\",IF(D1475<>\"\",D1475,D1474),\"\")","v":""},{"$f":"IF(N1474<>\"\",IF(E1475<>\"\",E1475,E1474),\"\")","v":""},{"$f":"IF(N1474<>\"\",IF(F1475<>\"\",F1475,F1474),\"\")","v":""}]
[]
[null,null,null,null,null,null,null,null,null,null,null,null,null,{"$f":"IF(A1476<>\"\",TEXT(A1476,\"\"),\"\")","v":""},{"$f":"IF(N1476=\"\",\"\",CONCATENATE(IF(C1476<>\"\",TEXT(C1476,\"\"),\"\"),\" - \",IF(K1476<>\"\",TEXT(K1476,\"\"),\"\")))","v":""},{"$f":"SUBSTITUTE(SUBSTITUTE(SUBSTITUTE(SUBSTITUTE(IF(L1476<>\"\",HLink(L1476),\"\"),\"htm\",\"html\"),\"1x2\",\"analysis\"),\"www\",\"data\"),\"com\",\"vip\")","v":""},{"$f":"IF(D1476<>\"\",D1476,\"\")","v":""},{"$f":"IF(E1476<>\"\",E1476,\"\")","v":""},{"$f":"IF(F1476<>\"\",F1476,\"\")","v":""},{"$f":"IF(N1476<>\"\",IF(D1477<>\"\",D1477,D1476),\"\")","v":""},{"$f":"IF(N1476<>\"\",IF(E1477<>\"\",E1477,E1476),\"\")","v":""},{"$f":"IF(N1476<>\"\",IF(F1477<>\"\",F1477,F1476),\"\")","v":""}]
[]
[null,null,null,null,null,null,null,null,null,null,null,null,null,{"$f":"IF(A1478<>\"\",TEXT(A1478,\"\"),\"\")","v":""},{"$f":"IF(N1478=\"\",\"\",CONCATENATE(IF(C1478<>\"\",TEXT(C1478,\"\"),\"\"),\" - \",IF(K1478<>\"\",TEXT(K1478,\"\"),\"\")))","v":""},{"$f":"SUBSTITUTE(SUBSTITUTE(SUBSTITUTE(SUBSTITUTE(IF(L1478<>\"\",HLink(L1478),\"\"),\"htm\",\"html\"),\"1x2\",\"analysis\"),\"www\",\"data\"),\"com\",\"vip\")","v":""},{"$f":"IF(D1478<>\"\",D1478,\"\")","v":""},{"$f":"IF(E1478<>\"\",E1478,\"\")","v":""},{"$f":"IF(F1478<>\"\",F1478,\"\")","v":""},{"$f":"IF(N1478<>\"\",IF(D1479<>\"\",D1479,D1478),\"\")","v":""},{"$f":"IF(N1478<>\"\",IF(E1479<>\"\",E1479,E1478),\"\")","v":""},{"$f":"IF(N1478<>\"\",IF(F1479<>\"\",F1479,F1478),\"\")","v":""}]
[]
[null,null,null,null,null,null,null,null,null,null,null,null,null,{"$f":"IF(A1480<>\"\",TEXT(A1480,\"\"),\"\")","v":""},{"$f":"IF(N1480=\"\",\"\",CONCATENATE(IF(C1480<>\"\",TEXT(C1480,\"\"),\"\"),\" - \",IF(K1480<>\"\",TEXT(K1480,\"\"),\"\")))","v":""},{"$f":"SUBSTITUTE(SUBSTITUTE(SUBSTITUTE(SUBSTITUTE(IF(L1480<>\"\",HLink(L1480),\"\"),\"htm\",\"html\"),\"1x2\",\"analysis\"),\"www\",\"data\"),\"com\",\"vip\")","v":""},{"$f":"IF(D1480<>\"\",D1480,\"\")","v":""},{"$f":"IF(E1480<>\"\",E1480,\"\")","v":""},{"$f":"IF(F1480<>\"\",F1480,\"\")","v":""},{"$f":"IF(N1480<>\"\",IF(D1481<>\"\",D1481,D1480),\"\")","v":""},{"$f":"IF(N1480<>\"\",IF(E1481<>\"\",E1481,E1480),\"\")","v":""},{"$f":"IF(N1480<>\"\",IF(F1481<>\"\",F1481,F1480),\"\")","v":""}]
[]
[null,null,null,null,null,null,null,null,null,null,null,null,null,{"$f":"IF(A1482<>\"\",TEXT(A1482,\"\"),\"\")","v":""},{"$f":"IF(N1482=\"\",\"\",CONCATENATE(IF(C1482<>\"\",TEXT(C1482,\"\"),\"\"),\" - \",IF(K1482<>\"\",TEXT(K1482,\"\"),\"\")))","v":""},{"$f":"SUBSTITUTE(SUBSTITUTE(SUBSTITUTE(SUBSTITUTE(IF(L1482<>\"\",HLink(L1482),\"\"),\"htm\",\"html\"),\"1x2\",\"analysis\"),\"www\",\"data\"),\"com\",\"vip\")","v":""},{"$f":"IF(D1482<>\"\",D1482,\"\")","v":""},{"$f":"IF(E1482<>\"\",E1482,\"\")","v":""},{"$f":"IF(F1482<>\"\",F1482,\"\")","v":""},{"$f":"IF(N1482<>\"\",IF(D1483<>\"\",D1483,D1482),\"\")","v":""},{"$f":"IF(N1482<>\"\",IF(E1483<>\"\",E1483,E1482),\"\")","v":""},{"$f":"IF(N1482<>\"\",IF(F1483<>\"\",F1483,F1482),\"\")","v":""}]
[]
[null,null,null,null,null,null,null,null,null,null,null,null,null,{"$f":"IF(A1484<>\"\",TEXT(A1484,\"\"),\"\")","v":""},{"$f":"IF(N1484=\"\",\"\",CONCATENATE(IF(C1484<>\"\",TEXT(C1484,\"\"),\"\"),\" - \",IF(K1484<>\"\",TEXT(K1484,\"\"),\"\")))","v":""},{"$f":"SUBSTITUTE(SUBSTITUTE(SUBSTITUTE(SUBSTITUTE(IF(L1484<>\"\",HLink(L1484),\"\"),\"htm\",\"html\"),\"1x2\",\"analysis\"),\"www\",\"data\"),\"com\",\"vip\")","v":""},{"$f":"IF(D1484<>\"\",D1484,\"\")","v":""},{"$f":"IF(E1484<>\"\",E1484,\"\")","v":""},{"$f":"IF(F1484<>\"\",F1484,\"\")","v":""},{"$f":"IF(N1484<>\"\",IF(D1485<>\"\",D1485,D1484),\"\")","v":""},{"$f":"IF(N1484<>\"\",IF(E1485<>\"\",E1485,E1484),\"\")","v":""},{"$f":"IF(N1484<>\"\",IF(F1485<>\"\",F1485,F1484),\"\")","v":""}]
[]
[null,null,null,null,null,null,null,null,null,null,null,null,null,{"$f":"IF(A1486<>\"\",TEXT(A1486,\"\"),\"\")","v":""},{"$f":"IF(N1486=\"\",\"\",CONCATENATE(IF(C1486<>\"\",TEXT(C1486,\"\"),\"\"),\" - \",IF(K1486<>\"\",TEXT(K1486,\"\"),\"\")))","v":""},{"$f":"SUBSTITUTE(SUBSTITUTE(SUBSTITUTE(SUBSTITUTE(IF(L1486<>\"\",HLink(L1486),\"\"),\"htm\",\"html\"),\"1x2\",\"analysis\"),\"www\",\"data\"),\"com\",\"vip\")","v":""},{"$f":"IF(D1486<>\"\",D1486,\"\")","v":""},{"$f":"IF(E1486<>\"\",E1486,\"\")","v":""},{"$f":"IF(F1486<>\"\",F1486,\"\")","v":""},{"$f":"IF(N1486<>\"\",IF(D1487<>\"\",D1487,D1486),\"\")","v":""},{"$f":"IF(N1486<>\"\",IF(E1487<>\"\",E1487,E1486),\"\")","v":""},{"$f":"IF(N1486<>\"\",IF(F1487<>\"\",F1487,F1486),\"\")","v":""}]
[]
[null,null,null,null,null,null,null,null,null,null,null,null,null,{"$f":"IF(A1488<>\"\",TEXT(A1488,\"\"),\"\")","v":""},{"$f":"IF(N1488=\"\",\"\",CONCATENATE(IF(C1488<>\"\",TEXT(C1488,\"\"),\"\"),\" - \",IF(K1488<>\"\",TEXT(K1488,\"\"),\"\")))","v":""},{"$f":"SUBSTITUTE(SUBSTITUTE(SUBSTITUTE(SUBSTITUTE(IF(L1488<>\"\",HLink(L1488),\"\"),\"htm\",\"html\"),\"1x2\",\"analysis\"),\"www\",\"data\"),\"com\",\"vip\")","v":""},{"$f":"IF(D1488<>\"\",D1488,\"\")","v":""},{"$f":"IF(E1488<>\"\",E1488,\"\")","v":""},{"$f":"IF(F1488<>\"\",F1488,\"\")","v":""},{"$f":"IF(N1488<>\"\",IF(D1489<>\"\",D1489,D1488),\"\")","v":""},{"$f":"IF(N1488<>\"\",IF(E1489<>\"\",E1489,E1488),\"\")","v":""},{"$f":"IF(N1488<>\"\",IF(F1489<>\"\",F1489,F1488),\"\")","v":""}]
[]
[null,null,null,null,null,null,null,null,null,null,null,null,null,{"$f":"IF(A1490<>\"\",TEXT(A1490,\"\"),\"\")","v":""},{"$f":"IF(N1490=\"\",\"\",CONCATENATE(IF(C1490<>\"\",TEXT(C1490,\"\"),\"\"),\" - \",IF(K1490<>\"\",TEXT(K1490,\"\"),\"\")))","v":""},{"$f":"SUBSTITUTE(SUBSTITUTE(SUBSTITUTE(SUBSTITUTE(IF(L1490<>\"\",HLink(L1490),\"\"),\"htm\",\"html\"),\"1x2\",\"analysis\"),\"www\",\"data\"),\"com\",\"vip\")","v":""},{"$f":"IF(D1490<>\"\",D1490,\"\")","v":""},{"$f":"IF(E1490<>\"\",E1490,\"\")","v":""},{"$f":"IF(F1490<>\"\",F1490,\"\")","v":""},{"$f":"IF(N1490<>\"\",IF(D1491<>\"\",D1491,D1490),\"\")","v":""},{"$f":"IF(N1490<>\"\",IF(E1491<>\"\",E1491,E1490),\"\")","v":""},{"$f":"IF(N1490<>\"\",IF(F1491<>\"\",F1491,F1490),\"\")","v":""}]
[]
[null,null,null,null,null,null,null,null,null,null,null,null,null,{"$f":"IF(A1492<>\"\",TEXT(A1492,\"\"),\"\")","v":""},{"$f":"IF(N1492=\"\",\"\",CONCATENATE(IF(C1492<>\"\",TEXT(C1492,\"\"),\"\"),\" - \",IF(K1492<>\"\",TEXT(K1492,\"\"),\"\")))","v":""},{"$f":"SUBSTITUTE(SUBSTITUTE(SUBSTITUTE(SUBSTITUTE(IF(L1492<>\"\",HLink(L1492),\"\"),\"htm\",\"html\"),\"1x2\",\"analysis\"),\"www\",\"data\"),\"com\",\"vip\")","v":""},{"$f":"IF(D1492<>\"\",D1492,\"\")","v":""},{"$f":"IF(E1492<>\"\",E1492,\"\")","v":""},{"$f":"IF(F1492<>\"\",F1492,\"\")","v":""},{"$f":"IF(N1492<>\"\",IF(D1493<>\"\",D1493,D1492),\"\")","v":""},{"$f":"IF(N1492<>\"\",IF(E1493<>\"\",E1493,E1492),\"\")","v":""},{"$f":"IF(N1492<>\"\",IF(F1493<>\"\",F1493,F1492),\"\")","v":""}]
[]
[null,null,null,null,null,null,null,null,null,null,null,null,null,{"$f":"IF(A1494<>\"\",TEXT(A1494,\"\"),\"\")","v":""},{"$f":"IF(N1494=\"\",\"\",CONCATENATE(IF(C1494<>\"\",TEXT(C1494,\"\"),\"\"),\" - \",IF(K1494<>\"\",TEXT(K1494,\"\"),\"\")))","v":""},{"$f":"SUBSTITUTE(SUBSTITUTE(SUBSTITUTE(SUBSTITUTE(IF(L1494<>\"\",HLink(L1494),\"\"),\"htm\",\"html\"),\"1x2\",\"analysis\"),\"www\",\"data\"),\"com\",\"vip\")","v":""},{"$f":"IF(D1494<>\"\",D1494,\"\")","v":""},{"$f":"IF(E1494<>\"\",E1494,\"\")","v":""},{"$f":"IF(F1494<>\"\",F1494,\"\")","v":""},{"$f":"IF(N1494<>\"\",IF(D1495<>\"\",D1495,D1494),\"\")","v":""},{"$f":"IF(N1494<>\"\",IF(E1495<>\"\",E1495,E1494),\"\")","v":""},{"$f":"IF(N1494<>\"\",IF(F1495<>\"\",F1495,F1494),\"\")","v":""}]
[]
[null,null,null,null,null,null,null,null,null,null,null,null,null,{"$f":"IF(A1496<>\"\",TEXT(A1496,\"\"),\"\")","v":""},{"$f":"IF(N1496=\"\",\"\",CONCATENATE(IF(C1496<>\"\",TEXT(C1496,\"\"),\"\"),\" - \",IF(K1496<>\"\",TEXT(K1496,\"\"),\"\")))","v":""},{"$f":"SUBSTITUTE(SUBSTITUTE(SUBSTITUTE(SUBSTITUTE(IF(L1496<>\"\",HLink(L1496),\"\"),\"htm\",\"html\"),\"1x2\",\"analysis\"),\"www\",\"data\"),\"com\",\"vip\")","v":""},{"$f":"IF(D1496<>\"\",D1496,\"\")","v":""},{"$f":"IF(E1496<>\"\",E1496,\"\")","v":""},{"$f":"IF(F1496<>\"\",F1496,\"\")","v":""},{"$f":"IF(N1496<>\"\",IF(D1497<>\"\",D1497,D1496),\"\")","v":""},{"$f":"IF(N1496<>\"\",IF(E1497<>\"\",E1497,E1496),\"\")","v":""},{"$f":"IF(N1496<>\"\",IF(F1497<>\"\",F1497,F1496),\"\")","v":""}]
[]
[null,null,null,null,null,null,null,null,null,null,null,null,null,{"$f":"IF(A1498<>\"\",TEXT(A1498,\"\"),\"\")","v":""},{"$f":"IF(N1498=\"\",\"\",CONCATENATE(IF(C1498<>\"\",TEXT(C1498,\"\"),\"\"),\" - \",IF(K1498<>\"\",TEXT(K1498,\"\"),\"\")))","v":""},{"$f":"SUBSTITUTE(SUBSTITUTE(SUBSTITUTE(SUBSTITUTE(IF(L1498<>\"\",HLink(L1498),\"\"),\"htm\",\"html\"),\"1x2\",\"analysis\"),\"www\",\"data\"),\"com\",\"vip\")","v":""},{"$f":"IF(D1498<>\"\",D1498,\"\")","v":""},{"$f":"IF(E1498<>\"\",E1498,\"\")","v":""},{"$f":"IF(F1498<>\"\",F1498,\"\")","v":""},{"$f":"IF(N1498<>\"\",IF(D1499<>\"\",D1499,D1498),\"\")","v":""},{"$f":"IF(N1498<>\"\",IF(E1499<>\"\",E1499,E1498),\"\")","v":""},{"$f":"IF(N1498<>\"\",IF(F1499<>\"\",F1499,F1498),\"\")","v":""}]
[]
[null,null,null,null,null,null,null,null,null,null,null,null,null,{"$f":"IF(A1500<>\"\",TEXT(A1500,\"\"),\"\")","v":""},{"$f":"IF(N1500=\"\",\"\",CONCATENATE(IF(C1500<>\"\",TEXT(C1500,\"\"),\"\"),\" - \",IF(K1500<>\"\",TEXT(K1500,\"\"),\"\")))","v":""},{"$f":"SUBSTITUTE(SUBSTITUTE(SUBSTITUTE(SUBSTITUTE(IF(L1500<>\"\",HLink(L1500),\"\"),\"htm\",\"html\"),\"1x2\",\"analysis\"),\"www\",\"data\"),\"com\",\"vip\")","v":""},{"$f":"IF(D1500<>\"\",D1500,\"\")","v":""},{"$f":"IF(E1500<>\"\",E1500,\"\")","v":""},{"$f":"IF(F1500<>\"\",F1500,\"\")","v":""},{"$f":"IF(N1500<>\"\",IF(D1501<>\"\",D1501,D1500),\"\")","v":""},{"$f":"IF(N1500<>\"\",IF(E1501<>\"\",E1501,E1500),\"\")","v":""},{"$f":"IF(N1500<>\"\",IF(F1501<>\"\",F1501,F1500),\"\")","v":""}]
[]
[null,null,null,null,null,null,null,null,null,null,null,null,null,{"$f":"IF(A1502<>\"\",TEXT(A1502,\"\"),\"\")","v":""},{"$f":"IF(N1502=\"\",\"\",CONCATENATE(IF(C1502<>\"\",TEXT(C1502,\"\"),\"\"),\" - \",IF(K1502<>\"\",TEXT(K1502,\"\"),\"\")))","v":""},{"$f":"SUBSTITUTE(SUBSTITUTE(SUBSTITUTE(SUBSTITUTE(IF(L1502<>\"\",HLink(L1502),\"\"),\"htm\",\"html\"),\"1x2\",\"analysis\"),\"www\",\"data\"),\"com\",\"vip\")","v":""},{"$f":"IF(D1502<>\"\",D1502,\"\")","v":""},{"$f":"IF(E1502<>\"\",E1502,\"\")","v":""},{"$f":"IF(F1502<>\"\",F1502,\"\")","v":""},{"$f":"IF(N1502<>\"\",IF(D1503<>\"\",D1503,D1502),\"\")","v":""},{"$f":"IF(N1502<>\"\",IF(E1503<>\"\",E1503,E1502),\"\")","v":""},{"$f":"IF(N1502<>\"\",IF(F1503<>\"\",F1503,F1502),\"\")","v":""}]
[]
[null,null,null,null,null,null,null,null,null,null,null,null,null,{"$f":"IF(A1504<>\"\",TEXT(A1504,\"\"),\"\")","v":""},{"$f":"IF(N1504=\"\",\"\",CONCATENATE(IF(C1504<>\"\",TEXT(C1504,\"\"),\"\"),\" - \",IF(K1504<>\"\",TEXT(K1504,\"\"),\"\")))","v":""},{"$f":"SUBSTITUTE(SUBSTITUTE(SUBSTITUTE(SUBSTITUTE(IF(L1504<>\"\",HLink(L1504),\"\"),\"htm\",\"html\"),\"1x2\",\"analysis\"),\"www\",\"data\"),\"com\",\"vip\")","v":""},{"$f":"IF(D1504<>\"\",D1504,\"\")","v":""},{"$f":"IF(E1504<>\"\",E1504,\"\")","v":""},{"$f":"IF(F1504<>\"\",F1504,\"\")","v":""},{"$f":"IF(N1504<>\"\",IF(D1505<>\"\",D1505,D1504),\"\")","v":""},{"$f":"IF(N1504<>\"\",IF(E1505<>\"\",E1505,E1504),\"\")","v":""},{"$f":"IF(N1504<>\"\",IF(F1505<>\"\",F1505,F1504),\"\")","v":""}]
[]
[null,null,null,null,null,null,null,null,null,null,null,null,null,{"$f":"IF(A1506<>\"\",TEXT(A1506,\"\"),\"\")","v":""},{"$f":"IF(N1506=\"\",\"\",CONCATENATE(IF(C1506<>\"\",TEXT(C1506,\"\"),\"\"),\" - \",IF(K1506<>\"\",TEXT(K1506,\"\"),\"\")))","v":""},{"$f":"SUBSTITUTE(SUBSTITUTE(SUBSTITUTE(SUBSTITUTE(IF(L1506<>\"\",HLink(L1506),\"\"),\"htm\",\"html\"),\"1x2\",\"analysis\"),\"www\",\"data\"),\"com\",\"vip\")","v":""},{"$f":"IF(D1506<>\"\",D1506,\"\")","v":""},{"$f":"IF(E1506<>\"\",E1506,\"\")","v":""},{"$f":"IF(F1506<>\"\",F1506,\"\")","v":""},{"$f":"IF(N1506<>\"\",IF(D1507<>\"\",D1507,D1506),\"\")","v":""},{"$f":"IF(N1506<>\"\",IF(E1507<>\"\",E1507,E1506),\"\")","v":""},{"$f":"IF(N1506<>\"\",IF(F1507<>\"\",F1507,F1506),\"\")","v":""}]
[]
[null,null,null,null,null,null,null,null,null,null,null,null,null,{"$f":"IF(A1508<>\"\",TEXT(A1508,\"\"),\"\")","v":""},{"$f":"IF(N1508=\"\",\"\",CONCATENATE(IF(C1508<>\"\",TEXT(C1508,\"\"),\"\"),\" - \",IF(K1508<>\"\",TEXT(K1508,\"\"),\"\")))","v":""},{"$f":"SUBSTITUTE(SUBSTITUTE(SUBSTITUTE(SUBSTITUTE(IF(L1508<>\"\",HLink(L1508),\"\"),\"htm\",\"html\"),\"1x2\",\"analysis\"),\"www\",\"data\"),\"com\",\"vip\")","v":""},{"$f":"IF(D1508<>\"\",D1508,\"\")","v":""},{"$f":"IF(E1508<>\"\",E1508,\"\")","v":""},{"$f":"IF(F1508<>\"\",F1508,\"\")","v":""},{"$f":"IF(N1508<>\"\",IF(D1509<>\"\",D1509,D1508),\"\")","v":""},{"$f":"IF(N1508<>\"\",IF(E1509<>\"\",E1509,E1508),\"\")","v":""},{"$f":"IF(N1508<>\"\",IF(F1509<>\"\",F1509,F1508),\"\")","v":""}]
[]
[null,null,null,null,null,null,null,null,null,null,null,null,null,{"$f":"IF(A1510<>\"\",TEXT(A1510,\"\"),\"\")","v":""},{"$f":"IF(N1510=\"\",\"\",CONCATENATE(IF(C1510<>\"\",TEXT(C1510,\"\"),\"\"),\" - \",IF(K1510<>\"\",TEXT(K1510,\"\"),\"\")))","v":""},{"$f":"SUBSTITUTE(SUBSTITUTE(SUBSTITUTE(SUBSTITUTE(IF(L1510<>\"\",HLink(L1510),\"\"),\"htm\",\"html\"),\"1x2\",\"analysis\"),\"www\",\"data\"),\"com\",\"vip\")","v":""},{"$f":"IF(D1510<>\"\",D1510,\"\")","v":""},{"$f":"IF(E1510<>\"\",E1510,\"\")","v":""},{"$f":"IF(F1510<>\"\",F1510,\"\")","v":""},{"$f":"IF(N1510<>\"\",IF(D1511<>\"\",D1511,D1510),\"\")","v":""},{"$f":"IF(N1510<>\"\",IF(E1511<>\"\",E1511,E1510),\"\")","v":""},{"$f":"IF(N1510<>\"\",IF(F1511<>\"\",F1511,F1510),\"\")","v":""}]
[]
[null,null,null,null,null,null,null,null,null,null,null,null,null,{"$f":"IF(A1512<>\"\",TEXT(A1512,\"\"),\"\")","v":""},{"$f":"IF(N1512=\"\",\"\",CONCATENATE(IF(C1512<>\"\",TEXT(C1512,\"\"),\"\"),\" - \",IF(K1512<>\"\",TEXT(K1512,\"\"),\"\")))","v":""},{"$f":"SUBSTITUTE(SUBSTITUTE(SUBSTITUTE(SUBSTITUTE(IF(L1512<>\"\",HLink(L1512),\"\"),\"htm\",\"html\"),\"1x2\",\"analysis\"),\"www\",\"data\"),\"com\",\"vip\")","v":""},{"$f":"IF(D1512<>\"\",D1512,\"\")","v":""},{"$f":"IF(E1512<>\"\",E1512,\"\")","v":""},{"$f":"IF(F1512<>\"\",F1512,\"\")","v":""},{"$f":"IF(N1512<>\"\",IF(D1513<>\"\",D1513,D1512),\"\")","v":""},{"$f":"IF(N1512<>\"\",IF(E1513<>\"\",E1513,E1512),\"\")","v":""},{"$f":"IF(N1512<>\"\",IF(F1513<>\"\",F1513,F1512),\"\")","v":""}]
[]
[null,null,null,null,null,null,null,null,null,null,null,null,null,{"$f":"IF(A1514<>\"\",TEXT(A1514,\"\"),\"\")","v":""},{"$f":"IF(N1514=\"\",\"\",CONCATENATE(IF(C1514<>\"\",TEXT(C1514,\"\"),\"\"),\" - \",IF(K1514<>\"\",TEXT(K1514,\"\"),\"\")))","v":""},{"$f":"SUBSTITUTE(SUBSTITUTE(SUBSTITUTE(SUBSTITUTE(IF(L1514<>\"\",HLink(L1514),\"\"),\"htm\",\"html\"),\"1x2\",\"analysis\"),\"www\",\"data\"),\"com\",\"vip\")","v":""},{"$f":"IF(D1514<>\"\",D1514,\"\")","v":""},{"$f":"IF(E1514<>\"\",E1514,\"\")","v":""},{"$f":"IF(F1514<>\"\",F1514,\"\")","v":""},{"$f":"IF(N1514<>\"\",IF(D1515<>\"\",D1515,D1514),\"\")","v":""},{"$f":"IF(N1514<>\"\",IF(E1515<>\"\",E1515,E1514),\"\")","v":""},{"$f":"IF(N1514<>\"\",IF(F1515<>\"\",F1515,F1514),\"\")","v":""}]
[]
[null,null,null,null,null,null,null,null,null,null,null,null,null,{"$f":"IF(A1516<>\"\",TEXT(A1516,\"\"),\"\")","v":""},{"$f":"IF(N1516=\"\",\"\",CONCATENATE(IF(C1516<>\"\",TEXT(C1516,\"\"),\"\"),\" - \",IF(K1516<>\"\",TEXT(K1516,\"\"),\"\")))","v":""},{"$f":"SUBSTITUTE(SUBSTITUTE(SUBSTITUTE(SUBSTITUTE(IF(L1516<>\"\",HLink(L1516),\"\"),\"htm\",\"html\"),\"1x2\",\"analysis\"),\"www\",\"data\"),\"com\",\"vip\")","v":""},{"$f":"IF(D1516<>\"\",D1516,\"\")","v":""},{"$f":"IF(E1516<>\"\",E1516,\"\")","v":""},{"$f":"IF(F1516<>\"\",F1516,\"\")","v":""},{"$f":"IF(N1516<>\"\",IF(D1517<>\"\",D1517,D1516),\"\")","v":""},{"$f":"IF(N1516<>\"\",IF(E1517<>\"\",E1517,E1516),\"\")","v":""},{"$f":"IF(N1516<>\"\",IF(F1517<>\"\",F1517,F1516),\"\")","v":""}]
[]
[null,null,null,null,null,null,null,null,null,null,null,null,null,{"$f":"IF(A1518<>\"\",TEXT(A1518,\"\"),\"\")","v":""},{"$f":"IF(N1518=\"\",\"\",CONCATENATE(IF(C1518<>\"\",TEXT(C1518,\"\"),\"\"),\" - \",IF(K1518<>\"\",TEXT(K1518,\"\"),\"\")))","v":""},{"$f":"SUBSTITUTE(SUBSTITUTE(SUBSTITUTE(SUBSTITUTE(IF(L1518<>\"\",HLink(L1518),\"\"),\"htm\",\"html\"),\"1x2\",\"analysis\"),\"www\",\"data\"),\"com\",\"vip\")","v":""},{"$f":"IF(D1518<>\"\",D1518,\"\")","v":""},{"$f":"IF(E1518<>\"\",E1518,\"\")","v":""},{"$f":"IF(F1518<>\"\",F1518,\"\")","v":""},{"$f":"IF(N1518<>\"\",IF(D1519<>\"\",D1519,D1518),\"\")","v":""},{"$f":"IF(N1518<>\"\",IF(E1519<>\"\",E1519,E1518),\"\")","v":""},{"$f":"IF(N1518<>\"\",IF(F1519<>\"\",F1519,F1518),\"\")","v":""}]
[]
[null,null,null,null,null,null,null,null,null,null,null,null,null,{"$f":"IF(A1520<>\"\",TEXT(A1520,\"\"),\"\")","v":""},{"$f":"IF(N1520=\"\",\"\",CONCATENATE(IF(C1520<>\"\",TEXT(C1520,\"\"),\"\"),\" - \",IF(K1520<>\"\",TEXT(K1520,\"\"),\"\")))","v":""},{"$f":"SUBSTITUTE(SUBSTITUTE(SUBSTITUTE(SUBSTITUTE(IF(L1520<>\"\",HLink(L1520),\"\"),\"htm\",\"html\"),\"1x2\",\"analysis\"),\"www\",\"data\"),\"com\",\"vip\")","v":""},{"$f":"IF(D1520<>\"\",D1520,\"\")","v":""},{"$f":"IF(E1520<>\"\",E1520,\"\")","v":""},{"$f":"IF(F1520<>\"\",F1520,\"\")","v":""},{"$f":"IF(N1520<>\"\",IF(D1521<>\"\",D1521,D1520),\"\")","v":""},{"$f":"IF(N1520<>\"\",IF(E1521<>\"\",E1521,E1520),\"\")","v":""},{"$f":"IF(N1520<>\"\",IF(F1521<>\"\",F1521,F1520),\"\")","v":""}]
[]
[null,null,null,null,null,null,null,null,null,null,null,null,null,{"$f":"IF(A1522<>\"\",TEXT(A1522,\"\"),\"\")","v":""},{"$f":"IF(N1522=\"\",\"\",CONCATENATE(IF(C1522<>\"\",TEXT(C1522,\"\"),\"\"),\" - \",IF(K1522<>\"\",TEXT(K1522,\"\"),\"\")))","v":""},{"$f":"SUBSTITUTE(SUBSTITUTE(SUBSTITUTE(SUBSTITUTE(IF(L1522<>\"\",HLink(L1522),\"\"),\"htm\",\"html\"),\"1x2\",\"analysis\"),\"www\",\"data\"),\"com\",\"vip\")","v":""},{"$f":"IF(D1522<>\"\",D1522,\"\")","v":""},{"$f":"IF(E1522<>\"\",E1522,\"\")","v":""},{"$f":"IF(F1522<>\"\",F1522,\"\")","v":""},{"$f":"IF(N1522<>\"\",IF(D1523<>\"\",D1523,D1522),\"\")","v":""},{"$f":"IF(N1522<>\"\",IF(E1523<>\"\",E1523,E1522),\"\")","v":""},{"$f":"IF(N1522<>\"\",IF(F1523<>\"\",F1523,F1522),\"\")","v":""}]
[]
[null,null,null,null,null,null,null,null,null,null,null,null,null,{"$f":"IF(A1524<>\"\",TEXT(A1524,\"\"),\"\")","v":""},{"$f":"IF(N1524=\"\",\"\",CONCATENATE(IF(C1524<>\"\",TEXT(C1524,\"\"),\"\"),\" - \",IF(K1524<>\"\",TEXT(K1524,\"\"),\"\")))","v":""},{"$f":"SUBSTITUTE(SUBSTITUTE(SUBSTITUTE(SUBSTITUTE(IF(L1524<>\"\",HLink(L1524),\"\"),\"htm\",\"html\"),\"1x2\",\"analysis\"),\"www\",\"data\"),\"com\",\"vip\")","v":""},{"$f":"IF(D1524<>\"\",D1524,\"\")","v":""},{"$f":"IF(E1524<>\"\",E1524,\"\")","v":""},{"$f":"IF(F1524<>\"\",F1524,\"\")","v":""},{"$f":"IF(N1524<>\"\",IF(D1525<>\"\",D1525,D1524),\"\")","v":""},{"$f":"IF(N1524<>\"\",IF(E1525<>\"\",E1525,E1524),\"\")","v":""},{"$f":"IF(N1524<>\"\",IF(F1525<>\"\",F1525,F1524),\"\")","v":""}]
[]
[null,null,null,null,null,null,null,null,null,null,null,null,null,{"$f":"IF(A1526<>\"\",TEXT(A1526,\"\"),\"\")","v":""},{"$f":"IF(N1526=\"\",\"\",CONCATENATE(IF(C1526<>\"\",TEXT(C1526,\"\"),\"\"),\" - \",IF(K1526<>\"\",TEXT(K1526,\"\"),\"\")))","v":""},{"$f":"SUBSTITUTE(SUBSTITUTE(SUBSTITUTE(SUBSTITUTE(IF(L1526<>\"\",HLink(L1526),\"\"),\"htm\",\"html\"),\"1x2\",\"analysis\"),\"www\",\"data\"),\"com\",\"vip\")","v":""},{"$f":"IF(D1526<>\"\",D1526,\"\")","v":""},{"$f":"IF(E1526<>\"\",E1526,\"\")","v":""},{"$f":"IF(F1526<>\"\",F1526,\"\")","v":""},{"$f":"IF(N1526<>\"\",IF(D1527<>\"\",D1527,D1526),\"\")","v":""},{"$f":"IF(N1526<>\"\",IF(E1527<>\"\",E1527,E1526),\"\")","v":""},{"$f":"IF(N1526<>\"\",IF(F1527<>\"\",F1527,F1526),\"\")","v":""}]
[]
[null,null,null,null,null,null,null,null,null,null,null,null,null,{"$f":"IF(A1528<>\"\",TEXT(A1528,\"\"),\"\")","v":""},{"$f":"IF(N1528=\"\",\"\",CONCATENATE(IF(C1528<>\"\",TEXT(C1528,\"\"),\"\"),\" - \",IF(K1528<>\"\",TEXT(K1528,\"\"),\"\")))","v":""},{"$f":"SUBSTITUTE(SUBSTITUTE(SUBSTITUTE(SUBSTITUTE(IF(L1528<>\"\",HLink(L1528),\"\"),\"htm\",\"html\"),\"1x2\",\"analysis\"),\"www\",\"data\"),\"com\",\"vip\")","v":""},{"$f":"IF(D1528<>\"\",D1528,\"\")","v":""},{"$f":"IF(E1528<>\"\",E1528,\"\")","v":""},{"$f":"IF(F1528<>\"\",F1528,\"\")","v":""},{"$f":"IF(N1528<>\"\",IF(D1529<>\"\",D1529,D1528),\"\")","v":""},{"$f":"IF(N1528<>\"\",IF(E1529<>\"\",E1529,E1528),\"\")","v":""},{"$f":"IF(N1528<>\"\",IF(F1529<>\"\",F1529,F1528),\"\")","v":""}]
[]
[null,null,null,null,null,null,null,null,null,null,null,null,null,{"$f":"IF(A1530<>\"\",TEXT(A1530,\"\"),\"\")","v":""},{"$f":"IF(N1530=\"\",\"\",CONCATENATE(IF(C1530<>\"\",TEXT(C1530,\"\"),\"\"),\" - \",IF(K1530<>\"\",TEXT(K1530,\"\"),\"\")))","v":""},{"$f":"SUBSTITUTE(SUBSTITUTE(SUBSTITUTE(SUBSTITUTE(IF(L1530<>\"\",HLink(L1530),\"\"),\"htm\",\"html\"),\"1x2\",\"analysis\"),\"www\",\"data\"),\"com\",\"vip\")","v":""},{"$f":"IF(D1530<>\"\",D1530,\"\")","v":""},{"$f":"IF(E1530<>\"\",E1530,\"\")","v":""},{"$f":"IF(F1530<>\"\",F1530,\"\")","v":""},{"$f":"IF(N1530<>\"\",IF(D1531<>\"\",D1531,D1530),\"\")","v":""},{"$f":"IF(N1530<>\"\",IF(E1531<>\"\",E1531,E1530),\"\")","v":""},{"$f":"IF(N1530<>\"\",IF(F1531<>\"\",F1531,F1530),\"\")","v":""}]
[]
[null,null,null,null,null,null,null,null,null,null,null,null,null,{"$f":"IF(A1532<>\"\",TEXT(A1532,\"\"),\"\")","v":""},{"$f":"IF(N1532=\"\",\"\",CONCATENATE(IF(C1532<>\"\",TEXT(C1532,\"\"),\"\"),\" - \",IF(K1532<>\"\",TEXT(K1532,\"\"),\"\")))","v":""},{"$f":"SUBSTITUTE(SUBSTITUTE(SUBSTITUTE(SUBSTITUTE(IF(L1532<>\"\",HLink(L1532),\"\"),\"htm\",\"html\"),\"1x2\",\"analysis\"),\"www\",\"data\"),\"com\",\"vip\")","v":""},{"$f":"IF(D1532<>\"\",D1532,\"\")","v":""},{"$f":"IF(E1532<>\"\",E1532,\"\")","v":""},{"$f":"IF(F1532<>\"\",F1532,\"\")","v":""},{"$f":"IF(N1532<>\"\",IF(D1533<>\"\",D1533,D1532),\"\")","v":""},{"$f":"IF(N1532<>\"\",IF(E1533<>\"\",E1533,E1532),\"\")","v":""},{"$f":"IF(N1532<>\"\",IF(F1533<>\"\",F1533,F1532),\"\")","v":""}]
[]
[null,null,null,null,null,null,null,null,null,null,null,null,null,{"$f":"IF(A1534<>\"\",TEXT(A1534,\"\"),\"\")","v":""},{"$f":"IF(N1534=\"\",\"\",CONCATENATE(IF(C1534<>\"\",TEXT(C1534,\"\"),\"\"),\" - \",IF(K1534<>\"\",TEXT(K1534,\"\"),\"\")))","v":""},{"$f":"SUBSTITUTE(SUBSTITUTE(SUBSTITUTE(SUBSTITUTE(IF(L1534<>\"\",HLink(L1534),\"\"),\"htm\",\"html\"),\"1x2\",\"analysis\"),\"www\",\"data\"),\"com\",\"vip\")","v":""},{"$f":"IF(D1534<>\"\",D1534,\"\")","v":""},{"$f":"IF(E1534<>\"\",E1534,\"\")","v":""},{"$f":"IF(F1534<>\"\",F1534,\"\")","v":""},{"$f":"IF(N1534<>\"\",IF(D1535<>\"\",D1535,D1534),\"\")","v":""},{"$f":"IF(N1534<>\"\",IF(E1535<>\"\",E1535,E1534),\"\")","v":""},{"$f":"IF(N1534<>\"\",IF(F1535<>\"\",F1535,F1534),\"\")","v":""}]
[]
[null,null,null,null,null,null,null,null,null,null,null,null,null,{"$f":"IF(A1536<>\"\",TEXT(A1536,\"\"),\"\")","v":""},{"$f":"IF(N1536=\"\",\"\",CONCATENATE(IF(C1536<>\"\",TEXT(C1536,\"\"),\"\"),\" - \",IF(K1536<>\"\",TEXT(K1536,\"\"),\"\")))","v":""},{"$f":"SUBSTITUTE(SUBSTITUTE(SUBSTITUTE(SUBSTITUTE(IF(L1536<>\"\",HLink(L1536),\"\"),\"htm\",\"html\"),\"1x2\",\"analysis\"),\"www\",\"data\"),\"com\",\"vip\")","v":""},{"$f":"IF(D1536<>\"\",D1536,\"\")","v":""},{"$f":"IF(E1536<>\"\",E1536,\"\")","v":""},{"$f":"IF(F1536<>\"\",F1536,\"\")","v":""},{"$f":"IF(N1536<>\"\",IF(D1537<>\"\",D1537,D1536),\"\")","v":""},{"$f":"IF(N1536<>\"\",IF(E1537<>\"\",E1537,E1536),\"\")","v":""},{"$f":"IF(N1536<>\"\",IF(F1537<>\"\",F1537,F1536),\"\")","v":""}]
[]
[null,null,null,null,null,null,null,null,null,null,null,null,null,{"$f":"IF(A1538<>\"\",TEXT(A1538,\"\"),\"\")","v":""},{"$f":"IF(N1538=\"\",\"\",CONCATENATE(IF(C1538<>\"\",TEXT(C1538,\"\"),\"\"),\" - \",IF(K1538<>\"\",TEXT(K1538,\"\"),\"\")))","v":""},{"$f":"SUBSTITUTE(SUBSTITUTE(SUBSTITUTE(SUBSTITUTE(IF(L1538<>\"\",HLink(L1538),\"\"),\"htm\",\"html\"),\"1x2\",\"analysis\"),\"www\",\"data\"),\"com\",\"vip\")","v":""},{"$f":"IF(D1538<>\"\",D1538,\"\")","v":""},{"$f":"IF(E1538<>\"\",E1538,\"\")","v":""},{"$f":"IF(F1538<>\"\",F1538,\"\")","v":""},{"$f":"IF(N1538<>\"\",IF(D1539<>\"\",D1539,D1538),\"\")","v":""},{"$f":"IF(N1538<>\"\",IF(E1539<>\"\",E1539,E1538),\"\")","v":""},{"$f":"IF(N1538<>\"\",IF(F1539<>\"\",F1539,F1538),\"\")","v":""}]
[]
[null,null,null,null,null,null,null,null,null,null,null,null,null,{"$f":"IF(A1540<>\"\",TEXT(A1540,\"\"),\"\")","v":""},{"$f":"IF(N1540=\"\",\"\",CONCATENATE(IF(C1540<>\"\",TEXT(C1540,\"\"),\"\"),\" - \",IF(K1540<>\"\",TEXT(K1540,\"\"),\"\")))","v":""},{"$f":"SUBSTITUTE(SUBSTITUTE(SUBSTITUTE(SUBSTITUTE(IF(L1540<>\"\",HLink(L1540),\"\"),\"htm\",\"html\"),\"1x2\",\"analysis\"),\"www\",\"data\"),\"com\",\"vip\")","v":""},{"$f":"IF(D1540<>\"\",D1540,\"\")","v":""},{"$f":"IF(E1540<>\"\",E1540,\"\")","v":""},{"$f":"IF(F1540<>\"\",F1540,\"\")","v":""},{"$f":"IF(N1540<>\"\",IF(D1541<>\"\",D1541,D1540),\"\")","v":""},{"$f":"IF(N1540<>\"\",IF(E1541<>\"\",E1541,E1540),\"\")","v":""},{"$f":"IF(N1540<>\"\",IF(F1541<>\"\",F1541,F1540),\"\")","v":""}]
[]
[null,null,null,null,null,null,null,null,null,null,null,null,null,{"$f":"IF(A1542<>\"\",TEXT(A1542,\"\"),\"\")","v":""},{"$f":"IF(N1542=\"\",\"\",CONCATENATE(IF(C1542<>\"\",TEXT(C1542,\"\"),\"\"),\" - \",IF(K1542<>\"\",TEXT(K1542,\"\"),\"\")))","v":""},{"$f":"SUBSTITUTE(SUBSTITUTE(SUBSTITUTE(SUBSTITUTE(IF(L1542<>\"\",HLink(L1542),\"\"),\"htm\",\"html\"),\"1x2\",\"analysis\"),\"www\",\"data\"),\"com\",\"vip\")","v":""},{"$f":"IF(D1542<>\"\",D1542,\"\")","v":""},{"$f":"IF(E1542<>\"\",E1542,\"\")","v":""},{"$f":"IF(F1542<>\"\",F1542,\"\")","v":""},{"$f":"IF(N1542<>\"\",IF(D1543<>\"\",D1543,D1542),\"\")","v":""},{"$f":"IF(N1542<>\"\",IF(E1543<>\"\",E1543,E1542),\"\")","v":""},{"$f":"IF(N1542<>\"\",IF(F1543<>\"\",F1543,F1542),\"\")","v":""}]
[]
[null,null,null,null,null,null,null,null,null,null,null,null,null,{"$f":"IF(A1544<>\"\",TEXT(A1544,\"\"),\"\")","v":""},{"$f":"IF(N1544=\"\",\"\",CONCATENATE(IF(C1544<>\"\",TEXT(C1544,\"\"),\"\"),\" - \",IF(K1544<>\"\",TEXT(K1544,\"\"),\"\")))","v":""},{"$f":"SUBSTITUTE(SUBSTITUTE(SUBSTITUTE(SUBSTITUTE(IF(L1544<>\"\",HLink(L1544),\"\"),\"htm\",\"html\"),\"1x2\",\"analysis\"),\"www\",\"data\"),\"com\",\"vip\")","v":""},{"$f":"IF(D1544<>\"\",D1544,\"\")","v":""},{"$f":"IF(E1544<>\"\",E1544,\"\")","v":""},{"$f":"IF(F1544<>\"\",F1544,\"\")","v":""},{"$f":"IF(N1544<>\"\",IF(D1545<>\"\",D1545,D1544),\"\")","v":""},{"$f":"IF(N1544<>\"\",IF(E1545<>\"\",E1545,E1544),\"\")","v":""},{"$f":"IF(N1544<>\"\",IF(F1545<>\"\",F1545,F1544),\"\")","v":""}]
[]
[null,null,null,null,null,null,null,null,null,null,null,null,null,{"$f":"IF(A1546<>\"\",TEXT(A1546,\"\"),\"\")","v":""},{"$f":"IF(N1546=\"\",\"\",CONCATENATE(IF(C1546<>\"\",TEXT(C1546,\"\"),\"\"),\" - \",IF(K1546<>\"\",TEXT(K1546,\"\"),\"\")))","v":""},{"$f":"SUBSTITUTE(SUBSTITUTE(SUBSTITUTE(SUBSTITUTE(IF(L1546<>\"\",HLink(L1546),\"\"),\"htm\",\"html\"),\"1x2\",\"analysis\"),\"www\",\"data\"),\"com\",\"vip\")","v":""},{"$f":"IF(D1546<>\"\",D1546,\"\")","v":""},{"$f":"IF(E1546<>\"\",E1546,\"\")","v":""},{"$f":"IF(F1546<>\"\",F1546,\"\")","v":""},{"$f":"IF(N1546<>\"\",IF(D1547<>\"\",D1547,D1546),\"\")","v":""},{"$f":"IF(N1546<>\"\",IF(E1547<>\"\",E1547,E1546),\"\")","v":""},{"$f":"IF(N1546<>\"\",IF(F1547<>\"\",F1547,F1546),\"\")","v":""}]
[]
[null,null,null,null,null,null,null,null,null,null,null,null,null,{"$f":"IF(A1548<>\"\",TEXT(A1548,\"\"),\"\")","v":""},{"$f":"IF(N1548=\"\",\"\",CONCATENATE(IF(C1548<>\"\",TEXT(C1548,\"\"),\"\"),\" - \",IF(K1548<>\"\",TEXT(K1548,\"\"),\"\")))","v":""},{"$f":"SUBSTITUTE(SUBSTITUTE(SUBSTITUTE(SUBSTITUTE(IF(L1548<>\"\",HLink(L1548),\"\"),\"htm\",\"html\"),\"1x2\",\"analysis\"),\"www\",\"data\"),\"com\",\"vip\")","v":""},{"$f":"IF(D1548<>\"\",D1548,\"\")","v":""},{"$f":"IF(E1548<>\"\",E1548,\"\")","v":""},{"$f":"IF(F1548<>\"\",F1548,\"\")","v":""},{"$f":"IF(N1548<>\"\",IF(D1549<>\"\",D1549,D1548),\"\")","v":""},{"$f":"IF(N1548<>\"\",IF(E1549<>\"\",E1549,E1548),\"\")","v":""},{"$f":"IF(N1548<>\"\",IF(F1549<>\"\",F1549,F1548),\"\")","v":""}]
[]
[null,null,null,null,null,null,null,null,null,null,null,null,null,{"$f":"IF(A1550<>\"\",TEXT(A1550,\"\"),\"\")","v":""},{"$f":"IF(N1550=\"\",\"\",CONCATENATE(IF(C1550<>\"\",TEXT(C1550,\"\"),\"\"),\" - \",IF(K1550<>\"\",TEXT(K1550,\"\"),\"\")))","v":""},{"$f":"SUBSTITUTE(SUBSTITUTE(SUBSTITUTE(SUBSTITUTE(IF(L1550<>\"\",HLink(L1550),\"\"),\"htm\",\"html\"),\"1x2\",\"analysis\"),\"www\",\"data\"),\"com\",\"vip\")","v":""},{"$f":"IF(D1550<>\"\",D1550,\"\")","v":""},{"$f":"IF(E1550<>\"\",E1550,\"\")","v":""},{"$f":"IF(F1550<>\"\",F1550,\"\")","v":""},{"$f":"IF(N1550<>\"\",IF(D1551<>\"\",D1551,D1550),\"\")","v":""},{"$f":"IF(N1550<>\"\",IF(E1551<>\"\",E1551,E1550),\"\")","v":""},{"$f":"IF(N1550<>\"\",IF(F1551<>\"\",F1551,F1550),\"\")","v":""}]
[]
[null,null,null,null,null,null,null,null,null,null,null,null,null,{"$f":"IF(A1552<>\"\",TEXT(A1552,\"\"),\"\")","v":""},{"$f":"IF(N1552=\"\",\"\",CONCATENATE(IF(C1552<>\"\",TEXT(C1552,\"\"),\"\"),\" - \",IF(K1552<>\"\",TEXT(K1552,\"\"),\"\")))","v":""},{"$f":"SUBSTITUTE(SUBSTITUTE(SUBSTITUTE(SUBSTITUTE(IF(L1552<>\"\",HLink(L1552),\"\"),\"htm\",\"html\"),\"1x2\",\"analysis\"),\"www\",\"data\"),\"com\",\"vip\")","v":""},{"$f":"IF(D1552<>\"\",D1552,\"\")","v":""},{"$f":"IF(E1552<>\"\",E1552,\"\")","v":""},{"$f":"IF(F1552<>\"\",F1552,\"\")","v":""},{"$f":"IF(N1552<>\"\",IF(D1553<>\"\",D1553,D1552),\"\")","v":""},{"$f":"IF(N1552<>\"\",IF(E1553<>\"\",E1553,E1552),\"\")","v":""},{"$f":"IF(N1552<>\"\",IF(F1553<>\"\",F1553,F1552),\"\")","v":""}]
[]
[null,null,null,null,null,null,null,null,null,null,null,null,null,{"$f":"IF(A1554<>\"\",TEXT(A1554,\"\"),\"\")","v":""},{"$f":"IF(N1554=\"\",\"\",CONCATENATE(IF(C1554<>\"\",TEXT(C1554,\"\"),\"\"),\" - \",IF(K1554<>\"\",TEXT(K1554,\"\"),\"\")))","v":""},{"$f":"SUBSTITUTE(SUBSTITUTE(SUBSTITUTE(SUBSTITUTE(IF(L1554<>\"\",HLink(L1554),\"\"),\"htm\",\"html\"),\"1x2\",\"analysis\"),\"www\",\"data\"),\"com\",\"vip\")","v":""},{"$f":"IF(D1554<>\"\",D1554,\"\")","v":""},{"$f":"IF(E1554<>\"\",E1554,\"\")","v":""},{"$f":"IF(F1554<>\"\",F1554,\"\")","v":""},{"$f":"IF(N1554<>\"\",IF(D1555<>\"\",D1555,D1554),\"\")","v":""},{"$f":"IF(N1554<>\"\",IF(E1555<>\"\",E1555,E1554),\"\")","v":""},{"$f":"IF(N1554<>\"\",IF(F1555<>\"\",F1555,F1554),\"\")","v":""}]
[]
[null,null,null,null,null,null,null,null,null,null,null,null,null,{"$f":"IF(A1556<>\"\",TEXT(A1556,\"\"),\"\")","v":""},{"$f":"IF(N1556=\"\",\"\",CONCATENATE(IF(C1556<>\"\",TEXT(C1556,\"\"),\"\"),\" - \",IF(K1556<>\"\",TEXT(K1556,\"\"),\"\")))","v":""},{"$f":"SUBSTITUTE(SUBSTITUTE(SUBSTITUTE(SUBSTITUTE(IF(L1556<>\"\",HLink(L1556),\"\"),\"htm\",\"html\"),\"1x2\",\"analysis\"),\"www\",\"data\"),\"com\",\"vip\")","v":""},{"$f":"IF(D1556<>\"\",D1556,\"\")","v":""},{"$f":"IF(E1556<>\"\",E1556,\"\")","v":""},{"$f":"IF(F1556<>\"\",F1556,\"\")","v":""},{"$f":"IF(N1556<>\"\",IF(D1557<>\"\",D1557,D1556),\"\")","v":""},{"$f":"IF(N1556<>\"\",IF(E1557<>\"\",E1557,E1556),\"\")","v":""},{"$f":"IF(N1556<>\"\",IF(F1557<>\"\",F1557,F1556),\"\")","v":""}]
[]
[null,null,null,null,null,null,null,null,null,null,null,null,null,{"$f":"IF(A1558<>\"\",TEXT(A1558,\"\"),\"\")","v":""},{"$f":"IF(N1558=\"\",\"\",CONCATENATE(IF(C1558<>\"\",TEXT(C1558,\"\"),\"\"),\" - \",IF(K1558<>\"\",TEXT(K1558,\"\"),\"\")))","v":""},{"$f":"SUBSTITUTE(SUBSTITUTE(SUBSTITUTE(SUBSTITUTE(IF(L1558<>\"\",HLink(L1558),\"\"),\"htm\",\"html\"),\"1x2\",\"analysis\"),\"www\",\"data\"),\"com\",\"vip\")","v":""},{"$f":"IF(D1558<>\"\",D1558,\"\")","v":""},{"$f":"IF(E1558<>\"\",E1558,\"\")","v":""},{"$f":"IF(F1558<>\"\",F1558,\"\")","v":""},{"$f":"IF(N1558<>\"\",IF(D1559<>\"\",D1559,D1558),\"\")","v":""},{"$f":"IF(N1558<>\"\",IF(E1559<>\"\",E1559,E1558),\"\")","v":""},{"$f":"IF(N1558<>\"\",IF(F1559<>\"\",F1559,F1558),\"\")","v":""}]
[]
[null,null,null,null,null,null,null,null,null,null,null,null,null,{"$f":"IF(A1560<>\"\",TEXT(A1560,\"\"),\"\")","v":""},{"$f":"IF(N1560=\"\",\"\",CONCATENATE(IF(C1560<>\"\",TEXT(C1560,\"\"),\"\"),\" - \",IF(K1560<>\"\",TEXT(K1560,\"\"),\"\")))","v":""},{"$f":"SUBSTITUTE(SUBSTITUTE(SUBSTITUTE(SUBSTITUTE(IF(L1560<>\"\",HLink(L1560),\"\"),\"htm\",\"html\"),\"1x2\",\"analysis\"),\"www\",\"data\"),\"com\",\"vip\")","v":""},{"$f":"IF(D1560<>\"\",D1560,\"\")","v":""},{"$f":"IF(E1560<>\"\",E1560,\"\")","v":""},{"$f":"IF(F1560<>\"\",F1560,\"\")","v":""},{"$f":"IF(N1560<>\"\",IF(D1561<>\"\",D1561,D1560),\"\")","v":""},{"$f":"IF(N1560<>\"\",IF(E1561<>\"\",E1561,E1560),\"\")","v":""},{"$f":"IF(N1560<>\"\",IF(F1561<>\"\",F1561,F1560),\"\")","v":""}]
[]
[null,null,null,null,null,null,null,null,null,null,null,null,null,{"$f":"IF(A1562<>\"\",TEXT(A1562,\"\"),\"\")","v":""},{"$f":"IF(N1562=\"\",\"\",CONCATENATE(IF(C1562<>\"\",TEXT(C1562,\"\"),\"\"),\" - \",IF(K1562<>\"\",TEXT(K1562,\"\"),\"\")))","v":""},{"$f":"SUBSTITUTE(SUBSTITUTE(SUBSTITUTE(SUBSTITUTE(IF(L1562<>\"\",HLink(L1562),\"\"),\"htm\",\"html\"),\"1x2\",\"analysis\"),\"www\",\"data\"),\"com\",\"vip\")","v":""},{"$f":"IF(D1562<>\"\",D1562,\"\")","v":""},{"$f":"IF(E1562<>\"\",E1562,\"\")","v":""},{"$f":"IF(F1562<>\"\",F1562,\"\")","v":""},{"$f":"IF(N1562<>\"\",IF(D1563<>\"\",D1563,D1562),\"\")","v":""},{"$f":"IF(N1562<>\"\",IF(E1563<>\"\",E1563,E1562),\"\")","v":""},{"$f":"IF(N1562<>\"\",IF(F1563<>\"\",F1563,F1562),\"\")","v":""}]
[]
[null,null,null,null,null,null,null,null,null,null,null,null,null,{"$f":"IF(A1564<>\"\",TEXT(A1564,\"\"),\"\")","v":""},{"$f":"IF(N1564=\"\",\"\",CONCATENATE(IF(C1564<>\"\",TEXT(C1564,\"\"),\"\"),\" - \",IF(K1564<>\"\",TEXT(K1564,\"\"),\"\")))","v":""},{"$f":"SUBSTITUTE(SUBSTITUTE(SUBSTITUTE(SUBSTITUTE(IF(L1564<>\"\",HLink(L1564),\"\"),\"htm\",\"html\"),\"1x2\",\"analysis\"),\"www\",\"data\"),\"com\",\"vip\")","v":""},{"$f":"IF(D1564<>\"\",D1564,\"\")","v":""},{"$f":"IF(E1564<>\"\",E1564,\"\")","v":""},{"$f":"IF(F1564<>\"\",F1564,\"\")","v":""},{"$f":"IF(N1564<>\"\",IF(D1565<>\"\",D1565,D1564),\"\")","v":""},{"$f":"IF(N1564<>\"\",IF(E1565<>\"\",E1565,E1564),\"\")","v":""},{"$f":"IF(N1564<>\"\",IF(F1565<>\"\",F1565,F1564),\"\")","v":""}]
[]
[null,null,null,null,null,null,null,null,null,null,null,null,null,{"$f":"IF(A1566<>\"\",TEXT(A1566,\"\"),\"\")","v":""},{"$f":"IF(N1566=\"\",\"\",CONCATENATE(IF(C1566<>\"\",TEXT(C1566,\"\"),\"\"),\" - \",IF(K1566<>\"\",TEXT(K1566,\"\"),\"\")))","v":""},{"$f":"SUBSTITUTE(SUBSTITUTE(SUBSTITUTE(SUBSTITUTE(IF(L1566<>\"\",HLink(L1566),\"\"),\"htm\",\"html\"),\"1x2\",\"analysis\"),\"www\",\"data\"),\"com\",\"vip\")","v":""},{"$f":"IF(D1566<>\"\",D1566,\"\")","v":""},{"$f":"IF(E1566<>\"\",E1566,\"\")","v":""},{"$f":"IF(F1566<>\"\",F1566,\"\")","v":""},{"$f":"IF(N1566<>\"\",IF(D1567<>\"\",D1567,D1566),\"\")","v":""},{"$f":"IF(N1566<>\"\",IF(E1567<>\"\",E1567,E1566),\"\")","v":""},{"$f":"IF(N1566<>\"\",IF(F1567<>\"\",F1567,F1566),\"\")","v":""}]
[]
[null,null,null,null,null,null,null,null,null,null,null,null,null,{"$f":"IF(A1568<>\"\",TEXT(A1568,\"\"),\"\")","v":""},{"$f":"IF(N1568=\"\",\"\",CONCATENATE(IF(C1568<>\"\",TEXT(C1568,\"\"),\"\"),\" - \",IF(K1568<>\"\",TEXT(K1568,\"\"),\"\")))","v":""},{"$f":"SUBSTITUTE(SUBSTITUTE(SUBSTITUTE(SUBSTITUTE(IF(L1568<>\"\",HLink(L1568),\"\"),\"htm\",\"html\"),\"1x2\",\"analysis\"),\"www\",\"data\"),\"com\",\"vip\")","v":""},{"$f":"IF(D1568<>\"\",D1568,\"\")","v":""},{"$f":"IF(E1568<>\"\",E1568,\"\")","v":""},{"$f":"IF(F1568<>\"\",F1568,\"\")","v":""},{"$f":"IF(N1568<>\"\",IF(D1569<>\"\",D1569,D1568),\"\")","v":""},{"$f":"IF(N1568<>\"\",IF(E1569<>\"\",E1569,E1568),\"\")","v":""},{"$f":"IF(N1568<>\"\",IF(F1569<>\"\",F1569,F1568),\"\")","v":""}]
[]
[null,null,null,null,null,null,null,null,null,null,null,null,null,{"$f":"IF(A1570<>\"\",TEXT(A1570,\"\"),\"\")","v":""},{"$f":"IF(N1570=\"\",\"\",CONCATENATE(IF(C1570<>\"\",TEXT(C1570,\"\"),\"\"),\" - \",IF(K1570<>\"\",TEXT(K1570,\"\"),\"\")))","v":""},{"$f":"SUBSTITUTE(SUBSTITUTE(SUBSTITUTE(SUBSTITUTE(IF(L1570<>\"\",HLink(L1570),\"\"),\"htm\",\"html\"),\"1x2\",\"analysis\"),\"www\",\"data\"),\"com\",\"vip\")","v":""},{"$f":"IF(D1570<>\"\",D1570,\"\")","v":""},{"$f":"IF(E1570<>\"\",E1570,\"\")","v":""},{"$f":"IF(F1570<>\"\",F1570,\"\")","v":""},{"$f":"IF(N1570<>\"\",IF(D1571<>\"\",D1571,D1570),\"\")","v":""},{"$f":"IF(N1570<>\"\",IF(E1571<>\"\",E1571,E1570),\"\")","v":""},{"$f":"IF(N1570<>\"\",IF(F1571<>\"\",F1571,F1570),\"\")","v":""}]
[]
[null,null,null,null,null,null,null,null,null,null,null,null,null,{"$f":"IF(A1572<>\"\",TEXT(A1572,\"\"),\"\")","v":""},{"$f":"IF(N1572=\"\",\"\",CONCATENATE(IF(C1572<>\"\",TEXT(C1572,\"\"),\"\"),\" - \",IF(K1572<>\"\",TEXT(K1572,\"\"),\"\")))","v":""},{"$f":"SUBSTITUTE(SUBSTITUTE(SUBSTITUTE(SUBSTITUTE(IF(L1572<>\"\",HLink(L1572),\"\"),\"htm\",\"html\"),\"1x2\",\"analysis\"),\"www\",\"data\"),\"com\",\"vip\")","v":""},{"$f":"IF(D1572<>\"\",D1572,\"\")","v":""},{"$f":"IF(E1572<>\"\",E1572,\"\")","v":""},{"$f":"IF(F1572<>\"\",F1572,\"\")","v":""},{"$f":"IF(N1572<>\"\",IF(D1573<>\"\",D1573,D1572),\"\")","v":""},{"$f":"IF(N1572<>\"\",IF(E1573<>\"\",E1573,E1572),\"\")","v":""},{"$f":"IF(N1572<>\"\",IF(F1573<>\"\",F1573,F1572),\"\")","v":""}]
[]
[null,null,null,null,null,null,null,null,null,null,null,null,null,{"$f":"IF(A1574<>\"\",TEXT(A1574,\"\"),\"\")","v":""},{"$f":"IF(N1574=\"\",\"\",CONCATENATE(IF(C1574<>\"\",TEXT(C1574,\"\"),\"\"),\" - \",IF(K1574<>\"\",TEXT(K1574,\"\"),\"\")))","v":""},{"$f":"SUBSTITUTE(SUBSTITUTE(SUBSTITUTE(SUBSTITUTE(IF(L1574<>\"\",HLink(L1574),\"\"),\"htm\",\"html\"),\"1x2\",\"analysis\"),\"www\",\"data\"),\"com\",\"vip\")","v":""},{"$f":"IF(D1574<>\"\",D1574,\"\")","v":""},{"$f":"IF(E1574<>\"\",E1574,\"\")","v":""},{"$f":"IF(F1574<>\"\",F1574,\"\")","v":""},{"$f":"IF(N1574<>\"\",IF(D1575<>\"\",D1575,D1574),\"\")","v":""},{"$f":"IF(N1574<>\"\",IF(E1575<>\"\",E1575,E1574),\"\")","v":""},{"$f":"IF(N1574<>\"\",IF(F1575<>\"\",F1575,F1574),\"\")","v":""}]
[]
[null,null,null,null,null,null,null,null,null,null,null,null,null,{"$f":"IF(A1576<>\"\",TEXT(A1576,\"\"),\"\")","v":""},{"$f":"IF(N1576=\"\",\"\",CONCATENATE(IF(C1576<>\"\",TEXT(C1576,\"\"),\"\"),\" - \",IF(K1576<>\"\",TEXT(K1576,\"\"),\"\")))","v":""},{"$f":"SUBSTITUTE(SUBSTITUTE(SUBSTITUTE(SUBSTITUTE(IF(L1576<>\"\",HLink(L1576),\"\"),\"htm\",\"html\"),\"1x2\",\"analysis\"),\"www\",\"data\"),\"com\",\"vip\")","v":""},{"$f":"IF(D1576<>\"\",D1576,\"\")","v":""},{"$f":"IF(E1576<>\"\",E1576,\"\")","v":""},{"$f":"IF(F1576<>\"\",F1576,\"\")","v":""},{"$f":"IF(N1576<>\"\",IF(D1577<>\"\",D1577,D1576),\"\")","v":""},{"$f":"IF(N1576<>\"\",IF(E1577<>\"\",E1577,E1576),\"\")","v":""},{"$f":"IF(N1576<>\"\",IF(F1577<>\"\",F1577,F1576),\"\")","v":""}]
[]
[null,null,null,null,null,null,null,null,null,null,null,null,null,{"$f":"IF(A1578<>\"\",TEXT(A1578,\"\"),\"\")","v":""},{"$f":"IF(N1578=\"\",\"\",CONCATENATE(IF(C1578<>\"\",TEXT(C1578,\"\"),\"\"),\" - \",IF(K1578<>\"\",TEXT(K1578,\"\"),\"\")))","v":""},{"$f":"SUBSTITUTE(SUBSTITUTE(SUBSTITUTE(SUBSTITUTE(IF(L1578<>\"\",HLink(L1578),\"\"),\"htm\",\"html\"),\"1x2\",\"analysis\"),\"www\",\"data\"),\"com\",\"vip\")","v":""},{"$f":"IF(D1578<>\"\",D1578,\"\")","v":""},{"$f":"IF(E1578<>\"\",E1578,\"\")","v":""},{"$f":"IF(F1578<>\"\",F1578,\"\")","v":""},{"$f":"IF(N1578<>\"\",IF(D1579<>\"\",D1579,D1578),\"\")","v":""},{"$f":"IF(N1578<>\"\",IF(E1579<>\"\",E1579,E1578),\"\")","v":""},{"$f":"IF(N1578<>\"\",IF(F1579<>\"\",F1579,F1578),\"\")","v":""}]
[]
[null,null,null,null,null,null,null,null,null,null,null,null,null,{"$f":"IF(A1580<>\"\",TEXT(A1580,\"\"),\"\")","v":""},{"$f":"IF(N1580=\"\",\"\",CONCATENATE(IF(C1580<>\"\",TEXT(C1580,\"\"),\"\"),\" - \",IF(K1580<>\"\",TEXT(K1580,\"\"),\"\")))","v":""},{"$f":"SUBSTITUTE(SUBSTITUTE(SUBSTITUTE(SUBSTITUTE(IF(L1580<>\"\",HLink(L1580),\"\"),\"htm\",\"html\"),\"1x2\",\"analysis\"),\"www\",\"data\"),\"com\",\"vip\")","v":""},{"$f":"IF(D1580<>\"\",D1580,\"\")","v":""},{"$f":"IF(E1580<>\"\",E1580,\"\")","v":""},{"$f":"IF(F1580<>\"\",F1580,\"\")","v":""},{"$f":"IF(N1580<>\"\",IF(D1581<>\"\",D1581,D1580),\"\")","v":""},{"$f":"IF(N1580<>\"\",IF(E1581<>\"\",E1581,E1580),\"\")","v":""},{"$f":"IF(N1580<>\"\",IF(F1581<>\"\",F1581,F1580),\"\")","v":""}]
[]
[null,null,null,null,null,null,null,null,null,null,null,null,null,{"$f":"IF(A1582<>\"\",TEXT(A1582,\"\"),\"\")","v":""},{"$f":"IF(N1582=\"\",\"\",CONCATENATE(IF(C1582<>\"\",TEXT(C1582,\"\"),\"\"),\" - \",IF(K1582<>\"\",TEXT(K1582,\"\"),\"\")))","v":""},{"$f":"SUBSTITUTE(SUBSTITUTE(SUBSTITUTE(SUBSTITUTE(IF(L1582<>\"\",HLink(L1582),\"\"),\"htm\",\"html\"),\"1x2\",\"analysis\"),\"www\",\"data\"),\"com\",\"vip\")","v":""},{"$f":"IF(D1582<>\"\",D1582,\"\")","v":""},{"$f":"IF(E1582<>\"\",E1582,\"\")","v":""},{"$f":"IF(F1582<>\"\",F1582,\"\")","v":""},{"$f":"IF(N1582<>\"\",IF(D1583<>\"\",D1583,D1582),\"\")","v":""},{"$f":"IF(N1582<>\"\",IF(E1583<>\"\",E1583,E1582),\"\")","v":""},{"$f":"IF(N1582<>\"\",IF(F1583<>\"\",F1583,F1582),\"\")","v":""}]
[]
[null,null,null,null,null,null,null,null,null,null,null,null,null,{"$f":"IF(A1584<>\"\",TEXT(A1584,\"\"),\"\")","v":""},{"$f":"IF(N1584=\"\",\"\",CONCATENATE(IF(C1584<>\"\",TEXT(C1584,\"\"),\"\"),\" - \",IF(K1584<>\"\",TEXT(K1584,\"\"),\"\")))","v":""},{"$f":"SUBSTITUTE(SUBSTITUTE(SUBSTITUTE(SUBSTITUTE(IF(L1584<>\"\",HLink(L1584),\"\"),\"htm\",\"html\"),\"1x2\",\"analysis\"),\"www\",\"data\"),\"com\",\"vip\")","v":""},{"$f":"IF(D1584<>\"\",D1584,\"\")","v":""},{"$f":"IF(E1584<>\"\",E1584,\"\")","v":""},{"$f":"IF(F1584<>\"\",F1584,\"\")","v":""},{"$f":"IF(N1584<>\"\",IF(D1585<>\"\",D1585,D1584),\"\")","v":""},{"$f":"IF(N1584<>\"\",IF(E1585<>\"\",E1585,E1584),\"\")","v":""},{"$f":"IF(N1584<>\"\",IF(F1585<>\"\",F1585,F1584),\"\")","v":""}]
[]
[null,null,null,null,null,null,null,null,null,null,null,null,null,{"$f":"IF(A1586<>\"\",TEXT(A1586,\"\"),\"\")","v":""},{"$f":"IF(N1586=\"\",\"\",CONCATENATE(IF(C1586<>\"\",TEXT(C1586,\"\"),\"\"),\" - \",IF(K1586<>\"\",TEXT(K1586,\"\"),\"\")))","v":""},{"$f":"SUBSTITUTE(SUBSTITUTE(SUBSTITUTE(SUBSTITUTE(IF(L1586<>\"\",HLink(L1586),\"\"),\"htm\",\"html\"),\"1x2\",\"analysis\"),\"www\",\"data\"),\"com\",\"vip\")","v":""},{"$f":"IF(D1586<>\"\",D1586,\"\")","v":""},{"$f":"IF(E1586<>\"\",E1586,\"\")","v":""},{"$f":"IF(F1586<>\"\",F1586,\"\")","v":""},{"$f":"IF(N1586<>\"\",IF(D1587<>\"\",D1587,D1586),\"\")","v":""},{"$f":"IF(N1586<>\"\",IF(E1587<>\"\",E1587,E1586),\"\")","v":""},{"$f":"IF(N1586<>\"\",IF(F1587<>\"\",F1587,F1586),\"\")","v":""}]
[]
[null,null,null,null,null,null,null,null,null,null,null,null,null,{"$f":"IF(A1588<>\"\",TEXT(A1588,\"\"),\"\")","v":""},{"$f":"IF(N1588=\"\",\"\",CONCATENATE(IF(C1588<>\"\",TEXT(C1588,\"\"),\"\"),\" - \",IF(K1588<>\"\",TEXT(K1588,\"\"),\"\")))","v":""},{"$f":"SUBSTITUTE(SUBSTITUTE(SUBSTITUTE(SUBSTITUTE(IF(L1588<>\"\",HLink(L1588),\"\"),\"htm\",\"html\"),\"1x2\",\"analysis\"),\"www\",\"data\"),\"com\",\"vip\")","v":""},{"$f":"IF(D1588<>\"\",D1588,\"\")","v":""},{"$f":"IF(E1588<>\"\",E1588,\"\")","v":""},{"$f":"IF(F1588<>\"\",F1588,\"\")","v":""},{"$f":"IF(N1588<>\"\",IF(D1589<>\"\",D1589,D1588),\"\")","v":""},{"$f":"IF(N1588<>\"\",IF(E1589<>\"\",E1589,E1588),\"\")","v":""},{"$f":"IF(N1588<>\"\",IF(F1589<>\"\",F1589,F1588),\"\")","v":""}]
[]
[null,null,null,null,null,null,null,null,null,null,null,null,null,{"$f":"IF(A1590<>\"\",TEXT(A1590,\"\"),\"\")","v":""},{"$f":"IF(N1590=\"\",\"\",CONCATENATE(IF(C1590<>\"\",TEXT(C1590,\"\"),\"\"),\" - \",IF(K1590<>\"\",TEXT(K1590,\"\"),\"\")))","v":""},{"$f":"SUBSTITUTE(SUBSTITUTE(SUBSTITUTE(SUBSTITUTE(IF(L1590<>\"\",HLink(L1590),\"\"),\"htm\",\"html\"),\"1x2\",\"analysis\"),\"www\",\"data\"),\"com\",\"vip\")","v":""},{"$f":"IF(D1590<>\"\",D1590,\"\")","v":""},{"$f":"IF(E1590<>\"\",E1590,\"\")","v":""},{"$f":"IF(F1590<>\"\",F1590,\"\")","v":""},{"$f":"IF(N1590<>\"\",IF(D1591<>\"\",D1591,D1590),\"\")","v":""},{"$f":"IF(N1590<>\"\",IF(E1591<>\"\",E1591,E1590),\"\")","v":""},{"$f":"IF(N1590<>\"\",IF(F1591<>\"\",F1591,F1590),\"\")","v":""}]
[]
[null,null,null,null,null,null,null,null,null,null,null,null,null,{"$f":"IF(A1592<>\"\",TEXT(A1592,\"\"),\"\")","v":""},{"$f":"IF(N1592=\"\",\"\",CONCATENATE(IF(C1592<>\"\",TEXT(C1592,\"\"),\"\"),\" - \",IF(K1592<>\"\",TEXT(K1592,\"\"),\"\")))","v":""},{"$f":"SUBSTITUTE(SUBSTITUTE(SUBSTITUTE(SUBSTITUTE(IF(L1592<>\"\",HLink(L1592),\"\"),\"htm\",\"html\"),\"1x2\",\"analysis\"),\"www\",\"data\"),\"com\",\"vip\")","v":""},{"$f":"IF(D1592<>\"\",D1592,\"\")","v":""},{"$f":"IF(E1592<>\"\",E1592,\"\")","v":""},{"$f":"IF(F1592<>\"\",F1592,\"\")","v":""},{"$f":"IF(N1592<>\"\",IF(D1593<>\"\",D1593,D1592),\"\")","v":""},{"$f":"IF(N1592<>\"\",IF(E1593<>\"\",E1593,E1592),\"\")","v":""},{"$f":"IF(N1592<>\"\",IF(F1593<>\"\",F1593,F1592),\"\")","v":""}]
[]
[null,null,null,null,null,null,null,null,null,null,null,null,null,{"$f":"IF(A1594<>\"\",TEXT(A1594,\"\"),\"\")","v":""},{"$f":"IF(N1594=\"\",\"\",CONCATENATE(IF(C1594<>\"\",TEXT(C1594,\"\"),\"\"),\" - \",IF(K1594<>\"\",TEXT(K1594,\"\"),\"\")))","v":""},{"$f":"SUBSTITUTE(SUBSTITUTE(SUBSTITUTE(SUBSTITUTE(IF(L1594<>\"\",HLink(L1594),\"\"),\"htm\",\"html\"),\"1x2\",\"analysis\"),\"www\",\"data\"),\"com\",\"vip\")","v":""},{"$f":"IF(D1594<>\"\",D1594,\"\")","v":""},{"$f":"IF(E1594<>\"\",E1594,\"\")","v":""},{"$f":"IF(F1594<>\"\",F1594,\"\")","v":""},{"$f":"IF(N1594<>\"\",IF(D1595<>\"\",D1595,D1594),\"\")","v":""},{"$f":"IF(N1594<>\"\",IF(E1595<>\"\",E1595,E1594),\"\")","v":""},{"$f":"IF(N1594<>\"\",IF(F1595<>\"\",F1595,F1594),\"\")","v":""}]
[]
[null,null,null,null,null,null,null,null,null,null,null,null,null,{"$f":"IF(A1596<>\"\",TEXT(A1596,\"\"),\"\")","v":""},{"$f":"IF(N1596=\"\",\"\",CONCATENATE(IF(C1596<>\"\",TEXT(C1596,\"\"),\"\"),\" - \",IF(K1596<>\"\",TEXT(K1596,\"\"),\"\")))","v":""},{"$f":"SUBSTITUTE(SUBSTITUTE(SUBSTITUTE(SUBSTITUTE(IF(L1596<>\"\",HLink(L1596),\"\"),\"htm\",\"html\"),\"1x2\",\"analysis\"),\"www\",\"data\"),\"com\",\"vip\")","v":""},{"$f":"IF(D1596<>\"\",D1596,\"\")","v":""},{"$f":"IF(E1596<>\"\",E1596,\"\")","v":""},{"$f":"IF(F1596<>\"\",F1596,\"\")","v":""},{"$f":"IF(N1596<>\"\",IF(D1597<>\"\",D1597,D1596),\"\")","v":""},{"$f":"IF(N1596<>\"\",IF(E1597<>\"\",E1597,E1596),\"\")","v":""},{"$f":"IF(N1596<>\"\",IF(F1597<>\"\",F1597,F1596),\"\")","v":""}]
[]
[null,null,null,null,null,null,null,null,null,null,null,null,null,{"$f":"IF(A1598<>\"\",TEXT(A1598,\"\"),\"\")","v":""},{"$f":"IF(N1598=\"\",\"\",CONCATENATE(IF(C1598<>\"\",TEXT(C1598,\"\"),\"\"),\" - \",IF(K1598<>\"\",TEXT(K1598,\"\"),\"\")))","v":""},{"$f":"SUBSTITUTE(SUBSTITUTE(SUBSTITUTE(SUBSTITUTE(IF(L1598<>\"\",HLink(L1598),\"\"),\"htm\",\"html\"),\"1x2\",\"analysis\"),\"www\",\"data\"),\"com\",\"vip\")","v":""},{"$f":"IF(D1598<>\"\",D1598,\"\")","v":""},{"$f":"IF(E1598<>\"\",E1598,\"\")","v":""},{"$f":"IF(F1598<>\"\",F1598,\"\")","v":""},{"$f":"IF(N1598<>\"\",IF(D1599<>\"\",D1599,D1598),\"\")","v":""},{"$f":"IF(N1598<>\"\",IF(E1599<>\"\",E1599,E1598),\"\")","v":""},{"$f":"IF(N1598<>\"\",IF(F1599<>\"\",F1599,F1598),\"\")","v":""}]
[]
[null,null,null,null,null,null,null,null,null,null,null,null,null,{"$f":"IF(A1600<>\"\",TEXT(A1600,\"\"),\"\")","v":""},{"$f":"IF(N1600=\"\",\"\",CONCATENATE(IF(C1600<>\"\",TEXT(C1600,\"\"),\"\"),\" - \",IF(K1600<>\"\",TEXT(K1600,\"\"),\"\")))","v":""},{"$f":"SUBSTITUTE(SUBSTITUTE(SUBSTITUTE(SUBSTITUTE(IF(L1600<>\"\",HLink(L1600),\"\"),\"htm\",\"html\"),\"1x2\",\"analysis\"),\"www\",\"data\"),\"com\",\"vip\")","v":""},{"$f":"IF(D1600<>\"\",D1600,\"\")","v":""},{"$f":"IF(E1600<>\"\",E1600,\"\")","v":""},{"$f":"IF(F1600<>\"\",F1600,\"\")","v":""},{"$f":"IF(N1600<>\"\",IF(D1601<>\"\",D1601,D1600),\"\")","v":""},{"$f":"IF(N1600<>\"\",IF(E1601<>\"\",E1601,E1600),\"\")","v":""},{"$f":"IF(N1600<>\"\",IF(F1601<>\"\",F1601,F1600),\"\")","v":""}]
[]
[null,null,null,null,null,null,null,null,null,null,null,null,null,{"$f":"IF(A1602<>\"\",TEXT(A1602,\"\"),\"\")","v":""},{"$f":"IF(N1602=\"\",\"\",CONCATENATE(IF(C1602<>\"\",TEXT(C1602,\"\"),\"\"),\" - \",IF(K1602<>\"\",TEXT(K1602,\"\"),\"\")))","v":""},{"$f":"SUBSTITUTE(SUBSTITUTE(SUBSTITUTE(SUBSTITUTE(IF(L1602<>\"\",HLink(L1602),\"\"),\"htm\",\"html\"),\"1x2\",\"analysis\"),\"www\",\"data\"),\"com\",\"vip\")","v":""},{"$f":"IF(D1602<>\"\",D1602,\"\")","v":""},{"$f":"IF(E1602<>\"\",E1602,\"\")","v":""},{"$f":"IF(F1602<>\"\",F1602,\"\")","v":""},{"$f":"IF(N1602<>\"\",IF(D1603<>\"\",D1603,D1602),\"\")","v":""},{"$f":"IF(N1602<>\"\",IF(E1603<>\"\",E1603,E1602),\"\")","v":""},{"$f":"IF(N1602<>\"\",IF(F1603<>\"\",F1603,F1602),\"\")","v":""}]
[]
[null,null,null,null,null,null,null,null,null,null,null,null,null,{"$f":"IF(A1604<>\"\",TEXT(A1604,\"\"),\"\")","v":""},{"$f":"IF(N1604=\"\",\"\",CONCATENATE(IF(C1604<>\"\",TEXT(C1604,\"\"),\"\"),\" - \",IF(K1604<>\"\",TEXT(K1604,\"\"),\"\")))","v":""},{"$f":"SUBSTITUTE(SUBSTITUTE(SUBSTITUTE(SUBSTITUTE(IF(L1604<>\"\",HLink(L1604),\"\"),\"htm\",\"html\"),\"1x2\",\"analysis\"),\"www\",\"data\"),\"com\",\"vip\")","v":""},{"$f":"IF(D1604<>\"\",D1604,\"\")","v":""},{"$f":"IF(E1604<>\"\",E1604,\"\")","v":""},{"$f":"IF(F1604<>\"\",F1604,\"\")","v":""},{"$f":"IF(N1604<>\"\",IF(D1605<>\"\",D1605,D1604),\"\")","v":""},{"$f":"IF(N1604<>\"\",IF(E1605<>\"\",E1605,E1604),\"\")","v":""},{"$f":"IF(N1604<>\"\",IF(F1605<>\"\",F1605,F1604),\"\")","v":""}]
[]
[null,null,null,null,null,null,null,null,null,null,null,null,null,{"$f":"IF(A1606<>\"\",TEXT(A1606,\"\"),\"\")","v":""},{"$f":"IF(N1606=\"\",\"\",CONCATENATE(IF(C1606<>\"\",TEXT(C1606,\"\"),\"\"),\" - \",IF(K1606<>\"\",TEXT(K1606,\"\"),\"\")))","v":""},{"$f":"SUBSTITUTE(SUBSTITUTE(SUBSTITUTE(SUBSTITUTE(IF(L1606<>\"\",HLink(L1606),\"\"),\"htm\",\"html\"),\"1x2\",\"analysis\"),\"www\",\"data\"),\"com\",\"vip\")","v":""},{"$f":"IF(D1606<>\"\",D1606,\"\")","v":""},{"$f":"IF(E1606<>\"\",E1606,\"\")","v":""},{"$f":"IF(F1606<>\"\",F1606,\"\")","v":""},{"$f":"IF(N1606<>\"\",IF(D1607<>\"\",D1607,D1606),\"\")","v":""},{"$f":"IF(N1606<>\"\",IF(E1607<>\"\",E1607,E1606),\"\")","v":""},{"$f":"IF(N1606<>\"\",IF(F1607<>\"\",F1607,F1606),\"\")","v":""}]
[]
[null,null,null,null,null,null,null,null,null,null,null,null,null,{"$f":"IF(A1608<>\"\",TEXT(A1608,\"\"),\"\")","v":""},{"$f":"IF(N1608=\"\",\"\",CONCATENATE(IF(C1608<>\"\",TEXT(C1608,\"\"),\"\"),\" - \",IF(K1608<>\"\",TEXT(K1608,\"\"),\"\")))","v":""},{"$f":"SUBSTITUTE(SUBSTITUTE(SUBSTITUTE(SUBSTITUTE(IF(L1608<>\"\",HLink(L1608),\"\"),\"htm\",\"html\"),\"1x2\",\"analysis\"),\"www\",\"data\"),\"com\",\"vip\")","v":""},{"$f":"IF(D1608<>\"\",D1608,\"\")","v":""},{"$f":"IF(E1608<>\"\",E1608,\"\")","v":""},{"$f":"IF(F1608<>\"\",F1608,\"\")","v":""},{"$f":"IF(N1608<>\"\",IF(D1609<>\"\",D1609,D1608),\"\")","v":""},{"$f":"IF(N1608<>\"\",IF(E1609<>\"\",E1609,E1608),\"\")","v":""},{"$f":"IF(N1608<>\"\",IF(F1609<>\"\",F1609,F1608),\"\")","v":""}]
[]
[null,null,null,null,null,null,null,null,null,null,null,null,null,{"$f":"IF(A1610<>\"\",TEXT(A1610,\"\"),\"\")","v":""},{"$f":"IF(N1610=\"\",\"\",CONCATENATE(IF(C1610<>\"\",TEXT(C1610,\"\"),\"\"),\" - \",IF(K1610<>\"\",TEXT(K1610,\"\"),\"\")))","v":""},{"$f":"SUBSTITUTE(SUBSTITUTE(SUBSTITUTE(SUBSTITUTE(IF(L1610<>\"\",HLink(L1610),\"\"),\"htm\",\"html\"),\"1x2\",\"analysis\"),\"www\",\"data\"),\"com\",\"vip\")","v":""},{"$f":"IF(D1610<>\"\",D1610,\"\")","v":""},{"$f":"IF(E1610<>\"\",E1610,\"\")","v":""},{"$f":"IF(F1610<>\"\",F1610,\"\")","v":""},{"$f":"IF(N1610<>\"\",IF(D1611<>\"\",D1611,D1610),\"\")","v":""},{"$f":"IF(N1610<>\"\",IF(E1611<>\"\",E1611,E1610),\"\")","v":""},{"$f":"IF(N1610<>\"\",IF(F1611<>\"\",F1611,F1610),\"\")","v":""}]
[]
[null,null,null,null,null,null,null,null,null,null,null,null,null,{"$f":"IF(A1612<>\"\",TEXT(A1612,\"\"),\"\")","v":""},{"$f":"IF(N1612=\"\",\"\",CONCATENATE(IF(C1612<>\"\",TEXT(C1612,\"\"),\"\"),\" - \",IF(K1612<>\"\",TEXT(K1612,\"\"),\"\")))","v":""},{"$f":"SUBSTITUTE(SUBSTITUTE(SUBSTITUTE(SUBSTITUTE(IF(L1612<>\"\",HLink(L1612),\"\"),\"htm\",\"html\"),\"1x2\",\"analysis\"),\"www\",\"data\"),\"com\",\"vip\")","v":""},{"$f":"IF(D1612<>\"\",D1612,\"\")","v":""},{"$f":"IF(E1612<>\"\",E1612,\"\")","v":""},{"$f":"IF(F1612<>\"\",F1612,\"\")","v":""},{"$f":"IF(N1612<>\"\",IF(D1613<>\"\",D1613,D1612),\"\")","v":""},{"$f":"IF(N1612<>\"\",IF(E1613<>\"\",E1613,E1612),\"\")","v":""},{"$f":"IF(N1612<>\"\",IF(F1613<>\"\",F1613,F1612),\"\")","v":""}]
[]
[null,null,null,null,null,null,null,null,null,null,null,null,null,{"$f":"IF(A1614<>\"\",TEXT(A1614,\"\"),\"\")","v":""},{"$f":"IF(N1614=\"\",\"\",CONCATENATE(IF(C1614<>\"\",TEXT(C1614,\"\"),\"\"),\" - \",IF(K1614<>\"\",TEXT(K1614,\"\"),\"\")))","v":""},{"$f":"SUBSTITUTE(SUBSTITUTE(SUBSTITUTE(SUBSTITUTE(IF(L1614<>\"\",HLink(L1614),\"\"),\"htm\",\"html\"),\"1x2\",\"analysis\"),\"www\",\"data\"),\"com\",\"vip\")","v":""},{"$f":"IF(D1614<>\"\",D1614,\"\")","v":""},{"$f":"IF(E1614<>\"\",E1614,\"\")","v":""},{"$f":"IF(F1614<>\"\",F1614,\"\")","v":""},{"$f":"IF(N1614<>\"\",IF(D1615<>\"\",D1615,D1614),\"\")","v":""},{"$f":"IF(N1614<>\"\",IF(E1615<>\"\",E1615,E1614),\"\")","v":""},{"$f":"IF(N1614<>\"\",IF(F1615<>\"\",F1615,F1614),\"\")","v":""}]
[]
[null,null,null,null,null,null,null,null,null,null,null,null,null,{"$f":"IF(A1616<>\"\",TEXT(A1616,\"\"),\"\")","v":""},{"$f":"IF(N1616=\"\",\"\",CONCATENATE(IF(C1616<>\"\",TEXT(C1616,\"\"),\"\"),\" - \",IF(K1616<>\"\",TEXT(K1616,\"\"),\"\")))","v":""},{"$f":"SUBSTITUTE(SUBSTITUTE(SUBSTITUTE(SUBSTITUTE(IF(L1616<>\"\",HLink(L1616),\"\"),\"htm\",\"html\"),\"1x2\",\"analysis\"),\"www\",\"data\"),\"com\",\"vip\")","v":""},{"$f":"IF(D1616<>\"\",D1616,\"\")","v":""},{"$f":"IF(E1616<>\"\",E1616,\"\")","v":""},{"$f":"IF(F1616<>\"\",F1616,\"\")","v":""},{"$f":"IF(N1616<>\"\",IF(D1617<>\"\",D1617,D1616),\"\")","v":""},{"$f":"IF(N1616<>\"\",IF(E1617<>\"\",E1617,E1616),\"\")","v":""},{"$f":"IF(N1616<>\"\",IF(F1617<>\"\",F1617,F1616),\"\")","v":""}]
[]
[null,null,null,null,null,null,null,null,null,null,null,null,null,{"$f":"IF(A1618<>\"\",TEXT(A1618,\"\"),\"\")","v":""},{"$f":"IF(N1618=\"\",\"\",CONCATENATE(IF(C1618<>\"\",TEXT(C1618,\"\"),\"\"),\" - \",IF(K1618<>\"\",TEXT(K1618,\"\"),\"\")))","v":""},{"$f":"SUBSTITUTE(SUBSTITUTE(SUBSTITUTE(SUBSTITUTE(IF(L1618<>\"\",HLink(L1618),\"\"),\"htm\",\"html\"),\"1x2\",\"analysis\"),\"www\",\"data\"),\"com\",\"vip\")","v":""},{"$f":"IF(D1618<>\"\",D1618,\"\")","v":""},{"$f":"IF(E1618<>\"\",E1618,\"\")","v":""},{"$f":"IF(F1618<>\"\",F1618,\"\")","v":""},{"$f":"IF(N1618<>\"\",IF(D1619<>\"\",D1619,D1618),\"\")","v":""},{"$f":"IF(N1618<>\"\",IF(E1619<>\"\",E1619,E1618),\"\")","v":""},{"$f":"IF(N1618<>\"\",IF(F1619<>\"\",F1619,F1618),\"\")","v":""}]
[]
[null,null,null,null,null,null,null,null,null,null,null,null,null,{"$f":"IF(A1620<>\"\",TEXT(A1620,\"\"),\"\")","v":""},{"$f":"IF(N1620=\"\",\"\",CONCATENATE(IF(C1620<>\"\",TEXT(C1620,\"\"),\"\"),\" - \",IF(K1620<>\"\",TEXT(K1620,\"\"),\"\")))","v":""},{"$f":"SUBSTITUTE(SUBSTITUTE(SUBSTITUTE(SUBSTITUTE(IF(L1620<>\"\",HLink(L1620),\"\"),\"htm\",\"html\"),\"1x2\",\"analysis\"),\"www\",\"data\"),\"com\",\"vip\")","v":""},{"$f":"IF(D1620<>\"\",D1620,\"\")","v":""},{"$f":"IF(E1620<>\"\",E1620,\"\")","v":""},{"$f":"IF(F1620<>\"\",F1620,\"\")","v":""},{"$f":"IF(N1620<>\"\",IF(D1621<>\"\",D1621,D1620),\"\")","v":""},{"$f":"IF(N1620<>\"\",IF(E1621<>\"\",E1621,E1620),\"\")","v":""},{"$f":"IF(N1620<>\"\",IF(F1621<>\"\",F1621,F1620),\"\")","v":""}]
[]
[null,null,null,null,null,null,null,null,null,null,null,null,null,{"$f":"IF(A1622<>\"\",TEXT(A1622,\"\"),\"\")","v":""},{"$f":"IF(N1622=\"\",\"\",CONCATENATE(IF(C1622<>\"\",TEXT(C1622,\"\"),\"\"),\" - \",IF(K1622<>\"\",TEXT(K1622,\"\"),\"\")))","v":""},{"$f":"SUBSTITUTE(SUBSTITUTE(SUBSTITUTE(SUBSTITUTE(IF(L1622<>\"\",HLink(L1622),\"\"),\"htm\",\"html\"),\"1x2\",\"analysis\"),\"www\",\"data\"),\"com\",\"vip\")","v":""},{"$f":"IF(D1622<>\"\",D1622,\"\")","v":""},{"$f":"IF(E1622<>\"\",E1622,\"\")","v":""},{"$f":"IF(F1622<>\"\",F1622,\"\")","v":""},{"$f":"IF(N1622<>\"\",IF(D1623<>\"\",D1623,D1622),\"\")","v":""},{"$f":"IF(N1622<>\"\",IF(E1623<>\"\",E1623,E1622),\"\")","v":""},{"$f":"IF(N1622<>\"\",IF(F1623<>\"\",F1623,F1622),\"\")","v":""}]
[]
[null,null,null,null,null,null,null,null,null,null,null,null,null,{"$f":"IF(A1624<>\"\",TEXT(A1624,\"\"),\"\")","v":""},{"$f":"IF(N1624=\"\",\"\",CONCATENATE(IF(C1624<>\"\",TEXT(C1624,\"\"),\"\"),\" - \",IF(K1624<>\"\",TEXT(K1624,\"\"),\"\")))","v":""},{"$f":"SUBSTITUTE(SUBSTITUTE(SUBSTITUTE(SUBSTITUTE(IF(L1624<>\"\",HLink(L1624),\"\"),\"htm\",\"html\"),\"1x2\",\"analysis\"),\"www\",\"data\"),\"com\",\"vip\")","v":""},{"$f":"IF(D1624<>\"\",D1624,\"\")","v":""},{"$f":"IF(E1624<>\"\",E1624,\"\")","v":""},{"$f":"IF(F1624<>\"\",F1624,\"\")","v":""},{"$f":"IF(N1624<>\"\",IF(D1625<>\"\",D1625,D1624),\"\")","v":""},{"$f":"IF(N1624<>\"\",IF(E1625<>\"\",E1625,E1624),\"\")","v":""},{"$f":"IF(N1624<>\"\",IF(F1625<>\"\",F1625,F1624),\"\")","v":""}]
[]
[null,null,null,null,null,null,null,null,null,null,null,null,null,{"$f":"IF(A1626<>\"\",TEXT(A1626,\"\"),\"\")","v":""},{"$f":"IF(N1626=\"\",\"\",CONCATENATE(IF(C1626<>\"\",TEXT(C1626,\"\"),\"\"),\" - \",IF(K1626<>\"\",TEXT(K1626,\"\"),\"\")))","v":""},{"$f":"SUBSTITUTE(SUBSTITUTE(SUBSTITUTE(SUBSTITUTE(IF(L1626<>\"\",HLink(L1626),\"\"),\"htm\",\"html\"),\"1x2\",\"analysis\"),\"www\",\"data\"),\"com\",\"vip\")","v":""},{"$f":"IF(D1626<>\"\",D1626,\"\")","v":""},{"$f":"IF(E1626<>\"\",E1626,\"\")","v":""},{"$f":"IF(F1626<>\"\",F1626,\"\")","v":""},{"$f":"IF(N1626<>\"\",IF(D1627<>\"\",D1627,D1626),\"\")","v":""},{"$f":"IF(N1626<>\"\",IF(E1627<>\"\",E1627,E1626),\"\")","v":""},{"$f":"IF(N1626<>\"\",IF(F1627<>\"\",F1627,F1626),\"\")","v":""}]
[]
[null,null,null,null,null,null,null,null,null,null,null,null,null,{"$f":"IF(A1628<>\"\",TEXT(A1628,\"\"),\"\")","v":""},{"$f":"IF(N1628=\"\",\"\",CONCATENATE(IF(C1628<>\"\",TEXT(C1628,\"\"),\"\"),\" - \",IF(K1628<>\"\",TEXT(K1628,\"\"),\"\")))","v":""},{"$f":"SUBSTITUTE(SUBSTITUTE(SUBSTITUTE(SUBSTITUTE(IF(L1628<>\"\",HLink(L1628),\"\"),\"htm\",\"html\"),\"1x2\",\"analysis\"),\"www\",\"data\"),\"com\",\"vip\")","v":""},{"$f":"IF(D1628<>\"\",D1628,\"\")","v":""},{"$f":"IF(E1628<>\"\",E1628,\"\")","v":""},{"$f":"IF(F1628<>\"\",F1628,\"\")","v":""},{"$f":"IF(N1628<>\"\",IF(D1629<>\"\",D1629,D1628),\"\")","v":""},{"$f":"IF(N1628<>\"\",IF(E1629<>\"\",E1629,E1628),\"\")","v":""},{"$f":"IF(N1628<>\"\",IF(F1629<>\"\",F1629,F1628),\"\")","v":""}]
[]
[null,null,null,null,null,null,null,null,null,null,null,null,null,{"$f":"IF(A1630<>\"\",TEXT(A1630,\"\"),\"\")","v":""},{"$f":"IF(N1630=\"\",\"\",CONCATENATE(IF(C1630<>\"\",TEXT(C1630,\"\"),\"\"),\" - \",IF(K1630<>\"\",TEXT(K1630,\"\"),\"\")))","v":""},{"$f":"SUBSTITUTE(SUBSTITUTE(SUBSTITUTE(SUBSTITUTE(IF(L1630<>\"\",HLink(L1630),\"\"),\"htm\",\"html\"),\"1x2\",\"analysis\"),\"www\",\"data\"),\"com\",\"vip\")","v":""},{"$f":"IF(D1630<>\"\",D1630,\"\")","v":""},{"$f":"IF(E1630<>\"\",E1630,\"\")","v":""},{"$f":"IF(F1630<>\"\",F1630,\"\")","v":""},{"$f":"IF(N1630<>\"\",IF(D1631<>\"\",D1631,D1630),\"\")","v":""},{"$f":"IF(N1630<>\"\",IF(E1631<>\"\",E1631,E1630),\"\")","v":""},{"$f":"IF(N1630<>\"\",IF(F1631<>\"\",F1631,F1630),\"\")","v":""}]
[]
[null,null,null,null,null,null,null,null,null,null,null,null,null,{"$f":"IF(A1632<>\"\",TEXT(A1632,\"\"),\"\")","v":""},{"$f":"IF(N1632=\"\",\"\",CONCATENATE(IF(C1632<>\"\",TEXT(C1632,\"\"),\"\"),\" - \",IF(K1632<>\"\",TEXT(K1632,\"\"),\"\")))","v":""},{"$f":"SUBSTITUTE(SUBSTITUTE(SUBSTITUTE(SUBSTITUTE(IF(L1632<>\"\",HLink(L1632),\"\"),\"htm\",\"html\"),\"1x2\",\"analysis\"),\"www\",\"data\"),\"com\",\"vip\")","v":""},{"$f":"IF(D1632<>\"\",D1632,\"\")","v":""},{"$f":"IF(E1632<>\"\",E1632,\"\")","v":""},{"$f":"IF(F1632<>\"\",F1632,\"\")","v":""},{"$f":"IF(N1632<>\"\",IF(D1633<>\"\",D1633,D1632),\"\")","v":""},{"$f":"IF(N1632<>\"\",IF(E1633<>\"\",E1633,E1632),\"\")","v":""},{"$f":"IF(N1632<>\"\",IF(F1633<>\"\",F1633,F1632),\"\")","v":""}]
[]
[null,null,null,null,null,null,null,null,null,null,null,null,null,{"$f":"IF(A1634<>\"\",TEXT(A1634,\"\"),\"\")","v":""},{"$f":"IF(N1634=\"\",\"\",CONCATENATE(IF(C1634<>\"\",TEXT(C1634,\"\"),\"\"),\" - \",IF(K1634<>\"\",TEXT(K1634,\"\"),\"\")))","v":""},{"$f":"SUBSTITUTE(SUBSTITUTE(SUBSTITUTE(SUBSTITUTE(IF(L1634<>\"\",HLink(L1634),\"\"),\"htm\",\"html\"),\"1x2\",\"analysis\"),\"www\",\"data\"),\"com\",\"vip\")","v":""},{"$f":"IF(D1634<>\"\",D1634,\"\")","v":""},{"$f":"IF(E1634<>\"\",E1634,\"\")","v":""},{"$f":"IF(F1634<>\"\",F1634,\"\")","v":""},{"$f":"IF(N1634<>\"\",IF(D1635<>\"\",D1635,D1634),\"\")","v":""},{"$f":"IF(N1634<>\"\",IF(E1635<>\"\",E1635,E1634),\"\")","v":""},{"$f":"IF(N1634<>\"\",IF(F1635<>\"\",F1635,F1634),\"\")","v":""}]
[]
[null,null,null,null,null,null,null,null,null,null,null,null,null,{"$f":"IF(A1636<>\"\",TEXT(A1636,\"\"),\"\")","v":""},{"$f":"IF(N1636=\"\",\"\",CONCATENATE(IF(C1636<>\"\",TEXT(C1636,\"\"),\"\"),\" - \",IF(K1636<>\"\",TEXT(K1636,\"\"),\"\")))","v":""},{"$f":"SUBSTITUTE(SUBSTITUTE(SUBSTITUTE(SUBSTITUTE(IF(L1636<>\"\",HLink(L1636),\"\"),\"htm\",\"html\"),\"1x2\",\"analysis\"),\"www\",\"data\"),\"com\",\"vip\")","v":""},{"$f":"IF(D1636<>\"\",D1636,\"\")","v":""},{"$f":"IF(E1636<>\"\",E1636,\"\")","v":""},{"$f":"IF(F1636<>\"\",F1636,\"\")","v":""},{"$f":"IF(N1636<>\"\",IF(D1637<>\"\",D1637,D1636),\"\")","v":""},{"$f":"IF(N1636<>\"\",IF(E1637<>\"\",E1637,E1636),\"\")","v":""},{"$f":"IF(N1636<>\"\",IF(F1637<>\"\",F1637,F1636),\"\")","v":""}]
[]
[null,null,null,null,null,null,null,null,null,null,null,null,null,{"$f":"IF(A1638<>\"\",TEXT(A1638,\"\"),\"\")","v":""},{"$f":"IF(N1638=\"\",\"\",CONCATENATE(IF(C1638<>\"\",TEXT(C1638,\"\"),\"\"),\" - \",IF(K1638<>\"\",TEXT(K1638,\"\"),\"\")))","v":""},{"$f":"SUBSTITUTE(SUBSTITUTE(SUBSTITUTE(SUBSTITUTE(IF(L1638<>\"\",HLink(L1638),\"\"),\"htm\",\"html\"),\"1x2\",\"analysis\"),\"www\",\"data\"),\"com\",\"vip\")","v":""},{"$f":"IF(D1638<>\"\",D1638,\"\")","v":""},{"$f":"IF(E1638<>\"\",E1638,\"\")","v":""},{"$f":"IF(F1638<>\"\",F1638,\"\")","v":""},{"$f":"IF(N1638<>\"\",IF(D1639<>\"\",D1639,D1638),\"\")","v":""},{"$f":"IF(N1638<>\"\",IF(E1639<>\"\",E1639,E1638),\"\")","v":""},{"$f":"IF(N1638<>\"\",IF(F1639<>\"\",F1639,F1638),\"\")","v":""}]
[]
[null,null,null,null,null,null,null,null,null,null,null,null,null,{"$f":"IF(A1640<>\"\",TEXT(A1640,\"\"),\"\")","v":""},{"$f":"IF(N1640=\"\",\"\",CONCATENATE(IF(C1640<>\"\",TEXT(C1640,\"\"),\"\"),\" - \",IF(K1640<>\"\",TEXT(K1640,\"\"),\"\")))","v":""},{"$f":"SUBSTITUTE(SUBSTITUTE(SUBSTITUTE(SUBSTITUTE(IF(L1640<>\"\",HLink(L1640),\"\"),\"htm\",\"html\"),\"1x2\",\"analysis\"),\"www\",\"data\"),\"com\",\"vip\")","v":""},{"$f":"IF(D1640<>\"\",D1640,\"\")","v":""},{"$f":"IF(E1640<>\"\",E1640,\"\")","v":""},{"$f":"IF(F1640<>\"\",F1640,\"\")","v":""},{"$f":"IF(N1640<>\"\",IF(D1641<>\"\",D1641,D1640),\"\")","v":""},{"$f":"IF(N1640<>\"\",IF(E1641<>\"\",E1641,E1640),\"\")","v":""},{"$f":"IF(N1640<>\"\",IF(F1641<>\"\",F1641,F1640),\"\")","v":""}]
[]
[null,null,null,null,null,null,null,null,null,null,null,null,null,{"$f":"IF(A1642<>\"\",TEXT(A1642,\"\"),\"\")","v":""},{"$f":"IF(N1642=\"\",\"\",CONCATENATE(IF(C1642<>\"\",TEXT(C1642,\"\"),\"\"),\" - \",IF(K1642<>\"\",TEXT(K1642,\"\"),\"\")))","v":""},{"$f":"SUBSTITUTE(SUBSTITUTE(SUBSTITUTE(SUBSTITUTE(IF(L1642<>\"\",HLink(L1642),\"\"),\"htm\",\"html\"),\"1x2\",\"analysis\"),\"www\",\"data\"),\"com\",\"vip\")","v":""},{"$f":"IF(D1642<>\"\",D1642,\"\")","v":""},{"$f":"IF(E1642<>\"\",E1642,\"\")","v":""},{"$f":"IF(F1642<>\"\",F1642,\"\")","v":""},{"$f":"IF(N1642<>\"\",IF(D1643<>\"\",D1643,D1642),\"\")","v":""},{"$f":"IF(N1642<>\"\",IF(E1643<>\"\",E1643,E1642),\"\")","v":""},{"$f":"IF(N1642<>\"\",IF(F1643<>\"\",F1643,F1642),\"\")","v":""}]
[]
[null,null,null,null,null,null,null,null,null,null,null,null,null,{"$f":"IF(A1644<>\"\",TEXT(A1644,\"\"),\"\")","v":""},{"$f":"IF(N1644=\"\",\"\",CONCATENATE(IF(C1644<>\"\",TEXT(C1644,\"\"),\"\"),\" - \",IF(K1644<>\"\",TEXT(K1644,\"\"),\"\")))","v":""},{"$f":"SUBSTITUTE(SUBSTITUTE(SUBSTITUTE(SUBSTITUTE(IF(L1644<>\"\",HLink(L1644),\"\"),\"htm\",\"html\"),\"1x2\",\"analysis\"),\"www\",\"data\"),\"com\",\"vip\")","v":""},{"$f":"IF(D1644<>\"\",D1644,\"\")","v":""},{"$f":"IF(E1644<>\"\",E1644,\"\")","v":""},{"$f":"IF(F1644<>\"\",F1644,\"\")","v":""},{"$f":"IF(N1644<>\"\",IF(D1645<>\"\",D1645,D1644),\"\")","v":""},{"$f":"IF(N1644<>\"\",IF(E1645<>\"\",E1645,E1644),\"\")","v":""},{"$f":"IF(N1644<>\"\",IF(F1645<>\"\",F1645,F1644),\"\")","v":""}]
[]
[null,null,null,null,null,null,null,null,null,null,null,null,null,{"$f":"IF(A1646<>\"\",TEXT(A1646,\"\"),\"\")","v":""},{"$f":"IF(N1646=\"\",\"\",CONCATENATE(IF(C1646<>\"\",TEXT(C1646,\"\"),\"\"),\" - \",IF(K1646<>\"\",TEXT(K1646,\"\"),\"\")))","v":""},{"$f":"SUBSTITUTE(SUBSTITUTE(SUBSTITUTE(SUBSTITUTE(IF(L1646<>\"\",HLink(L1646),\"\"),\"htm\",\"html\"),\"1x2\",\"analysis\"),\"www\",\"data\"),\"com\",\"vip\")","v":""},{"$f":"IF(D1646<>\"\",D1646,\"\")","v":""},{"$f":"IF(E1646<>\"\",E1646,\"\")","v":""},{"$f":"IF(F1646<>\"\",F1646,\"\")","v":""},{"$f":"IF(N1646<>\"\",IF(D1647<>\"\",D1647,D1646),\"\")","v":""},{"$f":"IF(N1646<>\"\",IF(E1647<>\"\",E1647,E1646),\"\")","v":""},{"$f":"IF(N1646<>\"\",IF(F1647<>\"\",F1647,F1646),\"\")","v":""}]
[]
[null,null,null,null,null,null,null,null,null,null,null,null,null,{"$f":"IF(A1648<>\"\",TEXT(A1648,\"\"),\"\")","v":""},{"$f":"IF(N1648=\"\",\"\",CONCATENATE(IF(C1648<>\"\",TEXT(C1648,\"\"),\"\"),\" - \",IF(K1648<>\"\",TEXT(K1648,\"\"),\"\")))","v":""},{"$f":"SUBSTITUTE(SUBSTITUTE(SUBSTITUTE(SUBSTITUTE(IF(L1648<>\"\",HLink(L1648),\"\"),\"htm\",\"html\"),\"1x2\",\"analysis\"),\"www\",\"data\"),\"com\",\"vip\")","v":""},{"$f":"IF(D1648<>\"\",D1648,\"\")","v":""},{"$f":"IF(E1648<>\"\",E1648,\"\")","v":""},{"$f":"IF(F1648<>\"\",F1648,\"\")","v":""},{"$f":"IF(N1648<>\"\",IF(D1649<>\"\",D1649,D1648),\"\")","v":""},{"$f":"IF(N1648<>\"\",IF(E1649<>\"\",E1649,E1648),\"\")","v":""},{"$f":"IF(N1648<>\"\",IF(F1649<>\"\",F1649,F1648),\"\")","v":""}]
[]
[null,null,null,null,null,null,null,null,null,null,null,null,null,{"$f":"IF(A1650<>\"\",TEXT(A1650,\"\"),\"\")","v":""},{"$f":"IF(N1650=\"\",\"\",CONCATENATE(IF(C1650<>\"\",TEXT(C1650,\"\"),\"\"),\" - \",IF(K1650<>\"\",TEXT(K1650,\"\"),\"\")))","v":""},{"$f":"SUBSTITUTE(SUBSTITUTE(SUBSTITUTE(SUBSTITUTE(IF(L1650<>\"\",HLink(L1650),\"\"),\"htm\",\"html\"),\"1x2\",\"analysis\"),\"www\",\"data\"),\"com\",\"vip\")","v":""},{"$f":"IF(D1650<>\"\",D1650,\"\")","v":""},{"$f":"IF(E1650<>\"\",E1650,\"\")","v":""},{"$f":"IF(F1650<>\"\",F1650,\"\")","v":""},{"$f":"IF(N1650<>\"\",IF(D1651<>\"\",D1651,D1650),\"\")","v":""},{"$f":"IF(N1650<>\"\",IF(E1651<>\"\",E1651,E1650),\"\")","v":""},{"$f":"IF(N1650<>\"\",IF(F1651<>\"\",F1651,F1650),\"\")","v":""}]
[]
[null,null,null,null,null,null,null,null,null,null,null,null,null,{"$f":"IF(A1652<>\"\",TEXT(A1652,\"\"),\"\")","v":""},{"$f":"IF(N1652=\"\",\"\",CONCATENATE(IF(C1652<>\"\",TEXT(C1652,\"\"),\"\"),\" - \",IF(K1652<>\"\",TEXT(K1652,\"\"),\"\")))","v":""},{"$f":"SUBSTITUTE(SUBSTITUTE(SUBSTITUTE(SUBSTITUTE(IF(L1652<>\"\",HLink(L1652),\"\"),\"htm\",\"html\"),\"1x2\",\"analysis\"),\"www\",\"data\"),\"com\",\"vip\")","v":""},{"$f":"IF(D1652<>\"\",D1652,\"\")","v":""},{"$f":"IF(E1652<>\"\",E1652,\"\")","v":""},{"$f":"IF(F1652<>\"\",F1652,\"\")","v":""},{"$f":"IF(N1652<>\"\",IF(D1653<>\"\",D1653,D1652),\"\")","v":""},{"$f":"IF(N1652<>\"\",IF(E1653<>\"\",E1653,E1652),\"\")","v":""},{"$f":"IF(N1652<>\"\",IF(F1653<>\"\",F1653,F1652),\"\")","v":""}]
[]
[null,null,null,null,null,null,null,null,null,null,null,null,null,{"$f":"IF(A1654<>\"\",TEXT(A1654,\"\"),\"\")","v":""},{"$f":"IF(N1654=\"\",\"\",CONCATENATE(IF(C1654<>\"\",TEXT(C1654,\"\"),\"\"),\" - \",IF(K1654<>\"\",TEXT(K1654,\"\"),\"\")))","v":""},{"$f":"SUBSTITUTE(SUBSTITUTE(SUBSTITUTE(SUBSTITUTE(IF(L1654<>\"\",HLink(L1654),\"\"),\"htm\",\"html\"),\"1x2\",\"analysis\"),\"www\",\"data\"),\"com\",\"vip\")","v":""},{"$f":"IF(D1654<>\"\",D1654,\"\")","v":""},{"$f":"IF(E1654<>\"\",E1654,\"\")","v":""},{"$f":"IF(F1654<>\"\",F1654,\"\")","v":""},{"$f":"IF(N1654<>\"\",IF(D1655<>\"\",D1655,D1654),\"\")","v":""},{"$f":"IF(N1654<>\"\",IF(E1655<>\"\",E1655,E1654),\"\")","v":""},{"$f":"IF(N1654<>\"\",IF(F1655<>\"\",F1655,F1654),\"\")","v":""}]
[]
[null,null,null,null,null,null,null,null,null,null,null,null,null,{"$f":"IF(A1656<>\"\",TEXT(A1656,\"\"),\"\")","v":""},{"$f":"IF(N1656=\"\",\"\",CONCATENATE(IF(C1656<>\"\",TEXT(C1656,\"\"),\"\"),\" - \",IF(K1656<>\"\",TEXT(K1656,\"\"),\"\")))","v":""},{"$f":"SUBSTITUTE(SUBSTITUTE(SUBSTITUTE(SUBSTITUTE(IF(L1656<>\"\",HLink(L1656),\"\"),\"htm\",\"html\"),\"1x2\",\"analysis\"),\"www\",\"data\"),\"com\",\"vip\")","v":""},{"$f":"IF(D1656<>\"\",D1656,\"\")","v":""},{"$f":"IF(E1656<>\"\",E1656,\"\")","v":""},{"$f":"IF(F1656<>\"\",F1656,\"\")","v":""},{"$f":"IF(N1656<>\"\",IF(D1657<>\"\",D1657,D1656),\"\")","v":""},{"$f":"IF(N1656<>\"\",IF(E1657<>\"\",E1657,E1656),\"\")","v":""},{"$f":"IF(N1656<>\"\",IF(F1657<>\"\",F1657,F1656),\"\")","v":""}]
[]
[null,null,null,null,null,null,null,null,null,null,null,null,null,{"$f":"IF(A1658<>\"\",TEXT(A1658,\"\"),\"\")","v":""},{"$f":"IF(N1658=\"\",\"\",CONCATENATE(IF(C1658<>\"\",TEXT(C1658,\"\"),\"\"),\" - \",IF(K1658<>\"\",TEXT(K1658,\"\"),\"\")))","v":""},{"$f":"SUBSTITUTE(SUBSTITUTE(SUBSTITUTE(SUBSTITUTE(IF(L1658<>\"\",HLink(L1658),\"\"),\"htm\",\"html\"),\"1x2\",\"analysis\"),\"www\",\"data\"),\"com\",\"vip\")","v":""},{"$f":"IF(D1658<>\"\",D1658,\"\")","v":""},{"$f":"IF(E1658<>\"\",E1658,\"\")","v":""},{"$f":"IF(F1658<>\"\",F1658,\"\")","v":""},{"$f":"IF(N1658<>\"\",IF(D1659<>\"\",D1659,D1658),\"\")","v":""},{"$f":"IF(N1658<>\"\",IF(E1659<>\"\",E1659,E1658),\"\")","v":""},{"$f":"IF(N1658<>\"\",IF(F1659<>\"\",F1659,F1658),\"\")","v":""}]
[]
[null,null,null,null,null,null,null,null,null,null,null,null,null,{"$f":"IF(A1660<>\"\",TEXT(A1660,\"\"),\"\")","v":""},{"$f":"IF(N1660=\"\",\"\",CONCATENATE(IF(C1660<>\"\",TEXT(C1660,\"\"),\"\"),\" - \",IF(K1660<>\"\",TEXT(K1660,\"\"),\"\")))","v":""},{"$f":"SUBSTITUTE(SUBSTITUTE(SUBSTITUTE(SUBSTITUTE(IF(L1660<>\"\",HLink(L1660),\"\"),\"htm\",\"html\"),\"1x2\",\"analysis\"),\"www\",\"data\"),\"com\",\"vip\")","v":""},{"$f":"IF(D1660<>\"\",D1660,\"\")","v":""},{"$f":"IF(E1660<>\"\",E1660,\"\")","v":""},{"$f":"IF(F1660<>\"\",F1660,\"\")","v":""},{"$f":"IF(N1660<>\"\",IF(D1661<>\"\",D1661,D1660),\"\")","v":""},{"$f":"IF(N1660<>\"\",IF(E1661<>\"\",E1661,E1660),\"\")","v":""},{"$f":"IF(N1660<>\"\",IF(F1661<>\"\",F1661,F1660),\"\")","v":""}]
[]
[null,null,null,null,null,null,null,null,null,null,null,null,null,{"$f":"IF(A1662<>\"\",TEXT(A1662,\"\"),\"\")","v":""},{"$f":"IF(N1662=\"\",\"\",CONCATENATE(IF(C1662<>\"\",TEXT(C1662,\"\"),\"\"),\" - \",IF(K1662<>\"\",TEXT(K1662,\"\"),\"\")))","v":""},{"$f":"SUBSTITUTE(SUBSTITUTE(SUBSTITUTE(SUBSTITUTE(IF(L1662<>\"\",HLink(L1662),\"\"),\"htm\",\"html\"),\"1x2\",\"analysis\"),\"www\",\"data\"),\"com\",\"vip\")","v":""},{"$f":"IF(D1662<>\"\",D1662,\"\")","v":""},{"$f":"IF(E1662<>\"\",E1662,\"\")","v":""},{"$f":"IF(F1662<>\"\",F1662,\"\")","v":""},{"$f":"IF(N1662<>\"\",IF(D1663<>\"\",D1663,D1662),\"\")","v":""},{"$f":"IF(N1662<>\"\",IF(E1663<>\"\",E1663,E1662),\"\")","v":""},{"$f":"IF(N1662<>\"\",IF(F1663<>\"\",F1663,F1662),\"\")","v":""}]
[]
[null,null,null,null,null,null,null,null,null,null,null,null,null,{"$f":"IF(A1664<>\"\",TEXT(A1664,\"\"),\"\")","v":""},{"$f":"IF(N1664=\"\",\"\",CONCATENATE(IF(C1664<>\"\",TEXT(C1664,\"\"),\"\"),\" - \",IF(K1664<>\"\",TEXT(K1664,\"\"),\"\")))","v":""},{"$f":"SUBSTITUTE(SUBSTITUTE(SUBSTITUTE(SUBSTITUTE(IF(L1664<>\"\",HLink(L1664),\"\"),\"htm\",\"html\"),\"1x2\",\"analysis\"),\"www\",\"data\"),\"com\",\"vip\")","v":""},{"$f":"IF(D1664<>\"\",D1664,\"\")","v":""},{"$f":"IF(E1664<>\"\",E1664,\"\")","v":""},{"$f":"IF(F1664<>\"\",F1664,\"\")","v":""},{"$f":"IF(N1664<>\"\",IF(D1665<>\"\",D1665,D1664),\"\")","v":""},{"$f":"IF(N1664<>\"\",IF(E1665<>\"\",E1665,E1664),\"\")","v":""},{"$f":"IF(N1664<>\"\",IF(F1665<>\"\",F1665,F1664),\"\")","v":""}]
[]
[null,null,null,null,null,null,null,null,null,null,null,null,null,{"$f":"IF(A1666<>\"\",TEXT(A1666,\"\"),\"\")","v":""},{"$f":"IF(N1666=\"\",\"\",CONCATENATE(IF(C1666<>\"\",TEXT(C1666,\"\"),\"\"),\" - \",IF(K1666<>\"\",TEXT(K1666,\"\"),\"\")))","v":""},{"$f":"SUBSTITUTE(SUBSTITUTE(SUBSTITUTE(SUBSTITUTE(IF(L1666<>\"\",HLink(L1666),\"\"),\"htm\",\"html\"),\"1x2\",\"analysis\"),\"www\",\"data\"),\"com\",\"vip\")","v":""},{"$f":"IF(D1666<>\"\",D1666,\"\")","v":""},{"$f":"IF(E1666<>\"\",E1666,\"\")","v":""},{"$f":"IF(F1666<>\"\",F1666,\"\")","v":""},{"$f":"IF(N1666<>\"\",IF(D1667<>\"\",D1667,D1666),\"\")","v":""},{"$f":"IF(N1666<>\"\",IF(E1667<>\"\",E1667,E1666),\"\")","v":""},{"$f":"IF(N1666<>\"\",IF(F1667<>\"\",F1667,F1666),\"\")","v":""}]
[]
[null,null,null,null,null,null,null,null,null,null,null,null,null,{"$f":"IF(A1668<>\"\",TEXT(A1668,\"\"),\"\")","v":""},{"$f":"IF(N1668=\"\",\"\",CONCATENATE(IF(C1668<>\"\",TEXT(C1668,\"\"),\"\"),\" - \",IF(K1668<>\"\",TEXT(K1668,\"\"),\"\")))","v":""},{"$f":"SUBSTITUTE(SUBSTITUTE(SUBSTITUTE(SUBSTITUTE(IF(L1668<>\"\",HLink(L1668),\"\"),\"htm\",\"html\"),\"1x2\",\"analysis\"),\"www\",\"data\"),\"com\",\"vip\")","v":""},{"$f":"IF(D1668<>\"\",D1668,\"\")","v":""},{"$f":"IF(E1668<>\"\",E1668,\"\")","v":""},{"$f":"IF(F1668<>\"\",F1668,\"\")","v":""},{"$f":"IF(N1668<>\"\",IF(D1669<>\"\",D1669,D1668),\"\")","v":""},{"$f":"IF(N1668<>\"\",IF(E1669<>\"\",E1669,E1668),\"\")","v":""},{"$f":"IF(N1668<>\"\",IF(F1669<>\"\",F1669,F1668),\"\")","v":""}]
[]
[null,null,null,null,null,null,null,null,null,null,null,null,null,{"$f":"IF(A1670<>\"\",TEXT(A1670,\"\"),\"\")","v":""},{"$f":"IF(N1670=\"\",\"\",CONCATENATE(IF(C1670<>\"\",TEXT(C1670,\"\"),\"\"),\" - \",IF(K1670<>\"\",TEXT(K1670,\"\"),\"\")))","v":""},{"$f":"SUBSTITUTE(SUBSTITUTE(SUBSTITUTE(SUBSTITUTE(IF(L1670<>\"\",HLink(L1670),\"\"),\"htm\",\"html\"),\"1x2\",\"analysis\"),\"www\",\"data\"),\"com\",\"vip\")","v":""},{"$f":"IF(D1670<>\"\",D1670,\"\")","v":""},{"$f":"IF(E1670<>\"\",E1670,\"\")","v":""},{"$f":"IF(F1670<>\"\",F1670,\"\")","v":""},{"$f":"IF(N1670<>\"\",IF(D1671<>\"\",D1671,D1670),\"\")","v":""},{"$f":"IF(N1670<>\"\",IF(E1671<>\"\",E1671,E1670),\"\")","v":""},{"$f":"IF(N1670<>\"\",IF(F1671<>\"\",F1671,F1670),\"\")","v":""}]
[]
[null,null,null,null,null,null,null,null,null,null,null,null,null,{"$f":"IF(A1672<>\"\",TEXT(A1672,\"\"),\"\")","v":""},{"$f":"IF(N1672=\"\",\"\",CONCATENATE(IF(C1672<>\"\",TEXT(C1672,\"\"),\"\"),\" - \",IF(K1672<>\"\",TEXT(K1672,\"\"),\"\")))","v":""},{"$f":"SUBSTITUTE(SUBSTITUTE(SUBSTITUTE(SUBSTITUTE(IF(L1672<>\"\",HLink(L1672),\"\"),\"htm\",\"html\"),\"1x2\",\"analysis\"),\"www\",\"data\"),\"com\",\"vip\")","v":""},{"$f":"IF(D1672<>\"\",D1672,\"\")","v":""},{"$f":"IF(E1672<>\"\",E1672,\"\")","v":""},{"$f":"IF(F1672<>\"\",F1672,\"\")","v":""},{"$f":"IF(N1672<>\"\",IF(D1673<>\"\",D1673,D1672),\"\")","v":""},{"$f":"IF(N1672<>\"\",IF(E1673<>\"\",E1673,E1672),\"\")","v":""},{"$f":"IF(N1672<>\"\",IF(F1673<>\"\",F1673,F1672),\"\")","v":""}]
[]
[null,null,null,null,null,null,null,null,null,null,null,null,null,{"$f":"IF(A1674<>\"\",TEXT(A1674,\"\"),\"\")","v":""},{"$f":"IF(N1674=\"\",\"\",CONCATENATE(IF(C1674<>\"\",TEXT(C1674,\"\"),\"\"),\" - \",IF(K1674<>\"\",TEXT(K1674,\"\"),\"\")))","v":""},{"$f":"SUBSTITUTE(SUBSTITUTE(SUBSTITUTE(SUBSTITUTE(IF(L1674<>\"\",HLink(L1674),\"\"),\"htm\",\"html\"),\"1x2\",\"analysis\"),\"www\",\"data\"),\"com\",\"vip\")","v":""},{"$f":"IF(D1674<>\"\",D1674,\"\")","v":""},{"$f":"IF(E1674<>\"\",E1674,\"\")","v":""},{"$f":"IF(F1674<>\"\",F1674,\"\")","v":""},{"$f":"IF(N1674<>\"\",IF(D1675<>\"\",D1675,D1674),\"\")","v":""},{"$f":"IF(N1674<>\"\",IF(E1675<>\"\",E1675,E1674),\"\")","v":""},{"$f":"IF(N1674<>\"\",IF(F1675<>\"\",F1675,F1674),\"\")","v":""}]
[]
[null,null,null,null,null,null,null,null,null,null,null,null,null,{"$f":"IF(A1676<>\"\",TEXT(A1676,\"\"),\"\")","v":""},{"$f":"IF(N1676=\"\",\"\",CONCATENATE(IF(C1676<>\"\",TEXT(C1676,\"\"),\"\"),\" - \",IF(K1676<>\"\",TEXT(K1676,\"\"),\"\")))","v":""},{"$f":"SUBSTITUTE(SUBSTITUTE(SUBSTITUTE(SUBSTITUTE(IF(L1676<>\"\",HLink(L1676),\"\"),\"htm\",\"html\"),\"1x2\",\"analysis\"),\"www\",\"data\"),\"com\",\"vip\")","v":""},{"$f":"IF(D1676<>\"\",D1676,\"\")","v":""},{"$f":"IF(E1676<>\"\",E1676,\"\")","v":""},{"$f":"IF(F1676<>\"\",F1676,\"\")","v":""},{"$f":"IF(N1676<>\"\",IF(D1677<>\"\",D1677,D1676),\"\")","v":""},{"$f":"IF(N1676<>\"\",IF(E1677<>\"\",E1677,E1676),\"\")","v":""},{"$f":"IF(N1676<>\"\",IF(F1677<>\"\",F1677,F1676),\"\")","v":""}]
[]
[null,null,null,null,null,null,null,null,null,null,null,null,null,{"$f":"IF(A1678<>\"\",TEXT(A1678,\"\"),\"\")","v":""},{"$f":"IF(N1678=\"\",\"\",CONCATENATE(IF(C1678<>\"\",TEXT(C1678,\"\"),\"\"),\" - \",IF(K1678<>\"\",TEXT(K1678,\"\"),\"\")))","v":""},{"$f":"SUBSTITUTE(SUBSTITUTE(SUBSTITUTE(SUBSTITUTE(IF(L1678<>\"\",HLink(L1678),\"\"),\"htm\",\"html\"),\"1x2\",\"analysis\"),\"www\",\"data\"),\"com\",\"vip\")","v":""},{"$f":"IF(D1678<>\"\",D1678,\"\")","v":""},{"$f":"IF(E1678<>\"\",E1678,\"\")","v":""},{"$f":"IF(F1678<>\"\",F1678,\"\")","v":""},{"$f":"IF(N1678<>\"\",IF(D1679<>\"\",D1679,D1678),\"\")","v":""},{"$f":"IF(N1678<>\"\",IF(E1679<>\"\",E1679,E1678),\"\")","v":""},{"$f":"IF(N1678<>\"\",IF(F1679<>\"\",F1679,F1678),\"\")","v":""}]
[]
[null,null,null,null,null,null,null,null,null,null,null,null,null,{"$f":"IF(A1680<>\"\",TEXT(A1680,\"\"),\"\")","v":""},{"$f":"IF(N1680=\"\",\"\",CONCATENATE(IF(C1680<>\"\",TEXT(C1680,\"\"),\"\"),\" - \",IF(K1680<>\"\",TEXT(K1680,\"\"),\"\")))","v":""},{"$f":"SUBSTITUTE(SUBSTITUTE(SUBSTITUTE(SUBSTITUTE(IF(L1680<>\"\",HLink(L1680),\"\"),\"htm\",\"html\"),\"1x2\",\"analysis\"),\"www\",\"data\"),\"com\",\"vip\")","v":""},{"$f":"IF(D1680<>\"\",D1680,\"\")","v":""},{"$f":"IF(E1680<>\"\",E1680,\"\")","v":""},{"$f":"IF(F1680<>\"\",F1680,\"\")","v":""},{"$f":"IF(N1680<>\"\",IF(D1681<>\"\",D1681,D1680),\"\")","v":""},{"$f":"IF(N1680<>\"\",IF(E1681<>\"\",E1681,E1680),\"\")","v":""},{"$f":"IF(N1680<>\"\",IF(F1681<>\"\",F1681,F1680),\"\")","v":""}]
[]
[null,null,null,null,null,null,null,null,null,null,null,null,null,{"$f":"IF(A1682<>\"\",TEXT(A1682,\"\"),\"\")","v":""},{"$f":"IF(N1682=\"\",\"\",CONCATENATE(IF(C1682<>\"\",TEXT(C1682,\"\"),\"\"),\" - \",IF(K1682<>\"\",TEXT(K1682,\"\"),\"\")))","v":""},{"$f":"SUBSTITUTE(SUBSTITUTE(SUBSTITUTE(SUBSTITUTE(IF(L1682<>\"\",HLink(L1682),\"\"),\"htm\",\"html\"),\"1x2\",\"analysis\"),\"www\",\"data\"),\"com\",\"vip\")","v":""},{"$f":"IF(D1682<>\"\",D1682,\"\")","v":""},{"$f":"IF(E1682<>\"\",E1682,\"\")","v":""},{"$f":"IF(F1682<>\"\",F1682,\"\")","v":""},{"$f":"IF(N1682<>\"\",IF(D1683<>\"\",D1683,D1682),\"\")","v":""},{"$f":"IF(N1682<>\"\",IF(E1683<>\"\",E1683,E1682),\"\")","v":""},{"$f":"IF(N1682<>\"\",IF(F1683<>\"\",F1683,F1682),\"\")","v":""}]
[]
[null,null,null,null,null,null,null,null,null,null,null,null,null,{"$f":"IF(A1684<>\"\",TEXT(A1684,\"\"),\"\")","v":""},{"$f":"IF(N1684=\"\",\"\",CONCATENATE(IF(C1684<>\"\",TEXT(C1684,\"\"),\"\"),\" - \",IF(K1684<>\"\",TEXT(K1684,\"\"),\"\")))","v":""},{"$f":"SUBSTITUTE(SUBSTITUTE(SUBSTITUTE(SUBSTITUTE(IF(L1684<>\"\",HLink(L1684),\"\"),\"htm\",\"html\"),\"1x2\",\"analysis\"),\"www\",\"data\"),\"com\",\"vip\")","v":""},{"$f":"IF(D1684<>\"\",D1684,\"\")","v":""},{"$f":"IF(E1684<>\"\",E1684,\"\")","v":""},{"$f":"IF(F1684<>\"\",F1684,\"\")","v":""},{"$f":"IF(N1684<>\"\",IF(D1685<>\"\",D1685,D1684),\"\")","v":""},{"$f":"IF(N1684<>\"\",IF(E1685<>\"\",E1685,E1684),\"\")","v":""},{"$f":"IF(N1684<>\"\",IF(F1685<>\"\",F1685,F1684),\"\")","v":""}]
[]
[null,null,null,null,null,null,null,null,null,null,null,null,null,{"$f":"IF(A1686<>\"\",TEXT(A1686,\"\"),\"\")","v":""},{"$f":"IF(N1686=\"\",\"\",CONCATENATE(IF(C1686<>\"\",TEXT(C1686,\"\"),\"\"),\" - \",IF(K1686<>\"\",TEXT(K1686,\"\"),\"\")))","v":""},{"$f":"SUBSTITUTE(SUBSTITUTE(SUBSTITUTE(SUBSTITUTE(IF(L1686<>\"\",HLink(L1686),\"\"),\"htm\",\"html\"),\"1x2\",\"analysis\"),\"www\",\"data\"),\"com\",\"vip\")","v":""},{"$f":"IF(D1686<>\"\",D1686,\"\")","v":""},{"$f":"IF(E1686<>\"\",E1686,\"\")","v":""},{"$f":"IF(F1686<>\"\",F1686,\"\")","v":""},{"$f":"IF(N1686<>\"\",IF(D1687<>\"\",D1687,D1686),\"\")","v":""},{"$f":"IF(N1686<>\"\",IF(E1687<>\"\",E1687,E1686),\"\")","v":""},{"$f":"IF(N1686<>\"\",IF(F1687<>\"\",F1687,F1686),\"\")","v":""}]
[]
[null,null,null,null,null,null,null,null,null,null,null,null,null,{"$f":"IF(A1688<>\"\",TEXT(A1688,\"\"),\"\")","v":""},{"$f":"IF(N1688=\"\",\"\",CONCATENATE(IF(C1688<>\"\",TEXT(C1688,\"\"),\"\"),\" - \",IF(K1688<>\"\",TEXT(K1688,\"\"),\"\")))","v":""},{"$f":"SUBSTITUTE(SUBSTITUTE(SUBSTITUTE(SUBSTITUTE(IF(L1688<>\"\",HLink(L1688),\"\"),\"htm\",\"html\"),\"1x2\",\"analysis\"),\"www\",\"data\"),\"com\",\"vip\")","v":""},{"$f":"IF(D1688<>\"\",D1688,\"\")","v":""},{"$f":"IF(E1688<>\"\",E1688,\"\")","v":""},{"$f":"IF(F1688<>\"\",F1688,\"\")","v":""},{"$f":"IF(N1688<>\"\",IF(D1689<>\"\",D1689,D1688),\"\")","v":""},{"$f":"IF(N1688<>\"\",IF(E1689<>\"\",E1689,E1688),\"\")","v":""},{"$f":"IF(N1688<>\"\",IF(F1689<>\"\",F1689,F1688),\"\")","v":""}]
[]
[null,null,null,null,null,null,null,null,null,null,null,null,null,{"$f":"IF(A1690<>\"\",TEXT(A1690,\"\"),\"\")","v":""},{"$f":"IF(N1690=\"\",\"\",CONCATENATE(IF(C1690<>\"\",TEXT(C1690,\"\"),\"\"),\" - \",IF(K1690<>\"\",TEXT(K1690,\"\"),\"\")))","v":""},{"$f":"SUBSTITUTE(SUBSTITUTE(SUBSTITUTE(SUBSTITUTE(IF(L1690<>\"\",HLink(L1690),\"\"),\"htm\",\"html\"),\"1x2\",\"analysis\"),\"www\",\"data\"),\"com\",\"vip\")","v":""},{"$f":"IF(D1690<>\"\",D1690,\"\")","v":""},{"$f":"IF(E1690<>\"\",E1690,\"\")","v":""},{"$f":"IF(F1690<>\"\",F1690,\"\")","v":""},{"$f":"IF(N1690<>\"\",IF(D1691<>\"\",D1691,D1690),\"\")","v":""},{"$f":"IF(N1690<>\"\",IF(E1691<>\"\",E1691,E1690),\"\")","v":""},{"$f":"IF(N1690<>\"\",IF(F1691<>\"\",F1691,F1690),\"\")","v":""}]
[]
[null,null,null,null,null,null,null,null,null,null,null,null,null,{"$f":"IF(A1692<>\"\",TEXT(A1692,\"\"),\"\")","v":""},{"$f":"IF(N1692=\"\",\"\",CONCATENATE(IF(C1692<>\"\",TEXT(C1692,\"\"),\"\"),\" - \",IF(K1692<>\"\",TEXT(K1692,\"\"),\"\")))","v":""},{"$f":"SUBSTITUTE(SUBSTITUTE(SUBSTITUTE(SUBSTITUTE(IF(L1692<>\"\",HLink(L1692),\"\"),\"htm\",\"html\"),\"1x2\",\"analysis\"),\"www\",\"data\"),\"com\",\"vip\")","v":""},{"$f":"IF(D1692<>\"\",D1692,\"\")","v":""},{"$f":"IF(E1692<>\"\",E1692,\"\")","v":""},{"$f":"IF(F1692<>\"\",F1692,\"\")","v":""},{"$f":"IF(N1692<>\"\",IF(D1693<>\"\",D1693,D1692),\"\")","v":""},{"$f":"IF(N1692<>\"\",IF(E1693<>\"\",E1693,E1692),\"\")","v":""},{"$f":"IF(N1692<>\"\",IF(F1693<>\"\",F1693,F1692),\"\")","v":""}]
[]
[null,null,null,null,null,null,null,null,null,null,null,null,null,{"$f":"IF(A1694<>\"\",TEXT(A1694,\"\"),\"\")","v":""},{"$f":"IF(N1694=\"\",\"\",CONCATENATE(IF(C1694<>\"\",TEXT(C1694,\"\"),\"\"),\" - \",IF(K1694<>\"\",TEXT(K1694,\"\"),\"\")))","v":""},{"$f":"SUBSTITUTE(SUBSTITUTE(SUBSTITUTE(SUBSTITUTE(IF(L1694<>\"\",HLink(L1694),\"\"),\"htm\",\"html\"),\"1x2\",\"analysis\"),\"www\",\"data\"),\"com\",\"vip\")","v":""},{"$f":"IF(D1694<>\"\",D1694,\"\")","v":""},{"$f":"IF(E1694<>\"\",E1694,\"\")","v":""},{"$f":"IF(F1694<>\"\",F1694,\"\")","v":""},{"$f":"IF(N1694<>\"\",IF(D1695<>\"\",D1695,D1694),\"\")","v":""},{"$f":"IF(N1694<>\"\",IF(E1695<>\"\",E1695,E1694),\"\")","v":""},{"$f":"IF(N1694<>\"\",IF(F1695<>\"\",F1695,F1694),\"\")","v":""}]
[]
[null,null,null,null,null,null,null,null,null,null,null,null,null,{"$f":"IF(A1696<>\"\",TEXT(A1696,\"\"),\"\")","v":""},{"$f":"IF(N1696=\"\",\"\",CONCATENATE(IF(C1696<>\"\",TEXT(C1696,\"\"),\"\"),\" - \",IF(K1696<>\"\",TEXT(K1696,\"\"),\"\")))","v":""},{"$f":"SUBSTITUTE(SUBSTITUTE(SUBSTITUTE(SUBSTITUTE(IF(L1696<>\"\",HLink(L1696),\"\"),\"htm\",\"html\"),\"1x2\",\"analysis\"),\"www\",\"data\"),\"com\",\"vip\")","v":""},{"$f":"IF(D1696<>\"\",D1696,\"\")","v":""},{"$f":"IF(E1696<>\"\",E1696,\"\")","v":""},{"$f":"IF(F1696<>\"\",F1696,\"\")","v":""},{"$f":"IF(N1696<>\"\",IF(D1697<>\"\",D1697,D1696),\"\")","v":""},{"$f":"IF(N1696<>\"\",IF(E1697<>\"\",E1697,E1696),\"\")","v":""},{"$f":"IF(N1696<>\"\",IF(F1697<>\"\",F1697,F1696),\"\")","v":""}]
[]
[null,null,null,null,null,null,null,null,null,null,null,null,null,{"$f":"IF(A1698<>\"\",TEXT(A1698,\"\"),\"\")","v":""},{"$f":"IF(N1698=\"\",\"\",CONCATENATE(IF(C1698<>\"\",TEXT(C1698,\"\"),\"\"),\" - \",IF(K1698<>\"\",TEXT(K1698,\"\"),\"\")))","v":""},{"$f":"SUBSTITUTE(SUBSTITUTE(SUBSTITUTE(SUBSTITUTE(IF(L1698<>\"\",HLink(L1698),\"\"),\"htm\",\"html\"),\"1x2\",\"analysis\"),\"www\",\"data\"),\"com\",\"vip\")","v":""},{"$f":"IF(D1698<>\"\",D1698,\"\")","v":""},{"$f":"IF(E1698<>\"\",E1698,\"\")","v":""},{"$f":"IF(F1698<>\"\",F1698,\"\")","v":""},{"$f":"IF(N1698<>\"\",IF(D1699<>\"\",D1699,D1698),\"\")","v":""},{"$f":"IF(N1698<>\"\",IF(E1699<>\"\",E1699,E1698),\"\")","v":""},{"$f":"IF(N1698<>\"\",IF(F1699<>\"\",F1699,F1698),\"\")","v":""}]
[]
[null,null,null,null,null,null,null,null,null,null,null,null,null,{"$f":"IF(A1700<>\"\",TEXT(A1700,\"\"),\"\")","v":""},{"$f":"IF(N1700=\"\",\"\",CONCATENATE(IF(C1700<>\"\",TEXT(C1700,\"\"),\"\"),\" - \",IF(K1700<>\"\",TEXT(K1700,\"\"),\"\")))","v":""},{"$f":"SUBSTITUTE(SUBSTITUTE(SUBSTITUTE(SUBSTITUTE(IF(L1700<>\"\",HLink(L1700),\"\"),\"htm\",\"html\"),\"1x2\",\"analysis\"),\"www\",\"data\"),\"com\",\"vip\")","v":""},{"$f":"IF(D1700<>\"\",D1700,\"\")","v":""},{"$f":"IF(E1700<>\"\",E1700,\"\")","v":""},{"$f":"IF(F1700<>\"\",F1700,\"\")","v":""},{"$f":"IF(N1700<>\"\",IF(D1701<>\"\",D1701,D1700),\"\")","v":""},{"$f":"IF(N1700<>\"\",IF(E1701<>\"\",E1701,E1700),\"\")","v":""},{"$f":"IF(N1700<>\"\",IF(F1701<>\"\",F1701,F1700),\"\")","v":""}]
[]
[null,null,null,null,null,null,null,null,null,null,null,null,null,{"$f":"IF(A1702<>\"\",TEXT(A1702,\"\"),\"\")","v":""},{"$f":"IF(N1702=\"\",\"\",CONCATENATE(IF(C1702<>\"\",TEXT(C1702,\"\"),\"\"),\" - \",IF(K1702<>\"\",TEXT(K1702,\"\"),\"\")))","v":""},{"$f":"SUBSTITUTE(SUBSTITUTE(SUBSTITUTE(SUBSTITUTE(IF(L1702<>\"\",HLink(L1702),\"\"),\"htm\",\"html\"),\"1x2\",\"analysis\"),\"www\",\"data\"),\"com\",\"vip\")","v":""},{"$f":"IF(D1702<>\"\",D1702,\"\")","v":""},{"$f":"IF(E1702<>\"\",E1702,\"\")","v":""},{"$f":"IF(F1702<>\"\",F1702,\"\")","v":""},{"$f":"IF(N1702<>\"\",IF(D1703<>\"\",D1703,D1702),\"\")","v":""},{"$f":"IF(N1702<>\"\",IF(E1703<>\"\",E1703,E1702),\"\")","v":""},{"$f":"IF(N1702<>\"\",IF(F1703<>\"\",F1703,F1702),\"\")","v":""}]
[]
[null,null,null,null,null,null,null,null,null,null,null,null,null,{"$f":"IF(A1704<>\"\",TEXT(A1704,\"\"),\"\")","v":""},{"$f":"IF(N1704=\"\",\"\",CONCATENATE(IF(C1704<>\"\",TEXT(C1704,\"\"),\"\"),\" - \",IF(K1704<>\"\",TEXT(K1704,\"\"),\"\")))","v":""},{"$f":"SUBSTITUTE(SUBSTITUTE(SUBSTITUTE(SUBSTITUTE(IF(L1704<>\"\",HLink(L1704),\"\"),\"htm\",\"html\"),\"1x2\",\"analysis\"),\"www\",\"data\"),\"com\",\"vip\")","v":""},{"$f":"IF(D1704<>\"\",D1704,\"\")","v":""},{"$f":"IF(E1704<>\"\",E1704,\"\")","v":""},{"$f":"IF(F1704<>\"\",F1704,\"\")","v":""},{"$f":"IF(N1704<>\"\",IF(D1705<>\"\",D1705,D1704),\"\")","v":""},{"$f":"IF(N1704<>\"\",IF(E1705<>\"\",E1705,E1704),\"\")","v":""},{"$f":"IF(N1704<>\"\",IF(F1705<>\"\",F1705,F1704),\"\")","v":""}]
[]
[null,null,null,null,null,null,null,null,null,null,null,null,null,{"$f":"IF(A1706<>\"\",TEXT(A1706,\"\"),\"\")","v":""},{"$f":"IF(N1706=\"\",\"\",CONCATENATE(IF(C1706<>\"\",TEXT(C1706,\"\"),\"\"),\" - \",IF(K1706<>\"\",TEXT(K1706,\"\"),\"\")))","v":""},{"$f":"SUBSTITUTE(SUBSTITUTE(SUBSTITUTE(SUBSTITUTE(IF(L1706<>\"\",HLink(L1706),\"\"),\"htm\",\"html\"),\"1x2\",\"analysis\"),\"www\",\"data\"),\"com\",\"vip\")","v":""},{"$f":"IF(D1706<>\"\",D1706,\"\")","v":""},{"$f":"IF(E1706<>\"\",E1706,\"\")","v":""},{"$f":"IF(F1706<>\"\",F1706,\"\")","v":""},{"$f":"IF(N1706<>\"\",IF(D1707<>\"\",D1707,D1706),\"\")","v":""},{"$f":"IF(N1706<>\"\",IF(E1707<>\"\",E1707,E1706),\"\")","v":""},{"$f":"IF(N1706<>\"\",IF(F1707<>\"\",F1707,F1706),\"\")","v":""}]
[]
[null,null,null,null,null,null,null,null,null,null,null,null,null,{"$f":"IF(A1708<>\"\",TEXT(A1708,\"\"),\"\")","v":""},{"$f":"IF(N1708=\"\",\"\",CONCATENATE(IF(C1708<>\"\",TEXT(C1708,\"\"),\"\"),\" - \",IF(K1708<>\"\",TEXT(K1708,\"\"),\"\")))","v":""},{"$f":"SUBSTITUTE(SUBSTITUTE(SUBSTITUTE(SUBSTITUTE(IF(L1708<>\"\",HLink(L1708),\"\"),\"htm\",\"html\"),\"1x2\",\"analysis\"),\"www\",\"data\"),\"com\",\"vip\")","v":""},{"$f":"IF(D1708<>\"\",D1708,\"\")","v":""},{"$f":"IF(E1708<>\"\",E1708,\"\")","v":""},{"$f":"IF(F1708<>\"\",F1708,\"\")","v":""},{"$f":"IF(N1708<>\"\",IF(D1709<>\"\",D1709,D1708),\"\")","v":""},{"$f":"IF(N1708<>\"\",IF(E1709<>\"\",E1709,E1708),\"\")","v":""},{"$f":"IF(N1708<>\"\",IF(F1709<>\"\",F1709,F1708),\"\")","v":""}]
[]
[null,null,null,null,null,null,null,null,null,null,null,null,null,{"$f":"IF(A1710<>\"\",TEXT(A1710,\"\"),\"\")","v":""},{"$f":"IF(N1710=\"\",\"\",CONCATENATE(IF(C1710<>\"\",TEXT(C1710,\"\"),\"\"),\" - \",IF(K1710<>\"\",TEXT(K1710,\"\"),\"\")))","v":""},{"$f":"SUBSTITUTE(SUBSTITUTE(SUBSTITUTE(SUBSTITUTE(IF(L1710<>\"\",HLink(L1710),\"\"),\"htm\",\"html\"),\"1x2\",\"analysis\"),\"www\",\"data\"),\"com\",\"vip\")","v":""},{"$f":"IF(D1710<>\"\",D1710,\"\")","v":""},{"$f":"IF(E1710<>\"\",E1710,\"\")","v":""},{"$f":"IF(F1710<>\"\",F1710,\"\")","v":""},{"$f":"IF(N1710<>\"\",IF(D1711<>\"\",D1711,D1710),\"\")","v":""},{"$f":"IF(N1710<>\"\",IF(E1711<>\"\",E1711,E1710),\"\")","v":""},{"$f":"IF(N1710<>\"\",IF(F1711<>\"\",F1711,F1710),\"\")","v":""}]
[]
[null,null,null,null,null,null,null,null,null,null,null,null,null,{"$f":"IF(A1712<>\"\",TEXT(A1712,\"\"),\"\")","v":""},{"$f":"IF(N1712=\"\",\"\",CONCATENATE(IF(C1712<>\"\",TEXT(C1712,\"\"),\"\"),\" - \",IF(K1712<>\"\",TEXT(K1712,\"\"),\"\")))","v":""},{"$f":"SUBSTITUTE(SUBSTITUTE(SUBSTITUTE(SUBSTITUTE(IF(L1712<>\"\",HLink(L1712),\"\"),\"htm\",\"html\"),\"1x2\",\"analysis\"),\"www\",\"data\"),\"com\",\"vip\")","v":""},{"$f":"IF(D1712<>\"\",D1712,\"\")","v":""},{"$f":"IF(E1712<>\"\",E1712,\"\")","v":""},{"$f":"IF(F1712<>\"\",F1712,\"\")","v":""},{"$f":"IF(N1712<>\"\",IF(D1713<>\"\",D1713,D1712),\"\")","v":""},{"$f":"IF(N1712<>\"\",IF(E1713<>\"\",E1713,E1712),\"\")","v":""},{"$f":"IF(N1712<>\"\",IF(F1713<>\"\",F1713,F1712),\"\")","v":""}]
[]
[null,null,null,null,null,null,null,null,null,null,null,null,null,{"$f":"IF(A1714<>\"\",TEXT(A1714,\"\"),\"\")","v":""},{"$f":"IF(N1714=\"\",\"\",CONCATENATE(IF(C1714<>\"\",TEXT(C1714,\"\"),\"\"),\" - \",IF(K1714<>\"\",TEXT(K1714,\"\"),\"\")))","v":""},{"$f":"SUBSTITUTE(SUBSTITUTE(SUBSTITUTE(SUBSTITUTE(IF(L1714<>\"\",HLink(L1714),\"\"),\"htm\",\"html\"),\"1x2\",\"analysis\"),\"www\",\"data\"),\"com\",\"vip\")","v":""},{"$f":"IF(D1714<>\"\",D1714,\"\")","v":""},{"$f":"IF(E1714<>\"\",E1714,\"\")","v":""},{"$f":"IF(F1714<>\"\",F1714,\"\")","v":""},{"$f":"IF(N1714<>\"\",IF(D1715<>\"\",D1715,D1714),\"\")","v":""},{"$f":"IF(N1714<>\"\",IF(E1715<>\"\",E1715,E1714),\"\")","v":""},{"$f":"IF(N1714<>\"\",IF(F1715<>\"\",F1715,F1714),\"\")","v":""}]
[]
[null,null,null,null,null,null,null,null,null,null,null,null,null,{"$f":"IF(A1716<>\"\",TEXT(A1716,\"\"),\"\")","v":""},{"$f":"IF(N1716=\"\",\"\",CONCATENATE(IF(C1716<>\"\",TEXT(C1716,\"\"),\"\"),\" - \",IF(K1716<>\"\",TEXT(K1716,\"\"),\"\")))","v":""},{"$f":"SUBSTITUTE(SUBSTITUTE(SUBSTITUTE(SUBSTITUTE(IF(L1716<>\"\",HLink(L1716),\"\"),\"htm\",\"html\"),\"1x2\",\"analysis\"),\"www\",\"data\"),\"com\",\"vip\")","v":""},{"$f":"IF(D1716<>\"\",D1716,\"\")","v":""},{"$f":"IF(E1716<>\"\",E1716,\"\")","v":""},{"$f":"IF(F1716<>\"\",F1716,\"\")","v":""},{"$f":"IF(N1716<>\"\",IF(D1717<>\"\",D1717,D1716),\"\")","v":""},{"$f":"IF(N1716<>\"\",IF(E1717<>\"\",E1717,E1716),\"\")","v":""},{"$f":"IF(N1716<>\"\",IF(F1717<>\"\",F1717,F1716),\"\")","v":""}]
[]
[null,null,null,null,null,null,null,null,null,null,null,null,null,{"$f":"IF(A1718<>\"\",TEXT(A1718,\"\"),\"\")","v":""},{"$f":"IF(N1718=\"\",\"\",CONCATENATE(IF(C1718<>\"\",TEXT(C1718,\"\"),\"\"),\" - \",IF(K1718<>\"\",TEXT(K1718,\"\"),\"\")))","v":""},{"$f":"SUBSTITUTE(SUBSTITUTE(SUBSTITUTE(SUBSTITUTE(IF(L1718<>\"\",HLink(L1718),\"\"),\"htm\",\"html\"),\"1x2\",\"analysis\"),\"www\",\"data\"),\"com\",\"vip\")","v":""},{"$f":"IF(D1718<>\"\",D1718,\"\")","v":""},{"$f":"IF(E1718<>\"\",E1718,\"\")","v":""},{"$f":"IF(F1718<>\"\",F1718,\"\")","v":""},{"$f":"IF(N1718<>\"\",IF(D1719<>\"\",D1719,D1718),\"\")","v":""},{"$f":"IF(N1718<>\"\",IF(E1719<>\"\",E1719,E1718),\"\")","v":""},{"$f":"IF(N1718<>\"\",IF(F1719<>\"\",F1719,F1718),\"\")","v":""}]
[]
[null,null,null,null,null,null,null,null,null,null,null,null,null,{"$f":"IF(A1720<>\"\",TEXT(A1720,\"\"),\"\")","v":""},{"$f":"IF(N1720=\"\",\"\",CONCATENATE(IF(C1720<>\"\",TEXT(C1720,\"\"),\"\"),\" - \",IF(K1720<>\"\",TEXT(K1720,\"\"),\"\")))","v":""},{"$f":"SUBSTITUTE(SUBSTITUTE(SUBSTITUTE(SUBSTITUTE(IF(L1720<>\"\",HLink(L1720),\"\"),\"htm\",\"html\"),\"1x2\",\"analysis\"),\"www\",\"data\"),\"com\",\"vip\")","v":""},{"$f":"IF(D1720<>\"\",D1720,\"\")","v":""},{"$f":"IF(E1720<>\"\",E1720,\"\")","v":""},{"$f":"IF(F1720<>\"\",F1720,\"\")","v":""},{"$f":"IF(N1720<>\"\",IF(D1721<>\"\",D1721,D1720),\"\")","v":""},{"$f":"IF(N1720<>\"\",IF(E1721<>\"\",E1721,E1720),\"\")","v":""},{"$f":"IF(N1720<>\"\",IF(F1721<>\"\",F1721,F1720),\"\")","v":""}]
[]
[null,null,null,null,null,null,null,null,null,null,null,null,null,{"$f":"IF(A1722<>\"\",TEXT(A1722,\"\"),\"\")","v":""},{"$f":"IF(N1722=\"\",\"\",CONCATENATE(IF(C1722<>\"\",TEXT(C1722,\"\"),\"\"),\" - \",IF(K1722<>\"\",TEXT(K1722,\"\"),\"\")))","v":""},{"$f":"SUBSTITUTE(SUBSTITUTE(SUBSTITUTE(SUBSTITUTE(IF(L1722<>\"\",HLink(L1722),\"\"),\"htm\",\"html\"),\"1x2\",\"analysis\"),\"www\",\"data\"),\"com\",\"vip\")","v":""},{"$f":"IF(D1722<>\"\",D1722,\"\")","v":""},{"$f":"IF(E1722<>\"\",E1722,\"\")","v":""},{"$f":"IF(F1722<>\"\",F1722,\"\")","v":""},{"$f":"IF(N1722<>\"\",IF(D1723<>\"\",D1723,D1722),\"\")","v":""},{"$f":"IF(N1722<>\"\",IF(E1723<>\"\",E1723,E1722),\"\")","v":""},{"$f":"IF(N1722<>\"\",IF(F1723<>\"\",F1723,F1722),\"\")","v":""}]
[]
[null,null,null,null,null,null,null,null,null,null,null,null,null,{"$f":"IF(A1724<>\"\",TEXT(A1724,\"\"),\"\")","v":""},{"$f":"IF(N1724=\"\",\"\",CONCATENATE(IF(C1724<>\"\",TEXT(C1724,\"\"),\"\"),\" - \",IF(K1724<>\"\",TEXT(K1724,\"\"),\"\")))","v":""},{"$f":"SUBSTITUTE(SUBSTITUTE(SUBSTITUTE(SUBSTITUTE(IF(L1724<>\"\",HLink(L1724),\"\"),\"htm\",\"html\"),\"1x2\",\"analysis\"),\"www\",\"data\"),\"com\",\"vip\")","v":""},{"$f":"IF(D1724<>\"\",D1724,\"\")","v":""},{"$f":"IF(E1724<>\"\",E1724,\"\")","v":""},{"$f":"IF(F1724<>\"\",F1724,\"\")","v":""},{"$f":"IF(N1724<>\"\",IF(D1725<>\"\",D1725,D1724),\"\")","v":""},{"$f":"IF(N1724<>\"\",IF(E1725<>\"\",E1725,E1724),\"\")","v":""},{"$f":"IF(N1724<>\"\",IF(F1725<>\"\",F1725,F1724),\"\")","v":""}]
[]
[null,null,null,null,null,null,null,null,null,null,null,null,null,{"$f":"IF(A1726<>\"\",TEXT(A1726,\"\"),\"\")","v":""},{"$f":"IF(N1726=\"\",\"\",CONCATENATE(IF(C1726<>\"\",TEXT(C1726,\"\"),\"\"),\" - \",IF(K1726<>\"\",TEXT(K1726,\"\"),\"\")))","v":""},{"$f":"SUBSTITUTE(SUBSTITUTE(SUBSTITUTE(SUBSTITUTE(IF(L1726<>\"\",HLink(L1726),\"\"),\"htm\",\"html\"),\"1x2\",\"analysis\"),\"www\",\"data\"),\"com\",\"vip\")","v":""},{"$f":"IF(D1726<>\"\",D1726,\"\")","v":""},{"$f":"IF(E1726<>\"\",E1726,\"\")","v":""},{"$f":"IF(F1726<>\"\",F1726,\"\")","v":""},{"$f":"IF(N1726<>\"\",IF(D1727<>\"\",D1727,D1726),\"\")","v":""},{"$f":"IF(N1726<>\"\",IF(E1727<>\"\",E1727,E1726),\"\")","v":""},{"$f":"IF(N1726<>\"\",IF(F1727<>\"\",F1727,F1726),\"\")","v":""}]
[]
[null,null,null,null,null,null,null,null,null,null,null,null,null,{"$f":"IF(A1728<>\"\",TEXT(A1728,\"\"),\"\")","v":""},{"$f":"IF(N1728=\"\",\"\",CONCATENATE(IF(C1728<>\"\",TEXT(C1728,\"\"),\"\"),\" - \",IF(K1728<>\"\",TEXT(K1728,\"\"),\"\")))","v":""},{"$f":"SUBSTITUTE(SUBSTITUTE(SUBSTITUTE(SUBSTITUTE(IF(L1728<>\"\",HLink(L1728),\"\"),\"htm\",\"html\"),\"1x2\",\"analysis\"),\"www\",\"data\"),\"com\",\"vip\")","v":""},{"$f":"IF(D1728<>\"\",D1728,\"\")","v":""},{"$f":"IF(E1728<>\"\",E1728,\"\")","v":""},{"$f":"IF(F1728<>\"\",F1728,\"\")","v":""},{"$f":"IF(N1728<>\"\",IF(D1729<>\"\",D1729,D1728),\"\")","v":""},{"$f":"IF(N1728<>\"\",IF(E1729<>\"\",E1729,E1728),\"\")","v":""},{"$f":"IF(N1728<>\"\",IF(F1729<>\"\",F1729,F1728),\"\")","v":""}]
[]
[null,null,null,null,null,null,null,null,null,null,null,null,null,{"$f":"IF(A1730<>\"\",TEXT(A1730,\"\"),\"\")","v":""},{"$f":"IF(N1730=\"\",\"\",CONCATENATE(IF(C1730<>\"\",TEXT(C1730,\"\"),\"\"),\" - \",IF(K1730<>\"\",TEXT(K1730,\"\"),\"\")))","v":""},{"$f":"SUBSTITUTE(SUBSTITUTE(SUBSTITUTE(SUBSTITUTE(IF(L1730<>\"\",HLink(L1730),\"\"),\"htm\",\"html\"),\"1x2\",\"analysis\"),\"www\",\"data\"),\"com\",\"vip\")","v":""},{"$f":"IF(D1730<>\"\",D1730,\"\")","v":""},{"$f":"IF(E1730<>\"\",E1730,\"\")","v":""},{"$f":"IF(F1730<>\"\",F1730,\"\")","v":""},{"$f":"IF(N1730<>\"\",IF(D1731<>\"\",D1731,D1730),\"\")","v":""},{"$f":"IF(N1730<>\"\",IF(E1731<>\"\",E1731,E1730),\"\")","v":""},{"$f":"IF(N1730<>\"\",IF(F1731<>\"\",F1731,F1730),\"\")","v":""}]
[]
[null,null,null,null,null,null,null,null,null,null,null,null,null,{"$f":"IF(A1732<>\"\",TEXT(A1732,\"\"),\"\")","v":""},{"$f":"IF(N1732=\"\",\"\",CONCATENATE(IF(C1732<>\"\",TEXT(C1732,\"\"),\"\"),\" - \",IF(K1732<>\"\",TEXT(K1732,\"\"),\"\")))","v":""},{"$f":"SUBSTITUTE(SUBSTITUTE(SUBSTITUTE(SUBSTITUTE(IF(L1732<>\"\",HLink(L1732),\"\"),\"htm\",\"html\"),\"1x2\",\"analysis\"),\"www\",\"data\"),\"com\",\"vip\")","v":""},{"$f":"IF(D1732<>\"\",D1732,\"\")","v":""},{"$f":"IF(E1732<>\"\",E1732,\"\")","v":""},{"$f":"IF(F1732<>\"\",F1732,\"\")","v":""},{"$f":"IF(N1732<>\"\",IF(D1733<>\"\",D1733,D1732),\"\")","v":""},{"$f":"IF(N1732<>\"\",IF(E1733<>\"\",E1733,E1732),\"\")","v":""},{"$f":"IF(N1732<>\"\",IF(F1733<>\"\",F1733,F1732),\"\")","v":""}]
[]
[null,null,null,null,null,null,null,null,null,null,null,null,null,{"$f":"IF(A1734<>\"\",TEXT(A1734,\"\"),\"\")","v":""},{"$f":"IF(N1734=\"\",\"\",CONCATENATE(IF(C1734<>\"\",TEXT(C1734,\"\"),\"\"),\" - \",IF(K1734<>\"\",TEXT(K1734,\"\"),\"\")))","v":""},{"$f":"SUBSTITUTE(SUBSTITUTE(SUBSTITUTE(SUBSTITUTE(IF(L1734<>\"\",HLink(L1734),\"\"),\"htm\",\"html\"),\"1x2\",\"analysis\"),\"www\",\"data\"),\"com\",\"vip\")","v":""},{"$f":"IF(D1734<>\"\",D1734,\"\")","v":""},{"$f":"IF(E1734<>\"\",E1734,\"\")","v":""},{"$f":"IF(F1734<>\"\",F1734,\"\")","v":""},{"$f":"IF(N1734<>\"\",IF(D1735<>\"\",D1735,D1734),\"\")","v":""},{"$f":"IF(N1734<>\"\",IF(E1735<>\"\",E1735,E1734),\"\")","v":""},{"$f":"IF(N1734<>\"\",IF(F1735<>\"\",F1735,F1734),\"\")","v":""}]
[]
[null,null,null,null,null,null,null,null,null,null,null,null,null,{"$f":"IF(A1736<>\"\",TEXT(A1736,\"\"),\"\")","v":""},{"$f":"IF(N1736=\"\",\"\",CONCATENATE(IF(C1736<>\"\",TEXT(C1736,\"\"),\"\"),\" - \",IF(K1736<>\"\",TEXT(K1736,\"\"),\"\")))","v":""},{"$f":"SUBSTITUTE(SUBSTITUTE(SUBSTITUTE(SUBSTITUTE(IF(L1736<>\"\",HLink(L1736),\"\"),\"htm\",\"html\"),\"1x2\",\"analysis\"),\"www\",\"data\"),\"com\",\"vip\")","v":""},{"$f":"IF(D1736<>\"\",D1736,\"\")","v":""},{"$f":"IF(E1736<>\"\",E1736,\"\")","v":""},{"$f":"IF(F1736<>\"\",F1736,\"\")","v":""},{"$f":"IF(N1736<>\"\",IF(D1737<>\"\",D1737,D1736),\"\")","v":""},{"$f":"IF(N1736<>\"\",IF(E1737<>\"\",E1737,E1736),\"\")","v":""},{"$f":"IF(N1736<>\"\",IF(F1737<>\"\",F1737,F1736),\"\")","v":""}]
[]
[null,null,null,null,null,null,null,null,null,null,null,null,null,{"$f":"IF(A1738<>\"\",TEXT(A1738,\"\"),\"\")","v":""},{"$f":"IF(N1738=\"\",\"\",CONCATENATE(IF(C1738<>\"\",TEXT(C1738,\"\"),\"\"),\" - \",IF(K1738<>\"\",TEXT(K1738,\"\"),\"\")))","v":""},{"$f":"SUBSTITUTE(SUBSTITUTE(SUBSTITUTE(SUBSTITUTE(IF(L1738<>\"\",HLink(L1738),\"\"),\"htm\",\"html\"),\"1x2\",\"analysis\"),\"www\",\"data\"),\"com\",\"vip\")","v":""},{"$f":"IF(D1738<>\"\",D1738,\"\")","v":""},{"$f":"IF(E1738<>\"\",E1738,\"\")","v":""},{"$f":"IF(F1738<>\"\",F1738,\"\")","v":""},{"$f":"IF(N1738<>\"\",IF(D1739<>\"\",D1739,D1738),\"\")","v":""},{"$f":"IF(N1738<>\"\",IF(E1739<>\"\",E1739,E1738),\"\")","v":""},{"$f":"IF(N1738<>\"\",IF(F1739<>\"\",F1739,F1738),\"\")","v":""}]
[]
[null,null,null,null,null,null,null,null,null,null,null,null,null,{"$f":"IF(A1740<>\"\",TEXT(A1740,\"\"),\"\")","v":""},{"$f":"IF(N1740=\"\",\"\",CONCATENATE(IF(C1740<>\"\",TEXT(C1740,\"\"),\"\"),\" - \",IF(K1740<>\"\",TEXT(K1740,\"\"),\"\")))","v":""},{"$f":"SUBSTITUTE(SUBSTITUTE(SUBSTITUTE(SUBSTITUTE(IF(L1740<>\"\",HLink(L1740),\"\"),\"htm\",\"html\"),\"1x2\",\"analysis\"),\"www\",\"data\"),\"com\",\"vip\")","v":""},{"$f":"IF(D1740<>\"\",D1740,\"\")","v":""},{"$f":"IF(E1740<>\"\",E1740,\"\")","v":""},{"$f":"IF(F1740<>\"\",F1740,\"\")","v":""},{"$f":"IF(N1740<>\"\",IF(D1741<>\"\",D1741,D1740),\"\")","v":""},{"$f":"IF(N1740<>\"\",IF(E1741<>\"\",E1741,E1740),\"\")","v":""},{"$f":"IF(N1740<>\"\",IF(F1741<>\"\",F1741,F1740),\"\")","v":""}]
[]
[null,null,null,null,null,null,null,null,null,null,null,null,null,{"$f":"IF(A1742<>\"\",TEXT(A1742,\"\"),\"\")","v":""},{"$f":"IF(N1742=\"\",\"\",CONCATENATE(IF(C1742<>\"\",TEXT(C1742,\"\"),\"\"),\" - \",IF(K1742<>\"\",TEXT(K1742,\"\"),\"\")))","v":""},{"$f":"SUBSTITUTE(SUBSTITUTE(SUBSTITUTE(SUBSTITUTE(IF(L1742<>\"\",HLink(L1742),\"\"),\"htm\",\"html\"),\"1x2\",\"analysis\"),\"www\",\"data\"),\"com\",\"vip\")","v":""},{"$f":"IF(D1742<>\"\",D1742,\"\")","v":""},{"$f":"IF(E1742<>\"\",E1742,\"\")","v":""},{"$f":"IF(F1742<>\"\",F1742,\"\")","v":""},{"$f":"IF(N1742<>\"\",IF(D1743<>\"\",D1743,D1742),\"\")","v":""},{"$f":"IF(N1742<>\"\",IF(E1743<>\"\",E1743,E1742),\"\")","v":""},{"$f":"IF(N1742<>\"\",IF(F1743<>\"\",F1743,F1742),\"\")","v":""}]
[]
[null,null,null,null,null,null,null,null,null,null,null,null,null,{"$f":"IF(A1744<>\"\",TEXT(A1744,\"\"),\"\")","v":""},{"$f":"IF(N1744=\"\",\"\",CONCATENATE(IF(C1744<>\"\",TEXT(C1744,\"\"),\"\"),\" - \",IF(K1744<>\"\",TEXT(K1744,\"\"),\"\")))","v":""},{"$f":"SUBSTITUTE(SUBSTITUTE(SUBSTITUTE(SUBSTITUTE(IF(L1744<>\"\",HLink(L1744),\"\"),\"htm\",\"html\"),\"1x2\",\"analysis\"),\"www\",\"data\"),\"com\",\"vip\")","v":""},{"$f":"IF(D1744<>\"\",D1744,\"\")","v":""},{"$f":"IF(E1744<>\"\",E1744,\"\")","v":""},{"$f":"IF(F1744<>\"\",F1744,\"\")","v":""},{"$f":"IF(N1744<>\"\",IF(D1745<>\"\",D1745,D1744),\"\")","v":""},{"$f":"IF(N1744<>\"\",IF(E1745<>\"\",E1745,E1744),\"\")","v":""},{"$f":"IF(N1744<>\"\",IF(F1745<>\"\",F1745,F1744),\"\")","v":""}]
[]
[null,null,null,null,null,null,null,null,null,null,null,null,null,{"$f":"IF(A1746<>\"\",TEXT(A1746,\"\"),\"\")","v":""},{"$f":"IF(N1746=\"\",\"\",CONCATENATE(IF(C1746<>\"\",TEXT(C1746,\"\"),\"\"),\" - \",IF(K1746<>\"\",TEXT(K1746,\"\"),\"\")))","v":""},{"$f":"SUBSTITUTE(SUBSTITUTE(SUBSTITUTE(SUBSTITUTE(IF(L1746<>\"\",HLink(L1746),\"\"),\"htm\",\"html\"),\"1x2\",\"analysis\"),\"www\",\"data\"),\"com\",\"vip\")","v":""},{"$f":"IF(D1746<>\"\",D1746,\"\")","v":""},{"$f":"IF(E1746<>\"\",E1746,\"\")","v":""},{"$f":"IF(F1746<>\"\",F1746,\"\")","v":""},{"$f":"IF(N1746<>\"\",IF(D1747<>\"\",D1747,D1746),\"\")","v":""},{"$f":"IF(N1746<>\"\",IF(E1747<>\"\",E1747,E1746),\"\")","v":""},{"$f":"IF(N1746<>\"\",IF(F1747<>\"\",F1747,F1746),\"\")","v":""}]
[]
[null,null,null,null,null,null,null,null,null,null,null,null,null,{"$f":"IF(A1748<>\"\",TEXT(A1748,\"\"),\"\")","v":""},{"$f":"IF(N1748=\"\",\"\",CONCATENATE(IF(C1748<>\"\",TEXT(C1748,\"\"),\"\"),\" - \",IF(K1748<>\"\",TEXT(K1748,\"\"),\"\")))","v":""},{"$f":"SUBSTITUTE(SUBSTITUTE(SUBSTITUTE(SUBSTITUTE(IF(L1748<>\"\",HLink(L1748),\"\"),\"htm\",\"html\"),\"1x2\",\"analysis\"),\"www\",\"data\"),\"com\",\"vip\")","v":""},{"$f":"IF(D1748<>\"\",D1748,\"\")","v":""},{"$f":"IF(E1748<>\"\",E1748,\"\")","v":""},{"$f":"IF(F1748<>\"\",F1748,\"\")","v":""},{"$f":"IF(N1748<>\"\",IF(D1749<>\"\",D1749,D1748),\"\")","v":""},{"$f":"IF(N1748<>\"\",IF(E1749<>\"\",E1749,E1748),\"\")","v":""},{"$f":"IF(N1748<>\"\",IF(F1749<>\"\",F1749,F1748),\"\")","v":""}]
[]
[null,null,null,null,null,null,null,null,null,null,null,null,null,{"$f":"IF(A1750<>\"\",TEXT(A1750,\"\"),\"\")","v":""},{"$f":"IF(N1750=\"\",\"\",CONCATENATE(IF(C1750<>\"\",TEXT(C1750,\"\"),\"\"),\" - \",IF(K1750<>\"\",TEXT(K1750,\"\"),\"\")))","v":""},{"$f":"SUBSTITUTE(SUBSTITUTE(SUBSTITUTE(SUBSTITUTE(IF(L1750<>\"\",HLink(L1750),\"\"),\"htm\",\"html\"),\"1x2\",\"analysis\"),\"www\",\"data\"),\"com\",\"vip\")","v":""},{"$f":"IF(D1750<>\"\",D1750,\"\")","v":""},{"$f":"IF(E1750<>\"\",E1750,\"\")","v":""},{"$f":"IF(F1750<>\"\",F1750,\"\")","v":""},{"$f":"IF(N1750<>\"\",IF(D1751<>\"\",D1751,D1750),\"\")","v":""},{"$f":"IF(N1750<>\"\",IF(E1751<>\"\",E1751,E1750),\"\")","v":""},{"$f":"IF(N1750<>\"\",IF(F1751<>\"\",F1751,F1750),\"\")","v":""}]
[]
[null,null,null,null,null,null,null,null,null,null,null,null,null,{"$f":"IF(A1752<>\"\",TEXT(A1752,\"\"),\"\")","v":""},{"$f":"IF(N1752=\"\",\"\",CONCATENATE(IF(C1752<>\"\",TEXT(C1752,\"\"),\"\"),\" - \",IF(K1752<>\"\",TEXT(K1752,\"\"),\"\")))","v":""},{"$f":"SUBSTITUTE(SUBSTITUTE(SUBSTITUTE(SUBSTITUTE(IF(L1752<>\"\",HLink(L1752),\"\"),\"htm\",\"html\"),\"1x2\",\"analysis\"),\"www\",\"data\"),\"com\",\"vip\")","v":""},{"$f":"IF(D1752<>\"\",D1752,\"\")","v":""},{"$f":"IF(E1752<>\"\",E1752,\"\")","v":""},{"$f":"IF(F1752<>\"\",F1752,\"\")","v":""},{"$f":"IF(N1752<>\"\",IF(D1753<>\"\",D1753,D1752),\"\")","v":""},{"$f":"IF(N1752<>\"\",IF(E1753<>\"\",E1753,E1752),\"\")","v":""},{"$f":"IF(N1752<>\"\",IF(F1753<>\"\",F1753,F1752),\"\")","v":""}]
[]
[null,null,null,null,null,null,null,null,null,null,null,null,null,{"$f":"IF(A1754<>\"\",TEXT(A1754,\"\"),\"\")","v":""},{"$f":"IF(N1754=\"\",\"\",CONCATENATE(IF(C1754<>\"\",TEXT(C1754,\"\"),\"\"),\" - \",IF(K1754<>\"\",TEXT(K1754,\"\"),\"\")))","v":""},{"$f":"SUBSTITUTE(SUBSTITUTE(SUBSTITUTE(SUBSTITUTE(IF(L1754<>\"\",HLink(L1754),\"\"),\"htm\",\"html\"),\"1x2\",\"analysis\"),\"www\",\"data\"),\"com\",\"vip\")","v":""},{"$f":"IF(D1754<>\"\",D1754,\"\")","v":""},{"$f":"IF(E1754<>\"\",E1754,\"\")","v":""},{"$f":"IF(F1754<>\"\",F1754,\"\")","v":""},{"$f":"IF(N1754<>\"\",IF(D1755<>\"\",D1755,D1754),\"\")","v":""},{"$f":"IF(N1754<>\"\",IF(E1755<>\"\",E1755,E1754),\"\")","v":""},{"$f":"IF(N1754<>\"\",IF(F1755<>\"\",F1755,F1754),\"\")","v":""}]
[]
[null,null,null,null,null,null,null,null,null,null,null,null,null,{"$f":"IF(A1756<>\"\",TEXT(A1756,\"\"),\"\")","v":""},{"$f":"IF(N1756=\"\",\"\",CONCATENATE(IF(C1756<>\"\",TEXT(C1756,\"\"),\"\"),\" - \",IF(K1756<>\"\",TEXT(K1756,\"\"),\"\")))","v":""},{"$f":"SUBSTITUTE(SUBSTITUTE(SUBSTITUTE(SUBSTITUTE(IF(L1756<>\"\",HLink(L1756),\"\"),\"htm\",\"html\"),\"1x2\",\"analysis\"),\"www\",\"data\"),\"com\",\"vip\")","v":""},{"$f":"IF(D1756<>\"\",D1756,\"\")","v":""},{"$f":"IF(E1756<>\"\",E1756,\"\")","v":""},{"$f":"IF(F1756<>\"\",F1756,\"\")","v":""},{"$f":"IF(N1756<>\"\",IF(D1757<>\"\",D1757,D1756),\"\")","v":""},{"$f":"IF(N1756<>\"\",IF(E1757<>\"\",E1757,E1756),\"\")","v":""},{"$f":"IF(N1756<>\"\",IF(F1757<>\"\",F1757,F1756),\"\")","v":""}]
[]
[null,null,null,null,null,null,null,null,null,null,null,null,null,{"$f":"IF(A1758<>\"\",TEXT(A1758,\"\"),\"\")","v":""},{"$f":"IF(N1758=\"\",\"\",CONCATENATE(IF(C1758<>\"\",TEXT(C1758,\"\"),\"\"),\" - \",IF(K1758<>\"\",TEXT(K1758,\"\"),\"\")))","v":""},{"$f":"SUBSTITUTE(SUBSTITUTE(SUBSTITUTE(SUBSTITUTE(IF(L1758<>\"\",HLink(L1758),\"\"),\"htm\",\"html\"),\"1x2\",\"analysis\"),\"www\",\"data\"),\"com\",\"vip\")","v":""},{"$f":"IF(D1758<>\"\",D1758,\"\")","v":""},{"$f":"IF(E1758<>\"\",E1758,\"\")","v":""},{"$f":"IF(F1758<>\"\",F1758,\"\")","v":""},{"$f":"IF(N1758<>\"\",IF(D1759<>\"\",D1759,D1758),\"\")","v":""},{"$f":"IF(N1758<>\"\",IF(E1759<>\"\",E1759,E1758),\"\")","v":""},{"$f":"IF(N1758<>\"\",IF(F1759<>\"\",F1759,F1758),\"\")","v":""}]
[]
[null,null,null,null,null,null,null,null,null,null,null,null,null,{"$f":"IF(A1760<>\"\",TEXT(A1760,\"\"),\"\")","v":""},{"$f":"IF(N1760=\"\",\"\",CONCATENATE(IF(C1760<>\"\",TEXT(C1760,\"\"),\"\"),\" - \",IF(K1760<>\"\",TEXT(K1760,\"\"),\"\")))","v":""},{"$f":"SUBSTITUTE(SUBSTITUTE(SUBSTITUTE(SUBSTITUTE(IF(L1760<>\"\",HLink(L1760),\"\"),\"htm\",\"html\"),\"1x2\",\"analysis\"),\"www\",\"data\"),\"com\",\"vip\")","v":""},{"$f":"IF(D1760<>\"\",D1760,\"\")","v":""},{"$f":"IF(E1760<>\"\",E1760,\"\")","v":""},{"$f":"IF(F1760<>\"\",F1760,\"\")","v":""},{"$f":"IF(N1760<>\"\",IF(D1761<>\"\",D1761,D1760),\"\")","v":""},{"$f":"IF(N1760<>\"\",IF(E1761<>\"\",E1761,E1760),\"\")","v":""},{"$f":"IF(N1760<>\"\",IF(F1761<>\"\",F1761,F1760),\"\")","v":""}]
[]
[null,null,null,null,null,null,null,null,null,null,null,null,null,{"$f":"IF(A1762<>\"\",TEXT(A1762,\"\"),\"\")","v":""},{"$f":"IF(N1762=\"\",\"\",CONCATENATE(IF(C1762<>\"\",TEXT(C1762,\"\"),\"\"),\" - \",IF(K1762<>\"\",TEXT(K1762,\"\"),\"\")))","v":""},{"$f":"SUBSTITUTE(SUBSTITUTE(SUBSTITUTE(SUBSTITUTE(IF(L1762<>\"\",HLink(L1762),\"\"),\"htm\",\"html\"),\"1x2\",\"analysis\"),\"www\",\"data\"),\"com\",\"vip\")","v":""},{"$f":"IF(D1762<>\"\",D1762,\"\")","v":""},{"$f":"IF(E1762<>\"\",E1762,\"\")","v":""},{"$f":"IF(F1762<>\"\",F1762,\"\")","v":""},{"$f":"IF(N1762<>\"\",IF(D1763<>\"\",D1763,D1762),\"\")","v":""},{"$f":"IF(N1762<>\"\",IF(E1763<>\"\",E1763,E1762),\"\")","v":""},{"$f":"IF(N1762<>\"\",IF(F1763<>\"\",F1763,F1762),\"\")","v":""}]
[]
[null,null,null,null,null,null,null,null,null,null,null,null,null,{"$f":"IF(A1764<>\"\",TEXT(A1764,\"\"),\"\")","v":""},{"$f":"IF(N1764=\"\",\"\",CONCATENATE(IF(C1764<>\"\",TEXT(C1764,\"\"),\"\"),\" - \",IF(K1764<>\"\",TEXT(K1764,\"\"),\"\")))","v":""},{"$f":"SUBSTITUTE(SUBSTITUTE(SUBSTITUTE(SUBSTITUTE(IF(L1764<>\"\",HLink(L1764),\"\"),\"htm\",\"html\"),\"1x2\",\"analysis\"),\"www\",\"data\"),\"com\",\"vip\")","v":""},{"$f":"IF(D1764<>\"\",D1764,\"\")","v":""},{"$f":"IF(E1764<>\"\",E1764,\"\")","v":""},{"$f":"IF(F1764<>\"\",F1764,\"\")","v":""},{"$f":"IF(N1764<>\"\",IF(D1765<>\"\",D1765,D1764),\"\")","v":""},{"$f":"IF(N1764<>\"\",IF(E1765<>\"\",E1765,E1764),\"\")","v":""},{"$f":"IF(N1764<>\"\",IF(F1765<>\"\",F1765,F1764),\"\")","v":""}]
[]
[null,null,null,null,null,null,null,null,null,null,null,null,null,{"$f":"IF(A1766<>\"\",TEXT(A1766,\"\"),\"\")","v":""},{"$f":"IF(N1766=\"\",\"\",CONCATENATE(IF(C1766<>\"\",TEXT(C1766,\"\"),\"\"),\" - \",IF(K1766<>\"\",TEXT(K1766,\"\"),\"\")))","v":""},{"$f":"SUBSTITUTE(SUBSTITUTE(SUBSTITUTE(SUBSTITUTE(IF(L1766<>\"\",HLink(L1766),\"\"),\"htm\",\"html\"),\"1x2\",\"analysis\"),\"www\",\"data\"),\"com\",\"vip\")","v":""},{"$f":"IF(D1766<>\"\",D1766,\"\")","v":""},{"$f":"IF(E1766<>\"\",E1766,\"\")","v":""},{"$f":"IF(F1766<>\"\",F1766,\"\")","v":""},{"$f":"IF(N1766<>\"\",IF(D1767<>\"\",D1767,D1766),\"\")","v":""},{"$f":"IF(N1766<>\"\",IF(E1767<>\"\",E1767,E1766),\"\")","v":""},{"$f":"IF(N1766<>\"\",IF(F1767<>\"\",F1767,F1766),\"\")","v":""}]
[]
[null,null,null,null,null,null,null,null,null,null,null,null,null,{"$f":"IF(A1768<>\"\",TEXT(A1768,\"\"),\"\")","v":""},{"$f":"IF(N1768=\"\",\"\",CONCATENATE(IF(C1768<>\"\",TEXT(C1768,\"\"),\"\"),\" - \",IF(K1768<>\"\",TEXT(K1768,\"\"),\"\")))","v":""},{"$f":"SUBSTITUTE(SUBSTITUTE(SUBSTITUTE(SUBSTITUTE(IF(L1768<>\"\",HLink(L1768),\"\"),\"htm\",\"html\"),\"1x2\",\"analysis\"),\"www\",\"data\"),\"com\",\"vip\")","v":""},{"$f":"IF(D1768<>\"\",D1768,\"\")","v":""},{"$f":"IF(E1768<>\"\",E1768,\"\")","v":""},{"$f":"IF(F1768<>\"\",F1768,\"\")","v":""},{"$f":"IF(N1768<>\"\",IF(D1769<>\"\",D1769,D1768),\"\")","v":""},{"$f":"IF(N1768<>\"\",IF(E1769<>\"\",E1769,E1768),\"\")","v":""},{"$f":"IF(N1768<>\"\",IF(F1769<>\"\",F1769,F1768),\"\")","v":""}]
[]
[null,null,null,null,null,null,null,null,null,null,null,null,null,{"$f":"IF(A1770<>\"\",TEXT(A1770,\"\"),\"\")","v":""},{"$f":"IF(N1770=\"\",\"\",CONCATENATE(IF(C1770<>\"\",TEXT(C1770,\"\"),\"\"),\" - \",IF(K1770<>\"\",TEXT(K1770,\"\"),\"\")))","v":""},{"$f":"SUBSTITUTE(SUBSTITUTE(SUBSTITUTE(SUBSTITUTE(IF(L1770<>\"\",HLink(L1770),\"\"),\"htm\",\"html\"),\"1x2\",\"analysis\"),\"www\",\"data\"),\"com\",\"vip\")","v":""},{"$f":"IF(D1770<>\"\",D1770,\"\")","v":""},{"$f":"IF(E1770<>\"\",E1770,\"\")","v":""},{"$f":"IF(F1770<>\"\",F1770,\"\")","v":""},{"$f":"IF(N1770<>\"\",IF(D1771<>\"\",D1771,D1770),\"\")","v":""},{"$f":"IF(N1770<>\"\",IF(E1771<>\"\",E1771,E1770),\"\")","v":""},{"$f":"IF(N1770<>\"\",IF(F1771<>\"\",F1771,F1770),\"\")","v":""}]
[]
[null,null,null,null,null,null,null,null,null,null,null,null,null,{"$f":"IF(A1772<>\"\",TEXT(A1772,\"\"),\"\")","v":""},{"$f":"IF(N1772=\"\",\"\",CONCATENATE(IF(C1772<>\"\",TEXT(C1772,\"\"),\"\"),\" - \",IF(K1772<>\"\",TEXT(K1772,\"\"),\"\")))","v":""},{"$f":"SUBSTITUTE(SUBSTITUTE(SUBSTITUTE(SUBSTITUTE(IF(L1772<>\"\",HLink(L1772),\"\"),\"htm\",\"html\"),\"1x2\",\"analysis\"),\"www\",\"data\"),\"com\",\"vip\")","v":""},{"$f":"IF(D1772<>\"\",D1772,\"\")","v":""},{"$f":"IF(E1772<>\"\",E1772,\"\")","v":""},{"$f":"IF(F1772<>\"\",F1772,\"\")","v":""},{"$f":"IF(N1772<>\"\",IF(D1773<>\"\",D1773,D1772),\"\")","v":""},{"$f":"IF(N1772<>\"\",IF(E1773<>\"\",E1773,E1772),\"\")","v":""},{"$f":"IF(N1772<>\"\",IF(F1773<>\"\",F1773,F1772),\"\")","v":""}]
[]
[null,null,null,null,null,null,null,null,null,null,null,null,null,{"$f":"IF(A1774<>\"\",TEXT(A1774,\"\"),\"\")","v":""},{"$f":"IF(N1774=\"\",\"\",CONCATENATE(IF(C1774<>\"\",TEXT(C1774,\"\"),\"\"),\" - \",IF(K1774<>\"\",TEXT(K1774,\"\"),\"\")))","v":""},{"$f":"SUBSTITUTE(SUBSTITUTE(SUBSTITUTE(SUBSTITUTE(IF(L1774<>\"\",HLink(L1774),\"\"),\"htm\",\"html\"),\"1x2\",\"analysis\"),\"www\",\"data\"),\"com\",\"vip\")","v":""},{"$f":"IF(D1774<>\"\",D1774,\"\")","v":""},{"$f":"IF(E1774<>\"\",E1774,\"\")","v":""},{"$f":"IF(F1774<>\"\",F1774,\"\")","v":""},{"$f":"IF(N1774<>\"\",IF(D1775<>\"\",D1775,D1774),\"\")","v":""},{"$f":"IF(N1774<>\"\",IF(E1775<>\"\",E1775,E1774),\"\")","v":""},{"$f":"IF(N1774<>\"\",IF(F1775<>\"\",F1775,F1774),\"\")","v":""}]
[]
[null,null,null,null,null,null,null,null,null,null,null,null,null,{"$f":"IF(A1776<>\"\",TEXT(A1776,\"\"),\"\")","v":""},{"$f":"IF(N1776=\"\",\"\",CONCATENATE(IF(C1776<>\"\",TEXT(C1776,\"\"),\"\"),\" - \",IF(K1776<>\"\",TEXT(K1776,\"\"),\"\")))","v":""},{"$f":"SUBSTITUTE(SUBSTITUTE(SUBSTITUTE(SUBSTITUTE(IF(L1776<>\"\",HLink(L1776),\"\"),\"htm\",\"html\"),\"1x2\",\"analysis\"),\"www\",\"data\"),\"com\",\"vip\")","v":""},{"$f":"IF(D1776<>\"\",D1776,\"\")","v":""},{"$f":"IF(E1776<>\"\",E1776,\"\")","v":""},{"$f":"IF(F1776<>\"\",F1776,\"\")","v":""},{"$f":"IF(N1776<>\"\",IF(D1777<>\"\",D1777,D1776),\"\")","v":""},{"$f":"IF(N1776<>\"\",IF(E1777<>\"\",E1777,E1776),\"\")","v":""},{"$f":"IF(N1776<>\"\",IF(F1777<>\"\",F1777,F1776),\"\")","v":""}]
[]
[null,null,null,null,null,null,null,null,null,null,null,null,null,{"$f":"IF(A1778<>\"\",TEXT(A1778,\"\"),\"\")","v":""},{"$f":"IF(N1778=\"\",\"\",CONCATENATE(IF(C1778<>\"\",TEXT(C1778,\"\"),\"\"),\" - \",IF(K1778<>\"\",TEXT(K1778,\"\"),\"\")))","v":""},{"$f":"SUBSTITUTE(SUBSTITUTE(SUBSTITUTE(SUBSTITUTE(IF(L1778<>\"\",HLink(L1778),\"\"),\"htm\",\"html\"),\"1x2\",\"analysis\"),\"www\",\"data\"),\"com\",\"vip\")","v":""},{"$f":"IF(D1778<>\"\",D1778,\"\")","v":""},{"$f":"IF(E1778<>\"\",E1778,\"\")","v":""},{"$f":"IF(F1778<>\"\",F1778,\"\")","v":""},{"$f":"IF(N1778<>\"\",IF(D1779<>\"\",D1779,D1778),\"\")","v":""},{"$f":"IF(N1778<>\"\",IF(E1779<>\"\",E1779,E1778),\"\")","v":""},{"$f":"IF(N1778<>\"\",IF(F1779<>\"\",F1779,F1778),\"\")","v":""}]
[]
[null,null,null,null,null,null,null,null,null,null,null,null,null,{"$f":"IF(A1780<>\"\",TEXT(A1780,\"\"),\"\")","v":""},{"$f":"IF(N1780=\"\",\"\",CONCATENATE(IF(C1780<>\"\",TEXT(C1780,\"\"),\"\"),\" - \",IF(K1780<>\"\",TEXT(K1780,\"\"),\"\")))","v":""},{"$f":"SUBSTITUTE(SUBSTITUTE(SUBSTITUTE(SUBSTITUTE(IF(L1780<>\"\",HLink(L1780),\"\"),\"htm\",\"html\"),\"1x2\",\"analysis\"),\"www\",\"data\"),\"com\",\"vip\")","v":""},{"$f":"IF(D1780<>\"\",D1780,\"\")","v":""},{"$f":"IF(E1780<>\"\",E1780,\"\")","v":""},{"$f":"IF(F1780<>\"\",F1780,\"\")","v":""},{"$f":"IF(N1780<>\"\",IF(D1781<>\"\",D1781,D1780),\"\")","v":""},{"$f":"IF(N1780<>\"\",IF(E1781<>\"\",E1781,E1780),\"\")","v":""},{"$f":"IF(N1780<>\"\",IF(F1781<>\"\",F1781,F1780),\"\")","v":""}]
[]
[null,null,null,null,null,null,null,null,null,null,null,null,null,{"$f":"IF(A1782<>\"\",TEXT(A1782,\"\"),\"\")","v":""},{"$f":"IF(N1782=\"\",\"\",CONCATENATE(IF(C1782<>\"\",TEXT(C1782,\"\"),\"\"),\" - \",IF(K1782<>\"\",TEXT(K1782,\"\"),\"\")))","v":""},{"$f":"SUBSTITUTE(SUBSTITUTE(SUBSTITUTE(SUBSTITUTE(IF(L1782<>\"\",HLink(L1782),\"\"),\"htm\",\"html\"),\"1x2\",\"analysis\"),\"www\",\"data\"),\"com\",\"vip\")","v":""},{"$f":"IF(D1782<>\"\",D1782,\"\")","v":""},{"$f":"IF(E1782<>\"\",E1782,\"\")","v":""},{"$f":"IF(F1782<>\"\",F1782,\"\")","v":""},{"$f":"IF(N1782<>\"\",IF(D1783<>\"\",D1783,D1782),\"\")","v":""},{"$f":"IF(N1782<>\"\",IF(E1783<>\"\",E1783,E1782),\"\")","v":""},{"$f":"IF(N1782<>\"\",IF(F1783<>\"\",F1783,F1782),\"\")","v":""}]
[]
[null,null,null,null,null,null,null,null,null,null,null,null,null,{"$f":"IF(A1784<>\"\",TEXT(A1784,\"\"),\"\")","v":""},{"$f":"IF(N1784=\"\",\"\",CONCATENATE(IF(C1784<>\"\",TEXT(C1784,\"\"),\"\"),\" - \",IF(K1784<>\"\",TEXT(K1784,\"\"),\"\")))","v":""},{"$f":"SUBSTITUTE(SUBSTITUTE(SUBSTITUTE(SUBSTITUTE(IF(L1784<>\"\",HLink(L1784),\"\"),\"htm\",\"html\"),\"1x2\",\"analysis\"),\"www\",\"data\"),\"com\",\"vip\")","v":""},{"$f":"IF(D1784<>\"\",D1784,\"\")","v":""},{"$f":"IF(E1784<>\"\",E1784,\"\")","v":""},{"$f":"IF(F1784<>\"\",F1784,\"\")","v":""},{"$f":"IF(N1784<>\"\",IF(D1785<>\"\",D1785,D1784),\"\")","v":""},{"$f":"IF(N1784<>\"\",IF(E1785<>\"\",E1785,E1784),\"\")","v":""},{"$f":"IF(N1784<>\"\",IF(F1785<>\"\",F1785,F1784),\"\")","v":""}]
[]
[null,null,null,null,null,null,null,null,null,null,null,null,null,{"$f":"IF(A1786<>\"\",TEXT(A1786,\"\"),\"\")","v":""},{"$f":"IF(N1786=\"\",\"\",CONCATENATE(IF(C1786<>\"\",TEXT(C1786,\"\"),\"\"),\" - \",IF(K1786<>\"\",TEXT(K1786,\"\"),\"\")))","v":""},{"$f":"SUBSTITUTE(SUBSTITUTE(SUBSTITUTE(SUBSTITUTE(IF(L1786<>\"\",HLink(L1786),\"\"),\"htm\",\"html\"),\"1x2\",\"analysis\"),\"www\",\"data\"),\"com\",\"vip\")","v":""},{"$f":"IF(D1786<>\"\",D1786,\"\")","v":""},{"$f":"IF(E1786<>\"\",E1786,\"\")","v":""},{"$f":"IF(F1786<>\"\",F1786,\"\")","v":""},{"$f":"IF(N1786<>\"\",IF(D1787<>\"\",D1787,D1786),\"\")","v":""},{"$f":"IF(N1786<>\"\",IF(E1787<>\"\",E1787,E1786),\"\")","v":""},{"$f":"IF(N1786<>\"\",IF(F1787<>\"\",F1787,F1786),\"\")","v":""}]
[]
[null,null,null,null,null,null,null,null,null,null,null,null,null,{"$f":"IF(A1788<>\"\",TEXT(A1788,\"\"),\"\")","v":""},{"$f":"IF(N1788=\"\",\"\",CONCATENATE(IF(C1788<>\"\",TEXT(C1788,\"\"),\"\"),\" - \",IF(K1788<>\"\",TEXT(K1788,\"\"),\"\")))","v":""},{"$f":"SUBSTITUTE(SUBSTITUTE(SUBSTITUTE(SUBSTITUTE(IF(L1788<>\"\",HLink(L1788),\"\"),\"htm\",\"html\"),\"1x2\",\"analysis\"),\"www\",\"data\"),\"com\",\"vip\")","v":""},{"$f":"IF(D1788<>\"\",D1788,\"\")","v":""},{"$f":"IF(E1788<>\"\",E1788,\"\")","v":""},{"$f":"IF(F1788<>\"\",F1788,\"\")","v":""},{"$f":"IF(N1788<>\"\",IF(D1789<>\"\",D1789,D1788),\"\")","v":""},{"$f":"IF(N1788<>\"\",IF(E1789<>\"\",E1789,E1788),\"\")","v":""},{"$f":"IF(N1788<>\"\",IF(F1789<>\"\",F1789,F1788),\"\")","v":""}]
[]
[null,null,null,null,null,null,null,null,null,null,null,null,null,{"$f":"IF(A1790<>\"\",TEXT(A1790,\"\"),\"\")","v":""},{"$f":"IF(N1790=\"\",\"\",CONCATENATE(IF(C1790<>\"\",TEXT(C1790,\"\"),\"\"),\" - \",IF(K1790<>\"\",TEXT(K1790,\"\"),\"\")))","v":""},{"$f":"SUBSTITUTE(SUBSTITUTE(SUBSTITUTE(SUBSTITUTE(IF(L1790<>\"\",HLink(L1790),\"\"),\"htm\",\"html\"),\"1x2\",\"analysis\"),\"www\",\"data\"),\"com\",\"vip\")","v":""},{"$f":"IF(D1790<>\"\",D1790,\"\")","v":""},{"$f":"IF(E1790<>\"\",E1790,\"\")","v":""},{"$f":"IF(F1790<>\"\",F1790,\"\")","v":""},{"$f":"IF(N1790<>\"\",IF(D1791<>\"\",D1791,D1790),\"\")","v":""},{"$f":"IF(N1790<>\"\",IF(E1791<>\"\",E1791,E1790),\"\")","v":""},{"$f":"IF(N1790<>\"\",IF(F1791<>\"\",F1791,F1790),\"\")","v":""}]
[]
[null,null,null,null,null,null,null,null,null,null,null,null,null,{"$f":"IF(A1792<>\"\",TEXT(A1792,\"\"),\"\")","v":""},{"$f":"IF(N1792=\"\",\"\",CONCATENATE(IF(C1792<>\"\",TEXT(C1792,\"\"),\"\"),\" - \",IF(K1792<>\"\",TEXT(K1792,\"\"),\"\")))","v":""},{"$f":"SUBSTITUTE(SUBSTITUTE(SUBSTITUTE(SUBSTITUTE(IF(L1792<>\"\",HLink(L1792),\"\"),\"htm\",\"html\"),\"1x2\",\"analysis\"),\"www\",\"data\"),\"com\",\"vip\")","v":""},{"$f":"IF(D1792<>\"\",D1792,\"\")","v":""},{"$f":"IF(E1792<>\"\",E1792,\"\")","v":""},{"$f":"IF(F1792<>\"\",F1792,\"\")","v":""},{"$f":"IF(N1792<>\"\",IF(D1793<>\"\",D1793,D1792),\"\")","v":""},{"$f":"IF(N1792<>\"\",IF(E1793<>\"\",E1793,E1792),\"\")","v":""},{"$f":"IF(N1792<>\"\",IF(F1793<>\"\",F1793,F1792),\"\")","v":""}]
[]
[null,null,null,null,null,null,null,null,null,null,null,null,null,{"$f":"IF(A1794<>\"\",TEXT(A1794,\"\"),\"\")","v":""},{"$f":"IF(N1794=\"\",\"\",CONCATENATE(IF(C1794<>\"\",TEXT(C1794,\"\"),\"\"),\" - \",IF(K1794<>\"\",TEXT(K1794,\"\"),\"\")))","v":""},{"$f":"SUBSTITUTE(SUBSTITUTE(SUBSTITUTE(SUBSTITUTE(IF(L1794<>\"\",HLink(L1794),\"\"),\"htm\",\"html\"),\"1x2\",\"analysis\"),\"www\",\"data\"),\"com\",\"vip\")","v":""},{"$f":"IF(D1794<>\"\",D1794,\"\")","v":""},{"$f":"IF(E1794<>\"\",E1794,\"\")","v":""},{"$f":"IF(F1794<>\"\",F1794,\"\")","v":""},{"$f":"IF(N1794<>\"\",IF(D1795<>\"\",D1795,D1794),\"\")","v":""},{"$f":"IF(N1794<>\"\",IF(E1795<>\"\",E1795,E1794),\"\")","v":""},{"$f":"IF(N1794<>\"\",IF(F1795<>\"\",F1795,F1794),\"\")","v":""}]
[]
[null,null,null,null,null,null,null,null,null,null,null,null,null,{"$f":"IF(A1796<>\"\",TEXT(A1796,\"\"),\"\")","v":""},{"$f":"IF(N1796=\"\",\"\",CONCATENATE(IF(C1796<>\"\",TEXT(C1796,\"\"),\"\"),\" - \",IF(K1796<>\"\",TEXT(K1796,\"\"),\"\")))","v":""},{"$f":"SUBSTITUTE(SUBSTITUTE(SUBSTITUTE(SUBSTITUTE(IF(L1796<>\"\",HLink(L1796),\"\"),\"htm\",\"html\"),\"1x2\",\"analysis\"),\"www\",\"data\"),\"com\",\"vip\")","v":""},{"$f":"IF(D1796<>\"\",D1796,\"\")","v":""},{"$f":"IF(E1796<>\"\",E1796,\"\")","v":""},{"$f":"IF(F1796<>\"\",F1796,\"\")","v":""},{"$f":"IF(N1796<>\"\",IF(D1797<>\"\",D1797,D1796),\"\")","v":""},{"$f":"IF(N1796<>\"\",IF(E1797<>\"\",E1797,E1796),\"\")","v":""},{"$f":"IF(N1796<>\"\",IF(F1797<>\"\",F1797,F1796),\"\")","v":""}]
[]
[null,null,null,null,null,null,null,null,null,null,null,null,null,{"$f":"IF(A1798<>\"\",TEXT(A1798,\"\"),\"\")","v":""},{"$f":"IF(N1798=\"\",\"\",CONCATENATE(IF(C1798<>\"\",TEXT(C1798,\"\"),\"\"),\" - \",IF(K1798<>\"\",TEXT(K1798,\"\"),\"\")))","v":""},{"$f":"SUBSTITUTE(SUBSTITUTE(SUBSTITUTE(SUBSTITUTE(IF(L1798<>\"\",HLink(L1798),\"\"),\"htm\",\"html\"),\"1x2\",\"analysis\"),\"www\",\"data\"),\"com\",\"vip\")","v":""},{"$f":"IF(D1798<>\"\",D1798,\"\")","v":""},{"$f":"IF(E1798<>\"\",E1798,\"\")","v":""},{"$f":"IF(F1798<>\"\",F1798,\"\")","v":""},{"$f":"IF(N1798<>\"\",IF(D1799<>\"\",D1799,D1798),\"\")","v":""},{"$f":"IF(N1798<>\"\",IF(E1799<>\"\",E1799,E1798),\"\")","v":""},{"$f":"IF(N1798<>\"\",IF(F1799<>\"\",F1799,F1798),\"\")","v":""}]
[]
[null,null,null,null,null,null,null,null,null,null,null,null,null,{"$f":"IF(A1800<>\"\",TEXT(A1800,\"\"),\"\")","v":""},{"$f":"IF(N1800=\"\",\"\",CONCATENATE(IF(C1800<>\"\",TEXT(C1800,\"\"),\"\"),\" - \",IF(K1800<>\"\",TEXT(K1800,\"\"),\"\")))","v":""},{"$f":"SUBSTITUTE(SUBSTITUTE(SUBSTITUTE(SUBSTITUTE(IF(L1800<>\"\",HLink(L1800),\"\"),\"htm\",\"html\"),\"1x2\",\"analysis\"),\"www\",\"data\"),\"com\",\"vip\")","v":""},{"$f":"IF(D1800<>\"\",D1800,\"\")","v":""},{"$f":"IF(E1800<>\"\",E1800,\"\")","v":""},{"$f":"IF(F1800<>\"\",F1800,\"\")","v":""},{"$f":"IF(N1800<>\"\",IF(D1801<>\"\",D1801,D1800),\"\")","v":""},{"$f":"IF(N1800<>\"\",IF(E1801<>\"\",E1801,E1800),\"\")","v":""},{"$f":"IF(N1800<>\"\",IF(F1801<>\"\",F1801,F1800),\"\")","v":""}]
[]
[null,null,null,null,null,null,null,null,null,null,null,null,null,{"$f":"IF(A1802<>\"\",TEXT(A1802,\"\"),\"\")","v":""},{"$f":"IF(N1802=\"\",\"\",CONCATENATE(IF(C1802<>\"\",TEXT(C1802,\"\"),\"\"),\" - \",IF(K1802<>\"\",TEXT(K1802,\"\"),\"\")))","v":""},{"$f":"SUBSTITUTE(SUBSTITUTE(SUBSTITUTE(SUBSTITUTE(IF(L1802<>\"\",HLink(L1802),\"\"),\"htm\",\"html\"),\"1x2\",\"analysis\"),\"www\",\"data\"),\"com\",\"vip\")","v":""},{"$f":"IF(D1802<>\"\",D1802,\"\")","v":""},{"$f":"IF(E1802<>\"\",E1802,\"\")","v":""},{"$f":"IF(F1802<>\"\",F1802,\"\")","v":""},{"$f":"IF(N1802<>\"\",IF(D1803<>\"\",D1803,D1802),\"\")","v":""},{"$f":"IF(N1802<>\"\",IF(E1803<>\"\",E1803,E1802),\"\")","v":""},{"$f":"IF(N1802<>\"\",IF(F1803<>\"\",F1803,F1802),\"\")","v":""}]
[]
[null,null,null,null,null,null,null,null,null,null,null,null,null,{"$f":"IF(A1804<>\"\",TEXT(A1804,\"\"),\"\")","v":""},{"$f":"IF(N1804=\"\",\"\",CONCATENATE(IF(C1804<>\"\",TEXT(C1804,\"\"),\"\"),\" - \",IF(K1804<>\"\",TEXT(K1804,\"\"),\"\")))","v":""},{"$f":"SUBSTITUTE(SUBSTITUTE(SUBSTITUTE(SUBSTITUTE(IF(L1804<>\"\",HLink(L1804),\"\"),\"htm\",\"html\"),\"1x2\",\"analysis\"),\"www\",\"data\"),\"com\",\"vip\")","v":""},{"$f":"IF(D1804<>\"\",D1804,\"\")","v":""},{"$f":"IF(E1804<>\"\",E1804,\"\")","v":""},{"$f":"IF(F1804<>\"\",F1804,\"\")","v":""},{"$f":"IF(N1804<>\"\",IF(D1805<>\"\",D1805,D1804),\"\")","v":""},{"$f":"IF(N1804<>\"\",IF(E1805<>\"\",E1805,E1804),\"\")","v":""},{"$f":"IF(N1804<>\"\",IF(F1805<>\"\",F1805,F1804),\"\")","v":""}]
[]
[null,null,null,null,null,null,null,null,null,null,null,null,null,{"$f":"IF(A1806<>\"\",TEXT(A1806,\"\"),\"\")","v":""},{"$f":"IF(N1806=\"\",\"\",CONCATENATE(IF(C1806<>\"\",TEXT(C1806,\"\"),\"\"),\" - \",IF(K1806<>\"\",TEXT(K1806,\"\"),\"\")))","v":""},{"$f":"SUBSTITUTE(SUBSTITUTE(SUBSTITUTE(SUBSTITUTE(IF(L1806<>\"\",HLink(L1806),\"\"),\"htm\",\"html\"),\"1x2\",\"analysis\"),\"www\",\"data\"),\"com\",\"vip\")","v":""},{"$f":"IF(D1806<>\"\",D1806,\"\")","v":""},{"$f":"IF(E1806<>\"\",E1806,\"\")","v":""},{"$f":"IF(F1806<>\"\",F1806,\"\")","v":""},{"$f":"IF(N1806<>\"\",IF(D1807<>\"\",D1807,D1806),\"\")","v":""},{"$f":"IF(N1806<>\"\",IF(E1807<>\"\",E1807,E1806),\"\")","v":""},{"$f":"IF(N1806<>\"\",IF(F1807<>\"\",F1807,F1806),\"\")","v":""}]
[]
[null,null,null,null,null,null,null,null,null,null,null,null,null,{"$f":"IF(A1808<>\"\",TEXT(A1808,\"\"),\"\")","v":""},{"$f":"IF(N1808=\"\",\"\",CONCATENATE(IF(C1808<>\"\",TEXT(C1808,\"\"),\"\"),\" - \",IF(K1808<>\"\",TEXT(K1808,\"\"),\"\")))","v":""},{"$f":"SUBSTITUTE(SUBSTITUTE(SUBSTITUTE(SUBSTITUTE(IF(L1808<>\"\",HLink(L1808),\"\"),\"htm\",\"html\"),\"1x2\",\"analysis\"),\"www\",\"data\"),\"com\",\"vip\")","v":""},{"$f":"IF(D1808<>\"\",D1808,\"\")","v":""},{"$f":"IF(E1808<>\"\",E1808,\"\")","v":""},{"$f":"IF(F1808<>\"\",F1808,\"\")","v":""},{"$f":"IF(N1808<>\"\",IF(D1809<>\"\",D1809,D1808),\"\")","v":""},{"$f":"IF(N1808<>\"\",IF(E1809<>\"\",E1809,E1808),\"\")","v":""},{"$f":"IF(N1808<>\"\",IF(F1809<>\"\",F1809,F1808),\"\")","v":""}]
[]
[null,null,null,null,null,null,null,null,null,null,null,null,null,{"$f":"IF(A1810<>\"\",TEXT(A1810,\"\"),\"\")","v":""},{"$f":"IF(N1810=\"\",\"\",CONCATENATE(IF(C1810<>\"\",TEXT(C1810,\"\"),\"\"),\" - \",IF(K1810<>\"\",TEXT(K1810,\"\"),\"\")))","v":""},{"$f":"SUBSTITUTE(SUBSTITUTE(SUBSTITUTE(SUBSTITUTE(IF(L1810<>\"\",HLink(L1810),\"\"),\"htm\",\"html\"),\"1x2\",\"analysis\"),\"www\",\"data\"),\"com\",\"vip\")","v":""},{"$f":"IF(D1810<>\"\",D1810,\"\")","v":""},{"$f":"IF(E1810<>\"\",E1810,\"\")","v":""},{"$f":"IF(F1810<>\"\",F1810,\"\")","v":""},{"$f":"IF(N1810<>\"\",IF(D1811<>\"\",D1811,D1810),\"\")","v":""},{"$f":"IF(N1810<>\"\",IF(E1811<>\"\",E1811,E1810),\"\")","v":""},{"$f":"IF(N1810<>\"\",IF(F1811<>\"\",F1811,F1810),\"\")","v":""}]
[]
[null,null,null,null,null,null,null,null,null,null,null,null,null,{"$f":"IF(A1812<>\"\",TEXT(A1812,\"\"),\"\")","v":""},{"$f":"IF(N1812=\"\",\"\",CONCATENATE(IF(C1812<>\"\",TEXT(C1812,\"\"),\"\"),\" - \",IF(K1812<>\"\",TEXT(K1812,\"\"),\"\")))","v":""},{"$f":"SUBSTITUTE(SUBSTITUTE(SUBSTITUTE(SUBSTITUTE(IF(L1812<>\"\",HLink(L1812),\"\"),\"htm\",\"html\"),\"1x2\",\"analysis\"),\"www\",\"data\"),\"com\",\"vip\")","v":""},{"$f":"IF(D1812<>\"\",D1812,\"\")","v":""},{"$f":"IF(E1812<>\"\",E1812,\"\")","v":""},{"$f":"IF(F1812<>\"\",F1812,\"\")","v":""},{"$f":"IF(N1812<>\"\",IF(D1813<>\"\",D1813,D1812),\"\")","v":""},{"$f":"IF(N1812<>\"\",IF(E1813<>\"\",E1813,E1812),\"\")","v":""},{"$f":"IF(N1812<>\"\",IF(F1813<>\"\",F1813,F1812),\"\")","v":""}]
[]
[null,null,null,null,null,null,null,null,null,null,null,null,null,{"$f":"IF(A1814<>\"\",TEXT(A1814,\"\"),\"\")","v":""},{"$f":"IF(N1814=\"\",\"\",CONCATENATE(IF(C1814<>\"\",TEXT(C1814,\"\"),\"\"),\" - \",IF(K1814<>\"\",TEXT(K1814,\"\"),\"\")))","v":""},{"$f":"SUBSTITUTE(SUBSTITUTE(SUBSTITUTE(SUBSTITUTE(IF(L1814<>\"\",HLink(L1814),\"\"),\"htm\",\"html\"),\"1x2\",\"analysis\"),\"www\",\"data\"),\"com\",\"vip\")","v":""},{"$f":"IF(D1814<>\"\",D1814,\"\")","v":""},{"$f":"IF(E1814<>\"\",E1814,\"\")","v":""},{"$f":"IF(F1814<>\"\",F1814,\"\")","v":""},{"$f":"IF(N1814<>\"\",IF(D1815<>\"\",D1815,D1814),\"\")","v":""},{"$f":"IF(N1814<>\"\",IF(E1815<>\"\",E1815,E1814),\"\")","v":""},{"$f":"IF(N1814<>\"\",IF(F1815<>\"\",F1815,F1814),\"\")","v":""}]
[]
[null,null,null,null,null,null,null,null,null,null,null,null,null,{"$f":"IF(A1816<>\"\",TEXT(A1816,\"\"),\"\")","v":""},{"$f":"IF(N1816=\"\",\"\",CONCATENATE(IF(C1816<>\"\",TEXT(C1816,\"\"),\"\"),\" - \",IF(K1816<>\"\",TEXT(K1816,\"\"),\"\")))","v":""},{"$f":"SUBSTITUTE(SUBSTITUTE(SUBSTITUTE(SUBSTITUTE(IF(L1816<>\"\",HLink(L1816),\"\"),\"htm\",\"html\"),\"1x2\",\"analysis\"),\"www\",\"data\"),\"com\",\"vip\")","v":""},{"$f":"IF(D1816<>\"\",D1816,\"\")","v":""},{"$f":"IF(E1816<>\"\",E1816,\"\")","v":""},{"$f":"IF(F1816<>\"\",F1816,\"\")","v":""},{"$f":"IF(N1816<>\"\",IF(D1817<>\"\",D1817,D1816),\"\")","v":""},{"$f":"IF(N1816<>\"\",IF(E1817<>\"\",E1817,E1816),\"\")","v":""},{"$f":"IF(N1816<>\"\",IF(F1817<>\"\",F1817,F1816),\"\")","v":""}]
[]
[null,null,null,null,null,null,null,null,null,null,null,null,null,{"$f":"IF(A1818<>\"\",TEXT(A1818,\"\"),\"\")","v":""},{"$f":"IF(N1818=\"\",\"\",CONCATENATE(IF(C1818<>\"\",TEXT(C1818,\"\"),\"\"),\" - \",IF(K1818<>\"\",TEXT(K1818,\"\"),\"\")))","v":""},{"$f":"SUBSTITUTE(SUBSTITUTE(SUBSTITUTE(SUBSTITUTE(IF(L1818<>\"\",HLink(L1818),\"\"),\"htm\",\"html\"),\"1x2\",\"analysis\"),\"www\",\"data\"),\"com\",\"vip\")","v":""},{"$f":"IF(D1818<>\"\",D1818,\"\")","v":""},{"$f":"IF(E1818<>\"\",E1818,\"\")","v":""},{"$f":"IF(F1818<>\"\",F1818,\"\")","v":""},{"$f":"IF(N1818<>\"\",IF(D1819<>\"\",D1819,D1818),\"\")","v":""},{"$f":"IF(N1818<>\"\",IF(E1819<>\"\",E1819,E1818),\"\")","v":""},{"$f":"IF(N1818<>\"\",IF(F1819<>\"\",F1819,F1818),\"\")","v":""}]
[]
[null,null,null,null,null,null,null,null,null,null,null,null,null,{"$f":"IF(A1820<>\"\",TEXT(A1820,\"\"),\"\")","v":""},{"$f":"IF(N1820=\"\",\"\",CONCATENATE(IF(C1820<>\"\",TEXT(C1820,\"\"),\"\"),\" - \",IF(K1820<>\"\",TEXT(K1820,\"\"),\"\")))","v":""},{"$f":"SUBSTITUTE(SUBSTITUTE(SUBSTITUTE(SUBSTITUTE(IF(L1820<>\"\",HLink(L1820),\"\"),\"htm\",\"html\"),\"1x2\",\"analysis\"),\"www\",\"data\"),\"com\",\"vip\")","v":""},{"$f":"IF(D1820<>\"\",D1820,\"\")","v":""},{"$f":"IF(E1820<>\"\",E1820,\"\")","v":""},{"$f":"IF(F1820<>\"\",F1820,\"\")","v":""},{"$f":"IF(N1820<>\"\",IF(D1821<>\"\",D1821,D1820),\"\")","v":""},{"$f":"IF(N1820<>\"\",IF(E1821<>\"\",E1821,E1820),\"\")","v":""},{"$f":"IF(N1820<>\"\",IF(F1821<>\"\",F1821,F1820),\"\")","v":""}]
[]
[null,null,null,null,null,null,null,null,null,null,null,null,null,{"$f":"IF(A1822<>\"\",TEXT(A1822,\"\"),\"\")","v":""},{"$f":"IF(N1822=\"\",\"\",CONCATENATE(IF(C1822<>\"\",TEXT(C1822,\"\"),\"\"),\" - \",IF(K1822<>\"\",TEXT(K1822,\"\"),\"\")))","v":""},{"$f":"SUBSTITUTE(SUBSTITUTE(SUBSTITUTE(SUBSTITUTE(IF(L1822<>\"\",HLink(L1822),\"\"),\"htm\",\"html\"),\"1x2\",\"analysis\"),\"www\",\"data\"),\"com\",\"vip\")","v":""},{"$f":"IF(D1822<>\"\",D1822,\"\")","v":""},{"$f":"IF(E1822<>\"\",E1822,\"\")","v":""},{"$f":"IF(F1822<>\"\",F1822,\"\")","v":""},{"$f":"IF(N1822<>\"\",IF(D1823<>\"\",D1823,D1822),\"\")","v":""},{"$f":"IF(N1822<>\"\",IF(E1823<>\"\",E1823,E1822),\"\")","v":""},{"$f":"IF(N1822<>\"\",IF(F1823<>\"\",F1823,F1822),\"\")","v":""}]
[]
[null,null,null,null,null,null,null,null,null,null,null,null,null,{"$f":"IF(A1824<>\"\",TEXT(A1824,\"\"),\"\")","v":""},{"$f":"IF(N1824=\"\",\"\",CONCATENATE(IF(C1824<>\"\",TEXT(C1824,\"\"),\"\"),\" - \",IF(K1824<>\"\",TEXT(K1824,\"\"),\"\")))","v":""},{"$f":"SUBSTITUTE(SUBSTITUTE(SUBSTITUTE(SUBSTITUTE(IF(L1824<>\"\",HLink(L1824),\"\"),\"htm\",\"html\"),\"1x2\",\"analysis\"),\"www\",\"data\"),\"com\",\"vip\")","v":""},{"$f":"IF(D1824<>\"\",D1824,\"\")","v":""},{"$f":"IF(E1824<>\"\",E1824,\"\")","v":""},{"$f":"IF(F1824<>\"\",F1824,\"\")","v":""},{"$f":"IF(N1824<>\"\",IF(D1825<>\"\",D1825,D1824),\"\")","v":""},{"$f":"IF(N1824<>\"\",IF(E1825<>\"\",E1825,E1824),\"\")","v":""},{"$f":"IF(N1824<>\"\",IF(F1825<>\"\",F1825,F1824),\"\")","v":""}]
[]
[null,null,null,null,null,null,null,null,null,null,null,null,null,{"$f":"IF(A1826<>\"\",TEXT(A1826,\"\"),\"\")","v":""},{"$f":"IF(N1826=\"\",\"\",CONCATENATE(IF(C1826<>\"\",TEXT(C1826,\"\"),\"\"),\" - \",IF(K1826<>\"\",TEXT(K1826,\"\"),\"\")))","v":""},{"$f":"SUBSTITUTE(SUBSTITUTE(SUBSTITUTE(SUBSTITUTE(IF(L1826<>\"\",HLink(L1826),\"\"),\"htm\",\"html\"),\"1x2\",\"analysis\"),\"www\",\"data\"),\"com\",\"vip\")","v":""},{"$f":"IF(D1826<>\"\",D1826,\"\")","v":""},{"$f":"IF(E1826<>\"\",E1826,\"\")","v":""},{"$f":"IF(F1826<>\"\",F1826,\"\")","v":""},{"$f":"IF(N1826<>\"\",IF(D1827<>\"\",D1827,D1826),\"\")","v":""},{"$f":"IF(N1826<>\"\",IF(E1827<>\"\",E1827,E1826),\"\")","v":""},{"$f":"IF(N1826<>\"\",IF(F1827<>\"\",F1827,F1826),\"\")","v":""}]
[]
[null,null,null,null,null,null,null,null,null,null,null,null,null,{"$f":"IF(A1828<>\"\",TEXT(A1828,\"\"),\"\")","v":""},{"$f":"IF(N1828=\"\",\"\",CONCATENATE(IF(C1828<>\"\",TEXT(C1828,\"\"),\"\"),\" - \",IF(K1828<>\"\",TEXT(K1828,\"\"),\"\")))","v":""},{"$f":"SUBSTITUTE(SUBSTITUTE(SUBSTITUTE(SUBSTITUTE(IF(L1828<>\"\",HLink(L1828),\"\"),\"htm\",\"html\"),\"1x2\",\"analysis\"),\"www\",\"data\"),\"com\",\"vip\")","v":""},{"$f":"IF(D1828<>\"\",D1828,\"\")","v":""},{"$f":"IF(E1828<>\"\",E1828,\"\")","v":""},{"$f":"IF(F1828<>\"\",F1828,\"\")","v":""},{"$f":"IF(N1828<>\"\",IF(D1829<>\"\",D1829,D1828),\"\")","v":""},{"$f":"IF(N1828<>\"\",IF(E1829<>\"\",E1829,E1828),\"\")","v":""},{"$f":"IF(N1828<>\"\",IF(F1829<>\"\",F1829,F1828),\"\")","v":""}]
[]
[null,null,null,null,null,null,null,null,null,null,null,null,null,{"$f":"IF(A1830<>\"\",TEXT(A1830,\"\"),\"\")","v":""},{"$f":"IF(N1830=\"\",\"\",CONCATENATE(IF(C1830<>\"\",TEXT(C1830,\"\"),\"\"),\" - \",IF(K1830<>\"\",TEXT(K1830,\"\"),\"\")))","v":""},{"$f":"SUBSTITUTE(SUBSTITUTE(SUBSTITUTE(SUBSTITUTE(IF(L1830<>\"\",HLink(L1830),\"\"),\"htm\",\"html\"),\"1x2\",\"analysis\"),\"www\",\"data\"),\"com\",\"vip\")","v":""},{"$f":"IF(D1830<>\"\",D1830,\"\")","v":""},{"$f":"IF(E1830<>\"\",E1830,\"\")","v":""},{"$f":"IF(F1830<>\"\",F1830,\"\")","v":""},{"$f":"IF(N1830<>\"\",IF(D1831<>\"\",D1831,D1830),\"\")","v":""},{"$f":"IF(N1830<>\"\",IF(E1831<>\"\",E1831,E1830),\"\")","v":""},{"$f":"IF(N1830<>\"\",IF(F1831<>\"\",F1831,F1830),\"\")","v":""}]
[]
[null,null,null,null,null,null,null,null,null,null,null,null,null,{"$f":"IF(A1832<>\"\",TEXT(A1832,\"\"),\"\")","v":""},{"$f":"IF(N1832=\"\",\"\",CONCATENATE(IF(C1832<>\"\",TEXT(C1832,\"\"),\"\"),\" - \",IF(K1832<>\"\",TEXT(K1832,\"\"),\"\")))","v":""},{"$f":"SUBSTITUTE(SUBSTITUTE(SUBSTITUTE(SUBSTITUTE(IF(L1832<>\"\",HLink(L1832),\"\"),\"htm\",\"html\"),\"1x2\",\"analysis\"),\"www\",\"data\"),\"com\",\"vip\")","v":""},{"$f":"IF(D1832<>\"\",D1832,\"\")","v":""},{"$f":"IF(E1832<>\"\",E1832,\"\")","v":""},{"$f":"IF(F1832<>\"\",F1832,\"\")","v":""},{"$f":"IF(N1832<>\"\",IF(D1833<>\"\",D1833,D1832),\"\")","v":""},{"$f":"IF(N1832<>\"\",IF(E1833<>\"\",E1833,E1832),\"\")","v":""},{"$f":"IF(N1832<>\"\",IF(F1833<>\"\",F1833,F1832),\"\")","v":""}]
[]
[null,null,null,null,null,null,null,null,null,null,null,null,null,{"$f":"IF(A1834<>\"\",TEXT(A1834,\"\"),\"\")","v":""},{"$f":"IF(N1834=\"\",\"\",CONCATENATE(IF(C1834<>\"\",TEXT(C1834,\"\"),\"\"),\" - \",IF(K1834<>\"\",TEXT(K1834,\"\"),\"\")))","v":""},{"$f":"SUBSTITUTE(SUBSTITUTE(SUBSTITUTE(SUBSTITUTE(IF(L1834<>\"\",HLink(L1834),\"\"),\"htm\",\"html\"),\"1x2\",\"analysis\"),\"www\",\"data\"),\"com\",\"vip\")","v":""},{"$f":"IF(D1834<>\"\",D1834,\"\")","v":""},{"$f":"IF(E1834<>\"\",E1834,\"\")","v":""},{"$f":"IF(F1834<>\"\",F1834,\"\")","v":""},{"$f":"IF(N1834<>\"\",IF(D1835<>\"\",D1835,D1834),\"\")","v":""},{"$f":"IF(N1834<>\"\",IF(E1835<>\"\",E1835,E1834),\"\")","v":""},{"$f":"IF(N1834<>\"\",IF(F1835<>\"\",F1835,F1834),\"\")","v":""}]
[]
[null,null,null,null,null,null,null,null,null,null,null,null,null,{"$f":"IF(A1836<>\"\",TEXT(A1836,\"\"),\"\")","v":""},{"$f":"IF(N1836=\"\",\"\",CONCATENATE(IF(C1836<>\"\",TEXT(C1836,\"\"),\"\"),\" - \",IF(K1836<>\"\",TEXT(K1836,\"\"),\"\")))","v":""},{"$f":"SUBSTITUTE(SUBSTITUTE(SUBSTITUTE(SUBSTITUTE(IF(L1836<>\"\",HLink(L1836),\"\"),\"htm\",\"html\"),\"1x2\",\"analysis\"),\"www\",\"data\"),\"com\",\"vip\")","v":""},{"$f":"IF(D1836<>\"\",D1836,\"\")","v":""},{"$f":"IF(E1836<>\"\",E1836,\"\")","v":""},{"$f":"IF(F1836<>\"\",F1836,\"\")","v":""},{"$f":"IF(N1836<>\"\",IF(D1837<>\"\",D1837,D1836),\"\")","v":""},{"$f":"IF(N1836<>\"\",IF(E1837<>\"\",E1837,E1836),\"\")","v":""},{"$f":"IF(N1836<>\"\",IF(F1837<>\"\",F1837,F1836),\"\")","v":""}]
[]
[null,null,null,null,null,null,null,null,null,null,null,null,null,{"$f":"IF(A1838<>\"\",TEXT(A1838,\"\"),\"\")","v":""},{"$f":"IF(N1838=\"\",\"\",CONCATENATE(IF(C1838<>\"\",TEXT(C1838,\"\"),\"\"),\" - \",IF(K1838<>\"\",TEXT(K1838,\"\"),\"\")))","v":""},{"$f":"SUBSTITUTE(SUBSTITUTE(SUBSTITUTE(SUBSTITUTE(IF(L1838<>\"\",HLink(L1838),\"\"),\"htm\",\"html\"),\"1x2\",\"analysis\"),\"www\",\"data\"),\"com\",\"vip\")","v":""},{"$f":"IF(D1838<>\"\",D1838,\"\")","v":""},{"$f":"IF(E1838<>\"\",E1838,\"\")","v":""},{"$f":"IF(F1838<>\"\",F1838,\"\")","v":""},{"$f":"IF(N1838<>\"\",IF(D1839<>\"\",D1839,D1838),\"\")","v":""},{"$f":"IF(N1838<>\"\",IF(E1839<>\"\",E1839,E1838),\"\")","v":""},{"$f":"IF(N1838<>\"\",IF(F1839<>\"\",F1839,F1838),\"\")","v":""}]
[]
[null,null,null,null,null,null,null,null,null,null,null,null,null,{"$f":"IF(A1840<>\"\",TEXT(A1840,\"\"),\"\")","v":""},{"$f":"IF(N1840=\"\",\"\",CONCATENATE(IF(C1840<>\"\",TEXT(C1840,\"\"),\"\"),\" - \",IF(K1840<>\"\",TEXT(K1840,\"\"),\"\")))","v":""},{"$f":"SUBSTITUTE(SUBSTITUTE(SUBSTITUTE(SUBSTITUTE(IF(L1840<>\"\",HLink(L1840),\"\"),\"htm\",\"html\"),\"1x2\",\"analysis\"),\"www\",\"data\"),\"com\",\"vip\")","v":""},{"$f":"IF(D1840<>\"\",D1840,\"\")","v":""},{"$f":"IF(E1840<>\"\",E1840,\"\")","v":""},{"$f":"IF(F1840<>\"\",F1840,\"\")","v":""},{"$f":"IF(N1840<>\"\",IF(D1841<>\"\",D1841,D1840),\"\")","v":""},{"$f":"IF(N1840<>\"\",IF(E1841<>\"\",E1841,E1840),\"\")","v":""},{"$f":"IF(N1840<>\"\",IF(F1841<>\"\",F1841,F1840),\"\")","v":""}]
[]
[null,null,null,null,null,null,null,null,null,null,null,null,null,{"$f":"IF(A1842<>\"\",TEXT(A1842,\"\"),\"\")","v":""},{"$f":"IF(N1842=\"\",\"\",CONCATENATE(IF(C1842<>\"\",TEXT(C1842,\"\"),\"\"),\" - \",IF(K1842<>\"\",TEXT(K1842,\"\"),\"\")))","v":""},{"$f":"SUBSTITUTE(SUBSTITUTE(SUBSTITUTE(SUBSTITUTE(IF(L1842<>\"\",HLink(L1842),\"\"),\"htm\",\"html\"),\"1x2\",\"analysis\"),\"www\",\"data\"),\"com\",\"vip\")","v":""},{"$f":"IF(D1842<>\"\",D1842,\"\")","v":""},{"$f":"IF(E1842<>\"\",E1842,\"\")","v":""},{"$f":"IF(F1842<>\"\",F1842,\"\")","v":""},{"$f":"IF(N1842<>\"\",IF(D1843<>\"\",D1843,D1842),\"\")","v":""},{"$f":"IF(N1842<>\"\",IF(E1843<>\"\",E1843,E1842),\"\")","v":""},{"$f":"IF(N1842<>\"\",IF(F1843<>\"\",F1843,F1842),\"\")","v":""}]
[]
[null,null,null,null,null,null,null,null,null,null,null,null,null,{"$f":"IF(A1844<>\"\",TEXT(A1844,\"\"),\"\")","v":""},{"$f":"IF(N1844=\"\",\"\",CONCATENATE(IF(C1844<>\"\",TEXT(C1844,\"\"),\"\"),\" - \",IF(K1844<>\"\",TEXT(K1844,\"\"),\"\")))","v":""},{"$f":"SUBSTITUTE(SUBSTITUTE(SUBSTITUTE(SUBSTITUTE(IF(L1844<>\"\",HLink(L1844),\"\"),\"htm\",\"html\"),\"1x2\",\"analysis\"),\"www\",\"data\"),\"com\",\"vip\")","v":""},{"$f":"IF(D1844<>\"\",D1844,\"\")","v":""},{"$f":"IF(E1844<>\"\",E1844,\"\")","v":""},{"$f":"IF(F1844<>\"\",F1844,\"\")","v":""},{"$f":"IF(N1844<>\"\",IF(D1845<>\"\",D1845,D1844),\"\")","v":""},{"$f":"IF(N1844<>\"\",IF(E1845<>\"\",E1845,E1844),\"\")","v":""},{"$f":"IF(N1844<>\"\",IF(F1845<>\"\",F1845,F1844),\"\")","v":""}]
[]
[null,null,null,null,null,null,null,null,null,null,null,null,null,{"$f":"IF(A1846<>\"\",TEXT(A1846,\"\"),\"\")","v":""},{"$f":"IF(N1846=\"\",\"\",CONCATENATE(IF(C1846<>\"\",TEXT(C1846,\"\"),\"\"),\" - \",IF(K1846<>\"\",TEXT(K1846,\"\"),\"\")))","v":""},{"$f":"SUBSTITUTE(SUBSTITUTE(SUBSTITUTE(SUBSTITUTE(IF(L1846<>\"\",HLink(L1846),\"\"),\"htm\",\"html\"),\"1x2\",\"analysis\"),\"www\",\"data\"),\"com\",\"vip\")","v":""},{"$f":"IF(D1846<>\"\",D1846,\"\")","v":""},{"$f":"IF(E1846<>\"\",E1846,\"\")","v":""},{"$f":"IF(F1846<>\"\",F1846,\"\")","v":""},{"$f":"IF(N1846<>\"\",IF(D1847<>\"\",D1847,D1846),\"\")","v":""},{"$f":"IF(N1846<>\"\",IF(E1847<>\"\",E1847,E1846),\"\")","v":""},{"$f":"IF(N1846<>\"\",IF(F1847<>\"\",F1847,F1846),\"\")","v":""}]
[]
[null,null,null,null,null,null,null,null,null,null,null,null,null,{"$f":"IF(A1848<>\"\",TEXT(A1848,\"\"),\"\")","v":""},{"$f":"IF(N1848=\"\",\"\",CONCATENATE(IF(C1848<>\"\",TEXT(C1848,\"\"),\"\"),\" - \",IF(K1848<>\"\",TEXT(K1848,\"\"),\"\")))","v":""},{"$f":"SUBSTITUTE(SUBSTITUTE(SUBSTITUTE(SUBSTITUTE(IF(L1848<>\"\",HLink(L1848),\"\"),\"htm\",\"html\"),\"1x2\",\"analysis\"),\"www\",\"data\"),\"com\",\"vip\")","v":""},{"$f":"IF(D1848<>\"\",D1848,\"\")","v":""},{"$f":"IF(E1848<>\"\",E1848,\"\")","v":""},{"$f":"IF(F1848<>\"\",F1848,\"\")","v":""},{"$f":"IF(N1848<>\"\",IF(D1849<>\"\",D1849,D1848),\"\")","v":""},{"$f":"IF(N1848<>\"\",IF(E1849<>\"\",E1849,E1848),\"\")","v":""},{"$f":"IF(N1848<>\"\",IF(F1849<>\"\",F1849,F1848),\"\")","v":""}]
[]
[null,null,null,null,null,null,null,null,null,null,null,null,null,{"$f":"IF(A1850<>\"\",TEXT(A1850,\"\"),\"\")","v":""},{"$f":"IF(N1850=\"\",\"\",CONCATENATE(IF(C1850<>\"\",TEXT(C1850,\"\"),\"\"),\" - \",IF(K1850<>\"\",TEXT(K1850,\"\"),\"\")))","v":""},{"$f":"SUBSTITUTE(SUBSTITUTE(SUBSTITUTE(SUBSTITUTE(IF(L1850<>\"\",HLink(L1850),\"\"),\"htm\",\"html\"),\"1x2\",\"analysis\"),\"www\",\"data\"),\"com\",\"vip\")","v":""},{"$f":"IF(D1850<>\"\",D1850,\"\")","v":""},{"$f":"IF(E1850<>\"\",E1850,\"\")","v":""},{"$f":"IF(F1850<>\"\",F1850,\"\")","v":""},{"$f":"IF(N1850<>\"\",IF(D1851<>\"\",D1851,D1850),\"\")","v":""},{"$f":"IF(N1850<>\"\",IF(E1851<>\"\",E1851,E1850),\"\")","v":""},{"$f":"IF(N1850<>\"\",IF(F1851<>\"\",F1851,F1850),\"\")","v":""}]
[]
[null,null,null,null,null,null,null,null,null,null,null,null,null,{"$f":"IF(A1852<>\"\",TEXT(A1852,\"\"),\"\")","v":""},{"$f":"IF(N1852=\"\",\"\",CONCATENATE(IF(C1852<>\"\",TEXT(C1852,\"\"),\"\"),\" - \",IF(K1852<>\"\",TEXT(K1852,\"\"),\"\")))","v":""},{"$f":"SUBSTITUTE(SUBSTITUTE(SUBSTITUTE(SUBSTITUTE(IF(L1852<>\"\",HLink(L1852),\"\"),\"htm\",\"html\"),\"1x2\",\"analysis\"),\"www\",\"data\"),\"com\",\"vip\")","v":""},{"$f":"IF(D1852<>\"\",D1852,\"\")","v":""},{"$f":"IF(E1852<>\"\",E1852,\"\")","v":""},{"$f":"IF(F1852<>\"\",F1852,\"\")","v":""},{"$f":"IF(N1852<>\"\",IF(D1853<>\"\",D1853,D1852),\"\")","v":""},{"$f":"IF(N1852<>\"\",IF(E1853<>\"\",E1853,E1852),\"\")","v":""},{"$f":"IF(N1852<>\"\",IF(F1853<>\"\",F1853,F1852),\"\")","v":""}]
[]
[null,null,null,null,null,null,null,null,null,null,null,null,null,{"$f":"IF(A1854<>\"\",TEXT(A1854,\"\"),\"\")","v":""},{"$f":"IF(N1854=\"\",\"\",CONCATENATE(IF(C1854<>\"\",TEXT(C1854,\"\"),\"\"),\" - \",IF(K1854<>\"\",TEXT(K1854,\"\"),\"\")))","v":""},{"$f":"SUBSTITUTE(SUBSTITUTE(SUBSTITUTE(SUBSTITUTE(IF(L1854<>\"\",HLink(L1854),\"\"),\"htm\",\"html\"),\"1x2\",\"analysis\"),\"www\",\"data\"),\"com\",\"vip\")","v":""},{"$f":"IF(D1854<>\"\",D1854,\"\")","v":""},{"$f":"IF(E1854<>\"\",E1854,\"\")","v":""},{"$f":"IF(F1854<>\"\",F1854,\"\")","v":""},{"$f":"IF(N1854<>\"\",IF(D1855<>\"\",D1855,D1854),\"\")","v":""},{"$f":"IF(N1854<>\"\",IF(E1855<>\"\",E1855,E1854),\"\")","v":""},{"$f":"IF(N1854<>\"\",IF(F1855<>\"\",F1855,F1854),\"\")","v":""}]
[]
[null,null,null,null,null,null,null,null,null,null,null,null,null,{"$f":"IF(A1856<>\"\",TEXT(A1856,\"\"),\"\")","v":""},{"$f":"IF(N1856=\"\",\"\",CONCATENATE(IF(C1856<>\"\",TEXT(C1856,\"\"),\"\"),\" - \",IF(K1856<>\"\",TEXT(K1856,\"\"),\"\")))","v":""},{"$f":"SUBSTITUTE(SUBSTITUTE(SUBSTITUTE(SUBSTITUTE(IF(L1856<>\"\",HLink(L1856),\"\"),\"htm\",\"html\"),\"1x2\",\"analysis\"),\"www\",\"data\"),\"com\",\"vip\")","v":""},{"$f":"IF(D1856<>\"\",D1856,\"\")","v":""},{"$f":"IF(E1856<>\"\",E1856,\"\")","v":""},{"$f":"IF(F1856<>\"\",F1856,\"\")","v":""},{"$f":"IF(N1856<>\"\",IF(D1857<>\"\",D1857,D1856),\"\")","v":""},{"$f":"IF(N1856<>\"\",IF(E1857<>\"\",E1857,E1856),\"\")","v":""},{"$f":"IF(N1856<>\"\",IF(F1857<>\"\",F1857,F1856),\"\")","v":""}]
[]
[null,null,null,null,null,null,null,null,null,null,null,null,null,{"$f":"IF(A1858<>\"\",TEXT(A1858,\"\"),\"\")","v":""},{"$f":"IF(N1858=\"\",\"\",CONCATENATE(IF(C1858<>\"\",TEXT(C1858,\"\"),\"\"),\" - \",IF(K1858<>\"\",TEXT(K1858,\"\"),\"\")))","v":""},{"$f":"SUBSTITUTE(SUBSTITUTE(SUBSTITUTE(SUBSTITUTE(IF(L1858<>\"\",HLink(L1858),\"\"),\"htm\",\"html\"),\"1x2\",\"analysis\"),\"www\",\"data\"),\"com\",\"vip\")","v":""},{"$f":"IF(D1858<>\"\",D1858,\"\")","v":""},{"$f":"IF(E1858<>\"\",E1858,\"\")","v":""},{"$f":"IF(F1858<>\"\",F1858,\"\")","v":""},{"$f":"IF(N1858<>\"\",IF(D1859<>\"\",D1859,D1858),\"\")","v":""},{"$f":"IF(N1858<>\"\",IF(E1859<>\"\",E1859,E1858),\"\")","v":""},{"$f":"IF(N1858<>\"\",IF(F1859<>\"\",F1859,F1858),\"\")","v":""}]
[]
[null,null,null,null,null,null,null,null,null,null,null,null,null,{"$f":"IF(A1860<>\"\",TEXT(A1860,\"\"),\"\")","v":""},{"$f":"IF(N1860=\"\",\"\",CONCATENATE(IF(C1860<>\"\",TEXT(C1860,\"\"),\"\"),\" - \",IF(K1860<>\"\",TEXT(K1860,\"\"),\"\")))","v":""},{"$f":"SUBSTITUTE(SUBSTITUTE(SUBSTITUTE(SUBSTITUTE(IF(L1860<>\"\",HLink(L1860),\"\"),\"htm\",\"html\"),\"1x2\",\"analysis\"),\"www\",\"data\"),\"com\",\"vip\")","v":""},{"$f":"IF(D1860<>\"\",D1860,\"\")","v":""},{"$f":"IF(E1860<>\"\",E1860,\"\")","v":""},{"$f":"IF(F1860<>\"\",F1860,\"\")","v":""},{"$f":"IF(N1860<>\"\",IF(D1861<>\"\",D1861,D1860),\"\")","v":""},{"$f":"IF(N1860<>\"\",IF(E1861<>\"\",E1861,E1860),\"\")","v":""},{"$f":"IF(N1860<>\"\",IF(F1861<>\"\",F1861,F1860),\"\")","v":""}]
[]
[null,null,null,null,null,null,null,null,null,null,null,null,null,{"$f":"IF(A1862<>\"\",TEXT(A1862,\"\"),\"\")","v":""},{"$f":"IF(N1862=\"\",\"\",CONCATENATE(IF(C1862<>\"\",TEXT(C1862,\"\"),\"\"),\" - \",IF(K1862<>\"\",TEXT(K1862,\"\"),\"\")))","v":""},{"$f":"SUBSTITUTE(SUBSTITUTE(SUBSTITUTE(SUBSTITUTE(IF(L1862<>\"\",HLink(L1862),\"\"),\"htm\",\"html\"),\"1x2\",\"analysis\"),\"www\",\"data\"),\"com\",\"vip\")","v":""},{"$f":"IF(D1862<>\"\",D1862,\"\")","v":""},{"$f":"IF(E1862<>\"\",E1862,\"\")","v":""},{"$f":"IF(F1862<>\"\",F1862,\"\")","v":""},{"$f":"IF(N1862<>\"\",IF(D1863<>\"\",D1863,D1862),\"\")","v":""},{"$f":"IF(N1862<>\"\",IF(E1863<>\"\",E1863,E1862),\"\")","v":""},{"$f":"IF(N1862<>\"\",IF(F1863<>\"\",F1863,F1862),\"\")","v":""}]
[]
[null,null,null,null,null,null,null,null,null,null,null,null,null,{"$f":"IF(A1864<>\"\",TEXT(A1864,\"\"),\"\")","v":""},{"$f":"IF(N1864=\"\",\"\",CONCATENATE(IF(C1864<>\"\",TEXT(C1864,\"\"),\"\"),\" - \",IF(K1864<>\"\",TEXT(K1864,\"\"),\"\")))","v":""},{"$f":"SUBSTITUTE(SUBSTITUTE(SUBSTITUTE(SUBSTITUTE(IF(L1864<>\"\",HLink(L1864),\"\"),\"htm\",\"html\"),\"1x2\",\"analysis\"),\"www\",\"data\"),\"com\",\"vip\")","v":""},{"$f":"IF(D1864<>\"\",D1864,\"\")","v":""},{"$f":"IF(E1864<>\"\",E1864,\"\")","v":""},{"$f":"IF(F1864<>\"\",F1864,\"\")","v":""},{"$f":"IF(N1864<>\"\",IF(D1865<>\"\",D1865,D1864),\"\")","v":""},{"$f":"IF(N1864<>\"\",IF(E1865<>\"\",E1865,E1864),\"\")","v":""},{"$f":"IF(N1864<>\"\",IF(F1865<>\"\",F1865,F1864),\"\")","v":""}]
[]
[null,null,null,null,null,null,null,null,null,null,null,null,null,{"$f":"IF(A1866<>\"\",TEXT(A1866,\"\"),\"\")","v":""},{"$f":"IF(N1866=\"\",\"\",CONCATENATE(IF(C1866<>\"\",TEXT(C1866,\"\"),\"\"),\" - \",IF(K1866<>\"\",TEXT(K1866,\"\"),\"\")))","v":""},{"$f":"SUBSTITUTE(SUBSTITUTE(SUBSTITUTE(SUBSTITUTE(IF(L1866<>\"\",HLink(L1866),\"\"),\"htm\",\"html\"),\"1x2\",\"analysis\"),\"www\",\"data\"),\"com\",\"vip\")","v":""},{"$f":"IF(D1866<>\"\",D1866,\"\")","v":""},{"$f":"IF(E1866<>\"\",E1866,\"\")","v":""},{"$f":"IF(F1866<>\"\",F1866,\"\")","v":""},{"$f":"IF(N1866<>\"\",IF(D1867<>\"\",D1867,D1866),\"\")","v":""},{"$f":"IF(N1866<>\"\",IF(E1867<>\"\",E1867,E1866),\"\")","v":""},{"$f":"IF(N1866<>\"\",IF(F1867<>\"\",F1867,F1866),\"\")","v":""}]
[]
[null,null,null,null,null,null,null,null,null,null,null,null,null,{"$f":"IF(A1868<>\"\",TEXT(A1868,\"\"),\"\")","v":""},{"$f":"IF(N1868=\"\",\"\",CONCATENATE(IF(C1868<>\"\",TEXT(C1868,\"\"),\"\"),\" - \",IF(K1868<>\"\",TEXT(K1868,\"\"),\"\")))","v":""},{"$f":"SUBSTITUTE(SUBSTITUTE(SUBSTITUTE(SUBSTITUTE(IF(L1868<>\"\",HLink(L1868),\"\"),\"htm\",\"html\"),\"1x2\",\"analysis\"),\"www\",\"data\"),\"com\",\"vip\")","v":""},{"$f":"IF(D1868<>\"\",D1868,\"\")","v":""},{"$f":"IF(E1868<>\"\",E1868,\"\")","v":""},{"$f":"IF(F1868<>\"\",F1868,\"\")","v":""},{"$f":"IF(N1868<>\"\",IF(D1869<>\"\",D1869,D1868),\"\")","v":""},{"$f":"IF(N1868<>\"\",IF(E1869<>\"\",E1869,E1868),\"\")","v":""},{"$f":"IF(N1868<>\"\",IF(F1869<>\"\",F1869,F1868),\"\")","v":""}]
[]
[null,null,null,null,null,null,null,null,null,null,null,null,null,{"$f":"IF(A1870<>\"\",TEXT(A1870,\"\"),\"\")","v":""},{"$f":"IF(N1870=\"\",\"\",CONCATENATE(IF(C1870<>\"\",TEXT(C1870,\"\"),\"\"),\" - \",IF(K1870<>\"\",TEXT(K1870,\"\"),\"\")))","v":""},{"$f":"SUBSTITUTE(SUBSTITUTE(SUBSTITUTE(SUBSTITUTE(IF(L1870<>\"\",HLink(L1870),\"\"),\"htm\",\"html\"),\"1x2\",\"analysis\"),\"www\",\"data\"),\"com\",\"vip\")","v":""},{"$f":"IF(D1870<>\"\",D1870,\"\")","v":""},{"$f":"IF(E1870<>\"\",E1870,\"\")","v":""},{"$f":"IF(F1870<>\"\",F1870,\"\")","v":""},{"$f":"IF(N1870<>\"\",IF(D1871<>\"\",D1871,D1870),\"\")","v":""},{"$f":"IF(N1870<>\"\",IF(E1871<>\"\",E1871,E1870),\"\")","v":""},{"$f":"IF(N1870<>\"\",IF(F1871<>\"\",F1871,F1870),\"\")","v":""}]
[]
[null,null,null,null,null,null,null,null,null,null,null,null,null,{"$f":"IF(A1872<>\"\",TEXT(A1872,\"\"),\"\")","v":""},{"$f":"IF(N1872=\"\",\"\",CONCATENATE(IF(C1872<>\"\",TEXT(C1872,\"\"),\"\"),\" - \",IF(K1872<>\"\",TEXT(K1872,\"\"),\"\")))","v":""},{"$f":"SUBSTITUTE(SUBSTITUTE(SUBSTITUTE(SUBSTITUTE(IF(L1872<>\"\",HLink(L1872),\"\"),\"htm\",\"html\"),\"1x2\",\"analysis\"),\"www\",\"data\"),\"com\",\"vip\")","v":""},{"$f":"IF(D1872<>\"\",D1872,\"\")","v":""},{"$f":"IF(E1872<>\"\",E1872,\"\")","v":""},{"$f":"IF(F1872<>\"\",F1872,\"\")","v":""},{"$f":"IF(N1872<>\"\",IF(D1873<>\"\",D1873,D1872),\"\")","v":""},{"$f":"IF(N1872<>\"\",IF(E1873<>\"\",E1873,E1872),\"\")","v":""},{"$f":"IF(N1872<>\"\",IF(F1873<>\"\",F1873,F1872),\"\")","v":""}]
[]
[null,null,null,null,null,null,null,null,null,null,null,null,null,{"$f":"IF(A1874<>\"\",TEXT(A1874,\"\"),\"\")","v":""},{"$f":"IF(N1874=\"\",\"\",CONCATENATE(IF(C1874<>\"\",TEXT(C1874,\"\"),\"\"),\" - \",IF(K1874<>\"\",TEXT(K1874,\"\"),\"\")))","v":""},{"$f":"SUBSTITUTE(SUBSTITUTE(SUBSTITUTE(SUBSTITUTE(IF(L1874<>\"\",HLink(L1874),\"\"),\"htm\",\"html\"),\"1x2\",\"analysis\"),\"www\",\"data\"),\"com\",\"vip\")","v":""},{"$f":"IF(D1874<>\"\",D1874,\"\")","v":""},{"$f":"IF(E1874<>\"\",E1874,\"\")","v":""},{"$f":"IF(F1874<>\"\",F1874,\"\")","v":""},{"$f":"IF(N1874<>\"\",IF(D1875<>\"\",D1875,D1874),\"\")","v":""},{"$f":"IF(N1874<>\"\",IF(E1875<>\"\",E1875,E1874),\"\")","v":""},{"$f":"IF(N1874<>\"\",IF(F1875<>\"\",F1875,F1874),\"\")","v":""}]
[]
[null,null,null,null,null,null,null,null,null,null,null,null,null,{"$f":"IF(A1876<>\"\",TEXT(A1876,\"\"),\"\")","v":""},{"$f":"IF(N1876=\"\",\"\",CONCATENATE(IF(C1876<>\"\",TEXT(C1876,\"\"),\"\"),\" - \",IF(K1876<>\"\",TEXT(K1876,\"\"),\"\")))","v":""},{"$f":"SUBSTITUTE(SUBSTITUTE(SUBSTITUTE(SUBSTITUTE(IF(L1876<>\"\",HLink(L1876),\"\"),\"htm\",\"html\"),\"1x2\",\"analysis\"),\"www\",\"data\"),\"com\",\"vip\")","v":""},{"$f":"IF(D1876<>\"\",D1876,\"\")","v":""},{"$f":"IF(E1876<>\"\",E1876,\"\")","v":""},{"$f":"IF(F1876<>\"\",F1876,\"\")","v":""},{"$f":"IF(N1876<>\"\",IF(D1877<>\"\",D1877,D1876),\"\")","v":""},{"$f":"IF(N1876<>\"\",IF(E1877<>\"\",E1877,E1876),\"\")","v":""},{"$f":"IF(N1876<>\"\",IF(F1877<>\"\",F1877,F1876),\"\")","v":""}]
[]
[null,null,null,null,null,null,null,null,null,null,null,null,null,{"$f":"IF(A1878<>\"\",TEXT(A1878,\"\"),\"\")","v":""},{"$f":"IF(N1878=\"\",\"\",CONCATENATE(IF(C1878<>\"\",TEXT(C1878,\"\"),\"\"),\" - \",IF(K1878<>\"\",TEXT(K1878,\"\"),\"\")))","v":""},{"$f":"SUBSTITUTE(SUBSTITUTE(SUBSTITUTE(SUBSTITUTE(IF(L1878<>\"\",HLink(L1878),\"\"),\"htm\",\"html\"),\"1x2\",\"analysis\"),\"www\",\"data\"),\"com\",\"vip\")","v":""},{"$f":"IF(D1878<>\"\",D1878,\"\")","v":""},{"$f":"IF(E1878<>\"\",E1878,\"\")","v":""},{"$f":"IF(F1878<>\"\",F1878,\"\")","v":""},{"$f":"IF(N1878<>\"\",IF(D1879<>\"\",D1879,D1878),\"\")","v":""},{"$f":"IF(N1878<>\"\",IF(E1879<>\"\",E1879,E1878),\"\")","v":""},{"$f":"IF(N1878<>\"\",IF(F1879<>\"\",F1879,F1878),\"\")","v":""}]
[]
[null,null,null,null,null,null,null,null,null,null,null,null,null,{"$f":"IF(A1880<>\"\",TEXT(A1880,\"\"),\"\")","v":""},{"$f":"IF(N1880=\"\",\"\",CONCATENATE(IF(C1880<>\"\",TEXT(C1880,\"\"),\"\"),\" - \",IF(K1880<>\"\",TEXT(K1880,\"\"),\"\")))","v":""},{"$f":"SUBSTITUTE(SUBSTITUTE(SUBSTITUTE(SUBSTITUTE(IF(L1880<>\"\",HLink(L1880),\"\"),\"htm\",\"html\"),\"1x2\",\"analysis\"),\"www\",\"data\"),\"com\",\"vip\")","v":""},{"$f":"IF(D1880<>\"\",D1880,\"\")","v":""},{"$f":"IF(E1880<>\"\",E1880,\"\")","v":""},{"$f":"IF(F1880<>\"\",F1880,\"\")","v":""},{"$f":"IF(N1880<>\"\",IF(D1881<>\"\",D1881,D1880),\"\")","v":""},{"$f":"IF(N1880<>\"\",IF(E1881<>\"\",E1881,E1880),\"\")","v":""},{"$f":"IF(N1880<>\"\",IF(F1881<>\"\",F1881,F1880),\"\")","v":""}]
[]
[null,null,null,null,null,null,null,null,null,null,null,null,null,{"$f":"IF(A1882<>\"\",TEXT(A1882,\"\"),\"\")","v":""},{"$f":"IF(N1882=\"\",\"\",CONCATENATE(IF(C1882<>\"\",TEXT(C1882,\"\"),\"\"),\" - \",IF(K1882<>\"\",TEXT(K1882,\"\"),\"\")))","v":""},{"$f":"SUBSTITUTE(SUBSTITUTE(SUBSTITUTE(SUBSTITUTE(IF(L1882<>\"\",HLink(L1882),\"\"),\"htm\",\"html\"),\"1x2\",\"analysis\"),\"www\",\"data\"),\"com\",\"vip\")","v":""},{"$f":"IF(D1882<>\"\",D1882,\"\")","v":""},{"$f":"IF(E1882<>\"\",E1882,\"\")","v":""},{"$f":"IF(F1882<>\"\",F1882,\"\")","v":""},{"$f":"IF(N1882<>\"\",IF(D1883<>\"\",D1883,D1882),\"\")","v":""},{"$f":"IF(N1882<>\"\",IF(E1883<>\"\",E1883,E1882),\"\")","v":""},{"$f":"IF(N1882<>\"\",IF(F1883<>\"\",F1883,F1882),\"\")","v":""}]
[]
[null,null,null,null,null,null,null,null,null,null,null,null,null,{"$f":"IF(A1884<>\"\",TEXT(A1884,\"\"),\"\")","v":""},{"$f":"IF(N1884=\"\",\"\",CONCATENATE(IF(C1884<>\"\",TEXT(C1884,\"\"),\"\"),\" - \",IF(K1884<>\"\",TEXT(K1884,\"\"),\"\")))","v":""},{"$f":"SUBSTITUTE(SUBSTITUTE(SUBSTITUTE(SUBSTITUTE(IF(L1884<>\"\",HLink(L1884),\"\"),\"htm\",\"html\"),\"1x2\",\"analysis\"),\"www\",\"data\"),\"com\",\"vip\")","v":""},{"$f":"IF(D1884<>\"\",D1884,\"\")","v":""},{"$f":"IF(E1884<>\"\",E1884,\"\")","v":""},{"$f":"IF(F1884<>\"\",F1884,\"\")","v":""},{"$f":"IF(N1884<>\"\",IF(D1885<>\"\",D1885,D1884),\"\")","v":""},{"$f":"IF(N1884<>\"\",IF(E1885<>\"\",E1885,E1884),\"\")","v":""},{"$f":"IF(N1884<>\"\",IF(F1885<>\"\",F1885,F1884),\"\")","v":""}]
[]
[null,null,null,null,null,null,null,null,null,null,null,null,null,{"$f":"IF(A1886<>\"\",TEXT(A1886,\"\"),\"\")","v":""},{"$f":"IF(N1886=\"\",\"\",CONCATENATE(IF(C1886<>\"\",TEXT(C1886,\"\"),\"\"),\" - \",IF(K1886<>\"\",TEXT(K1886,\"\"),\"\")))","v":""},{"$f":"SUBSTITUTE(SUBSTITUTE(SUBSTITUTE(SUBSTITUTE(IF(L1886<>\"\",HLink(L1886),\"\"),\"htm\",\"html\"),\"1x2\",\"analysis\"),\"www\",\"data\"),\"com\",\"vip\")","v":""},{"$f":"IF(D1886<>\"\",D1886,\"\")","v":""},{"$f":"IF(E1886<>\"\",E1886,\"\")","v":""},{"$f":"IF(F1886<>\"\",F1886,\"\")","v":""},{"$f":"IF(N1886<>\"\",IF(D1887<>\"\",D1887,D1886),\"\")","v":""},{"$f":"IF(N1886<>\"\",IF(E1887<>\"\",E1887,E1886),\"\")","v":""},{"$f":"IF(N1886<>\"\",IF(F1887<>\"\",F1887,F1886),\"\")","v":""}]
[]
[null,null,null,null,null,null,null,null,null,null,null,null,null,{"$f":"IF(A1888<>\"\",TEXT(A1888,\"\"),\"\")","v":""},{"$f":"IF(N1888=\"\",\"\",CONCATENATE(IF(C1888<>\"\",TEXT(C1888,\"\"),\"\"),\" - \",IF(K1888<>\"\",TEXT(K1888,\"\"),\"\")))","v":""},{"$f":"SUBSTITUTE(SUBSTITUTE(SUBSTITUTE(SUBSTITUTE(IF(L1888<>\"\",HLink(L1888),\"\"),\"htm\",\"html\"),\"1x2\",\"analysis\"),\"www\",\"data\"),\"com\",\"vip\")","v":""},{"$f":"IF(D1888<>\"\",D1888,\"\")","v":""},{"$f":"IF(E1888<>\"\",E1888,\"\")","v":""},{"$f":"IF(F1888<>\"\",F1888,\"\")","v":""},{"$f":"IF(N1888<>\"\",IF(D1889<>\"\",D1889,D1888),\"\")","v":""},{"$f":"IF(N1888<>\"\",IF(E1889<>\"\",E1889,E1888),\"\")","v":""},{"$f":"IF(N1888<>\"\",IF(F1889<>\"\",F1889,F1888),\"\")","v":""}]
[]
[null,null,null,null,null,null,null,null,null,null,null,null,null,{"$f":"IF(A1890<>\"\",TEXT(A1890,\"\"),\"\")","v":""},{"$f":"IF(N1890=\"\",\"\",CONCATENATE(IF(C1890<>\"\",TEXT(C1890,\"\"),\"\"),\" - \",IF(K1890<>\"\",TEXT(K1890,\"\"),\"\")))","v":""},{"$f":"SUBSTITUTE(SUBSTITUTE(SUBSTITUTE(SUBSTITUTE(IF(L1890<>\"\",HLink(L1890),\"\"),\"htm\",\"html\"),\"1x2\",\"analysis\"),\"www\",\"data\"),\"com\",\"vip\")","v":""},{"$f":"IF(D1890<>\"\",D1890,\"\")","v":""},{"$f":"IF(E1890<>\"\",E1890,\"\")","v":""},{"$f":"IF(F1890<>\"\",F1890,\"\")","v":""},{"$f":"IF(N1890<>\"\",IF(D1891<>\"\",D1891,D1890),\"\")","v":""},{"$f":"IF(N1890<>\"\",IF(E1891<>\"\",E1891,E1890),\"\")","v":""},{"$f":"IF(N1890<>\"\",IF(F1891<>\"\",F1891,F1890),\"\")","v":""}]
[]
[null,null,null,null,null,null,null,null,null,null,null,null,null,{"$f":"IF(A1892<>\"\",TEXT(A1892,\"\"),\"\")","v":""},{"$f":"IF(N1892=\"\",\"\",CONCATENATE(IF(C1892<>\"\",TEXT(C1892,\"\"),\"\"),\" - \",IF(K1892<>\"\",TEXT(K1892,\"\"),\"\")))","v":""},{"$f":"SUBSTITUTE(SUBSTITUTE(SUBSTITUTE(SUBSTITUTE(IF(L1892<>\"\",HLink(L1892),\"\"),\"htm\",\"html\"),\"1x2\",\"analysis\"),\"www\",\"data\"),\"com\",\"vip\")","v":""},{"$f":"IF(D1892<>\"\",D1892,\"\")","v":""},{"$f":"IF(E1892<>\"\",E1892,\"\")","v":""},{"$f":"IF(F1892<>\"\",F1892,\"\")","v":""},{"$f":"IF(N1892<>\"\",IF(D1893<>\"\",D1893,D1892),\"\")","v":""},{"$f":"IF(N1892<>\"\",IF(E1893<>\"\",E1893,E1892),\"\")","v":""},{"$f":"IF(N1892<>\"\",IF(F1893<>\"\",F1893,F1892),\"\")","v":""}]
[]
[null,null,null,null,null,null,null,null,null,null,null,null,null,{"$f":"IF(A1894<>\"\",TEXT(A1894,\"\"),\"\")","v":""},{"$f":"IF(N1894=\"\",\"\",CONCATENATE(IF(C1894<>\"\",TEXT(C1894,\"\"),\"\"),\" - \",IF(K1894<>\"\",TEXT(K1894,\"\"),\"\")))","v":""},{"$f":"SUBSTITUTE(SUBSTITUTE(SUBSTITUTE(SUBSTITUTE(IF(L1894<>\"\",HLink(L1894),\"\"),\"htm\",\"html\"),\"1x2\",\"analysis\"),\"www\",\"data\"),\"com\",\"vip\")","v":""},{"$f":"IF(D1894<>\"\",D1894,\"\")","v":""},{"$f":"IF(E1894<>\"\",E1894,\"\")","v":""},{"$f":"IF(F1894<>\"\",F1894,\"\")","v":""},{"$f":"IF(N1894<>\"\",IF(D1895<>\"\",D1895,D1894),\"\")","v":""},{"$f":"IF(N1894<>\"\",IF(E1895<>\"\",E1895,E1894),\"\")","v":""},{"$f":"IF(N1894<>\"\",IF(F1895<>\"\",F1895,F1894),\"\")","v":""}]
[]
[null,null,null,null,null,null,null,null,null,null,null,null,null,{"$f":"IF(A1896<>\"\",TEXT(A1896,\"\"),\"\")","v":""},{"$f":"IF(N1896=\"\",\"\",CONCATENATE(IF(C1896<>\"\",TEXT(C1896,\"\"),\"\"),\" - \",IF(K1896<>\"\",TEXT(K1896,\"\"),\"\")))","v":""},{"$f":"SUBSTITUTE(SUBSTITUTE(SUBSTITUTE(SUBSTITUTE(IF(L1896<>\"\",HLink(L1896),\"\"),\"htm\",\"html\"),\"1x2\",\"analysis\"),\"www\",\"data\"),\"com\",\"vip\")","v":""},{"$f":"IF(D1896<>\"\",D1896,\"\")","v":""},{"$f":"IF(E1896<>\"\",E1896,\"\")","v":""},{"$f":"IF(F1896<>\"\",F1896,\"\")","v":""},{"$f":"IF(N1896<>\"\",IF(D1897<>\"\",D1897,D1896),\"\")","v":""},{"$f":"IF(N1896<>\"\",IF(E1897<>\"\",E1897,E1896),\"\")","v":""},{"$f":"IF(N1896<>\"\",IF(F1897<>\"\",F1897,F1896),\"\")","v":""}]
[]
[null,null,null,null,null,null,null,null,null,null,null,null,null,{"$f":"IF(A1898<>\"\",TEXT(A1898,\"\"),\"\")","v":""},{"$f":"IF(N1898=\"\",\"\",CONCATENATE(IF(C1898<>\"\",TEXT(C1898,\"\"),\"\"),\" - \",IF(K1898<>\"\",TEXT(K1898,\"\"),\"\")))","v":""},{"$f":"SUBSTITUTE(SUBSTITUTE(SUBSTITUTE(SUBSTITUTE(IF(L1898<>\"\",HLink(L1898),\"\"),\"htm\",\"html\"),\"1x2\",\"analysis\"),\"www\",\"data\"),\"com\",\"vip\")","v":""},{"$f":"IF(D1898<>\"\",D1898,\"\")","v":""},{"$f":"IF(E1898<>\"\",E1898,\"\")","v":""},{"$f":"IF(F1898<>\"\",F1898,\"\")","v":""},{"$f":"IF(N1898<>\"\",IF(D1899<>\"\",D1899,D1898),\"\")","v":""},{"$f":"IF(N1898<>\"\",IF(E1899<>\"\",E1899,E1898),\"\")","v":""},{"$f":"IF(N1898<>\"\",IF(F1899<>\"\",F1899,F1898),\"\")","v":""}]
[]
[null,null,null,null,null,null,null,null,null,null,null,null,null,{"$f":"IF(A1900<>\"\",TEXT(A1900,\"\"),\"\")","v":""},{"$f":"IF(N1900=\"\",\"\",CONCATENATE(IF(C1900<>\"\",TEXT(C1900,\"\"),\"\"),\" - \",IF(K1900<>\"\",TEXT(K1900,\"\"),\"\")))","v":""},{"$f":"SUBSTITUTE(SUBSTITUTE(SUBSTITUTE(SUBSTITUTE(IF(L1900<>\"\",HLink(L1900),\"\"),\"htm\",\"html\"),\"1x2\",\"analysis\"),\"www\",\"data\"),\"com\",\"vip\")","v":""},{"$f":"IF(D1900<>\"\",D1900,\"\")","v":""},{"$f":"IF(E1900<>\"\",E1900,\"\")","v":""},{"$f":"IF(F1900<>\"\",F1900,\"\")","v":""},{"$f":"IF(N1900<>\"\",IF(D1901<>\"\",D1901,D1900),\"\")","v":""},{"$f":"IF(N1900<>\"\",IF(E1901<>\"\",E1901,E1900),\"\")","v":""},{"$f":"IF(N1900<>\"\",IF(F1901<>\"\",F1901,F1900),\"\")","v":""}]
[]
[null,null,null,null,null,null,null,null,null,null,null,null,null,{"$f":"IF(A1902<>\"\",TEXT(A1902,\"\"),\"\")","v":""},{"$f":"IF(N1902=\"\",\"\",CONCATENATE(IF(C1902<>\"\",TEXT(C1902,\"\"),\"\"),\" - \",IF(K1902<>\"\",TEXT(K1902,\"\"),\"\")))","v":""},{"$f":"SUBSTITUTE(SUBSTITUTE(SUBSTITUTE(SUBSTITUTE(IF(L1902<>\"\",HLink(L1902),\"\"),\"htm\",\"html\"),\"1x2\",\"analysis\"),\"www\",\"data\"),\"com\",\"vip\")","v":""},{"$f":"IF(D1902<>\"\",D1902,\"\")","v":""},{"$f":"IF(E1902<>\"\",E1902,\"\")","v":""},{"$f":"IF(F1902<>\"\",F1902,\"\")","v":""},{"$f":"IF(N1902<>\"\",IF(D1903<>\"\",D1903,D1902),\"\")","v":""},{"$f":"IF(N1902<>\"\",IF(E1903<>\"\",E1903,E1902),\"\")","v":""},{"$f":"IF(N1902<>\"\",IF(F1903<>\"\",F1903,F1902),\"\")","v":""}]
[]
[null,null,null,null,null,null,null,null,null,null,null,null,null,{"$f":"IF(A1904<>\"\",TEXT(A1904,\"\"),\"\")","v":""},{"$f":"IF(N1904=\"\",\"\",CONCATENATE(IF(C1904<>\"\",TEXT(C1904,\"\"),\"\"),\" - \",IF(K1904<>\"\",TEXT(K1904,\"\"),\"\")))","v":""},{"$f":"SUBSTITUTE(SUBSTITUTE(SUBSTITUTE(SUBSTITUTE(IF(L1904<>\"\",HLink(L1904),\"\"),\"htm\",\"html\"),\"1x2\",\"analysis\"),\"www\",\"data\"),\"com\",\"vip\")","v":""},{"$f":"IF(D1904<>\"\",D1904,\"\")","v":""},{"$f":"IF(E1904<>\"\",E1904,\"\")","v":""},{"$f":"IF(F1904<>\"\",F1904,\"\")","v":""},{"$f":"IF(N1904<>\"\",IF(D1905<>\"\",D1905,D1904),\"\")","v":""},{"$f":"IF(N1904<>\"\",IF(E1905<>\"\",E1905,E1904),\"\")","v":""},{"$f":"IF(N1904<>\"\",IF(F1905<>\"\",F1905,F1904),\"\")","v":""}]
[]
[null,null,null,null,null,null,null,null,null,null,null,null,null,{"$f":"IF(A1906<>\"\",TEXT(A1906,\"\"),\"\")","v":""},{"$f":"IF(N1906=\"\",\"\",CONCATENATE(IF(C1906<>\"\",TEXT(C1906,\"\"),\"\"),\" - \",IF(K1906<>\"\",TEXT(K1906,\"\"),\"\")))","v":""},{"$f":"SUBSTITUTE(SUBSTITUTE(SUBSTITUTE(SUBSTITUTE(IF(L1906<>\"\",HLink(L1906),\"\"),\"htm\",\"html\"),\"1x2\",\"analysis\"),\"www\",\"data\"),\"com\",\"vip\")","v":""},{"$f":"IF(D1906<>\"\",D1906,\"\")","v":""},{"$f":"IF(E1906<>\"\",E1906,\"\")","v":""},{"$f":"IF(F1906<>\"\",F1906,\"\")","v":""},{"$f":"IF(N1906<>\"\",IF(D1907<>\"\",D1907,D1906),\"\")","v":""},{"$f":"IF(N1906<>\"\",IF(E1907<>\"\",E1907,E1906),\"\")","v":""},{"$f":"IF(N1906<>\"\",IF(F1907<>\"\",F1907,F1906),\"\")","v":""}]
[]
[null,null,null,null,null,null,null,null,null,null,null,null,null,{"$f":"IF(A1908<>\"\",TEXT(A1908,\"\"),\"\")","v":""},{"$f":"IF(N1908=\"\",\"\",CONCATENATE(IF(C1908<>\"\",TEXT(C1908,\"\"),\"\"),\" - \",IF(K1908<>\"\",TEXT(K1908,\"\"),\"\")))","v":""},{"$f":"SUBSTITUTE(SUBSTITUTE(SUBSTITUTE(SUBSTITUTE(IF(L1908<>\"\",HLink(L1908),\"\"),\"htm\",\"html\"),\"1x2\",\"analysis\"),\"www\",\"data\"),\"com\",\"vip\")","v":""},{"$f":"IF(D1908<>\"\",D1908,\"\")","v":""},{"$f":"IF(E1908<>\"\",E1908,\"\")","v":""},{"$f":"IF(F1908<>\"\",F1908,\"\")","v":""},{"$f":"IF(N1908<>\"\",IF(D1909<>\"\",D1909,D1908),\"\")","v":""},{"$f":"IF(N1908<>\"\",IF(E1909<>\"\",E1909,E1908),\"\")","v":""},{"$f":"IF(N1908<>\"\",IF(F1909<>\"\",F1909,F1908),\"\")","v":""}]
[]
[null,null,null,null,null,null,null,null,null,null,null,null,null,{"$f":"IF(A1910<>\"\",TEXT(A1910,\"\"),\"\")","v":""},{"$f":"IF(N1910=\"\",\"\",CONCATENATE(IF(C1910<>\"\",TEXT(C1910,\"\"),\"\"),\" - \",IF(K1910<>\"\",TEXT(K1910,\"\"),\"\")))","v":""},{"$f":"SUBSTITUTE(SUBSTITUTE(SUBSTITUTE(SUBSTITUTE(IF(L1910<>\"\",HLink(L1910),\"\"),\"htm\",\"html\"),\"1x2\",\"analysis\"),\"www\",\"data\"),\"com\",\"vip\")","v":""},{"$f":"IF(D1910<>\"\",D1910,\"\")","v":""},{"$f":"IF(E1910<>\"\",E1910,\"\")","v":""},{"$f":"IF(F1910<>\"\",F1910,\"\")","v":""},{"$f":"IF(N1910<>\"\",IF(D1911<>\"\",D1911,D1910),\"\")","v":""},{"$f":"IF(N1910<>\"\",IF(E1911<>\"\",E1911,E1910),\"\")","v":""},{"$f":"IF(N1910<>\"\",IF(F1911<>\"\",F1911,F1910),\"\")","v":""}]
[]
[null,null,null,null,null,null,null,null,null,null,null,null,null,{"$f":"IF(A1912<>\"\",TEXT(A1912,\"\"),\"\")","v":""},{"$f":"IF(N1912=\"\",\"\",CONCATENATE(IF(C1912<>\"\",TEXT(C1912,\"\"),\"\"),\" - \",IF(K1912<>\"\",TEXT(K1912,\"\"),\"\")))","v":""},{"$f":"SUBSTITUTE(SUBSTITUTE(SUBSTITUTE(SUBSTITUTE(IF(L1912<>\"\",HLink(L1912),\"\"),\"htm\",\"html\"),\"1x2\",\"analysis\"),\"www\",\"data\"),\"com\",\"vip\")","v":""},{"$f":"IF(D1912<>\"\",D1912,\"\")","v":""},{"$f":"IF(E1912<>\"\",E1912,\"\")","v":""},{"$f":"IF(F1912<>\"\",F1912,\"\")","v":""},{"$f":"IF(N1912<>\"\",IF(D1913<>\"\",D1913,D1912),\"\")","v":""},{"$f":"IF(N1912<>\"\",IF(E1913<>\"\",E1913,E1912),\"\")","v":""},{"$f":"IF(N1912<>\"\",IF(F1913<>\"\",F1913,F1912),\"\")","v":""}]
[]
[null,null,null,null,null,null,null,null,null,null,null,null,null,{"$f":"IF(A1914<>\"\",TEXT(A1914,\"\"),\"\")","v":""},{"$f":"IF(N1914=\"\",\"\",CONCATENATE(IF(C1914<>\"\",TEXT(C1914,\"\"),\"\"),\" - \",IF(K1914<>\"\",TEXT(K1914,\"\"),\"\")))","v":""},{"$f":"SUBSTITUTE(SUBSTITUTE(SUBSTITUTE(SUBSTITUTE(IF(L1914<>\"\",HLink(L1914),\"\"),\"htm\",\"html\"),\"1x2\",\"analysis\"),\"www\",\"data\"),\"com\",\"vip\")","v":""},{"$f":"IF(D1914<>\"\",D1914,\"\")","v":""},{"$f":"IF(E1914<>\"\",E1914,\"\")","v":""},{"$f":"IF(F1914<>\"\",F1914,\"\")","v":""},{"$f":"IF(N1914<>\"\",IF(D1915<>\"\",D1915,D1914),\"\")","v":""},{"$f":"IF(N1914<>\"\",IF(E1915<>\"\",E1915,E1914),\"\")","v":""},{"$f":"IF(N1914<>\"\",IF(F1915<>\"\",F1915,F1914),\"\")","v":""}]
[]
[null,null,null,null,null,null,null,null,null,null,null,null,null,{"$f":"IF(A1916<>\"\",TEXT(A1916,\"\"),\"\")","v":""},{"$f":"IF(N1916=\"\",\"\",CONCATENATE(IF(C1916<>\"\",TEXT(C1916,\"\"),\"\"),\" - \",IF(K1916<>\"\",TEXT(K1916,\"\"),\"\")))","v":""},{"$f":"SUBSTITUTE(SUBSTITUTE(SUBSTITUTE(SUBSTITUTE(IF(L1916<>\"\",HLink(L1916),\"\"),\"htm\",\"html\"),\"1x2\",\"analysis\"),\"www\",\"data\"),\"com\",\"vip\")","v":""},{"$f":"IF(D1916<>\"\",D1916,\"\")","v":""},{"$f":"IF(E1916<>\"\",E1916,\"\")","v":""},{"$f":"IF(F1916<>\"\",F1916,\"\")","v":""},{"$f":"IF(N1916<>\"\",IF(D1917<>\"\",D1917,D1916),\"\")","v":""},{"$f":"IF(N1916<>\"\",IF(E1917<>\"\",E1917,E1916),\"\")","v":""},{"$f":"IF(N1916<>\"\",IF(F1917<>\"\",F1917,F1916),\"\")","v":""}]
[]
[null,null,null,null,null,null,null,null,null,null,null,null,null,{"$f":"IF(A1918<>\"\",TEXT(A1918,\"\"),\"\")","v":""},{"$f":"IF(N1918=\"\",\"\",CONCATENATE(IF(C1918<>\"\",TEXT(C1918,\"\"),\"\"),\" - \",IF(K1918<>\"\",TEXT(K1918,\"\"),\"\")))","v":""},{"$f":"SUBSTITUTE(SUBSTITUTE(SUBSTITUTE(SUBSTITUTE(IF(L1918<>\"\",HLink(L1918),\"\"),\"htm\",\"html\"),\"1x2\",\"analysis\"),\"www\",\"data\"),\"com\",\"vip\")","v":""},{"$f":"IF(D1918<>\"\",D1918,\"\")","v":""},{"$f":"IF(E1918<>\"\",E1918,\"\")","v":""},{"$f":"IF(F1918<>\"\",F1918,\"\")","v":""},{"$f":"IF(N1918<>\"\",IF(D1919<>\"\",D1919,D1918),\"\")","v":""},{"$f":"IF(N1918<>\"\",IF(E1919<>\"\",E1919,E1918),\"\")","v":""},{"$f":"IF(N1918<>\"\",IF(F1919<>\"\",F1919,F1918),\"\")","v":""}]
[]
[null,null,null,null,null,null,null,null,null,null,null,null,null,{"$f":"IF(A1920<>\"\",TEXT(A1920,\"\"),\"\")","v":""},{"$f":"IF(N1920=\"\",\"\",CONCATENATE(IF(C1920<>\"\",TEXT(C1920,\"\"),\"\"),\" - \",IF(K1920<>\"\",TEXT(K1920,\"\"),\"\")))","v":""},{"$f":"SUBSTITUTE(SUBSTITUTE(SUBSTITUTE(SUBSTITUTE(IF(L1920<>\"\",HLink(L1920),\"\"),\"htm\",\"html\"),\"1x2\",\"analysis\"),\"www\",\"data\"),\"com\",\"vip\")","v":""},{"$f":"IF(D1920<>\"\",D1920,\"\")","v":""},{"$f":"IF(E1920<>\"\",E1920,\"\")","v":""},{"$f":"IF(F1920<>\"\",F1920,\"\")","v":""},{"$f":"IF(N1920<>\"\",IF(D1921<>\"\",D1921,D1920),\"\")","v":""},{"$f":"IF(N1920<>\"\",IF(E1921<>\"\",E1921,E1920),\"\")","v":""},{"$f":"IF(N1920<>\"\",IF(F1921<>\"\",F1921,F1920),\"\")","v":""}]
[]
[null,null,null,null,null,null,null,null,null,null,null,null,null,{"$f":"IF(A1922<>\"\",TEXT(A1922,\"\"),\"\")","v":""},{"$f":"IF(N1922=\"\",\"\",CONCATENATE(IF(C1922<>\"\",TEXT(C1922,\"\"),\"\"),\" - \",IF(K1922<>\"\",TEXT(K1922,\"\"),\"\")))","v":""},{"$f":"SUBSTITUTE(SUBSTITUTE(SUBSTITUTE(SUBSTITUTE(IF(L1922<>\"\",HLink(L1922),\"\"),\"htm\",\"html\"),\"1x2\",\"analysis\"),\"www\",\"data\"),\"com\",\"vip\")","v":""},{"$f":"IF(D1922<>\"\",D1922,\"\")","v":""},{"$f":"IF(E1922<>\"\",E1922,\"\")","v":""},{"$f":"IF(F1922<>\"\",F1922,\"\")","v":""},{"$f":"IF(N1922<>\"\",IF(D1923<>\"\",D1923,D1922),\"\")","v":""},{"$f":"IF(N1922<>\"\",IF(E1923<>\"\",E1923,E1922),\"\")","v":""},{"$f":"IF(N1922<>\"\",IF(F1923<>\"\",F1923,F1922),\"\")","v":""}]
[]
[null,null,null,null,null,null,null,null,null,null,null,null,null,{"$f":"IF(A1924<>\"\",TEXT(A1924,\"\"),\"\")","v":""},{"$f":"IF(N1924=\"\",\"\",CONCATENATE(IF(C1924<>\"\",TEXT(C1924,\"\"),\"\"),\" - \",IF(K1924<>\"\",TEXT(K1924,\"\"),\"\")))","v":""},{"$f":"SUBSTITUTE(SUBSTITUTE(SUBSTITUTE(SUBSTITUTE(IF(L1924<>\"\",HLink(L1924),\"\"),\"htm\",\"html\"),\"1x2\",\"analysis\"),\"www\",\"data\"),\"com\",\"vip\")","v":""},{"$f":"IF(D1924<>\"\",D1924,\"\")","v":""},{"$f":"IF(E1924<>\"\",E1924,\"\")","v":""},{"$f":"IF(F1924<>\"\",F1924,\"\")","v":""},{"$f":"IF(N1924<>\"\",IF(D1925<>\"\",D1925,D1924),\"\")","v":""},{"$f":"IF(N1924<>\"\",IF(E1925<>\"\",E1925,E1924),\"\")","v":""},{"$f":"IF(N1924<>\"\",IF(F1925<>\"\",F1925,F1924),\"\")","v":""}]
[]
[null,null,null,null,null,null,null,null,null,null,null,null,null,{"$f":"IF(A1926<>\"\",TEXT(A1926,\"\"),\"\")","v":""},{"$f":"IF(N1926=\"\",\"\",CONCATENATE(IF(C1926<>\"\",TEXT(C1926,\"\"),\"\"),\" - \",IF(K1926<>\"\",TEXT(K1926,\"\"),\"\")))","v":""},{"$f":"SUBSTITUTE(SUBSTITUTE(SUBSTITUTE(SUBSTITUTE(IF(L1926<>\"\",HLink(L1926),\"\"),\"htm\",\"html\"),\"1x2\",\"analysis\"),\"www\",\"data\"),\"com\",\"vip\")","v":""},{"$f":"IF(D1926<>\"\",D1926,\"\")","v":""},{"$f":"IF(E1926<>\"\",E1926,\"\")","v":""},{"$f":"IF(F1926<>\"\",F1926,\"\")","v":""},{"$f":"IF(N1926<>\"\",IF(D1927<>\"\",D1927,D1926),\"\")","v":""},{"$f":"IF(N1926<>\"\",IF(E1927<>\"\",E1927,E1926),\"\")","v":""},{"$f":"IF(N1926<>\"\",IF(F1927<>\"\",F1927,F1926),\"\")","v":""}]
[]
[null,null,null,null,null,null,null,null,null,null,null,null,null,{"$f":"IF(A1928<>\"\",TEXT(A1928,\"\"),\"\")","v":""},{"$f":"IF(N1928=\"\",\"\",CONCATENATE(IF(C1928<>\"\",TEXT(C1928,\"\"),\"\"),\" - \",IF(K1928<>\"\",TEXT(K1928,\"\"),\"\")))","v":""},{"$f":"SUBSTITUTE(SUBSTITUTE(SUBSTITUTE(SUBSTITUTE(IF(L1928<>\"\",HLink(L1928),\"\"),\"htm\",\"html\"),\"1x2\",\"analysis\"),\"www\",\"data\"),\"com\",\"vip\")","v":""},{"$f":"IF(D1928<>\"\",D1928,\"\")","v":""},{"$f":"IF(E1928<>\"\",E1928,\"\")","v":""},{"$f":"IF(F1928<>\"\",F1928,\"\")","v":""},{"$f":"IF(N1928<>\"\",IF(D1929<>\"\",D1929,D1928),\"\")","v":""},{"$f":"IF(N1928<>\"\",IF(E1929<>\"\",E1929,E1928),\"\")","v":""},{"$f":"IF(N1928<>\"\",IF(F1929<>\"\",F1929,F1928),\"\")","v":""}]
[]
[null,null,null,null,null,null,null,null,null,null,null,null,null,{"$f":"IF(A1930<>\"\",TEXT(A1930,\"\"),\"\")","v":""},{"$f":"IF(N1930=\"\",\"\",CONCATENATE(IF(C1930<>\"\",TEXT(C1930,\"\"),\"\"),\" - \",IF(K1930<>\"\",TEXT(K1930,\"\"),\"\")))","v":""},{"$f":"SUBSTITUTE(SUBSTITUTE(SUBSTITUTE(SUBSTITUTE(IF(L1930<>\"\",HLink(L1930),\"\"),\"htm\",\"html\"),\"1x2\",\"analysis\"),\"www\",\"data\"),\"com\",\"vip\")","v":""},{"$f":"IF(D1930<>\"\",D1930,\"\")","v":""},{"$f":"IF(E1930<>\"\",E1930,\"\")","v":""},{"$f":"IF(F1930<>\"\",F1930,\"\")","v":""},{"$f":"IF(N1930<>\"\",IF(D1931<>\"\",D1931,D1930),\"\")","v":""},{"$f":"IF(N1930<>\"\",IF(E1931<>\"\",E1931,E1930),\"\")","v":""},{"$f":"IF(N1930<>\"\",IF(F1931<>\"\",F1931,F1930),\"\")","v":""}]
[]
[null,null,null,null,null,null,null,null,null,null,null,null,null,{"$f":"IF(A1932<>\"\",TEXT(A1932,\"\"),\"\")","v":""},{"$f":"IF(N1932=\"\",\"\",CONCATENATE(IF(C1932<>\"\",TEXT(C1932,\"\"),\"\"),\" - \",IF(K1932<>\"\",TEXT(K1932,\"\"),\"\")))","v":""},{"$f":"SUBSTITUTE(SUBSTITUTE(SUBSTITUTE(SUBSTITUTE(IF(L1932<>\"\",HLink(L1932),\"\"),\"htm\",\"html\"),\"1x2\",\"analysis\"),\"www\",\"data\"),\"com\",\"vip\")","v":""},{"$f":"IF(D1932<>\"\",D1932,\"\")","v":""},{"$f":"IF(E1932<>\"\",E1932,\"\")","v":""},{"$f":"IF(F1932<>\"\",F1932,\"\")","v":""},{"$f":"IF(N1932<>\"\",IF(D1933<>\"\",D1933,D1932),\"\")","v":""},{"$f":"IF(N1932<>\"\",IF(E1933<>\"\",E1933,E1932),\"\")","v":""},{"$f":"IF(N1932<>\"\",IF(F1933<>\"\",F1933,F1932),\"\")","v":""}]
[]
[null,null,null,null,null,null,null,null,null,null,null,null,null,{"$f":"IF(A1934<>\"\",TEXT(A1934,\"\"),\"\")","v":""},{"$f":"IF(N1934=\"\",\"\",CONCATENATE(IF(C1934<>\"\",TEXT(C1934,\"\"),\"\"),\" - \",IF(K1934<>\"\",TEXT(K1934,\"\"),\"\")))","v":""},{"$f":"SUBSTITUTE(SUBSTITUTE(SUBSTITUTE(SUBSTITUTE(IF(L1934<>\"\",HLink(L1934),\"\"),\"htm\",\"html\"),\"1x2\",\"analysis\"),\"www\",\"data\"),\"com\",\"vip\")","v":""},{"$f":"IF(D1934<>\"\",D1934,\"\")","v":""},{"$f":"IF(E1934<>\"\",E1934,\"\")","v":""},{"$f":"IF(F1934<>\"\",F1934,\"\")","v":""},{"$f":"IF(N1934<>\"\",IF(D1935<>\"\",D1935,D1934),\"\")","v":""},{"$f":"IF(N1934<>\"\",IF(E1935<>\"\",E1935,E1934),\"\")","v":""},{"$f":"IF(N1934<>\"\",IF(F1935<>\"\",F1935,F1934),\"\")","v":""}]
[]
[null,null,null,null,null,null,null,null,null,null,null,null,null,{"$f":"IF(A1936<>\"\",TEXT(A1936,\"\"),\"\")","v":""},{"$f":"IF(N1936=\"\",\"\",CONCATENATE(IF(C1936<>\"\",TEXT(C1936,\"\"),\"\"),\" - \",IF(K1936<>\"\",TEXT(K1936,\"\"),\"\")))","v":""},{"$f":"SUBSTITUTE(SUBSTITUTE(SUBSTITUTE(SUBSTITUTE(IF(L1936<>\"\",HLink(L1936),\"\"),\"htm\",\"html\"),\"1x2\",\"analysis\"),\"www\",\"data\"),\"com\",\"vip\")","v":""},{"$f":"IF(D1936<>\"\",D1936,\"\")","v":""},{"$f":"IF(E1936<>\"\",E1936,\"\")","v":""},{"$f":"IF(F1936<>\"\",F1936,\"\")","v":""},{"$f":"IF(N1936<>\"\",IF(D1937<>\"\",D1937,D1936),\"\")","v":""},{"$f":"IF(N1936<>\"\",IF(E1937<>\"\",E1937,E1936),\"\")","v":""},{"$f":"IF(N1936<>\"\",IF(F1937<>\"\",F1937,F1936),\"\")","v":""}]
[]
[null,null,null,null,null,null,null,null,null,null,null,null,null,{"$f":"IF(A1938<>\"\",TEXT(A1938,\"\"),\"\")","v":""},{"$f":"IF(N1938=\"\",\"\",CONCATENATE(IF(C1938<>\"\",TEXT(C1938,\"\"),\"\"),\" - \",IF(K1938<>\"\",TEXT(K1938,\"\"),\"\")))","v":""},{"$f":"SUBSTITUTE(SUBSTITUTE(SUBSTITUTE(SUBSTITUTE(IF(L1938<>\"\",HLink(L1938),\"\"),\"htm\",\"html\"),\"1x2\",\"analysis\"),\"www\",\"data\"),\"com\",\"vip\")","v":""},{"$f":"IF(D1938<>\"\",D1938,\"\")","v":""},{"$f":"IF(E1938<>\"\",E1938,\"\")","v":""},{"$f":"IF(F1938<>\"\",F1938,\"\")","v":""},{"$f":"IF(N1938<>\"\",IF(D1939<>\"\",D1939,D1938),\"\")","v":""},{"$f":"IF(N1938<>\"\",IF(E1939<>\"\",E1939,E1938),\"\")","v":""},{"$f":"IF(N1938<>\"\",IF(F1939<>\"\",F1939,F1938),\"\")","v":""}]
[]
[null,null,null,null,null,null,null,null,null,null,null,null,null,{"$f":"IF(A1940<>\"\",TEXT(A1940,\"\"),\"\")","v":""},{"$f":"IF(N1940=\"\",\"\",CONCATENATE(IF(C1940<>\"\",TEXT(C1940,\"\"),\"\"),\" - \",IF(K1940<>\"\",TEXT(K1940,\"\"),\"\")))","v":""},{"$f":"SUBSTITUTE(SUBSTITUTE(SUBSTITUTE(SUBSTITUTE(IF(L1940<>\"\",HLink(L1940),\"\"),\"htm\",\"html\"),\"1x2\",\"analysis\"),\"www\",\"data\"),\"com\",\"vip\")","v":""},{"$f":"IF(D1940<>\"\",D1940,\"\")","v":""},{"$f":"IF(E1940<>\"\",E1940,\"\")","v":""},{"$f":"IF(F1940<>\"\",F1940,\"\")","v":""},{"$f":"IF(N1940<>\"\",IF(D1941<>\"\",D1941,D1940),\"\")","v":""},{"$f":"IF(N1940<>\"\",IF(E1941<>\"\",E1941,E1940),\"\")","v":""},{"$f":"IF(N1940<>\"\",IF(F1941<>\"\",F1941,F1940),\"\")","v":""}]
[]
[null,null,null,null,null,null,null,null,null,null,null,null,null,{"$f":"IF(A1942<>\"\",TEXT(A1942,\"\"),\"\")","v":""},{"$f":"IF(N1942=\"\",\"\",CONCATENATE(IF(C1942<>\"\",TEXT(C1942,\"\"),\"\"),\" - \",IF(K1942<>\"\",TEXT(K1942,\"\"),\"\")))","v":""},{"$f":"SUBSTITUTE(SUBSTITUTE(SUBSTITUTE(SUBSTITUTE(IF(L1942<>\"\",HLink(L1942),\"\"),\"htm\",\"html\"),\"1x2\",\"analysis\"),\"www\",\"data\"),\"com\",\"vip\")","v":""},{"$f":"IF(D1942<>\"\",D1942,\"\")","v":""},{"$f":"IF(E1942<>\"\",E1942,\"\")","v":""},{"$f":"IF(F1942<>\"\",F1942,\"\")","v":""},{"$f":"IF(N1942<>\"\",IF(D1943<>\"\",D1943,D1942),\"\")","v":""},{"$f":"IF(N1942<>\"\",IF(E1943<>\"\",E1943,E1942),\"\")","v":""},{"$f":"IF(N1942<>\"\",IF(F1943<>\"\",F1943,F1942),\"\")","v":""}]
[]
[null,null,null,null,null,null,null,null,null,null,null,null,null,{"$f":"IF(A1944<>\"\",TEXT(A1944,\"\"),\"\")","v":""},{"$f":"IF(N1944=\"\",\"\",CONCATENATE(IF(C1944<>\"\",TEXT(C1944,\"\"),\"\"),\" - \",IF(K1944<>\"\",TEXT(K1944,\"\"),\"\")))","v":""},{"$f":"SUBSTITUTE(SUBSTITUTE(SUBSTITUTE(SUBSTITUTE(IF(L1944<>\"\",HLink(L1944),\"\"),\"htm\",\"html\"),\"1x2\",\"analysis\"),\"www\",\"data\"),\"com\",\"vip\")","v":""},{"$f":"IF(D1944<>\"\",D1944,\"\")","v":""},{"$f":"IF(E1944<>\"\",E1944,\"\")","v":""},{"$f":"IF(F1944<>\"\",F1944,\"\")","v":""},{"$f":"IF(N1944<>\"\",IF(D1945<>\"\",D1945,D1944),\"\")","v":""},{"$f":"IF(N1944<>\"\",IF(E1945<>\"\",E1945,E1944),\"\")","v":""},{"$f":"IF(N1944<>\"\",IF(F1945<>\"\",F1945,F1944),\"\")","v":""}]
[]
[null,null,null,null,null,null,null,null,null,null,null,null,null,{"$f":"IF(A1946<>\"\",TEXT(A1946,\"\"),\"\")","v":""},{"$f":"IF(N1946=\"\",\"\",CONCATENATE(IF(C1946<>\"\",TEXT(C1946,\"\"),\"\"),\" - \",IF(K1946<>\"\",TEXT(K1946,\"\"),\"\")))","v":""},{"$f":"SUBSTITUTE(SUBSTITUTE(SUBSTITUTE(SUBSTITUTE(IF(L1946<>\"\",HLink(L1946),\"\"),\"htm\",\"html\"),\"1x2\",\"analysis\"),\"www\",\"data\"),\"com\",\"vip\")","v":""},{"$f":"IF(D1946<>\"\",D1946,\"\")","v":""},{"$f":"IF(E1946<>\"\",E1946,\"\")","v":""},{"$f":"IF(F1946<>\"\",F1946,\"\")","v":""},{"$f":"IF(N1946<>\"\",IF(D1947<>\"\",D1947,D1946),\"\")","v":""},{"$f":"IF(N1946<>\"\",IF(E1947<>\"\",E1947,E1946),\"\")","v":""},{"$f":"IF(N1946<>\"\",IF(F1947<>\"\",F1947,F1946),\"\")","v":""}]
[]
[null,null,null,null,null,null,null,null,null,null,null,null,null,{"$f":"IF(A1948<>\"\",TEXT(A1948,\"\"),\"\")","v":""},{"$f":"IF(N1948=\"\",\"\",CONCATENATE(IF(C1948<>\"\",TEXT(C1948,\"\"),\"\"),\" - \",IF(K1948<>\"\",TEXT(K1948,\"\"),\"\")))","v":""},{"$f":"SUBSTITUTE(SUBSTITUTE(SUBSTITUTE(SUBSTITUTE(IF(L1948<>\"\",HLink(L1948),\"\"),\"htm\",\"html\"),\"1x2\",\"analysis\"),\"www\",\"data\"),\"com\",\"vip\")","v":""},{"$f":"IF(D1948<>\"\",D1948,\"\")","v":""},{"$f":"IF(E1948<>\"\",E1948,\"\")","v":""},{"$f":"IF(F1948<>\"\",F1948,\"\")","v":""},{"$f":"IF(N1948<>\"\",IF(D1949<>\"\",D1949,D1948),\"\")","v":""},{"$f":"IF(N1948<>\"\",IF(E1949<>\"\",E1949,E1948),\"\")","v":""},{"$f":"IF(N1948<>\"\",IF(F1949<>\"\",F1949,F1948),\"\")","v":""}]
[]
[null,null,null,null,null,null,null,null,null,null,null,null,null,{"$f":"IF(A1950<>\"\",TEXT(A1950,\"\"),\"\")","v":""},{"$f":"IF(N1950=\"\",\"\",CONCATENATE(IF(C1950<>\"\",TEXT(C1950,\"\"),\"\"),\" - \",IF(K1950<>\"\",TEXT(K1950,\"\"),\"\")))","v":""},{"$f":"SUBSTITUTE(SUBSTITUTE(SUBSTITUTE(SUBSTITUTE(IF(L1950<>\"\",HLink(L1950),\"\"),\"htm\",\"html\"),\"1x2\",\"analysis\"),\"www\",\"data\"),\"com\",\"vip\")","v":""},{"$f":"IF(D1950<>\"\",D1950,\"\")","v":""},{"$f":"IF(E1950<>\"\",E1950,\"\")","v":""},{"$f":"IF(F1950<>\"\",F1950,\"\")","v":""},{"$f":"IF(N1950<>\"\",IF(D1951<>\"\",D1951,D1950),\"\")","v":""},{"$f":"IF(N1950<>\"\",IF(E1951<>\"\",E1951,E1950),\"\")","v":""},{"$f":"IF(N1950<>\"\",IF(F1951<>\"\",F1951,F1950),\"\")","v":""}]
[]
[null,null,null,null,null,null,null,null,null,null,null,null,null,{"$f":"IF(A1952<>\"\",TEXT(A1952,\"\"),\"\")","v":""},{"$f":"IF(N1952=\"\",\"\",CONCATENATE(IF(C1952<>\"\",TEXT(C1952,\"\"),\"\"),\" - \",IF(K1952<>\"\",TEXT(K1952,\"\"),\"\")))","v":""},{"$f":"SUBSTITUTE(SUBSTITUTE(SUBSTITUTE(SUBSTITUTE(IF(L1952<>\"\",HLink(L1952),\"\"),\"htm\",\"html\"),\"1x2\",\"analysis\"),\"www\",\"data\"),\"com\",\"vip\")","v":""},{"$f":"IF(D1952<>\"\",D1952,\"\")","v":""},{"$f":"IF(E1952<>\"\",E1952,\"\")","v":""},{"$f":"IF(F1952<>\"\",F1952,\"\")","v":""},{"$f":"IF(N1952<>\"\",IF(D1953<>\"\",D1953,D1952),\"\")","v":""},{"$f":"IF(N1952<>\"\",IF(E1953<>\"\",E1953,E1952),\"\")","v":""},{"$f":"IF(N1952<>\"\",IF(F1953<>\"\",F1953,F1952),\"\")","v":""}]
[]
[null,null,null,null,null,null,null,null,null,null,null,null,null,{"$f":"IF(A1954<>\"\",TEXT(A1954,\"\"),\"\")","v":""},{"$f":"IF(N1954=\"\",\"\",CONCATENATE(IF(C1954<>\"\",TEXT(C1954,\"\"),\"\"),\" - \",IF(K1954<>\"\",TEXT(K1954,\"\"),\"\")))","v":""},{"$f":"SUBSTITUTE(SUBSTITUTE(SUBSTITUTE(SUBSTITUTE(IF(L1954<>\"\",HLink(L1954),\"\"),\"htm\",\"html\"),\"1x2\",\"analysis\"),\"www\",\"data\"),\"com\",\"vip\")","v":""},{"$f":"IF(D1954<>\"\",D1954,\"\")","v":""},{"$f":"IF(E1954<>\"\",E1954,\"\")","v":""},{"$f":"IF(F1954<>\"\",F1954,\"\")","v":""},{"$f":"IF(N1954<>\"\",IF(D1955<>\"\",D1955,D1954),\"\")","v":""},{"$f":"IF(N1954<>\"\",IF(E1955<>\"\",E1955,E1954),\"\")","v":""},{"$f":"IF(N1954<>\"\",IF(F1955<>\"\",F1955,F1954),\"\")","v":""}]
[]
[null,null,null,null,null,null,null,null,null,null,null,null,null,{"$f":"IF(A1956<>\"\",TEXT(A1956,\"\"),\"\")","v":""},{"$f":"IF(N1956=\"\",\"\",CONCATENATE(IF(C1956<>\"\",TEXT(C1956,\"\"),\"\"),\" - \",IF(K1956<>\"\",TEXT(K1956,\"\"),\"\")))","v":""},{"$f":"SUBSTITUTE(SUBSTITUTE(SUBSTITUTE(SUBSTITUTE(IF(L1956<>\"\",HLink(L1956),\"\"),\"htm\",\"html\"),\"1x2\",\"analysis\"),\"www\",\"data\"),\"com\",\"vip\")","v":""},{"$f":"IF(D1956<>\"\",D1956,\"\")","v":""},{"$f":"IF(E1956<>\"\",E1956,\"\")","v":""},{"$f":"IF(F1956<>\"\",F1956,\"\")","v":""},{"$f":"IF(N1956<>\"\",IF(D1957<>\"\",D1957,D1956),\"\")","v":""},{"$f":"IF(N1956<>\"\",IF(E1957<>\"\",E1957,E1956),\"\")","v":""},{"$f":"IF(N1956<>\"\",IF(F1957<>\"\",F1957,F1956),\"\")","v":""}]
[]
[null,null,null,null,null,null,null,null,null,null,null,null,null,{"$f":"IF(A1958<>\"\",TEXT(A1958,\"\"),\"\")","v":""},{"$f":"IF(N1958=\"\",\"\",CONCATENATE(IF(C1958<>\"\",TEXT(C1958,\"\"),\"\"),\" - \",IF(K1958<>\"\",TEXT(K1958,\"\"),\"\")))","v":""},{"$f":"SUBSTITUTE(SUBSTITUTE(SUBSTITUTE(SUBSTITUTE(IF(L1958<>\"\",HLink(L1958),\"\"),\"htm\",\"html\"),\"1x2\",\"analysis\"),\"www\",\"data\"),\"com\",\"vip\")","v":""},{"$f":"IF(D1958<>\"\",D1958,\"\")","v":""},{"$f":"IF(E1958<>\"\",E1958,\"\")","v":""},{"$f":"IF(F1958<>\"\",F1958,\"\")","v":""},{"$f":"IF(N1958<>\"\",IF(D1959<>\"\",D1959,D1958),\"\")","v":""},{"$f":"IF(N1958<>\"\",IF(E1959<>\"\",E1959,E1958),\"\")","v":""},{"$f":"IF(N1958<>\"\",IF(F1959<>\"\",F1959,F1958),\"\")","v":""}]
[]
[null,null,null,null,null,null,null,null,null,null,null,null,null,{"$f":"IF(A1960<>\"\",TEXT(A1960,\"\"),\"\")","v":""},{"$f":"IF(N1960=\"\",\"\",CONCATENATE(IF(C1960<>\"\",TEXT(C1960,\"\"),\"\"),\" - \",IF(K1960<>\"\",TEXT(K1960,\"\"),\"\")))","v":""},{"$f":"SUBSTITUTE(SUBSTITUTE(SUBSTITUTE(SUBSTITUTE(IF(L1960<>\"\",HLink(L1960),\"\"),\"htm\",\"html\"),\"1x2\",\"analysis\"),\"www\",\"data\"),\"com\",\"vip\")","v":""},{"$f":"IF(D1960<>\"\",D1960,\"\")","v":""},{"$f":"IF(E1960<>\"\",E1960,\"\")","v":""},{"$f":"IF(F1960<>\"\",F1960,\"\")","v":""},{"$f":"IF(N1960<>\"\",IF(D1961<>\"\",D1961,D1960),\"\")","v":""},{"$f":"IF(N1960<>\"\",IF(E1961<>\"\",E1961,E1960),\"\")","v":""},{"$f":"IF(N1960<>\"\",IF(F1961<>\"\",F1961,F1960),\"\")","v":""}]
[]
[null,null,null,null,null,null,null,null,null,null,null,null,null,{"$f":"IF(A1962<>\"\",TEXT(A1962,\"\"),\"\")","v":""},{"$f":"IF(N1962=\"\",\"\",CONCATENATE(IF(C1962<>\"\",TEXT(C1962,\"\"),\"\"),\" - \",IF(K1962<>\"\",TEXT(K1962,\"\"),\"\")))","v":""},{"$f":"SUBSTITUTE(SUBSTITUTE(SUBSTITUTE(SUBSTITUTE(IF(L1962<>\"\",HLink(L1962),\"\"),\"htm\",\"html\"),\"1x2\",\"analysis\"),\"www\",\"data\"),\"com\",\"vip\")","v":""},{"$f":"IF(D1962<>\"\",D1962,\"\")","v":""},{"$f":"IF(E1962<>\"\",E1962,\"\")","v":""},{"$f":"IF(F1962<>\"\",F1962,\"\")","v":""},{"$f":"IF(N1962<>\"\",IF(D1963<>\"\",D1963,D1962),\"\")","v":""},{"$f":"IF(N1962<>\"\",IF(E1963<>\"\",E1963,E1962),\"\")","v":""},{"$f":"IF(N1962<>\"\",IF(F1963<>\"\",F1963,F1962),\"\")","v":""}]
[]
[null,null,null,null,null,null,null,null,null,null,null,null,null,{"$f":"IF(A1964<>\"\",TEXT(A1964,\"\"),\"\")","v":""},{"$f":"IF(N1964=\"\",\"\",CONCATENATE(IF(C1964<>\"\",TEXT(C1964,\"\"),\"\"),\" - \",IF(K1964<>\"\",TEXT(K1964,\"\"),\"\")))","v":""},{"$f":"SUBSTITUTE(SUBSTITUTE(SUBSTITUTE(SUBSTITUTE(IF(L1964<>\"\",HLink(L1964),\"\"),\"htm\",\"html\"),\"1x2\",\"analysis\"),\"www\",\"data\"),\"com\",\"vip\")","v":""},{"$f":"IF(D1964<>\"\",D1964,\"\")","v":""},{"$f":"IF(E1964<>\"\",E1964,\"\")","v":""},{"$f":"IF(F1964<>\"\",F1964,\"\")","v":""},{"$f":"IF(N1964<>\"\",IF(D1965<>\"\",D1965,D1964),\"\")","v":""},{"$f":"IF(N1964<>\"\",IF(E1965<>\"\",E1965,E1964),\"\")","v":""},{"$f":"IF(N1964<>\"\",IF(F1965<>\"\",F1965,F1964),\"\")","v":""}]
[]
[null,null,null,null,null,null,null,null,null,null,null,null,null,{"$f":"IF(A1966<>\"\",TEXT(A1966,\"\"),\"\")","v":""},{"$f":"IF(N1966=\"\",\"\",CONCATENATE(IF(C1966<>\"\",TEXT(C1966,\"\"),\"\"),\" - \",IF(K1966<>\"\",TEXT(K1966,\"\"),\"\")))","v":""},{"$f":"SUBSTITUTE(SUBSTITUTE(SUBSTITUTE(SUBSTITUTE(IF(L1966<>\"\",HLink(L1966),\"\"),\"htm\",\"html\"),\"1x2\",\"analysis\"),\"www\",\"data\"),\"com\",\"vip\")","v":""},{"$f":"IF(D1966<>\"\",D1966,\"\")","v":""},{"$f":"IF(E1966<>\"\",E1966,\"\")","v":""},{"$f":"IF(F1966<>\"\",F1966,\"\")","v":""},{"$f":"IF(N1966<>\"\",IF(D1967<>\"\",D1967,D1966),\"\")","v":""},{"$f":"IF(N1966<>\"\",IF(E1967<>\"\",E1967,E1966),\"\")","v":""},{"$f":"IF(N1966<>\"\",IF(F1967<>\"\",F1967,F1966),\"\")","v":""}]
[]
[null,null,null,null,null,null,null,null,null,null,null,null,null,{"$f":"IF(A1968<>\"\",TEXT(A1968,\"\"),\"\")","v":""},{"$f":"IF(N1968=\"\",\"\",CONCATENATE(IF(C1968<>\"\",TEXT(C1968,\"\"),\"\"),\" - \",IF(K1968<>\"\",TEXT(K1968,\"\"),\"\")))","v":""},{"$f":"SUBSTITUTE(SUBSTITUTE(SUBSTITUTE(SUBSTITUTE(IF(L1968<>\"\",HLink(L1968),\"\"),\"htm\",\"html\"),\"1x2\",\"analysis\"),\"www\",\"data\"),\"com\",\"vip\")","v":""},{"$f":"IF(D1968<>\"\",D1968,\"\")","v":""},{"$f":"IF(E1968<>\"\",E1968,\"\")","v":""},{"$f":"IF(F1968<>\"\",F1968,\"\")","v":""},{"$f":"IF(N1968<>\"\",IF(D1969<>\"\",D1969,D1968),\"\")","v":""},{"$f":"IF(N1968<>\"\",IF(E1969<>\"\",E1969,E1968),\"\")","v":""},{"$f":"IF(N1968<>\"\",IF(F1969<>\"\",F1969,F1968),\"\")","v":""}]
[]
[null,null,null,null,null,null,null,null,null,null,null,null,null,{"$f":"IF(A1970<>\"\",TEXT(A1970,\"\"),\"\")","v":""},{"$f":"IF(N1970=\"\",\"\",CONCATENATE(IF(C1970<>\"\",TEXT(C1970,\"\"),\"\"),\" - \",IF(K1970<>\"\",TEXT(K1970,\"\"),\"\")))","v":""},{"$f":"SUBSTITUTE(SUBSTITUTE(SUBSTITUTE(SUBSTITUTE(IF(L1970<>\"\",HLink(L1970),\"\"),\"htm\",\"html\"),\"1x2\",\"analysis\"),\"www\",\"data\"),\"com\",\"vip\")","v":""},{"$f":"IF(D1970<>\"\",D1970,\"\")","v":""},{"$f":"IF(E1970<>\"\",E1970,\"\")","v":""},{"$f":"IF(F1970<>\"\",F1970,\"\")","v":""},{"$f":"IF(N1970<>\"\",IF(D1971<>\"\",D1971,D1970),\"\")","v":""},{"$f":"IF(N1970<>\"\",IF(E1971<>\"\",E1971,E1970),\"\")","v":""},{"$f":"IF(N1970<>\"\",IF(F1971<>\"\",F1971,F1970),\"\")","v":""}]
[]
[null,null,null,null,null,null,null,null,null,null,null,null,null,{"$f":"IF(A1972<>\"\",TEXT(A1972,\"\"),\"\")","v":""},{"$f":"IF(N1972=\"\",\"\",CONCATENATE(IF(C1972<>\"\",TEXT(C1972,\"\"),\"\"),\" - \",IF(K1972<>\"\",TEXT(K1972,\"\"),\"\")))","v":""},{"$f":"SUBSTITUTE(SUBSTITUTE(SUBSTITUTE(SUBSTITUTE(IF(L1972<>\"\",HLink(L1972),\"\"),\"htm\",\"html\"),\"1x2\",\"analysis\"),\"www\",\"data\"),\"com\",\"vip\")","v":""},{"$f":"IF(D1972<>\"\",D1972,\"\")","v":""},{"$f":"IF(E1972<>\"\",E1972,\"\")","v":""},{"$f":"IF(F1972<>\"\",F1972,\"\")","v":""},{"$f":"IF(N1972<>\"\",IF(D1973<>\"\",D1973,D1972),\"\")","v":""},{"$f":"IF(N1972<>\"\",IF(E1973<>\"\",E1973,E1972),\"\")","v":""},{"$f":"IF(N1972<>\"\",IF(F1973<>\"\",F1973,F1972),\"\")","v":""}]
[]
[null,null,null,null,null,null,null,null,null,null,null,null,null,{"$f":"IF(A1974<>\"\",TEXT(A1974,\"\"),\"\")","v":""},{"$f":"IF(N1974=\"\",\"\",CONCATENATE(IF(C1974<>\"\",TEXT(C1974,\"\"),\"\"),\" - \",IF(K1974<>\"\",TEXT(K1974,\"\"),\"\")))","v":""},{"$f":"SUBSTITUTE(SUBSTITUTE(SUBSTITUTE(SUBSTITUTE(IF(L1974<>\"\",HLink(L1974),\"\"),\"htm\",\"html\"),\"1x2\",\"analysis\"),\"www\",\"data\"),\"com\",\"vip\")","v":""},{"$f":"IF(D1974<>\"\",D1974,\"\")","v":""},{"$f":"IF(E1974<>\"\",E1974,\"\")","v":""},{"$f":"IF(F1974<>\"\",F1974,\"\")","v":""},{"$f":"IF(N1974<>\"\",IF(D1975<>\"\",D1975,D1974),\"\")","v":""},{"$f":"IF(N1974<>\"\",IF(E1975<>\"\",E1975,E1974),\"\")","v":""},{"$f":"IF(N1974<>\"\",IF(F1975<>\"\",F1975,F1974),\"\")","v":""}]
[]
[null,null,null,null,null,null,null,null,null,null,null,null,null,{"$f":"IF(A1976<>\"\",TEXT(A1976,\"\"),\"\")","v":""},{"$f":"IF(N1976=\"\",\"\",CONCATENATE(IF(C1976<>\"\",TEXT(C1976,\"\"),\"\"),\" - \",IF(K1976<>\"\",TEXT(K1976,\"\"),\"\")))","v":""},{"$f":"SUBSTITUTE(SUBSTITUTE(SUBSTITUTE(SUBSTITUTE(IF(L1976<>\"\",HLink(L1976),\"\"),\"htm\",\"html\"),\"1x2\",\"analysis\"),\"www\",\"data\"),\"com\",\"vip\")","v":""},{"$f":"IF(D1976<>\"\",D1976,\"\")","v":""},{"$f":"IF(E1976<>\"\",E1976,\"\")","v":""},{"$f":"IF(F1976<>\"\",F1976,\"\")","v":""},{"$f":"IF(N1976<>\"\",IF(D1977<>\"\",D1977,D1976),\"\")","v":""},{"$f":"IF(N1976<>\"\",IF(E1977<>\"\",E1977,E1976),\"\")","v":""},{"$f":"IF(N1976<>\"\",IF(F1977<>\"\",F1977,F1976),\"\")","v":""}]
[]
[null,null,null,null,null,null,null,null,null,null,null,null,null,{"$f":"IF(A1978<>\"\",TEXT(A1978,\"\"),\"\")","v":""},{"$f":"IF(N1978=\"\",\"\",CONCATENATE(IF(C1978<>\"\",TEXT(C1978,\"\"),\"\"),\" - \",IF(K1978<>\"\",TEXT(K1978,\"\"),\"\")))","v":""},{"$f":"SUBSTITUTE(SUBSTITUTE(SUBSTITUTE(SUBSTITUTE(IF(L1978<>\"\",HLink(L1978),\"\"),\"htm\",\"html\"),\"1x2\",\"analysis\"),\"www\",\"data\"),\"com\",\"vip\")","v":""},{"$f":"IF(D1978<>\"\",D1978,\"\")","v":""},{"$f":"IF(E1978<>\"\",E1978,\"\")","v":""},{"$f":"IF(F1978<>\"\",F1978,\"\")","v":""},{"$f":"IF(N1978<>\"\",IF(D1979<>\"\",D1979,D1978),\"\")","v":""},{"$f":"IF(N1978<>\"\",IF(E1979<>\"\",E1979,E1978),\"\")","v":""},{"$f":"IF(N1978<>\"\",IF(F1979<>\"\",F1979,F1978),\"\")","v":""}]
[]
[null,null,null,null,null,null,null,null,null,null,null,null,null,{"$f":"IF(A1980<>\"\",TEXT(A1980,\"\"),\"\")","v":""},{"$f":"IF(N1980=\"\",\"\",CONCATENATE(IF(C1980<>\"\",TEXT(C1980,\"\"),\"\"),\" - \",IF(K1980<>\"\",TEXT(K1980,\"\"),\"\")))","v":""},{"$f":"SUBSTITUTE(SUBSTITUTE(SUBSTITUTE(SUBSTITUTE(IF(L1980<>\"\",HLink(L1980),\"\"),\"htm\",\"html\"),\"1x2\",\"analysis\"),\"www\",\"data\"),\"com\",\"vip\")","v":""},{"$f":"IF(D1980<>\"\",D1980,\"\")","v":""},{"$f":"IF(E1980<>\"\",E1980,\"\")","v":""},{"$f":"IF(F1980<>\"\",F1980,\"\")","v":""},{"$f":"IF(N1980<>\"\",IF(D1981<>\"\",D1981,D1980),\"\")","v":""},{"$f":"IF(N1980<>\"\",IF(E1981<>\"\",E1981,E1980),\"\")","v":""},{"$f":"IF(N1980<>\"\",IF(F1981<>\"\",F1981,F1980),\"\")","v":""}]
[]
[null,null,null,null,null,null,null,null,null,null,null,null,null,{"$f":"IF(A1982<>\"\",TEXT(A1982,\"\"),\"\")","v":""},{"$f":"IF(N1982=\"\",\"\",CONCATENATE(IF(C1982<>\"\",TEXT(C1982,\"\"),\"\"),\" - \",IF(K1982<>\"\",TEXT(K1982,\"\"),\"\")))","v":""},{"$f":"SUBSTITUTE(SUBSTITUTE(SUBSTITUTE(SUBSTITUTE(IF(L1982<>\"\",HLink(L1982),\"\"),\"htm\",\"html\"),\"1x2\",\"analysis\"),\"www\",\"data\"),\"com\",\"vip\")","v":""},{"$f":"IF(D1982<>\"\",D1982,\"\")","v":""},{"$f":"IF(E1982<>\"\",E1982,\"\")","v":""},{"$f":"IF(F1982<>\"\",F1982,\"\")","v":""},{"$f":"IF(N1982<>\"\",IF(D1983<>\"\",D1983,D1982),\"\")","v":""},{"$f":"IF(N1982<>\"\",IF(E1983<>\"\",E1983,E1982),\"\")","v":""},{"$f":"IF(N1982<>\"\",IF(F1983<>\"\",F1983,F1982),\"\")","v":""}]
[]
[null,null,null,null,null,null,null,null,null,null,null,null,null,{"$f":"IF(A1984<>\"\",TEXT(A1984,\"\"),\"\")","v":""},{"$f":"IF(N1984=\"\",\"\",CONCATENATE(IF(C1984<>\"\",TEXT(C1984,\"\"),\"\"),\" - \",IF(K1984<>\"\",TEXT(K1984,\"\"),\"\")))","v":""},{"$f":"SUBSTITUTE(SUBSTITUTE(SUBSTITUTE(SUBSTITUTE(IF(L1984<>\"\",HLink(L1984),\"\"),\"htm\",\"html\"),\"1x2\",\"analysis\"),\"www\",\"data\"),\"com\",\"vip\")","v":""},{"$f":"IF(D1984<>\"\",D1984,\"\")","v":""},{"$f":"IF(E1984<>\"\",E1984,\"\")","v":""},{"$f":"IF(F1984<>\"\",F1984,\"\")","v":""},{"$f":"IF(N1984<>\"\",IF(D1985<>\"\",D1985,D1984),\"\")","v":""},{"$f":"IF(N1984<>\"\",IF(E1985<>\"\",E1985,E1984),\"\")","v":""},{"$f":"IF(N1984<>\"\",IF(F1985<>\"\",F1985,F1984),\"\")","v":""}]
[]
[null,null,null,null,null,null,null,null,null,null,null,null,null,{"$f":"IF(A1986<>\"\",TEXT(A1986,\"\"),\"\")","v":""},{"$f":"IF(N1986=\"\",\"\",CONCATENATE(IF(C1986<>\"\",TEXT(C1986,\"\"),\"\"),\" - \",IF(K1986<>\"\",TEXT(K1986,\"\"),\"\")))","v":""},{"$f":"SUBSTITUTE(SUBSTITUTE(SUBSTITUTE(SUBSTITUTE(IF(L1986<>\"\",HLink(L1986),\"\"),\"htm\",\"html\"),\"1x2\",\"analysis\"),\"www\",\"data\"),\"com\",\"vip\")","v":""},{"$f":"IF(D1986<>\"\",D1986,\"\")","v":""},{"$f":"IF(E1986<>\"\",E1986,\"\")","v":""},{"$f":"IF(F1986<>\"\",F1986,\"\")","v":""},{"$f":"IF(N1986<>\"\",IF(D1987<>\"\",D1987,D1986),\"\")","v":""},{"$f":"IF(N1986<>\"\",IF(E1987<>\"\",E1987,E1986),\"\")","v":""},{"$f":"IF(N1986<>\"\",IF(F1987<>\"\",F1987,F1986),\"\")","v":""}]
[]
[null,null,null,null,null,null,null,null,null,null,null,null,null,{"$f":"IF(A1988<>\"\",TEXT(A1988,\"\"),\"\")","v":""},{"$f":"IF(N1988=\"\",\"\",CONCATENATE(IF(C1988<>\"\",TEXT(C1988,\"\"),\"\"),\" - \",IF(K1988<>\"\",TEXT(K1988,\"\"),\"\")))","v":""},{"$f":"SUBSTITUTE(SUBSTITUTE(SUBSTITUTE(SUBSTITUTE(IF(L1988<>\"\",HLink(L1988),\"\"),\"htm\",\"html\"),\"1x2\",\"analysis\"),\"www\",\"data\"),\"com\",\"vip\")","v":""},{"$f":"IF(D1988<>\"\",D1988,\"\")","v":""},{"$f":"IF(E1988<>\"\",E1988,\"\")","v":""},{"$f":"IF(F1988<>\"\",F1988,\"\")","v":""},{"$f":"IF(N1988<>\"\",IF(D1989<>\"\",D1989,D1988),\"\")","v":""},{"$f":"IF(N1988<>\"\",IF(E1989<>\"\",E1989,E1988),\"\")","v":""},{"$f":"IF(N1988<>\"\",IF(F1989<>\"\",F1989,F1988),\"\")","v":""}]
[]
[null,null,null,null,null,null,null,null,null,null,null,null,null,{"$f":"IF(A1990<>\"\",TEXT(A1990,\"\"),\"\")","v":""},{"$f":"IF(N1990=\"\",\"\",CONCATENATE(IF(C1990<>\"\",TEXT(C1990,\"\"),\"\"),\" - \",IF(K1990<>\"\",TEXT(K1990,\"\"),\"\")))","v":""},{"$f":"SUBSTITUTE(SUBSTITUTE(SUBSTITUTE(SUBSTITUTE(IF(L1990<>\"\",HLink(L1990),\"\"),\"htm\",\"html\"),\"1x2\",\"analysis\"),\"www\",\"data\"),\"com\",\"vip\")","v":""},{"$f":"IF(D1990<>\"\",D1990,\"\")","v":""},{"$f":"IF(E1990<>\"\",E1990,\"\")","v":""},{"$f":"IF(F1990<>\"\",F1990,\"\")","v":""},{"$f":"IF(N1990<>\"\",IF(D1991<>\"\",D1991,D1990),\"\")","v":""},{"$f":"IF(N1990<>\"\",IF(E1991<>\"\",E1991,E1990),\"\")","v":""},{"$f":"IF(N1990<>\"\",IF(F1991<>\"\",F1991,F1990),\"\")","v":""}]
[]
[null,null,null,null,null,null,null,null,null,null,null,null,null,{"$f":"IF(A1992<>\"\",TEXT(A1992,\"\"),\"\")","v":""},{"$f":"IF(N1992=\"\",\"\",CONCATENATE(IF(C1992<>\"\",TEXT(C1992,\"\"),\"\"),\" - \",IF(K1992<>\"\",TEXT(K1992,\"\"),\"\")))","v":""},{"$f":"SUBSTITUTE(SUBSTITUTE(SUBSTITUTE(SUBSTITUTE(IF(L1992<>\"\",HLink(L1992),\"\"),\"htm\",\"html\"),\"1x2\",\"analysis\"),\"www\",\"data\"),\"com\",\"vip\")","v":""},{"$f":"IF(D1992<>\"\",D1992,\"\")","v":""},{"$f":"IF(E1992<>\"\",E1992,\"\")","v":""},{"$f":"IF(F1992<>\"\",F1992,\"\")","v":""},{"$f":"IF(N1992<>\"\",IF(D1993<>\"\",D1993,D1992),\"\")","v":""},{"$f":"IF(N1992<>\"\",IF(E1993<>\"\",E1993,E1992),\"\")","v":""},{"$f":"IF(N1992<>\"\",IF(F1993<>\"\",F1993,F1992),\"\")","v":""}]
[]
[null,null,null,null,null,null,null,null,null,null,null,null,null,{"$f":"IF(A1994<>\"\",TEXT(A1994,\"\"),\"\")","v":""},{"$f":"IF(N1994=\"\",\"\",CONCATENATE(IF(C1994<>\"\",TEXT(C1994,\"\"),\"\"),\" - \",IF(K1994<>\"\",TEXT(K1994,\"\"),\"\")))","v":""},{"$f":"SUBSTITUTE(SUBSTITUTE(SUBSTITUTE(SUBSTITUTE(IF(L1994<>\"\",HLink(L1994),\"\"),\"htm\",\"html\"),\"1x2\",\"analysis\"),\"www\",\"data\"),\"com\",\"vip\")","v":""},{"$f":"IF(D1994<>\"\",D1994,\"\")","v":""},{"$f":"IF(E1994<>\"\",E1994,\"\")","v":""},{"$f":"IF(F1994<>\"\",F1994,\"\")","v":""},{"$f":"IF(N1994<>\"\",IF(D1995<>\"\",D1995,D1994),\"\")","v":""},{"$f":"IF(N1994<>\"\",IF(E1995<>\"\",E1995,E1994),\"\")","v":""},{"$f":"IF(N1994<>\"\",IF(F1995<>\"\",F1995,F1994),\"\")","v":""}]
[]
[null,null,null,null,null,null,null,null,null,null,null,null,null,{"$f":"IF(A1996<>\"\",TEXT(A1996,\"\"),\"\")","v":""},{"$f":"IF(N1996=\"\",\"\",CONCATENATE(IF(C1996<>\"\",TEXT(C1996,\"\"),\"\"),\" - \",IF(K1996<>\"\",TEXT(K1996,\"\"),\"\")))","v":""},{"$f":"SUBSTITUTE(SUBSTITUTE(SUBSTITUTE(SUBSTITUTE(IF(L1996<>\"\",HLink(L1996),\"\"),\"htm\",\"html\"),\"1x2\",\"analysis\"),\"www\",\"data\"),\"com\",\"vip\")","v":""},{"$f":"IF(D1996<>\"\",D1996,\"\")","v":""},{"$f":"IF(E1996<>\"\",E1996,\"\")","v":""},{"$f":"IF(F1996<>\"\",F1996,\"\")","v":""},{"$f":"IF(N1996<>\"\",IF(D1997<>\"\",D1997,D1996),\"\")","v":""},{"$f":"IF(N1996<>\"\",IF(E1997<>\"\",E1997,E1996),\"\")","v":""},{"$f":"IF(N1996<>\"\",IF(F1997<>\"\",F1997,F1996),\"\")","v":""}]
[]
[null,null,null,null,null,null,null,null,null,null,null,null,null,{"$f":"IF(A1998<>\"\",TEXT(A1998,\"\"),\"\")","v":""},{"$f":"IF(N1998=\"\",\"\",CONCATENATE(IF(C1998<>\"\",TEXT(C1998,\"\"),\"\"),\" - \",IF(K1998<>\"\",TEXT(K1998,\"\"),\"\")))","v":""},{"$f":"SUBSTITUTE(SUBSTITUTE(SUBSTITUTE(SUBSTITUTE(IF(L1998<>\"\",HLink(L1998),\"\"),\"htm\",\"html\"),\"1x2\",\"analysis\"),\"www\",\"data\"),\"com\",\"vip\")","v":""},{"$f":"IF(D1998<>\"\",D1998,\"\")","v":""},{"$f":"IF(E1998<>\"\",E1998,\"\")","v":""},{"$f":"IF(F1998<>\"\",F1998,\"\")","v":""},{"$f":"IF(N1998<>\"\",IF(D1999<>\"\",D1999,D1998),\"\")","v":""},{"$f":"IF(N1998<>\"\",IF(E1999<>\"\",E1999,E1998),\"\")","v":""},{"$f":"IF(N1998<>\"\",IF(F1999<>\"\",F1999,F1998),\"\")","v":""}]

{"sheet":"Veri1","index":1,"n_rows":11,"n_cols":388,"rows_kept":11,"cut":false,"hidden":false,"merged":[[0,387,2,402],[4,387,6,402]]}
[null,null,null,null,null,null,null,null,null,null,null,null,null,null,null,null,null,null,null,null,null,null,null,null,null,null,null,null,null,null,null,null,null,null,null,null,null,null,null,null,null,null,null,null,null,null,null,null,null,null,null,null,null,null,null,null,null,null,null,null,null,null,null,null,null,null,null,null,null,null,null,null,null,null,null,null,null,null,null,null,null,null,null,null,null,null,null,null,null,null,null,null,null,null,null,null,null,null,null,null,null,null,null,null,null,null,null,null,null,null,null,null,null,null,null,null,null,null,null,null,"[AUS D3M-13] SC Kalsdorf",null,null,null,null,null,null,null,null,null,null,null,null,null,null,null,null,null,null,null,null,"[AUS D3M-13] SC Kalsdorf",null,null,null,null,null,null,null,null,null,null,null,null,null,null,null,null,null,null,null,null,null,null,null,null,null,null,null,null,null,null,null,null,null,null,null,null,null,null,null,null,null,null,null,null,null,null,null,null,null,null,null,null,null,null,null,null,null,null,null,null,null,null,null,null,null,null,null,null,null,null,null,null,null,null,null,null,null,null,null,null,null,null,null,null,null,null,null,null,null,null,null,null,null,null,null,null,null,null,null,null,null,null,null,null,null,null,null,null,null,null,null,null,null,null,null,null,null,null,null,null,null,null,null,null,null,null,null,null,null,null,null,null,null,null,null,null,null,null,null,null,null,null,null,null,null,null,null,null,null,null,null,null,null,null,null,null,null,null,null,null,null,null,null,null,null,null,null,null,null,null,null,null,null,null,null,null,null,null,null,null,null,null,null,null,null,null,null,null,null,null,null,null,null,null,null,null,null,null,null,null,null,null,null,null,null,null,null,null,null,null,null,null,null,null,null,null,null,null,null,null,null,null,null,null,null,null,null,null,null,null,null,null,null,null,null,null,null,null,null,null,null,null,null,null,null,"pro analiz andsi v 19 . 02"]
[null,null,null,null,null,null,null,null,null,null,null,null,null,null,null,null,null,null,null,null,null,null,null,null,null,null,null,null,null,null,null,null,null,null,null,null,null,null,null,null,null,null,null,null,null,null,null,null,null,null,null,null,null,null,null,null,null,null,null,null,null,null,null,null,null,null,null,null,null,null,null,null,null,null,null,null,null,null,null,null,null,null,null,null,null,null,null,null,null,null,null,null,null,null,null,null,null,null,null,null,null,null,null,null,null,null,null,null,null,null,null,"Matches","Win","Draw","Loss","Get","Miss","Pts","Rank","Rate","FT","Matches","Win","Draw","Loss","Get","Miss","Pts","Rank","Rate",null,null,"Matches","Win","Draw","Loss","Get","Miss","Pts","Rank","Rate","FT","Matches","Win","Draw","Loss","Get","Miss","Pts","Rank","Rate"]
[null,null,null,null,null,null,null,null,null,null,null,null,null,null,null,null,null,null,null,null,null,null,null,null,null,null,null,null,null,null,null,null,null,null,null,null,null,null,null,null,null,null,null,null,null,null,null,null,null,null,null,null,null,null,null,null,null,null,null,null,null,null,null,null,null,null,null,null,null,null,null,null,null,null,null,null,null,null,null,null,null,null,null,null,null,null,null,null,null,null,null,null,null,null,null,null,null,null,null,null,null,null,null,null,null,null,null,null,null,null,null,15,3,6,6,17,20,15,13,0.2,"Total",15,4,2,9,23,37,14,13,0.26700000000000002,null,null,15,3,6,6,17,20,15,13,0.2,"Total",15,4,2,9,23,37,14,13,0.26700000000000002]
[null,null,null,null,null,null,null,null,null,null,null,null,null,null,null,null,null,null,null,null,null,null,null,null,null,null,null,null,null,null,null,null,null,null,null,null,null,null,null,null,null,null,null,null,null,null,null,null,null,null,null,null,null,null,null,null,null,null,null,null,null,null,null,null,null,null,null,null,null,null,null,null,null,null,null,null,null,null,null,null,null,null,null,null,null,null,null,null,null,null,null,null,null,null,null,null,null,null,null,null,null,null,null,null,null,null,null,null,null,null,null,7,1,4,2,8,7,7,12,0.14299999999999999,"Home",8,3,1,4,14,21,10,12,0.375,null,null,7,1,4,2,8,7,7,12,0.14299999999999999,"Home",8,3,1,4,14,21,10,12,0.375]
[null,null,null,null,null,null,null,null,null,null,null,null,null,null,null,null,null,null,null,null,null,null,null,null,null,null,null,null,null,null,null,null,null,null,null,null,null,null,null,null,null,null,null,null,null,null,null,null,null,null,null,null,null,null,null,null,null,null,null,null,null,null,null,null,null,null,null,null,null,null,null,null,null,null,null,null,null,null,null,null,null,null,null,null,null,null,null,null,null,null,null,null,null,null,null,null,null,null,null,null,null,null,null,null,null,null,null,null,null,null,null,8,2,2,4,9,13,8,11,0.25,"Away",7,1,1,5,9,16,4,14,0.14299999999999999,null,null,8,2,2,4,9,13,8,11,0.25,"Away",7,1,1,5,9,16,4,14,0.14299999999999999]
[null,null,null,null,null,null,null,null,null,null,null,null,null,null,null,null,null,null,null,null,null,null,null,null,null,null,null,null,null,null,null,null,null,null,null,null,null,null,null,null,null,null,null,null,null,null,null,null,null,null,null,null,null,null,null,null,null,null,null,null,null,null,null,null,null,null,null,null,null,null,null,null,null,null,null,null,null,null,null,null,null,null,null,null,null,null,null,null,null,null,null,null,null,null,null,null,null,null,null,null,null,null,null,null,null,null,null,null,null,null,null,6,1,3,2,8,8,6,null,0.16700000000000001,"Last 6",6,1,2,3,7,17,5,null,0.16700000000000001,null,null,6,1,3,2,8,8,6,null,0.16700000000000001,"Last 6",6,1,2,3,7,17,5,null,0.16700000000000001]
[null,null,null,null,null,null,null,null,null,null,null,null,null,null,null,null,null,null,null,null,null,null,null,null,null,null,null,null,null,null,null,null,null,null,null,null,null,null,null,null,null,null,null,null,null,null,null,null,null,null,null,null,null,null,null,null,null,null,null,null,null,null,null,null,null,null,null,null,null,null,null,null,null,null,null,null,null,null,null,null,null,null,null,null,null,null,null,null,null,null,null,null,null,null,null,null,null,null,null,null,null,null,null,null,null,null,null,null,null,null,null,"Matches","Win","Draw","Loss","Get","Miss","Pts","Rank","Rate","HT","Matches","Win","Draw","Loss","Get","Miss","Pts","Rank","Rate",null,null,"Matches","Win","Draw","Loss","Get","Miss","Pts","Rank","Rate","HT","Matches","Win","Draw","Loss","Get","Miss","Pts","Rank","Rate"]
[null,null,null,null,null,null,null,null,null,null,null,null,null,null,null,null,null,null,null,null,null,null,null,null,null,null,null,null,null,null,null,null,null,null,null,null,null,null,null,null,null,null,null,null,null,null,null,null,null,null,null,null,null,null,null,null,null,null,null,null,null,null,null,null,null,null,null,null,null,null,null,null,null,null,null,null,null,null,null,null,null,null,null,null,null,null,null,null,null,null,null,null,null,null,null,null,null,null,null,null,null,null,null,null,null,null,null,null,null,null,null,15,6,5,4,10,8,23,6,0.4,"Total",15,4,5,6,10,15,17,11,0.26700000000000002,null,null,15,6,5,4,10,8,23,6,0.4,"Total",15,4,5,6,10,15,17,11,0.26700000000000002]
[null,null,null,null,null,null,null,null,null,null,null,null,null,null,null,null,null,null,null,null,null,null,null,null,null,null,null,null,null,null,null,null,null,null,null,null,null,null,null,null,null,null,null,null,null,null,null,null,null,null,null,null,null,null,null,null,null,null,null,null,null,null,null,null,null,null,null,null,null,null,null,null,null,null,null,null,null,null,null,null,null,null,null,null,null,null,null,null,null,null,null,null,null,null,null,null,null,null,null,null,null,null,null,null,null,null,null,null,null,null,null,7,1,4,2,4,4,7,12,0.14299999999999999,"Home",8,3,1,4,6,9,10,10,0.375,null,null,7,1,4,2,4,4,7,12,0.14299999999999999,"Home",8,3,1,4,6,9,10,10,0.375]
[null,null,null,null,null,null,null,null,null,null,null,null,null,null,null,null,null,null,null,null,null,null,null,null,null,null,null,null,null,null,null,null,null,null,null,null,null,null,null,null,null,null,null,null,null,null,null,null,null,null,null,null,null,null,null,null,null,null,null,null,null,null,null,null,null,null,null,null,null,null,null,null,null,null,null,null,null,null,null,null,null,null,null,null,null,null,null,null,null,null,null,null,null,null,null,null,null,null,null,null,null,null,null,null,null,null,null,null,null,null,null,8,5,1,2,6,4,16,1,0.625,"Away",7,1,4,2,4,6,7,12,0.14299999999999999,null,null,8,5,1,2,6,4,16,1,0.625,"Away",7,1,4,2,4,6,7,12,0.14299999999999999]
[null,null,null,null,null,null,null,null,null,null,null,null,null,null,null,null,null,null,null,null,null,null,null,null,null,null,null,null,null,null,null,null,null,null,null,null,null,null,null,null,null,null,null,null,null,null,null,null,null,null,null,null,null,null,null,null,null,null,null,null,null,null,null,null,null,null,null,null,null,null,null,null,null,null,null,null,null,null,null,null,null,null,null,null,null,null,null,null,null,null,null,null,null,null,null,null,null,null,null,null,null,null,null,null,null,null,null,null,null,null,null,6,3,1,2,6,4,10,null,0.5,"Last 6",6,0,1,5,2,10,1,null,0,null,null,6,3,1,2,6,4,10,null,0.5,"Last 6",6,0,1,5,2,10,1,null,0]

{"sheet":"Veri","index":2,"n_rows":25,"n_cols":100,"rows_kept":25,"cut":false,"hidden":false,"merged":[[0,99,2,114]]}
["  H-A Same  AUS D3   AUT CUP",null,null,null,null,null,null,null,null,null,null,null,null,null,null,null,null,"SC Kalsdorf   ",null,null,null,null,null,null,null,null,null,null,null,null,null,null,null,"SG Austria Klagenfurt   ",null,null,null,null,null,null,null,null,null,null,null,null,null,"[AUT D2-13]  SG Austria Klagenfurt",null,null,null,null,null,null,null,null,null,null,null,null,null,null,null,null,null,null,null,null,null,null,null,null,null,null,null,null,null,null,"[AUT D2-13]  SG Austria Klagenfurt",null,null,null,null,null,null,null,null,null,null,null,null,null,null,null,null,null,null,null,null,"pro analiz andsi v 19 . 02"]
["Liga/Piala","Tanggal","Kandang","Score","H T","Corner","Tandang",null,null,null,null,null,null,"W/L","Odds","O/U",null,"  INT CF   AUS D3   AUS AC",null,null,null,null,null,null,null,null,null,null,null,null,null,null,null,"  INT CF   AUT D2   AUT CUP",null,null,null,null,null,null,null,null,null,null,null,null,null,"FT","Main","Menang","Imbang","Kalah","GM","GK","Poin","Urutan","Rate",null,null,null,null,null,null,null,null,null,null,null,null,null,null,null,null,null,null,null,null,null,"FT","Main","Menang","Imbang","Kalah","GM","GK","Poin","Urutan","Rate"]
[null,null,null,null,null,null,null,"HW","D","AW","H","Odds","A",null,null,null,null,"Liga/Piala","Tanggal","Kandang","Score","H T","Corner","Tandang",null,null,null,null,null,null,"W/L","Odds","O/U","Liga/Piala","Tanggal","Kandang","Score","H T","Corner","Tandang",null,null,null,null,null,null,"W/L","Total",15,3,6,6,17,20,15,13,0.2,"Odds","O/U",null,null,null,null,null,null,null,null,null,null,null,null,null,null,null,null,null,null,null,"Total",15,3,6,6,17,20,15,13,0.2]
["AUS D3",null,"SC Kalsdorf","0-1","0-1","6-3","SG Austria Klagenfurt",null,null,null,null,null,null,"W",null,null,null,null,null,null,null,null,null,null,"HW","D","AW","H","Odds","A",null,null,null,null,null,null,null,null,null,null,"HW","D","AW","H","Odds","A",null,"Home",7,1,4,2,8,7,7,12,0.14299999999999999,null,null,null,null,null,null,null,null,null,null,null,null,null,null,null,null,null,null,null,null,null,"Home",7,1,4,2,8,7,7,12,0.14299999999999999]
["AUS D3",null,"SG Austria Klagenfurt","6-1","2-0","2-8","SC Kalsdorf",null,null,null,null,null,null,"W",null,null,null,"INT CF",null,"Leoben","0-4","0-2","4-4","SC Kalsdorf",null,null,null,null,null,null,"W",null,null,"INT CF",null,"VST Volkermarkt","2-3","0-1","/","SG Austria Klagenfurt",null,null,null,null,null,null,"W","Away",8,2,2,4,9,13,8,11,0.25,null,null,null,null,null,null,null,null,null,null,null,null,null,null,null,null,null,null,null,null,null,"Away",8,2,2,4,9,13,8,11,0.25]
["AUS D3",null,"SG Austria Klagenfurt","1-0","0-0","7-3","SC Kalsdorf",null,null,null,null,null,null,"W",null,null,null,"AUS D3",null,"Union Gurten","3-0","1-0","/","SC Kalsdorf",null,null,null,null,null,null,"L",null,null,"INT CF",null,"KAC 1909","2-6","1-3","2-9","SG Austria Klagenfurt",null,null,null,null,null,null,"W","6 laga",6,1,3,2,8,8,6,null,0.16700000000000001,null,null,null,null,null,null,null,null,null,null,null,null,null,null,null,null,null,null,null,null,null,"6 laga",6,1,3,2,8,8,6,null,0.16700000000000001]
["AUS D3",null,"SC Kalsdorf","1-2","0-1","7-0","SG Austria Klagenfurt",null,null,null,null,null,null,"W",null,null,null,"AUS D3",null,"SC Kalsdorf","0-6","0-3","9-10","Vocklamarkt",null,null,null,null,null,null,"L",null,null,"INT CF",null,"Wolfsberger AC Amateure(N)","0-2","0-0","0-6","SG Austria Klagenfurt",null,null,null,null,null,null,"W","HT","Main","Menang","Imbang","Kalah","GM","GK","Poin","Urutan","Rate",null,null,null,null,null,null,null,null,null,null,null,null,null,null,null,null,null,null,null,null,null,"HT","Main","Menang","Imbang","Kalah","GM","GK","Poin","Urutan","Rate"]
["AUT CUP",null,"SC Kalsdorf","4-0","2-0","4-1","SG Austria Klagenfurt",null,null,null,null,null,null,"L",null,null,null,"AUS AC",null,"Gratkorn","1-2","1-2","1-11","SC Kalsdorf",null,null,null,null,null,null,"W",null,null,"INT CF",null,"SC Gleisdorf(N)","1-2","1-0","2-3","SG Austria Klagenfurt",null,null,null,null,null,null,"W","Total",15,6,5,4,10,8,23,6,0.4,null,null,null,null,null,null,null,null,null,null,null,null,null,null,null,null,null,null,null,null,null,"Total",15,6,5,4,10,8,23,6,0.4]
["AUS D3",null,"SG Austria Klagenfurt","3-0","2-0","5-3","SC Kalsdorf",null,null,null,null,null,null,"W",null,null,null,"AUS D3",null,"SC Weiz","3-1","2-0","4-2","SC Kalsdorf",null,null,null,null,null,null,"L",null,null,"AUT D2",null,"SG Austria Klagenfurt","3-0","3-0","6-6","FC Liefering",null,null,null,null,null,null,"W","Home",7,1,4,2,4,4,7,12,0.14299999999999999,null,null,null,null,null,null,null,null,null,null,null,null,null,null,null,null,null,null,null,null,null,"Home",7,1,4,2,4,4,7,12,0.14299999999999999]
["AUS D3",null,"SC Kalsdorf","2-5","0-3","4-1","SG Austria Klagenfurt",null,null,null,null,null,null,"W",null,null,null,"AUS D3",null,"SC Kalsdorf","2-1","0-1","9-3","VST Volkermarkt",null,null,null,null,null,null,"W",null,null,"AUT D2",null,"SK Vorwarts Steyr","2-1","2-1","8-2","SG Austria Klagenfurt",null,null,null,null,null,null,"L","Away",8,5,1,2,6,4,16,1,0.625,null,null,null,null,null,null,null,null,null,null,null,null,null,null,null,null,null,null,null,null,null,"Away",8,5,1,2,6,4,16,1,0.625]
["AUS D3",null,"SG Austria Klagenfurt","1-3","1-0","/","SC Kalsdorf",null,null,null,null,null,null,"L",null,null,null,"AUS D3",null,"FC Wels","3-3","2-2","6-3","SC Kalsdorf1",null,null,null,null,null,null,"D",null,null,"AUT D2",null,"SG Austria Klagenfurt","0-0","0-0","5-3","SV Ried",null,null,null,null,null,null,"D","6 laga",6,3,1,2,6,4,10,null,0.5,null,null,null,null,null,null,null,null,null,null,null,null,null,null,null,null,null,null,null,null,null,"6 laga",6,3,1,2,6,4,10,null,0.5]
["AUS D3",null,"SC Kalsdorf","1-2","0-2","/","SG Austria Klagenfurt",null,null,null,null,null,null,"W",null,null,null,"AUS D3",null,"SC Kalsdorf","1-1","0-1","0-10","SC Gleisdorf",null,null,null,null,null,null,"D",null,null,"AUT D2",null,"Lafnitz","1-1","0-1","9-3","SG Austria Klagenfurt",null,null,null,null,null,null,"D"]
["AUS D3",null,"SC Kalsdorf","5-1","3-1","/","SG Austria Klagenfurt",null,null,null,null,null,null,"L",null,null,null,"AUS D3",null,"SC Kalsdorf","2-4","0-2","1-5","TUS Bad Gleichenberg",null,null,null,null,null,null,"L",null,null,"AUT D2",null,"SG Austria Klagenfurt","2-2","0-2","3-3","SKU Amstetten",null,null,null,null,null,null,"D"]
[null,null,null,null,null,null,null,null,null,null,null,null,null,null,null,null,null,"AUS D3",null,"1SV Lendorf","0-2","0-0","/","SC Kalsdorf",null,null,null,null,null,null,"W",null,null,"AUT D2",null,"Kapfenberg","3-1","0-1","5-3","SG Austria Klagenfurt",null,null,null,null,null,null,"L"]
[null,null,null,null,null,null,null,null,null,null,null,null,null,null,null,null,null,"AUS D3",null,"SC Kalsdorf","4-1","2-1","6-6","Deutschlandsberger SC",null,null,null,null,null,null,"W",null,null,"AUT D2",null,"FAC Team Fur Wien","1-2","0-1","3-2","SG Austria Klagenfurt",null,null,null,null,null,null,"W"]
[null,null,null,null,null,null,null,null,null,null,null,null,null,null,null,null,null,"AUS D3",null,"Sturm Graz (Youth)","3-2","0-1","1-7","SC Kalsdorf1",null,null,null,null,null,null,"L",null,null,"AUT CUP",null,"Wolfsberger AC","4-0","3-0","4-4","SG Austria Klagenfurt",null,null,null,null,null,null,"L"]
[null,null,null,null,null,null,null,null,null,null,null,null,null,null,null,null,null,"AUS AC",null,"SV Pachern","1-6","0-3","10-1","SC Kalsdorf",null,null,null,null,null,null,"W",null,null,"AUT D2",null,"SG Austria Klagenfurt","1-1","0-0","9-3","FC Magna Wiener Neustadt",null,null,null,null,null,null,"D"]
[null,null,null,null,null,null,null,null,null,null,null,null,null,null,null,null,null,"AUS D3",null,"1SC Kalsdorf","2-3","2-0","0-16","Grazer AK",null,null,null,null,null,null,"L",null,null,"AUT D2",null,"SV Horn","0-1","0-1","3-5","SG Austria Klagenfurt",null,null,null,null,null,null,"W"]
[null,null,null,null,null,null,null,null,null,null,null,null,null,null,null,null,null,"AUS D3",null,"ATSV Stadl Paura","1-0","0-0","2-5","SC Kalsdorf",null,null,null,null,null,null,"L",null,null,"AUT D2",null,"SG Austria Klagenfurt","1-2","1-1","9-4","Austria Wien (Youth)",null,null,null,null,null,null,"L"]
[null,null,null,null,null,null,null,null,null,null,null,null,null,null,null,null,null,"AUS D3",null,"SC Kalsdorf","2-5","1-1","1-6","WSC Hertha Wels",null,null,null,null,null,null,"L",null,null,"AUT D2",null,"FC Superfund Pasching","2-1","0-1","5-3","SG Austria Klagenfurt",null,null,null,null,null,null,"L"]
[null,null,null,null,null,null,null,null,null,null,null,null,null,null,null,null,null,"AUS D3",null,"Wolfsberger AC Amateure","3-1","1-1","8-0","SC Kalsdorf",null,null,null,null,null,null,"L",null,null,"AUT D2",null,"SG Austria Klagenfurt","0-1","0-0","7-5","FC Wacker Innsbruck Amateure",null,null,null,null,null,null,"L"]
[null,null,null,null,null,null,null,null,null,null,null,null,null,null,null,null,null,"AUS D3",null,"SC Kalsdorf","1-0","1-0","1-3","Allerheiligen",null,null,null,null,null,null,"W",null,null,"AUT D2",null,"WSG Wattens","1-1","0-0","3-5","SG Austria Klagenfurt1",null,null,null,null,null,null,"D"]
[null,null,null,null,null,null,null,null,null,null,null,null,null,null,null,null,null,"INT CF",null,"SC Kalsdorf","5-2","2-1","6-3","SV Lebring",null,null,null,null,null,null,"W",null,null,"AUT D2",null,"FC Blau Weiss Linz","3-1","2-0","3-4","SG Austria Klagenfurt",null,null,null,null,null,null,"L"]
[null,null,null,null,null,null,null,null,null,null,null,null,null,null,null,null,null,"INT CF",null,"Usv Mettersdorf","1-3","0-0","4-2","SC Kalsdorf",null,null,null,null,null,null,"W",null,null,"AUT D2",null,"SG Austria Klagenfurt","1-1","0-1","5-3","Austria Lustenau",null,null,null,null,null,null,"D"]
[null,null,null,null,null,null,null,null,null,null,null,null,null,null,null,null,null,"Last 20 matches, Win rate：45.0% Odds win rate：0.0% Over 2.5 rate：0.0% Odd rate：55.0%",null,null,null,null,null,null,null,null,null,null,null,null,null,null,null,"Last 20 matches, Win rate：35.0% Odds win rate：0.0% Over 2.5 rate：0.0% Odd rate：45.0%"]

{"sheet":"ANALIZANDSI","index":3,"n_rows":249,"n_cols":232,"rows_kept":249,"cut":false,"hidden":false,"merged":[[0,222,2,237],[226,6,226,7],[226,66,226,67],[226,127,226,128],[226,189,226,190],[130,209,130,210],[130,211,130,212],[130,213,130,214],[130,215,130,216],[130,217,130,218],[130,145,130,146],[130,147,130,148],[130,149,130,150],[130,151,130,152],[130,153,130,154],[130,155,130,156],[130,157,130,158],[130,159,130,160],[130,125,130,126],[130,127,130,128],[130,129,130,131],[130,132,130,134],[130,135,130,136],[130,137,130,138],[130,139,130,140],[130,219,130,220],[130,221,130,222],[76,187,76,188],[76,190,76,191],[83,186,83,188],[83,189,83,191],[130,189,130,190],[130,191,130,193],[130,194,130,196],[130,197,130,198],[130,199,130,200],[130,201,130,202],[130,203,130,204],[130,205,130,206],[130,207,130,208],[130,187,130,188],[130,141,130,142],[130,143,130,144],[20,116,20,117],[22,119,22,120],[20,177,20,178],[22,180,22,181],[24,197,24,198],[26,200,26,201],[91,113,91,114],[91,174,91,175],[70,194,70,195],[51,188,51,190],[52,186,52,188],[52,190,52,192],[45,188,45,191],[46,188,46,189],[46,190,46,191],[46,168,46,169],[46,170,46,171],[36,186,36,187],[36,183,36,184],[36,175,36,176],[36,178,36,179],[43,177,43,179],[23,188,23,190],[24,186,24,187],[130,86,130,87],[130,88,130,89],[130,90,130,91],[130,92,130,93],[130,94,130,95],[130,96,130,97],[130,98,130,99],[36,114,36,115],[36,117,36,118],[43,113,43,115],[43,116,43,118],[52,105,52,107],[52,109,52,111],[51,107,51,109],[71,107,71,109],[72,105,72,107],[72,109,72,111],[60,112,60,113],[80,112,80,113],[130,66,130,67],[130,68,130,70],[130,71,130,73],[130,74,130,75],[130,76,130,77],[130,78,130,79],[130,80,130,81],[130,82,130,83],[130,84,130,85],[138,24,138,25],[138,26,138,27],[138,28,138,29],[138,30,138,31],[138,32,138,33],[138,34,138,35],[138,36,138,37],[138,38,138,39],[130,64,130,65],[130,38,130,39],[138,4,138,5],[138,6,138,7],[138,8,138,10],[138,11,138,13],[138,14,138,15],[138,16,138,17],[138,18,138,19],[138,20,138,21],[138,22,138,23],[20,55,20,56],[22,58,22,59],[130,24,130,25],[130,26,130,27],[130,28,130,29],[130,4,130,5],[130,6,130,7],[130,8,130,10],[130,14,130,15],[130,18,130,19],[130,30,130,31],[130,32,130,33],[130,34,130,35],[130,36,130,37],[130,11,130,13],[130,16,130,17],[130,20,130,21],[130,22,130,23],[52,44,52,46],[52,48,52,50],[51,46,51,48],[21,44,21,45],[21,48,21,49],[91,52,91,53],[24,51,24,52],[27,46,27,48],[29,16,30,22],[29,25,30,31],[32,51,32,52],[32,173,32,174],[45,168,45,171],[27,35,27,39],[34,35,34,39],[36,53,36,54],[36,56,36,57],[43,52,43,54],[43,55,43,57],[43,174,43,176],[27,96,27,100],[34,96,34,100],[24,109,24,110],[24,112,24,113],[27,107,27,109],[0,186,0,187],[0,190,0,191],[0,197,1,198],[6,183,7,184],[13,188,13,190],[18,186,18,187],[18,190,18,191],[21,186,21,187],[21,190,21,191],[24,190,24,191],[24,193,24,194],[27,188,27,190],[32,193,32,194],[98,4,98,8],[98,10,98,14],[23,46,23,48],[24,44,24,45],[24,48,24,49],[55,10,55,13],[56,10,56,11],[56,12,56,13],[65,4,65,8],[65,10,65,14],[98,65,98,69],[98,71,98,75],[45,107,45,110],[46,107,46,108],[46,109,46,110],[29,77,30,83],[29,86,30,92],[32,112,32,113],[23,107,23,109],[24,105,24,106],[0,16,0,26],[0,29,0,39],[0,44,0,45],[0,48,0,49],[1,20,2,21],[2,16,3,19],[2,22,2,23],[2,24,2,25],[2,29,3,32],[2,35,2,36],[2,37,2,38],[6,41,7,42],[13,46,13,48],[18,44,18,45],[18,48,18,49],[1,81,2,82],[2,77,3,80],[2,83,2,84],[2,85,2,86],[2,90,3,93],[2,96,2,97],[2,98,2,99],[0,55,1,56],[0,77,0,87],[0,90,0,100],[6,163,7,164],[13,168,13,170],[18,166,18,167],[18,170,18,171],[0,105,0,106],[0,109,0,110],[0,116,1,117],[6,102,7,103],[13,107,13,109],[18,105,18,106],[18,109,18,110],[0,138,0,148],[0,151,0,161],[0,166,0,167],[0,170,0,171],[0,177,1,178],[1,142,2,143],[2,138,3,141],[2,144,2,145],[2,146,2,147],[2,151,3,154],[2,157,2,158],[2,159,2,160],[21,105,21,106],[21,109,21,110],[23,168,23,170],[24,166,24,167],[24,170,24,171],[24,173,24,174],[27,168,27,170],[98,126,98,130],[98,132,98,136],[55,132,55,135],[56,132,56,133],[56,134,56,135],[65,126,65,130],[65,132,65,136],[29,138,30,144],[29,147,30,153],[27,157,27,161],[34,157,34,161],[71,168,71,170],[72,166,72,168],[72,170,72,172],[80,173,80,174],[21,166,21,167],[21,170,21,171],[65,71,65,75],[55,71,55,74],[56,71,56,72],[56,73,56,74],[60,193,60,194],[36,44,36,45],[36,42,36,43],[36,103,36,104],[36,105,36,106],[36,164,36,165],[36,166,36,167],[51,168,51,170],[52,166,52,168],[52,170,52,172],[60,173,60,174],[71,46,71,48],[72,44,72,46],[72,48,72,50],[80,51,80,52],[45,46,45,49],[46,46,46,47],[46,48,46,49],[60,51,60,52],[65,65,65,69]]}
[{"$f":"COUNTIF(A4:B18,A4)","v":1},{"$f":"COUNTIF(A4:B23,B4)","v":19},"İY","MS","İY - EV","İY - DEP",null,"MS - EV","MS - DEP","EV | DEP","İY Takımımız","İY Rakip","MS Takımımız","MS Rakip",null,null,"UST ALT HESABLAMASI  EV SAHIBI",null,null,null,null,null,null,null,null,null,null,null,null,"UST ALT HESABLAMASI DEPLASMAN",null,null,null,null,null,null,null,null,null,null,null,null,null,null,"EV SAHIBI",null,null,null,"DEPLASMAN",null,null,"ORTALAMA",null,null,null,"BANKO",null,0.84,null,null,null,{"$f":"COUNTIF(BJ4:BK18,BJ4)","v":1},{"$f":"COUNTIF(BJ4:BK23,BK4)","v":5},"İY","MS","İY - EV","İY - DEP",null,"MS - EV","MS - DEP","EV | DEP","İY Takımımız","İY Rakip","MS Takımımız","MS Rakip",null,null,"UST ALT HESABLAMASI  EV SAHIBI",null,null,null,null,null,null,null,null,null,null,null,null,"UST ALT HESABLAMASI DEPLASMAN",null,null,null,null,null,null,null,null,null,null,null,null,null,null,"EV SAHIBI",null,null,null,"DEPLASMAN",null,null,"ORTALAMA",null,null,null,"BANKO",null,0.8,null,null,null,{"$f":"COUNTIF(DS4:DT18,DS4)","v":5},{"$f":"COUNTIF(DS4:DT23,DT4)","v":5},"İY","MS","İY - EV","İY - DEP",null,"MS - EV","MS - DEP","EV | DEP","İY Takımımız","İY Rakip","MS Takımımız","MS Rakip",null,null,"UST ALT HESABLAMASI  EV SAHIBI",null,null,null,null,null,null,null,null,null,null,null,null,"UST ALT HESABLAMASI DEPLASMAN",null,null,null,null,null,null,null,null,null,null,null,null,null,null,"EV SAHIBI",null,null,null,"DEPLASMAN",null,null,"ORTALAMA",null,null,null,"BANKO",null,0.81,null,null,null,null,null,null,"EV SAHIBI",null,null,null,"DEPLASMAN",null,null,"ORTALAMA",null,null,null,"BANKO",null,0.79,null,null,null,null,null,null,null,null,null,null,null,null,null,null,null,null,null,null,null,null,null,null,"pro analiz andsi v 19 . 02"]
[{"$f":"IF(A1>B1,A4,B4)","v":"SG Austria Klagenfurt"},null,null,null,null,null,null,null,null,null,null,null,null,null,null,null,"İY Takımımız","İY Rakip","MS Takımımız","MS Rakip",null,null,0.5,1.5,1.5,2.5,3.5,null,null,"İY Takımımız","İY Rakip","MS Takımımız","MS Rakip",null,null,0.5,1.5,1.5,2.5,3.5,null,null,null,null,"IY",null,"IY",null,"IY",null,"IY",null,null,null,null,null,null,null,null,null,null,{"$f":"A2","v":"SG Austria Klagenfurt"},null,null,null,null,null,null,null,null,null,null,null,null,null,null,null,"İY Takımımız","İY Rakip","MS Takımımız","MS Rakip",null,null,0.5,1.5,1.5,2.5,3.5,null,null,"İY Takımımız","İY Rakip","MS Takımımız","MS Rakip",null,null,0.5,1.5,1.5,2.5,3.5,null,null,null,null,"IY",null,"IY",null,"IY",null,"IY",null,null,null,null,null,null,null,null,null,null,{"$f":"BJ2","v":"SG Austria Klagenfurt"},null,null,null,null,null,null,null,null,null,null,null,null,null,null,null,"İY Takımımız","İY Rakip","MS Takımımız","MS Rakip",null,null,0.5,1.5,1.5,2.5,3.5,null,null,"İY Takımımız","İY Rakip","MS Takımımız","MS Rakip",null,null,0.5,1.5,1.5,2.5,3.5,null,null,null,null,"IY",null,"IY",null,"IY",null,"IY",null,null,null,null,null,null,null,null,null,null,null,null,null,"IY",null,"IY",null,"IY",null,"IY"]
[null,null,"IY","MS",{"$f":"COUNT(G4:G23)","v":20},{"$f":"IF(E3>4,\"OK\",\"YETERSIZ VERI\")","v":"OK"},null,null,null,null,null,null,null,null,null,null,"EV SAHIBI",null,null,null,null,null,"ILK YARI",null,"MAC SONU",null,null,null,null,"DEPLASMAN",null,null,null,null,null,"ILK YARI",null,"MAC SONU",null,null,null,null,null,null,{"$f":"W25","v":15},{"$f":"AS3/20","v":0.75},"0,5 UST",null,{"$f":"AJ25","v":17},{"$f":"AW3/20","v":0.85},"0,5 UST",{"$f":"(AX3+AT3)/2","v":0.8},null,null,null,{"$f":"AZ3","v":0.8},"IY 0,5UST",null,null,null,null,null,null,null,null,{"$f":"COUNT(BP4:BP8)+0","v":5},{"$f":"IF(BN3>4,\"OK\",\"YETERSIZ VERI\")","v":"OK"},null,null,null,null,null,null,null,null,null,null,"EV SAHIBI",null,null,null,null,null,"ILK YARI",null,"MAC SONU",null,null,null,null,"DEPLASMAN",null,null,null,null,null,"ILK YARI",null,"MAC SONU",null,null,null,null,null,null,{"$f":"CF25","v":4},{"$f":"DB3/5","v":0.8},"0,5 UST",null,{"$f":"CS25","v":5},{"$f":"DF3/5","v":1},"0,5 UST",{"$f":"(DG3+DC3)/2","v":0.9},null,null,null,{"$f":"DI3","v":0.9},"IY 0,5UST",null,null,null,null,null,null,null,null,{"$f":"COUNT(DX4:DX23)","v":5},{"$f":"IF(DW3>4,\"OK\",\"YETERSIZ VERI\")","v":"OK"},null,null,null,null,null,null,null,null,null,null,"EV SAHIBI",null,null,null,null,null,"ILK YARI",null,"MAC SONU",null,null,null,null,"DEPLASMAN",null,null,null,null,null,"ILK YARI",null,"MAC SONU",null,null,null,null,null,null,{"$f":"EO25","v":4},{"$f":"FK3/5","v":0.8},"0,5 UST",null,{"$f":"FB25","v":4},{"$f":"FO3/5","v":0.8},"0,5 UST",{"$f":"(FP3+FL3)/2","v":0.8},null,null,null,{"$f":"FR3","v":0.8},"IY 0,5UST",null,null,null,null,null,null,null,null,{"$f":"(AT3+DC3+FL3)/3","v":0.78333333333333333},"0,5 UST",null,null,{"$f":"(AX3+DG3+FP3)/3","v":0.88333333333333341},"0,5 UST",{"$f":"(GJ3+GF3)/2","v":0.83333333333333337},null,null,null,{"$f":"GL3","v":0.83333333333333337},"IY 0,5UST"]
[{"$f":"Veri!AJ5","v":"VST Volkermarkt"},{"$f":"Veri!AN5","v":"SG Austria Klagenfurt"},{"$f":"Veri!AL5","v":"0-1"},{"$f":"Veri!AK5","v":"2-3"},{"$f":"MID(C4,1,FIND(\"-\",C4)-1)","v":"0"},{"$f":"MID(C4,FIND(\"-\",C4)+1,10)","v":"1"},{"$f":"F4+0","v":1},{"$f":"MID(D4,1,FIND(\"-\",D4)-1)","v":"2"},{"$f":"MID(D4,FIND(\"-\",D4)+1,10)","v":"3"},{"$f":"IF(A4=$A$2,\"EV\",\"DEP\")","v":"DEP"},{"$f":"IF(J4=\"EV\",E4,F4)","v":"1"},{"$f":"IF(J4=\"DEP\",E4,F4)","v":"0"},{"$f":"IF(J4=\"EV\",H4,I4)","v":"3"},{"$f":"IF(J4=\"DEP\",H4,I4)","v":"2"},null,null,null,null,null,null,"IY","MS","0,5 UST","1,5 ALT","1,5 UST","2,5UST","3,5 ALT",null,null,null,null,null,null,"IY","MS","0,5 UST","1,5 ALT","1,5 UST","2,5UST","3,5 ALT",null,"RISKLI",null,null,{"$f":"20-AS5","v":7},{"$f":"AS4/20","v":0.35},"1,5 UST",null,{"$f":"20-AW5","v":12},{"$f":"AW4/20","v":0.6},"1,5 UST",{"$f":"(AX4+AT4)/2","v":0.47499999999999998},null,null,null,{"$f":"AZ4","v":0.47499999999999998},"IY 1,5UST",{"$f":"MAX(BD3:BD19)","v":0.875},{"$f":"VLOOKUP(BF4,BD3:BE19,2,FALSE)","v":"MS 1,5UST"},null,null,{"$f":"A4","v":"VST Volkermarkt"},{"$f":"B4","v":"SG Austria Klagenfurt"},"0-1","2-3","0","1",1,"2","3","DEP","1","0","3","2",null,null,null,null,null,null,"IY","MS","0,5 UST","1,5 ALT","1,5 UST","2,5UST","3,5 ALT",null,null,null,null,null,null,"IY","MS","0,5 UST","1,5 ALT","1,5 UST","2,5UST","3,5 ALT",null,"RISKLI",null,null,{"$f":"5-DB5","v":2},{"$f":"DB4/5","v":0.4},"1,5 UST",null,{"$f":"5-DF5","v":4},{"$f":"DF4/5","v":0.8},"1,5 UST",{"$f":"(DG4+DC4)/2","v":0.60000000000000009},null,null,null,{"$f":"DI4","v":0.60000000000000009},"IY 1,5UST",{"$f":"MAX(DM3:DM19)","v":1},{"$f":"VLOOKUP(DO4,DM3:DN19,2,FALSE)","v":"MS 1,5UST"},null,null,{"$f":"Veri!C4","v":"SC Kalsdorf"},{"$f":"Veri!G4","v":"SG Austria Klagenfurt"},{"$f":"Veri!E4","v":"0-1"},{"$f":"Veri!D4","v":"0-1"},{"$f":"MID(DU4,1,FIND(\"-\",DU4)-1)","v":"0"},{"$f":"MID(DU4,FIND(\"-\",DU4)+1,10)+0","v":1},null,{"$f":"MID(DV4,1,FIND(\"-\",DV4)-1)","v":"0"},{"$f":"MID(DV4,FIND(\"-\",DV4)+1,10)","v":"1"},{"$f":"IF(DS4=$A$2,\"EV\",\"DEP\")","v":"DEP"},{"$f":"IF(EB4=\"EV\",DW4,DX4)","v":1},{"$f":"IF(EB4=\"DEP\",DW4,DX4)","v":"0"},{"$f":"IF(EB4=\"EV\",DZ4,EA4)","v":"1"},{"$f":"IF(EB4=\"DEP\",DZ4,EA4)","v":"0"},{"$f":"IF(EM5>$W$2,\"UST\",\"ALT\")","v":"UST"},null,null,null,null,null,"IY","MS","0,5 UST","1,5 ALT","1,5 UST","2,5UST","3,5 ALT",null,null,null,null,null,null,"IY","MS","0,5 UST","1,5 ALT","1,5 UST","2,5UST","3,5 ALT",null,"RISKLI",null,null,{"$f":"5-FK5","v":2},{"$f":"FK4/5","v":0.4},"1,5 UST",null,{"$f":"5-FO5","v":2},{"$f":"FO4/5","v":0.4},"1,5 UST",{"$f":"(FP4+FL4)/2","v":0.4},null,null,null,{"$f":"FR4","v":0.4},"IY 1,5UST",{"$f":"MAX(FV3:FV19)","v":0.8},{"$f":"VLOOKUP(FX4,FV3:FW19,2,FALSE)","v":"IY 0,5UST"},null,null,"RISKLI",null,null,null,{"$f":"(AT4+DC4+FL4)/3","v":0.3833333333333333},"1,5 UST",null,null,{"$f":"(AX4+DG4+FP4)/3","v":0.6},"1,5 UST",{"$f":"(GJ4+GF4)/2","v":0.49166666666666664},null,null,null,{"$f":"GL4","v":0.49166666666666664},"IY 1,5UST",{"$f":"MAX(GP3:GP23)","v":0.83333333333333337},{"$f":"VLOOKUP(GR4,GP3:GQ19,2,FALSE)","v":"IY 0,5UST"}]
[{"$f":"Veri!AJ6","v":"KAC 1909"},{"$f":"Veri!AN6","v":"SG Austria Klagenfurt"},{"$f":"Veri!AL6","v":"1-3"},{"$f":"Veri!AK6","v":"2-6"},{"$f":"MID(C5,1,FIND(\"-\",C5)-1)","v":"1"},{"$f":"MID(C5,FIND(\"-\",C5)+1,10)","v":"3"},{"$f":"F5+0","v":3},{"$f":"MID(D5,1,FIND(\"-\",D5)-1)","v":"2"},{"$f":"MID(D5,FIND(\"-\",D5)+1,10)","v":"6"},{"$f":"IF(A5=$A$2,\"EV\",\"DEP\")","v":"DEP"},{"$f":"IF(J5=\"EV\",E5,F5)","v":"3"},{"$f":"IF(J5=\"DEP\",E5,F5)","v":"1"},{"$f":"IF(J5=\"EV\",H5,I5)","v":"6"},{"$f":"IF(J5=\"DEP\",H5,I5)","v":"2"},null,null,{"$f":"K4","v":"1"},{"$f":"L4","v":"0"},{"$f":"M4","v":"3"},{"$f":"N4","v":"2"},{"$f":"Q5+R5","v":1},{"$f":"S5+T5","v":5},{"$f":"IF(U5>$W$2,\"UST\",\"ALT\")","v":"UST"},{"$f":"IF(U5>$X$2,\"UST\",\"ALT\")","v":"ALT"},{"$f":"IF(V5>$Y$2,\"UST\",\"ALT\")","v":"UST"},{"$f":"IF(V5>$Z$2,\"UST\",\"ALT\")","v":"UST"},{"$f":"IF(V5>$AA$2,\"UST\",\"ALT\")","v":"UST"},null,null,{"$f":"K30","v":"2"},{"$f":"L30","v":"0"},{"$f":"M30","v":"4"},{"$f":"N30","v":0},{"$f":"AD5+AE5","v":2},{"$f":"AF5+AG5","v":4},{"$f":"IF(AH5>$W$2,\"UST\",\"ALT\")","v":"UST"},{"$f":"IF(AH5>$X$2,\"UST\",\"ALT\")","v":"UST"},{"$f":"IF(AI5>$Y$2,\"UST\",\"ALT\")","v":"UST"},{"$f":"IF(AI5>$Z$2,\"UST\",\"ALT\")","v":"UST"},{"$f":"IF(AI5>$AA$2,\"UST\",\"ALT\")","v":"UST"},null,null,null,null,{"$f":"X25","v":13},0.65,"1,5 ALT",null,{"$f":"AK25","v":8},0.4,"1,5 ALT",0.52500000000000002,null,null,null,0.52500000000000002,"IY 1,5ALT",null,null,null,null,{"$f":"A5","v":"KAC 1909"},{"$f":"B5","v":"SG Austria Klagenfurt"},{"$f":"C5","v":"1-3"},{"$f":"D5","v":"2-6"},{"$f":"E5","v":"1"},{"$f":"F5","v":"3"},{"$f":"G5","v":3},{"$f":"H5","v":"2"},{"$f":"I5","v":"6"},{"$f":"J5","v":"DEP"},{"$f":"K5","v":"3"},{"$f":"L5","v":"1"},{"$f":"M5","v":"6"},{"$f":"N5","v":"2"},null,null,{"$f":"BT4","v":"1"},{"$f":"BU4","v":"0"},{"$f":"BV4","v":"3"},{"$f":"BW4","v":"2"},{"$f":"BZ5+CA5","v":1},{"$f":"CB5+CC5","v":5},{"$f":"IF(CD5>$W$2,\"UST\",\"ALT\")","v":"UST"},{"$f":"IF(CD5>$X$2,\"UST\",\"ALT\")","v":"ALT"},{"$f":"IF(CE5>$Y$2,\"UST\",\"ALT\")","v":"UST"},{"$f":"IF(CE5>$Z$2,\"UST\",\"ALT\")","v":"UST"},{"$f":"IF(CE5>$AA$2,\"UST\",\"ALT\")","v":"UST"},null,null,{"$f":"BT30","v":"2"},{"$f":"BU30","v":"0"},{"$f":"BV30","v":"4"},{"$f":"BW30","v":"0"},{"$f":"CM5+CN5","v":2},{"$f":"CO5+CP5","v":4},{"$f":"IF(CQ5>$W$2,\"UST\",\"ALT\")","v":"UST"},{"$f":"IF(CQ5>$X$2,\"UST\",\"ALT\")","v":"UST"},{"$f":"IF(CR5>$Y$2,\"UST\",\"ALT\")","v":"UST"},{"$f":"IF(CR5>$Z$2,\"UST\",\"ALT\")","v":"UST"},{"$f":"IF(CR5>$AA$2,\"UST\",\"ALT\")","v":"UST"},null,null,null,null,{"$f":"CG25","v":3},{"$f":"DB5/5","v":0.6},"1,5 ALT",null,{"$f":"CT25","v":1},{"$f":"DF5/5","v":0.2},"1,5 ALT",0.4,null,null,null,0.4,"IY 1,5ALT",null,null,null,null,{"$f":"Veri!C5","v":"SG Austria Klagenfurt"},{"$f":"Veri!G5","v":"SC Kalsdorf"},{"$f":"Veri!E5","v":"2-0"},{"$f":"Veri!D5","v":"6-1"},{"$f":"MID(DU5,1,FIND(\"-\",DU5)-1)","v":"2"},{"$f":"MID(DU5,FIND(\"-\",DU5)+1,10)+0","v":0},null,{"$f":"MID(DV5,1,FIND(\"-\",DV5)-1)","v":"6"},{"$f":"MID(DV5,FIND(\"-\",DV5)+1,10)","v":"1"},{"$f":"IF(DS5=$A$2,\"EV\",\"DEP\")","v":"EV"},{"$f":"IF(EB5=\"EV\",DW5,DX5)","v":"2"},{"$f":"IF(EB5=\"DEP\",DW5,DX5)","v":0},{"$f":"IF(EB5=\"EV\",DZ5,EA5)","v":"6"},{"$f":"IF(EB5=\"DEP\",DZ5,EA5)","v":"1"},null,null,{"$f":"EC4","v":1},{"$f":"ED4","v":"0"},{"$f":"EE4","v":"1"},{"$f":"EF4","v":"0"},{"$f":"EI5+EJ5","v":1},{"$f":"EK5+EL5","v":1},{"$f":"IF(EM5>$W$2,\"UST\",\"ALT\")","v":"UST"},{"$f":"IF(EM5>$X$2,\"UST\",\"ALT\")","v":"ALT"},{"$f":"IF(EN5>$Y$2,\"UST\",\"ALT\")","v":"ALT"},{"$f":"IF(EN5>$Z$2,\"UST\",\"ALT\")","v":"ALT"},{"$f":"IF(EN5>$AA$2,\"UST\",\"ALT\")","v":"ALT"},null,null,{"$f":"EC30","v":"0"},{"$f":"ED30","v":"1"},{"$f":"EE30","v":"0"},{"$f":"EF30","v":"1"},{"$f":"EV5+EW5","v":1},{"$f":"EX5+EY5","v":1},{"$f":"IF(EZ5>$W$2,\"UST\",\"ALT\")","v":"UST"},{"$f":"IF(EZ5>$X$2,\"UST\",\"ALT\")","v":"ALT"},{"$f":"IF(FA5>$Y$2,\"UST\",\"ALT\")","v":"ALT"},{"$f":"IF(FA5>$Z$2,\"UST\",\"ALT\")","v":"ALT"},{"$f":"IF(FA5>$AA$2,\"UST\",\"ALT\")","v":"ALT"},null,null,null,null,{"$f":"EP25","v":3},{"$f":"FK5/5","v":0.6},"1,5 ALT",null,{"$f":"FC25","v":3},{"$f":"FO5/5","v":0.6},"1,5 ALT",0.6,null,null,null,0.6,"IY 1,5ALT",null,null,null,null,null,null,null,null,0.6166666666666667,"1,5 ALT",null,null,0.40000000000000008,"1,5 ALT",0.50833333333333341,null,null,null,0.50833333333333341,"IY 1,5ALT"]
[{"$f":"Veri!AJ7","v":"Wolfsberger AC Amateure(N)"},{"$f":"Veri!AN7","v":"SG Austria Klagenfurt"},{"$f":"Veri!AL7","v":"0-0"},{"$f":"Veri!AK7","v":"0-2"},"0","0",0,"0","2","DEP","0","0","2","0",null,null,{"$f":"K5","v":"3"},"1","6","2",{"$f":"Q6+R6","v":4},{"$f":"S6+T6","v":8},{"$f":"IF(U6>$W$2,\"UST\",\"ALT\")","v":"UST"},{"$f":"IF(U6>$X$2,\"UST\",\"ALT\")","v":"UST"},{"$f":"IF(V6>$Y$2,\"UST\",\"ALT\")","v":"UST"},{"$f":"IF(V6>$Z$2,\"UST\",\"ALT\")","v":"UST"},{"$f":"IF(V6>$AA$2,\"UST\",\"ALT\")","v":"UST"},null,null,{"$f":"K31","v":"0"},"1","0","3",1,{"$f":"AF6+AG6","v":3},{"$f":"IF(AH6>$W$2,\"UST\",\"ALT\")","v":"UST"},{"$f":"IF(AH6>$X$2,\"UST\",\"ALT\")","v":"ALT"},{"$f":"IF(AI6>$Y$2,\"UST\",\"ALT\")","v":"UST"},{"$f":"IF(AI6>$Z$2,\"UST\",\"ALT\")","v":"UST"},{"$f":"IF(AI6>$AA$2,\"UST\",\"ALT\")","v":"ALT"},null,null,null,null,null,null,null,null,null,null,null,null,null,null,null,{"$f":"AZ9","v":0.875},"MS 1,5UST",{"$f":"IF(BF4>BF1,BF4,\"RISKLI\")","v":0.875},{"$f":"VLOOKUP(BF4,BD3:BE19,2,FALSE)","v":"MS 1,5UST"},null,null,"Wolfsberger AC Amateure(N)","SG Austria Klagenfurt","0-0","0-2","0","0",0,"0","2","DEP","0","0","2","0",null,null,{"$f":"BT5","v":"3"},{"$f":"BU5","v":"1"},{"$f":"BV5","v":"6"},{"$f":"BW5","v":"2"},{"$f":"BZ6+CA6","v":4},{"$f":"CB6+CC6","v":8},{"$f":"IF(CD6>$W$2,\"UST\",\"ALT\")","v":"UST"},{"$f":"IF(CD6>$X$2,\"UST\",\"ALT\")","v":"UST"},{"$f":"IF(CE6>$Y$2,\"UST\",\"ALT\")","v":"UST"},{"$f":"IF(CE6>$Z$2,\"UST\",\"ALT\")","v":"UST"},{"$f":"IF(CE6>$AA$2,\"UST\",\"ALT\")","v":"UST"},null,null,{"$f":"BT31","v":"0"},{"$f":"BU31","v":"1"},{"$f":"BV31","v":"0"},{"$f":"BW31","v":"3"},1,{"$f":"CO6+CP6","v":3},{"$f":"IF(CQ6>$W$2,\"UST\",\"ALT\")","v":"UST"},{"$f":"IF(CQ6>$X$2,\"UST\",\"ALT\")","v":"ALT"},{"$f":"IF(CR6>$Y$2,\"UST\",\"ALT\")","v":"UST"},{"$f":"IF(CR6>$Z$2,\"UST\",\"ALT\")","v":"UST"},{"$f":"IF(CR6>$AA$2,\"UST\",\"ALT\")","v":"ALT"},null,null,null,null,null,null,null,null,null,null,null,null,null,null,null,{"$f":"DI9","v":1},"MS 1,5UST",{"$f":"IF(DO4>DO1,DO4,\"RISKLI\")","v":1},{"$f":"VLOOKUP(DO4,DM3:DN19,2,FALSE)","v":"MS 1,5UST"},null,null,{"$f":"Veri!C6","v":"SG Austria Klagenfurt"},{"$f":"Veri!G6","v":"SC Kalsdorf"},{"$f":"Veri!E6","v":"0-0"},{"$f":"Veri!D6","v":"1-0"},"0",0,null,"1","0","EV","0",0,"1","0",null,null,{"$f":"EC5","v":"2"},{"$f":"ED5","v":0},{"$f":"EE5","v":"6"},{"$f":"EF5","v":"1"},{"$f":"EI6+EJ6","v":2},{"$f":"EK6+EL6","v":7},{"$f":"IF(EM6>$W$2,\"UST\",\"ALT\")","v":"UST"},{"$f":"IF(EM6>$X$2,\"UST\",\"ALT\")","v":"UST"},{"$f":"IF(EN6>$Y$2,\"UST\",\"ALT\")","v":"UST"},{"$f":"IF(EN6>$Z$2,\"UST\",\"ALT\")","v":"UST"},{"$f":"IF(EN6>$AA$2,\"UST\",\"ALT\")","v":"UST"},null,null,{"$f":"EC31","v":"0"},{"$f":"ED31","v":"2"},{"$f":"EE31","v":"1"},{"$f":"EF31","v":"6"},2,{"$f":"EX6+EY6","v":7},{"$f":"IF(EZ6>$W$2,\"UST\",\"ALT\")","v":"UST"},{"$f":"IF(EZ6>$X$2,\"UST\",\"ALT\")","v":"UST"},{"$f":"IF(FA6>$Y$2,\"UST\",\"ALT\")","v":"UST"},{"$f":"IF(FA6>$Z$2,\"UST\",\"ALT\")","v":"UST"},{"$f":"IF(FA6>$AA$2,\"UST\",\"ALT\")","v":"UST"},null,null,null,null,null,null,null,null,null,null,null,null,null,null,null,{"$f":"FR9","v":0.6},"MS 1,5UST",{"$f":"IF(FX4>FX1,FX4,\"RISKLI\")","v":"RISKLI"},{"$f":"VLOOKUP(FX4,FV3:FW19,2,FALSE)","v":"IY 0,5UST"},null,null,null,null,null,null,null,null,null,null,null,null,null,null,null,null,{"$f":"GL9","v":0.82500000000000007},"MS 1,5UST",{"$f":"IF(GR4>GR1,GR4,\"RISKLI\")","v":0.83333333333333337},{"$f":"VLOOKUP(GR4,GP3:GQ23,2,FALSE)","v":"IY 0,5UST"}]
[{"$f":"Veri!AJ8","v":"SC Gleisdorf(N)"},{"$f":"Veri!AN8","v":"SG Austria Klagenfurt"},{"$f":"Veri!AL8","v":"1-0"},{"$f":"Veri!AK8","v":"1-2"},"1","0",0,"1","2","DEP","0","1","2","1",null,null,"0","0","2","0",0,2,"ALT","ALT","UST","ALT","ALT",null,null,"0","3","0","6",3,6,"UST","UST","UST","UST","UST",null,"BAHIS YAP",null,null,null,null,null,null,null,null,null,null,null,null,null,{"$f":"AZ10","v":0.7},"MS 2,5UST",null,null,null,null,"SC Gleisdorf(N)","SG Austria Klagenfurt","1-0","1-2","1","0",0,"1","2","DEP","0","1","2","1",null,null,"0","0","2","0",0,2,"ALT","ALT","UST","ALT","ALT",null,null,"0","3","0","6",3,6,"UST","UST","UST","UST","UST",null,"BAHIS YAP",null,null,null,null,null,null,null,null,null,null,null,null,null,{"$f":"DI10","v":0.9},"MS 2,5UST",null,null,null,null,{"$f":"Veri!C7","v":"SC Kalsdorf"},{"$f":"Veri!G7","v":"SG Austria Klagenfurt"},{"$f":"Veri!E7","v":"0-1"},{"$f":"Veri!D7","v":"1-2"},"0",1,null,"1","2","DEP",1,"0","2","1",null,null,"0",0,"1","0",0,1,"ALT","ALT","ALT","ALT","ALT",null,null,"0","0","0","1",0,1,"ALT","ALT","ALT","ALT","ALT",null,"BAHIS YAP",null,null,null,null,null,null,null,null,null,null,null,null,null,{"$f":"FR10","v":0.6},"MS 2,5UST",null,null,null,null,"BAHIS YAP",null,null,null,null,null,null,null,null,null,null,null,null,null,{"$f":"GL10","v":0.73333333333333328},"MS 2,5UST"]
[{"$f":"Veri!AJ9","v":"SG Austria Klagenfurt"},{"$f":"Veri!AN9","v":"FC Liefering"},{"$f":"Veri!AL9","v":"3-0"},{"$f":"Veri!AK9","v":"3-0"},"3","0",0,"3","0","EV","3","0","3","0",null,null,"0","1","2","1",1,3,"UST","ALT","UST","UST","ALT",null,null,"2","1","2","1",3,3,"UST","UST","UST","UST","ALT",null,null,null,null,"MS",null,"MS",null,"MS",null,"MS",0,null,null,null,0.30000000000000004,"MS 2,5ALT",null,null,null,null,"SG Austria Klagenfurt","FC Liefering","3-0","3-0","3","0",0,"3","0","EV","3","0","3","0",null,null,"0","1","2","1",1,3,"UST","ALT","UST","UST","ALT",null,null,"2","1","2","1",3,3,"UST","UST","UST","UST","ALT",null,null,null,null,"MS",null,"MS",null,"MS",null,"MS",{"$f":"(DG8+DC8)/2","v":0},null,null,null,0.1,"MS 2,5ALT",null,null,null,null,{"$f":"Veri!C8","v":"SC Kalsdorf"},{"$f":"Veri!G8","v":"SG Austria Klagenfurt"},{"$f":"Veri!E8","v":"2-0"},{"$f":"Veri!D8","v":"4-0"},"2",0,null,"4","0","DEP",0,"2","0","4",null,null,1,"0","2","1",1,3,"UST","ALT","UST","UST","ALT",null,null,"0","1","1","2",1,3,"UST","ALT","UST","UST","ALT",null,null,null,null,"MS",null,"MS",null,"MS",null,"MS",null,null,null,null,0.4,"MS 2,5ALT",null,null,null,null,null,null,null,"MS",null,"MS",null,"MS",null,"MS",null,null,null,null,0.26666666666666666,"MS 2,5ALT"]
[{"$f":"Veri!AJ10","v":"SK Vorwarts Steyr"},{"$f":"Veri!AN10","v":"SG Austria Klagenfurt"},{"$f":"Veri!AL10","v":"2-1"},{"$f":"Veri!AK10","v":"2-1"},"2","1",1,"2","1","DEP","1","2","1","2",null,null,"3","0","3","0",3,3,"UST","UST","UST","UST","ALT",null,null,"0","2","1","3",2,4,"UST","UST","UST","UST","UST",null,null,null,null,{"$f":"Y25","v":17},{"$f":"AS9/20","v":0.85},"1,5 UST",null,{"$f":"AL25","v":18},{"$f":"AW9/20","v":0.9},"1,5 UST",0.875,null,null,null,0.52499999999999991,"MS 3,5ALT",{"$f":"LARGE(BD3:BD19,2)","v":0.8},{"$f":"VLOOKUP(BF9,BD3:BE19,2,FALSE)","v":"IY 0,5UST"},null,null,null,null,null,null,null,null,null,null,null,null,null,null,null,null,null,null,"3","0","3","0",3,3,"UST","UST","UST","UST","ALT",null,null,"0","2","1","3",2,4,"UST","UST","UST","UST","UST",null,null,null,null,{"$f":"CH25","v":5},{"$f":"DB9/5","v":1},"1,5 UST",null,{"$f":"CU25","v":5},{"$f":"DF9/5","v":1},"1,5 UST",1,null,null,null,0.5,"MS 3,5ALT",{"$f":"LARGE(DM3:DM19,2)","v":0.9},{"$f":"VLOOKUP(DO9,DM3:DN19,2,FALSE)","v":"IY 0,5UST"},null,null,null,null,null,null,null,null,null,null,null,null,null,null,null,null,null,null,0,"2","0","4",2,4,"UST","UST","UST","UST","UST",null,null,"2","0","4","0",2,4,"UST","UST","UST","UST","UST",null,null,null,null,{"$f":"EQ25","v":3},{"$f":"FK9/5","v":0.6},"1,5 UST",null,{"$f":"FD25","v":3},{"$f":"FO9/5","v":0.6},"1,5 UST",{"$f":"(FP9+FL9)/2","v":0.6},null,null,null,0.6,"MS 3,5ALT",{"$f":"LARGE(FV3:FV19,2)","v":0.6},{"$f":"VLOOKUP(FX9,FV3:FW19,2,FALSE)","v":"IY 1,5ALT"},null,null,null,null,null,{"$f":"FK25","v":"KG EV SAHIBI"},0.81666666666666676,"1,5 UST",null,null,0.83333333333333337,"1,5 UST",{"$f":"(GJ9+GF9)/2","v":0.82500000000000007},null,null,null,0.54166666666666663,"MS 3,5ALT",{"$f":"LARGE(GP3:GP23,2)","v":0.82500000000000007},{"$f":"VLOOKUP(GR9,GP3:GQ23,2,FALSE)","v":"MS 1,5UST"}]
[{"$f":"Veri!AJ11","v":"SG Austria Klagenfurt"},{"$f":"Veri!AN11","v":"SV Ried"},{"$f":"Veri!AL11","v":"0-0"},{"$f":"Veri!AK11","v":"0-0"},"0","0",0,"0","0","EV","0","0","0","0",null,null,"1","2","1","2",3,3,"UST","UST","UST","UST","ALT",null,null,"0","1","2","1",1,3,"UST","ALT","UST","UST","ALT",null,null,null,null,{"$f":"Z25","v":12},{"$f":"AS10/20","v":0.6},"2,5 UST",null,{"$f":"AM25","v":16},{"$f":"AW10/20","v":0.8},"2,5 UST",0.7,null,null,null,{"$f":"H126","v":0.375},"IY 1",{"$f":"LARGE(BD3:BD19,3)","v":0.7},{"$f":"VLOOKUP(BF10,BD3:BE19,2,FALSE)","v":"MS 2,5UST"},null,null,null,null,null,null,null,null,null,null,null,null,null,null,null,null,null,null,null,null,null,null,null,null,null,null,null,null,null,null,null,null,null,null,null,null,null,null,null,null,null,null,null,null,null,null,{"$f":"CI25","v":4},{"$f":"DB10/5","v":0.8},"2,5 UST",null,{"$f":"CV25","v":5},{"$f":"DF10/5","v":1},"2,5 UST",0.9,null,null,null,{"$f":"BQ126","v":0.6},"IY 1",{"$f":"LARGE(DM3:DM19,3)","v":0.9},{"$f":"VLOOKUP(DO10,DM3:DN19,2,FALSE)","v":"IY 0,5UST"},null,null,null,null,null,null,null,null,null,null,null,null,null,null,null,null,null,null,null,null,null,null,null,null,null,null,null,null,null,null,null,null,null,null,null,null,null,null,null,null,null,null,null,null,null,null,{"$f":"ER25","v":3},{"$f":"FK10/5","v":0.6},"2,5 UST",null,{"$f":"FE25","v":3},{"$f":"FO10/5","v":0.6},"2,5 UST",0.6,null,null,null,{"$f":"DZ126","v":0.5},"IY 1",{"$f":"LARGE(FV3:FV19,3)","v":0.6},{"$f":"VLOOKUP(FX10,FV3:FW19,2,FALSE)","v":"IY 1,5ALT"},null,null,null,null,null,null,0.66666666666666663,"2,5 UST",null,null,0.79999999999999993,"2,5 UST",0.73333333333333328,null,null,null,{"$f":"GC38","v":0.4916666666666667},"IY 1",{"$f":"LARGE(GP3:GP23,3)","v":0.73333333333333328},{"$f":"VLOOKUP(GR10,GP3:GQ23,2,FALSE)","v":"MS 2,5UST"}]
[{"$f":"Veri!AJ12","v":"Lafnitz"},{"$f":"Veri!AN12","v":"SG Austria Klagenfurt"},{"$f":"Veri!AL12","v":"0-1"},{"$f":"Veri!AK12","v":"1-1"},"0","1",1,"1","1","DEP","1","0","1","1",null,null,"0","0","0","0",0,0,"ALT","ALT","ALT","ALT","ALT",null,null,"2","2","3","3",4,6,"UST","UST","UST","UST","UST",null,null,null,null,{"$f":"20-AS10","v":8},0.4,"2,5 ALT",null,{"$f":"20-AW10","v":4},0.2,"2,5 ALT",0.30000000000000004,null,null,null,{"$f":"H127","v":0.3},"IY X",{"$f":"LARGE(BD3:BD19,4)","v":0.7},{"$f":"VLOOKUP(BF11,BD3:BE19,2,FALSE)","v":"MS 2,5UST"},null,null,null,null,null,null,null,null,null,null,null,null,null,null,null,null,null,null,null,null,null,null,null,null,null,null,null,null,null,null,null,null,null,null,null,null,null,null,null,null,null,null,null,null,null,null,{"$f":"5-DB10","v":1},{"$f":"DB11/5","v":0.2},"2,5 ALT",null,{"$f":"5-DF10","v":0},{"$f":"DF11/5","v":0},"2,5 ALT",0.1,null,null,null,{"$f":"BQ127","v":0.1},"IY X",{"$f":"LARGE(DM3:DM19,4)","v":0.8},{"$f":"VLOOKUP(DO11,DM3:DN19,2,FALSE)","v":"MS 1"},null,null,null,null,null,null,null,null,null,null,null,null,null,null,null,null,null,null,null,null,null,null,null,null,null,null,null,null,null,null,null,null,null,null,null,null,null,null,null,null,null,null,null,null,null,null,{"$f":"5-FK10","v":2},{"$f":"FK11/5","v":0.4},"2,5 ALT",null,{"$f":"5-FO10","v":2},{"$f":"FO11/5","v":0.4},"2,5 ALT",0.4,null,null,null,{"$f":"DZ127","v":0.1},"IY X",{"$f":"LARGE(FV3:FV19,4)","v":0.6},{"$f":"VLOOKUP(FX11,FV3:FW19,2,FALSE)","v":"IY 1,5ALT"},null,null,null,null,null,null,0.33333333333333331,"2,5 ALT",null,null,0.20000000000000004,"2,5 ALT",0.26666666666666666,null,null,null,{"$f":"GC39","v":0.16666666666666666},"IY X",{"$f":"LARGE(GP3:GP23,4)","v":0.65833333333333333},{"$f":"VLOOKUP(GR11,GP3:GQ23,2,FALSE)","v":"MS 1"}]
[{"$f":"Veri!AJ13","v":"SG Austria Klagenfurt"},{"$f":"Veri!AN13","v":"SKU Amstetten"},{"$f":"Veri!AL13","v":"0-2"},{"$f":"Veri!AK13","v":"2-2"},"0","2",2,"2","2","EV","0","2","2","2",null,null,"1","0","1","1",1,2,"UST","ALT","UST","ALT","ALT",null,null,"0","1","1","1",1,2,"UST","ALT","UST","ALT","ALT",null,null,null,null,{"$f":"AA25","v":14},0.7,"3,5 ALT",null,{"$f":"AN25","v":7},0.35,"3,5 ALT",0.52499999999999991,null,null,null,0.32499999999999996,"IY 2",{"$f":"LARGE(BD3:BD19,5)","v":0.7},{"$f":"VLOOKUP(BF12,BD3:BE19,2,FALSE)","v":"MS 2,5UST"},null,null,null,null,null,null,null,null,null,null,null,null,null,null,null,null,null,null,null,null,null,null,null,null,null,null,null,null,null,null,null,null,null,null,null,null,null,null,null,null,null,null,null,null,null,null,{"$f":"CJ25","v":3},{"$f":"DB12/5","v":0.6},"3,5 ALT",null,{"$f":"CW25","v":2},{"$f":"DF12/5","v":0.4},"3,5 ALT",0.5,null,null,null,0.30000000000000004,"IY 2",{"$f":"LARGE(DM3:DM19,5)","v":0.60000000000000009},{"$f":"VLOOKUP(DO12,DM3:DN19,2,FALSE)","v":"IY 1,5UST"},null,null,null,null,null,null,null,null,null,null,null,null,null,null,null,null,null,null,null,null,null,null,null,null,null,null,null,null,null,null,null,null,null,null,null,null,null,null,null,null,null,null,null,null,null,null,{"$f":"ES25","v":3},{"$f":"FK12/5","v":0.6},"3,5 ALT",null,{"$f":"FF25","v":3},{"$f":"FO12/5","v":0.6},"3,5 ALT",0.6,null,null,null,0.4,"IY 2",{"$f":"LARGE(FV3:FV19,5)","v":0.6},{"$f":"VLOOKUP(FX12,FV3:FW19,2,FALSE)","v":"IY 1,5ALT"},null,null,null,null,null,null,0.6333333333333333,"3,5 ALT",null,null,0.45,"3,5 ALT",0.54166666666666663,null,null,null,0.34166666666666662,"IY 2",{"$f":"LARGE(GP3:GP23,5)","v":0.54166666666666663},{"$f":"VLOOKUP(GR12,GP3:GQ23,2,FALSE)","v":"MS 3,5ALT"}]
[{"$f":"Veri!AJ14","v":"Kapfenberg"},{"$f":"Veri!AN14","v":"SG Austria Klagenfurt"},{"$f":"Veri!AL14","v":"0-1"},{"$f":"Veri!AK14","v":"3-1"},"0","1",1,"3","1","DEP","1","0","1","3",null,null,"0","2","2","2",2,4,"UST","UST","UST","UST","UST",null,null,"0","2","2","4",2,6,"UST","UST","UST","UST","UST",null,null,null,null,null,null,null,null,null,null,null,null,null,null,null,{"$f":"AS38","v":0.375},"MS 1",null,null,null,null,null,null,null,null,null,null,null,null,null,null,null,null,null,null,null,null,null,null,null,null,null,null,null,null,null,null,null,null,null,null,null,null,null,null,null,null,null,null,null,null,null,null,null,null,null,null,null,null,null,null,null,null,null,null,null,{"$f":"DB38","v":0.8},"MS 1",null,null,null,null,null,null,null,null,null,null,null,null,null,null,null,null,null,null,null,null,null,null,null,null,null,null,null,null,null,null,null,null,null,null,null,null,null,null,null,null,null,null,null,null,null,null,null,null,null,null,null,null,null,null,null,null,null,null,null,{"$f":"FL38","v":"1"},"MS 1",null,null,null,null,null,null,null,null,null,null,null,null,null,null,null,null,null,null,{"$f":"GF38","v":0.65833333333333333},"MS 1"]
[{"$f":"Veri!AJ15","v":"FAC Team Fur Wien"},{"$f":"Veri!AN15","v":"SG Austria Klagenfurt"},{"$f":"Veri!AL15","v":"0-1"},{"$f":"Veri!AK15","v":"1-2"},"0","1",1,"1","2","DEP","1","0","2","1",null,null,"1","0","1","3",1,4,"UST","ALT","UST","UST","UST",null,null,"0","0","2","0",0,2,"ALT","ALT","UST","ALT","ALT",null,null,null,null,null,null,"KG VAR YOK 1",null,null,null,null,null,null,null,null,{"$f":"AS39","v":0.2},"MS X",null,null,null,null,null,null,null,null,null,null,null,null,null,null,null,null,null,null,null,null,null,null,null,null,null,null,null,null,null,null,null,null,null,null,null,null,null,null,null,null,null,null,null,null,null,null,null,null,null,null,"KG VAR YOK 1",null,null,null,null,null,null,null,null,{"$f":"DB39","v":0},"MS X",null,null,null,null,null,null,null,null,null,null,null,null,null,null,null,null,null,null,null,null,null,null,null,null,null,null,null,null,null,null,null,null,null,null,null,null,null,null,null,null,null,null,null,null,null,null,null,null,null,null,"KG VAR YOK 1",null,null,null,null,null,null,null,null,{"$f":"FL39","v":"X"},"MS X",null,null,null,null,null,null,null,null,null,"KG VAR YOK 1",null,null,null,null,null,null,null,null,{"$f":"GF39","v":6.6666666666666666E-2},"MS X"]
[{"$f":"Veri!AJ16","v":"Wolfsberger AC"},{"$f":"Veri!AN16","v":"SG Austria Klagenfurt"},{"$f":"Veri!AL16","v":"3-0"},{"$f":"Veri!AK16","v":"4-0"},"3","0",0,"4","0","DEP","0","3","0","4",null,null,"1","0","2","1",1,3,"UST","ALT","UST","UST","ALT",null,null,"2","1","4","1",3,5,"UST","UST","UST","UST","UST",null,null,null,null,{"$f":"W53","v":14},{"$f":"AS15/20","v":0.7},"KG VAR",null,{"$f":"AF53","v":14},{"$f":"AW15/20","v":0.7},"KG VAR",0.7,null,null,null,{"$f":"AS40","v":0.42499999999999999},"MS 2",null,null,null,null,null,null,null,null,null,null,null,null,null,null,null,null,null,null,null,null,null,null,null,null,null,null,null,null,null,null,null,null,null,null,null,null,null,null,null,null,null,null,null,null,null,null,null,null,{"$f":"CF53","v":3},{"$f":"DB15/5","v":0.6},"KG VAR",null,{"$f":"CO53","v":2},{"$f":"DF15/5","v":0.4},"KG VAR",{"$f":"(DG15+DC15)/2","v":0.5},null,null,null,0.2,"MS 2",null,null,null,null,null,null,null,null,null,null,null,null,null,null,null,null,null,null,null,null,null,null,null,null,null,null,null,null,null,null,null,null,null,null,null,null,null,null,null,null,null,null,null,null,null,null,null,null,{"$f":"EO53","v":2},{"$f":"FK15/5","v":0.4},"KG VAR",null,{"$f":"EX53","v":2},{"$f":"FO15/5","v":0.4},"KG VAR",{"$f":"(FP15+FL15)/2","v":0.4},null,null,null,"2","MS 2",null,null,null,null,null,null,null,null,0.56666666666666654,"KG VAR",null,null,0.5,"KG VAR",{"$f":"(GJ15+GF15)/2","v":0.53333333333333321},null,null,null,0.27499999999999997,"MS 2"]
[{"$f":"Veri!AJ17","v":"SG Austria Klagenfurt"},{"$f":"Veri!AN17","v":"FC Magna Wiener Neustadt"},{"$f":"Veri!AL17","v":"0-0"},{"$f":"Veri!AK17","v":"1-1"},"0","0",0,"1","1","EV","0","0","1","1",null,null,"0","3","0","4",3,4,"UST","UST","UST","UST","UST",null,null,"1","0","2","3",1,5,"UST","ALT","UST","UST","UST",null,null,null,null,{"$f":"20-AS15","v":6},{"$f":"AS16/20","v":0.3},"KG YOK",null,{"$f":"20-AW15","v":6},{"$f":"AW16/20","v":0.3},"KG YOK",0.3,null,null,null,{"$f":"AZ15","v":0.7},"KG VAR",null,null,null,null,null,null,null,null,null,null,null,null,null,null,null,null,null,null,null,null,null,null,null,null,null,null,null,null,null,null,null,null,null,null,null,null,null,null,null,null,null,null,null,null,null,null,null,null,{"$f":"5-DB15","v":2},{"$f":"DB16/5","v":0.4},"KG YOK",null,{"$f":"5-DF15","v":3},{"$f":"DF16/5","v":0.6},"KG YOK",0.5,null,null,null,{"$f":"DI15","v":0.5},"KG VAR",null,null,null,null,null,null,null,null,null,null,null,null,null,null,null,null,null,null,null,null,null,null,null,null,null,null,null,null,null,null,null,null,null,null,null,null,null,null,null,null,null,null,null,null,null,null,null,null,{"$f":"5-FK15","v":3},{"$f":"FK16/5","v":0.6},"KG YOK",null,{"$f":"5-FO15","v":3},{"$f":"FO16/5","v":0.6},"KG YOK",0.6,null,null,null,{"$f":"FR15","v":0.4},"KG VAR",null,null,"|",null,null,null,null,null,0.43333333333333329,"KG YOK",null,null,0.5,"KG YOK",0.46666666666666667,null,null,null,{"$f":"GL15","v":0.53333333333333321},"KG VAR"]
[{"$f":"Veri!AJ18","v":"SV Horn"},{"$f":"Veri!AN18","v":"SG Austria Klagenfurt"},{"$f":"Veri!AL18","v":"0-1"},{"$f":"Veri!AK18","v":"0-1"},"0","1",1,"0","1","DEP","1","0","1","0",null,null,"0","0","1","1",0,2,"ALT","ALT","UST","ALT","ALT",null,null,"3","0","6","1",3,7,"UST","UST","UST","UST","UST",null,null,null,null,null,null,null,null,null,null,null,null,null,null,null,{"$f":"AZ16","v":0.3},"KG YOK",null,null,null,null,null,null,null,null,null,null,null,null,null,null,null,null,null,null,null,null,null,null,null,null,null,null,null,null,null,null,null,null,null,null,null,null,null,null,null,null,null,null,null,null,null,null,null,null,null,null,null,null,null,null,null,null,null,null,null,{"$f":"DI16","v":0.5},"KG YOK",null,null,null,null,null,null,null,null,null,null,null,null,null,null,null,null,null,null,null,null,null,null,null,null,null,null,null,null,null,null,null,null,null,null,null,null,null,null,null,null,null,null,null,null,null,null,null,null,null,null,null,null,null,null,null,null,null,null,null,{"$f":"FR16","v":0.6},"KG YOK",null,null,null,null,null,null,null,null,null,null,null,null,null,null,null,null,null,null,{"$f":"GL16","v":0.46666666666666667},"KG YOK"]
[{"$f":"Veri!AJ19","v":"SG Austria Klagenfurt"},{"$f":"Veri!AN19","v":"Austria Wien (Youth)"},{"$f":"Veri!AL19","v":"1-1"},{"$f":"Veri!AK19","v":"1-2"},"1","1",1,"1","2","EV","1","1","1","2",null,null,"1","0","1","0",1,1,"UST","ALT","ALT","ALT","ALT",null,null,"0","2","3","2",2,5,"UST","UST","UST","UST","UST",null,null,null,null,null,null,null,null,null,null,null,null,null,null,null,{"$f":"AZ29","v":0.7},"KG VAR",null,null,null,null,null,null,null,null,null,null,null,null,null,null,null,null,null,null,null,null,null,null,null,null,null,null,null,null,null,null,null,null,null,null,null,null,null,null,null,null,null,null,null,null,null,null,null,null,null,null,null,null,null,null,null,null,null,null,null,{"$f":"DI29","v":0.5},"KG VAR",null,null,null,null,null,null,null,null,null,null,null,null,null,null,null,null,null,null,null,null,null,null,null,null,null,null,null,null,null,null,null,null,null,null,null,null,null,null,null,null,null,null,null,null,null,null,null,null,null,null,null,null,null,null,null,null,null,null,null,{"$f":"FR29","v":0.4},"KG VAR",null,null,null,null,null,null,null,null,null,null,null,null,null,null,null,null,null,null,{"$f":"GL29","v":0.53333333333333321},"KG VAR"]
[{"$f":"Veri!AJ20","v":"FC Superfund Pasching"},{"$f":"Veri!AN20","v":"SG Austria Klagenfurt"},{"$f":"Veri!AL20","v":"0-1"},{"$f":"Veri!AK20","v":"2-1"},"0","1",1,"2","1","DEP","1","0","1","2",null,null,"1","1","1","2",2,3,"UST","UST","UST","UST","ALT",null,null,"0","0","0","1",0,1,"ALT","ALT","ALT","ALT","ALT",null,null,null,null,"IY EV SAHIBI",null,null,null,"IY DEPLASMAN",null,null,"IY BANKO",null,null,null,{"$f":"AZ30","v":0.3},"KG YOK",null,null,null,null,null,null,null,null,null,null,null,null,null,null,null,null,null,null,null,null,null,null,null,null,null,null,null,null,null,null,null,null,null,null,null,null,null,null,null,null,null,null,null,null,null,null,null,null,"IY EV SAHIBI",null,null,null,"IY DEPLASMAN",null,null,"IY BANKO",null,null,null,{"$f":"DI30","v":0.5},"KG YOK",null,null,null,null,null,null,null,null,null,null,null,null,null,null,null,null,null,null,null,null,null,null,null,null,null,null,null,null,null,null,null,null,null,null,null,null,null,null,null,null,null,null,null,null,null,null,null,null,"IY EV SAHIBI",null,null,null,"IY DEPLASMAN",null,null,"IY BANKO",null,null,null,{"$f":"FR30","v":0.6},"KG YOK",null,null,null,null,null,null,null,"IY EV SAHIBI",null,null,null,"IY DEPLASMAN",null,null,"IY BANKO",null,null,null,{"$f":"GL30","v":0.46666666666666667},"KG YOK"]
[{"$f":"Veri!AJ21","v":"SG Austria Klagenfurt"},{"$f":"Veri!AN21","v":"FC Wacker Innsbruck Amateure"},{"$f":"Veri!AL21","v":"0-0"},{"$f":"Veri!AK21","v":"0-1"},"0","0",0,"0","1","EV","0","0","0","1",null,null,"1","0","1","2",1,3,"UST","ALT","UST","UST","ALT",null,null,"1","1","2","5",2,7,"UST","UST","UST","UST","UST",null,null,null,null,{"$f":"MAX(AT3:AT5)","v":0.75},{"$f":"VLOOKUP(AS20,AT3:AU5,2,FALSE)","v":"0,5 UST"},null,null,{"$f":"MAX(AX3:AX5)","v":0.85},{"$f":"VLOOKUP(AW20,AX3:AY5,2,FALSE)","v":"0,5 UST"},null,{"$f":"IF(AT20=AX20,AX20,\"RISKLI\")","v":"0,5 UST"},{"$f":"IF(AT20=AX20,BB20,\"RISKLI\")","v":0.8},{"$f":"AVERAGE(AS20:AW20)","v":0.8},null,null,null,null,null,null,null,null,null,null,null,null,null,null,null,null,null,null,null,null,null,null,null,null,null,null,null,null,null,null,null,null,null,null,null,null,null,null,null,null,null,null,null,null,null,null,null,null,null,null,null,{"$f":"MAX(DC3:DC5)","v":0.8},{"$f":"VLOOKUP(DB20,DC3:DD5,2,FALSE)","v":"0,5 UST"},null,null,{"$f":"MAX(DG3:DG5)","v":1},{"$f":"VLOOKUP(DF20,DG3:DH5,2,FALSE)","v":"0,5 UST"},null,{"$f":"IF(DC20=DG20,DG20,\"RISKLI\")","v":"0,5 UST"},{"$f":"IF(DC20=DG20,DK20,\"RISKLI\")","v":0.9},{"$f":"AVERAGE(DB20:DF20)","v":0.9},null,null,null,null,null,null,null,null,null,null,null,null,null,null,null,null,null,null,null,null,null,null,null,null,null,null,null,null,null,null,null,null,null,null,null,null,null,null,null,null,null,null,null,null,null,null,null,null,null,null,null,{"$f":"MAX(FL3:FL5)","v":0.8},{"$f":"VLOOKUP(FK20,FL3:FM5,2,FALSE)","v":"0,5 UST"},null,null,{"$f":"MAX(FP3:FP5)","v":0.8},{"$f":"VLOOKUP(FO20,FP3:FQ5,2,FALSE)","v":"0,5 UST"},null,{"$f":"IF(FL20=FP20,FP20,\"RISKLI\")","v":"0,5 UST"},{"$f":"IF(FL20=FP20,FT20,\"RISKLI\")","v":0.8},{"$f":"AVERAGE(FK20:FO20)","v":0.8},null,null,null,null,null,null,null,null,null,null,{"$f":"MAX(GF3:GF5)","v":0.78333333333333333},{"$f":"VLOOKUP(GE20,GF3:GG5,2,FALSE)","v":"0,5 UST"},null,null,{"$f":"MAX(GJ3:GJ5)","v":0.88333333333333341},{"$f":"VLOOKUP(GI20,GJ3:GK5,2,FALSE)","v":"0,5 UST"},null,{"$f":"IF(GF20=GJ20,GJ20,\"RISKLI\")","v":"0,5 UST"},{"$f":"IF(GF20=GJ20,GN20,\"RISKLI\")","v":0.83333333333333337},{"$f":"AVERAGE(GE20:GI20)","v":0.83333333333333337},null,{"$f":"GM54","v":0.17499999999999999},"0-1 GOL"]
[{"$f":"Veri!AJ22","v":"WSG Wattens"},{"$f":"Veri!AN22","v":"SG Austria Klagenfurt1"},{"$f":"Veri!AL22","v":"0-0"},{"$f":"Veri!AK22","v":"1-1"},"0","0",0,"1","1","DEP","0","0","1","1",null,null,"0","0","0","1",0,1,"ALT","ALT","ALT","ALT","ALT",null,null,"1","1","1","3",2,4,"UST","UST","UST","UST","UST",null,null,null,null,null,null,null,null,null,null,null,null,null,null,null,"TAHMIN 2",null,null,null,null,null,null,null,null,null,null,null,null,null,null,null,null,null,null,null,null,null,null,null,null,null,null,null,null,null,null,null,null,null,null,null,null,null,null,null,null,null,null,null,null,null,null,null,null,null,null,null,null,null,null,null,null,null,null,null,null,"TAHMIN 2",null,null,null,null,null,null,null,null,null,null,null,null,null,null,null,null,null,null,null,null,null,null,null,null,null,null,null,null,null,null,null,null,null,null,null,null,null,null,null,null,null,null,null,null,null,null,null,null,null,null,null,null,null,null,null,null,null,null,null,null,"TAHMIN 2",null,null,null,null,null,null,null,null,null,null,null,null,null,null,null,null,null,null,null,{"$f":"GM55","v":0.3666666666666667},"2-3 GOL"]
[{"$f":"Veri!AJ23","v":"FC Blau Weiss Linz"},{"$f":"Veri!AN23","v":"SG Austria Klagenfurt"},{"$f":"Veri!AL23","v":"2-0"},{"$f":"Veri!AK23","v":"3-1"},"2","0",0,"3","1","DEP","0","2","1","3",null,null,"0","0","1","1",0,2,"ALT","ALT","UST","ALT","ALT",null,null,{"$f":"K47","v":"1"},"0","1","0",1,1,"UST","ALT","ALT","ALT","ALT",null,null,null,null,"MS EV SAHIBI",null,null,null,"MS DEPLASMAN",null,null,"MS BANKO",null,null,null,{"$f":"BD7","v":0.7},{"$f":"BE7","v":"MS 2,5UST"},50,null,null,null,null,null,null,null,null,null,null,null,null,null,null,null,null,null,null,null,null,null,null,null,null,null,null,null,null,null,null,null,null,null,null,null,null,null,null,null,null,null,null,null,null,null,null,null,"MS EV SAHIBI",null,null,null,"MS DEPLASMAN",null,null,"MS BANKO",null,null,null,{"$f":"DM7","v":0.9},{"$f":"DN7","v":"MS 2,5UST"},50,null,null,null,null,null,null,null,null,null,null,null,null,null,null,null,null,null,null,null,null,null,null,null,null,null,null,null,null,null,null,null,null,null,null,null,null,null,null,null,null,null,null,null,null,null,null,null,"MS EV SAHIBI",null,null,null,"MS DEPLASMAN",null,null,"MS BANKO",null,null,null,{"$f":"FV7","v":0.6},{"$f":"FW7","v":"MS 2,5UST"},50,null,null,null,null,null,null,"MS EV SAHIBI",null,null,null,"MS DEPLASMAN",null,null,"MS BANKO",null,null,null,0.32500000000000001,"4-6 GOL"]
[{"$f":"Veri!AJ24","v":"SG Austria Klagenfurt"},{"$f":"Veri!AN24","v":"Austria Lustenau"},{"$f":"Veri!AL24","v":"0-1"},{"$f":"Veri!AK24","v":"1-1"},"0","1",1,"1","1","EV","0","1","1","1",null,null,"0","2","1","3",2,4,"UST","UST","UST","UST","UST",null,null,"2","1","5","2",3,7,"UST","UST","UST","UST","UST",null,null,null,null,{"$f":"MAX(AT9:AT12)","v":0.85},{"$f":"VLOOKUP(AS23,AT9:AU12,2,FALSE)","v":"1,5 UST"},null,null,{"$f":"MAX(AX9:AX12)","v":0.9},{"$f":"VLOOKUP(AW23,AX9:AY12,2,FALSE)","v":"1,5 UST"},null,{"$f":"IF(AT23=AX23,AX23,\"RISKLI\")","v":"1,5 UST"},{"$f":"IF(AT23=AX23,BB23,\"RISKLI\")","v":0.875},{"$f":"AVERAGE(AS23:AW23)","v":0.875},null,{"$f":"BD8","v":0.30000000000000004},{"$f":"BE8","v":"MS 2,5ALT"},null,"TAHMIN 2",null,null,null,null,null,null,null,null,null,null,null,null,null,null,null,null,null,null,null,null,null,null,null,null,null,null,null,null,null,null,null,null,null,null,null,null,null,null,null,null,null,null,null,null,null,null,{"$f":"MAX(DC9:DC12)","v":1},{"$f":"VLOOKUP(DB23,DC9:DD12,2,FALSE)","v":"1,5 UST"},null,null,{"$f":"MAX(DG9:DG12)","v":1},{"$f":"VLOOKUP(DF23,DG9:DH12,2,FALSE)","v":"1,5 UST"},null,{"$f":"IF(DC23=DG23,DG23,\"RISKLI\")","v":"1,5 UST"},{"$f":"IF(DC23=DG23,DK23,\"RISKLI\")","v":1},{"$f":"AVERAGE(DB23:DF23)","v":1},null,{"$f":"DM8","v":0.1},{"$f":"DN8","v":"MS 2,5ALT"},null,"TAHMIN 2",null,null,null,null,null,null,null,null,null,null,null,null,null,null,null,null,null,null,null,null,null,null,null,null,null,null,null,null,null,null,null,null,null,null,null,null,null,null,null,null,null,null,null,null,null,null,{"$f":"MAX(FL9:FL12)","v":0.6},{"$f":"VLOOKUP(FK23,FL9:FM12,2,FALSE)","v":"1,5 UST"},null,null,{"$f":"MAX(FP9:FP12)","v":0.6},{"$f":"VLOOKUP(FO23,FP9:FQ12,2,FALSE)","v":"1,5 UST"},null,{"$f":"IF(FL23=FP23,FP23,\"RISKLI\")","v":"1,5 UST"},{"$f":"IF(FL23=FP23,FT23,\"RISKLI\")","v":0.6},{"$f":"AVERAGE(FK23:FO23)","v":0.6},null,{"$f":"FV8","v":0.4},{"$f":"FW8","v":"MS 2,5ALT"},null,"TAHMIN 2",null,null,null,null,null,{"$f":"MAX(GF9:GF12)","v":0.81666666666666676},{"$f":"VLOOKUP(GE23,GF9:GG12,2,FALSE)","v":"1,5 UST"},null,null,{"$f":"MAX(GJ9:GJ12)","v":0.83333333333333337},{"$f":"VLOOKUP(GI23,GJ9:GK12,2,FALSE)","v":"1,5 UST"},null,{"$f":"IF(GF23=GJ23,GJ23,\"RISKLI\")","v":"1,5 UST"},{"$f":"IF(GF23=GJ23,GN23,\"RISKLI\")","v":0.82500000000000007},{"$f":"AVERAGE(GE23:GI23)","v":0.82500000000000007},null,0.13333333333333333,"7+ GOL"]
[null,null,null,null,null,null,null,null,null,{"$f":"COUNTIF(J4:J23,\"DEP\")","v":13},{"$f":"K4+K5+K6+K7+K8+K9+K10+K11+K12+K13+K14+K15+K16+K17+K18+K19+K20+K21+K22+K23","v":14},{"$f":"L4+L5+L6+L7+L8+L9+L10+L11+L12+L13+L14+L15+L16+L17+L18+L19+L20+L21+L22+L23","v":13},30,29,null,null,"0","1","1","1",1,2,"UST","ALT","UST","ALT","ALT",null,null,"0","0","3","1",0,4,"ALT","ALT","UST","UST","UST",null,null,null,null,null,null,"KG VAR YOK 1",null,null,null,null,null,null,null,null,{"$f":"BD10","v":0.375},"IY 1",{"$f":"MAX(BD22:BD33)","v":0.7},{"$f":"VLOOKUP(BF24,BD22:BE33,2,FALSE)","v":"MS 2,5UST"},{"$f":"IF(BF24<BF22,BF24,\"RISKLI\")","v":0.7},null,null,null,null,null,null,null,null,null,null,{"$f":"COUNTIF(BS4:BS23,\"EV\")","v":1},{"$f":"BT4+BT5+BT6+BT7+BT8+BT9+BT10+BT11+BT12+BT13+BT14+BT15+BT16+BT17+BT18+BT19+BT20+BT21+BT22+BT23","v":7},{"$f":"BU4+BU5+BU6+BU7+BU8+BU9+BU10+BU11+BU12+BU13+BU14+BU15+BU16+BU17+BU18+BU19+BU20+BU21+BU22+BU23","v":2},16,5,null,null,null,null,null,null,null,null,null,null,null,null,null,null,null,null,null,null,null,null,null,null,null,null,null,null,null,null,null,null,null,null,"KG VAR YOK 2",null,null,null,null,null,null,null,null,{"$f":"DM10","v":0.6},{"$f":"DN10","v":"IY 1"},{"$f":"MAX(DM22:DM33)","v":0.9},{"$f":"VLOOKUP(DO24,DM22:DN33,2,FALSE)","v":"MS 2,5UST"},{"$f":"IF(DO24<DO22,DO24,\"RISKLI\")","v":0.9},null,null,null,null,null,null,null,null,null,null,{"$f":"COUNTIF(EB4:EB23,\"EV\")","v":2},{"$f":"EC4+EC5+EC6+EC7+EC8+EC9+EC10+EC11+EC12+EC13+EC14+EC15+EC16+EC17+EC18+EC19+EC20+EC21+EC22+EC23","v":4},{"$f":"ED4+ED5+ED6+ED7+ED8+ED9+ED10+ED11+ED12+ED13+ED14+ED15+ED16+ED17+ED18+ED19+ED20+ED21+ED22+ED23","v":2},10,6,null,null,null,null,null,null,null,null,null,null,null,null,null,null,null,null,null,null,null,null,null,null,null,null,null,null,null,null,null,null,null,null,"KG VAR YOK 1",null,null,null,null,null,null,null,null,{"$f":"FV10","v":0.5},"IY 1",{"$f":"MAX(FV22:FV33)","v":0.6},{"$f":"VLOOKUP(FX24,FV22:FW33,2,FALSE)","v":"MS 2,5UST"},{"$f":"IF(FX24<FX22,FX24,\"RISKLI\")","v":0.6},null,null,null,null,null,null,"KG VAR YOK 1"]
[null,null,null,null,null,null,null,null,null,null,{"$f":"K24/20","v":0.7},{"$f":"L24/20","v":0.65},1.5,1.45,null,null,null,null,null,null,null,null,{"$f":"COUNTIF(W5:W24,\"UST\")","v":15},{"$f":"COUNTIF(X5:X24,\"ALT\")","v":13},{"$f":"COUNTIF(Y5:Y24,\"UST\")","v":17},{"$f":"COUNTIF(Z5:Z24,\"UST\")","v":12},{"$f":"COUNTIF(AA5:AA24,\"ALT\")","v":14},null,null,null,null,null,null,null,null,{"$f":"COUNTIF(AJ5:AJ24,\"UST\")","v":17},{"$f":"COUNTIF(AK5:AK24,\"ALT\")","v":8},{"$f":"COUNTIF(AL5:AL24,\"UST\")","v":18},{"$f":"COUNTIF(AM5:AM24,\"UST\")","v":16},{"$f":"COUNTIF(AN5:AN24,\"ALT\")","v":7},null,null,null,null,"KG EV SAHIBI",null,null,null,"KG DEPLASMAN",null,null,"KG TAHMIN",null,null,"KG1+KG2 ORT",0.3,"IY X",null,null,null,null,null,null,null,null,null,null,null,null,null,null,{"$f":"BT24/5","v":1.4},{"$f":"BU24/5","v":0.4},{"$f":"BV24/5","v":3.2},{"$f":"BW24/5","v":1},null,null,null,null,null,null,null,null,{"$f":"COUNTIF(CF5:CF24,\"UST\")","v":4},{"$f":"COUNTIF(CG5:CG24,\"ALT\")","v":3},{"$f":"COUNTIF(CH5:CH24,\"UST\")","v":5},{"$f":"COUNTIF(CI5:CI24,\"UST\")","v":4},{"$f":"COUNTIF(CJ5:CJ24,\"ALT\")","v":3},null,null,null,null,null,null,null,null,{"$f":"COUNTIF(CS5:CS24,\"UST\")","v":5},{"$f":"COUNTIF(CT5:CT24,\"ALT\")","v":1},{"$f":"COUNTIF(CU5:CU24,\"UST\")","v":5},{"$f":"COUNTIF(CV5:CV24,\"UST\")","v":5},{"$f":"COUNTIF(CW5:CW24,\"ALT\")","v":2},null,null,null,null,"KG EV SAHIBI",null,null,null,"KG DEPLASMAN",null,null,"KG TAHMIN",null,null,"KG1+KG2 ORT",{"$f":"DM11","v":0.1},{"$f":"DN11","v":"IY X"},null,null,null,null,null,null,null,null,null,null,null,null,null,null,{"$f":"EC24/5","v":0.8},{"$f":"ED24/5","v":0.4},{"$f":"EE24/5","v":2},{"$f":"EF24/5","v":1.2},null,null,null,null,null,null,null,null,{"$f":"COUNTIF(EO5:EO24,\"UST\")","v":4},{"$f":"COUNTIF(EP5:EP24,\"ALT\")","v":3},{"$f":"COUNTIF(EQ5:EQ24,\"UST\")","v":3},{"$f":"COUNTIF(ER5:ER24,\"UST\")","v":3},{"$f":"COUNTIF(ES5:ES24,\"ALT\")","v":3},null,null,null,null,null,null,null,null,{"$f":"COUNTIF(FB5:FB24,\"UST\")","v":4},{"$f":"COUNTIF(FC5:FC24,\"ALT\")","v":3},{"$f":"COUNTIF(FD5:FD24,\"UST\")","v":3},{"$f":"COUNTIF(FE5:FE24,\"UST\")","v":3},{"$f":"COUNTIF(FF5:FF24,\"ALT\")","v":3},null,null,null,null,"KG EV SAHIBI",null,null,null,"KG DEPLASMAN",null,null,"KG TAHMIN",null,null,"KG1+KG2 ORT",{"$f":"FV11","v":0.1},"IY X",null,null,null,null,null,null,null,"KG EV SAHIBI",null,null,null,"KG DEPLASMAN",null,null,"KG TAHMIN",null,null,"KG1+KG2 ORT","TAHMIN 2"]
[null,null,null,null,null,null,null,null,null,null,null,null,null,null,null,null,null,null,null,null,null,null,null,null,null,null,null,null,null,null,null,null,null,null,null,null,null,null,null,null,null,null,null,null,{"$f":"MAX(AT15:AT16)","v":0.7},{"$f":"VLOOKUP(AS26,AT15:AU16,2)","v":"KG VAR"},null,null,{"$f":"MAX(AX15:AX16)","v":0.7},{"$f":"VLOOKUP(AW26,AX15:AY16,2)","v":"KG VAR"},null,{"$f":"IF(AT26=AX26,AX26,\"RISKLI\")","v":"KG VAR"},{"$f":"IF(AT26=AX26,BB26,\"RISKLI\")","v":0.7},{"$f":"AVERAGE(AS26:AW26)","v":0.7},{"$f":"(AZ15+AZ29)/2","v":0.7},0.32499999999999996,"IY 2",null,null,null,null,null,null,null,null,null,null,null,null,null,null,null,null,null,null,null,null,null,null,null,null,null,null,null,null,null,null,null,null,null,null,null,null,null,null,null,null,null,null,null,null,null,null,null,null,{"$f":"MAX(DC15:DC16)","v":0.6},{"$f":"VLOOKUP(DB26,DC15:DD16,2)","v":"KG VAR"},null,null,{"$f":"MAX(DG15:DG16)","v":0.6},{"$f":"VLOOKUP(DF26,DG15:DH16,2)","v":"KG YOK"},null,{"$f":"IF(DC26=DG26,DG26,\"RISKLI\")","v":"RISKLI"},{"$f":"IF(DC26=DG26,DK26,\"RISKLI\")","v":"RISKLI"},{"$f":"AVERAGE(DB26:DF26)","v":0.6},{"$f":"(DI15+DI29)/2","v":0.5},0.30000000000000004,{"$f":"DN12","v":"IY 2"},null,null,null,null,null,null,null,null,null,null,null,null,null,null,null,null,null,null,null,null,null,null,null,null,null,null,null,null,null,null,null,null,null,null,null,null,null,null,null,null,null,null,null,null,null,null,null,null,{"$f":"MAX(FL15:FL16)","v":0.6},{"$f":"VLOOKUP(FK26,FL15:FM16,2)","v":"KG YOK"},null,null,{"$f":"MAX(FP15:FP16)","v":0.6},{"$f":"VLOOKUP(FO26,FP15:FQ16,2)","v":"KG YOK"},null,{"$f":"IF(FL26=FP26,FP26,\"RISKLI\")","v":"KG YOK"},{"$f":"IF(FL26=FP26,FT26,\"RISKLI\")","v":0.6},{"$f":"AVERAGE(FK26:FO26)","v":0.6},{"$f":"(FR15+FR29)/2","v":0.4},{"$f":"FV12","v":0.4},"IY 2",null,null,null,null,null,null,null,{"$f":"MAX(GF15:GF16)","v":0.56666666666666654},{"$f":"VLOOKUP(GE26,GF15:GG16,2)","v":"KG VAR"},null,null,{"$f":"MAX(GJ15:GJ16)","v":0.5},{"$f":"VLOOKUP(GI26,GJ15:GK16,2)","v":"KG YOK"},null,{"$f":"IF(GF26=GJ26,GJ26,\"RISKLI\")","v":"RISKLI"},{"$f":"IF(GF26=GJ26,GN26,\"RISKLI\")","v":"RISKLI"},{"$f":"AVERAGE(GE26:GI26)","v":0.53333333333333321},{"$f":"(GL15+GL29)/2","v":0.53333333333333321},{"$f":"GP11","v":0.16666666666666666},{"$f":"GQ11","v":"IY X"},50]
[{"$f":"COUNTIF(A30:B44,A30)","v":1},{"$f":"COUNTIF(A30:B49,B30)","v":17},"İY","MS","İY - EV","İY - DEP",null,"MS - EV","MS - DEP","EV | DEP","İY Takımımız","İY Rakip","MS Takımımız","MS Rakip",null,null,null,null,null,null,null,null,null,null,null,null,null,null,null,null,null,null,null,null,null,null,null,null,null,null,null,null,null,null,null,null,null,null,null,null,null,null,null,null,null,0.375,"MS 1",null,null,null,null,{"$f":"COUNTIF(BJ30:BK44,BJ30)","v":1},{"$f":"COUNTIF(BJ30:BK49,BK30)","v":5},"İY","MS","İY - EV","İY - DEP",null,"MS - EV","MS - DEP","EV | DEP","İY Takımımız","İY Rakip","MS Takımımız","MS Rakip",null,null,null,null,null,null,null,null,null,null,null,null,null,null,null,null,null,null,null,null,null,null,null,null,null,null,null,null,null,null,null,null,null,null,null,null,null,null,null,null,null,0.8,{"$f":"DN13","v":"MS 1"},null,null,null,null,{"$f":"COUNTIF(DS30:DT44,DS30)","v":5},{"$f":"COUNTIF(DS30:DT49,DT30)","v":5},"İY","MS","İY - EV","İY - DEP",null,"MS - EV","MS - DEP","EV | DEP","İY Takımımız","İY Rakip","MS Takımımız","MS Rakip",null,null,null,null,null,null,null,null,null,null,null,null,null,null,null,null,null,null,null,null,null,null,null,null,null,null,null,null,null,null,null,null,null,null,null,null,null,null,null,null,null,{"$f":"FV13","v":"1"},"MS 1",null,null,null,null,null,null,null,null,null,null,null,null,null,null,null,null,null,null,{"$f":"GP12","v":0.34166666666666662},{"$f":"GQ12","v":"IY 2"},null,"TAHMIN 2"]
[{"$f":"IF(A27>B27,A30,B30)","v":"SC Kalsdorf"},null,null,null,null,null,null,null,null,null,null,null,null,null,null,null,null,null,null,null,null,null,null,null,null,null,null,null,null,null,null,null,null,null,null,"TOPLAM GOL EV SAHIBI",null,null,null,null,null,null,null,null,null,null,"KG VAR YOK 2",null,null,null,null,null,null,null,null,0.2,"MS X",null,null,null,null,{"$f":"IF(BJ27>BK27,BJ30,BK30)","v":"SC Kalsdorf"},null,null,null,null,null,null,null,null,null,null,null,null,null,null,null,null,null,null,null,null,null,null,null,null,null,null,null,null,null,null,null,null,null,null,"TOPLAM GOL EV SAHIBI",null,null,null,null,null,null,null,null,null,null,"KG VAR YOK 2",null,null,null,null,null,null,null,null,0,{"$f":"DN14","v":"MS X"},null,null,null,null,{"$f":"BJ28","v":"SC Kalsdorf"},null,null,null,null,null,null,null,null,null,null,null,null,null,null,null,null,null,null,null,null,null,null,null,null,null,null,null,null,null,null,null,null,null,null,"TOPLAM GOL EV SAHIBI",null,null,null,null,null,null,null,null,null,null,"KG VAR YOK 2",null,null,null,null,null,null,null,null,{"$f":"FV14","v":"X"},"MS X",null,null,null,null,null,null,null,null,null,"KG VAR YOK 2",null,null,null,null,null,null,null,null,{"$f":"GP14","v":6.6666666666666666E-2},"MS X",{"$f":"MAX(GP26:GP37)","v":0.53333333333333321},{"$f":"VLOOKUP(GR28,GP26:GQ37,2,FALSE)","v":"KG VAR"},{"$f":"IF(GR28<GR26,GR28,\"RISKLI\")","v":0.53333333333333321}]
[null,null,"IY","MS",{"$f":"COUNT(G30:G49)+0","v":20},{"$f":"IF(E29>4,\"OK\",\"YETERSIZ VERI\")","v":"OK"},null,null,null,null,null,null,null,null,null,null,null,null,null,null,null,null,null,null,null,null,null,null,null,null,null,null,null,null,null,"0-1 GOL",{"$f":"COUNTIF(V5:V24,\"0\")","v":1},{"$f":"COUNTIF(V5:V24,\"1\")","v":2},null,{"$f":"AK29+AL29","v":3},null,null,null,null,{"$f":"W53","v":14},{"$f":"AS29/20","v":0.7},"KG VAR",null,{"$f":"AF53","v":14},{"$f":"AW29/20","v":0.7},"KG VAR",{"$f":"(AX29+AT29)/2","v":0.7},null,null,null,0.42499999999999999,"MS 2",null,null,null,null,null,null,null,null,null,null,null,null,null,null,null,null,null,null,null,null,null,null,null,null,null,null,null,null,null,null,null,null,null,null,null,null,null,null,null,"0-1 GOL",{"$f":"COUNTIF(CE5:CE24,\"0\")","v":0},{"$f":"COUNTIF(CE5:CE24,\"1\")","v":0},null,{"$f":"CT29+CU29","v":0},null,null,null,null,{"$f":"CF53","v":3},{"$f":"DB29/5","v":0.6},"KG VAR",null,{"$f":"CO53","v":2},{"$f":"DF29/5","v":0.4},"KG VAR",{"$f":"(DG29+DC29)/2","v":0.5},null,null,null,0.2,{"$f":"DN15","v":"MS 2"},null,null,null,null,null,null,null,null,null,null,null,null,null,null,null,null,null,null,null,null,null,null,null,null,null,null,null,null,null,null,null,null,null,null,null,null,null,null,null,"0-1 GOL",{"$f":"COUNTIF(EN5:EN24,\"0\")","v":0},{"$f":"COUNTIF(EN5:EN24,\"1\")","v":2},null,{"$f":"FC29+FD29","v":2},null,null,null,null,{"$f":"EO53","v":2},{"$f":"FK29/5","v":0.4},"KG VAR",null,{"$f":"EX53","v":2},{"$f":"FO29/5","v":0.4},"KG VAR",{"$f":"(FP29+FL29)/2","v":0.4},null,null,null,{"$f":"FV15","v":"2"},"MS 2",null,null,null,null,null,null,null,null,{"$f":"(AT29+DC29+FL29)/3","v":0.56666666666666654},"KG VAR",null,null,{"$f":"(AX29+DG29+FP29)/3","v":0.5},"KG VAR",{"$f":"(GJ29+GF29)/2","v":0.53333333333333321},null,null,null,{"$f":"GP15","v":0.27499999999999997},"MS 2"]
[{"$f":"Veri!T5","v":"Leoben"},{"$f":"Veri!X5","v":"SC Kalsdorf"},{"$f":"Veri!V5","v":"0-2"},{"$f":"Veri!U5","v":"0-4"},{"$f":"MID(C30,1,FIND(\"-\",C30)-1)","v":"0"},{"$f":"MID(C30,FIND(\"-\",C30)+1,10)","v":"2"},{"$f":"F30+0","v":2},{"$f":"MID(D30,1,FIND(\"-\",D30)-1)+0","v":0},{"$f":"MID(D30,FIND(\"-\",D30)+1,10)","v":"4"},{"$f":"IF(A30=$A$28,\"EV\",\"DEP\")","v":"DEP"},{"$f":"IF(J30=\"EV\",E30,F30)","v":"2"},{"$f":"IF(J30=\"DEP\",E30,F30)","v":"0"},{"$f":"IF(J30=\"EV\",H30,I30)","v":"4"},{"$f":"IF(J30=\"DEP\",H30,I30)","v":0},null,null,"EV SAHIBI",null,null,null,null,null,null,null,null,"DEPLASMAN",null,null,null,null,null,null,null,null,null,"2-3 GOL",{"$f":"COUNTIF(V5:V24,\"2\")","v":5},{"$f":"COUNTIF(V5:V24,\"3\")","v":6},null,{"$f":"AK30+AL30","v":11},null,null,null,null,{"$f":"20-AS29","v":6},{"$f":"AS30/20","v":0.3},"KG YOK",null,{"$f":"20-AW29","v":6},{"$f":"AW30/20","v":0.3},"KG YOK",0.3,null,null,null,0.7,"KG VAR",null,null,null,null,{"$f":"A30","v":"Leoben"},{"$f":"B30","v":"SC Kalsdorf"},"0-2","0-4",{"$f":"MID(BL30,1,FIND(\"-\",BL30)-1)","v":"0"},{"$f":"MID(BL30,FIND(\"-\",BL30)+1,10)","v":"2"},null,{"$f":"MID(BM30,1,FIND(\"-\",BM30)-1)","v":"0"},{"$f":"MID(BM30,FIND(\"-\",BM30)+1,10)","v":"4"},{"$f":"IF(BJ30=$A$28,\"EV\",\"DEP\")","v":"DEP"},{"$f":"IF(BS30=\"EV\",BN30,BO30)","v":"2"},{"$f":"IF(BS30=\"DEP\",BN30,BO30)","v":"0"},{"$f":"IF(BS30=\"EV\",BQ30,BR30)","v":"4"},{"$f":"IF(BS30=\"DEP\",BQ30,BR30)","v":"0"},null,null,"EV SAHIBI",null,null,null,null,null,null,null,null,"DEPLASMAN",null,null,null,null,null,null,null,null,null,"2-3 GOL",{"$f":"COUNTIF(CE5:CE24,\"2\")","v":1},{"$f":"COUNTIF(CE5:CE24,\"3\")","v":2},null,{"$f":"CT30+CU30","v":3},null,null,null,null,{"$f":"5-DB29","v":2},{"$f":"DB30/5","v":0.4},"KG YOK",null,{"$f":"5-DF29","v":3},{"$f":"DF30/5","v":0.6},"KG YOK",0.5,null,null,null,0.5,{"$f":"DN16","v":"KG VAR"},null,null,null,null,{"$f":"DS4","v":"SC Kalsdorf"},{"$f":"DT4","v":"SG Austria Klagenfurt"},"0-1","0-1",{"$f":"MID(DU30,1,FIND(\"-\",DU30)-1)","v":"0"},{"$f":"MID(DU30,FIND(\"-\",DU30)+1,10)","v":"1"},null,{"$f":"MID(DV30,1,FIND(\"-\",DV30)-1)","v":"0"},{"$f":"MID(DV30,FIND(\"-\",DV30)+1,10)","v":"1"},{"$f":"IF(DS30=$A$28,\"EV\",\"DEP\")","v":"EV"},{"$f":"IF(EB30=\"EV\",DW30,DX30)","v":"0"},{"$f":"IF(EB30=\"DEP\",DW30,DX30)","v":"1"},{"$f":"IF(EB30=\"EV\",DZ30,EA30)","v":"0"},{"$f":"IF(EB30=\"DEP\",DZ30,EA30)","v":"1"},null,null,"EV SAHIBI",null,null,null,null,null,null,null,null,"DEPLASMAN",null,null,null,null,null,null,null,null,null,"2-3 GOL",{"$f":"COUNTIF(EN5:EN24,\"2\")","v":0},{"$f":"COUNTIF(EN5:EN24,\"3\")","v":1},null,{"$f":"FC30+FD30","v":1},null,null,null,null,{"$f":"5-FK29","v":3},{"$f":"FK30/5","v":0.6},"KG YOK",null,{"$f":"5-FO29","v":3},{"$f":"FO30/5","v":0.6},"KG YOK",0.6,null,null,null,{"$f":"FV16","v":0.4},"KG VAR",null,null,null,null,null,null,null,null,{"$f":"(AT30+DC30+FL30)/3","v":0.43333333333333329},"KG YOK",null,null,0.5,"KG YOK",0.46666666666666667,null,null,null,{"$f":"GP16","v":0.53333333333333321},"KG VAR"]
[{"$f":"Veri!T6","v":"Union Gurten"},{"$f":"Veri!X6","v":"SC Kalsdorf"},{"$f":"Veri!V6","v":"1-0"},{"$f":"Veri!U6","v":"3-0"},{"$f":"MID(C31,1,FIND(\"-\",C31)-1)","v":"1"},{"$f":"MID(C31,FIND(\"-\",C31)+1,10)","v":"0"},{"$f":"F31+0","v":0},{"$f":"MID(D31,1,FIND(\"-\",D31)-1)","v":"3"},{"$f":"MID(D31,FIND(\"-\",D31)+1,10)","v":"0"},{"$f":"IF(A31=$A$28,\"EV\",\"DEP\")","v":"DEP"},{"$f":"IF(J31=\"EV\",E31,F31)","v":"0"},{"$f":"IF(J31=\"DEP\",E31,F31)","v":"1"},{"$f":"IF(J31=\"EV\",H31,I31)","v":"0"},{"$f":"IF(J31=\"DEP\",H31,I31)","v":"3"},null,null,null,null,null,null,null,null,null,null,null,null,null,null,null,null,null,null,null,null,null,"4-6 GOL",{"$f":"COUNTIF(V5:V24,\"4\")","v":4},{"$f":"COUNTIF(V5:V24,\"5\")","v":1},{"$f":"COUNTIF(V5:V24,\"6\")","v":0},5,null,null,null,null,null,null,null,null,null,null,null,null,null,null,null,0.3,"KG YOK",null,null,null,null,{"$f":"A31","v":"Union Gurten"},{"$f":"B31","v":"SC Kalsdorf"},{"$f":"C31","v":"1-0"},{"$f":"D31","v":"3-0"},{"$f":"MID(BL31,1,FIND(\"-\",BL31)-1)","v":"1"},{"$f":"MID(BL31,FIND(\"-\",BL31)+1,10)","v":"0"},null,{"$f":"MID(BM31,1,FIND(\"-\",BM31)-1)","v":"3"},{"$f":"MID(BM31,FIND(\"-\",BM31)+1,10)","v":"0"},"DEP",{"$f":"IF(BS31=\"EV\",BN31,BO31)","v":"0"},{"$f":"IF(BS31=\"DEP\",BN31,BO31)","v":"1"},{"$f":"IF(BS31=\"EV\",BQ31,BR31)","v":"0"},{"$f":"IF(BS31=\"DEP\",BQ31,BR31)","v":"3"},null,null,null,null,null,null,null,null,null,null,null,null,null,null,null,null,null,null,null,null,null,"4-6 GOL",{"$f":"COUNTIF(CE5:CE24,\"4\")","v":0},{"$f":"COUNTIF(CE5:CE24,\"5\")","v":1},{"$f":"COUNTIF(CE5:CE24,\"6\")","v":0},{"$f":"CT31+CU31+CV31","v":1},null,null,null,null,null,null,null,null,null,null,null,null,null,null,null,0.5,{"$f":"DN17","v":"KG YOK"},null,null,null,null,{"$f":"DS5","v":"SG Austria Klagenfurt"},"SC Kalsdorf","2-0","6-1",{"$f":"MID(DU31,1,FIND(\"-\",DU31)-1)","v":"2"},{"$f":"MID(DU31,FIND(\"-\",DU31)+1,10)","v":"0"},null,{"$f":"MID(DV31,1,FIND(\"-\",DV31)-1)","v":"6"},{"$f":"MID(DV31,FIND(\"-\",DV31)+1,10)","v":"1"},"DEP",{"$f":"IF(EB31=\"EV\",DW31,DX31)","v":"0"},{"$f":"IF(EB31=\"DEP\",DW31,DX31)","v":"2"},{"$f":"IF(EB31=\"EV\",DZ31,EA31)","v":"1"},{"$f":"IF(EB31=\"DEP\",DZ31,EA31)","v":"6"},null,null,null,null,null,null,null,null,null,null,null,null,null,null,null,null,null,null,null,null,null,"4-6 GOL",{"$f":"COUNTIF(EN5:EN24,\"4\")","v":1},{"$f":"COUNTIF(EN5:EN24,\"5\")","v":0},{"$f":"COUNTIF(EN5:EN24,\"6\")","v":0},{"$f":"FC31+FD31+FE31","v":1},null,null,null,null,null,null,null,null,null,null,null,null,null,null,null,{"$f":"FV17","v":0.6},"KG YOK",null,null,null,null,null,null,null,null,null,null,null,null,null,null,null,null,null,null,{"$f":"GP17","v":0.46666666666666667},"KG YOK"]
[{"$f":"Veri!T7","v":"SC Kalsdorf"},{"$f":"Veri!X7","v":"Vocklamarkt"},{"$f":"Veri!V7","v":"0-3"},{"$f":"Veri!U7","v":"0-6"},"0","3",3,"0","6","EV","0","3","0","6",null,null,"İY Takımımız","İY Rakip","MS Takımımız","MS Rakip","MS Takımımız","MS Rakip","KG",null,null,"İY Takımımız","İY Rakip","MS Takımımız","MS Rakip","MS Takımımız","MS Rakip","KG",null,null,null,"7+ GOL",{"$f":"COUNTIF(V5:V24,\"7\")","v":0},{"$f":"COUNTIF(V5:V24,\"8\")","v":1},{"$f":"COUNTIF(V5:V24,\"9\")","v":0},1,null,null,null,null,null,null,null,null,null,null,null,null,null,null,null,0.7,"KG VAR",null,null,null,null,"SC Kalsdorf","Vocklamarkt","0-3","0-6","0","3",null,"0","6","EV","0","3","0","6",null,null,"İY Takımımız","İY Rakip","MS Takımımız","MS Rakip","MS Takımımız","MS Rakip","KG",null,null,"İY Takımımız","İY Rakip","MS Takımımız","MS Rakip","MS Takımımız","MS Rakip","KG",null,null,null,"7+ GOL",{"$f":"COUNTIF(CE5:CE24,\"7\")","v":0},{"$f":"COUNTIF(CE5:CE24,\"8\")","v":1},{"$f":"COUNTIF(CE5:CE24,\"9\")","v":0},{"$f":"CT32+CU32+CV32","v":1},null,null,null,null,null,null,null,null,null,null,null,null,null,null,null,0.5,{"$f":"DN18","v":"KG VAR"},null,null,null,null,{"$f":"DS6","v":"SG Austria Klagenfurt"},"SC Kalsdorf","0-0","1-0","0","0",null,"1","0","DEP","0","0","0","1",null,null,"İY Takımımız","İY Rakip","MS Takımımız","MS Rakip","MS Takımımız","MS Rakip","KG",null,null,"İY Takımımız","İY Rakip","MS Takımımız","MS Rakip","MS Takımımız","MS Rakip","KG",null,null,null,"7+ GOL",{"$f":"COUNTIF(EN5:EN24,\"7\")","v":1},{"$f":"COUNTIF(EN5:EN24,\"8\")","v":0},{"$f":"COUNTIF(EN5:EN24,\"9\")","v":0},{"$f":"FC32+FD32+FE32","v":1},null,null,null,null,null,null,null,null,null,null,null,null,null,null,null,{"$f":"FV18","v":0.4},"KG VAR",null,null,null,null,null,null,null,null,null,null,null,null,null,null,null,null,null,null,{"$f":"GP18","v":0.53333333333333321},"KG VAR"]
[{"$f":"Veri!T8","v":"Gratkorn"},{"$f":"Veri!X8","v":"SC Kalsdorf"},{"$f":"Veri!V8","v":"1-2"},{"$f":"Veri!U8","v":"1-2"},"1","2",2,"1","2","DEP","2","1","2","1",null,null,null,null,{"$f":"M4+0","v":3},{"$f":"N4+0","v":2},{"$f":"IF(S33>$B$58,\"1\",\"0\")","v":"1"},{"$f":"IF(T33>$B$58,\"1\",\"0\")","v":"1"},{"$f":"U33+V33","v":2},null,null,null,null,{"$f":"M30+0","v":4},{"$f":"N30+0","v":0},{"$f":"IF(AB33>$B$58,\"1\",\"0\")","v":"1"},{"$f":"IF(AC33>$B$58,\"1\",\"0\")","v":"0"},{"$f":"AD33+AE33","v":1},null,null,null,null,null,null,null,null,null,null,null,null,{"$f":"MAX(AT29:AT30)","v":0.7},{"$f":"VLOOKUP(AS33,AT29:AU30,2)","v":"KG VAR"},null,null,{"$f":"MAX(AX29:AX30)","v":0.7},{"$f":"VLOOKUP(AW33,AX29:AY30,2)","v":"KG VAR"},null,"KG TAHMIN",null,{"$f":"AVERAGE(AS33:AW33)","v":0.7},null,0.3,"KG YOK",null,null,null,null,"Gratkorn","SC Kalsdorf","1-2","1-2","1","2",null,"1","2","DEP","2","1","2","1",null,null,null,null,{"$f":"BV4+0","v":3},{"$f":"BW4+0","v":2},{"$f":"IF(CB33>$B$58,\"1\",\"0\")","v":"1"},{"$f":"IF(CC33>$B$58,\"1\",\"0\")","v":"1"},{"$f":"CD33+CE33","v":2},null,null,null,null,{"$f":"BV30+0","v":4},{"$f":"BW30+0","v":0},{"$f":"IF(CK33>$B$58,\"1\",\"0\")","v":"1"},{"$f":"IF(CL33>$B$58,\"1\",\"0\")","v":"0"},{"$f":"CM33+CN33","v":1},null,null,null,null,null,null,null,null,null,null,null,null,{"$f":"MAX(DC29:DC30)","v":0.6},{"$f":"VLOOKUP(DB33,DC29:DD30,2)","v":"KG VAR"},null,null,{"$f":"MAX(DG29:DG30)","v":0.6},{"$f":"VLOOKUP(DF33,DG29:DH30,2)","v":"KG YOK"},null,"KG TAHMIN",null,{"$f":"AVERAGE(DB33:DF33)","v":0.6},null,0.5,{"$f":"DN19","v":"KG YOK"},null,null,null,null,{"$f":"DS7","v":"SC Kalsdorf"},"SG Austria Klagenfurt","0-1","1-2","0","1",null,"1","2","EV","0","1","1","2",null,null,null,null,{"$f":"EE4+0","v":1},{"$f":"EF4+0","v":0},{"$f":"IF(EK33>$B$58,\"1\",\"0\")","v":"1"},{"$f":"IF(EL33>$B$58,\"1\",\"0\")","v":"0"},{"$f":"EM33+EN33","v":1},null,null,null,null,{"$f":"EE30+0","v":0},{"$f":"EF30+0","v":1},{"$f":"IF(ET33>$B$58,\"1\",\"0\")","v":"0"},{"$f":"IF(EU33>$B$58,\"1\",\"0\")","v":"1"},{"$f":"EV33+EW33","v":1},null,null,null,null,null,null,null,null,null,null,null,null,{"$f":"MAX(FL29:FL30)","v":0.6},{"$f":"VLOOKUP(FK33,FL29:FM30,2)","v":"KG YOK"},null,null,{"$f":"MAX(FP29:FP30)","v":0.6},{"$f":"VLOOKUP(FO33,FP29:FQ30,2)","v":"KG YOK"},null,"KG TAHMIN",null,{"$f":"AVERAGE(FK33:FO33)","v":0.6},null,{"$f":"FV19","v":0.6},"KG YOK",null,null,null,null,null,null,null,{"$f":"MAX(GF29:GF30)","v":0.56666666666666654},{"$f":"VLOOKUP(GE33,GF29:GG30,2)","v":"KG VAR"},null,null,{"$f":"MAX(GJ29:GJ30)","v":0.5},{"$f":"VLOOKUP(GI33,GJ29:GK30,2)","v":"KG YOK"},null,"KG TAHMIN",null,{"$f":"AVERAGE(GE33:GI33)","v":0.53333333333333321},null,{"$f":"GP19","v":0.46666666666666667},"KG YOK"]
[{"$f":"Veri!T9","v":"SC Weiz"},{"$f":"Veri!X9","v":"SC Kalsdorf"},{"$f":"Veri!V9","v":"2-0"},{"$f":"Veri!U9","v":"3-1"},"2","0",0,"3","1","DEP","0","2","1","3",null,null,null,null,{"$f":"M5+0","v":6},2,{"$f":"IF(S34>$B$58,\"1\",\"0\")","v":"1"},"1",{"$f":"U34+V34","v":2},null,null,null,null,{"$f":"M31+0","v":0},3,{"$f":"IF(AB34>$B$58,\"1\",\"0\")","v":"0"},"1",{"$f":"AD34+AE34","v":1},null,null,null,null,null,null,null,null,null,null,null,null,null,null,null,null,null,null,null,{"$f":"IF(AT33=AX33,AX33,\"RISKLI\")","v":"KG VAR"},{"$f":"IF(AT33=AX33,BB33,\"RISKLI\")","v":0.7},null,null,null,null,null,null,null,null,"SC Weiz","SC Kalsdorf","2-0","3-1","2","0",null,"3","1","DEP","0","2","1","3",null,null,null,null,{"$f":"BV5+0","v":6},{"$f":"BW5+0","v":2},{"$f":"IF(CB34>$B$58,\"1\",\"0\")","v":"1"},{"$f":"IF(CC34>$B$58,\"1\",\"0\")","v":"1"},{"$f":"CD34+CE34","v":2},null,null,null,null,{"$f":"BV31+0","v":0},{"$f":"BW31+0","v":3},{"$f":"IF(CK34>$B$58,\"1\",\"0\")","v":"0"},{"$f":"IF(CL34>$B$58,\"1\",\"0\")","v":"1"},{"$f":"CM34+CN34","v":1},null,null,null,null,null,null,null,null,null,null,null,null,null,null,null,null,null,null,null,{"$f":"IF(DC33=DG33,DG33,\"RISKLI\")","v":"RISKLI"},{"$f":"IF(DC33=DG33,DK33,\"RISKLI\")","v":"RISKLI"},null,null,null,null,null,null,null,null,{"$f":"DS8","v":"SC Kalsdorf"},"SG Austria Klagenfurt","2-0","4-0","2","0",null,"4","0","EV","2","0","4","0",null,null,null,null,{"$f":"EE5+0","v":6},{"$f":"EF5+0","v":1},{"$f":"IF(EK34>$B$58,\"1\",\"0\")","v":"1"},{"$f":"IF(EL34>$B$58,\"1\",\"0\")","v":"1"},{"$f":"EM34+EN34","v":2},null,null,null,null,{"$f":"EE31+0","v":1},{"$f":"EF31+0","v":6},{"$f":"IF(ET34>$B$58,\"1\",\"0\")","v":"1"},{"$f":"IF(EU34>$B$58,\"1\",\"0\")","v":"1"},{"$f":"EV34+EW34","v":2},null,null,null,null,null,null,null,null,null,null,null,null,null,null,null,null,null,null,null,{"$f":"IF(FL33=FP33,FP33,\"RISKLI\")","v":"KG YOK"},{"$f":"IF(FL33=FP33,FT33,\"RISKLI\")","v":0.6},null,null,null,null,null,null,null,null,null,null,null,null,null,null,null,null,null,null,{"$f":"IF(GF33=GJ33,GJ33,\"RISKLI\")","v":"RISKLI"},{"$f":"IF(GF33=GJ33,GN33,\"RISKLI\")","v":"RISKLI"},null,null,{"$f":"GP20","v":0.17499999999999999},"0-1 GOL"]
[{"$f":"Veri!T10","v":"SC Kalsdorf"},{"$f":"Veri!X10","v":"VST Volkermarkt"},{"$f":"Veri!V10","v":"0-1"},{"$f":"Veri!U10","v":"2-1"},"0","1",1,"2","1","EV","0","1","2","1",null,null,null,null,2,0,"1","0",1,null,null,null,null,0,6,"0","1",1,null,null,null,"TOPLAM GOL DEPLASMAN",null,null,null,null,null,null,null,null,null,null,null,null,null,null,null,null,null,null,null,null,null,null,null,null,null,null,null,null,null,null,null,null,null,null,null,null,null,null,null,null,null,null,null,2,0,"1","0",1,null,null,null,null,0,6,"0","1",1,null,null,null,"TOPLAM GOL DEPLASMAN",null,null,null,null,null,null,null,null,null,null,null,null,null,null,null,null,null,null,null,null,null,null,null,null,null,null,null,null,null,null,null,null,null,null,null,null,null,null,null,null,null,null,null,1,0,"1","0",1,null,null,null,null,0,1,"0","1",1,null,null,null,"TOPLAM GOL DEPLASMAN",null,null,null,null,null,null,null,null,null,null,null,null,null,null,null,null,null,null,null,null,null,null,null,null,null,null,null,null,null,null,null,null,null,null,null,null,null,null,null,{"$f":"GP21","v":0.3666666666666667},"2-3 GOL"]
[{"$f":"Veri!T11","v":"FC Wels"},{"$f":"Veri!X11","v":"SC Kalsdorf1"},{"$f":"Veri!V11","v":"2-2"},{"$f":"Veri!U11","v":"3-3"},"2","2",2,"3","3","DEP","2","2","3","3",null,null,null,null,2,1,"1","1",2,null,null,null,null,2,1,"1","1",2,null,null,null,"0-1 GOL",{"$f":"COUNTIF(AI5:AI24,\"0\")","v":0},{"$f":"COUNTIF(AI5:AI24,\"1\")","v":2},null,{"$f":"AK36+AL36","v":2},null,null,null,null,null,null,null,null,null,null,null,null,null,null,null,null,null,null,null,null,null,null,null,null,null,null,null,null,null,null,null,null,null,null,null,null,null,null,null,2,1,"1","1",2,null,null,null,null,2,1,"1","1",2,null,null,null,"0-1 GOL",{"$f":"COUNTIF(CR5:CR24,\"0\")","v":0},{"$f":"COUNTIF(CR5:CR24,\"1\")","v":0},null,{"$f":"CT36+CU36","v":0},null,null,null,null,null,null,null,null,null,null,null,null,null,null,null,null,null,null,null,null,null,null,null,null,null,null,null,null,null,null,null,null,null,null,null,null,null,null,null,2,1,"1","1",2,null,null,null,null,1,2,"1","1",2,null,null,null,"0-1 GOL",{"$f":"COUNTIF(FA5:FA24,\"0\")","v":0},{"$f":"COUNTIF(FA5:FA24,\"1\")","v":2},null,{"$f":"FC36+FD36","v":2},null,null,null,null,null,null,null,null,null,null,null,null,null,null,null,null,null,null,null,null,null,null,null,null,null,null,null,null,null,null,null,null,null,null,null,{"$f":"GP22","v":0.32500000000000001},"4-6 GOL"]
[{"$f":"Veri!T12","v":"SC Kalsdorf"},{"$f":"Veri!X12","v":"SC Gleisdorf"},{"$f":"Veri!V12","v":"0-1"},{"$f":"Veri!U12","v":"1-1"},"0","1",1,"1","1","EV","0","1","1","1",null,null,null,null,3,0,"1","0",1,null,null,null,null,1,3,"1","1",2,null,null,null,"2-3 GOL",{"$f":"COUNTIF(AI5:AI24,\"2\")","v":2},{"$f":"COUNTIF(AI5:AI24,\"3\")","v":3},null,{"$f":"AK37+AL37","v":5},null,null,"IY",null,"MS",null,null,"IY",null,"MS",null,null,null,"MAC SONU",null,"50","IY SONU",null,"50",null,null,null,null,null,null,null,null,null,null,null,null,null,null,null,null,null,null,null,null,3,0,"1","0",1,null,null,null,null,1,3,"1","1",2,null,null,null,"2-3 GOL",{"$f":"COUNTIF(CR5:CR24,\"2\")","v":0},{"$f":"COUNTIF(CR5:CR24,\"3\")","v":2},null,{"$f":"CT37+CU37","v":2},null,null,"IY",null,"MS",null,null,"IY",null,null,null,null,null,"MAC SONU",null,"50","IY SONU",null,"50",null,null,null,null,null,null,null,null,null,null,null,null,null,null,null,null,null,null,null,null,0,4,"0","1",1,null,null,null,null,4,0,"1","0",1,null,null,null,"2-3 GOL",{"$f":"COUNTIF(FA5:FA24,\"2\")","v":0},{"$f":"COUNTIF(FA5:FA24,\"3\")","v":1},null,{"$f":"FC37+FD37","v":1},null,null,"IY",null,"MS",null,null,"IY",null,"MS",null,null,null,"MAC SONU",null,"50","IY SONU",null,"50",null,null,"IY",null,null,"MS",null,null,"IY",null,"MS",null,null,null,null,null,{"$f":"GP23","v":0.13333333333333333},"7+ GOL"]
[{"$f":"Veri!T13","v":"SC Kalsdorf"},{"$f":"Veri!X13","v":"TUS Bad Gleichenberg"},{"$f":"Veri!V13","v":"0-2"},{"$f":"Veri!U13","v":"2-4"},"0","2",2,"2","4","EV","0","2","2","4",null,null,null,null,1,2,"1","1",2,null,null,null,null,2,1,"1","1",2,null,null,null,"4-6 GOL",{"$f":"COUNTIF(AI5:AI24,\"4\")","v":4},{"$f":"COUNTIF(AI5:AI24,\"5\")","v":3},{"$f":"COUNTIF(AI5:AI24,\"6\")","v":3},{"$f":"AK38+AL38+AM38","v":10},null,null,{"$f":"H126","v":0.375},"1",{"$f":"G93","v":0.375},"1",null,{"$f":"AQ38+AQ39","v":0.67500000000000004},"1X",{"$f":"K93","v":0.57499999999999996},"1X",null,null,{"$f":"AS38","v":0.375},"1",null,{"$f":"AQ38","v":0.375},"1",null,null,null,null,null,null,null,null,null,null,null,null,null,null,null,null,null,null,null,null,null,null,null,null,null,null,null,null,null,null,null,null,null,null,null,null,null,null,"4-6 GOL",{"$f":"COUNTIF(CR5:CR24,\"4\")","v":2},{"$f":"COUNTIF(CR5:CR24,\"5\")","v":0},{"$f":"COUNTIF(CR5:CR24,\"6\")","v":1},{"$f":"CT38+CU38+CV38","v":3},null,null,{"$f":"BQ126","v":0.6},"1",{"$f":"BP93","v":0.8},"1",null,{"$f":"CZ38+CZ39","v":0.7},"1X",{"$f":"BT93","v":0.8},"1X",null,null,{"$f":"DB38","v":0.8},"1",null,{"$f":"CZ38","v":0.6},"1",null,null,null,null,null,null,null,null,null,null,null,null,null,null,null,null,null,null,null,null,null,null,null,null,null,null,null,null,null,null,null,null,null,null,null,null,null,null,"4-6 GOL",{"$f":"COUNTIF(FA5:FA24,\"4\")","v":1},{"$f":"COUNTIF(FA5:FA24,\"5\")","v":0},{"$f":"COUNTIF(FA5:FA24,\"6\")","v":0},{"$f":"FC38+FD38+FE38","v":1},null,null,{"$f":"DZ126","v":0.5},"1",{"$f":"DY93","v":0.8},"1",null,{"$f":"FI38+FI39","v":0.6},"1X",{"$f":"EC93","v":0.8},"1X",null,null,{"$f":"FK38","v":0.8},"1",null,{"$f":"FI38","v":0.5},"1",null,null,null,"1",{"$f":"(AQ38+CZ38+FI38)/3","v":0.4916666666666667},null,"1",{"$f":"(AS38+DB38+FK38)/3","v":0.65833333333333333},null,{"$f":"GC38+GC39","v":0.65833333333333333},"1X",{"$f":"(AX38+DG38+FP38)/3","v":0.72499999999999998},"1X"]
[{"$f":"Veri!T14","v":"1SV Lendorf"},{"$f":"Veri!X14","v":"SC Kalsdorf"},{"$f":"Veri!V14","v":"0-0"},{"$f":"Veri!U14","v":"0-2"},"0","0",0,"0","2","DEP","0","0","2","0",null,null,null,null,0,0,"0","0",0,null,null,null,null,3,3,"1","1",2,null,null,null,"7+ GOL",{"$f":"COUNTIF(AI5:AI24,\"7\")","v":3},{"$f":"COUNTIF(AI5:AI24,\"8\")","v":0},{"$f":"COUNTIF(AI5:AI24,\"9\")","v":0},{"$f":"AK39+AL39+AM39","v":3},null,null,{"$f":"H127","v":0.3},"X",{"$f":"G94","v":0.2},"X",null,{"$f":"AQ39+AQ40","v":0.625},"X2",{"$f":"K94","v":0.625},"X2",null,null,{"$f":"AS39","v":0.2},"X",null,{"$f":"AQ39","v":0.3},"X",null,null,null,null,null,null,null,null,null,null,null,null,null,null,null,null,null,null,null,null,null,null,null,null,null,null,null,null,null,null,null,null,null,null,null,null,null,null,"7+ GOL",{"$f":"COUNTIF(CR5:CR24,\"7\")","v":0},{"$f":"COUNTIF(CR5:CR24,\"8\")","v":0},{"$f":"COUNTIF(CR5:CR24,\"9\")","v":0},{"$f":"CT39+CU39+CV39","v":0},null,null,{"$f":"BQ127","v":0.1},"X",{"$f":"BP94","v":0},"X",null,{"$f":"CZ39+CZ40","v":0.4},"X2",{"$f":"BT94","v":0.2},"X2",null,null,{"$f":"DB39","v":0},"X",null,{"$f":"CZ39","v":0.1},"X",null,null,null,null,null,null,null,null,null,null,null,null,null,null,null,null,null,null,null,null,null,null,null,null,null,null,null,null,null,null,null,null,null,null,null,null,null,null,"7+ GOL",{"$f":"COUNTIF(FA5:FA24,\"7\")","v":1},{"$f":"COUNTIF(FA5:FA24,\"8\")","v":0},{"$f":"COUNTIF(FA5:FA24,\"9\")","v":0},{"$f":"FC39+FD39+FE39","v":1},null,null,{"$f":"DZ127","v":0.1},"X",{"$f":"DY94","v":0},"X",null,{"$f":"FI39+FI40","v":0.5},"X2",{"$f":"EC94","v":0.2},"X2",null,null,{"$f":"FK39","v":0},"X",null,{"$f":"FI39","v":0.1},"X",null,null,null,"X",{"$f":"(AQ39+CZ39+FI39)/3","v":0.16666666666666666},null,"X",{"$f":"(AS39+DB39+FK39)/3","v":6.6666666666666666E-2},null,{"$f":"GC39+GC40","v":0.5083333333333333},"X2",0.34166666666666662,"X2"]
[{"$f":"Veri!T15","v":"SC Kalsdorf"},{"$f":"Veri!X15","v":"Deutschlandsberger SC"},{"$f":"Veri!V15","v":"2-1"},{"$f":"Veri!U15","v":"4-1"},"2","1",1,"4","1","EV","2","1","4","1",null,null,null,null,1,1,"1","1",2,null,null,null,null,1,1,"1","1",2,null,null,null,null,null,null,null,null,null,null,{"$f":"H128","v":0.32499999999999996},"2",{"$f":"G95","v":0.42499999999999999},"2",null,{"$f":"AQ38+AQ40","v":0.7},"12",0.8,"12",null,null,{"$f":"AS40","v":0.42499999999999999},"2",null,{"$f":"AQ40","v":0.32499999999999996},"2",null,null,null,null,null,null,null,null,null,null,null,null,null,null,null,null,null,null,null,null,null,null,null,null,null,null,null,null,null,null,null,null,null,null,null,null,null,null,null,null,null,null,null,null,null,{"$f":"BQ128","v":0.30000000000000004},"2",{"$f":"BP95","v":0.2},"2",null,{"$f":"CZ38+CZ40","v":0.9},"12",1,"12",null,null,0.2,"2",null,{"$f":"CZ40","v":0.30000000000000004},"2",null,null,null,null,null,null,null,null,null,null,null,null,null,null,null,null,null,null,null,null,null,null,null,null,null,null,null,null,null,null,null,null,null,null,null,null,null,null,null,null,null,null,null,null,null,{"$f":"DZ128","v":0.4},"2",{"$f":"DY95","v":0.2},"2",null,{"$f":"FI38+FI40","v":0.9},"12",1,"12",null,null,{"$f":"FK40","v":0.2},"2",null,{"$f":"FI40","v":0.4},"2",null,null,null,"2",{"$f":"(AQ40+CZ40+FI40)/3","v":0.34166666666666662},null,"2",0.27499999999999997,null,{"$f":"GC38+GC40","v":0.83333333333333326},"12",0.93333333333333324,"12"]
[{"$f":"Veri!T16","v":"Sturm Graz (Youth)"},{"$f":"Veri!X16","v":"SC Kalsdorf1"},{"$f":"Veri!V16","v":"0-1"},{"$f":"Veri!U16","v":"3-2"},{"$f":"MID(C41,1,FIND(\"-\",C41)-1)","v":"0"},"1",1,"3","2","DEP","1","0","2","3",null,null,null,null,2,2,"1","1",2,null,null,null,null,2,4,"1","1",2,null,null,null,null,null,null,null,null,null,null,null,null,null,null,null,null,null,null,null,null,null,{"$f":"AX38/2","v":0.28749999999999998},"1X",null,{"$f":"AV38/2","v":0.33750000000000002},"1X",null,null,null,null,null,null,null,null,null,null,null,null,null,null,null,null,null,null,null,null,null,null,null,null,null,null,null,null,null,null,null,null,null,null,null,null,null,null,null,null,null,null,null,null,null,null,null,null,null,null,null,null,null,null,null,null,{"$f":"DG38/2","v":0.4},"1X",null,{"$f":"DE38/2","v":0.35},"1X",null,null,null,null,null,null,null,null,null,null,null,null,null,null,null,null,null,null,null,null,null,null,null,null,null,null,null,null,null,null,null,null,null,null,null,null,null,null,null,null,null,null,null,null,null,null,null,null,null,null,null,null,null,null,null,null,{"$f":"FP38/2","v":0.4},"1X",null,{"$f":"FN38/2","v":0.3},"1X"]
[{"$f":"Veri!T17","v":"SV Pachern"},{"$f":"Veri!X17","v":"SC Kalsdorf"},{"$f":"Veri!V17","v":"0-3"},{"$f":"Veri!U17","v":"1-6"},"0","3",3,"1","6","DEP","3","0","6","1",null,null,null,null,1,3,"1","1",2,null,null,null,null,2,0,"1","0",1,null,null,null,null,null,null,null,null,null,null,{"$f":"MAX(AQ38:AQ40)","v":0.375},{"$f":"VLOOKUP(AQ42,AQ38:AR40,2,FALSE)","v":"1"},{"$f":"MAX(AS38:AS40)","v":0.42499999999999999},{"$f":"VLOOKUP(AS42,AS38:AT40,2,FALSE)","v":"2"},null,null,null,null,null,null,null,{"$f":"AX39/2","v":0.3125},"X2",null,{"$f":"AV39/2","v":0.3125},"X2",null,null,null,null,null,null,null,null,null,null,null,null,null,null,null,null,null,null,null,null,null,null,null,null,null,null,null,null,null,null,null,null,null,null,null,null,null,null,null,null,null,null,null,null,null,{"$f":"MAX(CZ38:CZ40)","v":0.6},{"$f":"VLOOKUP(CZ42,CZ38:DA40,2,FALSE)","v":"1"},{"$f":"MAX(DB38:DB40)","v":0.8},{"$f":"VLOOKUP(DB42,DB38:DC40,2,FALSE)","v":"1"},null,null,null,null,null,null,null,{"$f":"DG39/2","v":0.1},"X2",null,{"$f":"DE39/2","v":0.2},"X2",null,null,null,null,null,null,null,null,null,null,null,null,null,null,null,null,null,null,null,null,null,null,null,null,null,null,null,null,null,null,null,null,null,null,null,null,null,null,null,null,null,null,null,null,null,{"$f":"MAX(FI38:FI40)","v":0.5},{"$f":"VLOOKUP(FI42,FI38:FJ40,2,FALSE)","v":"1"},{"$f":"MAX(FK38:FK40)","v":0.8},{"$f":"VLOOKUP(FK42,FK38:FL40,2,FALSE)","v":"1"},null,null,null,null,null,null,null,{"$f":"FP39/2","v":0.1},"X2",null,{"$f":"FN39/2","v":0.25},"X2"]
[{"$f":"Veri!T18","v":"1SC Kalsdorf"},{"$f":"Veri!X18","v":"Grazer AK"},{"$f":"Veri!V18","v":"2-0"},{"$f":"Veri!U18","v":"2-3"},"2","0",0,"2","3","DEP","0","2","3","2",null,null,null,null,2,1,"1","1",2,null,null,null,null,4,1,"1",{"$f":"IF(AC43>$B$58,\"1\",\"0\")","v":"1"},2,null,null,null,null,null,null,null,null,null,null,null,null,null,null,null,null,{"$f":"MAX(AX38:AX40)","v":0.8},{"$f":"VLOOKUP(AW43,AX38:AY40,2)","v":"12"},{"$f":"IF(AW43<60,AZ43,\"RISKLI\")","v":0.8},{"$f":"MAX(AX38:AX40)","v":0.8},null,{"$f":"AX40/2","v":0.4},"12",null,{"$f":"AV40/2","v":0.35},"12",null,null,null,null,null,null,null,null,null,null,null,null,null,null,null,null,null,null,null,null,null,null,null,null,null,null,null,null,null,null,null,null,null,null,null,null,null,null,null,null,null,null,null,null,null,null,null,null,null,null,null,{"$f":"MAX(DG38:DG40)","v":1},{"$f":"VLOOKUP(DF43,DG38:DH40,2)","v":"12"},{"$f":"IF(DF43<60,DI43,\"RISKLI\")","v":1},{"$f":"MAX(DG38:DG40)","v":1},null,{"$f":"DG40/2","v":0.5},"12",null,{"$f":"DE40/2","v":0.45},"12",null,null,null,null,null,null,null,null,null,null,null,null,null,null,null,null,null,null,null,null,null,null,null,null,null,null,null,null,null,null,null,null,null,null,null,null,null,null,null,null,null,null,null,null,null,null,null,null,null,null,null,{"$f":"MAX(FP38:FP40)","v":1},{"$f":"VLOOKUP(FO43,FP38:FQ40,2)","v":"12"},{"$f":"IF(FO43<60,FR43,\"RISKLI\")","v":1},{"$f":"MAX(FP38:FP40)","v":1},null,{"$f":"FP40/2","v":0.5},"12",null,{"$f":"FN40/2","v":0.45},"12",null,null,null,null,null,null,null,null,null,null,{"$f":"MAX(GJ38:GJ40)","v":0.93333333333333324},{"$f":"VLOOKUP(GI43,GJ38:GK40,2)","v":"12"},{"$f":"IF(GI43<60,GL43,\"RISKLI\")","v":0.93333333333333324},{"$f":"MAX(GJ38:GJ40)","v":0.93333333333333324}]
[{"$f":"Veri!T19","v":"ATSV Stadl Paura"},{"$f":"Veri!X19","v":"SC Kalsdorf"},{"$f":"Veri!V19","v":"0-0"},{"$f":"Veri!U19","v":"1-0"},"0","0",0,"1","0","DEP","0","0","0","1",null,null,null,null,0,4,"0","1",1,null,null,null,null,2,3,"1","1",2,null,null,null,null,null,null,null,null,null,{"$f":"AR42&\" -\"&AT42","v":"1 -2"},{"$f":"AVERAGE(AQ42:AT42)","v":0.4},null,null,null,null,null,null,null,null,null,"MS",null,null,"IY",null,null,null,null,null,null,null,null,null,null,null,null,null,null,null,null,null,null,null,null,null,null,null,null,null,null,null,null,null,null,null,null,null,null,null,null,null,null,null,null,null,null,null,null,null,null,{"$f":"DA42&\" -\"&DC42","v":"1 -1"},{"$f":"AVERAGE(CZ42:DC42)","v":0.7},null,null,null,null,null,null,null,null,null,"MS",null,null,"IY",null,null,null,null,null,null,null,null,null,null,null,null,null,null,null,null,null,null,null,null,null,null,null,null,null,null,null,null,null,null,null,null,null,null,null,null,null,null,null,null,null,null,null,null,null,null,{"$f":"FJ42&\" -\"&FL42","v":"1 -1"},{"$f":"AVERAGE(FI42:FL42)","v":0.65},null,null,null,null,null,null,null,null,null,"MS",null,null,"IY"]
[{"$f":"Veri!T20","v":"SC Kalsdorf"},{"$f":"Veri!X20","v":"WSC Hertha Wels"},{"$f":"Veri!V20","v":"1-1"},{"$f":"Veri!U20","v":"2-5"},"1","1",1,"2","5","EV","1","1","2","5",null,null,null,null,1,1,"1","1",2,null,null,null,null,6,1,"1","1",2,null,null,null,null,null,null,null,null,null,null,null,null,null,null,null,null,null,null,null,null,{"$f":"MAX(BB38:BB43)","v":0.42499999999999999},{"$f":"IF(BA45>BD37,BA45,\"RISKLI\")","v":"RISKLI"},{"$f":"VLOOKUP(BA45,BB38:BC43,2,FALSE)","v":"2"},{"$f":"MAX(BE38:BE43)","v":0.375},{"$f":"IF(BD45>BG37,BD45,\"RISKLI\")","v":"RISKLI"},{"$f":"VLOOKUP(BD45,BE38:BF43,2,FALSE)","v":"1"},null,null,null,null,null,null,null,null,null,null,null,null,null,null,null,null,null,null,null,null,null,null,null,null,null,null,null,null,null,null,null,null,null,null,null,null,null,null,null,null,null,null,null,null,null,null,null,null,null,null,null,null,null,null,null,{"$f":"MAX(DK38:DK43)","v":0.8},{"$f":"IF(DJ45>DM37,DJ45,\"RISKLI\")","v":"RISKLI"},{"$f":"VLOOKUP(DJ45,DK38:DL43,2,FALSE)","v":"1"},{"$f":"MAX(DN38:DN43)","v":0.6},{"$f":"IF(DM45>DP37,DM45,\"RISKLI\")","v":"RISKLI"},{"$f":"VLOOKUP(DM45,DN38:DO43,2,FALSE)","v":"1"},null,null,null,null,null,null,null,null,null,null,null,null,null,null,null,null,null,null,null,null,null,null,null,null,null,null,null,null,null,null,null,null,null,null,null,null,null,null,null,null,null,null,null,null,null,null,null,null,null,null,null,null,null,null,null,{"$f":"MAX(FT38:FT43)","v":0.8},{"$f":"IF(FS45>FV37,FS45,\"RISKLI\")","v":"RISKLI"},{"$f":"VLOOKUP(FS45,FT38:FU43,2,FALSE)","v":"1"},{"$f":"MAX(FW38:FW43)","v":0.5},{"$f":"IF(FV45>FY37,FV45,\"RISKLI\")","v":"RISKLI"},{"$f":"VLOOKUP(FV45,FW38:FX43,2,FALSE)","v":"1"}]
[{"$f":"Veri!T21","v":"Wolfsberger AC Amateure"},{"$f":"Veri!X21","v":"SC Kalsdorf"},{"$f":"Veri!V21","v":"1-1"},{"$f":"Veri!U21","v":"3-1"},"1","1",1,"3","1","DEP","1","1","1","3",null,null,null,null,1,0,"1","0",1,null,null,null,null,3,2,"1","1",2,null,null,null,null,null,null,null,null,null,null,null,null,null,null,"SKOR TAHMINI",null,null,null,null,null,null,null,null,null,null,null,null,null,null,null,null,null,null,null,null,null,null,null,null,null,null,null,null,null,null,null,null,null,null,null,null,null,null,null,null,null,null,null,null,null,null,null,null,null,null,null,null,null,null,null,null,null,null,null,null,"SKOR TAHMINI",null,null,null,null,null,null,null,null,null,null,null,null,null,null,null,null,null,null,null,null,null,null,null,null,null,null,null,null,null,null,null,null,null,null,null,null,null,null,null,null,null,null,null,null,null,null,null,null,null,null,null,null,null,null,null,null,null,null,null,null,"SKOR TAHMINI",null,null,null,null,null,null,null,null,null,null,null,null,null,null,null,null,null,null,null,"SKOR TAHMINI"]
[{"$f":"Veri!T22","v":"SC Kalsdorf"},{"$f":"Veri!X22","v":"Allerheiligen"},{"$f":"Veri!V22","v":"1-0"},{"$f":"Veri!U22","v":"1-0"},"1","0",0,"1","0","EV","1","0","1","0",null,null,null,null,1,2,"1","1",2,null,null,null,null,0,1,"0","1",1,null,null,null,null,null,null,null,null,null,null,null,null,null,null,"IY",null,"MS",null,null,null,null,null,null,null,null,null,null,null,null,null,null,null,null,null,null,null,null,null,null,null,null,null,null,null,null,null,null,null,null,null,null,null,null,null,null,null,null,null,null,null,null,null,null,null,null,null,null,null,null,null,null,null,null,null,null,"IY",null,"MS",null,null,null,null,null,null,null,null,null,null,null,null,null,null,null,null,null,null,null,null,null,null,null,null,null,null,null,null,null,null,null,null,null,null,null,null,null,null,null,null,null,null,null,null,null,null,null,null,null,null,null,null,null,null,null,null,null,null,"IY",null,"MS",null,null,null,null,null,null,null,null,null,null,null,null,null,null,null,null,null,"IY",null,"MS"]
[{"$f":"Veri!T23","v":"SC Kalsdorf"},{"$f":"Veri!X23","v":"SV Lebring"},{"$f":"Veri!V23","v":"2-1"},{"$f":"Veri!U23","v":"5-2"},"2","1",1,"5","2","EV","2","1","5","2",null,null,null,null,1,2,"1","1",2,null,null,null,null,2,5,"1","1",2,null,null,null,null,null,null,null,null,null,null,null,null,null,null,{"$f":"K58","v":0.82499999999999996},{"$f":"L58","v":0.75},{"$f":"M58","v":1.7749999999999999},{"$f":"N58","v":1.8250000000000002},null,null,null,null,null,null,null,null,null,null,null,null,null,null,null,null,null,null,null,null,null,null,null,null,null,null,null,null,null,null,null,null,null,null,null,null,null,null,null,null,null,null,null,null,null,null,null,null,null,null,null,null,null,null,null,null,null,{"$f":"BT58","v":1.4},{"$f":"BU58","v":0.60000000000000009},2.9000000000000004,1.2,null,null,null,null,null,null,null,null,null,null,null,null,null,null,null,null,null,null,null,null,null,null,null,null,null,null,null,null,null,null,null,null,null,null,null,null,null,null,null,null,null,null,null,null,null,null,null,null,null,null,null,null,null,null,null,null,null,{"$f":"EC58","v":0.8},{"$f":"ED58","v":0.4},{"$f":"EE58","v":2},{"$f":"EF58","v":1.2},null,null,null,null,null,null,null,null,null,null,null,null,null,null,null,null,{"$f":"(K48+DD48+FM48)/3","v":1.4000000000000001},{"$f":"(AV55+DE48+FN48)/3","v":0.33333333333333331},{"$f":"(M59+DF48+FO48)/3","v":2.2250000000000001},{"$f":"(AX55+DG48+FP48)/3","v":0.8833333333333333}]
[{"$f":"Veri!T24","v":"Usv Mettersdorf"},{"$f":"Veri!X24","v":"SC Kalsdorf"},{"$f":"Veri!V24","v":"0-0"},{"$f":"Veri!U24","v":"1-3"},"0","0",0,"1","3","DEP","0","0","3","1",null,null,null,null,0,1,"0","1",1,null,null,null,null,1,3,"1","1",2,null,null,null,null,null,null,null,null,null,null,null,null,null,null,{"$f":"AVERAGEA(AU48)","v":0.82499999999999996},0.75,1.7749999999999999,1.8250000000000002,null,null,null,null,null,null,null,null,null,null,null,null,null,null,null,null,null,null,null,null,null,null,null,null,null,null,null,null,null,null,null,null,null,null,null,null,null,null,null,null,null,null,null,null,null,null,null,null,null,null,null,null,null,null,null,null,null,{"$f":"AVERAGEA(DD48)","v":1.4},{"$f":"AVERAGEA(DE48)","v":0.60000000000000009},2.9000000000000004,1.2,null,null,null,null,null,null,null,null,null,null,null,null,null,null,null,null,null,null,null,null,null,null,null,null,null,null,null,null,null,null,null,null,null,null,null,null,null,null,null,null,null,null,null,null,null,null,null,null,null,null,null,null,null,null,null,null,null,{"$f":"AVERAGEA(FM48)","v":0.8},{"$f":"AVERAGEA(FN48)","v":0.4},2,1.2,null,null,null,null,null,null,null,null,null,null,null,null,null,null,null,null,{"$f":"AVERAGEA(GG48)","v":1.4000000000000001},{"$f":"AVERAGEA(GH48)","v":0.33333333333333331},2.2250000000000001,0.8833333333333333]
[null,null,null,null,null,null,null,null,null,{"$f":"COUNTIF(J30:J49,\"DEP\")","v":12},{"$f":"K30+K31+K32+K33+K34+K35+K36+K37+K38+K39+K40+K41+K42+K43+K44+K45+K46+K47+K48+K49","v":17},{"$f":"L30+L31+L32+L33+L34+L35+L36+L37+L38+L39+L40+L41+L42+L43+L44+L45+L46+L47+L48+L49","v":19},44,41,null,null,null,null,{"$f":"M21+0","v":1},1,"1","1",2,null,null,null,null,{"$f":"M47+0","v":1},0,"1","0",1,null,null,null,null,null,null,null,null,null,null,null,null,null,null,null,null,null,null,null,null,null,null,null,null,null,null,null,null,null,null,null,null,null,null,null,null,null,null,{"$f":"COUNTIF(BS30:BS49,\"DEP\")","v":4},{"$f":"BT30+BT31+BT32+BT33+BT34+BT35+BT36+BT37+BT38+BT39+BT40+BT41+BT42+BT43+BT44+BT45+BT46+BT47+BT48+BT49","v":4},{"$f":"BU30+BU31+BU32+BU33+BU34+BU35+BU36+BU37+BU38+BU39+BU40+BU41+BU42+BU43+BU44+BU45+BU46+BU47+BU48+BU49","v":7},7,13,null,null,null,null,null,null,null,null,null,null,null,null,null,null,null,null,null,null,null,null,null,null,null,null,null,null,null,null,null,null,null,null,null,null,null,null,null,null,null,null,null,null,null,null,null,null,null,null,null,null,null,null,null,null,null,null,{"$f":"COUNTIF(EB30:EB49,\"DEP\")","v":2},{"$f":"EC30+EC31+EC32+EC33+EC34+EC35+EC36+EC37+EC38+EC39+EC40+EC41+EC42+EC43+EC44+EC45+EC46+EC47+EC48+EC49","v":2},{"$f":"ED30+ED31+ED32+ED33+ED34+ED35+ED36+ED37+ED38+ED39+ED40+ED41+ED42+ED43+ED44+ED45+ED46+ED47+ED48+ED49","v":4},6,10]
[null,null,null,null,null,null,null,null,null,null,{"$f":"K50/20","v":0.85},{"$f":"L50/20","v":0.95},2.2000000000000002,2.0499999999999998,null,null,null,null,1,3,"1","1",2,null,null,null,null,5,2,"1","1",2,null,null,null,null,null,null,null,null,null,null,null,null,null,null,null,null,null,null,null,null,null,null,null,null,null,null,null,null,null,null,null,null,null,null,null,null,null,null,null,{"$f":"BT50/5","v":0.8},{"$f":"BU50/5","v":1.4},{"$f":"BV50/5","v":1.4},{"$f":"BW50/5","v":2.6},null,null,null,null,null,null,null,null,null,null,null,null,null,null,null,null,null,null,null,null,null,null,null,null,null,null,null,null,null,null,null,null,null,null,null,null,null,null,null,null,null,null,null,null,null,null,null,null,null,null,null,null,null,null,null,null,null,{"$f":"EC50/5","v":0.4},{"$f":"ED50/5","v":0.8},{"$f":"EE50/5","v":1.2},{"$f":"EF50/5","v":2}]
[null,null,null,null,null,null,null,null,null,null,null,null,null,null,null,null,null,null,1,1,"1","1",2,null,null,null,null,3,1,"1","1",2,null,null,null,null,null,null,null,null,null,null,null,null,null,null,"TOPLAM GOL",null,null,null,null,null,null,null,null,null,null,null,null,null,null,null,null,null,null,null,null,null,null,null,null,null,null,null,null,null,null,null,null,null,null,null,null,null,null,null,null,null,null,null,null,null,null,null,null,null,null,null,null,null,null,null,null,null,null,null,null,"TOPLAM GOL",null,null,null,null,null,null,null,null,null,null,null,null,null,null,null,null,null,null,null,null,null,null,null,null,null,null,null,null,null,null,null,null,null,null,null,null,null,null,null,null,null,null,null,null,null,null,null,null,null,null,null,null,null,null,null,null,null,null,null,null,"TOPLAM GOL",null,null,null,null,null,null,null,null,null,null,null,null,null,null,null,null,null,null,null,"TOPLAM GOL"]
[null,null,null,null,null,null,null,null,null,null,null,null,null,null,null,null,{"$f":"Q33+Q34+Q35+Q36+Q37+Q38+Q39+Q40+Q41+Q42+Q43+Q44+Q45+Q46+Q47+Q48+Q49+Q50+Q51+Q52","v":0},{"$f":"R33+R34+R35+R36+R37+R38+R39+R40+R41+R42+R43+R44+R45+R46+R47+R48+R49+R50+R51+R52","v":0},{"$f":"S33+S34+S35+S36+S37+S38+S39+S40+S41+S42+S43+S44+S45+S46+S47+S48+S49+S50+S51+S52","v":30},{"$f":"T33+T34+T35+T36+T37+T38+T39+T40+T41+T42+T43+T44+T45+T46+T47+T48+T49+T50+T51+T52","v":29},{"$f":"COUNTIF(U33:U52,\"1\")","v":17},{"$f":"COUNTIF(V33:V52,\"1\")","v":16},{"$f":"COUNTIF(W33:W52,\"2\")","v":14},null,null,{"$f":"Z33+Z34+Z35+Z36+Z37+Z38+Z39+Z40+Z41+Z42+Z43+Z44+Z45+Z46+Z47+Z48+Z49+Z50+Z51+Z52","v":0},{"$f":"AA33+AA34+AA35+AA36+AA37+AA38+AA39+AA40+AA41+AA42+AA43+AA44+AA45+AA46+AA47+AA48+AA49+AA50+AA51+AA52","v":0},{"$f":"AB33+AB34+AB35+AB36+AB37+AB38+AB39+AB40+AB41+AB42+AB43+AB44+AB45+AB46+AB47+AB48+AB49+AB50+AB51+AB52","v":44},{"$f":"AC33+AC34+AC35+AC36+AC37+AC38+AC39+AC40+AC41+AC42+AC43+AC44+AC45+AC46+AC47+AC48+AC49+AC50+AC51+AC52","v":41},{"$f":"COUNTIF(AD33:AD52,\"1\")","v":17},{"$f":"COUNTIF(AE33:AE52,\"1\")","v":17},{"$f":"COUNTIF(AF33:AF52,\"2\")","v":14},null,null,null,null,null,null,null,null,null,null,null,null,"EV SAHIBI",null,null,null,"DEPLASMAN",null,null,null,null,null,null,null,null,null,null,null,null,null,null,null,null,null,null,null,null,null,null,null,null,null,null,null,null,{"$f":"BZ33+BZ34+BZ35+BZ36+BZ37+BZ38+BZ39+BZ40+BZ41+BZ42+BZ43+BZ44+BZ45+BZ46+BZ47+BZ48+BZ49+BZ50+BZ51+BZ52","v":0},{"$f":"CA33+CA34+CA35+CA36+CA37+CA38+CA39+CA40+CA41+CA42+CA43+CA44+CA45+CA46+CA47+CA48+CA49+CA50+CA51+CA52","v":0},{"$f":"CB33+CB34+CB35+CB36+CB37+CB38+CB39+CB40+CB41+CB42+CB43+CB44+CB45+CB46+CB47+CB48+CB49+CB50+CB51+CB52","v":16},{"$f":"CC33+CC34+CC35+CC36+CC37+CC38+CC39+CC40+CC41+CC42+CC43+CC44+CC45+CC46+CC47+CC48+CC49+CC50+CC51+CC52","v":5},{"$f":"COUNTIF(CD33:CD52,\"1\")","v":5},{"$f":"COUNTIF(CE33:CE52,\"1\")","v":3},{"$f":"COUNTIF(CF33:CF52,\"2\")","v":3},null,null,{"$f":"CI33+CI34+CI35+CI36+CI37+CI38+CI39+CI40+CI41+CI42+CI43+CI44+CI45+CI46+CI47+CI48+CI49+CI50+CI51+CI52","v":0},{"$f":"CJ33+CJ34+CJ35+CJ36+CJ37+CJ38+CJ39+CJ40+CJ41+CJ42+CJ43+CJ44+CJ45+CJ46+CJ47+CJ48+CJ49+CJ50+CJ51+CJ52","v":0},{"$f":"CK33+CK34+CK35+CK36+CK37+CK38+CK39+CK40+CK41+CK42+CK43+CK44+CK45+CK46+CK47+CK48+CK49+CK50+CK51+CK52","v":7},{"$f":"CL33+CL34+CL35+CL36+CL37+CL38+CL39+CL40+CL41+CL42+CL43+CL44+CL45+CL46+CL47+CL48+CL49+CL50+CL51+CL52","v":13},{"$f":"COUNTIF(CM33:CM52,\"1\")","v":3},{"$f":"COUNTIF(CN33:CN52,\"1\")","v":4},{"$f":"COUNTIF(CO33:CO52,\"2\")","v":2},null,null,null,null,null,null,null,null,null,null,null,null,"EV SAHIBI",null,null,null,"DEPLASMAN",null,null,null,null,null,null,null,null,null,null,null,null,null,null,null,null,null,null,null,null,null,null,null,null,null,null,null,null,{"$f":"EI33+EI34+EI35+EI36+EI37+EI38+EI39+EI40+EI41+EI42+EI43+EI44+EI45+EI46+EI47+EI48+EI49+EI50+EI51+EI52","v":0},{"$f":"EJ33+EJ34+EJ35+EJ36+EJ37+EJ38+EJ39+EJ40+EJ41+EJ42+EJ43+EJ44+EJ45+EJ46+EJ47+EJ48+EJ49+EJ50+EJ51+EJ52","v":0},{"$f":"EK33+EK34+EK35+EK36+EK37+EK38+EK39+EK40+EK41+EK42+EK43+EK44+EK45+EK46+EK47+EK48+EK49+EK50+EK51+EK52","v":10},{"$f":"EL33+EL34+EL35+EL36+EL37+EL38+EL39+EL40+EL41+EL42+EL43+EL44+EL45+EL46+EL47+EL48+EL49+EL50+EL51+EL52","v":6},{"$f":"COUNTIF(EM33:EM52,\"1\")","v":4},{"$f":"COUNTIF(EN33:EN52,\"1\")","v":3},{"$f":"COUNTIF(EO33:EO52,\"2\")","v":2},null,null,{"$f":"ER33+ER34+ER35+ER36+ER37+ER38+ER39+ER40+ER41+ER42+ER43+ER44+ER45+ER46+ER47+ER48+ER49+ER50+ER51+ER52","v":0},{"$f":"ES33+ES34+ES35+ES36+ES37+ES38+ES39+ES40+ES41+ES42+ES43+ES44+ES45+ES46+ES47+ES48+ES49+ES50+ES51+ES52","v":0},{"$f":"ET33+ET34+ET35+ET36+ET37+ET38+ET39+ET40+ET41+ET42+ET43+ET44+ET45+ET46+ET47+ET48+ET49+ET50+ET51+ET52","v":6},{"$f":"EU33+EU34+EU35+EU36+EU37+EU38+EU39+EU40+EU41+EU42+EU43+EU44+EU45+EU46+EU47+EU48+EU49+EU50+EU51+EU52","v":10},{"$f":"COUNTIF(EV33:EV52,\"1\")","v":3},{"$f":"COUNTIF(EW33:EW52,\"1\")","v":4},{"$f":"COUNTIF(EX33:EX52,\"2\")","v":2},null,null,null,null,null,null,null,null,null,null,null,null,"EV SAHIBI",null,null,null,"DEPLASMAN",null,null,null,null,null,null,null,null,null,null,null,null,null,null,null,"EV SAHIBI",null,null,null,"DEPLASMAN"]
[null,null,null,null,null,null,null,null,null,null,null,null,null,null,null,null,null,null,null,null,null,null,null,null,null,null,null,null,null,null,null,null,null,null,null,null,null,null,null,null,null,null,null,null,{"$f":"AN29","v":3},{"$f":"AS54/20","v":0.15},"0-1 GOL",null,{"$f":"AN36","v":2},{"$f":"AW54/20","v":0.1},"0-1 GOL",null,null,null,null,null,null,null,null,null,null,null,null,null,null,null,null,null,null,null,null,null,null,null,null,null,null,null,null,null,null,null,null,null,null,null,null,null,null,null,null,null,null,null,null,null,null,null,null,null,null,null,null,null,null,{"$f":"CW29","v":0},{"$f":"DB54/5","v":0},"0-1 GOL",null,{"$f":"CW36","v":0},{"$f":"DF54/20","v":0},"0-1 GOL",null,null,null,null,null,null,null,null,null,null,null,null,null,null,null,null,null,null,null,null,null,null,null,null,null,null,null,null,null,null,null,null,null,null,null,null,null,null,null,null,null,null,null,null,null,null,null,null,null,null,null,null,null,null,{"$f":"FF29","v":2},{"$f":"FK54/5","v":0.4},"0-1 GOL",null,{"$f":"FF36","v":2},{"$f":"FO54/5","v":0.4},"0-1 GOL",null,null,null,null,null,null,null,null,null,null,null,null,null,null,{"$f":"(AT54+DC54+FL54)/3","v":0.18333333333333335},"0-1 GOL",null,null,{"$f":"(AX54+DG54+FP54)/3","v":0.16666666666666666},"0-1 GOL",null,{"$f":"AVERAGE(GF54:GJ54)","v":0.17499999999999999}]
[null,null,null,null,null,null,null,null,null,null,null,null,null,null,null,null,null,null,null,null,null,null,null,null,null,null,null,null,null,null,null,null,null,null,null,null,null,null,null,null,null,null,null,null,{"$f":"AN30","v":11},{"$f":"AS55/20","v":0.55000000000000004},"2-3 GOL",null,{"$f":"AN37","v":5},{"$f":"AW55/20","v":0.25},"2-3 GOL",null,null,null,null,null,null,null,null,null,null,null,null,null,null,null,null,null,null,null,null,null,null,null,null,null,null,null,null,null,null,null,null,null,null,null,null,null,null,null,null,null,null,null,null,null,null,null,null,null,null,null,null,null,null,{"$f":"CW30","v":3},{"$f":"DB55/5","v":0.6},"2-3 GOL",null,{"$f":"CW37","v":2},{"$f":"DF55/5","v":0.4},"2-3 GOL",null,null,null,null,null,null,null,null,null,null,null,null,null,null,null,null,null,null,null,null,null,null,null,null,null,null,null,null,null,null,null,null,null,null,null,null,null,null,null,null,null,null,null,null,null,null,null,null,null,null,null,null,null,null,{"$f":"FF30","v":1},{"$f":"FK55/5","v":0.2},"2-3 GOL",null,{"$f":"FF37","v":1},{"$f":"FO55/5","v":0.2},"2-3 GOL",null,null,null,null,null,null,null,null,null,null,null,null,null,null,{"$f":"(AT55+DC55+FL55)/3","v":0.44999999999999996},"2-3 GOL",null,null,{"$f":"(AX55+DG55+FP55)/3","v":0.28333333333333338},"2-3 GOL",null,{"$f":"AVERAGE(GF55:GJ55)","v":0.3666666666666667}]
[null,null,null,null,null,null,null,null,null,null,"SKOR TAHMINI",null,null,null,null,null,null,null,null,null,null,null,null,null,null,null,null,null,null,null,null,null,null,null,null,null,null,null,null,null,null,null,null,null,{"$f":"AN31","v":5},0.25,"4-6 GOL",null,{"$f":"AN38","v":10},0.5,"4-6 GOL",null,null,null,null,null,null,null,null,null,null,null,null,null,null,null,null,null,null,null,null,"SKOR TAHMINI",null,null,null,null,null,null,null,null,null,null,null,null,null,null,null,null,null,null,null,null,null,null,null,null,null,null,null,null,null,null,null,null,null,{"$f":"CW31","v":1},{"$f":"DB56/5","v":0.2},"4-6 GOL",null,{"$f":"CW38","v":3},{"$f":"DF56/5","v":0.6},"4-6 GOL",null,null,null,null,null,null,null,null,null,null,null,null,null,null,null,null,null,null,null,null,"SKOR TAHMINI",null,null,null,null,null,null,null,null,null,null,null,null,null,null,null,null,null,null,null,null,null,null,null,null,null,null,null,null,null,null,null,null,null,{"$f":"FF31","v":1},{"$f":"FK56/5","v":0.2},"4-6 GOL",null,{"$f":"FF38","v":1},{"$f":"FO56/5","v":0.2},"4-6 GOL",null,null,null,null,null,null,null,null,null,null,null,null,null,null,0.21666666666666667,"4-6 GOL",null,null,0.43333333333333335,"4-6 GOL",null,0.32500000000000001]
[null,null,null,null,null,null,null,null,null,null,"IY",null,"MS",null,null,null,null,null,null,null,null,null,null,null,null,null,null,null,null,null,null,null,null,null,null,null,null,null,null,null,null,null,null,null,{"$f":"AN32","v":1},0.05,"7+ GOL",null,{"$f":"AN39","v":3},0.15,"7+ GOL",null,null,null,null,null,null,null,null,null,null,null,null,null,null,null,null,null,null,null,null,"IY",null,"MS",null,null,null,null,null,null,null,null,null,null,null,null,null,null,null,null,null,null,null,null,null,null,null,null,null,null,null,null,null,null,null,{"$f":"CW32","v":1},{"$f":"DB57/5","v":0.2},"7+ GOL",null,{"$f":"CW39","v":0},{"$f":"DF57/5","v":0},"7+ GOL",null,null,null,null,null,null,null,null,null,null,null,null,null,null,null,null,null,null,null,null,"IY",null,"MS",null,null,null,null,null,null,null,null,null,null,null,null,null,null,null,null,null,null,null,null,null,null,null,null,null,null,null,null,null,null,null,{"$f":"FF32","v":1},{"$f":"FK57/5","v":0.2},"7+ GOL",null,{"$f":"FF39","v":1},{"$f":"FO57/5","v":0.2},"7+ GOL",null,null,null,null,null,null,null,null,null,null,null,null,null,null,{"$f":"(AT57+DC57+FL57)/3","v":0.15},"7+ GOL",null,null,0.11666666666666665,"7+ GOL",null,{"$f":"AVERAGE(GF57:GJ57)","v":0.13333333333333333}]
[null,null,null,null,null,null,null,null,null,null,{"$f":"(K25+L51)/2","v":0.82499999999999996},{"$f":"(L25+K51)/2","v":0.75},{"$f":"(M25+N51)/2","v":1.7749999999999999},{"$f":"(N25+M51)/2","v":1.8250000000000002},null,null,null,null,null,null,null,null,null,null,null,null,null,null,null,null,null,null,null,null,null,null,null,null,null,null,null,null,null,null,null,null,null,null,null,null,null,null,null,null,null,null,null,null,null,null,null,null,null,null,null,null,null,null,null,null,null,{"$f":"(BT25+BU51)/2","v":1.4},{"$f":"(BU25+BT51)/2","v":0.60000000000000009},{"$f":"(BV25+BW51)/2","v":2.9000000000000004},{"$f":"(BW25+BV51)/2","v":1.2},null,null,null,null,null,null,null,null,null,null,null,null,null,null,null,null,null,null,null,null,null,null,null,null,null,null,null,null,null,null,null,null,null,null,null,null,null,null,null,null,null,null,null,null,null,null,null,null,null,null,null,null,null,null,null,null,null,{"$f":"(EC25+ED51)/2","v":0.8},{"$f":"(ED25+EC51)/2","v":0.4},{"$f":"(EE25+EF51)/2","v":2},{"$f":"(EF25+EE51)/2","v":1.2}]
[null,null,null,null,null,null,null,null,null,null,{"$f":"AVERAGEA(K58)","v":0.82499999999999996},{"$f":"AVERAGEA(L58)","v":0.75},1.7749999999999999,1.8250000000000002,null,null,null,null,null,null,null,null,null,null,null,null,null,null,null,null,null,null,null,null,null,null,null,null,null,null,null,null,null,null,null,null,null,null,null,null,null,null,null,null,null,null,null,null,null,null,null,null,null,null,null,null,null,null,null,null,null,{"$f":"AVERAGEA(BT58)","v":1.4},{"$f":"AVERAGEA(BU58)","v":0.60000000000000009},2.9000000000000004,1.2,null,null,null,null,null,null,null,null,null,null,null,null,null,null,null,null,null,null,null,null,null,null,null,null,null,null,null,null,null,null,null,null,null,null,null,null,null,null,null,null,null,null,null,null,null,null,null,null,null,null,null,null,null,null,null,null,null,{"$f":"AVERAGEA(EC58)","v":0.8},{"$f":"AVERAGEA(ED58)","v":0.4},2,1.2]
[]
[null,null,null,null,null,null,null,null,null,null,null,null,null,null,null,null,null,null,null,null,null,null,null,null,null,null,null,null,null,null,null,null,null,null,null,null,null,null,null,null,null,null,null,null,{"$f":"MAX(AT54:AT57)","v":0.55000000000000004},{"$f":"VLOOKUP(AS61,AT54:AU57,2,FALSE)","v":"2-3 GOL"},null,null,{"$f":"MAX(AX54:AX57)","v":0.5},{"$f":"VLOOKUP(AW61,AX54:AY57,2,FALSE)","v":"4-6 GOL"},null,"KG TAHMIN",null,{"$f":"AVERAGE(AS61:AW61)","v":0.52500000000000002},null,null,null,null,null,null,null,null,null,null,null,null,null,null,null,null,null,null,null,null,null,null,null,null,null,null,null,null,null,null,null,null,null,null,null,null,null,null,null,null,null,null,null,null,null,null,null,null,null,null,null,{"$f":"MAX(DC54:DC57)","v":0.6},{"$f":"VLOOKUP(DB61,DC54:DD57,2,FALSE)","v":"2-3 GOL"},null,null,{"$f":"MAX(DG54:DG57)","v":0.6},{"$f":"VLOOKUP(DF61,DG54:DH57,2,FALSE)","v":"4-6 GOL"},null,"KG TAHMIN",null,{"$f":"AVERAGE(DB61:DF61)","v":0.6},null,null,null,null,null,null,null,null,null,null,null,null,null,null,null,null,null,null,null,null,null,null,null,null,null,null,null,null,null,null,null,null,null,null,null,null,null,null,null,null,null,null,null,null,null,null,null,null,null,null,null,{"$f":"MAX(FL54:FL57)","v":0.4},{"$f":"VLOOKUP(FK61,FL54:FM57,2,FALSE)","v":"0-1 GOL"},null,null,{"$f":"MAX(FP54:FP57)","v":0.4},{"$f":"VLOOKUP(FO61,FP54:FQ57,2,FALSE)","v":"0-1 GOL"},null,"KG TAHMIN",null,{"$f":"AVERAGE(FK61:FO61)","v":0.4},null,null,null,null,null,null,null,null,null,null,{"$f":"MAX(GF54:GF57)","v":0.44999999999999996},{"$f":"VLOOKUP(GE61,GF54:GG57,2,FALSE)","v":"2-3 GOL"},null,null,{"$f":"MAX(GJ54:GJ57)","v":0.43333333333333335},{"$f":"VLOOKUP(GI61,GJ54:GK57,2,FALSE)","v":"4-6 GOL"},null,"KG TAHMIN",null,{"$f":"AVERAGE(GE61:GI61)","v":0.44166666666666665}]
[null,null,null,null,null,null,null,null,null,null,null,null,null,null,null,null,null,null,null,null,null,null,null,null,null,null,null,null,null,null,null,null,null,null,null,null,null,null,null,null,null,null,null,null,null,null,null,null,null,null,null,{"$f":"IF(AT61=AX61,AX61,\"RISKLI\")","v":"RISKLI"},{"$f":"IF(AT61=AX61,BB61,\"RISKLI\")","v":"RISKLI"},null,null,null,null,null,null,null,null,null,null,null,null,null,null,null,null,null,null,null,null,null,null,null,null,null,null,null,null,null,null,null,null,null,null,null,null,null,null,null,null,null,null,null,null,null,null,null,null,null,null,null,null,null,null,null,null,null,null,null,{"$f":"IF(DC61=DG61,DG61,\"RISKLI\")","v":"RISKLI"},{"$f":"IF(DC61=DG61,DK61,\"RISKLI\")","v":"RISKLI"},null,null,null,null,null,null,null,null,null,null,null,null,null,null,null,null,null,null,null,null,null,null,null,null,null,null,null,null,null,null,null,null,null,null,null,null,null,null,null,null,null,null,null,null,null,null,null,null,null,null,null,null,null,null,null,null,null,null,null,{"$f":"IF(FL61=FP61,FP61,\"RISKLI\")","v":"0-1 GOL"},{"$f":"IF(FL61=FP61,FT61,\"RISKLI\")","v":0.4},null,null,null,null,null,null,null,null,null,null,null,null,null,null,null,null,null,null,{"$f":"IF(GF61=GJ61,GJ61,\"RISKLI\")","v":"RISKLI"},{"$f":"IF(GF61=GJ61,GN61,\"RISKLI\")","v":"RISKLI"}]
[]
[]
[]
[null,null,null,null,"EV SAHIBI MAC SONU",null,null,null,null,null,"DEPLASMAN MAC SONU",null,null,null,null,null,null,null,null,null,null,null,null,null,null,null,null,null,null,null,null,null,null,null,null,null,null,null,null,null,null,null,null,null,null,null,null,null,null,null,null,null,null,null,null,null,null,null,null,null,null,null,null,null,null,"EV SAHIBI MAC SONU",null,null,null,null,null,"DEPLASMAN MAC SONU",null,null,null,null,null,null,null,null,null,null,null,null,null,null,null,null,null,null,null,null,null,null,null,null,null,null,null,null,null,null,null,null,null,null,null,null,null,null,null,null,null,null,null,null,null,null,null,null,null,null,null,null,null,null,"EV SAHIBI MAC SONU",null,null,null,null,null,"DEPLASMAN MAC SONU",null,null,null,null,null,null,null,null,null,null,null,null,null,null,null,null,null,null,null,null,null,null,null,null,null,null,null,null,null,null,null,null,null,null,null,null,null,null,null,null,null,null,null,null,null,null,null,null,null,null,null,null,null,null,{"$f":"GF10","v":0.66666666666666663},{"$f":"GG10","v":"2,5 UST"},null,null,{"$f":"GJ10","v":0.79999999999999993},{"$f":"GK10","v":"2,5 UST"}]
[null,null,null,null,null,null,"1","X","2",null,null,null,"1","X","2",null,null,null,null,null,null,null,null,null,null,null,null,null,null,null,null,null,null,null,null,null,null,null,null,null,null,null,null,null,null,null,null,null,null,null,null,null,null,null,null,null,null,null,null,null,null,null,null,null,null,null,null,"1","X","2",null,null,null,"1","X","2",null,null,null,null,null,null,null,null,null,null,null,null,null,null,null,null,null,null,null,null,null,null,null,null,null,null,null,null,null,null,null,null,null,null,null,null,null,null,null,null,null,null,null,null,null,null,null,null,null,null,null,null,"1","X","2",null,null,null,"1","X","2",null,null,null,null,null,null,null,null,null,null,null,null,null,null,null,null,null,null,null,null,null,null,null,null,null,null,null,null,null,null,null,null,null,null,null,null,null,null,null,null,null,null,null,null,null,null,null,null,null,null,{"$f":"GF11","v":0.33333333333333331},{"$f":"GG11","v":"2,5 ALT"},null,null,{"$f":"GJ11","v":0.20000000000000004},{"$f":"GK11","v":"2,5 ALT"}]
[null,null,null,null,{"$f":"M4","v":"3"},{"$f":"N4","v":"2"},{"$f":"IF(E68>F68,\"1\",\"0\")","v":"1"},{"$f":"IF(E68=F68,\"1\",\"0\")","v":"0"},{"$f":"IF(F68>E68,\"1\",\"0\")","v":"0"},null,{"$f":"M30","v":"4"},{"$f":"N30","v":0},{"$f":"IF(K68>L68,\"1\",\"0\")","v":"1"},{"$f":"IF(K68=L68,\"1\",\"0\")","v":"0"},{"$f":"IF(L68>K68,\"1\",\"0\")","v":"0"},null,null,null,null,null,null,null,null,null,null,null,null,null,null,null,null,null,null,null,null,null,null,null,null,null,null,null,null,null,null,null,null,null,null,null,null,null,null,null,null,null,null,null,null,null,null,null,null,null,null,{"$f":"BV4","v":"3"},{"$f":"BW4","v":"2"},{"$f":"IF(BN68>BO68,\"1\",\"0\")","v":"1"},{"$f":"IF(BN68=BO68,\"1\",\"0\")","v":"0"},{"$f":"IF(BO68>BN68,\"1\",\"0\")","v":"0"},null,{"$f":"BV30","v":"4"},{"$f":"BW30","v":"0"},{"$f":"IF(BT68>BU68,\"1\",\"0\")","v":"1"},{"$f":"IF(BT68=BU68,\"1\",\"0\")","v":"0"},{"$f":"IF(BU68>BT68,\"1\",\"0\")","v":"0"},null,null,null,null,null,null,null,null,null,null,null,null,null,null,null,null,null,null,null,null,null,null,null,null,null,null,null,null,null,null,null,null,null,null,null,null,null,null,null,null,null,null,null,null,null,null,null,null,null,null,{"$f":"EE4","v":"1"},{"$f":"EF4","v":"0"},{"$f":"IF(DW68>DX68,\"1\",\"0\")","v":"1"},{"$f":"IF(DW68=DX68,\"1\",\"0\")","v":"0"},{"$f":"IF(DX68>DW68,\"1\",\"0\")","v":"0"},null,{"$f":"EE30","v":"0"},{"$f":"EF30","v":"1"},{"$f":"IF(EC68>ED68,\"1\",\"0\")","v":"0"},{"$f":"IF(EC68=ED68,\"1\",\"0\")","v":"0"},{"$f":"IF(ED68>EC68,\"1\",\"0\")","v":"1"}]
[null,null,null,null,{"$f":"M5","v":"6"},"2",{"$f":"IF(E69>F69,\"1\",\"0\")","v":"1"},{"$f":"IF(E69=F69,\"1\",\"0\")","v":"0"},{"$f":"IF(F69>E69,\"1\",\"0\")","v":"0"},null,{"$f":"M31","v":"0"},"3",{"$f":"IF(K69>L69,\"1\",\"0\")","v":"0"},{"$f":"IF(K69=L69,\"1\",\"0\")","v":"0"},{"$f":"IF(L69>K69,\"1\",\"0\")","v":"1"},null,null,null,null,null,null,null,null,null,null,null,null,null,null,null,null,null,null,null,null,null,null,null,null,null,null,null,null,null,null,null,null,null,null,null,null,null,null,null,null,null,null,null,null,null,null,null,null,null,null,{"$f":"BV5","v":"6"},"2",{"$f":"IF(BN69>BO69,\"1\",\"0\")","v":"1"},{"$f":"IF(BN69=BO69,\"1\",\"0\")","v":"0"},{"$f":"IF(BO69>BN69,\"1\",\"0\")","v":"0"},null,{"$f":"BV31","v":"0"},"3",{"$f":"IF(BT69>BU69,\"1\",\"0\")","v":"0"},{"$f":"IF(BT69=BU69,\"1\",\"0\")","v":"0"},{"$f":"IF(BU69>BT69,\"1\",\"0\")","v":"1"},null,null,null,null,null,null,null,null,null,null,null,null,null,null,null,null,null,null,null,null,null,null,null,null,null,null,null,null,null,null,null,null,null,null,null,null,null,null,null,null,null,null,null,null,null,null,null,null,null,null,{"$f":"EE5","v":"6"},"1",{"$f":"IF(DW69>DX69,\"1\",\"0\")","v":"1"},{"$f":"IF(DW69=DX69,\"1\",\"0\")","v":"0"},{"$f":"IF(DX69>DW69,\"1\",\"0\")","v":"0"},null,{"$f":"EE31","v":"1"},"6",{"$f":"IF(EC69>ED69,\"1\",\"0\")","v":"0"},{"$f":"IF(EC69=ED69,\"1\",\"0\")","v":"0"},{"$f":"IF(ED69>EC69,\"1\",\"0\")","v":"1"}]
[null,null,null,null,{"$f":"M6","v":"2"},"0","1","0","0",null,{"$f":"M32","v":"0"},"6","0","0","1",null,null,null,null,null,null,null,null,null,null,null,null,null,null,null,null,null,null,null,null,null,null,null,null,null,null,null,null,null,null,null,null,null,null,null,null,null,null,null,null,null,null,null,null,null,null,null,null,null,null,{"$f":"BV6","v":"2"},"0","1","0","0",null,{"$f":"BV32","v":"0"},"6","0","0","1",null,null,null,null,null,null,null,null,null,null,null,null,null,null,null,null,null,null,null,null,null,null,null,null,null,null,null,null,null,null,null,null,null,null,null,null,null,null,null,null,null,null,null,null,null,null,null,null,null,null,{"$f":"EE6","v":"1"},"0","1","0","0",null,{"$f":"EE32","v":"0"},"1","0","0","1"]
[null,null,null,null,{"$f":"M7","v":"2"},"1","1","0","0",null,{"$f":"M33","v":"2"},"1","1","0","0",null,null,null,null,null,null,null,null,null,null,null,null,null,null,null,null,null,null,null,null,null,null,null,null,null,null,null,null,null,null,null,null,null,null,null,null,null,null,null,null,null,null,null,null,null,null,null,null,null,null,{"$f":"BV7","v":"2"},"1","1","0","0",null,{"$f":"BV33","v":"2"},"1","1","0","0",null,null,null,null,null,null,null,null,null,null,null,null,null,null,null,null,null,null,null,null,null,null,null,null,null,null,null,null,null,null,null,null,null,null,null,null,null,null,null,null,null,null,null,null,null,null,null,null,null,null,{"$f":"EE7","v":"2"},"1","1","0","0",null,{"$f":"EE33","v":"1"},"2","0","0","1",null,null,null,null,null,null,null,null,null,null,null,null,null,null,null,null,null,null,null,null,null,null,null,null,null,null,null,null,null,null,null,null,null,null,null,null,null,null,null,null,null,null,null,null,null,null,null,null,null,null,{"$f":"MAX(GF66:GF67)","v":0.66666666666666663},{"$f":"VLOOKUP(GF71,GF66:GG67,2)","v":"2,5 UST"},null,null,{"$f":"MAX(GJ66:GJ67)","v":0.79999999999999993},{"$f":"VLOOKUP(GJ71,GJ66:GK67,2)","v":"2,5 UST"},null,"2,5 UST TAHMIN",null,{"$f":"AVERAGE(GF71:GJ71)","v":0.73333333333333328}]
[null,null,null,null,{"$f":"M8","v":"3"},"0","1","0","0",null,{"$f":"M34","v":"1"},"3","0","0","1",null,null,null,null,null,null,null,null,null,null,null,null,null,null,null,null,null,null,null,null,null,null,null,null,null,null,null,null,null,null,null,"TOPLAM GOL",null,null,null,null,null,null,null,null,null,null,null,null,null,null,null,null,null,null,{"$f":"BV8","v":"3"},"0","1","0","0",null,{"$f":"BV34","v":"1"},"3","0","0","1",null,null,null,null,null,null,null,null,null,null,null,null,null,null,null,null,null,null,null,null,null,null,null,null,null,null,null,null,null,null,null,"TOPLAM GOL",null,null,null,null,null,null,null,null,null,null,null,null,null,null,null,null,null,null,{"$f":"EE8","v":"0"},"4","0","0","1",null,{"$f":"EE34","v":"4"},"0","1","0","0",null,null,null,null,null,null,null,null,null,null,null,null,null,null,null,null,null,null,null,null,null,null,null,null,null,null,null,null,null,null,null,"TOPLAM GOL",null,null,null,null,null,null,null,null,null,null,null,null,null,null,null,null,null,null,null,null,null,null,null,null,null,{"$f":"IF(GG71=GK71,GK71,\"RISKLI\")","v":"2,5 UST"},{"$f":"IF(GG71=GK71,GO71,\"RISKLI\")","v":0.73333333333333328}]
[null,null,null,null,{"$f":"M9","v":"1"},"2","0","0","1",null,{"$f":"M35","v":"2"},"1","1","0","0",null,null,null,null,null,null,null,null,null,null,null,null,null,null,null,null,null,null,null,null,null,null,null,null,null,null,null,null,null,"EV SAHIBI",null,null,null,"DEPLASMAN",null,null,null,null,null,null,null,null,null,null,null,null,null,null,null,null,null,null,null,null,null,null,null,null,null,null,null,null,null,null,null,null,null,null,null,null,null,null,null,null,null,null,null,null,null,null,null,null,null,null,null,null,null,null,null,null,"EV SAHIBI",null,null,null,"DEPLASMAN",null,null,null,null,null,null,null,null,null,null,null,null,null,null,null,null,null,null,null,null,null,null,null,null,null,null,null,null,null,null,null,null,null,null,null,null,null,null,null,null,null,null,null,null,null,null,null,null,null,null,null,null,null,null,null,null,"EV SAHIBI",null,null,null,"DEPLASMAN"]
[null,null,null,null,{"$f":"M10","v":"0"},"0","0","1","0",null,{"$f":"M36","v":"3"},"3","0","1","0",null,null,null,null,null,null,null,null,null,null,null,null,null,null,null,null,null,null,null,null,null,null,null,null,null,null,null,null,null,{"$f":"AN29","v":3},{"$f":"AS74/20","v":0.15},"0-1 GOL",null,{"$f":"AN36","v":2},{"$f":"AW74/20","v":0.1},"0-1 GOL",null,null,null,null,null,null,null,null,null,null,null,null,null,null,null,null,null,null,null,null,null,null,null,null,null,null,null,null,null,null,null,null,null,null,null,null,null,null,null,null,null,null,null,null,null,null,null,null,null,null,null,null,null,null,{"$f":"CW29","v":0},{"$f":"DB74/5","v":0},"0-1 GOL",null,{"$f":"CW36","v":0},{"$f":"DF74/5","v":0},"0-1 GOL",null,null,null,null,null,null,null,null,null,null,null,null,null,null,null,null,null,null,null,null,null,null,null,null,null,null,null,null,null,null,null,null,null,null,null,null,null,null,null,null,null,null,null,null,null,null,null,null,null,null,null,null,null,null,{"$f":"FF29","v":2},{"$f":"FK74/5","v":0.4},"0-1 GOL",null,{"$f":"FF36","v":2},{"$f":"FO74/5","v":0.4},"0-1 GOL"]
[null,null,null,null,{"$f":"M11","v":"1"},"1","0","1","0",null,{"$f":"M37","v":"1"},"1","0","1","0",null,null,null,null,null,null,null,null,null,null,null,null,null,null,null,null,null,null,null,null,null,null,null,null,null,null,null,null,null,{"$f":"AN30","v":11},{"$f":"AS75/20","v":0.55000000000000004},"2-3 GOL",null,{"$f":"AN37","v":5},{"$f":"AW75/20","v":0.25},"2-3 GOL",null,null,null,null,null,null,null,null,null,null,null,null,null,null,null,null,null,null,null,null,null,null,null,null,null,null,null,null,null,null,null,null,null,null,null,null,null,null,null,null,null,null,null,null,null,null,null,null,null,null,null,null,null,null,{"$f":"CW30","v":3},{"$f":"DB75/5","v":0.6},"2-3 GOL",null,{"$f":"CW37","v":2},{"$f":"DF75/5","v":0.4},"2-3 GOL",null,null,null,null,null,null,null,null,null,null,null,null,null,null,null,null,null,null,null,null,null,null,null,null,null,null,null,null,null,null,null,null,null,null,null,null,null,null,null,null,null,null,null,null,null,null,null,null,null,null,null,null,null,null,{"$f":"FF30","v":1},{"$f":"FK75/5","v":0.2},"2-3 GOL",null,{"$f":"FF37","v":1},{"$f":"FO75/5","v":0.2},"2-3 GOL"]
[null,null,null,null,{"$f":"M12","v":"2"},"2","0","1","0",null,{"$f":"M38","v":"2"},"4","0","0","1",null,null,null,null,null,null,null,null,null,null,null,null,null,null,null,null,null,null,null,null,null,null,null,null,null,null,null,null,null,5,0.25,"4-6 GOL",null,10,0.5,"4-6 GOL",null,null,null,null,null,null,null,null,null,null,null,null,null,null,null,null,null,null,null,null,null,null,null,null,null,null,null,null,null,null,null,null,null,null,null,null,null,null,null,null,null,null,null,null,null,null,null,null,null,null,null,null,null,null,1,{"$f":"DB76/5","v":0.2},"4-6 GOL",null,3,{"$f":"DF76/5","v":0.6},"4-6 GOL",null,null,null,null,null,null,null,null,null,null,null,null,null,null,null,null,null,null,null,null,null,null,null,null,null,null,null,null,null,null,null,null,null,null,null,null,null,null,null,null,null,null,null,null,null,null,null,null,null,null,null,null,null,null,1,{"$f":"FK76/5","v":0.2},"4-6 GOL",null,1,{"$f":"FO76/5","v":0.2},"4-6 GOL"]
[null,null,null,null,{"$f":"M13","v":"1"},"3","0","0","1",null,{"$f":"M39","v":"2"},"0","1","0","0",null,null,null,null,null,null,null,null,null,null,null,null,null,null,null,null,null,null,null,null,null,null,null,null,null,null,null,null,null,1,0.05,"7+ GOL",null,3,0.15,"7+ GOL",null,null,null,null,null,null,null,null,null,null,null,null,null,null,null,null,null,null,null,null,null,null,null,null,null,null,null,null,null,null,null,null,null,null,null,null,null,null,null,null,null,null,null,null,null,null,null,null,null,null,null,null,null,null,1,{"$f":"DB77/5","v":0.2},"7+ GOL",null,0,{"$f":"DF77/5","v":0},"7+ GOL",null,null,null,null,null,null,null,null,null,null,null,null,null,null,null,null,null,null,null,null,null,null,null,null,null,null,null,null,null,null,null,null,null,null,null,null,null,null,null,null,null,null,null,null,null,null,null,null,null,null,null,null,null,null,1,{"$f":"FK77/5","v":0.2},"7+ GOL",null,1,{"$f":"FO77/5","v":0.2},"7+ GOL",null,null,null,null,null,null,null,null,null,null,null,null,null,null,"MAC SONU",null,"50","IY SONU",null,"50"]
[null,null,null,null,{"$f":"M14","v":"2"},"1","1","0","0",null,{"$f":"M40","v":"4"},"1","1","0","0",null,null,null,null,null,null,null,null,null,null,null,null,null,null,null,null,null,null,null,null,null,null,null,null,null,null,null,null,null,null,null,null,null,null,null,null,null,null,null,null,null,null,null,null,null,null,null,null,null,null,null,null,null,null,null,null,null,null,null,null,null,null,null,null,null,null,null,null,null,null,null,null,null,null,null,null,null,null,null,null,null,null,null,null,null,null,null,null,null,null,null,null,null,null,null,null,null,null,null,null,null,null,null,null,null,null,null,null,null,null,null,null,null,null,null,null,null,null,null,null,null,null,null,null,null,null,null,null,null,null,null,null,null,null,null,null,null,null,null,null,null,null,null,null,null,null,null,null,null,null,null,null,null,null,null,null,null,null,null,null,null,null,null,null,null,null,null,null,null,null,null,null,{"$f":"GF38","v":0.65833333333333333},"1",null,{"$f":"GC38","v":0.4916666666666667},"1"]
[null,null,null,null,{"$f":"M15","v":"0"},"4","0","0","1",null,{"$f":"M41","v":"2"},"3","0","0","1",null,null,null,null,null,null,null,null,null,null,null,null,null,null,null,null,null,null,null,null,null,null,null,null,null,null,null,null,null,null,null,null,null,null,null,null,null,null,null,null,null,null,null,null,null,null,null,null,null,null,null,null,null,null,null,null,null,null,null,null,null,null,null,null,null,null,null,null,null,null,null,null,null,null,null,null,null,null,null,null,null,null,null,null,null,null,null,null,null,null,null,null,null,null,null,null,null,null,null,null,null,null,null,null,null,null,null,null,null,null,null,null,null,null,null,null,null,null,null,null,null,null,null,null,null,null,null,null,null,null,null,null,null,null,null,null,null,null,null,null,null,null,null,null,null,null,null,null,null,null,null,null,null,null,null,null,null,null,null,null,null,null,null,null,null,null,null,null,null,null,null,null,{"$f":"GF39","v":6.6666666666666666E-2},"X",null,{"$f":"GC39","v":0.16666666666666666},"X"]
[null,null,null,null,{"$f":"M16","v":"1"},"1","0","1","0",null,{"$f":"M42","v":"6"},"1","1","0","0",null,null,null,null,null,null,null,null,null,null,null,null,null,null,null,null,null,null,null,null,null,null,null,null,null,null,null,null,null,null,null,null,null,null,null,null,null,null,null,null,null,null,null,null,null,null,null,null,null,null,null,null,null,null,null,null,null,null,null,null,null,null,null,null,null,null,null,null,null,null,null,null,null,null,null,null,null,null,null,null,null,null,null,null,null,null,null,null,null,null,null,null,null,null,null,null,null,null,null,null,null,null,null,null,null,null,null,null,null,null,null,null,null,null,null,null,null,null,null,null,null,null,null,null,null,null,null,null,null,null,null,null,null,null,null,null,null,null,null,null,null,null,null,null,null,null,null,null,null,null,null,null,null,null,null,null,null,null,null,null,null,null,null,null,null,null,null,null,null,null,null,null,0.27499999999999997,"2",null,0.34166666666666662,"2"]
[null,null,null,null,{"$f":"M17","v":"1"},"0","1","0","0",null,{"$f":"M43","v":"3"},"2","1","0","0",null,null,null,null,null,null,null,null,null,null,null,null,null,null,null,null,null,null,null,null,null,null,null,null,null,null,null,null,null,{"$f":"MAX(AT74:AT77)","v":0.55000000000000004},{"$f":"VLOOKUP(AS81,AT74:AU77,2,FALSE)","v":"2-3 GOL"},null,null,{"$f":"MAX(AX74:AX77)","v":0.5},{"$f":"VLOOKUP(AW81,AX74:AY77,2,FALSE)","v":"4-6 GOL"},null,"KG TAHMIN",null,{"$f":"AVERAGE(AS81:AW81)","v":0.52500000000000002},null,null,null,null,null,null,null,null,null,null,null,null,null,null,null,null,null,null,null,null,null,null,null,null,null,null,null,null,null,null,null,null,null,null,null,null,null,null,null,null,null,null,null,null,null,null,null,null,null,null,null,{"$f":"MAX(DC74:DC77)","v":0.6},{"$f":"VLOOKUP(DB81,DC74:DD77,2,FALSE)","v":"2-3 GOL"},null,null,{"$f":"MAX(DG74:DG77)","v":0.6},{"$f":"VLOOKUP(DF81,DG74:DH77,2,FALSE)","v":"4-6 GOL"},null,"KG TAHMIN",null,{"$f":"AVERAGE(DB81:DF81)","v":0.6},null,null,null,null,null,null,null,null,null,null,null,null,null,null,null,null,null,null,null,null,null,null,null,null,null,null,null,null,null,null,null,null,null,null,null,null,null,null,null,null,null,null,null,null,null,null,null,null,null,null,null,{"$f":"MAX(FL74:FL77)","v":0.4},{"$f":"VLOOKUP(FK81,FL74:FM77,2,FALSE)","v":"0-1 GOL"},null,null,{"$f":"MAX(FP74:FP77)","v":0.4},{"$f":"VLOOKUP(FO81,FP74:FQ77,2,FALSE)","v":"0-1 GOL"},null,"KG TAHMIN",null,{"$f":"AVERAGE(FK81:FO81)","v":0.4},null,null,null,null,null,null,null,null,null,null,null,{"$f":"GJ38/2","v":0.36249999999999999},"1X",null,{"$f":"GH38/2","v":0.32916666666666666},"1X"]
[null,null,null,null,{"$f":"M18","v":"1"},"2","0","0","1",null,{"$f":"M44","v":"0"},"1","0","0","1",null,null,null,null,null,null,null,null,null,null,null,null,null,null,null,null,null,null,null,null,null,null,null,null,null,null,null,null,null,null,null,null,null,null,null,null,{"$f":"IF(AT81=AX81,AX81,\"RISKLI\")","v":"RISKLI"},{"$f":"IF(AT81=AX81,BB81,\"RISKLI\")","v":"RISKLI"},null,null,null,null,null,null,null,null,null,null,null,null,null,null,null,null,null,null,null,null,null,null,null,null,null,null,null,null,null,null,null,null,null,null,null,null,null,null,null,null,null,null,null,null,null,null,null,null,null,null,null,null,null,null,null,null,null,null,null,{"$f":"IF(DC81=DG81,DG81,\"RISKLI\")","v":"RISKLI"},{"$f":"IF(DC81=DG81,DK81,\"RISKLI\")","v":"RISKLI"},null,null,null,null,null,null,null,null,null,null,null,null,null,null,null,null,null,null,null,null,null,null,null,null,null,null,null,null,null,null,null,null,null,null,null,null,null,null,null,null,null,null,null,null,null,null,null,null,null,null,null,null,null,null,null,null,null,null,null,{"$f":"IF(FL81=FP81,FP81,\"RISKLI\")","v":"0-1 GOL"},{"$f":"IF(FL81=FP81,FT81,\"RISKLI\")","v":0.4},null,null,null,null,null,null,null,null,null,null,null,null,{"$f":"GJ39/2","v":0.17083333333333331},"X2",null,{"$f":"GH39/2","v":0.25416666666666665},"X2"]
[null,null,null,null,{"$f":"M19","v":"1"},"2","0","0","1",null,{"$f":"M45","v":"2"},"5","0","0","1",null,null,null,null,null,null,null,null,null,null,null,null,null,null,null,null,null,null,null,null,null,null,null,null,null,null,null,null,null,null,null,null,null,null,null,null,null,null,null,null,null,null,null,null,null,null,null,null,null,null,null,null,null,null,null,null,null,null,null,null,null,null,null,null,null,null,null,null,null,null,null,null,null,null,null,null,null,null,null,null,null,null,null,null,null,null,null,null,null,null,null,null,null,null,null,null,null,null,null,null,null,null,null,null,null,null,null,null,null,null,null,null,null,null,null,null,null,null,null,null,null,null,null,null,null,null,null,null,null,null,null,null,null,null,null,null,null,null,null,null,null,null,null,null,null,null,null,null,null,null,null,null,null,null,null,null,null,null,null,null,null,null,null,null,null,null,null,null,null,null,null,null,{"$f":"GJ40/2","v":0.46666666666666662},"12",null,{"$f":"GH40/2","v":0.41666666666666663},"12"]
[null,null,null,null,{"$f":"M20","v":"0"},"1","0","0","1",null,{"$f":"M46","v":"1"},"3","0","0","1",null,null,null,null,null,null,null,null,null,null,null,null,null,null,null,null,null,null,null,null,null,null,null,null,null,null,null,null,null,null,null,null,null,null,null,null,null,null,null,null,null,null,null,null,null,null,null,null,null,null,null,null,null,null,null,null,null,null,null,null,null,null,null,null,null,null,null,null,null,null,null,null,null,null,null,null,null,null,null,null,null,null,null,null,null,null,null,null,null,null,null,null,null,null,null,null,null,null,null,null,null,null,null,null,null,null,null,null,null,null,null,null,null,null,null,null,null,null,null,null,null,null,null,null,null,null,null,null,null,null,null,null,null,null,null,null,null,null,null,null,null,null,null,null,null,null,null,null,null,null,null,null,null,null,null,null,null,null,null,null,null,null,null,null,null,null,null,null,null,null,null,"MS",null,null,"IY"]
[null,null,null,null,{"$f":"M21","v":"1"},"1","0","1","0",null,{"$f":"M47","v":"1"},"0","1","0","0",null,null,null,null,null,null,null,null,null,null,null,null,null,null,null,null,null,null,null,null,null,null,null,null,null,null,null,null,null,null,null,null,null,null,null,null,null,null,null,null,null,null,null,null,null,null,null,null,null,null,null,null,null,null,null,null,null,null,null,null,null,null,null,null,null,null,null,null,null,null,null,null,null,null,null,null,null,null,null,null,null,null,null,null,null,null,null,null,null,null,null,null,null,null,null,null,null,null,null,null,null,null,null,null,null,null,null,null,null,null,null,null,null,null,null,null,null,null,null,null,null,null,null,null,null,null,null,null,null,null,null,null,null,null,null,null,null,null,null,null,null,null,null,null,null,null,null,null,null,null,null,null,null,null,null,null,null,null,null,null,null,null,null,null,null,null,null,null,null,null,null,{"$f":"MAX(GF78:GF83)","v":0.65833333333333333},{"$f":"IF(GE85>GH77,GE85,\"RISKLI\")","v":"RISKLI"},{"$f":"VLOOKUP(GE85,GF78:GG83,2,FALSE)","v":"1"},{"$f":"MAX(GI78:GI83)","v":0.4916666666666667},{"$f":"IF(GH85>GK77,GH85,\"RISKLI\")","v":"RISKLI"},{"$f":"VLOOKUP(GH85,GI78:GJ83,2,FALSE)","v":"1"}]
[null,null,null,null,{"$f":"M22","v":"1"},"3","0","0","1",null,{"$f":"M48","v":"5"},"2","1","0","0"]
[null,null,null,null,{"$f":"M23","v":"1"},"1","0","1","0",null,{"$f":"M49","v":"3"},"1","1","0","0",null,null,null,null,null,null,null,null,null,null,null,null,null,null,null,null,null,null,null,null,null,null,null,null,null,null,null,null,null,{"$f":"AS10","v":12},{"$f":"AT10","v":0.6},"2,5 UST",null,16,0.8,"2,5 UST",0.7,null,null,null,null,null,null,null,null,null,null,null,null,null,null,null,null,null,null,null,null,null,null,null,null,null,null,null,null,null,null,null,null,null,null,null,null,null,null,null,null,null,null,null,null,null,null,null,null,null,null,null,null,null,{"$f":"DB10","v":4},{"$f":"DC10","v":0.8},"2,5 UST",null,{"$f":"DF10","v":5},1,"2,5 UST",0.9,null,null,null,null,null,null,null,null,null,null,null,null,null,null,null,null,null,null,null,null,null,null,null,null,null,null,null,null,null,null,null,null,null,null,null,null,null,null,null,null,null,null,null,null,null,null,null,null,null,null,null,null,null,{"$f":"FK10","v":3},{"$f":"FL10","v":0.6},"2,5 UST",null,{"$f":"FO10","v":3},0.6,"2,5 UST",0.6]
[null,null,null,null,null,null,{"$f":"COUNTIF(G68:G87,\"1\")","v":7},{"$f":"COUNTIF(H68:H87,\"1\")","v":6},7,null,null,null,{"$f":"COUNTIF(M68:M87,\"1\")","v":10},{"$f":"COUNTIF(N68:N87,\"1\")","v":2},8,null,null,null,null,null,null,null,null,null,null,null,null,null,null,null,null,null,null,null,null,null,null,null,null,null,null,null,null,null,{"$f":"AS11","v":8},0.4,"2,5 ALT",null,4,0.2,"2,5 ALT",0.30000000000000004,null,null,null,null,null,null,null,null,null,null,null,null,null,null,null,{"$f":"COUNTIF(BP68:BP87,\"1\")","v":5},{"$f":"COUNTIF(BQ68:BQ87,\"1\")","v":0},0,null,null,null,{"$f":"COUNTIF(BV68:BV87,\"1\")","v":2},{"$f":"COUNTIF(BW68:BW87,\"1\")","v":0},3,null,null,null,null,null,null,null,null,null,null,null,null,null,null,null,null,null,null,null,null,null,null,null,null,null,null,null,null,null,{"$f":"DB11","v":1},{"$f":"DC11","v":0.2},"2,5 ALT",null,{"$f":"DF11","v":0},0,"2,5 ALT",0.1,null,null,null,null,null,null,null,null,null,null,null,null,null,null,null,{"$f":"COUNTIF(DY68:DY87,\"1\")","v":4},{"$f":"COUNTIF(DZ68:DZ87,\"1\")","v":0},1,null,null,null,{"$f":"COUNTIF(EE68:EE87,\"1\")","v":1},{"$f":"COUNTIF(EF68:EF87,\"1\")","v":0},4,null,null,null,null,null,null,null,null,null,null,null,null,null,null,null,null,null,null,null,null,null,null,null,null,null,null,null,null,null,{"$f":"FK11","v":2},{"$f":"FL11","v":0.4},"2,5 ALT",null,{"$f":"FO11","v":2},0.4,"2,5 ALT",0.4]
[]
[null,null,null,null,null,null,{"$f":"G88/20","v":0.35},{"$f":"H88/20","v":0.3},0.35,null,null,null,{"$f":"M88/20","v":0.5},{"$f":"N88/20","v":0.1},0.4,null,null,null,null,null,null,null,null,null,null,null,null,null,null,null,null,null,null,null,null,null,null,null,null,null,null,null,null,null,null,null,null,null,null,null,null,null,null,null,null,null,null,null,null,null,null,null,null,null,null,null,null,{"$f":"BP88/5","v":1},{"$f":"BQ88/5","v":0},{"$f":"BR88/5","v":0},null,null,null,{"$f":"BV88/5","v":0.4},{"$f":"BW88/5","v":0},{"$f":"BX88/5","v":0.6},null,null,null,null,null,null,null,null,null,null,null,null,null,null,null,null,null,null,null,null,null,null,null,null,null,null,null,null,null,null,null,null,null,null,null,null,null,null,null,null,null,null,null,null,null,null,null,null,null,null,null,null,{"$f":"DY88/5","v":0.8},{"$f":"DZ88/5","v":0},{"$f":"EA88/5","v":0.2},null,null,null,{"$f":"EE88/5","v":0.2},{"$f":"EF88/5","v":0},{"$f":"EG88/5","v":0.8}]
[]
[null,null,null,null,null,null,null,null,null,null,null,null,null,null,null,null,null,null,null,null,null,null,null,null,null,null,null,null,null,null,null,null,null,null,null,null,null,null,null,null,null,null,null,null,null,{"$f":"MAX(AT87:AT88)","v":0.6},{"$f":"VLOOKUP(AT92,AT87:AU88,2)","v":"2,5 UST"},null,null,{"$f":"MAX(AX87:AX88)","v":0.8},{"$f":"VLOOKUP(AX92,AX87:AY88,2)","v":"2,5 UST"},null,"2,5 UST TAHMIN",null,{"$f":"AVERAGE(AT92:AX92)","v":0.7},null,null,null,null,null,null,null,null,null,null,null,null,null,null,null,null,null,null,null,null,null,null,null,null,null,null,null,null,null,null,null,null,null,null,null,null,null,null,null,null,null,null,null,null,null,null,null,null,null,null,null,{"$f":"MAX(DC87:DC88)","v":0.8},{"$f":"VLOOKUP(DC92,DC87:DD88,2)","v":"2,5 UST"},null,null,{"$f":"MAX(DG87:DG88)","v":1},{"$f":"VLOOKUP(DG92,DG87:DH88,2)","v":"2,5 UST"},null,"2,5 UST TAHMIN",null,{"$f":"AVERAGE(DC92:DG92)","v":0.9},null,null,null,null,null,null,null,null,null,null,null,null,null,null,null,null,null,null,null,null,null,null,null,null,null,null,null,null,null,null,null,null,null,null,null,null,null,null,null,null,null,null,null,null,null,null,null,null,null,null,null,{"$f":"MAX(FL87:FL88)","v":0.6},{"$f":"VLOOKUP(FL92,FL87:FM88,2)","v":"2,5 UST"},null,null,{"$f":"MAX(FP87:FP88)","v":0.6},{"$f":"VLOOKUP(FP92,FP87:FQ88,2)","v":"2,5 UST"},null,"2,5 UST TAHMIN",null,{"$f":"AVERAGE(FL92:FP92)","v":0.6}]
[null,null,null,null,null,"1",{"$f":"(G90+O90)/2","v":0.375},null,null,"1X",{"$f":"(G93+G94)","v":0.57499999999999996},null,null,null,null,null,null,null,null,null,null,null,null,null,null,null,null,null,null,null,null,null,null,null,null,null,null,null,null,null,null,null,null,null,null,null,null,null,null,null,null,null,{"$f":"IF(AU92=AY92,AY92,\"RISKLI\")","v":"2,5 UST"},{"$f":"IF(AU92=AY92,BC92,\"RISKLI\")","v":0.7},null,null,null,null,null,null,null,null,null,null,null,null,"1",{"$f":"(BP90+BX90)/2","v":0.8},null,null,"1X",{"$f":"(BP93+BP94)","v":0.8},null,null,null,null,null,null,null,null,null,null,null,null,null,null,null,null,null,null,null,null,null,null,null,null,null,null,null,null,null,null,null,null,null,null,null,null,null,null,null,null,null,{"$f":"IF(DD92=DH92,DH92,\"RISKLI\")","v":"2,5 UST"},{"$f":"IF(DD92=DH92,DL92,\"RISKLI\")","v":0.9},null,null,null,null,null,null,null,null,null,null,null,null,"1",{"$f":"(DY90+EG90)/2","v":0.8},null,null,"1X",{"$f":"(DY93+DY94)","v":0.8},null,null,null,null,null,null,null,null,null,null,null,null,null,null,null,null,null,null,null,null,null,null,null,null,null,null,null,null,null,null,null,null,null,null,null,null,null,null,null,null,null,{"$f":"IF(FM92=FQ92,FQ92,\"RISKLI\")","v":"2,5 UST"},{"$f":"IF(FM92=FQ92,FU92,\"RISKLI\")","v":0.6}]
[null,null,null,null,null,"X",{"$f":"(H90+N90)/2","v":0.2},null,null,"X2",{"$f":"(G94+G95)","v":0.625},null,null,null,null,null,null,null,null,null,null,null,null,null,null,null,null,null,null,null,null,null,null,null,null,null,null,null,null,null,null,null,null,null,null,null,null,null,null,null,null,null,null,null,null,null,null,null,null,null,null,null,null,null,null,null,"X",{"$f":"(BQ90+BW90)/2","v":0},null,null,"X2",{"$f":"(BP94+BP95)","v":0.2},null,null,null,null,null,null,null,null,null,null,null,null,null,null,null,null,null,null,null,null,null,null,null,null,null,null,null,null,null,null,null,null,null,null,null,null,null,null,null,null,null,null,null,null,null,null,null,null,null,null,null,null,null,null,null,"X",{"$f":"(DZ90+EF90)/2","v":0},null,null,"X2",{"$f":"(DY94+DY95)","v":0.2}]
[null,null,null,null,null,"2",{"$f":"(I90+M90)/2","v":0.42499999999999999},null,null,"12",{"$f":"(G93+G95)","v":0.8},null,null,null,null,null,null,null,null,null,null,null,null,null,null,null,null,null,null,null,null,null,null,null,null,null,null,null,null,null,null,null,null,null,null,null,null,null,null,null,null,null,null,null,null,null,null,null,null,null,null,null,null,null,null,null,"2",{"$f":"(BR90+BV90)/2","v":0.2},null,null,"12",{"$f":"(BP93+BP95)","v":1},null,null,null,null,null,null,null,null,null,null,null,null,null,null,null,null,null,null,null,null,null,null,null,null,null,null,null,null,null,null,null,null,null,null,null,null,null,null,null,null,null,null,null,null,null,null,null,null,null,null,null,null,null,null,null,"2",{"$f":"(EA90+EE90)/2","v":0.2},null,null,"12",{"$f":"(DY93+DY95)","v":1}]
[]
[]
[null,null,null,null,null,null,null,null,null,null,null,null,null,null,null,null,null,null,null,null,null,null,null,null,null,null,null,null,null,null,null,null,null,null,null,null,null,null,null,null,null,null,null,null,null,null,null,null,null,null,null,null,null,null,null,null,null,null,null,null,null,null,null,null,null,null,null,null,null,null,null,null,null,null,null,null,null,null,null,null,null,null,null,null,null,null,null,null,null,null,null,null,null,null,null,null,null,null,null,null,null,null,null,null,null,null,null,null,null,null,null,null,null,null,null,null,null,null,null,null,null,"5"]
[null,null,null,null,"EV SAHIBI ILK YARI",null,null,null,null,null,"DEPLASMAN ILK YARI",null,null,null,null,null,null,null,null,null,null,null,null,null,null,null,null,null,null,null,null,null,null,null,null,null,null,null,null,null,null,null,null,null,null,null,null,null,null,null,null,null,null,null,null,null,null,null,null,null,null,null,null,null,null,"EV SAHIBI ILK YARI",null,null,null,null,null,"DEPLASMAN ILK YARI",null,null,null,null,null,null,null,null,null,null,null,null,null,null,null,null,null,null,null,null,null,null,null,null,null,null,null,null,null,null,null,null,null,null,null,null,null,null,null,null,null,null,null,null,null,null,null,null,null,null,null,null,null,null,"EV SAHIBI ILK YARI",null,null,null,null,null,"DEPLASMAN ILK YARI"]
[null,null,null,null,null,null,"1","X","2",null,null,null,"1","X","2",null,null,null,null,null,null,null,null,null,null,null,null,null,null,null,null,null,null,null,null,null,null,null,null,null,null,null,null,null,null,null,null,null,null,null,null,null,null,null,null,null,null,null,null,null,null,null,null,null,null,null,null,"1","X","2",null,null,null,"1","X","2",null,null,null,null,null,null,null,null,null,null,null,null,null,null,null,null,null,null,null,null,null,null,null,null,null,null,null,null,null,null,null,null,null,null,null,null,null,null,null,null,null,null,null,null,null,{"$f":"COUNT(DR101:DR105)","v":5},null,null,null,null,null,null,"1","X","2",null,null,null,"1","X","2"]
[null,null,null,null,{"$f":"K4+0","v":1},{"$f":"L4+0","v":0},{"$f":"IF(E101>F101,\"1\",\"0\")","v":"1"},{"$f":"IF(E101=F101,\"1\",\"0\")","v":"0"},{"$f":"IF(F101>E101,\"1\",\"0\")","v":"0"},null,{"$f":"K30","v":"2"},{"$f":"L30","v":"0"},{"$f":"IF(K101>L101,\"1\",\"0\")","v":"1"},{"$f":"IF(K101=L101,\"1\",\"0\")","v":"0"},{"$f":"IF(L101>K101,\"1\",\"0\")","v":"0"},null,null,null,null,null,null,null,null,null,null,null,null,null,null,null,null,null,null,null,null,null,null,null,null,null,null,null,null,null,null,null,null,null,null,null,null,null,null,null,null,null,null,null,null,null,null,null,null,null,null,{"$f":"BT4","v":"1"},{"$f":"BU4","v":"0"},{"$f":"IF(BN101>BO101,\"1\",\"0\")","v":"1"},{"$f":"IF(BN101=BO101,\"1\",\"0\")","v":"0"},{"$f":"IF(BO101>BN101,\"1\",\"0\")","v":"0"},null,{"$f":"BT30","v":"2"},{"$f":"BU30","v":"0"},{"$f":"IF(BT101>BU101,\"1\",\"0\")","v":"1"},{"$f":"IF(BT101=BU101,\"1\",\"0\")","v":"0"},{"$f":"IF(BU101>BT101,\"1\",\"0\")","v":"0"},null,null,null,null,null,null,null,null,null,null,null,null,null,null,null,null,null,null,null,null,null,null,null,null,null,null,null,null,null,null,null,null,null,null,null,null,null,null,null,null,null,null,null,null,null,{"$f":"IFERROR(VALUE(LEFT(DU4,FIND(\"-\",DU4,1)-1)),\"\")","v":0},{"$f":"IF(DR100>4,\"OK\",\"YETERSIZ VERI\")","v":"OK"},null,null,null,{"$f":"EC4","v":1},{"$f":"ED4","v":"0"},{"$f":"IF(DW101>DX101,\"1\",\"0\")","v":"0"},{"$f":"IF(DW101=DX101,\"1\",\"0\")","v":"0"},{"$f":"IF(DX101>DW101,\"1\",\"0\")","v":"1"},null,{"$f":"EC30","v":"0"},{"$f":"ED30","v":"1"},{"$f":"IF(EC101>ED101,\"1\",\"0\")","v":"0"},{"$f":"IF(EC101=ED101,\"1\",\"0\")","v":"0"},{"$f":"IF(ED101>EC101,\"1\",\"0\")","v":"1"}]
[null,null,null,null,{"$f":"K5+0","v":3},{"$f":"L5+0","v":1},{"$f":"IF(E102>F102,\"1\",\"0\")","v":"1"},{"$f":"IF(E102=F102,\"1\",\"0\")","v":"0"},{"$f":"IF(F102>E102,\"1\",\"0\")","v":"0"},null,{"$f":"K31","v":"0"},"1",{"$f":"IF(K102>L102,\"1\",\"0\")","v":"0"},{"$f":"IF(K102=L102,\"1\",\"0\")","v":"0"},{"$f":"IF(L102>K102,\"1\",\"0\")","v":"1"},null,null,null,null,null,null,null,null,null,null,null,null,null,null,null,null,null,null,null,null,null,null,null,null,null,null,null,null,null,null,null,null,null,null,null,null,null,null,null,null,null,null,null,null,null,null,null,null,null,null,{"$f":"BT5","v":"3"},"1",{"$f":"IF(BN102>BO102,\"1\",\"0\")","v":"1"},{"$f":"IF(BN102=BO102,\"1\",\"0\")","v":"0"},{"$f":"IF(BO102>BN102,\"1\",\"0\")","v":"0"},null,{"$f":"BT31","v":"0"},"1",{"$f":"IF(BT102>BU102,\"1\",\"0\")","v":"0"},{"$f":"IF(BT102=BU102,\"1\",\"0\")","v":"0"},{"$f":"IF(BU102>BT102,\"1\",\"0\")","v":"1"},null,null,null,null,null,null,null,null,null,null,null,null,null,null,null,null,null,null,null,null,null,null,null,null,null,null,null,null,null,null,null,null,null,null,null,null,null,null,null,null,null,null,null,null,null,{"$f":"IFERROR(VALUE(LEFT(DU5,FIND(\"-\",DU5,1)-1)),\"\")","v":2},null,null,null,null,{"$f":"EC5","v":"2"},0,{"$f":"IF(DW102>DX102,\"1\",\"0\")","v":"1"},{"$f":"IF(DW102=DX102,\"1\",\"0\")","v":"0"},{"$f":"IF(DX102>DW102,\"1\",\"0\")","v":"0"},null,{"$f":"EC31","v":"0"},"2",{"$f":"IF(EC102>ED102,\"1\",\"0\")","v":"0"},{"$f":"IF(EC102=ED102,\"1\",\"0\")","v":"0"},{"$f":"IF(ED102>EC102,\"1\",\"0\")","v":"1"}]
[null,null,null,null,0,0,"0",{"$f":"IF(E103=F103,\"1\",\"0\")","v":"1"},"0",null,{"$f":"K32","v":"0"},"3","0","0","1",null,null,null,null,null,null,null,null,null,null,null,null,null,null,null,null,null,null,null,null,null,null,null,null,null,null,null,null,null,null,null,null,null,null,null,null,null,null,null,null,null,null,null,null,null,null,null,null,null,null,{"$f":"BT6","v":"0"},"0","0","1","0",null,{"$f":"BT32","v":"0"},"3","0","0","1",null,null,null,null,null,null,null,null,null,null,null,null,null,null,null,null,null,null,null,null,null,null,null,null,null,null,null,null,null,null,null,null,null,null,null,null,null,null,null,null,null,null,null,null,null,0,null,null,null,null,{"$f":"EC6","v":"0"},0,"1","0","0",null,{"$f":"EC32","v":"0"},"0","0","1","0"]
[null,null,null,null,0,1,"0","0","1",null,{"$f":"K33","v":"2"},"1","1","0","0",null,null,null,null,null,null,null,null,null,null,null,null,null,null,null,null,null,null,null,null,null,null,null,null,null,null,null,null,null,null,null,null,null,null,null,null,null,null,null,null,null,null,null,null,null,null,null,null,null,null,{"$f":"BT7","v":"0"},"1","0","0","1",null,{"$f":"BT33","v":"2"},"1","1","0","0",null,null,null,null,null,null,null,null,null,null,null,null,null,null,null,null,null,null,null,null,null,null,null,null,null,null,null,null,null,null,null,null,null,null,null,null,null,null,null,null,null,null,null,null,null,0,null,null,null,null,{"$f":"EC7","v":1},"0","0","0","1",null,{"$f":"EC33","v":"0"},"1","0","0","1"]
[null,null,null,null,3,0,{"$f":"IF(E105>F105,\"1\",\"0\")","v":"1"},"0","0",null,{"$f":"K34","v":"0"},"2","0","0","1",null,null,null,null,null,null,null,null,null,null,null,null,null,null,null,null,null,null,null,null,null,null,null,null,null,null,null,null,null,null,null,null,null,null,null,null,null,null,null,null,null,null,null,null,null,null,null,null,null,null,{"$f":"BT8","v":"3"},"0",{"$f":"IF(BN105>BO105,\"1\",\"0\")","v":"1"},"0","0",null,{"$f":"BT34","v":"0"},"2","0","0","1",null,null,null,null,null,null,null,null,null,null,null,null,null,null,null,null,null,null,null,null,null,null,null,null,null,null,null,null,null,null,null,null,null,null,null,null,null,null,null,null,null,null,null,null,null,2,null,null,null,null,{"$f":"EC8","v":0},"2",{"$f":"IF(DW105>DX105,\"1\",\"0\")","v":"0"},"0","1",null,{"$f":"EC34","v":"2"},"0","1","0","0"]
[null,null,null,null,1,2,"0","0","1",null,{"$f":"K35","v":"0"},"1","0","0","1"]
[null,null,null,null,0,0,"0","1","0",null,{"$f":"K36","v":"2"},"2","0","1","0"]
[null,null,null,null,1,0,"1","0","0",null,{"$f":"K37","v":"0"},"1","0","0","1"]
[null,null,null,null,0,2,"0","0","1",null,{"$f":"K38","v":"0"},"2","0","0","1"]
[null,null,null,null,1,0,"1","0","0",null,{"$f":"K39","v":"0"},"0","0","1","0"]
[null,null,null,null,1,0,"1","0","0",null,{"$f":"K40","v":"2"},"1","1","0","0"]
[null,null,null,null,0,3,"0","0","1",null,{"$f":"K41","v":"1"},"0","1","0","0"]
[null,null,null,null,0,0,"0","1","0",null,{"$f":"K42","v":"3"},"0","1","0","0"]
[null,null,null,null,1,0,"1","0","0",null,{"$f":"K43","v":"0"},"2","0","0","1"]
[null,null,null,null,1,1,"0","1","0",null,{"$f":"K44","v":"0"},"0","0","1","0"]
[null,null,null,null,1,0,"1","0","0",null,{"$f":"K45","v":"1"},"1","0","1","0"]
[null,null,null,null,0,0,"0","1","0",null,{"$f":"K46","v":"1"},"1","0","1","0"]
[null,null,null,null,0,0,"0","1","0",null,{"$f":"K47","v":"1"},"0","1","0","0"]
[null,null,null,null,0,2,"0","0","1",null,{"$f":"K48","v":"2"},"1","1","0","0"]
[null,null,null,null,0,1,"0","0","1",null,{"$f":"K49","v":"0"},"0","0","1","0"]
[null,null,null,null,null,null,{"$f":"COUNTIF(G101:G120,\"1\")","v":8},{"$f":"COUNTIF(H101:H120,\"1\")","v":6},6,null,null,null,{"$f":"COUNTIF(M101:M120,\"1\")","v":7},{"$f":"COUNTIF(N101:N120,\"1\")","v":6},7,null,null,null,null,null,null,null,null,null,null,null,null,null,null,null,null,null,null,null,null,null,null,null,null,null,null,null,null,null,null,null,null,null,null,null,null,null,null,null,null,null,null,null,null,null,null,null,null,null,null,null,null,{"$f":"COUNTIF(BP101:BP120,\"1\")","v":3},{"$f":"COUNTIF(BQ101:BQ120,\"1\")","v":1},1,null,null,null,{"$f":"COUNTIF(BV101:BV120,\"1\")","v":2},{"$f":"COUNTIF(BW101:BW120,\"1\")","v":0},3,null,null,null,null,null,null,null,null,null,null,null,null,null,null,null,null,null,null,null,null,null,null,null,null,null,null,null,null,null,null,null,null,null,null,null,null,null,null,null,null,null,null,null,null,null,null,null,null,null,null,null,null,{"$f":"COUNTIF(DY101:DY120,\"1\")","v":2},{"$f":"COUNTIF(DZ101:DZ120,\"1\")","v":0},3,null,null,null,{"$f":"COUNTIF(EE101:EE120,\"1\")","v":1},{"$f":"COUNTIF(EF101:EF120,\"1\")","v":1},3]
[]
[null,null,null,null,null,null,{"$f":"G121/20","v":0.4},{"$f":"H121/20","v":0.3},0.3,null,null,null,{"$f":"M121/20","v":0.35},{"$f":"N121/20","v":0.3},0.35,null,null,null,null,null,null,null,null,null,null,null,null,null,null,null,null,null,null,null,null,null,null,null,null,null,null,null,null,null,null,null,null,null,null,null,null,null,null,null,null,null,null,null,null,null,null,null,null,null,null,null,null,{"$f":"BP121/5","v":0.6},{"$f":"BQ121/5","v":0.2},{"$f":"BR121/5","v":0.2},null,null,null,{"$f":"BV121/5","v":0.4},{"$f":"BW121/5","v":0},{"$f":"BX121/5","v":0.6},null,null,null,null,null,null,null,null,null,null,null,null,null,null,null,null,null,null,null,null,null,null,null,null,null,null,null,null,null,null,null,null,null,null,null,null,null,null,null,null,null,null,null,null,null,null,null,null,null,null,null,null,{"$f":"DY121/5","v":0.4},{"$f":"DZ121/5","v":0},{"$f":"EA121/5","v":0.6},null,null,null,{"$f":"EE121/5","v":0.2},{"$f":"EF121/5","v":0.2},{"$f":"EG121/5","v":0.6}]
[]
[]
[null,null,null,null,null,null,"1",{"$f":"(G123+O123)/2","v":0.375},null,null,null,null,null,null,null,null,null,null,null,null,null,null,null,null,null,null,null,null,null,null,null,null,null,null,null,null,null,null,null,null,null,null,null,null,null,null,null,null,null,null,null,null,null,null,null,null,null,null,null,null,null,null,null,null,null,null,null,"1",{"$f":"(BP123+BX123)/2","v":0.6},null,null,null,null,null,null,null,null,null,null,null,null,null,null,null,null,null,null,null,null,null,null,null,null,null,null,null,null,null,null,null,null,null,null,null,null,null,null,null,null,null,null,null,null,null,null,null,null,null,null,null,null,null,null,null,null,null,null,null,"1",{"$f":"(DY123+EG123)/2","v":0.5}]
[null,null,null,null,null,null,"X",{"$f":"(H123+N123)/2","v":0.3},null,null,null,null,null,null,null,null,null,null,null,null,null,null,null,null,null,null,null,null,null,null,null,null,null,null,null,null,null,null,null,null,null,null,null,null,null,null,null,null,null,null,null,null,null,null,null,null,null,null,null,null,null,null,null,null,null,null,null,"X",{"$f":"(BQ123+BW123)/2","v":0.1},null,null,null,null,null,null,null,null,null,null,null,null,null,null,null,null,null,null,null,null,null,null,null,null,null,null,null,null,null,null,null,null,null,null,null,null,null,null,null,null,null,null,null,null,null,null,null,null,null,null,null,null,null,null,null,null,null,null,null,"X",{"$f":"(DZ123+EF123)/2","v":0.1}]
["20 MAC",null,null,null,null,null,"2",{"$f":"(I123+M123)/2","v":0.32499999999999996},null,null,null,null,null,null,null,null,null,null,null,null,null,null,null,null,null,null,null,null,null,null,null,null,null,null,null,null,null,null,null,null,null,null,null,null,null,null,null,null,null,null,null,null,null,null,null,null,null,null,null,null,null,"FORM",null,null,null,null,null,"2",{"$f":"(BR123+BV123)/2","v":0.30000000000000004},null,null,null,null,null,null,null,null,null,null,null,null,null,null,null,null,null,null,null,null,null,null,null,null,null,null,null,null,null,null,null,null,null,null,null,null,null,null,null,null,null,null,null,null,null,null,null,null,null,null,null,null,null,"H2H",null,null,null,null,null,"2",{"$f":"(EA123+EE123)/2","v":0.4},null,null,null,null,null,null,null,null,null,null,null,null,null,null,null,null,null,null,null,null,null,null,null,null,null,null,null,null,null,null,null,null,null,null,null,null,null,null,null,null,null,null,null,null,null,null,null,null,null,null,null,null,null,"ANDSI"]
[]
[]
["EV SAHIBI","DEPLASMAN","TARIH","ANALIZ TURU","IY SKOR                               EV            DEP",null,"MS SKOR                            EV        DEP",null,"IY UZDELERI                                              1                  X                  2",null,null,"MS YUZDELERI                                              1                  X                  2",null,null,"IY TAHMIN 1",null,"IY TAHMIN 2",null,"MS TAHMIN1",null,"MS TAHMIN2",null,"TAHMIN 1",null,"TAHMIN 2",null,"EV 2,5 UST SON MACLARDA",null,"DEPLASMAN 2,5 UST SON MACLARDA",null,"KG1",null,"KG2",null,"CIFTE SANS",null,"TOPLAM GOL",null,"2,5 UST ALT",null,"IY 0,5 UST","IY 1,5 ALT","MS 1,5 UST","MS 2,5 UST","MS 3,5 ALT","IY-MS",null,"KORNER EV","KORNER DEP",null,null,null,null,null,null,null,null,null,null,null,"EV SAHIBI","DEPLASMAN","TARIH","ANALIZ TURU","IY SKOR                               EV            DEP",null,"MS SKOR                            EV        DEP",null,"IY UZDELERI                                              1                  X                  2",null,null,"MS YUZDELERI                                              1                  X                  2",null,null,"IY TAHMIN 1",null,"IY TAHMIN 2",null,"MS TAHMIN1",null,"MS TAHMIN2",null,"TAHMIN 1",null,"TAHMIN 2",null,"EV 2,5 UST SON MACLARDA",null,"DEPLASMAN 2,5 UST SON MACLARDA",null,"KG1",null,"KG2",null,"CIFTE SANS",null,"TOPLAM GOL",null,"2,5 UST ALT",null,"IY 0,5 UST","IY 1,5 ALT","MS 1,5 UST","MS 2,5 UST","MS 3,5 ALT","IY-MS",null,"KORNER EV","KORNER DEP",null,null,null,null,null,null,null,null,null,null,null,null,"EV SAHIBI","DEPLASMAN","TARIH","ANALIZ TURU","IY SKOR                               EV            DEP",null,"MS SKOR                            EV        DEP",null,"IY UZDELERI                                              1                  X                  2",null,null,"MS YUZDELERI                                              1                  X                  2",null,null,"IY TAHMIN 1",null,"IY TAHMIN 2",null,"MS TAHMIN1",null,"MS TAHMIN2",null,"TAHMIN 1",null,"TAHMIN 2",null,"EV 2,5 UST SON MACLARDA",null,"DEPLASMAN 2,5 UST SON MACLARDA",null,"KG1",null,"KG2",null,"CIFTE SANS",null,"TOPLAM GOL",null,"2,5 UST ALT",null,"IY 0,5 UST","IY 1,5 ALT","MS 1,5 UST","MS 2,5 UST","MS 3,5 ALT","IY-MS",null,"KORNER EV","KORNER DEP",null,null,null,null,null,null,null,null,null,null,null,null,null,"EV SAHIBI","DEPLASMAN","TARIH","ANALIZ TURU","IY SKOR                               EV            DEP",null,"MS SKOR                            EV        DEP",null,"IY UZDELERI                                              1                  X                  2",null,null,"MS YUZDELERI                                              1                  X                  2",null,null,"IY TAHMIN 1",null,"IY TAHMIN 2",null,"MS TAHMIN1",null,"MS TAHMIN2",null,"TAHMIN 1",null,"TAHMIN 2",null,"EV 2,5 UST SON MACLARDA",null,"DEPLASMAN 2,5 UST SON MACLARDA",null,"KG1",null,"KG2",null,"CIFTE SANS",null,"TOPLAM GOL",null,"2,5 UST ALT",null,"IY 0,5 UST","IY 1,5 ALT","MS 1,5 UST","MS 2,5 UST","MS 3,5 ALT","IY-MS",null,"KORNER EV","KORNER DEP"]
[{"$f":"A2","v":"SG Austria Klagenfurt"},{"$f":"A28","v":"SC Kalsdorf"},{"$f":"TODAY()","v":"2019-02-01"},{"$f":"A128","v":"20 MAC"},{"$f":"AU49","v":0.82499999999999996},{"$f":"AV49","v":0.75},1.7749999999999999,1.8250000000000002,{"$f":"H126","v":0.375},{"$f":"H127","v":0.3},{"$f":"H128","v":0.32499999999999996},{"$f":"G93","v":0.375},{"$f":"G94","v":0.2},{"$f":"G95","v":0.42499999999999999},{"$f":"AZ20","v":"0,5 UST"},{"$f":"BA20","v":0.8},{"$f":"BF45","v":"1"},{"$f":"BE45","v":"RISKLI"},{"$f":"AZ23","v":"1,5 UST"},{"$f":"BA23","v":0.875},{"$f":"BC45","v":"2"},{"$f":"BB45","v":"RISKLI"},{"$f":"BG6","v":"MS 1,5UST"},{"$f":"BF6","v":0.875},{"$f":"BG24","v":"MS 2,5UST"},{"$f":"BH24","v":0.7},{"$f":"ANALIZANDSI!Z25","v":12},{"$f":"AT10","v":0.6},{"$f":"AM25","v":16},{"$f":"AX10","v":0.8},{"$f":"AZ26","v":"KG VAR"},{"$f":"BA26","v":0.7},{"$f":"AZ34","v":"KG VAR"},{"$f":"BA34","v":0.7},{"$f":"AX43","v":"12"},{"$f":"AY43","v":0.8},{"$f":"AZ62","v":"RISKLI"},{"$f":"BA62","v":"RISKLI"},{"$f":"ANALIZANDSI!BA93","v":"2,5 UST"},{"$f":"ANALIZANDSI!BB93","v":0.7},{"$f":"BD3","v":0.8},{"$f":"BD5","v":0.52500000000000002},{"$f":"BD6","v":0.875},{"$f":"BD7","v":0.7},{"$f":"BD9","v":0.52499999999999991},{"$f":"AP44","v":"1 -2"},{"$f":"AQ44","v":0.4},{"$f":"G228","v":{"$error":"#VALUE!"}},{"$f":"H228","v":{"$error":"#VALUE!"}},null,null,null,null,null,null,null,null,null,null,null,{"$f":"BJ2","v":"SG Austria Klagenfurt"},{"$f":"BJ28","v":"SC Kalsdorf"},{"$f":"TODAY()","v":"2019-02-01"},{"$f":"BJ128","v":"FORM"},{"$f":"DD49","v":1.4},{"$f":"DE49","v":0.60000000000000009},{"$f":"DF49","v":2.9000000000000004},{"$f":"DG49","v":1.2},{"$f":"BQ126","v":0.6},{"$f":"BQ127","v":0.1},{"$f":"BQ128","v":0.30000000000000004},{"$f":"BP93","v":0.8},{"$f":"BP94","v":0},{"$f":"BP95","v":0.2},{"$f":"DI20","v":"0,5 UST"},{"$f":"DJ20","v":0.9},{"$f":"DO45","v":"1"},{"$f":"DN45","v":"RISKLI"},{"$f":"DI23","v":"1,5 UST"},{"$f":"DJ23","v":1},{"$f":"DL45","v":"1"},{"$f":"DK45","v":"RISKLI"},{"$f":"DP6","v":"MS 1,5UST"},{"$f":"DO6","v":1},{"$f":"DP24","v":"MS 2,5UST"},{"$f":"DQ24","v":0.9},{"$f":"DB10","v":4},{"$f":"DC10","v":0.8},{"$f":"DF10","v":5},{"$f":"DG10","v":1},{"$f":"DI26","v":"RISKLI"},{"$f":"DJ26","v":"RISKLI"},{"$f":"DI34","v":"RISKLI"},{"$f":"DJ34","v":"RISKLI"},{"$f":"DG43","v":"12"},{"$f":"DH43","v":1},{"$f":"DI82","v":"RISKLI"},{"$f":"DJ82","v":"RISKLI"},{"$f":"DJ93","v":"2,5 UST"},{"$f":"DK93","v":0.9},{"$f":"DM3","v":0.9},{"$f":"DM5","v":0.4},{"$f":"DM6","v":1},{"$f":"DM7","v":0.9},{"$f":"DM9","v":0.5},{"$f":"CY44","v":"1 -1"},{"$f":"CZ44","v":0.7},{"$f":"BO228","v":{"$error":"#VALUE!"}},{"$f":"BP228","v":{"$error":"#VALUE!"}},null,null,null,null,null,null,null,null,null,null,null,null,{"$f":"DS2","v":"SG Austria Klagenfurt"},{"$f":"DS28","v":"SC Kalsdorf"},{"$f":"TODAY()","v":"2019-02-01"},{"$f":"DS128","v":"H2H"},{"$f":"FM49","v":0.8},{"$f":"FN49","v":0.4},{"$f":"FO49","v":2},{"$f":"FP49","v":1.2},{"$f":"DZ126","v":0.5},{"$f":"DZ127","v":0.1},{"$f":"DZ128","v":0.4},{"$f":"DY93","v":0.8},{"$f":"DY94","v":0},{"$f":"DY95","v":0.2},{"$f":"FR20","v":"0,5 UST"},{"$f":"FS20","v":0.8},{"$f":"FX45","v":"1"},{"$f":"FW45","v":"RISKLI"},{"$f":"FR23","v":"1,5 UST"},{"$f":"FS23","v":0.6},{"$f":"FU45","v":"1"},{"$f":"FT45","v":"RISKLI"},{"$f":"FY6","v":"IY 0,5UST"},{"$f":"FX6","v":"RISKLI"},{"$f":"FY24","v":"MS 2,5UST"},{"$f":"FZ24","v":0.6},{"$f":"FK10","v":3},{"$f":"FL10","v":0.6},{"$f":"FO10","v":3},{"$f":"FP10","v":0.6},{"$f":"FR26","v":"KG YOK"},{"$f":"FS26","v":0.6},{"$f":"FR34","v":"KG YOK"},{"$f":"FS34","v":0.6},{"$f":"FP43","v":"12"},{"$f":"FQ43","v":1},{"$f":"FR82","v":"0-1 GOL"},{"$f":"FS82","v":0.4},{"$f":"FS93","v":"2,5 UST"},{"$f":"FT93","v":0.6},{"$f":"FV3","v":0.8},{"$f":"FV5","v":0.6},{"$f":"FV6","v":0.6},{"$f":"FV7","v":0.6},{"$f":"FV9","v":0.6},{"$f":"FH44","v":"1 -1"},{"$f":"FI44","v":0.65},{"$f":"DX228","v":5.2},{"$f":"DY228","v":3},null,null,null,null,null,null,null,null,null,null,null,null,null,{"$f":"DR132","v":"SG Austria Klagenfurt"},{"$f":"DS132","v":"SC Kalsdorf"},{"$f":"DT132","v":"2019-02-01"},{"$f":"$GB$128","v":"ANDSI"},{"$f":"GG49","v":1.4000000000000001},{"$f":"GH49","v":0.33333333333333331},2.2250000000000001,0.8833333333333333,{"$f":"GC38","v":0.4916666666666667},{"$f":"GC39","v":0.16666666666666666},{"$f":"GC40","v":0.34166666666666662},{"$f":"GF38","v":0.65833333333333333},{"$f":"GF39","v":6.6666666666666666E-2},{"$f":"GF40","v":0.27499999999999997},{"$f":"GL20","v":"0,5 UST"},{"$f":"GM20","v":0.83333333333333337},{"$f":"GJ85","v":"1"},{"$f":"GI85","v":"RISKLI"},{"$f":"GL23","v":"1,5 UST"},{"$f":"GM23","v":0.82500000000000007},{"$f":"GG85","v":"1"},{"$f":"GF85","v":"RISKLI"},{"$f":"GS6","v":"IY 0,5UST"},{"$f":"GR6","v":0.83333333333333337},{"$f":"GS28","v":"KG VAR"},{"$f":"GT28","v":0.53333333333333321},null,{"$f":"GF10","v":0.66666666666666663},null,{"$f":"GJ10","v":0.79999999999999993},{"$f":"GL26","v":"RISKLI"},{"$f":"GM26","v":"RISKLI"},{"$f":"GL34","v":"RISKLI"},{"$f":"GM34","v":"RISKLI"},{"$f":"GJ43","v":"12"},{"$f":"GK43","v":0.93333333333333324},{"$f":"GL62","v":"RISKLI"},{"$f":"GM62","v":"RISKLI"},{"$f":"GM72","v":"2,5 UST"},{"$f":"GN72","v":0.73333333333333328},{"$f":"GP3","v":0.83333333333333337},{"$f":"GP5","v":0.50833333333333341},{"$f":"GP6","v":0.82500000000000007},{"$f":"GP7","v":0.73333333333333328},{"$f":"GP9","v":0.54166666666666663},null,null,{"$f":"IJ61","v":0},{"$f":"IK61","v":0}]
[]
[]
[]
[]
[]
[]
["EV SAHIBI","DEPLASMAN","TARIH","ANALIZ TURU","IY SKOR                               EV            DEP",null,"MS SKOR                            EV        DEP",null,"IY UZDELERI                                              1                  X                  2",null,null,"MS YUZDELERI                                              1                  X                  2",null,null,"IY TAHMIN 1",null,"IY TAHMIN 2",null,"MS TAHMIN1",null,"MS TAHMIN2",null,"TAHMIN 1",null,"TAHMIN 2",null,"EV 2,5 UST SON MACLARDA",null,"DEPLASMAN 2,5 UST SON MACLARDA",null,"KG1",null,"KG2",null,"CIFTE SANS",null,"TOPLAM GOL",null,"2,5 UST ALT",null,"IY 0,5 UST","IY 1,5 ALT","MS 1,5 UST","MS 2,5 UST","MS 3,5 ALT","IY-MS",null,"KORNER EV","KORNER DEP"]
[{"$f":"A132","v":"SG Austria Klagenfurt"},{"$f":"B132","v":"SC Kalsdorf"},{"$f":"C132","v":"2019-02-01"},"20 MAC",0.82499999999999996,0.75,1.7749999999999999,1.8250000000000002,0.375,0.3,0.32499999999999996,0.375,0.2,0.42499999999999999,"0,5 UST",0.8,"1","RISKLI","1,5 UST",0.875,"2","RISKLI","MS 1,5UST",0.875,"MS 2,5UST",0.7,12,0.6,16,0.8,"KG VAR",0.7,"KG VAR",0.7,"12",{"$f":"AJ132/2","v":0.4},"RISKLI","RISKLI","2,5 UST",0.7,0.8,0.52500000000000002,0.875,0.7,0.52499999999999991,"1 -2",{"$f":"AU132/2","v":0.2},{"$f":"AV132","v":{"$error":"#VALUE!"}},{"$f":"AW132","v":{"$error":"#VALUE!"}}]
[{"$f":"BI132","v":"SG Austria Klagenfurt"},{"$f":"BJ132","v":"SC Kalsdorf"},{"$f":"BK132","v":"2019-02-01"},"FORM",1.4,0.60000000000000009,2.9000000000000004,1.2,0.6,0.1,0.30000000000000004,0.8,0,0.2,"0,5 UST",0.9,"1","RISKLI","1,5 UST",1,"1","RISKLI","MS 1,5UST",1,"MS 2,5UST",0.9,4,0.8,5,1,"RISKLI","RISKLI","RISKLI","RISKLI","12",{"$f":"CR132/2","v":0.5},"RISKLI","RISKLI","2,5 UST",0.9,0.9,0.4,1,0.9,0.5,"1 -1",{"$f":"DC132/2","v":0.35},{"$f":"DD132","v":{"$error":"#VALUE!"}},{"$f":"DE132","v":{"$error":"#VALUE!"}}]
[{"$f":"DR132","v":"SG Austria Klagenfurt"},{"$f":"DS132","v":"SC Kalsdorf"},{"$f":"DT132","v":"2019-02-01"},"H2H",0.8,0.4,2,1.2,0.5,0.1,0.4,0.8,0,0.2,"0,5 UST",0.8,"1","RISKLI","1,5 UST",0.6,"1","RISKLI","IY 0,5UST","RISKLI","MS 2,5UST",0.6,3,0.6,3,0.6,"KG YOK",0.6,"KG YOK",0.6,"12",{"$f":"FA132/2","v":0.5},"0-1 GOL",0.4,"2,5 UST",0.6,0.8,0.6,0.6,0.6,0.6,"1 -1",{"$f":"FL132/2","v":0.32500000000000001},{"$f":"FM132","v":5.2},{"$f":"FN132","v":3}]
[{"$f":"GB132","v":"SG Austria Klagenfurt"},{"$f":"GC132","v":"SC Kalsdorf"},{"$f":"GD132","v":"2019-02-01"},"ANDSI",1.4000000000000001,0.33333333333333331,2.2250000000000001,0.8833333333333333,0.4916666666666667,0.16666666666666666,0.34166666666666662,0.65833333333333333,{"$f":"GN132","v":6.6666666666666666E-2},{"$f":"GO132","v":0.27499999999999997},{"$f":"GP132","v":"0,5 UST"},{"$f":"GQ132","v":0.83333333333333337},{"$f":"GR132","v":"1"},{"$f":"GS132","v":"RISKLI"},{"$f":"GT132","v":"1,5 UST"},{"$f":"GU132","v":0.82500000000000007},{"$f":"GV132","v":"1"},{"$f":"GW132","v":"RISKLI"},"IY 0,5UST",{"$f":"GY132","v":0.83333333333333337},{"$f":"GZ132","v":"KG VAR"},{"$f":"HA132","v":0.53333333333333321},null,{"$f":"HC132","v":0.66666666666666663},null,{"$f":"HE132","v":0.79999999999999993},{"$f":"HF132","v":"RISKLI"},{"$f":"HG132","v":"RISKLI"},{"$f":"HH132","v":"RISKLI"},"RISKLI",{"$f":"HJ132","v":"12"},{"$f":"HK132/2","v":0.46666666666666662},{"$f":"HL132","v":"RISKLI"},{"$f":"HM132","v":"RISKLI"},{"$f":"HN132","v":"2,5 UST"},{"$f":"HO132","v":0.73333333333333328},{"$f":"HP132","v":0.83333333333333337},{"$f":"HQ132","v":0.50833333333333341},{"$f":"HR132","v":0.82500000000000007},{"$f":"HS132","v":0.73333333333333328},0.54166666666666663,null,null,{"$f":"AV135","v":0},0]
[]
[]
[]
[]
[]
[null,null,"EV SAHIBI"]
["IY0,5UST",{"$f":"A2","v":"SG Austria Klagenfurt"},"SON 20 MACIN  ",null,{"$f":"AS3","v":15},"   TANESI  ","ILK YARISI 0,5 UST","   BITTI",{"$f":"E150/20","v":0.75},{"$f":"_xlfn.CONCAT(C150:H150)","v":"SON 20 MACIN  15   TANESI  ILK YARISI 0,5 UST   BITTI"},null,null,null,null,{"$f":"LARGE(I150:I167,1)","v":0.85},{"$f":"VLOOKUP(O150,I150:J167,2,)","v":"SON 20 MACIN  17   TANESI  MS 1,5 UST   BITTI"},null,null,null,null,null,null,null,null,null,null,null,null,null,null,null,null,null,null,null,null,null,null,null,null,null,null,null,null,null,null,null,null,null,null,null,null,null,null,null,null,null,null,null,null,"IY0,5UST",{"$f":"B150","v":"SG Austria Klagenfurt"},"SON 5 MACIN",null,{"$f":"DB3","v":4},"   TANESI  ","ILK YARISI 0,5 UST","   BITTI",{"$f":"BM150/5","v":0.8},{"$f":"_xlfn.CONCAT(BK150:BP150)","v":"SON 5 MACIN4   TANESI  ILK YARISI 0,5 UST   BITTI"},null,null,null,null,{"$f":"LARGE(BQ150:BQ167,1)","v":1},{"$f":"VLOOKUP(BW150,BQ150:BR167,2,)","v":"SON 5 MACIN5   TANESI  MS 1,5 UST   BITTI"},null,null,null,null,null,null,null,null,null,null,null,null,null,null,null,null,null,null,null,null,null,null,null,null,null,null,null,null,null,null,null,null,null,null,null,null,null,null,null,null,null,null,null,null,null,"IY0,5UST",{"$f":"BJ150","v":"SG Austria Klagenfurt"},"H2H SON 5 MACIN",null,{"$f":"FK3","v":4},"   TANESI  ","ILK YARISI 0,5 UST","   BITTI",{"$f":"DV150/5","v":0.8},{"$f":"_xlfn.CONCAT(DT150:DY150)","v":"H2H SON 5 MACIN4   TANESI  ILK YARISI 0,5 UST   BITTI"},null,null,null,null,{"$f":"LARGE(DZ150:DZ167,1)","v":0.8},{"$f":"VLOOKUP(EF150,DZ150:EA167,2,)","v":"H2H SON 5 MACIN4   TANESI  ILK YARISI 0,5 UST   BITTI"},null,null,null,null,null,null,null,null,null,null,null,null,null,null,null,null,null,null,null,null,null,null,null,null,null,null,null,null,null,null,null,null,null,null,null,null,null,null,null,null,null,null,null,null,null,null,"IY0,5UST",{"$f":"KUPONYAP1!#REF!","v":{"$error":"#REF!"}},"SON 20 MACIN  ",null,{"$f":"HT3","v":0},"   TANESI  ","ILK YARISI 0,5 UST","   BITTI",{"$f":"GF150/20","v":0},{"$f":"_xlfn.CONCAT(GD150:GI150)","v":"SON 20 MACIN  0   TANESI  ILK YARISI 0,5 UST   BITTI"},null,null,null,null,{"$f":"LARGE(GJ150:GJ167,1)","v":0},{"$f":"VLOOKUP(GP150,GJ150:GK167,2,)","v":"SON 20 MACIN  0   TANESI  ILK YARISI 0,5 UST   BITTI"}]
["IY1,5UST",{"$f":"A2","v":"SG Austria Klagenfurt"},"SON 20 MACIN  ",null,{"$f":"AS4","v":7},"   TANESI  ","ILK YARISI 1,5 UST","   BITTI",{"$f":"E151/20","v":0.35},{"$f":"_xlfn.CONCAT(C151:H151)","v":"SON 20 MACIN  7   TANESI  ILK YARISI 1,5 UST   BITTI"},null,null,null,null,{"$f":"LARGE(I150:I167,2)","v":0.85},{"$f":"VLOOKUP(O151,I149:M167,2,)","v":"SON 20 MACIN  17   TANESI  MS 1,5 UST   BITTI"},null,null,null,null,null,null,null,null,null,null,null,null,null,null,null,null,null,null,null,null,null,null,null,null,null,null,null,null,null,null,null,null,null,null,null,null,null,null,null,null,null,null,null,null,"IY1,5UST",{"$f":"B151","v":"SG Austria Klagenfurt"},"SON 5 MACIN",null,{"$f":"DB4","v":2},"   TANESI  ","ILK YARISI 1,5 UST","   BITTI",{"$f":"BM151/5","v":0.4},{"$f":"_xlfn.CONCAT(BK151:BP151)","v":"SON 5 MACIN2   TANESI  ILK YARISI 1,5 UST   BITTI"},null,null,null,null,{"$f":"LARGE(BQ150:BQ167,2)","v":1},{"$f":"VLOOKUP(BW151,BQ149:BU167,2,)","v":"SON 5 MACIN5   TANESI  MS 1,5 UST   BITTI"},null,null,null,null,null,null,null,null,null,null,null,null,null,null,null,null,null,null,null,null,null,null,null,null,null,null,null,null,null,null,null,null,null,null,null,null,null,null,null,null,null,null,null,null,null,"IY1,5UST",{"$f":"BJ151","v":"SG Austria Klagenfurt"},"H2H SON 5 MACIN",null,{"$f":"FK4","v":2},"   TANESI  ","ILK YARISI 1,5 UST","   BITTI",{"$f":"DV151/5","v":0.4},{"$f":"_xlfn.CONCAT(DT151:DY151)","v":"H2H SON 5 MACIN2   TANESI  ILK YARISI 1,5 UST   BITTI"},null,null,null,null,{"$f":"LARGE(DZ150:DZ167,2)","v":0.8},{"$f":"VLOOKUP(EF151,DZ149:ED167,2,)","v":"H2H SON 5 MACIN4   TANESI  ILK YARISI 0,5 UST   BITTI"},null,null,null,null,null,null,null,null,null,null,null,null,null,null,null,null,null,null,null,null,null,null,null,null,null,null,null,null,null,null,null,null,null,null,null,null,null,null,null,null,null,null,null,null,null,null,"IY1,5UST",{"$f":"KUPONYAP1!#REF!","v":{"$error":"#REF!"}},"SON 20 MACIN  ",null,{"$f":"HT4","v":0},"   TANESI  ","ILK YARISI 1,5 UST","   BITTI",{"$f":"GF151/20","v":0},{"$f":"_xlfn.CONCAT(GD151:GI151)","v":"SON 20 MACIN  0   TANESI  ILK YARISI 1,5 UST   BITTI"},null,null,null,null,{"$f":"LARGE(GJ150:GJ167,2)","v":0},{"$f":"VLOOKUP(GP151,GJ149:GN167,2,)","v":"SON 20 MACIN  0   TANESI  ILK YARISI 0,5 UST   BITTI"}]
["IY1,5ALT",{"$f":"B150","v":"SG Austria Klagenfurt"},"SON 20 MACIN  ",null,13,"   TANESI  ","ILK YARISI 1,5 ALT","   BITTI",{"$f":"E152/20","v":0.65},"SON 20 MACIN  13   TANESI  ILK YARISI 1,5 ALT   BITTI",null,null,null,null,{"$f":"LARGE(I150:I167,3)","v":0.85},{"$f":"VLOOKUP(O152,I150:M168,2,)","v":"SON 20 MACIN  17   TANESI  MS 1,5 UST   BITTI"},null,null,null,null,null,null,null,null,null,null,null,null,null,null,null,null,null,null,null,null,null,null,null,null,null,null,null,null,null,null,null,null,null,null,null,null,null,null,null,null,null,null,null,null,"IY1,5ALT","SG Austria Klagenfurt","SON 5 MACIN",null,3,"   TANESI  ","ILK YARISI 1,5 ALT","   BITTI",0.6,"SON 5 MACIN3   TANESI  ILK YARISI 1,5 ALT   BITTI",null,null,null,null,{"$f":"LARGE(BQ150:BQ167,3)","v":1},{"$f":"VLOOKUP(BW152,BQ150:BU168,2,)","v":"SON 5 MACIN5   TANESI  MS 1,5 UST   BITTI"},null,null,null,null,null,null,null,null,null,null,null,null,null,null,null,null,null,null,null,null,null,null,null,null,null,null,null,null,null,null,null,null,null,null,null,null,null,null,null,null,null,null,null,null,null,"IY1,5ALT","SG Austria Klagenfurt","H2H SON 5 MACIN",null,3,"   TANESI  ","ILK YARISI 1,5 ALT","   BITTI",0.6,"H2H SON 5 MACIN3   TANESI  ILK YARISI 1,5 ALT   BITTI",null,null,null,null,{"$f":"LARGE(DZ150:DZ167,3)","v":0.8},{"$f":"VLOOKUP(EF152,DZ150:ED168,2,)","v":"H2H SON 5 MACIN4   TANESI  ILK YARISI 0,5 UST   BITTI"},null,null,null,null,null,null,null,null,null,null,null,null,null,null,null,null,null,null,null,null,null,null,null,null,null,null,null,null,null,null,null,null,null,null,null,null,null,null,null,null,null,null,null,null,null,null,"IY1,5ALT",{"$f":"KUPONYAP1!#REF!","v":{"$error":"#REF!"}},"SON 20 MACIN  ",null,0,"   TANESI  ","ILK YARISI 1,5 ALT","   BITTI",{"$f":"GF152/20","v":0},"SON 20 MACIN  0   TANESI  ILK YARISI 1,5 ALT   BITTI",null,null,null,null,{"$f":"LARGE(GJ150:GJ167,3)","v":0},{"$f":"VLOOKUP(GP152,GJ150:GN168,2,)","v":"SON 20 MACIN  0   TANESI  ILK YARISI 0,5 UST   BITTI"}]
["MS1,5UST",{"$f":"B151","v":"SG Austria Klagenfurt"},"SON 20 MACIN  ",null,{"$f":"AS9","v":17},"   TANESI  ","MS 1,5 UST","   BITTI",0.85,"SON 20 MACIN  17   TANESI  MS 1,5 UST   BITTI",null,null,null,null,{"$f":"LARGE(I150:I167,4)","v":0.75},{"$f":"VLOOKUP(O153,I151:M169,2,)","v":{"$error":"#N/A"}},null,null,null,null,null,null,null,null,null,null,null,null,null,null,null,null,null,null,null,null,null,null,null,null,null,null,null,null,null,null,null,null,null,null,null,null,null,null,null,null,null,null,null,null,"MS1,5UST","SG Austria Klagenfurt","SON 5 MACIN",null,{"$f":"DB9","v":5},"   TANESI  ","MS 1,5 UST","   BITTI",1,"SON 5 MACIN5   TANESI  MS 1,5 UST   BITTI",null,null,null,null,{"$f":"LARGE(BQ150:BQ167,4)","v":1},{"$f":"VLOOKUP(BW153,BQ151:BU169,2,)","v":"SON 5 MACIN5   TANESI  MS 1,5 UST   BITTI"},null,null,null,null,null,null,null,null,null,null,null,null,null,null,null,null,null,null,null,null,null,null,null,null,null,null,null,null,null,null,null,null,null,null,null,null,null,null,null,null,null,null,null,null,null,"MS1,5UST","SG Austria Klagenfurt","H2H SON 5 MACIN",null,{"$f":"FK9","v":3},"   TANESI  ","MS 1,5 UST","   BITTI",0.6,"H2H SON 5 MACIN3   TANESI  MS 1,5 UST   BITTI",null,null,null,null,{"$f":"LARGE(DZ150:DZ167,4)","v":0.8},{"$f":"VLOOKUP(EF153,DZ151:ED169,2,)","v":"H2H SON 5 MACIN4   TANESINDE GALIB GELDI"},null,null,null,null,null,null,null,null,null,null,null,null,null,null,null,null,null,null,null,null,null,null,null,null,null,null,null,null,null,null,null,null,null,null,null,null,null,null,null,null,null,null,null,null,null,null,"MS1,5UST",{"$f":"KUPONYAP1!#REF!","v":{"$error":"#REF!"}},"SON 20 MACIN  ",null,{"$f":"HT9","v":0},"   TANESI  ","MS 1,5 UST","   BITTI",0,"SON 20 MACIN  0   TANESI  MS 1,5 UST   BITTI",null,null,null,null,{"$f":"LARGE(GJ150:GJ167,4)","v":0},{"$f":"VLOOKUP(GP153,GJ151:GN169,2,)","v":"SON 20 MACIN  0   TANESI  ILK YARISI 1,5 UST   BITTI"}]
["MS2,5UST",{"$f":"A6","v":"Wolfsberger AC Amateure(N)"},"SON 20 MACIN  ",null,12,"   TANESI  ","MS 2,5 UST","   BITTI",0.6,"SON 20 MACIN  12   TANESI  MS 2,5 UST   BITTI",null,null,null,null,null,null,null,null,null,null,null,null,null,null,null,null,null,null,null,null,null,null,null,null,null,null,null,null,null,null,null,null,null,null,null,null,null,null,null,null,null,null,null,null,null,null,null,null,null,null,"MS2,5UST","Wolfsberger AC Amateure(N)","SON 5 MACIN",null,{"$f":"DB10","v":4},"   TANESI  ","MS 2,5 UST","   BITTI",0.8,"SON 5 MACIN4   TANESI  MS 2,5 UST   BITTI",null,null,null,null,null,null,null,null,null,null,null,null,null,null,null,null,null,null,null,null,null,null,null,null,null,null,null,null,null,null,null,null,null,null,null,null,null,null,null,null,null,null,null,null,null,null,null,null,null,null,null,"MS2,5UST","Wolfsberger AC Amateure(N)","H2H SON 5 MACIN",null,{"$f":"FK10","v":3},"   TANESI  ","MS 2,5 UST","   BITTI",0.6,"H2H SON 5 MACIN3   TANESI  MS 2,5 UST   BITTI",null,null,null,null,null,null,null,null,null,null,null,null,null,null,null,null,null,null,null,null,null,null,null,null,null,null,null,null,null,null,null,null,null,null,null,null,null,null,null,null,null,null,null,null,null,null,null,null,null,null,null,null,"MS2,5UST",{"$f":"KUPONYAP1!#REF!","v":{"$error":"#REF!"}},"SON 20 MACIN  ",null,0,"   TANESI  ","MS 2,5 UST","   BITTI",0,"SON 20 MACIN  0   TANESI  MS 2,5 UST   BITTI"]
["MS2,5ALT",{"$f":"A7","v":"SC Gleisdorf(N)"},"SON 20 MACIN  ",null,8,"   TANESI  ","MS 2,5 ALT","   BITTI",0.4,"SON 20 MACIN  8   TANESI  MS 2,5 ALT   BITTI",null,null,null,null,null,null,null,null,null,null,null,null,null,null,null,null,null,null,null,null,null,null,null,null,null,null,null,null,null,null,null,null,null,null,null,null,null,null,null,null,null,null,null,null,null,null,null,null,null,null,"MS2,5ALT","SC Gleisdorf(N)","SON 5 MACIN",null,1,"   TANESI  ","MS 2,5 ALT","   BITTI",{"$f":"BM155/5","v":0.2},"SON 5 MACIN1   TANESI  MS 2,5 ALT   BITTI",null,null,null,null,null,null,null,null,null,null,null,null,null,null,null,null,null,null,null,null,null,null,null,null,null,null,null,null,null,null,null,null,null,null,null,null,null,null,null,null,null,null,null,null,null,null,null,null,null,null,null,"MS2,5ALT","SC Gleisdorf(N)","H2H SON 5 MACIN",null,2,"   TANESI  ","MS 2,5 ALT","   BITTI",0.4,"H2H SON 5 MACIN2   TANESI  MS 2,5 ALT   BITTI",null,null,null,null,null,null,null,null,null,null,null,null,null,null,null,null,null,null,null,null,null,null,null,null,null,null,null,null,null,null,null,null,null,null,null,null,null,null,null,null,null,null,null,null,null,null,null,null,null,null,null,null,"MS2,5ALT",{"$f":"KUPONYAP1!#REF!","v":{"$error":"#REF!"}},"SON 20 MACIN  ",null,0,"   TANESI  ","MS 2,5 ALT","   BITTI",0,"SON 20 MACIN  0   TANESI  MS 2,5 ALT   BITTI"]
["MS3,5ALT",{"$f":"B150","v":"SG Austria Klagenfurt"},"SON 20 MACIN  ",null,14,"   TANESI  ","MS 3,5 ALT","   BITTI",0.7,"SON 20 MACIN  14   TANESI  MS 3,5 ALT   BITTI",null,null,null,null,null,null,null,null,null,null,null,null,null,null,null,null,null,null,null,null,null,null,null,null,null,null,null,null,null,null,null,null,null,null,null,null,null,null,null,null,null,null,null,null,null,null,null,null,null,null,"MS3,5ALT","SG Austria Klagenfurt","SON 5 MACIN",null,3,"   TANESI  ","MS 3,5 ALT","   BITTI",0.6,"SON 5 MACIN3   TANESI  MS 3,5 ALT   BITTI",null,null,null,null,null,null,null,null,null,null,null,null,null,null,null,null,null,null,null,null,null,null,null,null,null,null,null,null,null,null,null,null,null,null,null,null,null,null,null,null,null,null,null,null,null,null,null,null,null,null,null,"MS3,5ALT","SG Austria Klagenfurt","H2H SON 5 MACIN",null,3,"   TANESI  ","MS 3,5 ALT","   BITTI",0.6,"H2H SON 5 MACIN3   TANESI  MS 3,5 ALT   BITTI",null,null,null,null,null,null,null,null,null,null,null,null,null,null,null,null,null,null,null,null,null,null,null,null,null,null,null,null,null,null,null,null,null,null,null,null,null,null,null,null,null,null,null,null,null,null,null,null,null,null,null,null,"MS3,5ALT",{"$f":"KUPONYAP1!#REF!","v":{"$error":"#REF!"}},"SON 20 MACIN  ",null,0,"   TANESI  ","MS 3,5 ALT","   BITTI",0,"SON 20 MACIN  0   TANESI  MS 3,5 ALT   BITTI"]
["IY1",{"$f":"B151","v":"SG Austria Klagenfurt"},"SON 20 MACIN  ",null,{"$f":"G121","v":8},"   TANESI  ","IY 1","   BITTI",{"$f":"E181/20","v":0.35},"SON 20 MACIN  8   TANESI  IY 1   BITTI",null,null,null,null,null,null,null,null,null,null,null,null,null,null,null,null,null,null,null,null,null,null,null,null,null,null,null,null,null,null,null,null,null,null,null,null,null,null,null,null,null,null,null,null,null,null,null,null,null,null,"IY1","SG Austria Klagenfurt","SON 5 MACIN",null,{"$f":"BP121","v":3},"   TANESI  ","IY 1","   BITTI",0.6,"SON 5 MACIN3   TANESI  IY 1   BITTI",null,null,null,null,null,null,null,null,null,null,null,null,null,null,null,null,null,null,null,null,null,null,null,null,null,null,null,null,null,null,null,null,null,null,null,null,null,null,null,null,null,null,null,null,null,null,null,null,null,null,null,"IY1","SG Austria Klagenfurt","H2H SON 5 MACIN",null,{"$f":"DY121","v":2},"   TANESI  ","IY 1","   BITTI",0.4,"H2H SON 5 MACIN2   TANESI  IY 1   BITTI",null,null,null,null,null,null,null,null,null,null,null,null,null,null,null,null,null,null,null,null,null,null,null,null,null,null,null,null,null,null,null,null,null,null,null,null,null,null,null,null,null,null,null,null,null,null,null,null,null,null,null,null,"IY1",{"$f":"KUPONYAP1!#REF!","v":{"$error":"#REF!"}},"SON 20 MACIN  ",null,{"$f":"GH121","v":0},"   TANESI  ","IY 1","   BITTI",{"$f":"GF181/20","v":0},"SON 20 MACIN  0   TANESI  IY 1   BITTI"]
["IYX","SG Austria Klagenfurt","SON 20 MACIN  ",null,{"$f":"H121","v":6},"   TANESI  ","IY X","   BITTI",0.3,"SON 20 MACIN  6   TANESI  IY X   BITTI",null,null,null,null,null,null,null,null,null,null,null,null,null,null,null,null,null,null,null,null,null,null,null,null,null,null,null,null,null,null,null,null,null,null,null,null,null,null,null,null,null,null,null,null,null,null,null,null,null,null,"IYX","SG Austria Klagenfurt","SON 5 MACIN",null,{"$f":"BQ121","v":1},"   TANESI  ","IY X","   BITTI",0.2,"SON 5 MACIN1   TANESI  IY X   BITTI",null,null,null,null,null,null,null,null,null,null,null,null,null,null,null,null,null,null,null,null,null,null,null,null,null,null,null,null,null,null,null,null,null,null,null,null,null,null,null,null,null,null,null,null,null,null,null,null,null,null,null,"IYX","SG Austria Klagenfurt","H2H SON 5 MACIN",null,{"$f":"DZ121","v":0},"   TANESI  ","IY X","   BITTI",0,"H2H SON 5 MACIN0   TANESI  IY X   BITTI",null,null,null,null,null,null,null,null,null,null,null,null,null,null,null,null,null,null,null,null,null,null,null,null,null,null,null,null,null,null,null,null,null,null,null,null,null,null,null,null,null,null,null,null,null,null,null,null,null,null,null,null,"IYX",{"$f":"KUPONYAP1!#REF!","v":{"$error":"#REF!"}},"SON 20 MACIN  ",null,{"$f":"GI121","v":0},"   TANESI  ","IY X","   BITTI",0,"SON 20 MACIN  0   TANESI  IY X   BITTI"]
["IY2","SG Austria Klagenfurt","SON 20 MACIN  ",null,{"$f":"I121","v":6},"   TANESI  ","IY 2","   BITTI",0.35,"SON 20 MACIN  6   TANESI  IY 2   BITTI",null,null,null,null,null,null,null,null,null,null,null,null,null,null,null,null,null,null,null,null,null,null,null,null,null,null,null,null,null,null,null,null,null,null,null,null,null,null,null,null,null,null,null,null,null,null,null,null,null,null,"IY2","SG Austria Klagenfurt","SON 5 MACIN",null,{"$f":"BR121","v":1},"   TANESI  ","IY 2","   BITTI",0.2,"SON 5 MACIN1   TANESI  IY 2   BITTI",null,null,null,null,null,null,null,null,null,null,null,null,null,null,null,null,null,null,null,null,null,null,null,null,null,null,null,null,null,null,null,null,null,null,null,null,null,null,null,null,null,null,null,null,null,null,null,null,null,null,null,"IY2","SG Austria Klagenfurt","H2H SON 5 MACIN",null,{"$f":"EA121","v":3},"   TANESI  ","IY 2","   BITTI",0.6,"H2H SON 5 MACIN3   TANESI  IY 2   BITTI",null,null,null,null,null,null,null,null,null,null,null,null,null,null,null,null,null,null,null,null,null,null,null,null,null,null,null,null,null,null,null,null,null,null,null,null,null,null,null,null,null,null,null,null,null,null,null,null,null,null,null,null,"IY2",{"$f":"KUPONYAP1!#REF!","v":{"$error":"#REF!"}},"SON 20 MACIN  ",null,{"$f":"GJ121","v":0},"   TANESI  ","IY 2","   BITTI",0,"SON 20 MACIN  0   TANESI  IY 2   BITTI"]
["MS1","Wolfsberger AC Amateure(N)","SON 20 MACIN  ",null,{"$f":"G88","v":7},"   TANESINDE ","GALIB ","GELDI",0.5,"SON 20 MACIN  7   TANESINDE GALIB GELDI",null,null,null,null,null,null,null,null,null,null,null,null,null,null,null,null,null,null,null,null,null,null,null,null,null,null,null,null,null,null,null,null,null,null,null,null,null,null,null,null,null,null,null,null,null,null,null,null,null,null,"MS1","Wolfsberger AC Amateure(N)","SON 5 MACIN",null,{"$f":"BP88","v":5},"   TANESINDE ","GALIB ","GELDI",1,"SON 5 MACIN5   TANESINDE GALIB GELDI",null,null,null,null,null,null,null,null,null,null,null,null,null,null,null,null,null,null,null,null,null,null,null,null,null,null,null,null,null,null,null,null,null,null,null,null,null,null,null,null,null,null,null,null,null,null,null,null,null,null,null,"MS1","Wolfsberger AC Amateure(N)","H2H SON 5 MACIN",null,{"$f":"DY88","v":4},"   TANESINDE ","GALIB ","GELDI",0.8,"H2H SON 5 MACIN4   TANESINDE GALIB GELDI",null,null,null,null,null,null,null,null,null,null,null,null,null,null,null,null,null,null,null,null,null,null,null,null,null,null,null,null,null,null,null,null,null,null,null,null,null,null,null,null,null,null,null,null,null,null,null,null,null,null,null,null,"MS1",{"$f":"KUPONYAP1!#REF!","v":{"$error":"#REF!"}},"SON 20 MACIN  ",null,{"$f":"GH88","v":0},"   TANESINDE ","GALIB ","GELDI",0,"SON 20 MACIN  0   TANESINDE GALIB GELDI"]
["MSX","SC Gleisdorf(N)","SON 20 MACIN  ",null,{"$f":"H88","v":6},"   TANESI  ","BERABERE","   BITTI",0.1,"SON 20 MACIN  6   TANESI  BERABERE   BITTI",null,null,null,null,null,null,null,null,null,null,null,null,null,null,null,null,null,null,null,null,null,null,null,null,null,null,null,null,null,null,null,null,null,null,null,null,null,null,null,null,null,null,null,null,null,null,null,null,null,null,"MSX","SC Gleisdorf(N)","SON 5 MACIN",null,{"$f":"BQ88","v":0},"   TANESI  ","BERABERE","   BITTI",0,"SON 5 MACIN0   TANESI  BERABERE   BITTI",null,null,null,null,null,null,null,null,null,null,null,null,null,null,null,null,null,null,null,null,null,null,null,null,null,null,null,null,null,null,null,null,null,null,null,null,null,null,null,null,null,null,null,null,null,null,null,null,null,null,null,"MSX","SC Gleisdorf(N)","H2H SON 5 MACIN",null,{"$f":"DZ88","v":0},"   TANESI  ","BERABERE","   BITTI",0,"H2H SON 5 MACIN0   TANESI  BERABERE   BITTI",null,null,null,null,null,null,null,null,null,null,null,null,null,null,null,null,null,null,null,null,null,null,null,null,null,null,null,null,null,null,null,null,null,null,null,null,null,null,null,null,null,null,null,null,null,null,null,null,null,null,null,null,"MSX",{"$f":"KUPONYAP1!#REF!","v":{"$error":"#REF!"}},"SON 20 MACIN  ",null,{"$f":"GI88","v":0},"   TANESI  ","BERABERE","   BITTI",0,"SON 20 MACIN  0   TANESI  BERABERE   BITTI"]
["MS2","SG Austria Klagenfurt","SON 20 MACIN  ",null,{"$f":"I88","v":7},"   TANESI  ","MAGLUB ","OLDU",0.4,"SON 20 MACIN  7   TANESI  MAGLUB OLDU",null,null,null,null,null,null,null,null,null,null,null,null,null,null,null,null,null,null,null,null,null,null,null,null,null,null,null,null,null,null,null,null,null,null,null,null,null,null,null,null,null,null,null,null,null,null,null,null,null,null,"MS2","SG Austria Klagenfurt","SON 5 MACIN",null,{"$f":"BR88","v":0},"   TANESI  ","MAGLUB ","OLDU",0,"SON 5 MACIN0   TANESI  MAGLUB OLDU",null,null,null,null,null,null,null,null,null,null,null,null,null,null,null,null,null,null,null,null,null,null,null,null,null,null,null,null,null,null,null,null,null,null,null,null,null,null,null,null,null,null,null,null,null,null,null,null,null,null,null,"MS2","SG Austria Klagenfurt","H2H SON 5 MACIN",null,{"$f":"EA88","v":1},"   TANESI  ","MAGLUB ","OLDU",0.2,"H2H SON 5 MACIN1   TANESI  MAGLUB OLDU",null,null,null,null,null,null,null,null,null,null,null,null,null,null,null,null,null,null,null,null,null,null,null,null,null,null,null,null,null,null,null,null,null,null,null,null,null,null,null,null,null,null,null,null,null,null,null,null,null,null,null,null,"MS2",{"$f":"KUPONYAP1!#REF!","v":{"$error":"#REF!"}},"SON 20 MACIN  ",null,{"$f":"GJ88","v":0},"   TANESI  ","MAGLUB ","OLDU",0,"SON 20 MACIN  0   TANESI  MAGLUB OLDU"]
["KGVAR",{"$f":"A15","v":"Wolfsberger AC"},"SON 20 MACIN  ",null,{"$f":"W53","v":14},"   TANESI  ","KG VAR","   OLDU",0.7,"SON 20 MACIN  14   TANESI  KG VAR   OLDU",null,null,null,null,null,null,null,null,null,null,null,null,null,null,null,null,null,null,null,null,null,null,null,null,null,null,null,null,null,null,null,null,null,null,null,null,null,null,null,null,null,null,null,null,null,null,null,null,null,null,"KGVAR","Wolfsberger AC","SON 5 MACIN",null,{"$f":"CF53","v":3},"   TANESI  ","KG VAR","   OLDU",0.6,"SON 5 MACIN3   TANESI  KG VAR   OLDU",null,null,null,null,null,null,null,null,null,null,null,null,null,null,null,null,null,null,null,null,null,null,null,null,null,null,null,null,null,null,null,null,null,null,null,null,null,null,null,null,null,null,null,null,null,null,null,null,null,null,null,"KGVAR","Wolfsberger AC","H2H SON 5 MACIN",null,{"$f":"EO53","v":2},"   TANESI  ","KG VAR","   OLDU",0.4,"H2H SON 5 MACIN2   TANESI  KG VAR   OLDU",null,null,null,null,null,null,null,null,null,null,null,null,null,null,null,null,null,null,null,null,null,null,null,null,null,null,null,null,null,null,null,null,null,null,null,null,null,null,null,null,null,null,null,null,null,null,null,null,null,null,null,null,"KGVAR",{"$f":"KUPONYAP1!#REF!","v":{"$error":"#REF!"}},"SON 20 MACIN  ",null,{"$f":"GX53","v":0},"   TANESI  ","KG VAR","   OLDU",0,"SON 20 MACIN  0   TANESI  KG VAR   OLDU"]
["GOL ATTI",{"$f":"B152","v":"SG Austria Klagenfurt"},"SON 20 MACIN  ",null,{"$f":"U53","v":17},"   TANESI  ","GOL ATTI",null,0.85,"SON 20 MACIN  17   TANESI  GOL ATTI",null,null,null,null,null,null,null,null,null,null,null,null,null,null,null,null,null,null,null,null,null,null,null,null,null,null,null,null,null,null,null,null,null,null,null,null,null,null,null,null,null,null,null,null,null,null,null,null,null,null,"GOL ATTI","SG Austria Klagenfurt","SON 5 MACIN",null,{"$f":"CD53","v":5},"   TANESI  ","GOL ATTI",null,1,"SON 5 MACIN5   TANESI  GOL ATTI",null,null,null,null,null,null,null,null,null,null,null,null,null,null,null,null,null,null,null,null,null,null,null,null,null,null,null,null,null,null,null,null,null,null,null,null,null,null,null,null,null,null,null,null,null,null,null,null,null,null,null,"GOL ATTI","SG Austria Klagenfurt","H2H SON 5 MACIN",null,{"$f":"EM53","v":4},"   TANESI  ","GOL ATTI",null,0.8,"H2H SON 5 MACIN4   TANESI  GOL ATTI",null,null,null,null,null,null,null,null,null,null,null,null,null,null,null,null,null,null,null,null,null,null,null,null,null,null,null,null,null,null,null,null,null,null,null,null,null,null,null,null,null,null,null,null,null,null,null,null,null,null,null,null,"GOL ATTI",{"$f":"KUPONYAP1!#REF!","v":{"$error":"#REF!"}},"SON 20 MACIN  ",null,{"$f":"GV53","v":0},"   TANESI  ","GOL ATTI",null,0,"SON 20 MACIN  0   TANESI  GOL ATTI"]
["GOL YEDI",{"$f":"B153","v":"SG Austria Klagenfurt"},"SON 20 MACIN  ",null,{"$f":"V53","v":16},"   TANESI  ","GOL YEDI",null,0.85,"SON 20 MACIN  16   TANESI  GOL YEDI",null,null,null,null,null,null,null,null,null,null,null,null,null,null,null,null,null,null,null,null,null,null,null,null,null,null,null,null,null,null,null,null,null,null,null,null,null,null,null,null,null,null,null,null,null,null,null,null,null,null,"GOL YEDI","SG Austria Klagenfurt","SON 5 MACIN",null,{"$f":"CE53","v":3},"   TANESI  ","GOL YEDI",null,0.6,"SON 5 MACIN3   TANESI  GOL YEDI",null,null,null,null,null,null,null,null,null,null,null,null,null,null,null,null,null,null,null,null,null,null,null,null,null,null,null,null,null,null,null,null,null,null,null,null,null,null,null,null,null,null,null,null,null,null,null,null,null,null,null,"GOL YEDI","SG Austria Klagenfurt","H2H SON 5 MACIN",null,{"$f":"EN53","v":3},"   TANESI  ","GOL YEDI",null,0.6,"H2H SON 5 MACIN3   TANESI  GOL YEDI",null,null,null,null,null,null,null,null,null,null,null,null,null,null,null,null,null,null,null,null,null,null,null,null,null,null,null,null,null,null,null,null,null,null,null,null,null,null,null,null,null,null,null,null,null,null,null,null,null,null,null,null,"GOL YEDI",{"$f":"KUPONYAP1!#REF!","v":{"$error":"#REF!"}},"SON 20 MACIN  ",null,{"$f":"GW53","v":0},"   TANESI  ","GOL YEDI",null,0,"SON 20 MACIN  0   TANESI  GOL YEDI"]
["YENILMIYOR","Wolfsberger AC Amateure(N)","SON 20 MACIN  ",null,{"$f":"G88+H88","v":13},"  MACINDA","  YENILMEDI","  (BERABERLIKLER DAHIL)",0.6,{"$f":"_xlfn.CONCAT(C166:H166)","v":"SON 20 MACIN  13  MACINDA  YENILMEDI  (BERABERLIKLER DAHIL)"},null,null,null,null,null,null,null,null,null,null,null,null,null,null,null,null,null,null,null,null,null,null,null,null,null,null,null,null,null,null,null,null,null,null,null,null,null,null,null,null,null,null,null,null,null,null,null,null,null,null,"YENILMIYOR","Wolfsberger AC Amateure(N)","SON 5 MACIN",null,{"$f":"BP88+BQ88","v":5},"  MACINDA","  YENILMEDI","  (BERABERLIKLER DAHIL)",1,{"$f":"_xlfn.CONCAT(BK166:BP166)","v":"SON 5 MACIN5  MACINDA  YENILMEDI  (BERABERLIKLER DAHIL)"},null,null,null,null,null,null,null,null,null,null,null,null,null,null,null,null,null,null,null,null,null,null,null,null,null,null,null,null,null,null,null,null,null,null,null,null,null,null,null,null,null,null,null,null,null,null,null,null,null,null,null,"YENILMIYOR","Wolfsberger AC Amateure(N)","H2H SON 5 MACIN",null,{"$f":"DY88+DZ88","v":4},"  MACINDA","  YENILMEDI","  (BERABERLIKLER DAHIL)",0.8,{"$f":"_xlfn.CONCAT(DT166:DY166)","v":"H2H SON 5 MACIN4  MACINDA  YENILMEDI  (BERABERLIKLER DAHIL)"},null,null,null,null,null,null,null,null,null,null,null,null,null,null,null,null,null,null,null,null,null,null,null,null,null,null,null,null,null,null,null,null,null,null,null,null,null,null,null,null,null,null,null,null,null,null,null,null,null,null,null,null,"YENILMIYOR",{"$f":"KUPONYAP1!#REF!","v":{"$error":"#REF!"}},"SON 20 MACIN  ",null,{"$f":"GH88+GI88","v":0},"  MACINDA","  YENILMEDI","  (BERABERLIKLER DAHIL)",0,{"$f":"_xlfn.CONCAT(GD166:GI166)","v":"SON 20 MACIN  0  MACINDA  YENILMEDI  (BERABERLIKLER DAHIL)"}]
["KAZANAMIYOR ","SC Gleisdorf(N)","SON 20 MACIN  ",null,{"$f":"H88+I88","v":13}," MACTIR","GALIB GELEMIYOR","(BERABERLIKLER DAHIL)",0.5,{"$f":"_xlfn.CONCAT(C167:H167)","v":"SON 20 MACIN  13 MACTIRGALIB GELEMIYOR(BERABERLIKLER DAHIL)"},null,null,null,null,null,null,null,null,null,null,null,null,null,null,null,null,null,null,null,null,null,null,null,null,null,null,null,null,null,null,null,null,null,null,null,null,null,null,null,null,null,null,null,null,null,null,null,null,null,null,"KAZANAMIYOR ","SC Gleisdorf(N)","SON 5 MACIN",null,{"$f":"BQ88+BR88","v":0}," MACTIR","GALIB GELEMIYOR","(BERABERLIKLER DAHIL)",0,{"$f":"_xlfn.CONCAT(BK167:BP167)","v":"SON 5 MACIN0 MACTIRGALIB GELEMIYOR(BERABERLIKLER DAHIL)"},null,null,null,null,null,null,null,null,null,null,null,null,null,null,null,null,null,null,null,null,null,null,null,null,null,null,null,null,null,null,null,null,null,null,null,null,null,null,null,null,null,null,null,null,null,null,null,null,null,null,null,"KAZANAMIYOR ","SC Gleisdorf(N)","H2H SON 5 MACIN",null,{"$f":"DZ88+EA88","v":1}," MACTIR","GALIB GELEMIYOR","(BERABERLIKLER DAHIL)",0.2,{"$f":"_xlfn.CONCAT(DT167:DY167)","v":"H2H SON 5 MACIN1 MACTIRGALIB GELEMIYOR(BERABERLIKLER DAHIL)"},null,null,null,null,null,null,null,null,null,null,null,null,null,null,null,null,null,null,null,null,null,null,null,null,null,null,null,null,null,null,null,null,null,null,null,null,null,null,null,null,null,null,null,null,null,null,null,null,null,null,null,null,"KAZANAMIYOR ",{"$f":"KUPONYAP1!#REF!","v":{"$error":"#REF!"}},"SON 20 MACIN  ",null,{"$f":"GI88+GJ88","v":0}," MACTIR","GALIB GELEMIYOR","(BERABERLIKLER DAHIL)",0,{"$f":"_xlfn.CONCAT(GD167:GI167)","v":"SON 20 MACIN  0 MACTIRGALIB GELEMIYOR(BERABERLIKLER DAHIL)"}]
[]
[]
[]
[]
[]
[null,null,"DEPLAMAN",null,null,null,null,null,null,null,null,null,null,null,null,null,null,null,null,null,null,null,null,null,null,null,null,null,null,null,null,null,null,null,null,null,null,null,null,null,null,null,null,null,null,null,null,null,null,null,null,null,null,null,null,null,null,null,null,null,null,null,"DEPLAMAN",null,null,null,null,null,null,null,null,null,null,null,null,null,null,null,null,null,null,null,null,null,null,null,null,null,null,null,null,null,null,null,null,null,null,null,null,null,null,null,null,null,null,null,null,null,null,null,null,null,null,null,null,null,null,null,null,null,null,null,null,"DEPLAMAN",null,null,null,null,null,null,null,null,null,null,null,null,null,null,null,null,null,null,null,null,null,null,null,null,null,null,null,null,null,null,null,null,null,null,null,null,null,null,null,null,null,null,null,null,null,null,null,null,null,null,null,null,null,null,null,null,null,null,null,null,null,"DEPLAMAN"]
["IY0,5UST",{"$f":"A47","v":"SC Kalsdorf"},"SON 20 MACIN  ",null,{"$f":"AW3","v":17},"   TANESI  ","ILK YARISI 0,5 UST","   BITTI",0.85,{"$f":"_xlfn.CONCAT(C174:H174)","v":"SON 20 MACIN  17   TANESI  ILK YARISI 0,5 UST   BITTI"},null,null,null,null,{"$f":"LARGE(I174:I191,1)","v":0.9},{"$f":"VLOOKUP(O174,I174:M191,2,)","v":"SON 20 MACIN  18   TANESI  MS 1,5 UST   BITTI"},null,null,null,null,null,null,null,null,null,null,null,null,null,null,null,null,null,null,null,null,null,null,null,null,null,null,null,null,null,null,null,null,null,null,null,null,null,null,null,null,null,null,null,null,"IY0,5UST",{"$f":"BI47","v":0},"SON 5 MACIN",null,{"$f":"DF3","v":5},"   TANESI  ","ILK YARISI 0,5 UST","   BITTI",{"$f":"BM174/5","v":1},{"$f":"_xlfn.CONCAT(BK174:BP174)","v":"SON 5 MACIN5   TANESI  ILK YARISI 0,5 UST   BITTI"},null,null,null,null,{"$f":"LARGE(BQ174:BQ191,1)","v":1},{"$f":"VLOOKUP(BW174,BQ174:BU191,2,)","v":"SON 5 MACIN5   TANESI  ILK YARISI 0,5 UST   BITTI"},null,null,null,null,null,null,null,null,null,null,null,null,null,null,null,null,null,null,null,null,null,null,null,null,null,null,null,null,null,null,null,null,null,null,null,null,null,null,null,null,null,null,null,null,null,"IY0,5UST",{"$f":"DR47","v":0},"H2H SON 5 MACIN",null,{"$f":"FN3","v":0},"   TANESI  ","ILK YARISI 0,5 UST","   BITTI",{"$f":"DV174/20","v":0},{"$f":"_xlfn.CONCAT(DT174:DY174)","v":"H2H SON 5 MACIN0   TANESI  ILK YARISI 0,5 UST   BITTI"},null,null,null,null,{"$f":"LARGE(DZ174:DZ191,1)","v":0.5},{"$f":"VLOOKUP(EF174,DZ174:ED191,2,)","v":"H2H SON 5 MACIN10   TANESI  GOL ATTI"},null,null,null,null,null,null,null,null,null,null,null,null,null,null,null,null,null,null,null,null,null,null,null,null,null,null,null,null,null,null,null,null,null,null,null,null,null,null,null,null,null,null,null,null,null,null,"IY0,5UST",{"$f":"GB47","v":0},"SON 20 MACIN  ",null,{"$f":"HX3","v":0},"   TANESI  ","ILK YARISI 0,5 UST","   BITTI",{"$f":"GF174/20","v":0},{"$f":"_xlfn.CONCAT(GD174:GI174)","v":"SON 20 MACIN  0   TANESI  ILK YARISI 0,5 UST   BITTI"},null,null,null,null,{"$f":"LARGE(GJ174:GJ191,1)","v":0},{"$f":"VLOOKUP(GP174,GJ174:GN191,2,)","v":"SON 20 MACIN  0   TANESI  ILK YARISI 0,5 UST   BITTI"}]
["IY1,5UST",{"$f":"A47","v":"SC Kalsdorf"},"SON 20 MACIN  ",null,{"$f":"AW4","v":12},"   TANESI  ","ILK YARISI 1,5 UST","   BITTI",0.6,{"$f":"_xlfn.CONCAT(C175:H175)","v":"SON 20 MACIN  12   TANESI  ILK YARISI 1,5 UST   BITTI"},null,null,null,null,{"$f":"LARGE(I174:I191,2)","v":0.85},{"$f":"VLOOKUP(O175,I174:M191,2,)","v":"SON 20 MACIN  17   TANESI  ILK YARISI 0,5 UST   BITTI"},null,null,null,null,null,null,null,null,null,null,null,null,null,null,null,null,null,null,null,null,null,null,null,null,null,null,null,null,null,null,null,null,null,null,null,null,null,null,null,null,null,null,null,null,"IY1,5UST",{"$f":"BI47","v":0},"SON 5 MACIN",null,{"$f":"DF4","v":4},"   TANESI  ","ILK YARISI 1,5 UST","   BITTI",{"$f":"BM175/5","v":0.8},{"$f":"_xlfn.CONCAT(BK175:BP175)","v":"SON 5 MACIN4   TANESI  ILK YARISI 1,5 UST   BITTI"},null,null,null,null,{"$f":"LARGE(BQ174:BQ191,2)","v":1},{"$f":"VLOOKUP(BW175,BQ174:BU191,2,)","v":"SON 5 MACIN5   TANESI  ILK YARISI 0,5 UST   BITTI"},null,null,null,null,null,null,null,null,null,null,null,null,null,null,null,null,null,null,null,null,null,null,null,null,null,null,null,null,null,null,null,null,null,null,null,null,null,null,null,null,null,null,null,null,null,"IY1,5UST",{"$f":"DR47","v":0},"H2H SON 5 MACIN",null,{"$f":"FN4","v":0},"   TANESI  ","ILK YARISI 1,5 UST","   BITTI",0,{"$f":"_xlfn.CONCAT(DT175:DY175)","v":"H2H SON 5 MACIN0   TANESI  ILK YARISI 1,5 UST   BITTI"},null,null,null,null,{"$f":"LARGE(DZ174:DZ191,2)","v":0.15},{"$f":"VLOOKUP(EF175,DZ174:ED191,2,)","v":"H2H SON 5 MACIN3   TANESI  KG VAR   OLDU"},null,null,null,null,null,null,null,null,null,null,null,null,null,null,null,null,null,null,null,null,null,null,null,null,null,null,null,null,null,null,null,null,null,null,null,null,null,null,null,null,null,null,null,null,null,null,"IY1,5UST",{"$f":"GB47","v":0},"SON 20 MACIN  ",null,{"$f":"HX4","v":0},"   TANESI  ","ILK YARISI 1,5 UST","   BITTI",0,{"$f":"_xlfn.CONCAT(GD175:GI175)","v":"SON 20 MACIN  0   TANESI  ILK YARISI 1,5 UST   BITTI"},null,null,null,null,{"$f":"LARGE(GJ174:GJ191,2)","v":0},{"$f":"VLOOKUP(GP175,GJ174:GN191,2,)","v":"SON 20 MACIN  0   TANESI  ILK YARISI 0,5 UST   BITTI"}]
["IY1,5ALT",{"$f":"A47","v":"SC Kalsdorf"},"SON 20 MACIN  ",null,8,"   TANESI  ","ILK YARISI 1,5 ALT","   BITTI",0.4,"SON 20 MACIN  8   TANESI  ILK YARISI 1,5 ALT   BITTI",null,null,null,null,{"$f":"LARGE(I174:I191,3)","v":0.85},{"$f":"VLOOKUP(O176,I174:M191,2,)","v":"SON 20 MACIN  17   TANESI  ILK YARISI 0,5 UST   BITTI"},null,null,null,null,null,null,null,null,null,null,null,null,null,null,null,null,null,null,null,null,null,null,null,null,null,null,null,null,null,null,null,null,null,null,null,null,null,null,null,null,null,null,null,null,"IY1,5ALT",{"$f":"BI47","v":0},"SON 5 MACIN",null,1,"   TANESI  ","ILK YARISI 1,5 ALT","   BITTI",0.2,"SON 5 MACIN1   TANESI  ILK YARISI 1,5 ALT   BITTI",null,null,null,null,{"$f":"LARGE(BQ174:BQ191,3)","v":1},{"$f":"VLOOKUP(BW176,BQ174:BU191,2,)","v":"SON 5 MACIN5   TANESI  ILK YARISI 0,5 UST   BITTI"},null,null,null,null,null,null,null,null,null,null,null,null,null,null,null,null,null,null,null,null,null,null,null,null,null,null,null,null,null,null,null,null,null,null,null,null,null,null,null,null,null,null,null,null,null,"IY1,5ALT",{"$f":"DR47","v":0},"H2H SON 5 MACIN",null,0,"   TANESI  ","ILK YARISI 1,5 ALT","   BITTI",0,"H2H SON 5 MACIN0   TANESI  ILK YARISI 1,5 ALT   BITTI",null,null,null,null,{"$f":"LARGE(DZ174:DZ191,3)","v":0.15},{"$f":"VLOOKUP(EF176,DZ174:ED191,2,)","v":"H2H SON 5 MACIN3   TANESI  KG VAR   OLDU"},null,null,null,null,null,null,null,null,null,null,null,null,null,null,null,null,null,null,null,null,null,null,null,null,null,null,null,null,null,null,null,null,null,null,null,null,null,null,null,null,null,null,null,null,null,null,"IY1,5ALT",{"$f":"GB47","v":0},"SON 20 MACIN  ",null,0,"   TANESI  ","ILK YARISI 1,5 ALT","   BITTI",0,"SON 20 MACIN  0   TANESI  ILK YARISI 1,5 ALT   BITTI",null,null,null,null,{"$f":"LARGE(GJ174:GJ191,3)","v":0},{"$f":"VLOOKUP(GP176,GJ174:GN191,2,)","v":"SON 20 MACIN  0   TANESI  ILK YARISI 0,5 UST   BITTI"}]
["MS1,5UST",{"$f":"A47","v":"SC Kalsdorf"},"SON 20 MACIN  ",null,{"$f":"AW9","v":18},"   TANESI  ","MS 1,5 UST","   BITTI",0.9,"SON 20 MACIN  18   TANESI  MS 1,5 UST   BITTI",null,null,null,null,{"$f":"LARGE(I174:I191,4)","v":0.85},{"$f":"VLOOKUP(O177,I174:M191,2,)","v":"SON 20 MACIN  17   TANESI  ILK YARISI 0,5 UST   BITTI"},null,null,null,null,null,null,null,null,null,null,null,null,null,null,null,null,null,null,null,null,null,null,null,null,null,null,null,null,null,null,null,null,null,null,null,null,null,null,null,null,null,null,null,null,"MS1,5UST",{"$f":"BI47","v":0},"SON 5 MACIN",null,{"$f":"DF9","v":5},"   TANESI  ","MS 1,5 UST","   BITTI",1,"SON 5 MACIN5   TANESI  MS 1,5 UST   BITTI",null,null,null,null,{"$f":"LARGE(BQ174:BQ191,4)","v":0.8},{"$f":"VLOOKUP(BW177,BQ174:BU191,2,)","v":"SON 5 MACIN4   TANESI  ILK YARISI 1,5 UST   BITTI"},null,null,null,null,null,null,null,null,null,null,null,null,null,null,null,null,null,null,null,null,null,null,null,null,null,null,null,null,null,null,null,null,null,null,null,null,null,null,null,null,null,null,null,null,null,"MS1,5UST",{"$f":"DR47","v":0},"H2H SON 5 MACIN",null,{"$f":"FN9","v":0},"   TANESI  ","MS 1,5 UST","   BITTI",0,"H2H SON 5 MACIN0   TANESI  MS 1,5 UST   BITTI",null,null,null,null,{"$f":"LARGE(DZ174:DZ191,4)","v":0.05},{"$f":"VLOOKUP(EF177,DZ174:ED191,2,)","v":"H2H SON 5 MACIN1   TANESI  IY X   BITTI"},null,null,null,null,null,null,null,null,null,null,null,null,null,null,null,null,null,null,null,null,null,null,null,null,null,null,null,null,null,null,null,null,null,null,null,null,null,null,null,null,null,null,null,null,null,null,"MS1,5UST",{"$f":"GB47","v":0},"SON 20 MACIN  ",null,{"$f":"HX9","v":0},"   TANESI  ","MS 1,5 UST","   BITTI",0,"SON 20 MACIN  0   TANESI  MS 1,5 UST   BITTI",null,null,null,null,{"$f":"LARGE(GJ174:GJ191,4)","v":0},{"$f":"VLOOKUP(GP177,GJ174:GN191,2,)","v":"SON 20 MACIN  0   TANESI  ILK YARISI 0,5 UST   BITTI"}]
["MS2,5UST",{"$f":"A47","v":"SC Kalsdorf"},"SON 20 MACIN  ",null,{"$f":"AW10","v":16},"   TANESI  ","MS 2,5 UST","   BITTI",0.8,"SON 20 MACIN  16   TANESI  MS 2,5 UST   BITTI",null,null,null,null,null,null,null,null,null,null,null,null,null,null,null,null,null,null,null,null,null,null,null,null,null,null,null,null,null,null,null,null,null,null,null,null,null,null,null,null,null,null,null,null,null,null,null,null,null,null,"MS2,5UST",{"$f":"BI47","v":0},"SON 5 MACIN",null,{"$f":"DF10","v":5},"   TANESI  ","MS 2,5 UST","   BITTI",1,"SON 5 MACIN5   TANESI  MS 2,5 UST   BITTI",null,null,null,null,null,null,null,null,null,null,null,null,null,null,null,null,null,null,null,null,null,null,null,null,null,null,null,null,null,null,null,null,null,null,null,null,null,null,null,null,null,null,null,null,null,null,null,null,null,null,null,"MS2,5UST",{"$f":"DR47","v":0},"H2H SON 5 MACIN",null,{"$f":"FN10","v":0},"   TANESI  ","MS 2,5 UST","   BITTI",0,"H2H SON 5 MACIN0   TANESI  MS 2,5 UST   BITTI",null,null,null,null,null,null,null,null,null,null,null,null,null,null,null,null,null,null,null,null,null,null,null,null,null,null,null,null,null,null,null,null,null,null,null,null,null,null,null,null,null,null,null,null,null,null,null,null,null,null,null,null,"MS2,5UST",{"$f":"GB47","v":0},"SON 20 MACIN  ",null,{"$f":"HX10","v":0},"   TANESI  ","MS 2,5 UST","   BITTI",0,"SON 20 MACIN  0   TANESI  MS 2,5 UST   BITTI"]
["MS2,5ALT",{"$f":"A47","v":"SC Kalsdorf"},"SON 20 MACIN  ",null,4,"   TANESI  ","MS 2,5 ALT","   BITTI",0.2,"SON 20 MACIN  4   TANESI  MS 2,5 ALT   BITTI",null,null,null,null,null,null,null,null,null,null,null,null,null,null,null,null,null,null,null,null,null,null,null,null,null,null,null,null,null,null,null,null,null,null,null,null,null,null,null,null,null,null,null,null,null,null,null,null,null,null,"MS2,5ALT",{"$f":"BI47","v":0},"SON 5 MACIN",null,0,"   TANESI  ","MS 2,5 ALT","   BITTI",0,"SON 5 MACIN0   TANESI  MS 2,5 ALT   BITTI",null,null,null,null,null,null,null,null,null,null,null,null,null,null,null,null,null,null,null,null,null,null,null,null,null,null,null,null,null,null,null,null,null,null,null,null,null,null,null,null,null,null,null,null,null,null,null,null,null,null,null,"MS2,5ALT",{"$f":"DR47","v":0},"H2H SON 5 MACIN",null,0,"   TANESI  ","MS 2,5 ALT","   BITTI",0,"H2H SON 5 MACIN0   TANESI  MS 2,5 ALT   BITTI",null,null,null,null,null,null,null,null,null,null,null,null,null,null,null,null,null,null,null,null,null,null,null,null,null,null,null,null,null,null,null,null,null,null,null,null,null,null,null,null,null,null,null,null,null,null,null,null,null,null,null,null,"MS2,5ALT",{"$f":"GB47","v":0},"SON 20 MACIN  ",null,0,"   TANESI  ","MS 2,5 ALT","   BITTI",0,"SON 20 MACIN  0   TANESI  MS 2,5 ALT   BITTI"]
["MS3,5ALT",{"$f":"A47","v":"SC Kalsdorf"},"SON 20 MACIN  ",null,{"$f":"AW12","v":7},"   TANESI  ","MS 3,5 ALT","   BITTI",0.35,"SON 20 MACIN  7   TANESI  MS 3,5 ALT   BITTI",null,null,null,null,null,null,null,null,null,null,null,null,null,null,null,null,null,null,null,null,null,null,null,null,null,null,null,null,null,null,null,null,null,null,null,null,null,null,null,null,null,null,null,null,null,null,null,null,null,null,"MS3,5ALT",{"$f":"BI47","v":0},"SON 5 MACIN",null,2,"   TANESI  ","MS 3,5 ALT","   BITTI",0.4,"SON 5 MACIN2   TANESI  MS 3,5 ALT   BITTI",null,null,null,null,null,null,null,null,null,null,null,null,null,null,null,null,null,null,null,null,null,null,null,null,null,null,null,null,null,null,null,null,null,null,null,null,null,null,null,null,null,null,null,null,null,null,null,null,null,null,null,"MS3,5ALT",{"$f":"DR47","v":0},"H2H SON 5 MACIN",null,{"$f":"FN12","v":0},"   TANESI  ","MS 3,5 ALT","   BITTI",0,"H2H SON 5 MACIN0   TANESI  MS 3,5 ALT   BITTI",null,null,null,null,null,null,null,null,null,null,null,null,null,null,null,null,null,null,null,null,null,null,null,null,null,null,null,null,null,null,null,null,null,null,null,null,null,null,null,null,null,null,null,null,null,null,null,null,null,null,null,null,"MS3,5ALT",{"$f":"GB47","v":0},"SON 20 MACIN  ",null,{"$f":"HX12","v":0},"   TANESI  ","MS 3,5 ALT","   BITTI",0,"SON 20 MACIN  0   TANESI  MS 3,5 ALT   BITTI"]
["IY1",{"$f":"A47","v":"SC Kalsdorf"},"SON 20 MACIN  ",null,{"$f":"M121","v":7},"   TANESI  ","IY 1","   BITTI",0.35,"SON 20 MACIN  7   TANESI  IY 1   BITTI",null,null,null,null,null,null,null,null,null,null,null,null,null,null,null,null,null,null,null,null,null,null,null,null,null,null,null,null,null,null,null,null,null,null,null,null,null,null,null,null,null,null,null,null,null,null,null,null,null,null,"IY1",{"$f":"BI47","v":0},"SON 5 MACIN",null,{"$f":"BV121","v":2},"   TANESI  ","IY 1","   BITTI",0.4,"SON 5 MACIN2   TANESI  IY 1   BITTI",null,null,null,null,null,null,null,null,null,null,null,null,null,null,null,null,null,null,null,null,null,null,null,null,null,null,null,null,null,null,null,null,null,null,null,null,null,null,null,null,null,null,null,null,null,null,null,null,null,null,null,"IY1",{"$f":"DR47","v":0},"H2H SON 5 MACIN",null,{"$f":"ED121","v":0},"   TANESI  ","IY 1","   BITTI",0,"H2H SON 5 MACIN0   TANESI  IY 1   BITTI",null,null,null,null,null,null,null,null,null,null,null,null,null,null,null,null,null,null,null,null,null,null,null,null,null,null,null,null,null,null,null,null,null,null,null,null,null,null,null,null,null,null,null,null,null,null,null,null,null,null,null,null,"IY1",{"$f":"GB47","v":0},"SON 20 MACIN  ",null,{"$f":"GN121","v":0},"   TANESI  ","IY 1","   BITTI",0,"SON 20 MACIN  0   TANESI  IY 1   BITTI"]
["IYX",{"$f":"A47","v":"SC Kalsdorf"},"SON 20 MACIN  ",null,{"$f":"N121","v":6},"   TANESI  ","IY X","   BITTI",0.3,"SON 20 MACIN  6   TANESI  IY X   BITTI",null,null,null,null,null,null,null,null,null,null,null,null,null,null,null,null,null,null,null,null,null,null,null,null,null,null,null,null,null,null,null,null,null,null,null,null,null,null,null,null,null,null,null,null,null,null,null,null,null,null,"IYX",{"$f":"BI47","v":0},"SON 5 MACIN",null,{"$f":"BW121","v":0},"   TANESI  ","IY X","   BITTI",0,"SON 5 MACIN0   TANESI  IY X   BITTI",null,null,null,null,null,null,null,null,null,null,null,null,null,null,null,null,null,null,null,null,null,null,null,null,null,null,null,null,null,null,null,null,null,null,null,null,null,null,null,null,null,null,null,null,null,null,null,null,null,null,null,"IYX",{"$f":"DR47","v":0},"H2H SON 5 MACIN",null,{"$f":"EE121","v":1},"   TANESI  ","IY X","   BITTI",0.05,"H2H SON 5 MACIN1   TANESI  IY X   BITTI",null,null,null,null,null,null,null,null,null,null,null,null,null,null,null,null,null,null,null,null,null,null,null,null,null,null,null,null,null,null,null,null,null,null,null,null,null,null,null,null,null,null,null,null,null,null,null,null,null,null,null,null,"IYX",{"$f":"GB47","v":0},"SON 20 MACIN  ",null,{"$f":"GO121","v":0},"   TANESI  ","IY X","   BITTI",0,"SON 20 MACIN  0   TANESI  IY X   BITTI"]
["IY2",{"$f":"A47","v":"SC Kalsdorf"},"SON 20 MACIN  ",null,{"$f":"O121","v":7},"   TANESI  ","IY 2","   BITTI",0.35,"SON 20 MACIN  7   TANESI  IY 2   BITTI",null,null,null,null,null,null,null,null,null,null,null,null,null,null,null,null,null,null,null,null,null,null,null,null,null,null,null,null,null,null,null,null,null,null,null,null,null,null,null,null,null,null,null,null,null,null,null,null,null,null,"IY2",{"$f":"BI47","v":0},"SON 5 MACIN",null,{"$f":"BX121","v":3},"   TANESI  ","IY 2","   BITTI",0.6,"SON 5 MACIN3   TANESI  IY 2   BITTI",null,null,null,null,null,null,null,null,null,null,null,null,null,null,null,null,null,null,null,null,null,null,null,null,null,null,null,null,null,null,null,null,null,null,null,null,null,null,null,null,null,null,null,null,null,null,null,null,null,null,null,"IY2",{"$f":"DR47","v":0},"H2H SON 5 MACIN",null,{"$f":"EF121","v":1},"   TANESI  ","IY 2","   BITTI",0.05,"H2H SON 5 MACIN1   TANESI  IY 2   BITTI",null,null,null,null,null,null,null,null,null,null,null,null,null,null,null,null,null,null,null,null,null,null,null,null,null,null,null,null,null,null,null,null,null,null,null,null,null,null,null,null,null,null,null,null,null,null,null,null,null,null,null,null,"IY2",{"$f":"GB47","v":0},"SON 20 MACIN  ",null,{"$f":"GP121","v":0},"   TANESI  ","IY 2","   BITTI",0,"SON 20 MACIN  0   TANESI  IY 2   BITTI"]
["MS1",{"$f":"A47","v":"SC Kalsdorf"},"SON 20 MACIN  ",null,{"$f":"M88","v":10},"   TANESINDE ","GALIB ","GELDI",0.5,"SON 20 MACIN  10   TANESINDE GALIB GELDI",null,null,null,null,null,null,null,null,null,null,null,null,null,null,null,null,null,null,null,null,null,null,null,null,null,null,null,null,null,null,null,null,null,null,null,null,null,null,null,null,null,null,null,null,null,null,null,null,null,null,"MS1",{"$f":"BI47","v":0},"SON 5 MACIN",null,{"$f":"BV88","v":2},"   TANESINDE ","GALIB ","GELDI",0.4,"SON 5 MACIN2   TANESINDE GALIB GELDI",null,null,null,null,null,null,null,null,null,null,null,null,null,null,null,null,null,null,null,null,null,null,null,null,null,null,null,null,null,null,null,null,null,null,null,null,null,null,null,null,null,null,null,null,null,null,null,null,null,null,null,"MS1",{"$f":"DR47","v":0},"H2H SON 5 MACIN",null,{"$f":"ED88","v":0},"   TANESINDE ","GALIB ","GELDI",0,"H2H SON 5 MACIN0   TANESINDE GALIB GELDI",null,null,null,null,null,null,null,null,null,null,null,null,null,null,null,null,null,null,null,null,null,null,null,null,null,null,null,null,null,null,null,null,null,null,null,null,null,null,null,null,null,null,null,null,null,null,null,null,null,null,null,null,"MS1",{"$f":"GB47","v":0},"SON 20 MACIN  ",null,{"$f":"GN88","v":0},"   TANESINDE ","GALIB ","GELDI",0,"SON 20 MACIN  0   TANESINDE GALIB GELDI"]
["MSX",{"$f":"A47","v":"SC Kalsdorf"},"SON 20 MACIN  ",null,{"$f":"N88","v":2},"   TANESI  ","BERABERE","   BITTI",0.1,"SON 20 MACIN  2   TANESI  BERABERE   BITTI",null,null,null,null,null,null,null,null,null,null,null,null,null,null,null,null,null,null,null,null,null,null,null,null,null,null,null,null,null,null,null,null,null,null,null,null,null,null,null,null,null,null,null,null,null,null,null,null,null,null,"MSX",{"$f":"BI47","v":0},"SON 5 MACIN",null,{"$f":"BW88","v":0},"   TANESI  ","BERABERE","   BITTI",0,"SON 5 MACIN0   TANESI  BERABERE   BITTI",null,null,null,null,null,null,null,null,null,null,null,null,null,null,null,null,null,null,null,null,null,null,null,null,null,null,null,null,null,null,null,null,null,null,null,null,null,null,null,null,null,null,null,null,null,null,null,null,null,null,null,"MSX",{"$f":"DR47","v":0},"H2H SON 5 MACIN",null,{"$f":"EE88","v":1},"   TANESI  ","BERABERE","   BITTI",0.05,"H2H SON 5 MACIN1   TANESI  BERABERE   BITTI",null,null,null,null,null,null,null,null,null,null,null,null,null,null,null,null,null,null,null,null,null,null,null,null,null,null,null,null,null,null,null,null,null,null,null,null,null,null,null,null,null,null,null,null,null,null,null,null,null,null,null,null,"MSX",{"$f":"GB47","v":0},"SON 20 MACIN  ",null,{"$f":"GO88","v":0},"   TANESI  ","BERABERE","   BITTI",0,"SON 20 MACIN  0   TANESI  BERABERE   BITTI"]
["MS2",{"$f":"A47","v":"SC Kalsdorf"},"SON 20 MACIN  ",null,{"$f":"O88","v":8},"   TANESI  ","MAGLUB ","OLDU",0.4,"SON 20 MACIN  8   TANESI  MAGLUB OLDU",null,null,null,null,null,null,null,null,null,null,null,null,null,null,null,null,null,null,null,null,null,null,null,null,null,null,null,null,null,null,null,null,null,null,null,null,null,null,null,null,null,null,null,null,null,null,null,null,null,null,"MS2",{"$f":"BI47","v":0},"SON 5 MACIN",null,{"$f":"BX88","v":3},"   TANESI  ","MAGLUB ","OLDU",0.6,"SON 5 MACIN3   TANESI  MAGLUB OLDU",null,null,null,null,null,null,null,null,null,null,null,null,null,null,null,null,null,null,null,null,null,null,null,null,null,null,null,null,null,null,null,null,null,null,null,null,null,null,null,null,null,null,null,null,null,null,null,null,null,null,null,"MS2",{"$f":"DR47","v":0},"H2H SON 5 MACIN",null,{"$f":"EF88","v":0},"   TANESI  ","MAGLUB ","OLDU",0,"H2H SON 5 MACIN0   TANESI  MAGLUB OLDU",null,null,null,null,null,null,null,null,null,null,null,null,null,null,null,null,null,null,null,null,null,null,null,null,null,null,null,null,null,null,null,null,null,null,null,null,null,null,null,null,null,null,null,null,null,null,null,null,null,null,null,null,"MS2",{"$f":"GB47","v":0},"SON 20 MACIN  ",null,{"$f":"GP88","v":0},"   TANESI  ","MAGLUB ","OLDU",0,"SON 20 MACIN  0   TANESI  MAGLUB OLDU"]
["KGVAR",{"$f":"A47","v":"SC Kalsdorf"},"SON 20 MACIN  ",null,{"$f":"W53","v":14},"   TANESI  ","KG VAR","   OLDU",0.7,"SON 20 MACIN  14   TANESI  KG VAR   OLDU",null,null,null,null,null,null,null,null,null,null,null,null,null,null,null,null,null,null,null,null,null,null,null,null,null,null,null,null,null,null,null,null,null,null,null,null,null,null,null,null,null,null,null,null,null,null,null,null,null,null,"KGVAR",{"$f":"BI47","v":0},"SON 5 MACIN",null,{"$f":"CO53","v":2},"   TANESI  ","KG VAR","   OLDU",0.4,"SON 5 MACIN2   TANESI  KG VAR   OLDU",null,null,null,null,null,null,null,null,null,null,null,null,null,null,null,null,null,null,null,null,null,null,null,null,null,null,null,null,null,null,null,null,null,null,null,null,null,null,null,null,null,null,null,null,null,null,null,null,null,null,null,"KGVAR",{"$f":"DR47","v":0},"H2H SON 5 MACIN",null,{"$f":"EN53","v":3},"   TANESI  ","KG VAR","   OLDU",0.15,"H2H SON 5 MACIN3   TANESI  KG VAR   OLDU",null,null,null,null,null,null,null,null,null,null,null,null,null,null,null,null,null,null,null,null,null,null,null,null,null,null,null,null,null,null,null,null,null,null,null,null,null,null,null,null,null,null,null,null,null,null,null,null,null,null,null,null,"KGVAR",{"$f":"GB47","v":0},"SON 20 MACIN  ",null,{"$f":"GX53","v":0},"   TANESI  ","KG VAR","   OLDU",0,"SON 20 MACIN  0   TANESI  KG VAR   OLDU"]
["GOL ATTI",{"$f":"A47","v":"SC Kalsdorf"},"SON 20 MACIN  ",null,{"$f":"AD53","v":17},"   TANESI  ","GOL ATTI",null,0.85,"SON 20 MACIN  17   TANESI  GOL ATTI",null,null,null,null,null,null,null,null,null,null,null,null,null,null,null,null,null,null,null,null,null,null,null,null,null,null,null,null,null,null,null,null,null,null,null,null,null,null,null,null,null,null,null,null,null,null,null,null,null,null,"GOL ATTI",{"$f":"BI47","v":0},"SON 5 MACIN",null,{"$f":"CM53","v":3},"   TANESI  ","GOL ATTI",null,0.6,"SON 5 MACIN3   TANESI  GOL ATTI",null,null,null,null,null,null,null,null,null,null,null,null,null,null,null,null,null,null,null,null,null,null,null,null,null,null,null,null,null,null,null,null,null,null,null,null,null,null,null,null,null,null,null,null,null,null,null,null,null,null,null,"GOL ATTI",{"$f":"DR47","v":0},"H2H SON 5 MACIN",null,{"$f":"EU53","v":10},"   TANESI  ","GOL ATTI",null,0.5,"H2H SON 5 MACIN10   TANESI  GOL ATTI",null,null,null,null,null,null,null,null,null,null,null,null,null,null,null,null,null,null,null,null,null,null,null,null,null,null,null,null,null,null,null,null,null,null,null,null,null,null,null,null,null,null,null,null,null,null,null,null,null,null,null,null,"GOL ATTI",{"$f":"GB47","v":0},"SON 20 MACIN  ",null,{"$f":"HE53","v":0},"   TANESI  ","GOL ATTI",null,0,"SON 20 MACIN  0   TANESI  GOL ATTI"]
["GOL YEDI",{"$f":"A47","v":"SC Kalsdorf"},"SON 20 MACIN  ",null,{"$f":"AE53","v":17},"   TANESI  ","GOL YEDI",null,0.85,"SON 20 MACIN  17   TANESI  GOL YEDI",null,null,null,null,null,null,null,null,null,null,null,null,null,null,null,null,null,null,null,null,null,null,null,null,null,null,null,null,null,null,null,null,null,null,null,null,null,null,null,null,null,null,null,null,null,null,null,null,null,null,"GOL YEDI",{"$f":"BI47","v":0},"SON 5 MACIN",null,{"$f":"CN53","v":4},"   TANESI  ","GOL YEDI",null,0.8,"SON 5 MACIN4   TANESI  GOL YEDI",null,null,null,null,null,null,null,null,null,null,null,null,null,null,null,null,null,null,null,null,null,null,null,null,null,null,null,null,null,null,null,null,null,null,null,null,null,null,null,null,null,null,null,null,null,null,null,null,null,null,null,"GOL YEDI",{"$f":"DR47","v":0},"H2H SON 5 MACIN",null,{"$f":"EV53","v":3},"   TANESI  ","GOL YEDI",null,0.15,"H2H SON 5 MACIN3   TANESI  GOL YEDI",null,null,null,null,null,null,null,null,null,null,null,null,null,null,null,null,null,null,null,null,null,null,null,null,null,null,null,null,null,null,null,null,null,null,null,null,null,null,null,null,null,null,null,null,null,null,null,null,null,null,null,null,"GOL YEDI",{"$f":"GB47","v":0},"SON 20 MACIN  ",null,{"$f":"HF53","v":0},"   TANESI  ","GOL YEDI",null,0,"SON 20 MACIN  0   TANESI  GOL YEDI"]
["YENILMIYOR",{"$f":"A47","v":"SC Kalsdorf"},"SON 20 MACIN  ",null,{"$f":"M88+N88","v":12},"  MACINDA","  YENILMEDI","  (BERABERLIKLER DAHIL)",0.6,"SON 20 MACIN  12  MACINDA  YENILMEDI  (BERABERLIKLER DAHIL)",null,null,null,null,null,null,null,null,null,null,null,null,null,null,null,null,null,null,null,null,null,null,null,null,null,null,null,null,null,null,null,null,null,null,null,null,null,null,null,null,null,null,null,null,null,null,null,null,null,null,"YENILMIYOR",{"$f":"BI47","v":0},"SON 5 MACIN",null,{"$f":"BV88+BW88","v":2},"  MACINDA","  YENILMEDI","  (BERABERLIKLER DAHIL)",0.4,"SON 5 MACIN2  MACINDA  YENILMEDI  (BERABERLIKLER DAHIL)",null,null,null,null,null,null,null,null,null,null,null,null,null,null,null,null,null,null,null,null,null,null,null,null,null,null,null,null,null,null,null,null,null,null,null,null,null,null,null,null,null,null,null,null,null,null,null,null,null,null,null,"YENILMIYOR",{"$f":"DR47","v":0},"H2H SON 5 MACIN",null,{"$f":"ED88+EE88","v":1},"  MACINDA","  YENILMEDI","  (BERABERLIKLER DAHIL)",0.05,"H2H SON 5 MACIN1  MACINDA  YENILMEDI  (BERABERLIKLER DAHIL)",null,null,null,null,null,null,null,null,null,null,null,null,null,null,null,null,null,null,null,null,null,null,null,null,null,null,null,null,null,null,null,null,null,null,null,null,null,null,null,null,null,null,null,null,null,null,null,null,null,null,null,null,"YENILMIYOR",{"$f":"GB47","v":0},"SON 20 MACIN  ",null,{"$f":"GN88+GO88","v":0},"  MACINDA","  YENILMEDI","  (BERABERLIKLER DAHIL)",0,"SON 20 MACIN  0  MACINDA  YENILMEDI  (BERABERLIKLER DAHIL)"]
["KAZANAMIYOR ",{"$f":"A47","v":"SC Kalsdorf"},"SON 20 MACIN  ",null,{"$f":"N88+O88","v":10}," MACTIR GALIB GELEMIYOR(BERABERLIKLER DAHIL)",null,null,0.5,{"$f":"_xlfn.CONCAT(C191:H191)","v":"SON 20 MACIN  10 MACTIR GALIB GELEMIYOR(BERABERLIKLER DAHIL)"},null,null,null,null,null,null,null,null,null,null,null,null,null,null,null,null,null,null,null,null,null,null,null,null,null,null,null,null,null,null,null,null,null,null,null,null,null,null,null,null,null,null,null,null,null,null,null,null,null,null,"KAZANAMIYOR ",{"$f":"BI47","v":0},"SON 5 MACIN",null,{"$f":"BW88+BX88","v":3}," MACTIR GALIB GELEMIYOR(BERABERLIKLER DAHIL)",null,null,0.6,{"$f":"_xlfn.CONCAT(BK191:BP191)","v":"SON 5 MACIN3 MACTIR GALIB GELEMIYOR(BERABERLIKLER DAHIL)"},null,null,null,null,null,null,null,null,null,null,null,null,null,null,null,null,null,null,null,null,null,null,null,null,null,null,null,null,null,null,null,null,null,null,null,null,null,null,null,null,null,null,null,null,null,null,null,null,null,null,null,"KAZANAMIYOR ",{"$f":"DR47","v":0},"H2H SON 5 MACIN",null,{"$f":"EE88+EF88","v":1}," MACTIR GALIB GELEMIYOR(BERABERLIKLER DAHIL)",null,null,0.05,{"$f":"_xlfn.CONCAT(DT191:DY191)","v":"H2H SON 5 MACIN1 MACTIR GALIB GELEMIYOR(BERABERLIKLER DAHIL)"},null,null,null,null,null,null,null,null,null,null,null,null,null,null,null,null,null,null,null,null,null,null,null,null,null,null,null,null,null,null,null,null,null,null,null,null,null,null,null,null,null,null,null,null,null,null,null,null,null,null,null,null,"KAZANAMIYOR ",{"$f":"GB47","v":0},"SON 20 MACIN  ",null,{"$f":"GO88+GP88","v":0}," MACTIR GALIB GELEMIYOR(BERABERLIKLER DAHIL)",null,null,0,{"$f":"_xlfn.CONCAT(GD191:GI191)","v":"SON 20 MACIN  0 MACTIR GALIB GELEMIYOR(BERABERLIKLER DAHIL)"}]
[]
[]
[]
[]
[]
[]
[]
[]
[{"$f":"A2","v":"SG Austria Klagenfurt"},null,null,null,null,null,null,null,null,null,null,null,null,null,null,null,null,null,null,null,null,null,null,null,null,null,null,null,null,null,null,null,null,null,null,null,null,null,null,null,null,null,null,null,null,null,null,null,null,null,null,null,null,null,null,null,null,null,null,null,{"$f":"BI2","v":0},null,null,null,null,null,null,null,null,null,null,null,null,null,null,null,null,null,null,null,null,null,null,null,null,null,null,null,null,null,null,null,null,null,null,null,null,null,null,null,null,null,null,null,null,null,null,null,null,null,null,null,null,null,null,null,null,null,null,null,null,null,null,null,null,null,null,null,null,null,null,null,null,null,null,null,null,null,null,null,null,null,null,null,null,null,null,null,null,null,null,null,null,null,null,null,null,null,null,null,null,null,null,null,null,null,null,null,null,null,null,null,null,null,null,null,null,null,null,null,null,null,null,{"$f":"GB2","v":0}]
[{"$f":"A3","v":0},null,null,null,null,null,null,null,null,null,null,null,null,null,null,null,null,null,null,null,null,null,null,null,null,null,null,null,null,null,null,null,null,null,null,null,null,null,null,null,null,null,null,null,null,null,null,null,null,null,null,null,null,null,null,null,null,null,null,null,{"$f":"BI3","v":0},null,null,null,null,null,null,null,null,null,null,null,null,null,null,null,null,null,null,null,null,null,null,null,null,null,null,null,null,null,null,null,null,null,null,null,null,null,null,null,null,null,null,null,null,null,null,null,null,null,null,null,null,null,null,null,null,null,null,null,null,null,null,null,null,null,null,null,null,null,null,null,null,null,null,null,null,null,null,null,null,null,null,null,null,null,null,null,null,null,null,null,null,null,null,null,null,null,null,null,null,null,null,null,null,null,null,null,null,null,null,null,null,null,null,null,null,null,null,null,null,null,null,{"$f":"GB3","v":0}]
["VST Volkermarkt","SG Austria Klagenfurt",{"$f":"Veri!AM5","v":"/"},{"$f":"MID(C202,1,FIND(\"-\",C202)-1)","v":{"$error":"#VALUE!"}},{"$f":"MID(C202,FIND(\"-\",C202)+1,10)","v":{"$error":"#VALUE!"}},null,null,null,null,null,null,null,null,null,null,null,null,null,null,null,null,null,null,null,null,null,null,null,null,null,null,null,null,null,null,null,null,null,null,null,null,null,null,null,null,null,null,null,null,null,null,null,null,null,null,null,null,null,null,null,{"$f":"A202","v":"VST Volkermarkt"},{"$f":"B202","v":"SG Austria Klagenfurt"},"/",{"$f":"MID(BK202,1,FIND(\"-\",BK202)-1)","v":{"$error":"#VALUE!"}},{"$f":"MID(BK202,FIND(\"-\",BK202)+1,10)","v":{"$error":"#VALUE!"}},null,null,null,null,null,null,null,null,null,null,null,null,null,null,null,null,null,null,null,null,null,null,null,null,null,null,null,null,null,null,null,null,null,null,null,null,null,null,null,null,null,null,null,null,null,null,null,null,null,null,null,null,null,null,null,null,{"$f":"DS30","v":"SC Kalsdorf"},{"$f":"DT30","v":"SG Austria Klagenfurt"},{"$f":"Veri!F4","v":"6-3"},{"$f":"MID(DT202,1,FIND(\"-\",DT202)-1)","v":"6"},{"$f":"MID(DT202,FIND(\"-\",DT202)+1,10)","v":"3"},null,null,null,null,null,null,null,null,null,null,null,null,null,null,null,null,null,null,null,null,null,null,null,null,null,null,null,null,null,null,null,null,null,null,null,null,null,null,null,null,null,null,null,null,null,null,null,null,null,null,null,null,null,null,null,null,null,{"$f":"GB4","v":"RISKLI"},0,{"$f":"Veri!GH72","v":0},{"$f":"MID(GD202,1,FIND(\"-\",GD202)-1)","v":{"$error":"#VALUE!"}},{"$f":"MID(GD202,FIND(\"-\",GD202)+1,10)","v":{"$error":"#VALUE!"}}]
[{"$f":"A5","v":"KAC 1909"},"SG Austria Klagenfurt",{"$f":"Veri!AM6","v":"2-9"},{"$f":"MID(C203,1,FIND(\"-\",C203)-1)","v":"2"},{"$f":"MID(C203,FIND(\"-\",C203)+1,10)","v":"9"},null,null,null,null,null,null,null,null,null,null,null,null,null,null,null,null,null,null,null,null,null,null,null,null,null,null,null,null,null,null,null,null,null,null,null,null,null,null,null,null,null,null,null,null,null,null,null,null,null,null,null,null,null,null,null,{"$f":"A203","v":"KAC 1909"},{"$f":"B203","v":"SG Austria Klagenfurt"},{"$f":"C203","v":"2-9"},{"$f":"MID(BK203,1,FIND(\"-\",BK203)-1)","v":"2"},{"$f":"MID(BK203,FIND(\"-\",BK203)+1,10)","v":"9"},null,null,null,null,null,null,null,null,null,null,null,null,null,null,null,null,null,null,null,null,null,null,null,null,null,null,null,null,null,null,null,null,null,null,null,null,null,null,null,null,null,null,null,null,null,null,null,null,null,null,null,null,null,null,null,null,{"$f":"DS31","v":"SG Austria Klagenfurt"},"SC Kalsdorf",{"$f":"Veri!F5","v":"2-8"},{"$f":"MID(DT203,1,FIND(\"-\",DT203)-1)","v":"2"},{"$f":"MID(DT203,FIND(\"-\",DT203)+1,10)","v":"8"},null,null,null,null,null,null,null,null,null,null,null,null,null,null,null,null,null,null,null,null,null,null,null,null,null,null,null,null,null,null,null,null,null,null,null,null,null,null,null,null,null,null,null,null,null,null,null,null,null,null,null,null,null,null,null,null,null,{"$f":"GB5","v":0},0,{"$f":"Veri!GH73","v":0},{"$f":"MID(GD203,1,FIND(\"-\",GD203)-1)","v":{"$error":"#VALUE!"}},{"$f":"MID(GD203,FIND(\"-\",GD203)+1,10)","v":{"$error":"#VALUE!"}}]
[{"$f":"A6","v":"Wolfsberger AC Amateure(N)"},"SG Austria Klagenfurt",{"$f":"Veri!AM7","v":"0-6"},{"$f":"MID(C204,1,FIND(\"-\",C204)-1)","v":"0"},"6",null,null,null,null,null,null,null,null,null,null,null,null,null,null,null,null,null,null,null,null,null,null,null,null,null,null,null,null,null,null,null,null,null,null,null,null,null,null,null,null,null,null,null,null,null,null,null,null,null,null,null,null,null,null,null,"Wolfsberger AC Amateure(N)","SG Austria Klagenfurt","0-6",{"$f":"MID(BK204,1,FIND(\"-\",BK204)-1)","v":"0"},"6",null,null,null,null,null,null,null,null,null,null,null,null,null,null,null,null,null,null,null,null,null,null,null,null,null,null,null,null,null,null,null,null,null,null,null,null,null,null,null,null,null,null,null,null,null,null,null,null,null,null,null,null,null,null,null,null,{"$f":"DS32","v":"SG Austria Klagenfurt"},"SC Kalsdorf",{"$f":"Veri!F6","v":"7-3"},{"$f":"MID(DT204,1,FIND(\"-\",DT204)-1)","v":"7"},"3",null,null,null,null,null,null,null,null,null,null,null,null,null,null,null,null,null,null,null,null,null,null,null,null,null,null,null,null,null,null,null,null,null,null,null,null,null,null,null,null,null,null,null,null,null,null,null,null,null,null,null,null,null,null,null,null,null,{"$f":"GB6","v":0},0,{"$f":"Veri!GH74","v":0},{"$f":"MID(GD204,1,FIND(\"-\",GD204)-1)","v":{"$error":"#VALUE!"}},{"$error":"#VALUE!"}]
[{"$f":"A7","v":"SC Gleisdorf(N)"},"SG Austria Klagenfurt",{"$f":"Veri!AM8","v":"2-3"},"2","3",null,null,null,null,null,null,null,null,null,null,null,null,null,null,null,null,null,null,null,null,null,null,null,null,null,null,null,null,null,null,null,null,null,null,null,null,null,null,null,null,null,null,null,null,null,null,null,null,null,null,null,null,null,null,null,"SC Gleisdorf(N)","SG Austria Klagenfurt","2-3",{"$f":"MID(BK205,1,FIND(\"-\",BK205)-1)","v":"2"},"3",null,null,null,null,null,null,null,null,null,null,null,null,null,null,null,null,null,null,null,null,null,null,null,null,null,null,null,null,null,null,null,null,null,null,null,null,null,null,null,null,null,null,null,null,null,null,null,null,null,null,null,null,null,null,null,null,{"$f":"DS33","v":"SC Kalsdorf"},"SG Austria Klagenfurt",{"$f":"Veri!F7","v":"7-0"},{"$f":"MID(DT205,1,FIND(\"-\",DT205)-1)","v":"7"},"0",null,null,null,null,null,null,null,null,null,null,null,null,null,null,null,null,null,null,null,null,null,null,null,null,null,null,null,null,null,null,null,null,null,null,null,null,null,null,null,null,null,null,null,null,null,null,null,null,null,null,null,null,null,null,null,null,null,{"$f":"GB7","v":"BAHIS YAP"},0,{"$f":"Veri!GH75","v":0},{"$f":"MID(GD205,1,FIND(\"-\",GD205)-1)","v":{"$error":"#VALUE!"}},{"$error":"#VALUE!"}]
[{"$f":"A8","v":"SG Austria Klagenfurt"},"FC Liefering",{"$f":"Veri!AM9","v":"6-6"},"6","6",null,null,null,null,null,null,null,null,null,null,null,null,null,null,null,null,null,null,null,null,null,null,null,null,null,null,null,null,null,null,null,null,null,null,null,null,null,null,null,null,null,null,null,null,null,null,null,null,null,null,null,null,null,null,null,"SG Austria Klagenfurt","FC Liefering","6-6",{"$f":"MID(BK206,1,FIND(\"-\",BK206)-1)","v":"6"},"6",null,null,null,null,null,null,null,null,null,null,null,null,null,null,null,null,null,null,null,null,null,null,null,null,null,null,null,null,null,null,null,null,null,null,null,null,null,null,null,null,null,null,null,null,null,null,null,null,null,null,null,null,null,null,null,null,{"$f":"DS34","v":"SC Kalsdorf"},"SG Austria Klagenfurt",{"$f":"Veri!F8","v":"4-1"},{"$f":"MID(DT206,1,FIND(\"-\",DT206)-1)","v":"4"},"1",null,null,null,null,null,null,null,null,null,null,null,null,null,null,null,null,null,null,null,null,null,null,null,null,null,null,null,null,null,null,null,null,null,null,null,null,null,null,null,null,null,null,null,null,null,null,null,null,null,null,null,null,null,null,null,null,null,{"$f":"GB8","v":0},0,{"$f":"Veri!GH76","v":0},{"$f":"MID(GD206,1,FIND(\"-\",GD206)-1)","v":{"$error":"#VALUE!"}},{"$error":"#VALUE!"}]
[{"$f":"A9","v":"SK Vorwarts Steyr"},"SG Austria Klagenfurt",{"$f":"Veri!AM10","v":"8-2"},"8","2",null,null,null,null,null,null,null,null,null,null,null,null,null,null,null,null,null,null,null,null,null,null,null,null,null,null,null,null,null,null,null,null,null,null,null,null,null,null,null,null,null,null,null,null,null,null,null,null,null,null,null,null,null,null,null,null,null,null,{"$f":"BL202+BL203+BL204+BL205+BL206","v":{"$error":"#VALUE!"}},{"$f":"BM202+BM203+BM204+BM205+BM206","v":{"$error":"#VALUE!"}},null,null,null,null,null,null,null,null,null,null,null,null,null,null,null,null,null,null,null,null,null,null,null,null,null,null,null,null,null,null,null,null,null,null,null,null,null,null,null,null,null,null,null,null,null,null,null,null,null,null,null,null,null,null,null,null,null,null,null,{"$f":"DU202+DU203+DU204+DU205+DU206","v":26},{"$f":"DV202+DV203+DV204+DV205+DV206","v":15},null,null,null,null,null,null,null,null,null,null,null,null,null,null,null,null,null,null,null,null,null,null,null,null,null,null,null,null,null,null,null,null,null,null,null,null,null,null,null,null,null,null,null,null,null,null,null,null,null,null,null,null,null,null,null,null,null,{"$f":"GB9","v":0},0,{"$f":"Veri!GH77","v":0},{"$f":"MID(GD207,1,FIND(\"-\",GD207)-1)","v":{"$error":"#VALUE!"}},{"$error":"#VALUE!"}]
[{"$f":"A10","v":"SG Austria Klagenfurt"},"SV Ried",{"$f":"Veri!AM11","v":"5-3"},"5","3",null,null,null,null,null,null,null,null,null,null,null,null,null,null,null,null,null,null,null,null,null,null,null,null,null,null,null,null,null,null,null,null,null,null,null,null,null,null,null,null,null,null,null,null,null,null,null,null,null,null,null,null,null,null,null,null,null,null,{"$f":"BL207/5","v":{"$error":"#VALUE!"}},{"$f":"BM207/5","v":{"$error":"#VALUE!"}},null,null,null,null,null,null,null,null,null,null,null,null,null,null,null,null,null,null,null,null,null,null,null,null,null,null,null,null,null,null,null,null,null,null,null,null,null,null,null,null,null,null,null,null,null,null,null,null,null,null,null,null,null,null,null,null,null,null,null,{"$f":"DU207/5","v":5.2},{"$f":"DV207/5","v":3},null,null,null,null,null,null,null,null,null,null,null,null,null,null,null,null,null,null,null,null,null,null,null,null,null,null,null,null,null,null,null,null,null,null,null,null,null,null,null,null,null,null,null,null,null,null,null,null,null,null,null,null,null,null,null,null,null,{"$f":"GB10","v":0},0,{"$f":"Veri!GH78","v":0},{"$f":"MID(GD208,1,FIND(\"-\",GD208)-1)","v":{"$error":"#VALUE!"}},{"$error":"#VALUE!"}]
[{"$f":"A11","v":"Lafnitz"},"SG Austria Klagenfurt",{"$f":"Veri!AM12","v":"9-3"},"9","3",null,null,null,null,null,null,null,null,null,null,null,null,null,null,null,null,null,null,null,null,null,null,null,null,null,null,null,null,null,null,null,null,null,null,null,null,null,null,null,null,null,null,null,null,null,null,null,null,null,null,null,null,null,null,null,null,null,null,null,null,null,null,null,null,null,null,null,null,null,null,null,null,null,null,null,null,null,null,null,null,null,null,null,null,null,null,null,null,null,null,null,null,null,null,null,null,null,null,null,null,null,null,null,null,null,null,null,null,null,null,null,null,null,null,null,null,null,null,null,null,null,null,null,null,null,null,null,null,null,null,null,null,null,null,null,null,null,null,null,null,null,null,null,null,null,null,null,null,null,null,null,null,null,null,null,null,null,null,null,null,null,null,null,null,null,null,null,null,null,null,null,null,null,null,null,null,null,null,{"$f":"GB11","v":0},0,{"$f":"Veri!GH79","v":0},{"$f":"MID(GD209,1,FIND(\"-\",GD209)-1)","v":{"$error":"#VALUE!"}},{"$error":"#VALUE!"}]
[{"$f":"A12","v":"SG Austria Klagenfurt"},"SKU Amstetten",{"$f":"Veri!AM13","v":"3-3"},"3","3",null,null,null,null,null,null,null,null,null,null,null,null,null,null,null,null,null,null,null,null,null,null,null,null,null,null,null,null,null,null,null,null,null,null,null,null,null,null,null,null,null,null,null,null,null,null,null,null,null,null,null,null,null,null,null,null,null,null,null,null,null,null,null,null,null,null,null,null,null,null,null,null,null,null,null,null,null,null,null,null,null,null,null,null,null,null,null,null,null,null,null,null,null,null,null,null,null,null,null,null,null,null,null,null,null,null,null,null,null,null,null,null,null,null,null,null,null,null,null,null,null,null,null,null,null,null,null,null,null,null,null,null,null,null,null,null,null,null,null,null,null,null,null,null,null,null,null,null,null,null,null,null,null,null,null,null,null,null,null,null,null,null,null,null,null,null,null,null,null,null,null,null,null,null,null,null,null,null,{"$f":"GB12","v":0},0,{"$f":"Veri!GH80","v":0},{"$f":"MID(GD210,1,FIND(\"-\",GD210)-1)","v":{"$error":"#VALUE!"}},{"$error":"#VALUE!"}]
[{"$f":"A13","v":"Kapfenberg"},"SG Austria Klagenfurt",{"$f":"Veri!AM14","v":"5-3"},"5","3",null,null,null,null,null,null,null,null,null,null,null,null,null,null,null,null,null,null,null,null,null,null,null,null,null,null,null,null,null,null,null,null,null,null,null,null,null,null,null,null,null,null,null,null,null,null,null,null,null,null,null,null,null,null,null,null,null,null,null,null,null,null,null,null,null,null,null,null,null,null,null,null,null,null,null,null,null,null,null,null,null,null,null,null,null,null,null,null,null,null,null,null,null,null,null,null,null,null,null,null,null,null,null,null,null,null,null,null,null,null,null,null,null,null,null,null,null,null,null,null,null,null,null,null,null,null,null,null,null,null,null,null,null,null,null,null,null,null,null,null,null,null,null,null,null,null,null,null,null,null,null,null,null,null,null,null,null,null,null,null,null,null,null,null,null,null,null,null,null,null,null,null,null,null,null,null,null,null,{"$f":"GB13","v":0},0,{"$f":"Veri!GH81","v":0},{"$f":"MID(GD211,1,FIND(\"-\",GD211)-1)","v":{"$error":"#VALUE!"}},{"$error":"#VALUE!"}]
[{"$f":"A14","v":"FAC Team Fur Wien"},"SG Austria Klagenfurt",{"$f":"Veri!AM15","v":"3-2"},"3","2",null,null,null,null,null,null,null,null,null,null,null,null,null,null,null,null,null,null,null,null,null,null,null,null,null,null,null,null,null,null,null,null,null,null,null,null,null,null,null,null,null,null,null,null,null,null,null,null,null,null,null,null,null,null,null,null,null,null,null,null,null,null,null,null,null,null,null,null,null,null,null,null,null,null,null,null,null,null,null,null,null,null,null,null,null,null,null,null,null,null,null,null,null,null,null,null,null,null,null,null,null,null,null,null,null,null,null,null,null,null,null,null,null,null,null,null,null,null,null,null,null,null,null,null,null,null,null,null,null,null,null,null,null,null,null,null,null,null,null,null,null,null,null,null,null,null,null,null,null,null,null,null,null,null,null,null,null,null,null,null,null,null,null,null,null,null,null,null,null,null,null,null,null,null,null,null,null,null,{"$f":"GB14","v":0},0,{"$f":"Veri!GH82","v":0},{"$f":"MID(GD212,1,FIND(\"-\",GD212)-1)","v":{"$error":"#VALUE!"}},{"$error":"#VALUE!"}]
[{"$f":"A15","v":"Wolfsberger AC"},"SG Austria Klagenfurt",{"$f":"Veri!AM16","v":"4-4"},"4","4",null,null,null,null,null,null,null,null,null,null,null,null,null,null,null,null,null,null,null,null,null,null,null,null,null,null,null,null,null,null,null,null,null,null,null,null,null,null,null,null,null,null,null,null,null,null,null,null,null,null,null,null,null,null,null,null,null,null,null,null,null,null,null,null,null,null,null,null,null,null,null,null,null,null,null,null,null,null,null,null,null,null,null,null,null,null,null,null,null,null,null,null,null,null,null,null,null,null,null,null,null,null,null,null,null,null,null,null,null,null,null,null,null,null,null,null,null,null,null,null,null,null,null,null,null,null,null,null,null,null,null,null,null,null,null,null,null,null,null,null,null,null,null,null,null,null,null,null,null,null,null,null,null,null,null,null,null,null,null,null,null,null,null,null,null,null,null,null,null,null,null,null,null,null,null,null,null,null,{"$f":"GB15","v":0},0,{"$f":"Veri!GH83","v":0},{"$f":"MID(GD213,1,FIND(\"-\",GD213)-1)","v":{"$error":"#VALUE!"}},{"$error":"#VALUE!"}]
[{"$f":"A16","v":"SG Austria Klagenfurt"},"FC Magna Wiener Neustadt",{"$f":"Veri!AM17","v":"9-3"},"9","3",null,null,null,null,null,null,null,null,null,null,null,null,null,null,null,null,null,null,null,null,null,null,null,null,null,null,null,null,null,null,null,null,null,null,null,null,null,null,null,null,null,null,null,null,null,null,null,null,null,null,null,null,null,null,null,null,null,null,null,null,null,null,null,null,null,null,null,null,null,null,null,null,null,null,null,null,null,null,null,null,null,null,null,null,null,null,null,null,null,null,null,null,null,null,null,null,null,null,null,null,null,null,null,null,null,null,null,null,null,null,null,null,null,null,null,null,null,null,null,null,null,null,null,null,null,null,null,null,null,null,null,null,null,null,null,null,null,null,null,null,null,null,null,null,null,null,null,null,null,null,null,null,null,null,null,null,null,null,null,null,null,null,null,null,null,null,null,null,null,null,null,null,null,null,null,null,null,null,{"$f":"GB16","v":0},0,{"$f":"Veri!GH84","v":0},{"$f":"MID(GD214,1,FIND(\"-\",GD214)-1)","v":{"$error":"#VALUE!"}},{"$error":"#VALUE!"}]
[{"$f":"A17","v":"SV Horn"},"SG Austria Klagenfurt",{"$f":"Veri!AM18","v":"3-5"},"3","5",null,null,null,null,null,null,null,null,null,null,null,null,null,null,null,null,null,null,null,null,null,null,null,null,null,null,null,null,null,null,null,null,null,null,null,null,null,null,null,null,null,null,null,null,null,null,null,null,null,null,null,null,null,null,null,null,null,null,null,null,null,null,null,null,null,null,null,null,null,null,null,null,null,null,null,null,null,null,null,null,null,null,null,null,null,null,null,null,null,null,null,null,null,null,null,null,null,null,null,null,null,null,null,null,null,null,null,null,null,null,null,null,null,null,null,null,null,null,null,null,null,null,null,null,null,null,null,null,null,null,null,null,null,null,null,null,null,null,null,null,null,null,null,null,null,null,null,null,null,null,null,null,null,null,null,null,null,null,null,null,null,null,null,null,null,null,null,null,null,null,null,null,null,null,null,null,null,null,{"$f":"GB17","v":0},0,{"$f":"Veri!GH85","v":0},{"$f":"MID(GD215,1,FIND(\"-\",GD215)-1)","v":{"$error":"#VALUE!"}},{"$error":"#VALUE!"}]
[{"$f":"A18","v":"SG Austria Klagenfurt"},"Austria Wien (Youth)",{"$f":"Veri!AM19","v":"9-4"},"9","4",null,null,null,null,null,null,null,null,null,null,null,null,null,null,null,null,null,null,null,null,null,null,null,null,null,null,null,null,null,null,null,null,null,null,null,null,null,null,null,null,null,null,null,null,null,null,null,null,null,null,null,null,null,null,null,null,null,null,null,null,null,null,null,null,null,null,null,null,null,null,null,null,null,null,null,null,null,null,null,null,null,null,null,null,null,null,null,null,null,null,null,null,null,null,null,null,null,null,null,null,null,null,null,null,null,null,null,null,null,null,null,null,null,null,null,null,null,null,null,null,null,null,null,null,null,null,null,null,null,null,null,null,null,null,null,null,null,null,null,null,null,null,null,null,null,null,null,null,null,null,null,null,null,null,null,null,null,null,null,null,null,null,null,null,null,null,null,null,null,null,null,null,null,null,null,null,null,null,{"$f":"GB18","v":0},0,{"$f":"Veri!GH86","v":0},{"$f":"MID(GD216,1,FIND(\"-\",GD216)-1)","v":{"$error":"#VALUE!"}},{"$error":"#VALUE!"}]
[{"$f":"A19","v":"FC Superfund Pasching"},"SG Austria Klagenfurt",{"$f":"Veri!AM20","v":"5-3"},"5","3",null,null,null,null,null,null,null,null,null,null,null,null,null,null,null,null,null,null,null,null,null,null,null,null,null,null,null,null,null,null,null,null,null,null,null,null,null,null,null,null,null,null,null,null,null,null,null,null,null,null,null,null,null,null,null,null,null,null,null,null,null,null,null,null,null,null,null,null,null,null,null,null,null,null,null,null,null,null,null,null,null,null,null,null,null,null,null,null,null,null,null,null,null,null,null,null,null,null,null,null,null,null,null,null,null,null,null,null,null,null,null,null,null,null,null,null,null,null,null,null,null,null,null,null,null,null,null,null,null,null,null,null,null,null,null,null,null,null,null,null,null,null,null,null,null,null,null,null,null,null,null,null,null,null,null,null,null,null,null,null,null,null,null,null,null,null,null,null,null,null,null,null,null,null,null,null,null,null,{"$f":"GB19","v":0},0,{"$f":"Veri!GH87","v":0},{"$f":"MID(GD217,1,FIND(\"-\",GD217)-1)","v":{"$error":"#VALUE!"}},{"$error":"#VALUE!"}]
[{"$f":"A20","v":"SG Austria Klagenfurt"},"FC Wacker Innsbruck Amateure",{"$f":"Veri!AM21","v":"7-5"},"7","5",null,null,null,null,null,null,null,null,null,null,null,null,null,null,null,null,null,null,null,null,null,null,null,null,null,null,null,null,null,null,null,null,null,null,null,null,null,null,null,null,null,null,null,null,null,null,null,null,null,null,null,null,null,null,null,null,null,null,null,null,null,null,null,null,null,null,null,null,null,null,null,null,null,null,null,null,null,null,null,null,null,null,null,null,null,null,null,null,null,null,null,null,null,null,null,null,null,null,null,null,null,null,null,null,null,null,null,null,null,null,null,null,null,null,null,null,null,null,null,null,null,null,null,null,null,null,null,null,null,null,null,null,null,null,null,null,null,null,null,null,null,null,null,null,null,null,null,null,null,null,null,null,null,null,null,null,null,null,null,null,null,null,null,null,null,null,null,null,null,null,null,null,null,null,null,null,null,null,{"$f":"GB20","v":0},0,{"$f":"Veri!GH88","v":0},{"$f":"MID(GD218,1,FIND(\"-\",GD218)-1)","v":{"$error":"#VALUE!"}},{"$error":"#VALUE!"}]
[{"$f":"A21","v":"WSG Wattens"},"SG Austria Klagenfurt1",{"$f":"Veri!AM22","v":"3-5"},"3","5",null,null,null,null,null,null,null,null,null,null,null,null,null,null,null,null,null,null,null,null,null,null,null,null,null,null,null,null,null,null,null,null,null,null,null,null,null,null,null,null,null,null,null,null,null,null,null,null,null,null,null,null,null,null,null,null,null,null,null,null,null,null,null,null,null,null,null,null,null,null,null,null,null,null,null,null,null,null,null,null,null,null,null,null,null,null,null,null,null,null,null,null,null,null,null,null,null,null,null,null,null,null,null,null,null,null,null,null,null,null,null,null,null,null,null,null,null,null,null,null,null,null,null,null,null,null,null,null,null,null,null,null,null,null,null,null,null,null,null,null,null,null,null,null,null,null,null,null,null,null,null,null,null,null,null,null,null,null,null,null,null,null,null,null,null,null,null,null,null,null,null,null,null,null,null,null,null,null,{"$f":"GB21","v":0},0,{"$f":"Veri!GH89","v":0},{"$f":"MID(GD219,1,FIND(\"-\",GD219)-1)","v":{"$error":"#VALUE!"}},{"$error":"#VALUE!"}]
[{"$f":"A22","v":"FC Blau Weiss Linz"},"SG Austria Klagenfurt",{"$f":"Veri!AM23","v":"3-4"},"3","4",null,null,null,null,null,null,null,null,null,null,null,null,null,null,null,null,null,null,null,null,null,null,null,null,null,null,null,null,null,null,null,null,null,null,null,null,null,null,null,null,null,null,null,null,null,null,null,null,null,null,null,null,null,null,null,null,null,null,null,null,null,null,null,null,null,null,null,null,null,null,null,null,null,null,null,null,null,null,null,null,null,null,null,null,null,null,null,null,null,null,null,null,null,null,null,null,null,null,null,null,null,null,null,null,null,null,null,null,null,null,null,null,null,null,null,null,null,null,null,null,null,null,null,null,null,null,null,null,null,null,null,null,null,null,null,null,null,null,null,null,null,null,null,null,null,null,null,null,null,null,null,null,null,null,null,null,null,null,null,null,null,null,null,null,null,null,null,null,null,null,null,null,null,null,null,null,null,null,{"$f":"GB22","v":0},0,{"$f":"Veri!GH90","v":0},{"$f":"MID(GD220,1,FIND(\"-\",GD220)-1)","v":{"$error":"#VALUE!"}},{"$error":"#VALUE!"}]
[{"$f":"A23","v":"SG Austria Klagenfurt"},"Austria Lustenau",{"$f":"Veri!AM24","v":"5-3"},"5","3",null,null,null,null,null,null,null,null,null,null,null,null,null,null,null,null,null,null,null,null,null,null,null,null,null,null,null,null,null,null,null,null,null,null,null,null,null,null,null,null,null,null,null,null,null,null,null,null,null,null,null,null,null,null,null,null,null,null,null,null,null,null,null,null,null,null,null,null,null,null,null,null,null,null,null,null,null,null,null,null,null,null,null,null,null,null,null,null,null,null,null,null,null,null,null,null,null,null,null,null,null,null,null,null,null,null,null,null,null,null,null,null,null,null,null,null,null,null,null,null,null,null,null,null,null,null,null,null,null,null,null,null,null,null,null,null,null,null,null,null,null,null,null,null,null,null,null,null,null,null,null,null,null,null,null,null,null,null,null,null,null,null,null,null,null,null,null,null,null,null,null,null,null,null,null,null,null,null,{"$f":"GB23","v":0},0,{"$f":"Veri!GH91","v":0},{"$f":"MID(GD221,1,FIND(\"-\",GD221)-1)","v":{"$error":"#VALUE!"}},{"$error":"#VALUE!"}]
[null,null,null,{"$f":"D202+D203+D204+D205+D206+D207+D208+D209+D210+D212+D211+D213+D214+D215+D216","v":{"$error":"#VALUE!"}},{"$f":"E202+E203+E204+E205+E206+E207+E208+E209+E210+E212+E211+E213+E214+E215+E216","v":{"$error":"#VALUE!"}},null,null,null,null,null,null,null,null,null,null,null,null,null,null,null,null,null,null,null,null,null,null,null,null,null,null,null,null,null,null,null,null,null,null,null,null,null,null,null,null,null,null,null,null,null,null,null,null,null,null,null,null,null,null,null,null,null,null,null,null,null,null,null,null,null,null,null,null,null,null,null,null,null,null,null,null,null,null,null,null,null,null,null,null,null,null,null,null,null,null,null,null,null,null,null,null,null,null,null,null,null,null,null,null,null,null,null,null,null,null,null,null,null,null,null,null,null,null,null,null,null,null,null,null,null,null,null,null,null,null,null,null,null,null,null,null,null,null,null,null,null,null,null,null,null,null,null,null,null,null,null,null,null,null,null,null,null,null,null,null,null,null,null,null,null,null,null,null,null,null,null,null,null,null,null,null,null,null,null,null,null,{"$f":"GE202+GE203+GE204+GE205+GE206+GE207+GE208+GE209+GE210+GE212+GE211+GE213+GE214+GE215+GE216+GE217+GE218+GE219+GE220+GE221","v":{"$error":"#VALUE!"}},{"$f":"GF202+GF203+GF204+GF205+GF206+GF207+GF208+GF209+GF210+GF212+GF211+GF213+GF214+GF215+GF216+GF217+GF218+GF219+GF220+GF221","v":{"$error":"#VALUE!"}}]
[null,null,null,{"$f":"D222/15","v":{"$error":"#VALUE!"}},{"$f":"E222/15","v":{"$error":"#VALUE!"}},null,null,null,null,null,null,null,null,null,null,null,null,null,null,null,null,null,null,null,null,null,null,null,null,null,null,null,null,null,null,null,null,null,null,null,null,null,null,null,null,null,null,null,null,null,null,null,null,null,null,null,null,null,null,null,null,null,null,null,null,null,null,null,null,null,null,null,null,null,null,null,null,null,null,null,null,null,null,null,null,null,null,null,null,null,null,null,null,null,null,null,null,null,null,null,null,null,null,null,null,null,null,null,null,null,null,null,null,null,null,null,null,null,null,null,null,null,null,null,null,null,null,null,null,null,null,null,null,null,null,null,null,null,null,null,null,null,null,null,null,null,null,null,null,null,null,null,null,null,null,null,null,null,null,null,null,null,null,null,null,null,null,null,null,null,null,null,null,null,null,null,null,null,null,null,null,null,null,null,null,null,{"$f":"GE222/20","v":{"$error":"#VALUE!"}},{"$f":"GF222/20","v":{"$error":"#VALUE!"}}]
[null,null,null,null,null,{"$f":"D223+E249","v":{"$error":"#VALUE!"}},{"$f":"E223+D249","v":{"$error":"#VALUE!"}},null,null,null,null,null,null,null,null,null,null,null,null,null,null,null,null,null,null,null,null,null,null,null,null,null,null,null,null,null,null,null,null,null,null,null,null,null,null,null,null,null,null,null,null,null,null,null,null,null,null,null,null,null,null,null,null,null,null,{"$f":"BL208+BM208","v":{"$error":"#VALUE!"}},{"$f":"BL234+BM234","v":{"$error":"#VALUE!"}},null,null,null,null,null,null,null,null,null,null,null,null,null,null,null,null,null,null,null,null,null,null,null,null,null,null,null,null,null,null,null,null,null,null,null,null,null,null,null,null,null,null,null,null,null,null,null,null,null,null,null,null,null,null,null,null,null,null,null,{"$f":"DU223+DV249","v":0},{"$f":"DV223+DU249","v":0},null,null,null,null,null,null,null,null,null,null,null,null,null,null,null,null,null,null,null,null,null,null,null,null,null,null,null,null,null,null,null,null,null,null,null,null,null,null,null,null,null,null,null,null,null,null,null,null,null,null,null,null,null,null,null,null,null,null,null,null,{"$f":"GE223+GF249","v":{"$error":"#VALUE!"}},{"$f":"GF223+GE249","v":{"$error":"#VALUE!"}}]
[]
[{"$f":"A28","v":"SC Kalsdorf"},null,null,null,null,null,null,null,null,null,null,null,null,null,null,null,null,null,null,null,null,null,null,null,null,null,null,null,null,null,null,null,null,null,null,null,null,null,null,null,null,null,null,null,null,null,null,null,null,null,null,null,null,null,null,null,null,null,null,null,{"$f":"BI28","v":0},null,null,null,null,null,null,null,null,null,null,null,null,null,null,null,null,null,null,null,null,null,null,null,null,null,null,null,null,null,null,null,null,null,null,null,null,null,null,null,null,null,null,null,null,null,null,null,null,null,null,null,null,null,null,null,null,null,null,null,null,null,null,null,null,null,null,null,null,null,null,null,null,null,null,null,null,null,null,null,null,null,null,null,null,null,null,null,null,null,null,null,null,null,null,null,null,null,null,null,null,null,null,null,null,null,null,null,null,null,null,null,null,null,null,null,null,null,null,null,null,null,null,{"$f":"GB28","v":0}]
[null,null,null,null,null,null,"KORNER TAHMIN",null,null,null,null,null,null,null,null,null,null,null,null,null,null,null,null,null,null,null,null,null,null,null,null,null,null,null,null,null,null,null,null,null,null,null,null,null,null,null,null,null,null,null,null,null,null,null,null,null,null,null,null,null,null,null,null,null,null,null,"KORNER TAHMIN",null,null,null,null,null,null,null,null,null,null,null,null,null,null,null,null,null,null,null,null,null,null,null,null,null,null,null,null,null,null,null,null,null,null,null,null,null,null,null,null,null,null,null,null,null,null,null,null,null,null,null,null,null,null,null,null,null,null,null,null,"KORNER TAHMIN",null,null,null,null,null,null,null,null,null,null,null,null,null,null,null,null,null,null,null,null,null,null,null,null,null,null,null,null,null,null,null,null,null,null,null,null,null,null,null,null,null,null,null,null,null,null,null,null,null,null,null,null,null,null,null,null,null,null,null,null,null,"KORNER TAHMIN"]
[{"$f":"A30","v":"Leoben"},"SC Kalsdorf",{"$f":"Veri!W5","v":"4-4"},"4","4",null,{"$f":"F224/2","v":{"$error":"#VALUE!"}},{"$f":"G224/2","v":{"$error":"#VALUE!"}},null,null,null,null,null,null,null,null,null,null,null,null,null,null,null,null,null,null,null,null,null,null,null,null,null,null,null,null,null,null,null,null,null,null,null,null,null,null,null,null,null,null,null,null,null,null,null,null,null,null,null,null,{"$f":"A228","v":"Leoben"},{"$f":"B228","v":"SC Kalsdorf"},{"$f":"C228","v":"4-4"},{"$f":"MID(BK228,1,FIND(\"-\",BK228)-1)","v":"4"},{"$f":"MID(BK228,FIND(\"-\",BK228)+1,10)","v":"4"},null,{"$f":"BN224/2","v":{"$error":"#VALUE!"}},{"$f":"BO224/2","v":{"$error":"#VALUE!"}},null,null,null,null,null,null,null,null,null,null,null,null,null,null,null,null,null,null,null,null,null,null,null,null,null,null,null,null,null,null,null,null,null,null,null,null,null,null,null,null,null,null,null,null,null,null,null,null,null,null,null,null,null,null,null,null,null,null,null,{"$f":"DU208","v":5.2},{"$f":"DV208","v":3},null,null,null,null,null,null,null,null,null,null,null,null,null,null,null,null,null,null,null,null,null,null,null,null,null,null,null,null,null,null,null,null,null,null,null,null,null,null,null,null,null,null,null,null,null,null,null,null,null,null,null,null,null,null,{"$f":"GB30","v":0},0,{"$f":"Veri!GH98","v":0},{"$f":"MID(GD228,1,FIND(\"-\",GD228)-1)","v":{"$error":"#VALUE!"}},{"$f":"MID(GD228,FIND(\"-\",GD228)+1,10)","v":{"$error":"#VALUE!"}},null,{"$f":"GG224/2","v":{"$error":"#VALUE!"}},{"$f":"GH224/2","v":{"$error":"#VALUE!"}}]
[{"$f":"A31","v":"Union Gurten"},"SC Kalsdorf",{"$f":"Veri!W6","v":"/"},{"$error":"#VALUE!"},{"$error":"#VALUE!"},null,null,null,null,null,null,null,null,null,null,null,null,null,null,null,null,null,null,null,null,null,null,null,null,null,null,null,null,null,null,null,null,null,null,null,null,null,null,null,null,null,null,null,null,null,null,null,null,null,null,null,null,null,null,null,{"$f":"A229","v":"Union Gurten"},{"$f":"B229","v":"SC Kalsdorf"},"/",{"$f":"MID(BK229,1,FIND(\"-\",BK229)-1)","v":{"$error":"#VALUE!"}},{"$error":"#VALUE!"},null,null,null,null,null,null,null,null,null,null,null,null,null,null,null,null,null,null,null,null,null,null,null,null,null,null,null,null,null,null,null,null,null,null,null,null,null,null,null,null,null,null,null,null,null,null,null,null,null,null,null,null,null,null,null,null,null,null,null,null,null,null,null,null,null,null,null,null,null,null,null,null,null,null,null,null,null,null,null,null,null,null,null,null,null,null,null,null,null,null,null,null,null,null,null,null,null,null,null,null,null,null,null,null,null,null,null,null,null,null,null,null,null,null,null,null,null,null,{"$f":"GB31","v":0},0,{"$f":"Veri!GH99","v":0},{"$f":"MID(GD229,1,FIND(\"-\",GD229)-1)","v":{"$error":"#VALUE!"}},{"$error":"#VALUE!"}]
[{"$f":"A32","v":"SC Kalsdorf"},"Vocklamarkt",{"$f":"Veri!W7","v":"9-10"},"9","10",null,"TOPLAM ",{"$f":"G228+H228","v":{"$error":"#VALUE!"}},null,null,null,null,null,null,null,null,null,null,null,null,null,null,null,null,null,null,null,null,null,null,null,null,null,null,null,null,null,null,null,null,null,null,null,null,null,null,null,null,null,null,null,null,null,null,null,null,null,null,null,null,"SC Kalsdorf","Vocklamarkt","9-10",{"$f":"MID(BK230,1,FIND(\"-\",BK230)-1)","v":"9"},"10",null,"TOPLAM ",{"$f":"BO228+BP228","v":{"$error":"#VALUE!"}},null,null,null,null,null,null,null,null,null,null,null,null,null,null,null,null,null,null,null,null,null,null,null,null,null,null,null,null,null,null,null,null,null,null,null,null,null,null,null,null,null,null,null,null,null,null,null,null,null,null,null,null,null,null,null,null,null,null,null,"TOPLAM ",{"$f":"DX228+DY228","v":8.1999999999999993},null,null,null,null,null,null,null,null,null,null,null,null,null,null,null,null,null,null,null,null,null,null,null,null,null,null,null,null,null,null,null,null,null,null,null,null,null,null,null,null,null,null,null,null,null,null,null,null,null,null,null,null,null,null,{"$f":"GB32","v":0},0,{"$f":"Veri!GH100","v":0},{"$f":"MID(GD230,1,FIND(\"-\",GD230)-1)","v":{"$error":"#VALUE!"}},{"$error":"#VALUE!"},null,"TOPLAM ",{"$f":"GH228+GI228","v":{"$error":"#VALUE!"}}]
[{"$f":"A33","v":"Gratkorn"},"SC Kalsdorf",{"$f":"Veri!W8","v":"1-11"},"1","11",null,null,null,null,null,null,null,null,null,null,null,null,null,null,null,null,null,null,null,null,null,null,null,null,null,null,null,null,null,null,null,null,null,null,null,null,null,null,null,null,null,null,null,null,null,null,null,null,null,null,null,null,null,null,null,"Gratkorn","SC Kalsdorf","1-11",{"$f":"MID(BK231,1,FIND(\"-\",BK231)-1)","v":"1"},"11",null,null,null,null,null,null,null,null,null,null,null,null,null,null,null,null,null,null,null,null,null,null,null,null,null,null,null,null,null,null,null,null,null,null,null,null,null,null,null,null,null,null,null,null,null,null,null,null,null,null,null,null,null,null,null,null,null,null,null,null,null,null,null,null,null,null,null,null,null,null,null,null,null,null,null,null,null,null,null,null,null,null,null,null,null,null,null,null,null,null,null,null,null,null,null,null,null,null,null,null,null,null,null,null,null,null,null,null,null,null,null,null,null,null,null,null,null,null,{"$f":"GB33","v":0},0,{"$f":"Veri!GH101","v":0},{"$f":"MID(GD231,1,FIND(\"-\",GD231)-1)","v":{"$error":"#VALUE!"}},{"$error":"#VALUE!"}]
[{"$f":"A34","v":"SC Weiz"},"SC Kalsdorf",{"$f":"Veri!W9","v":"4-2"},"4","2",null,null,null,null,null,null,null,null,null,null,null,null,null,null,null,null,null,null,null,null,null,null,null,null,null,null,null,null,null,null,null,null,null,null,null,null,null,null,null,null,null,null,null,null,null,null,null,null,null,null,null,null,null,null,null,"SC Weiz","SC Kalsdorf","4-2",{"$f":"MID(BK232,1,FIND(\"-\",BK232)-1)","v":"4"},"2",null,null,null,null,null,null,null,null,null,null,null,null,null,null,null,null,null,null,null,null,null,null,null,null,null,null,null,null,null,null,null,null,null,null,null,null,null,null,null,null,null,null,null,null,null,null,null,null,null,null,null,null,null,null,null,null,null,null,null,null,null,null,null,null,null,null,null,null,null,null,null,null,null,null,null,null,null,null,null,null,null,null,null,null,null,null,null,null,null,null,null,null,null,null,null,null,null,null,null,null,null,null,null,null,null,null,null,null,null,null,null,null,null,null,null,null,null,null,{"$f":"GB34","v":0},0,{"$f":"Veri!GH102","v":0},{"$f":"MID(GD232,1,FIND(\"-\",GD232)-1)","v":{"$error":"#VALUE!"}},{"$error":"#VALUE!"}]
[{"$f":"A35","v":"SC Kalsdorf"},"VST Volkermarkt",{"$f":"Veri!W10","v":"9-3"},"9","3",null,null,null,null,null,null,null,null,null,null,null,null,null,null,null,null,null,null,null,null,null,null,null,null,null,null,null,null,null,null,null,null,null,null,null,null,null,null,null,null,null,null,null,null,null,null,null,null,null,null,null,null,null,null,null,null,null,null,{"$f":"BL228+BL229+BL230+BL231+BL232","v":{"$error":"#VALUE!"}},{"$f":"BM228+BM229+BM230+BM231+BM232","v":{"$error":"#VALUE!"}},null,null,null,null,null,null,null,null,null,null,null,null,null,null,null,null,null,null,null,null,null,null,null,null,null,null,null,null,null,null,null,null,null,null,null,null,null,null,null,null,null,null,null,null,null,null,null,null,null,null,null,null,null,null,null,null,null,null,null,null,null,null,null,null,null,null,null,null,null,null,null,null,null,null,null,null,null,null,null,null,null,null,null,null,null,null,null,null,null,null,null,null,null,null,null,null,null,null,null,null,null,null,null,null,null,null,null,null,null,null,null,null,null,null,null,null,null,null,{"$f":"GB35","v":0},0,{"$f":"Veri!GH103","v":0},{"$f":"MID(GD233,1,FIND(\"-\",GD233)-1)","v":{"$error":"#VALUE!"}},{"$error":"#VALUE!"}]
[{"$f":"A36","v":"FC Wels"},"SC Kalsdorf1",{"$f":"Veri!W11","v":"6-3"},"6","3",null,null,null,null,null,null,null,null,null,null,null,null,null,null,null,null,null,null,null,null,null,null,null,null,null,null,null,null,null,null,null,null,null,null,null,null,null,null,null,null,null,null,null,null,null,null,null,null,null,null,null,null,null,null,null,null,null,null,{"$f":"BL233/5","v":{"$error":"#VALUE!"}},{"$f":"BM233/5","v":{"$error":"#VALUE!"}},null,null,null,null,null,null,null,null,null,null,null,null,null,null,null,null,null,null,null,null,null,null,null,null,null,null,null,null,null,null,null,null,null,null,null,null,null,null,null,null,null,null,null,null,null,null,null,null,null,null,null,null,null,null,null,null,null,null,null,null,null,null,null,null,null,null,null,null,null,null,null,null,null,null,null,null,null,null,null,null,null,null,null,null,null,null,null,null,null,null,null,null,null,null,null,null,null,null,null,null,null,null,null,null,null,null,null,null,null,null,null,null,null,null,null,null,null,null,{"$f":"GB36","v":0},0,{"$f":"Veri!GH104","v":0},{"$f":"MID(GD234,1,FIND(\"-\",GD234)-1)","v":{"$error":"#VALUE!"}},{"$error":"#VALUE!"}]
[{"$f":"A37","v":"SC Kalsdorf"},"SC Gleisdorf",{"$f":"Veri!W12","v":"0-10"},"0","10",null,null,null,null,null,null,null,null,null,null,null,null,null,null,null,null,null,null,null,null,null,null,null,null,null,null,null,null,null,null,null,null,null,null,null,null,null,null,null,null,null,null,null,null,null,null,null,null,null,null,null,null,null,null,null,null,null,null,null,null,null,null,null,null,null,null,null,null,null,null,null,null,null,null,null,null,null,null,null,null,null,null,null,null,null,null,null,null,null,null,null,null,null,null,null,null,null,null,null,null,null,null,null,null,null,null,null,null,null,null,null,null,null,null,null,null,null,null,null,null,null,null,null,null,null,null,null,null,null,null,null,null,null,null,null,null,null,null,null,null,null,null,null,null,null,null,null,null,null,null,null,null,null,null,null,null,null,null,null,null,null,null,null,null,null,null,null,null,null,null,null,null,null,null,null,null,null,null,{"$f":"GB37","v":"IY"},0,{"$f":"Veri!GH105","v":0},{"$f":"MID(GD235,1,FIND(\"-\",GD235)-1)","v":{"$error":"#VALUE!"}},{"$error":"#VALUE!"}]
[{"$f":"A38","v":"SC Kalsdorf"},"TUS Bad Gleichenberg",{"$f":"Veri!W13","v":"1-5"},"1","5",null,null,null,null,null,null,null,null,null,null,null,null,null,null,null,null,null,null,null,null,null,null,null,null,null,null,null,null,null,null,null,null,null,null,null,null,null,null,null,null,null,null,null,null,null,null,null,null,null,null,null,null,null,null,null,null,null,null,null,null,null,null,null,null,null,null,null,null,null,null,null,null,null,null,null,null,null,null,null,null,null,null,null,null,null,null,null,null,null,null,null,null,null,null,null,null,null,null,null,null,null,null,null,null,null,null,null,null,null,null,null,null,null,null,null,null,null,null,null,null,null,null,null,null,null,null,null,null,null,null,null,null,null,null,null,null,null,null,null,null,null,null,null,null,null,null,null,null,null,null,null,null,null,null,null,null,null,null,null,null,null,null,null,null,null,null,null,null,null,null,null,null,null,null,null,null,null,null,{"$f":"GB38","v":"1"},0.4916666666666667,{"$f":"Veri!GH106","v":0},{"$f":"MID(GD236,1,FIND(\"-\",GD236)-1)","v":{"$error":"#VALUE!"}},{"$error":"#VALUE!"}]
[{"$f":"A39","v":"1SV Lendorf"},"SC Kalsdorf",{"$f":"Veri!W14","v":"/"},{"$error":"#VALUE!"},{"$error":"#VALUE!"},null,null,null,null,null,null,null,null,null,null,null,null,null,null,null,null,null,null,null,null,null,null,null,null,null,null,null,null,null,null,null,null,null,null,null,null,null,null,null,null,null,null,null,null,null,null,null,null,null,null,null,null,null,null,null,null,null,null,null,null,null,null,null,null,null,null,null,null,null,null,null,null,null,null,null,null,null,null,null,null,null,null,null,null,null,null,null,null,null,null,null,null,null,null,null,null,null,null,null,null,null,null,null,null,null,null,null,null,null,null,null,null,null,null,null,null,null,null,null,null,null,null,null,null,null,null,null,null,null,null,null,null,null,null,null,null,null,null,null,null,null,null,null,null,null,null,null,null,null,null,null,null,null,null,null,null,null,null,null,null,null,null,null,null,null,null,null,null,null,null,null,null,null,null,null,null,null,null,{"$f":"GB39","v":"X"},0.16666666666666666,{"$f":"Veri!GH107","v":0},{"$f":"MID(GD237,1,FIND(\"-\",GD237)-1)","v":{"$error":"#VALUE!"}},{"$error":"#VALUE!"}]
[{"$f":"A40","v":"SC Kalsdorf"},"Deutschlandsberger SC",{"$f":"Veri!W15","v":"6-6"},"6","6",null,null,null,null,null,null,null,null,null,null,null,null,null,null,null,null,null,null,null,null,null,null,null,null,null,null,null,null,null,null,null,null,null,null,null,null,null,null,null,null,null,null,null,null,null,null,null,null,null,null,null,null,null,null,null,null,null,null,null,null,null,null,null,null,null,null,null,null,null,null,null,null,null,null,null,null,null,null,null,null,null,null,null,null,null,null,null,null,null,null,null,null,null,null,null,null,null,null,null,null,null,null,null,null,null,null,null,null,null,null,null,null,null,null,null,null,null,null,null,null,null,null,null,null,null,null,null,null,null,null,null,null,null,null,null,null,null,null,null,null,null,null,null,null,null,null,null,null,null,null,null,null,null,null,null,null,null,null,null,null,null,null,null,null,null,null,null,null,null,null,null,null,null,null,null,null,null,null,{"$f":"GB40","v":"2"},0.34166666666666662,{"$f":"Veri!GH108","v":0},{"$f":"MID(GD238,1,FIND(\"-\",GD238)-1)","v":{"$error":"#VALUE!"}},{"$error":"#VALUE!"}]
[{"$f":"A41","v":"Sturm Graz (Youth)"},"SC Kalsdorf1",{"$f":"Veri!W16","v":"1-7"},"1","7",null,null,null,null,null,null,null,null,null,null,null,null,null,null,null,null,null,null,null,null,null,null,null,null,null,null,null,null,null,null,null,null,null,null,null,null,null,null,null,null,null,null,null,null,null,null,null,null,null,null,null,null,null,null,null,null,null,null,null,null,null,null,null,null,null,null,null,null,null,null,null,null,null,null,null,null,null,null,null,null,null,null,null,null,null,null,null,null,null,null,null,null,null,null,null,null,null,null,null,null,null,null,null,null,null,null,null,null,null,null,null,null,null,null,null,null,null,null,null,null,null,null,null,null,null,null,null,null,null,null,null,null,null,null,null,null,null,null,null,null,null,null,null,null,null,null,null,null,null,null,null,null,null,null,null,null,null,null,null,null,null,null,null,null,null,null,null,null,null,null,null,null,null,null,null,null,null,null,{"$f":"GB41","v":0},0,{"$f":"Veri!GH109","v":0},{"$f":"MID(GD239,1,FIND(\"-\",GD239)-1)","v":{"$error":"#VALUE!"}},{"$error":"#VALUE!"}]
[{"$f":"A42","v":"SV Pachern"},"SC Kalsdorf",{"$f":"Veri!W17","v":"10-1"},"10","1",null,null,null,null,null,null,null,null,null,null,null,null,null,null,null,null,null,null,null,null,null,null,null,null,null,null,null,null,null,null,null,null,null,null,null,null,null,null,null,null,null,null,null,null,null,null,null,null,null,null,null,null,null,null,null,null,null,null,null,null,null,null,null,null,null,null,null,null,null,null,null,null,null,null,null,null,null,null,null,null,null,null,null,null,null,null,null,null,null,null,null,null,null,null,null,null,null,null,null,null,null,null,null,null,null,null,null,null,null,null,null,null,null,null,null,null,null,null,null,null,null,null,null,null,null,null,null,null,null,null,null,null,null,null,null,null,null,null,null,null,null,null,null,null,null,null,null,null,null,null,null,null,null,null,null,null,null,null,null,null,null,null,null,null,null,null,null,null,null,null,null,null,null,null,null,null,null,null,{"$f":"GB42","v":0},0,{"$f":"Veri!GH110","v":0},{"$f":"MID(GD240,1,FIND(\"-\",GD240)-1)","v":{"$error":"#VALUE!"}},{"$error":"#VALUE!"}]
[{"$f":"A43","v":"1SC Kalsdorf"},"Grazer AK",{"$f":"Veri!W18","v":"0-16"},"0","16",null,null,null,null,null,null,null,null,null,null,null,null,null,null,null,null,null,null,null,null,null,null,null,null,null,null,null,null,null,null,null,null,null,null,null,null,null,null,null,null,null,null,null,null,null,null,null,null,null,null,null,null,null,null,null,null,null,null,null,null,null,null,null,null,null,null,null,null,null,null,null,null,null,null,null,null,null,null,null,null,null,null,null,null,null,null,null,null,null,null,null,null,null,null,null,null,null,null,null,null,null,null,null,null,null,null,null,null,null,null,null,null,null,null,null,null,null,null,null,null,null,null,null,null,null,null,null,null,null,null,null,null,null,null,null,null,null,null,null,null,null,null,null,null,null,null,null,null,null,null,null,null,null,null,null,null,null,null,null,null,null,null,null,null,null,null,null,null,null,null,null,null,null,null,null,null,null,null,{"$f":"GB43","v":0},0,{"$f":"Veri!GH111","v":0},{"$f":"MID(GD241,1,FIND(\"-\",GD241)-1)","v":{"$error":"#VALUE!"}},{"$error":"#VALUE!"}]
[{"$f":"A44","v":"ATSV Stadl Paura"},"SC Kalsdorf",{"$f":"Veri!W19","v":"2-5"},"2","5",null,null,null,null,null,null,null,null,null,null,null,null,null,null,null,null,null,null,null,null,null,null,null,null,null,null,null,null,null,null,null,null,null,null,null,null,null,null,null,null,null,null,null,null,null,null,null,null,null,null,null,null,null,null,null,null,null,null,null,null,null,null,null,null,null,null,null,null,null,null,null,null,null,null,null,null,null,null,null,null,null,null,null,null,null,null,null,null,null,null,null,null,null,null,null,null,null,null,null,null,null,null,null,null,null,null,null,null,null,null,null,null,null,null,null,null,null,null,null,null,null,null,null,null,null,null,null,null,null,null,null,null,null,null,null,null,null,null,null,null,null,null,null,null,null,null,null,null,null,null,null,null,null,null,null,null,null,null,null,null,null,null,null,null,null,null,null,null,null,null,null,null,null,null,null,null,null,null,{"$f":"GB44","v":0},0,{"$f":"Veri!GH112","v":0},{"$f":"MID(GD242,1,FIND(\"-\",GD242)-1)","v":{"$error":"#VALUE!"}},{"$error":"#VALUE!"}]
[{"$f":"A45","v":"SC Kalsdorf"},"WSC Hertha Wels",{"$f":"Veri!W20","v":"1-6"},"1","6",null,null,null,null,null,null,null,null,null,null,null,null,null,null,null,null,null,null,null,null,null,null,null,null,null,null,null,null,null,null,null,null,null,null,null,null,null,null,null,null,null,null,null,null,null,null,null,null,null,null,null,null,null,null,null,null,null,null,null,null,null,null,null,null,null,null,null,null,null,null,null,null,null,null,null,null,null,null,null,null,null,null,null,null,null,null,null,null,null,null,null,null,null,null,null,null,null,null,null,null,null,null,null,null,null,null,null,null,null,null,null,null,null,null,null,null,null,null,null,null,null,null,null,null,null,null,null,null,null,null,null,null,null,null,null,null,null,null,null,null,null,null,null,null,null,null,null,null,null,null,null,null,null,null,null,null,null,null,null,null,null,null,null,null,null,null,null,null,null,null,null,null,null,null,null,null,null,null,{"$f":"GB45","v":0},0,{"$f":"Veri!GH113","v":0},{"$f":"MID(GD243,1,FIND(\"-\",GD243)-1)","v":{"$error":"#VALUE!"}},{"$error":"#VALUE!"}]
[{"$f":"A46","v":"Wolfsberger AC Amateure"},"SC Kalsdorf",{"$f":"Veri!W21","v":"8-0"},"8","0",null,null,null,null,null,null,null,null,null,null,null,null,null,null,null,null,null,null,null,null,null,null,null,null,null,null,null,null,null,null,null,null,null,null,null,null,null,null,null,null,null,null,null,null,null,null,null,null,null,null,null,null,null,null,null,null,null,null,null,null,null,null,null,null,null,null,null,null,null,null,null,null,null,null,null,null,null,null,null,null,null,null,null,null,null,null,null,null,null,null,null,null,null,null,null,null,null,null,null,null,null,null,null,null,null,null,null,null,null,null,null,null,null,null,null,null,null,null,null,null,null,null,null,null,null,null,null,null,null,null,null,null,null,null,null,null,null,null,null,null,null,null,null,null,null,null,null,null,null,null,null,null,null,null,null,null,null,null,null,null,null,null,null,null,null,null,null,null,null,null,null,null,null,null,null,null,null,null,{"$f":"GB46","v":0},0,{"$f":"Veri!GH114","v":0},{"$f":"MID(GD244,1,FIND(\"-\",GD244)-1)","v":{"$error":"#VALUE!"}},{"$error":"#VALUE!"}]
[{"$f":"A47","v":"SC Kalsdorf"},"Allerheiligen",{"$f":"Veri!W22","v":"1-3"},"1","3",null,null,null,null,null,null,null,null,null,null,null,null,null,null,null,null,null,null,null,null,null,null,null,null,null,null,null,null,null,null,null,null,null,null,null,null,null,null,null,null,null,null,null,null,null,null,null,null,null,null,null,null,null,null,null,null,null,null,null,null,null,null,null,null,null,null,null,null,null,null,null,null,null,null,null,null,null,null,null,null,null,null,null,null,null,null,null,null,null,null,null,null,null,null,null,null,null,null,null,null,null,null,null,null,null,null,null,null,null,null,null,null,null,null,null,null,null,null,null,null,null,null,null,null,null,null,null,null,null,null,null,null,null,null,null,null,null,null,null,null,null,null,null,null,null,null,null,null,null,null,null,null,null,null,null,null,null,null,null,null,null,null,null,null,null,null,null,null,null,null,null,null,null,null,null,null,null,null,{"$f":"GB47","v":0},0,{"$f":"Veri!GH115","v":0},{"$f":"MID(GD245,1,FIND(\"-\",GD245)-1)","v":{"$error":"#VALUE!"}},{"$error":"#VALUE!"}]
[{"$f":"A48","v":"SC Kalsdorf"},"SV Lebring",{"$f":"Veri!W23","v":"6-3"},"6","3",null,null,null,null,null,null,null,null,null,null,null,null,null,null,null,null,null,null,null,null,null,null,null,null,null,null,null,null,null,null,null,null,null,null,null,null,null,null,null,null,null,null,null,null,null,null,null,null,null,null,null,null,null,null,null,null,null,null,null,null,null,null,null,null,null,null,null,null,null,null,null,null,null,null,null,null,null,null,null,null,null,null,null,null,null,null,null,null,null,null,null,null,null,null,null,null,null,null,null,null,null,null,null,null,null,null,null,null,null,null,null,null,null,null,null,null,null,null,null,null,null,null,null,null,null,null,null,null,null,null,null,null,null,null,null,null,null,null,null,null,null,null,null,null,null,null,null,null,null,null,null,null,null,null,null,null,null,null,null,null,null,null,null,null,null,null,null,null,null,null,null,null,null,null,null,null,null,null,{"$f":"GB48","v":0},0,{"$f":"Veri!GH116","v":0},{"$f":"MID(GD246,1,FIND(\"-\",GD246)-1)","v":{"$error":"#VALUE!"}},{"$error":"#VALUE!"}]
[{"$f":"A49","v":"Usv Mettersdorf"},"SC Kalsdorf",{"$f":"Veri!W24","v":"4-2"},{"$f":"MID(C247,1,FIND(\"-\",C247)-1)","v":"4"},"2",null,null,null,null,null,null,null,null,null,null,null,null,null,null,null,null,null,null,null,null,null,null,null,null,null,null,null,null,null,null,null,null,null,null,null,null,null,null,null,null,null,null,null,null,null,null,null,null,null,null,null,null,null,null,null,null,null,null,null,null,null,null,null,null,null,null,null,null,null,null,null,null,null,null,null,null,null,null,null,null,null,null,null,null,null,null,null,null,null,null,null,null,null,null,null,null,null,null,null,null,null,null,null,null,null,null,null,null,null,null,null,null,null,null,null,null,null,null,null,null,null,null,null,null,null,null,null,null,null,null,null,null,null,null,null,null,null,null,null,null,null,null,null,null,null,null,null,null,null,null,null,null,null,null,null,null,null,null,null,null,null,null,null,null,null,null,null,null,null,null,null,null,null,null,null,null,null,null,{"$f":"GB49","v":0},0,{"$f":"Veri!GH117","v":0},{"$f":"MID(GD247,1,FIND(\"-\",GD247)-1)","v":{"$error":"#VALUE!"}},{"$error":"#VALUE!"}]
[null,null,null,{"$f":"D228+D229+D230+D231+D232+D233+D234+D235+D236+D238+D237+D239+D240+D241+D242","v":{"$error":"#VALUE!"}},{"$f":"E228+E229+E230+E231+E232+E233+E234+E235+E236+E238+E237+E239+E240+E241+E242","v":{"$error":"#VALUE!"}},null,null,null,null,null,null,null,null,null,null,null,null,null,null,null,null,null,null,null,null,null,null,null,null,null,null,null,null,null,null,null,null,null,null,null,null,null,null,null,null,null,null,null,null,null,null,null,null,null,null,null,null,null,null,null,null,null,null,null,null,null,null,null,null,null,null,null,null,null,null,null,null,null,null,null,null,null,null,null,null,null,null,null,null,null,null,null,null,null,null,null,null,null,null,null,null,null,null,null,null,null,null,null,null,null,null,null,null,null,null,null,null,null,null,null,null,null,null,null,null,null,null,null,null,null,null,null,null,null,null,null,null,null,null,null,null,null,null,null,null,null,null,null,null,null,null,null,null,null,null,null,null,null,null,null,null,null,null,null,null,null,null,null,null,null,null,null,null,null,null,null,null,null,null,null,null,null,null,null,null,null,{"$f":"GE228+GE229+GE230+GE231+GE232+GE233+GE234+GE235+GE236+GE238+GE237+GE239+GE240+GE241+GE242+GE243+GE244+GE245+GE246+GE247","v":{"$error":"#VALUE!"}},{"$f":"GF228+GF229+GF230+GF231+GF232+GF233+GF234+GF235+GF236+GF238+GF237+GF239+GF240+GF241+GF242+GF243+GF244+GF245+GF246+GF247","v":{"$error":"#VALUE!"}}]
[null,null,null,{"$f":"D248/15","v":{"$error":"#VALUE!"}},{"$f":"E248/15","v":{"$error":"#VALUE!"}},null,null,null,null,null,null,null,null,null,null,null,null,null,null,null,null,null,null,null,null,null,null,null,null,null,null,null,null,null,null,null,null,null,null,null,null,null,null,null,null,null,null,null,null,null,null,null,null,null,null,null,null,null,null,null,null,null,null,null,null,null,null,null,null,null,null,null,null,null,null,null,null,null,null,null,null,null,null,null,null,null,null,null,null,null,null,null,null,null,null,null,null,null,null,null,null,null,null,null,null,null,null,null,null,null,null,null,null,null,null,null,null,null,null,null,null,null,null,null,null,null,null,null,null,null,null,null,null,null,null,null,null,null,null,null,null,null,null,null,null,null,null,null,null,null,null,null,null,null,null,null,null,null,null,null,null,null,null,null,null,null,null,null,null,null,null,null,null,null,null,null,null,null,null,null,null,null,null,null,null,null,{"$f":"GE248/20","v":{"$error":"#VALUE!"}},{"$f":"GF248/20","v":{"$error":"#VALUE!"}}]

{"sheet":"Analiz","index":4,"n_rows":18,"n_cols":16,"rows_kept":18,"cut":false,"hidden":false,"merged":[[0,0,1,14],[1,15,1,17]]}
["pro analiz andsi v 2019 "]
[null,null,null,null,null,null,null,null,null,null,null,null,null,null,null,"2019-02-01"]
[]
[]
[]
[]
[]
[]
[]
[]
[]
[]
[]
[]
[]
[]
[]
["Copyright © 2017 Tüm Hakları Saklıdır. - Andsi pro Analiz "]

{"sheet":"KAYIT","index":5,"n_rows":1,"n_cols":49,"rows_kept":1,"cut":false,"hidden":false,"merged":[[0,28,0,29],[0,4,0,5],[0,6,0,7],[0,8,0,10],[0,11,0,13],[0,14,0,15],[0,16,0,17],[0,18,0,19],[0,20,0,21],[0,22,0,23],[0,24,0,25],[0,26,0,27],[0,30,0,31],[0,32,0,33],[0,34,0,35],[0,36,0,37],[0,38,0,39]]}
["EV SAHIBI","DEPLASMAN","TARIH","ANALIZ TURU","IY SKOR                               EV            DEP",null,"MS SKOR                            EV        DEP",null,"IY UZDELERI                                              1                  X                  2",null,null,"MS YUZDELERI                                              1                  X                  2",null,null,"IY TAHMIN 1",null,"IY TAHMIN 2",null,"MS TAHMIN1",null,"MS TAHMIN2",null,"TAHMIN 1",null,"TAHMIN 2",null,"EV 2,5 UST SON MACLARDA",null,"DEPLASMAN 2,5 UST SON MACLARDA",null,"KG1",null,"KG2",null,"CIFTE SANS",null,"TOPLAM GOL",null,"2,5 UST ALT",null,"IY 0,5 UST","IY 1,5 ALT","MS 1,5 UST","MS 2,5 UST","MS 3,5 ALT","IY-MS",null,"KORNER EV","KORNER DEP"]

{"sheet":"KUPONYAP1","index":6,"n_rows":1,"n_cols":49,"rows_kept":1,"cut":false,"hidden":false,"merged":[[0,38,0,39],[0,16,0,17],[0,18,0,19],[0,20,0,21],[0,22,0,23],[0,24,0,25],[0,26,0,27],[0,28,0,29],[0,30,0,31],[0,32,0,33],[0,34,0,35],[0,36,0,37],[0,4,0,5],[0,6,0,7],[0,8,0,10],[0,11,0,13],[0,14,0,15]]}
["EV SAHIBI","DEPLASMAN","TARIH","ANALIZ TURU","IY SKOR                               EV            DEP",null,"MS SKOR                            EV        DEP",null,"IY UZDELERI                                              1                  X                  2",null,null,"MS YUZDELERI                                              1                  X                  2",null,null,"IY TAHMIN 1",null,"IY TAHMIN 2",null,"MS TAHMIN1",null,"MS TAHMIN2",null,"TAHMIN 1",null,"TAHMIN 2",null,"EV 2,5 UST SON MACLARDA",null,"DEPLASMAN 2,5 UST SON MACLARDA",null,"KG1",null,"KG2",null,"CIFTE SANS",null,"TOPLAM GOL",null,"2,5 UST ALT",null,"IY 0,5 UST","IY 1,5 ALT","MS 1,5 UST","MS 2,5 UST","MS 3,5 ALT","IY-MS",null,"KORNER EV","KORNER DEP"]

{"sheet":"20MAC","index":7,"n_rows":103,"n_cols":18,"rows_kept":103,"cut":false,"hidden":false,"merged":[[29,15,30,15],[18,13,19,13],[18,9,19,9],[23,9,24,9],[92,2,92,3],[92,5,92,6],[92,10,92,11],[92,13,92,14],[87,10,87,11],[87,13,87,14],[84,2,84,3],[84,5,84,6],[84,10,84,11],[84,13,84,14],[85,2,85,3],[85,5,85,6],[85,10,85,11],[85,13,85,14],[82,2,82,3],[82,5,82,6],[29,13,30,13],[29,14,30,14],[70,6,71,11],[90,2,90,3],[90,5,90,6],[90,10,90,11],[90,13,90,14],[91,2,91,3],[91,5,91,6],[91,10,91,11],[91,13,91,14],[88,2,88,3],[88,5,88,6],[88,10,88,11],[88,13,88,14],[89,2,89,3],[89,5,89,6],[89,10,89,11],[89,13,89,14],[86,2,86,3],[86,5,86,6],[86,10,86,11],[86,13,86,14],[87,2,87,3],[87,5,87,6],[82,10,82,11],[82,13,82,14],[83,2,83,3],[83,5,83,6],[83,10,83,11],[83,13,83,14],[80,2,80,3],[80,5,80,6],[80,10,80,11],[80,13,80,14],[81,2,81,3],[81,5,81,6],[81,10,81,11],[81,13,81,14],[78,2,78,3],[78,5,78,6],[78,10,78,11],[78,13,78,14],[79,2,79,3],[79,5,79,6],[79,10,79,11],[79,13,79,14],[76,2,76,3],[76,5,76,6],[76,10,76,11],[76,13,76,14],[77,2,77,3],[77,5,77,6],[77,10,77,11],[77,13,77,14],[74,2,74,3],[74,5,74,6],[74,10,74,11],[74,13,74,14],[75,2,75,3],[75,5,75,6],[75,10,75,11],[75,13,75,14],[43,5,44,6],[45,5,46,6],[47,5,48,6],[72,2,72,6],[72,10,72,14],[73,2,73,3],[73,5,73,6],[73,10,73,11],[73,13,73,14],[64,5,64,13],[56,5,56,13],[59,5,59,9],[60,2,61,4],[61,5,61,13],[62,5,62,13],[63,5,63,13],[12,5,13,5],[12,6,13,6],[12,7,13,7],[23,13,24,13],[51,5,51,9],[52,2,53,4],[53,5,53,13],[54,5,54,13],[55,5,55,13],[22,12,25,12],[29,1,29,4],[29,7,30,7],[29,8,30,8],[29,9,30,9],[29,10,30,10],[29,11,30,11],[23,1,24,1],[23,3,24,3],[23,5,24,5],[23,7,24,7],[23,11,24,11],[35,5,37,10],[39,5,40,6],[41,5,42,6],[38,5,38,10],[39,7,40,10],[41,7,42,10],[43,7,44,10],[45,7,46,10],[47,7,48,10],[5,16,5,17],[0,0,2,15],[10,1,10,3],[10,5,10,7],[28,1,28,4],[18,1,19,1],[18,3,19,3],[18,5,19,5],[18,7,19,7],[18,11,19,11],[7,1,7,3],[7,5,7,7],[7,10,8,13],[8,1,9,3],[8,5,9,7],[12,1,13,1],[12,2,13,2],[12,3,13,3]]}
["pro analiz andsi v 19 . 02"]
[null,null,null,null,null,null,null,null,null,null,null,null,null,null,null,null,null,{"$f":"TODAY()","v":"2019-02-01"}]
[]
[]
[null,null,null,null,null,null,null,null,null,null,null,null,null,null,null,null,null,{"$f":"Bulten!AI1","v":"BET365"}]
[null,null,null,null,null,null,null,null,null,null,null,null,null,null,null,null,"20 MAC ANALIZI"]
[]
[null,{"$f":"ANALIZANDSI!$F$3","v":"OK"},null,null,null,{"$f":"ANALIZANDSI!$F$3","v":"OK"},null,null,null,null,"SKOR TAHMINLERI                                                   IY                             MS"]
[null,{"$f":"ANALIZANDSI!A140","v":"SG Austria Klagenfurt"},null,null,null,{"$f":"ANALIZANDSI!B140","v":"SC Kalsdorf"}]
[null,null,null,null,null,null,null,null,null,"20 MAC",{"$f":"ANALIZANDSI!E132","v":0.82499999999999996},{"$f":"ANALIZANDSI!F132","v":0.75},{"$f":"ANALIZANDSI!G132","v":1.7749999999999999},{"$f":"ANALIZANDSI!H132","v":1.8250000000000002},{"$f":"ANALIZANDSI!$F$3","v":"OK"}]
[null,"ILK YARI",null,null,null,"MAC SONU",null,null,null,"FORM",{"$f":"FORM!K11","v":1.4},{"$f":"FORM!L11","v":0.60000000000000009},{"$f":"FORM!M11","v":2.9000000000000004},{"$f":"FORM!N11","v":1.2},{"$f":"$O$10","v":"OK"}]
[null,1,"X",2,null,1,"X",2,null,"H2H",{"$f":"H2H!K12","v":0.8},{"$f":"H2H!L12","v":0.4},{"$f":"H2H!M12","v":2},{"$f":"H2H!N12","v":1.2},{"$f":"ANALIZANDSI!$DX$3","v":"OK"}]
[null,{"$f":"ANALIZANDSI!I132","v":0.375},{"$f":"ANALIZANDSI!J132","v":0.3},{"$f":"ANALIZANDSI!K132","v":0.32499999999999996},null,{"$f":"ANALIZANDSI!L132","v":0.375},{"$f":"ANALIZANDSI!M132","v":0.2},{"$f":"ANALIZANDSI!N132","v":0.42499999999999999},null,"ANDSI.P",{"$f":"ANDSIPRO!K13","v":1.4000000000000001},{"$f":"ANDSIPRO!L13","v":0.33333333333333331},{"$f":"ANDSIPRO!M13","v":2.2250000000000001},{"$f":"ANDSIPRO!N13","v":0.8833333333333333},{"$f":"ANALIZANDSI!$DX$3","v":"OK"}]
[]
[]
[]
[]
[null,"IY TAMIN1",null,"MS TAMIN1",null,"KG 1",null,"KG 2",null,"2,5 UST",null,"CIFTE",null,"TOPLAM GOL"]
[null,{"$f":"ANALIZANDSI!O132","v":"0,5 UST"},null,{"$f":"ANALIZANDSI!S132","v":"1,5 UST"},null,{"$f":"ANALIZANDSI!AE132","v":"KG VAR"},null,{"$f":"ANALIZANDSI!AG132","v":"KG VAR"},null,{"$f":"ANALIZANDSI!AM132","v":"2,5 UST"},null,{"$f":"ANALIZANDSI!AI132","v":"12"},null,{"$f":"ANALIZANDSI!AK132","v":"RISKLI"}]
[]
[null,{"$f":"ANALIZANDSI!P132","v":0.8},null,{"$f":"ANALIZANDSI!T132","v":0.875},null,{"$f":"ANALIZANDSI!AF132","v":0.7},null,{"$f":"ANALIZANDSI!AH132","v":0.7},null,{"$f":"ANALIZANDSI!AN132","v":0.7},null,{"$f":"ANALIZANDSI!AJ132","v":0.8},null,{"$f":"ANALIZANDSI!AL132","v":"RISKLI"}]
[]
[null,"IY TAMIN2",null,"MS TAMIN2",null,"TAHMIN 1",null,"TAHMIN 2",null,"iy-ms",null,"EV 2,5UST"," SON 20 MACTA 2,5 UST","DEP    2,5 UST"]
[null,{"$f":"ANALIZANDSI!Q132","v":"1"},null,{"$f":"ANALIZANDSI!U132","v":"2"},null,{"$f":"ANALIZANDSI!W132","v":"MS 1,5UST"},null,{"$f":"ANALIZANDSI!Y132","v":"MS 2,5UST"},null,{"$f":"ANALIZANDSI!AT132","v":"1 -2"},null,{"$f":"ANALIZANDSI!AA132","v":12},null,{"$f":"ANALIZANDSI!AC132","v":16}]
[]
[null,{"$f":"ANALIZANDSI!R132","v":"RISKLI"},null,{"$f":"ANALIZANDSI!V132","v":"RISKLI"},null,{"$f":"ANALIZANDSI!X132","v":0.875},null,{"$f":"ANALIZANDSI!Z132","v":0.7},null,{"$f":"ANALIZANDSI!AU132","v":0.4},null,{"$f":"ANALIZANDSI!AB132","v":0.6},null,{"$f":"ANALIZANDSI!AD132","v":0.8}]
[]
[]
[null,"ORANLAR ",null,null,null,null,null,{"$f":"ANALIZANDSI!AO131","v":"IY 0,5 UST"},{"$f":"ANALIZANDSI!AP131","v":"IY 1,5 ALT"},{"$f":"ANALIZANDSI!AQ131","v":"MS 1,5 UST"},{"$f":"ANALIZANDSI!AR131","v":"MS 2,5 UST"},{"$f":"ANALIZANDSI!AS131","v":"MS 3,5 ALT"},null,"KORNER EV","KORNER DEP","TOPLAM"]
[null,"ACILIS - KAPANIS ORANLARI",null,null,null,null,null,{"$f":"ANALIZANDSI!AO132","v":0.8},{"$f":"ANALIZANDSI!AP132","v":0.52500000000000002},{"$f":"ANALIZANDSI!AQ132","v":0.875},{"$f":"ANALIZANDSI!AR132","v":0.7},{"$f":"ANALIZANDSI!AS132","v":0.52499999999999991},null,{"$f":"ANALIZANDSI!AV132","v":{"$error":"#VALUE!"}},{"$f":"ANALIZANDSI!AW132","v":{"$error":"#VALUE!"}},{"$f":"N30+O30","v":{"$error":"#VALUE!"}}]
[null,"o.s","MS 1 ","MS X","MS 2"]
[null,"1",{"$f":"Bulten!AH11","v":1.29},{"$f":"Bulten!AH12","v":5.6},{"$f":"Bulten!AH13","v":6.54}]
[null,"1",{"$f":"Bulten!AH14","v":1.29},{"$f":"Bulten!AH15","v":5.6},{"$f":"Bulten!AH16","v":6.53}]
[]
[]
[null,null,null,null,null,"20 MAC ANALIZINE GORE TERCIHLER"]
[]
[]
[]
[null,null,null,null,null,"1 TERCIH",null,{"$f":"ANALIZANDSI!$BG$4","v":"MS 1,5UST"}]
[]
[null,null,null,null,null,"2 TERCIH",null,{"$f":"ANALIZANDSI!$BG$9","v":"IY 0,5UST"}]
[]
[null,null,null,null,null,"3 TERCIH",null,{"$f":"ANALIZANDSI!$BG$10","v":"MS 2,5UST"}]
[]
[null,null,null,null,null,"4 TERCIH",null,{"$f":"ANALIZANDSI!$BG$11","v":"MS 2,5UST"}]
[]
[null,null,null,null,null,"5 TERCIH",null,{"$f":"ANALIZANDSI!$BG$12","v":"MS 2,5UST"}]
[]
[]
[]
[null,null,null,null,null,"20 MAC ANALIZI HAKKINDA ONEMLI NOTLAR"]
[null,null,{"$f":"B9","v":"SG Austria Klagenfurt"}]
[null,null,null,null,null,{"$f":"ANALIZANDSI!P150","v":"SON 20 MACIN  17   TANESI  MS 1,5 UST   BITTI"}]
[null,null,null,null,null,{"$f":"ANALIZANDSI!P151","v":"SON 20 MACIN  17   TANESI  MS 1,5 UST   BITTI"}]
[null,null,null,null,null,{"$f":"ANALIZANDSI!P152","v":"SON 20 MACIN  17   TANESI  MS 1,5 UST   BITTI"}]
[null,null,null,null,null,{"$f":"ANALIZANDSI!P153","v":{"$error":"#N/A"}}]
[]
[]
[null,null,null,null,null,"20 MAC ANALIZI HAKKINDA ONEMLI NOTLAR"]
[null,null,{"$f":"F9","v":"SC Kalsdorf"}]
[null,null,null,null,null,{"$f":"ANALIZANDSI!P174","v":"SON 20 MACIN  18   TANESI  MS 1,5 UST   BITTI"}]
[null,null,null,null,null,{"$f":"ANALIZANDSI!P175","v":"SON 20 MACIN  17   TANESI  ILK YARISI 0,5 UST   BITTI"}]
[null,null,null,null,null,{"$f":"ANALIZANDSI!P176","v":"SON 20 MACIN  17   TANESI  ILK YARISI 0,5 UST   BITTI"}]
[null,null,null,null,null,{"$f":"ANALIZANDSI!P177","v":"SON 20 MACIN  17   TANESI  ILK YARISI 0,5 UST   BITTI"}]
[]
[]
[]
[]
[]
[null,null,null,null,null,null,"OYNANAN SON MAC SONUCLARI"]
[]
[null,null,"EV SAHIBI",null,null,null,null,"IY","MS",null,"DEPLASMAN",null,null,null,null,"IY","MS"]
[null,null,{"$f":"ANALIZANDSI!A4","v":"VST Volkermarkt"},null,"--",{"$f":"ANALIZANDSI!B4","v":"SG Austria Klagenfurt"},null,{"$f":"ANALIZANDSI!C4","v":"0-1"},{"$f":"ANALIZANDSI!D4","v":"2-3"},null,{"$f":"ANALIZANDSI!A30","v":"Leoben"},null,"--",{"$f":"ANALIZANDSI!B30","v":"SC Kalsdorf"},null,{"$f":"ANALIZANDSI!C30","v":"0-2"},{"$f":"ANALIZANDSI!D30","v":"0-4"}]
[null,null,{"$f":"ANALIZANDSI!A5","v":"KAC 1909"},null,"--",{"$f":"ANALIZANDSI!B5","v":"SG Austria Klagenfurt"},null,{"$f":"ANALIZANDSI!C5","v":"1-3"},{"$f":"ANALIZANDSI!D5","v":"2-6"},null,{"$f":"ANALIZANDSI!A31","v":"Union Gurten"},null,"--",{"$f":"ANALIZANDSI!B31","v":"SC Kalsdorf"},null,{"$f":"ANALIZANDSI!C31","v":"1-0"},{"$f":"ANALIZANDSI!D31","v":"3-0"}]
[null,null,{"$f":"ANALIZANDSI!A6","v":"Wolfsberger AC Amateure(N)"},null,"--",{"$f":"ANALIZANDSI!B6","v":"SG Austria Klagenfurt"},null,{"$f":"ANALIZANDSI!C6","v":"0-0"},{"$f":"ANALIZANDSI!D6","v":"0-2"},null,{"$f":"ANALIZANDSI!A32","v":"SC Kalsdorf"},null,"--",{"$f":"ANALIZANDSI!B32","v":"Vocklamarkt"},null,{"$f":"ANALIZANDSI!C32","v":"0-3"},{"$f":"ANALIZANDSI!D32","v":"0-6"}]
[null,null,{"$f":"ANALIZANDSI!A7","v":"SC Gleisdorf(N)"},null,"--",{"$f":"ANALIZANDSI!B7","v":"SG Austria Klagenfurt"},null,{"$f":"ANALIZANDSI!C7","v":"1-0"},{"$f":"ANALIZANDSI!D7","v":"1-2"},null,{"$f":"ANALIZANDSI!A33","v":"Gratkorn"},null,"--",{"$f":"ANALIZANDSI!B33","v":"SC Kalsdorf"},null,{"$f":"ANALIZANDSI!C33","v":"1-2"},{"$f":"ANALIZANDSI!D33","v":"1-2"}]
[null,null,{"$f":"ANALIZANDSI!A8","v":"SG Austria Klagenfurt"},null,"--",{"$f":"ANALIZANDSI!B8","v":"FC Liefering"},null,{"$f":"ANALIZANDSI!C8","v":"3-0"},{"$f":"ANALIZANDSI!D8","v":"3-0"},null,{"$f":"ANALIZANDSI!A34","v":"SC Weiz"},null,"--",{"$f":"ANALIZANDSI!B34","v":"SC Kalsdorf"},null,{"$f":"ANALIZANDSI!C34","v":"2-0"},{"$f":"ANALIZANDSI!D34","v":"3-1"}]
[null,null,{"$f":"ANALIZANDSI!A9","v":"SK Vorwarts Steyr"},null,"--",{"$f":"ANALIZANDSI!B9","v":"SG Austria Klagenfurt"},null,{"$f":"ANALIZANDSI!C9","v":"2-1"},{"$f":"ANALIZANDSI!D9","v":"2-1"},null,{"$f":"ANALIZANDSI!A35","v":"SC Kalsdorf"},null,"--",{"$f":"ANALIZANDSI!B35","v":"VST Volkermarkt"},null,{"$f":"ANALIZANDSI!C35","v":"0-1"},{"$f":"ANALIZANDSI!D35","v":"2-1"}]
[null,null,{"$f":"ANALIZANDSI!A10","v":"SG Austria Klagenfurt"},null,"--",{"$f":"ANALIZANDSI!B10","v":"SV Ried"},null,{"$f":"ANALIZANDSI!C10","v":"0-0"},{"$f":"ANALIZANDSI!D10","v":"0-0"},null,{"$f":"ANALIZANDSI!A36","v":"FC Wels"},null,"--",{"$f":"ANALIZANDSI!B36","v":"SC Kalsdorf1"},null,{"$f":"ANALIZANDSI!C36","v":"2-2"},{"$f":"ANALIZANDSI!D36","v":"3-3"}]
[null,null,{"$f":"ANALIZANDSI!A11","v":"Lafnitz"},null,"--",{"$f":"ANALIZANDSI!B11","v":"SG Austria Klagenfurt"},null,{"$f":"ANALIZANDSI!C11","v":"0-1"},{"$f":"ANALIZANDSI!D11","v":"1-1"},null,{"$f":"ANALIZANDSI!A37","v":"SC Kalsdorf"},null,"--",{"$f":"ANALIZANDSI!B37","v":"SC Gleisdorf"},null,{"$f":"ANALIZANDSI!C37","v":"0-1"},{"$f":"ANALIZANDSI!D37","v":"1-1"}]
[null,null,{"$f":"ANALIZANDSI!A12","v":"SG Austria Klagenfurt"},null,"--",{"$f":"ANALIZANDSI!B12","v":"SKU Amstetten"},null,{"$f":"ANALIZANDSI!C12","v":"0-2"},{"$f":"ANALIZANDSI!D12","v":"2-2"},null,{"$f":"ANALIZANDSI!A38","v":"SC Kalsdorf"},null,"--",{"$f":"ANALIZANDSI!B38","v":"TUS Bad Gleichenberg"},null,{"$f":"ANALIZANDSI!C38","v":"0-2"},{"$f":"ANALIZANDSI!D38","v":"2-4"}]
[null,null,{"$f":"ANALIZANDSI!A13","v":"Kapfenberg"},null,"--",{"$f":"ANALIZANDSI!B13","v":"SG Austria Klagenfurt"},null,{"$f":"ANALIZANDSI!C13","v":"0-1"},{"$f":"ANALIZANDSI!D13","v":"3-1"},null,{"$f":"ANALIZANDSI!A39","v":"1SV Lendorf"},null,"--",{"$f":"ANALIZANDSI!B39","v":"SC Kalsdorf"},null,{"$f":"ANALIZANDSI!C39","v":"0-0"},{"$f":"ANALIZANDSI!D39","v":"0-2"}]
[null,null,{"$f":"ANALIZANDSI!A14","v":"FAC Team Fur Wien"},null,"--",{"$f":"ANALIZANDSI!B14","v":"SG Austria Klagenfurt"},null,{"$f":"ANALIZANDSI!C14","v":"0-1"},{"$f":"ANALIZANDSI!D14","v":"1-2"},null,{"$f":"ANALIZANDSI!A40","v":"SC Kalsdorf"},null,"--",{"$f":"ANALIZANDSI!B40","v":"Deutschlandsberger SC"},null,{"$f":"ANALIZANDSI!C40","v":"2-1"},{"$f":"ANALIZANDSI!D40","v":"4-1"}]
[null,null,{"$f":"ANALIZANDSI!A15","v":"Wolfsberger AC"},null,"--",{"$f":"ANALIZANDSI!B15","v":"SG Austria Klagenfurt"},null,{"$f":"ANALIZANDSI!C15","v":"3-0"},{"$f":"ANALIZANDSI!D15","v":"4-0"},null,{"$f":"ANALIZANDSI!A41","v":"Sturm Graz (Youth)"},null,"--",{"$f":"ANALIZANDSI!B41","v":"SC Kalsdorf1"},null,{"$f":"ANALIZANDSI!C41","v":"0-1"},{"$f":"ANALIZANDSI!D41","v":"3-2"}]
[null,null,{"$f":"ANALIZANDSI!A16","v":"SG Austria Klagenfurt"},null,"--",{"$f":"ANALIZANDSI!B16","v":"FC Magna Wiener Neustadt"},null,{"$f":"ANALIZANDSI!C16","v":"0-0"},{"$f":"ANALIZANDSI!D16","v":"1-1"},null,{"$f":"ANALIZANDSI!A42","v":"SV Pachern"},null,"--",{"$f":"ANALIZANDSI!B42","v":"SC Kalsdorf"},null,{"$f":"ANALIZANDSI!C42","v":"0-3"},{"$f":"ANALIZANDSI!D42","v":"1-6"}]
[null,null,{"$f":"ANALIZANDSI!A17","v":"SV Horn"},null,"--",{"$f":"ANALIZANDSI!B17","v":"SG Austria Klagenfurt"},null,{"$f":"ANALIZANDSI!C17","v":"0-1"},{"$f":"ANALIZANDSI!D17","v":"0-1"},null,{"$f":"ANALIZANDSI!A43","v":"1SC Kalsdorf"},null,"--",{"$f":"ANALIZANDSI!B43","v":"Grazer AK"},null,{"$f":"ANALIZANDSI!C43","v":"2-0"},{"$f":"ANALIZANDSI!D43","v":"2-3"}]
[null,null,{"$f":"ANALIZANDSI!A18","v":"SG Austria Klagenfurt"},null,"--",{"$f":"ANALIZANDSI!B18","v":"Austria Wien (Youth)"},null,{"$f":"ANALIZANDSI!C18","v":"1-1"},{"$f":"ANALIZANDSI!D18","v":"1-2"},null,{"$f":"ANALIZANDSI!A44","v":"ATSV Stadl Paura"},null,"--",{"$f":"ANALIZANDSI!B44","v":"SC Kalsdorf"},null,{"$f":"ANALIZANDSI!C44","v":"0-0"},{"$f":"ANALIZANDSI!D44","v":"1-0"}]
[null,null,{"$f":"ANALIZANDSI!A19","v":"FC Superfund Pasching"},null,null,{"$f":"ANALIZANDSI!B19","v":"SG Austria Klagenfurt"},null,{"$f":"ANALIZANDSI!C19","v":"0-1"},{"$f":"ANALIZANDSI!D19","v":"2-1"},null,{"$f":"ANALIZANDSI!A45","v":"SC Kalsdorf"},null,null,{"$f":"ANALIZANDSI!B45","v":"WSC Hertha Wels"},null,{"$f":"ANALIZANDSI!C45","v":"1-1"},{"$f":"ANALIZANDSI!D45","v":"2-5"}]
[null,null,{"$f":"ANALIZANDSI!A20","v":"SG Austria Klagenfurt"},null,null,{"$f":"ANALIZANDSI!B20","v":"FC Wacker Innsbruck Amateure"},null,{"$f":"ANALIZANDSI!C20","v":"0-0"},{"$f":"ANALIZANDSI!D20","v":"0-1"},null,{"$f":"ANALIZANDSI!A46","v":"Wolfsberger AC Amateure"},null,null,{"$f":"ANALIZANDSI!B46","v":"SC Kalsdorf"},null,{"$f":"ANALIZANDSI!C46","v":"1-1"},{"$f":"ANALIZANDSI!D46","v":"3-1"}]
[null,null,{"$f":"ANALIZANDSI!A21","v":"WSG Wattens"},null,null,{"$f":"ANALIZANDSI!B21","v":"SG Austria Klagenfurt1"},null,{"$f":"ANALIZANDSI!C21","v":"0-0"},{"$f":"ANALIZANDSI!D21","v":"1-1"},null,{"$f":"ANALIZANDSI!A47","v":"SC Kalsdorf"},null,null,{"$f":"ANALIZANDSI!B47","v":"Allerheiligen"},null,{"$f":"ANALIZANDSI!C47","v":"1-0"},{"$f":"ANALIZANDSI!D47","v":"1-0"}]
[null,null,{"$f":"ANALIZANDSI!A22","v":"FC Blau Weiss Linz"},null,null,{"$f":"ANALIZANDSI!B22","v":"SG Austria Klagenfurt"},null,{"$f":"ANALIZANDSI!C22","v":"2-0"},{"$f":"ANALIZANDSI!D22","v":"3-1"},null,{"$f":"ANALIZANDSI!A48","v":"SC Kalsdorf"},null,null,{"$f":"ANALIZANDSI!B48","v":"SV Lebring"},null,{"$f":"ANALIZANDSI!C48","v":"2-1"},{"$f":"ANALIZANDSI!D48","v":"5-2"}]
[null,null,{"$f":"ANALIZANDSI!A23","v":"SG Austria Klagenfurt"},null,null,{"$f":"ANALIZANDSI!B23","v":"Austria Lustenau"},null,{"$f":"ANALIZANDSI!C23","v":"0-1"},{"$f":"ANALIZANDSI!D23","v":"1-1"},null,{"$f":"ANALIZANDSI!A49","v":"Usv Mettersdorf"},null,null,{"$f":"ANALIZANDSI!B49","v":"SC Kalsdorf"},null,{"$f":"ANALIZANDSI!C49","v":"0-0"},{"$f":"ANALIZANDSI!D49","v":"1-3"}]
[]
[]
[]
[]
[]
[]
[]
[]
[]
["Copyright © 2017 Tüm Hakları Saklıdır. - Andsi pro Analiz "]

{"sheet":"KUPONYAP2","index":8,"n_rows":45,"n_cols":56,"rows_kept":45,"cut":false,"hidden":false,"merged":[[0,42,0,48],[0,49,0,55],[0,0,0,6],[0,7,0,13],[0,14,0,20],[0,21,0,27],[0,28,0,34],[0,35,0,41]]}
["MAC 1",null,null,null,null,null,null,"MAC 2",null,null,null,null,null,null,"MAC 3",null,null,null,null,null,null,"MAC 4",null,null,null,null,null,null,"MAC 5",null,null,null,null,null,null,"MAC 6",null,null,null,null,null,null,"MAC 7",null,null,null,null,null,null,"MAC 8"]
[{"$f":"KUPONYAP1!A2&\"- \"&KUPONYAP1!B2","v":"- "},null,null,{"$f":"KUPONYAP1!I2","v":0},{"$f":"A2&\"- \"&F2","v":"- - IY 1"},"IY 1",{"$f":"D2","v":0},{"$f":"KUPONYAP1!A6&\"- \"&KUPONYAP1!B6","v":"- "},null,null,{"$f":"KUPONYAP1!I6","v":0},{"$f":"H2&\"- \"&M2","v":"- - IY 1"},"IY 1",{"$f":"K2","v":0},{"$f":"KUPONYAP1!A10&\"- \"&KUPONYAP1!B10","v":"- "},null,null,{"$f":"KUPONYAP1!I10","v":0},{"$f":"O2&\"- \"&T2","v":"- - IY 1"},"IY 1",{"$f":"R2","v":0},{"$f":"KUPONYAP1!A14&\"- \"&KUPONYAP1!B14","v":"- "},null,null,{"$f":"KUPONYAP1!I14","v":0},{"$f":"V2&\"- \"&AA2","v":"- - IY 1"},"IY 1",{"$f":"Y2","v":0},{"$f":"KUPONYAP1!A18&\"- \"&KUPONYAP1!B18","v":"- "},null,null,{"$f":"KUPONYAP1!I18","v":0},{"$f":"AC2&\"- \"&AH2","v":"- - IY 1"},"IY 1",{"$f":"AF2","v":0},{"$f":"KUPONYAP1!A22&\"- \"&KUPONYAP1!B22","v":"- "},null,null,{"$f":"KUPONYAP1!I22","v":0},{"$f":"AJ2&\"- \"&AO2","v":"- - IY 1"},"IY 1",{"$f":"AM2","v":0},{"$f":"KUPONYAP1!A26&\"- \"&KUPONYAP1!B26","v":"- "},null,null,{"$f":"KUPONYAP1!I26","v":0},{"$f":"AQ2&\"- \"&AV2","v":"- - IY 1"},"IY 1",{"$f":"AT2","v":0},{"$f":"KUPONYAP1!A30&\"- \"&KUPONYAP1!B30","v":"- "},null,null,{"$f":"KUPONYAP1!I30","v":0},{"$f":"AX2&\"- \"&BC2","v":"- - IY 1"},"IY 1",{"$f":"BA2","v":0}]
[{"$f":"KUPONYAP1!A3&\"- \"&KUPONYAP1!B3","v":"- "},null,null,{"$f":"KUPONYAP1!I3","v":0},"- - IY 1","IY 1",0,{"$f":"KUPONYAP1!A7&\"- \"&KUPONYAP1!B7","v":"- "},null,null,{"$f":"KUPONYAP1!I7","v":0},"- - IY 1","IY 1",0,{"$f":"KUPONYAP1!A11&\"- \"&KUPONYAP1!B11","v":"- "},null,null,{"$f":"KUPONYAP1!I11","v":0},"- - IY 1","IY 1",0,{"$f":"KUPONYAP1!A15&\"- \"&KUPONYAP1!B15","v":"- "},null,null,{"$f":"KUPONYAP1!I15","v":0},"- - IY 1","IY 1",0,{"$f":"KUPONYAP1!A19&\"- \"&KUPONYAP1!B19","v":"- "},null,null,{"$f":"KUPONYAP1!I19","v":0},"- - IY 1","IY 1",0,{"$f":"KUPONYAP1!A23&\"- \"&KUPONYAP1!B23","v":"- "},null,null,{"$f":"KUPONYAP1!I23","v":0},"- - IY 1","IY 1",0,{"$f":"KUPONYAP1!A27&\"- \"&KUPONYAP1!B27","v":"- "},null,null,{"$f":"KUPONYAP1!I27","v":0},"- - IY 1","IY 1",0,{"$f":"KUPONYAP1!A31&\"- \"&KUPONYAP1!B31","v":"- "},null,null,{"$f":"KUPONYAP1!I31","v":0},"- - IY 1","IY 1",0]
[{"$f":"KUPONYAP1!A4&\"- \"&KUPONYAP1!B4","v":"- "},null,null,{"$f":"KUPONYAP1!I4","v":0},"- - IY 1","IY 1",0,{"$f":"KUPONYAP1!A8&\"- \"&KUPONYAP1!B8","v":"- "},null,null,{"$f":"KUPONYAP1!I8","v":0},"- - IY 1","IY 1",0,{"$f":"KUPONYAP1!A12&\"- \"&KUPONYAP1!B12","v":"- "},null,null,{"$f":"KUPONYAP1!I12","v":0},"- - IY 1","IY 1",0,{"$f":"KUPONYAP1!A16&\"- \"&KUPONYAP1!B16","v":"- "},null,null,{"$f":"KUPONYAP1!I16","v":0},"- - IY 1","IY 1",0,{"$f":"KUPONYAP1!A20&\"- \"&KUPONYAP1!B20","v":"- "},null,null,{"$f":"KUPONYAP1!I20","v":0},"- - IY 1","IY 1",0,{"$f":"KUPONYAP1!A24&\"- \"&KUPONYAP1!B24","v":"- "},null,null,{"$f":"KUPONYAP1!I24","v":0},"- - IY 1","IY 1",0,{"$f":"KUPONYAP1!A28&\"- \"&KUPONYAP1!B28","v":"- "},null,null,{"$f":"KUPONYAP1!I28","v":0},"- - IY 1","IY 1",0,{"$f":"KUPONYAP1!A32&\"- \"&KUPONYAP1!B32","v":"- "},null,null,{"$f":"KUPONYAP1!I32","v":0},"- - IY 1","IY 1",0]
[{"$f":"KUPONYAP1!A5&\"- \"&KUPONYAP1!B5","v":"- "},null,null,{"$f":"KUPONYAP1!I5","v":0},"- - IY 1","IY 1",0,{"$f":"KUPONYAP1!A9&\"- \"&KUPONYAP1!B9","v":"- "},null,null,{"$f":"KUPONYAP1!I9","v":0},"- - IY 1","IY 1",0,{"$f":"KUPONYAP1!A13&\"- \"&KUPONYAP1!B13","v":"- "},null,null,{"$f":"KUPONYAP1!I13","v":0},"- - IY 1","IY 1",0,{"$f":"KUPONYAP1!A17&\"- \"&KUPONYAP1!B17","v":"- "},null,null,{"$f":"KUPONYAP1!I17","v":0},"- - IY 1","IY 1",0,{"$f":"KUPONYAP1!A21&\"- \"&KUPONYAP1!B21","v":"- "},null,null,{"$f":"KUPONYAP1!I21","v":0},"- - IY 1","IY 1",0,{"$f":"KUPONYAP1!A25&\"- \"&KUPONYAP1!B25","v":"- "},null,null,{"$f":"KUPONYAP1!I25","v":0},"- - IY 1","IY 1",0,{"$f":"KUPONYAP1!A29&\"- \"&KUPONYAP1!B29","v":"- "},null,null,{"$f":"KUPONYAP1!I29","v":0},"- - IY 1","IY 1",0,{"$f":"KUPONYAP1!A33&\"- \"&KUPONYAP1!B33","v":"- "},null,null,{"$f":"KUPONYAP1!I33","v":0},"- - IY 1","IY 1",0]
[{"$f":"A2","v":"- "},null,null,{"$f":"KUPONYAP1!J2","v":0},{"$f":"A6&\"- \"&F6","v":"- - IY X"},"IY X",{"$f":"D6","v":0},{"$f":"H2","v":"- "},null,null,{"$f":"KUPONYAP1!J6","v":0},"- - IY X","IY X",0,{"$f":"O2","v":"- "},null,null,{"$f":"KUPONYAP1!J10","v":0},"- - IY X","IY X",0,{"$f":"V2","v":"- "},null,null,{"$f":"KUPONYAP1!J14","v":0},"- - IY X","IY X",0,{"$f":"AC2","v":"- "},null,null,{"$f":"KUPONYAP1!J18","v":0},"- - IY X","IY X",0,{"$f":"AJ2","v":"- "},null,null,{"$f":"KUPONYAP1!J22","v":0},"- - IY X","IY X",0,{"$f":"AQ2","v":"- "},null,null,{"$f":"KUPONYAP1!J26","v":0},"- - IY X","IY X",0,{"$f":"AX2","v":"- "},null,null,{"$f":"KUPONYAP1!J30","v":0},"- - IY X","IY X",0]
[{"$f":"A3","v":"- "},null,null,{"$f":"KUPONYAP1!J3","v":0},"- - IY X","IY X",0,{"$f":"H3","v":"- "},null,null,{"$f":"KUPONYAP1!J7","v":0},"- - IY X","IY X",0,{"$f":"O3","v":"- "},null,null,{"$f":"KUPONYAP1!J11","v":0},"- - IY X","IY X",0,{"$f":"V3","v":"- "},null,null,{"$f":"KUPONYAP1!J15","v":0},"- - IY X","IY X",0,{"$f":"AC3","v":"- "},null,null,{"$f":"KUPONYAP1!J19","v":0},"- - IY X","IY X",0,{"$f":"AJ3","v":"- "},null,null,{"$f":"KUPONYAP1!J23","v":0},"- - IY X","IY X",0,{"$f":"AQ3","v":"- "},null,null,{"$f":"KUPONYAP1!J27","v":0},"- - IY X","IY X",0,{"$f":"AX3","v":"- "},null,null,{"$f":"KUPONYAP1!J31","v":0},"- - IY X","IY X",0]
["- ",null,null,{"$f":"KUPONYAP1!J4","v":0},"- - IY X","IY X",0,"- ",null,null,{"$f":"KUPONYAP1!J8","v":0},"- - IY X","IY X",0,"- ",null,null,{"$f":"KUPONYAP1!J12","v":0},"- - IY X","IY X",0,"- ",null,null,{"$f":"KUPONYAP1!J16","v":0},"- - IY X","IY X",0,"- ",null,null,{"$f":"KUPONYAP1!J20","v":0},"- - IY X","IY X",0,"- ",null,null,{"$f":"KUPONYAP1!J24","v":0},"- - IY X","IY X",0,"- ",null,null,{"$f":"KUPONYAP1!J28","v":0},"- - IY X","IY X",0,"- ",null,null,{"$f":"KUPONYAP1!J32","v":0},"- - IY X","IY X",0]
["- ",null,null,{"$f":"KUPONYAP1!J5","v":0},"- - IY X","IY X",0,"- ",null,null,{"$f":"KUPONYAP1!J9","v":0},"- - IY X","IY X",0,"- ",null,null,{"$f":"KUPONYAP1!J13","v":0},"- - IY X","IY X",0,"- ",null,null,{"$f":"KUPONYAP1!J17","v":0},"- - IY X","IY X",0,"- ",null,null,{"$f":"KUPONYAP1!J21","v":0},"- - IY X","IY X",0,"- ",null,null,{"$f":"KUPONYAP1!J25","v":0},"- - IY X","IY X",0,"- ",null,null,{"$f":"KUPONYAP1!J29","v":0},"- - IY X","IY X",0,"- ",null,null,{"$f":"KUPONYAP1!J33","v":0},"- - IY X","IY X",0]
[{"$f":"A2","v":"- "},null,null,{"$f":"KUPONYAP1!K2","v":0},"- - IY 2","IY 2",0,{"$f":"H2","v":"- "},null,null,{"$f":"KUPONYAP1!K6","v":0},"- - IY 2","IY 2",0,{"$f":"O2","v":"- "},null,null,{"$f":"KUPONYAP1!K10","v":0},"- - IY 2","IY 2",0,{"$f":"V2","v":"- "},null,null,{"$f":"KUPONYAP1!K14","v":0},"- - IY 2","IY 2",0,{"$f":"AC2","v":"- "},null,null,{"$f":"KUPONYAP1!K18","v":0},"- - IY 2","IY 2",0,{"$f":"AJ2","v":"- "},null,null,{"$f":"KUPONYAP1!K22","v":0},"- - IY 2","IY 2",0,{"$f":"AQ2","v":"- "},null,null,{"$f":"KUPONYAP1!K26","v":0},"- - IY 2","IY 2",0,{"$f":"AX2","v":"- "},null,null,{"$f":"KUPONYAP1!K30","v":0},"- - IY 2","IY 2",0]
[{"$f":"A3","v":"- "},null,null,{"$f":"KUPONYAP1!K3","v":0},"- - IY 2","IY 2",0,{"$f":"H3","v":"- "},null,null,{"$f":"KUPONYAP1!K7","v":0},"- - IY 2","IY 2",0,{"$f":"O3","v":"- "},null,null,{"$f":"KUPONYAP1!K11","v":0},"- - IY 2","IY 2",0,{"$f":"V3","v":"- "},null,null,{"$f":"KUPONYAP1!K15","v":0},"- - IY 2","IY 2",0,{"$f":"AC3","v":"- "},null,null,{"$f":"KUPONYAP1!K19","v":0},"- - IY 2","IY 2",0,{"$f":"AJ3","v":"- "},null,null,{"$f":"KUPONYAP1!K23","v":0},"- - IY 2","IY 2",0,{"$f":"AQ3","v":"- "},null,null,{"$f":"KUPONYAP1!K27","v":0},"- - IY 2","IY 2",0,{"$f":"AX3","v":"- "},null,null,{"$f":"KUPONYAP1!K31","v":0},"- - IY 2","IY 2",0]
[{"$f":"A4","v":"- "},null,null,{"$f":"KUPONYAP1!K4","v":0},"- - IY 2","IY 2",0,{"$f":"H4","v":"- "},null,null,{"$f":"KUPONYAP1!K8","v":0},"- - IY 2","IY 2",0,{"$f":"O4","v":"- "},null,null,{"$f":"KUPONYAP1!K12","v":0},"- - IY 2","IY 2",0,{"$f":"V4","v":"- "},null,null,{"$f":"KUPONYAP1!K16","v":0},"- - IY 2","IY 2",0,{"$f":"AC4","v":"- "},null,null,{"$f":"KUPONYAP1!K20","v":0},"- - IY 2","IY 2",0,{"$f":"AJ4","v":"- "},null,null,{"$f":"KUPONYAP1!K24","v":0},"- - IY 2","IY 2",0,{"$f":"AQ4","v":"- "},null,null,{"$f":"KUPONYAP1!K28","v":0},"- - IY 2","IY 2",0,{"$f":"AX4","v":"- "},null,null,{"$f":"KUPONYAP1!K32","v":0},"- - IY 2","IY 2",0]
[{"$f":"A5","v":"- "},null,null,{"$f":"KUPONYAP1!K5","v":0},"- - IY 2","IY 2",0,{"$f":"H5","v":"- "},null,null,{"$f":"KUPONYAP1!K9","v":0},"- - IY 2","IY 2",0,{"$f":"O5","v":"- "},null,null,{"$f":"KUPONYAP1!K13","v":0},"- - IY 2","IY 2",0,{"$f":"V5","v":"- "},null,null,{"$f":"KUPONYAP1!K17","v":0},"- - IY 2","IY 2",0,{"$f":"AC5","v":"- "},null,null,{"$f":"KUPONYAP1!K21","v":0},"- - IY 2","IY 2",0,{"$f":"AJ5","v":"- "},null,null,{"$f":"KUPONYAP1!K25","v":0},"- - IY 2","IY 2",0,{"$f":"AQ5","v":"- "},null,null,{"$f":"KUPONYAP1!K29","v":0},"- - IY 2","IY 2",0,{"$f":"AX5","v":"- "},null,null,{"$f":"KUPONYAP1!K33","v":0},"- - IY 2","IY 2",0]
[{"$f":"A10","v":"- "},null,null,{"$f":"KUPONYAP1!L2","v":0},"- - MS 1","MS 1",0,{"$f":"H10","v":"- "},null,null,{"$f":"KUPONYAP1!L6","v":0},"- - MS 1","MS 1",0,{"$f":"O10","v":"- "},null,null,{"$f":"KUPONYAP1!L10","v":0},"- - MS 1","MS 1",0,{"$f":"V10","v":"- "},null,null,{"$f":"KUPONYAP1!L14","v":0},"- - MS 1","MS 1",0,{"$f":"AC10","v":"- "},null,null,{"$f":"KUPONYAP1!L18","v":0},"- - MS 1","MS 1",0,{"$f":"AJ10","v":"- "},null,null,{"$f":"KUPONYAP1!L22","v":0},"- - MS 1","MS 1",0,{"$f":"AQ10","v":"- "},null,null,{"$f":"KUPONYAP1!L26","v":0},"- - MS 1","MS 1",0,{"$f":"AX10","v":"- "},null,null,{"$f":"KUPONYAP1!L30","v":0},"- - MS 1","MS 1",0]
["- ",null,null,{"$f":"KUPONYAP1!L3","v":0},"- - MS 1","MS 1",0,"- ",null,null,{"$f":"KUPONYAP1!L7","v":0},"- - MS 1","MS 1",0,"- ",null,null,{"$f":"KUPONYAP1!L11","v":0},"- - MS 1","MS 1",0,"- ",null,null,{"$f":"KUPONYAP1!L15","v":0},"- - MS 1","MS 1",0,"- ",null,null,{"$f":"KUPONYAP1!L19","v":0},"- - MS 1","MS 1",0,"- ",null,null,{"$f":"KUPONYAP1!L23","v":0},"- - MS 1","MS 1",0,"- ",null,null,{"$f":"KUPONYAP1!L27","v":0},"- - MS 1","MS 1",0,"- ",null,null,{"$f":"KUPONYAP1!L31","v":0},"- - MS 1","MS 1",0]
["- ",null,null,{"$f":"KUPONYAP1!L4","v":0},"- - MS 1","MS 1",0,"- ",null,null,{"$f":"KUPONYAP1!L8","v":0},"- - MS 1","MS 1",0,"- ",null,null,{"$f":"KUPONYAP1!L12","v":0},"- - MS 1","MS 1",0,"- ",null,null,{"$f":"KUPONYAP1!L16","v":0},"- - MS 1","MS 1",0,"- ",null,null,{"$f":"KUPONYAP1!L20","v":0},"- - MS 1","MS 1",0,"- ",null,null,{"$f":"KUPONYAP1!L24","v":0},"- - MS 1","MS 1",0,"- ",null,null,{"$f":"KUPONYAP1!L28","v":0},"- - MS 1","MS 1",0,"- ",null,null,{"$f":"KUPONYAP1!L32","v":0},"- - MS 1","MS 1",0]
[{"$f":"A13","v":"- "},null,null,{"$f":"KUPONYAP1!L5","v":0},"- - MS 1","MS 1",0,{"$f":"H13","v":"- "},null,null,{"$f":"KUPONYAP1!L9","v":0},"- - MS 1","MS 1",0,{"$f":"O13","v":"- "},null,null,{"$f":"KUPONYAP1!L13","v":0},"- - MS 1","MS 1",0,{"$f":"V13","v":"- "},null,null,{"$f":"KUPONYAP1!L17","v":0},"- - MS 1","MS 1",0,{"$f":"AC13","v":"- "},null,null,{"$f":"KUPONYAP1!L21","v":0},"- - MS 1","MS 1",0,{"$f":"AJ13","v":"- "},null,null,{"$f":"KUPONYAP1!L25","v":0},"- - MS 1","MS 1",0,{"$f":"AQ13","v":"- "},null,null,{"$f":"KUPONYAP1!L29","v":0},"- - MS 1","MS 1",0,{"$f":"AX13","v":"- "},null,null,{"$f":"KUPONYAP1!L33","v":0},"- - MS 1","MS 1",0]
["- ",null,null,{"$f":"KUPONYAP1!M2","v":0},{"$f":"A18&\"- \"&F18","v":"- - MS X"},"MS X",{"$f":"D18","v":0},"- ",null,null,{"$f":"KUPONYAP1!M6","v":0},"- - MS X","MS X",0,"- ",null,null,{"$f":"KUPONYAP1!M10","v":0},"- - MS X","MS X",0,"- ",null,null,{"$f":"KUPONYAP1!M14","v":0},"- - MS X","MS X",0,"- ",null,null,{"$f":"KUPONYAP1!M18","v":0},"- - MS X","MS X",0,"- ",null,null,{"$f":"KUPONYAP1!M22","v":0},"- - MS X","MS X",0,"- ",null,null,{"$f":"KUPONYAP1!M26","v":0},"- - MS X","MS X",0,"- ",null,null,{"$f":"KUPONYAP1!M30","v":0},"- - MS X","MS X",0]
["- ",null,null,{"$f":"KUPONYAP1!M3","v":0},"- - MS X","MS X",0,"- ",null,null,{"$f":"KUPONYAP1!M7","v":0},"- - MS X","MS X",0,"- ",null,null,{"$f":"KUPONYAP1!M11","v":0},"- - MS X","MS X",0,"- ",null,null,{"$f":"KUPONYAP1!M15","v":0},"- - MS X","MS X",0,"- ",null,null,{"$f":"KUPONYAP1!M19","v":0},"- - MS X","MS X",0,"- ",null,null,{"$f":"KUPONYAP1!M23","v":0},"- - MS X","MS X",0,"- ",null,null,{"$f":"KUPONYAP1!M27","v":0},"- - MS X","MS X",0,"- ",null,null,{"$f":"KUPONYAP1!M31","v":0},"- - MS X","MS X",0]
["- ",null,null,{"$f":"KUPONYAP1!M4","v":0},"- - MS X","MS X",0,"- ",null,null,{"$f":"KUPONYAP1!M8","v":0},"- - MS X","MS X",0,"- ",null,null,{"$f":"KUPONYAP1!M12","v":0},"- - MS X","MS X",0,"- ",null,null,{"$f":"KUPONYAP1!M16","v":0},"- - MS X","MS X",0,"- ",null,null,{"$f":"KUPONYAP1!M20","v":0},"- - MS X","MS X",0,"- ",null,null,{"$f":"KUPONYAP1!M24","v":0},"- - MS X","MS X",0,"- ",null,null,{"$f":"KUPONYAP1!M28","v":0},"- - MS X","MS X",0,"- ",null,null,{"$f":"KUPONYAP1!M32","v":0},"- - MS X","MS X",0]
[{"$f":"A17","v":"- "},null,null,{"$f":"KUPONYAP1!M5","v":0},"- - MS X","MS X",0,{"$f":"H17","v":"- "},null,null,{"$f":"KUPONYAP1!M9","v":0},"- - MS X","MS X",0,{"$f":"O17","v":"- "},null,null,{"$f":"KUPONYAP1!M13","v":0},"- - MS X","MS X",0,{"$f":"V17","v":"- "},null,null,{"$f":"KUPONYAP1!M17","v":0},"- - MS X","MS X",0,{"$f":"AC17","v":"- "},null,null,{"$f":"KUPONYAP1!M21","v":0},"- - MS X","MS X",0,{"$f":"AJ17","v":"- "},null,null,{"$f":"KUPONYAP1!M25","v":0},"- - MS X","MS X",0,{"$f":"AQ17","v":"- "},null,null,{"$f":"KUPONYAP1!M29","v":0},"- - MS X","MS X",0,{"$f":"AX17","v":"- "},null,null,{"$f":"KUPONYAP1!M33","v":0},"- - MS X","MS X",0]
[{"$f":"A14","v":"- "},null,null,{"$f":"KUPONYAP1!N2","v":0},"- - MS 2","MS 2",0,{"$f":"H14","v":"- "},null,null,{"$f":"KUPONYAP1!N6","v":0},"- - MS 2","MS 2",0,{"$f":"O14","v":"- "},null,null,{"$f":"KUPONYAP1!N10","v":0},"- - MS 2","MS 2",0,{"$f":"V14","v":"- "},null,null,{"$f":"KUPONYAP1!N14","v":0},"- - MS 2","MS 2",0,{"$f":"AC14","v":"- "},null,null,{"$f":"KUPONYAP1!N18","v":0},"- - MS 2","MS 2",0,{"$f":"AJ14","v":"- "},null,null,{"$f":"KUPONYAP1!N22","v":0},"- - MS 2","MS 2",0,{"$f":"AQ14","v":"- "},null,null,{"$f":"KUPONYAP1!N26","v":0},"- - MS 2","MS 2",0,{"$f":"AX14","v":"- "},null,null,{"$f":"KUPONYAP1!N30","v":0},"- - MS 2","MS 2",0]
[{"$f":"A15","v":"- "},null,null,{"$f":"KUPONYAP1!N3","v":0},"- - MS 2","MS 2",0,{"$f":"H15","v":"- "},null,null,{"$f":"KUPONYAP1!N7","v":0},"- - MS 2","MS 2",0,{"$f":"O15","v":"- "},null,null,{"$f":"KUPONYAP1!N11","v":0},"- - MS 2","MS 2",0,{"$f":"V15","v":"- "},null,null,{"$f":"KUPONYAP1!N15","v":0},"- - MS 2","MS 2",0,{"$f":"AC15","v":"- "},null,null,{"$f":"KUPONYAP1!N19","v":0},"- - MS 2","MS 2",0,{"$f":"AJ15","v":"- "},null,null,{"$f":"KUPONYAP1!N23","v":0},"- - MS 2","MS 2",0,{"$f":"AQ15","v":"- "},null,null,{"$f":"KUPONYAP1!N27","v":0},"- - MS 2","MS 2",0,{"$f":"AX15","v":"- "},null,null,{"$f":"KUPONYAP1!N31","v":0},"- - MS 2","MS 2",0]
[{"$f":"A16","v":"- "},null,null,{"$f":"KUPONYAP1!N4","v":0},"- - MS 2","MS 2",0,{"$f":"H16","v":"- "},null,null,{"$f":"KUPONYAP1!N8","v":0},"- - MS 2","MS 2",0,{"$f":"O16","v":"- "},null,null,{"$f":"KUPONYAP1!N12","v":0},"- - MS 2","MS 2",0,{"$f":"V16","v":"- "},null,null,{"$f":"KUPONYAP1!N16","v":0},"- - MS 2","MS 2",0,{"$f":"AC16","v":"- "},null,null,{"$f":"KUPONYAP1!N20","v":0},"- - MS 2","MS 2",0,{"$f":"AJ16","v":"- "},null,null,{"$f":"KUPONYAP1!N24","v":0},"- - MS 2","MS 2",0,{"$f":"AQ16","v":"- "},null,null,{"$f":"KUPONYAP1!N28","v":0},"- - MS 2","MS 2",0,{"$f":"AX16","v":"- "},null,null,{"$f":"KUPONYAP1!N32","v":0},"- - MS 2","MS 2",0]
[{"$f":"A17","v":"- "},null,null,{"$f":"KUPONYAP1!N5","v":0},"- - MS 2","MS 2",0,{"$f":"H17","v":"- "},null,null,{"$f":"KUPONYAP1!N9","v":0},"- - MS 2","MS 2",0,{"$f":"O17","v":"- "},null,null,{"$f":"KUPONYAP1!N13","v":0},"- - MS 2","MS 2",0,{"$f":"V17","v":"- "},null,null,{"$f":"KUPONYAP1!N17","v":0},"- - MS 2","MS 2",0,{"$f":"AC17","v":"- "},null,null,{"$f":"KUPONYAP1!N21","v":0},"- - MS 2","MS 2",0,{"$f":"AJ17","v":"- "},null,null,{"$f":"KUPONYAP1!N25","v":0},"- - MS 2","MS 2",0,{"$f":"AQ17","v":"- "},null,null,{"$f":"KUPONYAP1!N29","v":0},"- - MS 2","MS 2",0,{"$f":"AX17","v":"- "},null,null,{"$f":"KUPONYAP1!N33","v":0},"- - MS 2","MS 2",0]
["- ",null,null,{"$f":"KUPONYAP1!AH2","v":0},"- - 0",{"$f":"KUPONYAP1!AG2","v":0},0,"- ",null,null,{"$f":"KUPONYAP1!AH6","v":0},"- - 0",{"$f":"KUPONYAP1!AG6","v":0},0,"- ",null,null,{"$f":"KUPONYAP1!AH10","v":0},"- - 0",{"$f":"KUPONYAP1!AG10","v":0},0,"- ",null,null,{"$f":"KUPONYAP1!AH14","v":0},"- - 0",{"$f":"KUPONYAP1!AG14","v":0},0,"- ",null,null,{"$f":"KUPONYAP1!AH18","v":0},"- - 0",{"$f":"KUPONYAP1!AG18","v":0},0,"- ",null,null,{"$f":"KUPONYAP1!AH22","v":0},"- - 0",{"$f":"KUPONYAP1!AG22","v":0},0,"- ",null,null,{"$f":"KUPONYAP1!AH26","v":0},"- - 0",{"$f":"KUPONYAP1!AG26","v":0},0,"- ",null,null,{"$f":"KUPONYAP1!AH30","v":0},"- - 0",{"$f":"KUPONYAP1!AG30","v":0},0]
["- ",null,null,{"$f":"KUPONYAP1!AH3","v":0},"- - 0",{"$f":"KUPONYAP1!AG3","v":0},0,"- ",null,null,{"$f":"KUPONYAP1!AH7","v":0},"- - 0",{"$f":"KUPONYAP1!AG7","v":0},0,"- ",null,null,{"$f":"KUPONYAP1!AH11","v":0},"- - 0",{"$f":"KUPONYAP1!AG11","v":0},0,"- ",null,null,{"$f":"KUPONYAP1!AH15","v":0},"- - 0",{"$f":"KUPONYAP1!AG15","v":0},0,"- ",null,null,{"$f":"KUPONYAP1!AH19","v":0},"- - 0",{"$f":"KUPONYAP1!AG19","v":0},0,"- ",null,null,{"$f":"KUPONYAP1!AH23","v":0},"- - 0",{"$f":"KUPONYAP1!AG23","v":0},0,"- ",null,null,{"$f":"KUPONYAP1!AH27","v":0},"- - 0",{"$f":"KUPONYAP1!AG27","v":0},0,"- ",null,null,{"$f":"KUPONYAP1!AH31","v":0},"- - 0",{"$f":"KUPONYAP1!AG31","v":0},0]
["- ",null,null,{"$f":"KUPONYAP1!AH4","v":0},"- - 0",{"$f":"KUPONYAP1!AG4","v":0},0,"- ",null,null,{"$f":"KUPONYAP1!AH8","v":0},"- - 0",{"$f":"KUPONYAP1!AG8","v":0},0,"- ",null,null,{"$f":"KUPONYAP1!AH12","v":0},"- - 0",{"$f":"KUPONYAP1!AG12","v":0},0,"- ",null,null,{"$f":"KUPONYAP1!AH16","v":0},"- - 0",{"$f":"KUPONYAP1!AG16","v":0},0,"- ",null,null,{"$f":"KUPONYAP1!AH20","v":0},"- - 0",{"$f":"KUPONYAP1!AG20","v":0},0,"- ",null,null,{"$f":"KUPONYAP1!AH24","v":0},"- - 0",{"$f":"KUPONYAP1!AG24","v":0},0,"- ",null,null,{"$f":"KUPONYAP1!AH28","v":0},"- - 0",{"$f":"KUPONYAP1!AG28","v":0},0,"- ",null,null,{"$f":"KUPONYAP1!AH32","v":0},"- - 0",{"$f":"KUPONYAP1!AG32","v":0},0]
["- ",null,null,{"$f":"KUPONYAP1!AH5","v":0},"- - 0",{"$f":"KUPONYAP1!AG5","v":0},0,"- ",null,null,{"$f":"KUPONYAP1!AH9","v":0},"- - 0",{"$f":"KUPONYAP1!AG9","v":0},0,"- ",null,null,{"$f":"KUPONYAP1!AH13","v":0},"- - 0",{"$f":"KUPONYAP1!AG13","v":0},0,"- ",null,null,{"$f":"KUPONYAP1!AH17","v":0},"- - 0",{"$f":"KUPONYAP1!AG17","v":0},0,"- ",null,null,{"$f":"KUPONYAP1!AH21","v":0},"- - 0",{"$f":"KUPONYAP1!AG21","v":0},0,"- ",null,null,{"$f":"KUPONYAP1!AH25","v":0},"- - 0",{"$f":"KUPONYAP1!AG25","v":0},0,"- ",null,null,{"$f":"KUPONYAP1!AH29","v":0},"- - 0",{"$f":"KUPONYAP1!AG29","v":0},0,"- ",null,null,{"$f":"KUPONYAP1!AH33","v":0},"- - 0",{"$f":"KUPONYAP1!AG33","v":0},0]
["- ",null,null,{"$f":"KUPONYAP1!AJ2","v":0},{"$f":"A30&\"- \"&F30","v":"- - 0"},{"$f":"KUPONYAP1!AI2","v":0},{"$f":"D30","v":0},"- ",null,null,{"$f":"KUPONYAP1!AJ2","v":0},"- - 0",{"$f":"KUPONYAP1!AI6","v":0},0,"- ",null,null,{"$f":"KUPONYAP1!AJ10","v":0},"- - 0",{"$f":"KUPONYAP1!AI10","v":0},0,"- ",null,null,{"$f":"KUPONYAP1!AJ14","v":0},"- - 0",{"$f":"KUPONYAP1!AI14","v":0},0,"- ",null,null,{"$f":"KUPONYAP1!AJ18","v":0},"- - 0",{"$f":"KUPONYAP1!AI18","v":0},0,"- ",null,null,{"$f":"KUPONYAP1!AJ22","v":0},"- - 0",{"$f":"KUPONYAP1!AI22","v":0},0,"- ",null,null,{"$f":"KUPONYAP1!AJ26","v":0},"- - 0",{"$f":"KUPONYAP1!AI26","v":0},0,"- ",null,null,{"$f":"KUPONYAP1!AJ30","v":0},"- - 0",{"$f":"KUPONYAP1!AI30","v":0},0]
["- ",null,null,{"$f":"KUPONYAP1!AJ3","v":0},"- - 0",{"$f":"KUPONYAP1!AI3","v":0},0,"- ",null,null,{"$f":"KUPONYAP1!AJ3","v":0},"- - 0",{"$f":"KUPONYAP1!AI7","v":0},0,"- ",null,null,{"$f":"KUPONYAP1!AJ11","v":0},"- - 0",{"$f":"KUPONYAP1!AI11","v":0},0,"- ",null,null,{"$f":"KUPONYAP1!AJ15","v":0},"- - 0",{"$f":"KUPONYAP1!AI15","v":0},0,"- ",null,null,{"$f":"KUPONYAP1!AJ19","v":0},"- - 0",{"$f":"KUPONYAP1!AI19","v":0},0,"- ",null,null,{"$f":"KUPONYAP1!AJ23","v":0},"- - 0",{"$f":"KUPONYAP1!AI23","v":0},0,"- ",null,null,{"$f":"KUPONYAP1!AJ27","v":0},"- - 0",{"$f":"KUPONYAP1!AI27","v":0},0,"- ",null,null,{"$f":"KUPONYAP1!AJ31","v":0},"- - 0",{"$f":"KUPONYAP1!AI31","v":0},0]
["- ",null,null,{"$f":"KUPONYAP1!AJ4","v":0},"- - 0",{"$f":"KUPONYAP1!AI4","v":0},0,"- ",null,null,{"$f":"KUPONYAP1!AJ4","v":0},"- - 0",{"$f":"KUPONYAP1!AI8","v":0},0,"- ",null,null,{"$f":"KUPONYAP1!AJ12","v":0},"- - 0",{"$f":"KUPONYAP1!AI12","v":0},0,"- ",null,null,{"$f":"KUPONYAP1!AJ16","v":0},"- - 0",{"$f":"KUPONYAP1!AI16","v":0},0,"- ",null,null,{"$f":"KUPONYAP1!AJ20","v":0},"- - 0",{"$f":"KUPONYAP1!AI20","v":0},0,"- ",null,null,{"$f":"KUPONYAP1!AJ24","v":0},"- - 0",{"$f":"KUPONYAP1!AI24","v":0},0,"- ",null,null,{"$f":"KUPONYAP1!AJ28","v":0},"- - 0",{"$f":"KUPONYAP1!AI28","v":0},0,"- ",null,null,{"$f":"KUPONYAP1!AJ32","v":0},"- - 0",{"$f":"KUPONYAP1!AI32","v":0},0]
["- ",null,null,{"$f":"KUPONYAP1!AJ5","v":0},"- - 0",{"$f":"KUPONYAP1!AI5","v":0},0,"- ",null,null,{"$f":"KUPONYAP1!AJ5","v":0},"- - 0",{"$f":"KUPONYAP1!AI9","v":0},0,"- ",null,null,{"$f":"KUPONYAP1!AJ13","v":0},"- - 0",{"$f":"KUPONYAP1!AI13","v":0},0,"- ",null,null,{"$f":"KUPONYAP1!AJ17","v":0},"- - 0",{"$f":"KUPONYAP1!AI17","v":0},0,"- ",null,null,{"$f":"KUPONYAP1!AJ21","v":0},"- - 0",{"$f":"KUPONYAP1!AI21","v":0},0,"- ",null,null,{"$f":"KUPONYAP1!AJ25","v":0},"- - 0",{"$f":"KUPONYAP1!AI25","v":0},0,"- ",null,null,{"$f":"KUPONYAP1!AJ29","v":0},"- - 0",{"$f":"KUPONYAP1!AI29","v":0},0,"- ",null,null,{"$f":"KUPONYAP1!AJ33","v":0},"- - 0",{"$f":"KUPONYAP1!AI33","v":0},0]
["- ",null,null,{"$f":"KUPONYAP1!AL2","v":0},{"$f":"A34&\"- \"&F34","v":"- - 0"},{"$f":"KUPONYAP1!AK2","v":0},{"$f":"D34","v":0},"- ",null,null,{"$f":"KUPONYAP1!AL6","v":0},"- - 0",{"$f":"KUPONYAP1!AK6","v":0},0,"- ",null,null,{"$f":"KUPONYAP1!AL10","v":0},"- - 0",{"$f":"KUPONYAP1!AK10","v":0},0,"- ",null,null,{"$f":"KUPONYAP1!AL14","v":0},"- - 0",{"$f":"KUPONYAP1!AK14","v":0},0,"- ",null,null,{"$f":"KUPONYAP1!AL18","v":0},"- - 0",{"$f":"KUPONYAP1!AK18","v":0},0,"- ",null,null,{"$f":"KUPONYAP1!AL22","v":0},"- - 0",{"$f":"KUPONYAP1!AK22","v":0},0,"- ",null,null,{"$f":"KUPONYAP1!AL26","v":0},"- - 0",{"$f":"KUPONYAP1!AK26","v":0},0,"- ",null,null,{"$f":"KUPONYAP1!AL30","v":0},"- - 0",{"$f":"KUPONYAP1!AK30","v":0},0]
["- ",null,null,{"$f":"KUPONYAP1!AL3","v":0},"- - 0",{"$f":"KUPONYAP1!AK3","v":0},0,"- ",null,null,{"$f":"KUPONYAP1!AL7","v":0},"- - 0",{"$f":"KUPONYAP1!AK7","v":0},0,"- ",null,null,{"$f":"KUPONYAP1!AL11","v":0},"- - 0",{"$f":"KUPONYAP1!AK11","v":0},0,"- ",null,null,{"$f":"KUPONYAP1!AL15","v":0},"- - 0",{"$f":"KUPONYAP1!AK15","v":0},0,"- ",null,null,{"$f":"KUPONYAP1!AL19","v":0},"- - 0",{"$f":"KUPONYAP1!AK19","v":0},0,"- ",null,null,{"$f":"KUPONYAP1!AL23","v":0},"- - 0",{"$f":"KUPONYAP1!AK23","v":0},0,"- ",null,null,{"$f":"KUPONYAP1!AL27","v":0},"- - 0",{"$f":"KUPONYAP1!AK27","v":0},0,"- ",null,null,{"$f":"KUPONYAP1!AL31","v":0},"- - 0",{"$f":"KUPONYAP1!AK31","v":0},0]
["- ",null,null,{"$f":"KUPONYAP1!AL4","v":0},"- - 0",{"$f":"KUPONYAP1!AK4","v":0},0,"- ",null,null,{"$f":"KUPONYAP1!AL8","v":0},"- - 0",{"$f":"KUPONYAP1!AK8","v":0},0,"- ",null,null,{"$f":"KUPONYAP1!AL12","v":0},"- - 0",{"$f":"KUPONYAP1!AK12","v":0},0,"- ",null,null,{"$f":"KUPONYAP1!AL16","v":0},"- - 0",{"$f":"KUPONYAP1!AK16","v":0},0,"- ",null,null,{"$f":"KUPONYAP1!AL20","v":0},"- - 0",{"$f":"KUPONYAP1!AK20","v":0},0,"- ",null,null,{"$f":"KUPONYAP1!AL24","v":0},"- - 0",{"$f":"KUPONYAP1!AK24","v":0},0,"- ",null,null,{"$f":"KUPONYAP1!AL28","v":0},"- - 0",{"$f":"KUPONYAP1!AK28","v":0},0,"- ",null,null,{"$f":"KUPONYAP1!AL32","v":0},"- - 0",{"$f":"KUPONYAP1!AK32","v":0},0]
["- ",null,null,{"$f":"KUPONYAP1!AL5","v":0},"- - 0",{"$f":"KUPONYAP1!AK5","v":0},0,"- ",null,null,{"$f":"KUPONYAP1!AL9","v":0},"- - 0",{"$f":"KUPONYAP1!AK9","v":0},0,"- ",null,null,{"$f":"KUPONYAP1!AL13","v":0},"- - 0",{"$f":"KUPONYAP1!AK13","v":0},0,"- ",null,null,{"$f":"KUPONYAP1!AL17","v":0},"- - 0",{"$f":"KUPONYAP1!AK17","v":0},0,"- ",null,null,{"$f":"KUPONYAP1!AL21","v":0},"- - 0",{"$f":"KUPONYAP1!AK21","v":0},0,"- ",null,null,{"$f":"KUPONYAP1!AL25","v":0},"- - 0",{"$f":"KUPONYAP1!AK25","v":0},0,"- ",null,null,{"$f":"KUPONYAP1!AL29","v":0},"- - 0",{"$f":"KUPONYAP1!AK29","v":0},0,"- ",null,null,{"$f":"KUPONYAP1!AL33","v":0},"- - 0",{"$f":"KUPONYAP1!AK33","v":0},0]
[{"$f":"A26","v":"- "},null,null,{"$f":"KUPONYAP1!AN2","v":0},{"$f":"A38&\"- \"&F38","v":"- - 0"},{"$f":"KUPONYAP1!AM2","v":0},{"$f":"D38","v":0},{"$f":"H26","v":"- "},null,null,{"$f":"KUPONYAP1!AN6","v":0},{"$f":"H38&\"- \"&M38","v":"- - 0"},{"$f":"KUPONYAP1!AK6","v":0},{"$f":"K38","v":0},{"$f":"O26","v":"- "},null,null,{"$f":"KUPONYAP1!AN10","v":0},{"$f":"O38&\"- \"&T38","v":"- - 0"},{"$f":"KUPONYAP1!AM10","v":0},{"$f":"R38","v":0},{"$f":"V26","v":"- "},null,null,{"$f":"KUPONYAP1!AL14","v":0},{"$f":"V38&\"- \"&AA38","v":"- - 0"},{"$f":"KUPONYAP1!AM14","v":0},{"$f":"Y38","v":0},{"$f":"AC26","v":"- "},null,null,{"$f":"KUPONYAP1!AN18","v":0},{"$f":"AC38&\"- \"&AH38","v":"- - 0"},{"$f":"KUPONYAP1!AM18","v":0},{"$f":"AF38","v":0},{"$f":"AJ26","v":"- "},null,null,{"$f":"KUPONYAP1!AN22","v":0},{"$f":"AJ38&\"- \"&AO38","v":"- - 0"},{"$f":"KUPONYAP1!AM22","v":0},{"$f":"AM38","v":0},{"$f":"AQ26","v":"- "},null,null,{"$f":"KUPONYAP1!AN26","v":0},{"$f":"AQ38&\"- \"&AV38","v":"- - 0"},{"$f":"KUPONYAP1!AM26","v":0},{"$f":"AT38","v":0},{"$f":"AX26","v":"- "},null,null,{"$f":"KUPONYAP1!AN30","v":0},{"$f":"AX38&\"- \"&BC38","v":"- - 0"},{"$f":"KUPONYAP1!AM30","v":0},{"$f":"BA38","v":0}]
["- ",null,null,{"$f":"KUPONYAP1!AN3","v":0},"- - 0",{"$f":"KUPONYAP1!AM3","v":0},0,"- ",null,null,{"$f":"KUPONYAP1!AN7","v":0},"- - 0",{"$f":"KUPONYAP1!AK7","v":0},0,"- ",null,null,{"$f":"KUPONYAP1!AN11","v":0},"- - 0",{"$f":"KUPONYAP1!AM11","v":0},0,"- ",null,null,{"$f":"KUPONYAP1!AL15","v":0},"- - 0",{"$f":"KUPONYAP1!AM15","v":0},0,"- ",null,null,{"$f":"KUPONYAP1!AN19","v":0},"- - 0",{"$f":"KUPONYAP1!AM19","v":0},0,"- ",null,null,{"$f":"KUPONYAP1!AN23","v":0},"- - 0",{"$f":"KUPONYAP1!AM23","v":0},0,"- ",null,null,{"$f":"KUPONYAP1!AN27","v":0},"- - 0",{"$f":"KUPONYAP1!AM27","v":0},0,"- ",null,null,{"$f":"KUPONYAP1!AN31","v":0},"- - 0",{"$f":"KUPONYAP1!AM31","v":0},0]
["- ",null,null,{"$f":"KUPONYAP1!AN4","v":0},"- - 0",{"$f":"KUPONYAP1!AM4","v":0},0,"- ",null,null,{"$f":"KUPONYAP1!AN8","v":0},"- - 0",{"$f":"KUPONYAP1!AK8","v":0},0,"- ",null,null,{"$f":"KUPONYAP1!AN12","v":0},"- - 0",{"$f":"KUPONYAP1!AM12","v":0},0,"- ",null,null,{"$f":"KUPONYAP1!AL16","v":0},"- - 0",{"$f":"KUPONYAP1!AM16","v":0},0,"- ",null,null,{"$f":"KUPONYAP1!AN20","v":0},"- - 0",{"$f":"KUPONYAP1!AM20","v":0},0,"- ",null,null,{"$f":"KUPONYAP1!AN24","v":0},"- - 0",{"$f":"KUPONYAP1!AM24","v":0},0,"- ",null,null,{"$f":"KUPONYAP1!AN28","v":0},"- - 0",{"$f":"KUPONYAP1!AM28","v":0},0,"- ",null,null,{"$f":"KUPONYAP1!AN32","v":0},"- - 0",{"$f":"KUPONYAP1!AM32","v":0},0]
["- ",null,null,{"$f":"KUPONYAP1!AN5","v":0},"- - 0",{"$f":"KUPONYAP1!AM5","v":0},0,"- ",null,null,{"$f":"KUPONYAP1!AN9","v":0},"- - 0",{"$f":"KUPONYAP1!AK9","v":0},0,"- ",null,null,{"$f":"KUPONYAP1!AN13","v":0},"- - 0",{"$f":"KUPONYAP1!AM13","v":0},0,"- ",null,null,{"$f":"KUPONYAP1!AL17","v":0},"- - 0",{"$f":"KUPONYAP1!AM17","v":0},0,"- ",null,null,{"$f":"KUPONYAP1!AN21","v":0},"- - 0",{"$f":"KUPONYAP1!AM21","v":0},0,"- ",null,null,{"$f":"KUPONYAP1!AN25","v":0},"- - 0",{"$f":"KUPONYAP1!AM25","v":0},0,"- ",null,null,{"$f":"KUPONYAP1!AN29","v":0},"- - 0",{"$f":"KUPONYAP1!AM29","v":0},0,"- ",null,null,{"$f":"KUPONYAP1!AN33","v":0},"- - 0",{"$f":"KUPONYAP1!AM33","v":0},0]
["- ",null,null,{"$f":"KUPONYAP1!AU2","v":0},"- - 0",{"$f":"KUPONYAP1!AT2","v":0},0,"- ",null,null,{"$f":"KUPONYAP1!AU6","v":0},"- - 0",{"$f":"KUPONYAP1!AT6","v":0},0,"- ",null,null,{"$f":"KUPONYAP1!AU10","v":0},"- - 0",{"$f":"KUPONYAP1!AT10","v":0},0,"- ",null,null,{"$f":"KUPONYAP1!AU14","v":0},"- - 0",{"$f":"KUPONYAP1!AT14","v":0},0,"- ",null,null,{"$f":"KUPONYAP1!AU18","v":0},"- - 0",{"$f":"KUPONYAP1!AT18","v":0},0,"- ",null,null,{"$f":"KUPONYAP1!AU22","v":0},"- - 0",{"$f":"KUPONYAP1!AT22","v":0},0,"- ",null,null,{"$f":"KUPONYAP1!AU26","v":0},"- - 0",{"$f":"KUPONYAP1!AT26","v":0},0,"- ",null,null,{"$f":"KUPONYAP1!AU30","v":0},"- - 0",{"$f":"KUPONYAP1!AT30","v":0},0]
["- ",null,null,{"$f":"KUPONYAP1!AU3","v":0},"- - 0",{"$f":"KUPONYAP1!AT3","v":0},0,"- ",null,null,{"$f":"KUPONYAP1!AU7","v":0},"- - 0",{"$f":"KUPONYAP1!AT7","v":0},0,"- ",null,null,{"$f":"KUPONYAP1!AU11","v":0},"- - 0",{"$f":"KUPONYAP1!AT11","v":0},0,"- ",null,null,{"$f":"KUPONYAP1!AU15","v":0},"- - 0",{"$f":"KUPONYAP1!AT15","v":0},0,"- ",null,null,{"$f":"KUPONYAP1!AU19","v":0},"- - 0",{"$f":"KUPONYAP1!AT19","v":0},0,"- ",null,null,{"$f":"KUPONYAP1!AU23","v":0},"- - 0",{"$f":"KUPONYAP1!AT23","v":0},0,"- ",null,null,{"$f":"KUPONYAP1!AU27","v":0},"- - 0",{"$f":"KUPONYAP1!AT27","v":0},0,"- ",null,null,{"$f":"KUPONYAP1!AU31","v":0},"- - 0",{"$f":"KUPONYAP1!AT31","v":0},0]
["- ",null,null,{"$f":"KUPONYAP1!AU4","v":0},"- - 0",{"$f":"KUPONYAP1!AT4","v":0},0,"- ",null,null,{"$f":"KUPONYAP1!AU8","v":0},"- - 0",{"$f":"KUPONYAP1!AT8","v":0},0,"- ",null,null,{"$f":"KUPONYAP1!AU12","v":0},"- - 0",{"$f":"KUPONYAP1!AT12","v":0},0,"- ",null,null,{"$f":"KUPONYAP1!AU16","v":0},"- - 0",{"$f":"KUPONYAP1!AT16","v":0},0,"- ",null,null,{"$f":"KUPONYAP1!AU20","v":0},"- - 0",{"$f":"KUPONYAP1!AT20","v":0},0,"- ",null,null,{"$f":"KUPONYAP1!AU24","v":0},"- - 0",{"$f":"KUPONYAP1!AT24","v":0},0,"- ",null,null,{"$f":"KUPONYAP1!AU28","v":0},"- - 0",{"$f":"KUPONYAP1!AT28","v":0},0,"- ",null,null,{"$f":"KUPONYAP1!AU32","v":0},"- - 0",{"$f":"KUPONYAP1!AT32","v":0},0]
["- ",null,null,{"$f":"KUPONYAP1!AU5","v":0},"- - 0",{"$f":"KUPONYAP1!AT5","v":0},0,"- ",null,null,{"$f":"KUPONYAP1!AU9","v":0},"- - 0",{"$f":"KUPONYAP1!AT9","v":0},0,"- ",null,null,{"$f":"KUPONYAP1!AU13","v":0},"- - 0",{"$f":"KUPONYAP1!AT13","v":0},0,"- ",null,null,{"$f":"KUPONYAP1!AU17","v":0},"- - 0",{"$f":"KUPONYAP1!AT17","v":0},0,"- ",null,null,{"$f":"KUPONYAP1!AU21","v":0},"- - 0",{"$f":"KUPONYAP1!AT21","v":0},0,"- ",null,null,{"$f":"KUPONYAP1!AU25","v":0},"- - 0",{"$f":"KUPONYAP1!AT25","v":0},0,"- ",null,null,{"$f":"KUPONYAP1!AU29","v":0},"- - 0",{"$f":"KUPONYAP1!AT29","v":0},0,"- ",null,null,{"$f":"KUPONYAP1!AU33","v":0},"- - 0",{"$f":"KUPONYAP1!AT33","v":0},0]

{"sheet":"H2H","index":9,"n_rows":97,"n_cols":18,"rows_kept":97,"cut":false,"hidden":false,"merged":[[5,16,5,17],[0,0,2,15],[38,5,38,10],[39,7,40,10],[41,7,42,10],[43,7,44,10],[45,7,46,10],[47,7,48,10],[85,2,85,3],[85,5,85,6],[85,10,85,11],[85,13,85,14],[81,2,81,3],[81,5,81,6],[81,10,81,11],[81,13,81,14],[82,2,82,3],[82,5,82,6],[82,10,82,11],[82,13,82,14],[79,2,79,3],[79,5,79,6],[79,10,79,11],[79,13,79,14],[86,2,86,3],[86,5,86,6],[86,10,86,11],[86,13,86,14],[83,2,83,3],[83,5,83,6],[83,10,83,11],[83,13,83,14],[84,2,84,3],[84,5,84,6],[84,10,84,11],[84,13,84,14],[80,2,80,3],[80,5,80,6],[80,10,80,11],[80,13,80,14],[77,2,77,3],[77,5,77,6],[77,10,77,11],[77,13,77,14],[78,2,78,3],[78,5,78,6],[78,10,78,11],[78,13,78,14],[75,2,75,3],[75,5,75,6],[75,10,75,11],[75,13,75,14],[76,2,76,3],[76,5,76,6],[76,10,76,11],[76,13,76,14],[73,2,73,3],[73,5,73,6],[73,10,73,11],[73,13,73,14],[74,2,74,3],[74,5,74,6],[74,10,74,11],[74,13,74,14],[71,2,71,3],[71,5,71,6],[71,10,71,11],[71,13,71,14],[72,2,72,3],[72,5,72,6],[72,10,72,11],[72,13,72,14],[69,2,69,3],[69,5,69,6],[69,10,69,11],[69,13,69,14],[70,2,70,3],[70,5,70,6],[70,10,70,11],[70,13,70,14],[67,2,67,3],[67,5,67,6],[67,10,67,11],[67,13,67,14],[68,2,68,3],[68,5,68,6],[68,10,68,11],[68,13,68,14],[64,2,65,7],[66,2,66,6],[66,10,66,14],[18,7,19,7],[18,9,19,9],[56,5,56,13],[51,5,51,9],[52,2,53,4],[53,5,53,13],[54,5,54,13],[55,5,55,13],[35,5,37,10],[39,5,40,6],[18,11,19,11],[18,13,19,13],[22,12,25,12],[41,5,42,6],[43,5,44,6],[45,5,46,6],[47,5,48,6],[29,15,30,15],[29,14,30,14],[23,1,24,1],[23,3,24,3],[23,5,24,5],[23,7,24,7],[23,9,24,9],[23,11,24,11],[23,13,24,13],[7,1,7,3],[7,5,7,7],[7,10,8,13],[8,1,9,3],[8,5,9,7],[29,7,30,7],[29,8,30,8],[29,9,30,9],[29,10,30,10],[29,11,30,11],[29,13,30,13],[28,1,28,4],[29,1,29,4],[10,1,10,3],[10,5,10,7],[12,1,13,1],[12,2,13,2],[12,3,13,3],[12,5,13,5],[12,6,13,6],[12,7,13,7],[18,1,19,1],[18,3,19,3],[18,5,19,5]]}
["pro analiz andsi v 19 . 02"]
[null,null,null,null,null,null,null,null,null,null,null,null,null,null,null,null,null,{"$f":"TODAY()","v":"2019-02-01"}]
[]
[]
[null,null,null,null,null,null,null,null,null,null,null,null,null,null,null,null,null,{"$f":"Bulten!AI1","v":"BET365"}]
[null,null,null,null,null,null,null,null,null,null,null,null,null,null,null,null,"H2H ANALIZI"]
[]
[null,{"$f":"ANALIZANDSI!$DX$3","v":"OK"},null,null,null,{"$f":"ANALIZANDSI!$DX$3","v":"OK"},null,null,null,null,"SKOR TAHMINLERI                                                   IY                             MS"]
[null,{"$f":"ANALIZANDSI!A140","v":"SG Austria Klagenfurt"},null,null,null,{"$f":"ANALIZANDSI!B140","v":"SC Kalsdorf"}]
[null,null,null,null,null,null,null,null,null,"20 MAC",{"$f":"ANALIZANDSI!E132","v":0.82499999999999996},{"$f":"ANALIZANDSI!F132","v":0.75},{"$f":"ANALIZANDSI!G132","v":1.7749999999999999},{"$f":"ANALIZANDSI!H132","v":1.8250000000000002},{"$f":"ANALIZANDSI!$F$3","v":"OK"}]
[null,"ILK YARI",null,null,null,"MAC SONU",null,null,null,"FORM",{"$f":"ANALIZANDSI!E141","v":1.4},{"$f":"ANALIZANDSI!F141","v":0.60000000000000009},{"$f":"ANALIZANDSI!G141","v":2.9000000000000004},{"$f":"ANALIZANDSI!H141","v":1.2},{"$f":"ANALIZANDSI!$F$3","v":"OK"}]
[null,1,"X",2,null,1,"X",2,null,"H2H",{"$f":"ANALIZANDSI!E142","v":0.8},{"$f":"ANALIZANDSI!F142","v":0.4},{"$f":"ANALIZANDSI!G142","v":2},{"$f":"ANALIZANDSI!H142","v":1.2},{"$f":"ANALIZANDSI!$BO$3","v":"OK"}]
[null,{"$f":"ANALIZANDSI!I142","v":0.5},{"$f":"ANALIZANDSI!J142","v":0.1},{"$f":"ANALIZANDSI!K142","v":0.4},null,{"$f":"ANALIZANDSI!L142","v":0.8},{"$f":"ANALIZANDSI!M142","v":0},{"$f":"ANALIZANDSI!N142","v":0.2},null,"ANDSI.P",{"$f":"ANDSIPRO!K13","v":1.4000000000000001},{"$f":"ANDSIPRO!L13","v":0.33333333333333331},{"$f":"ANDSIPRO!M13","v":2.2250000000000001},{"$f":"ANDSIPRO!N13","v":0.8833333333333333},{"$f":"ANALIZANDSI!$F$3","v":"OK"}]
[]
[]
[]
[]
[null,"IY TAMIN1",null,"MS TAMIN1",null,"KG 1",null,"KG 2",null,"2,5 UST",null,"CIFTE",null,"TOPLAM GOL"]
[null,{"$f":"ANALIZANDSI!O142","v":"0,5 UST"},null,{"$f":"ANALIZANDSI!S142","v":"1,5 UST"},null,{"$f":"ANALIZANDSI!AE142","v":"KG YOK"},null,{"$f":"ANALIZANDSI!AG142","v":"KG YOK"},null,{"$f":"ANALIZANDSI!AM142","v":"2,5 UST"},null,{"$f":"ANALIZANDSI!AI142","v":"12"},null,{"$f":"ANALIZANDSI!AK142","v":"0-1 GOL"}]
[]
[null,{"$f":"ANALIZANDSI!P142","v":0.8},null,{"$f":"ANALIZANDSI!T142","v":0.6},null,{"$f":"ANALIZANDSI!AF142","v":0.6},null,{"$f":"ANALIZANDSI!AH142","v":0.6},null,{"$f":"ANALIZANDSI!AN142","v":0.6},null,{"$f":"ANALIZANDSI!AJ142","v":0.5},null,{"$f":"ANALIZANDSI!AL142","v":0.4}]
[]
[null,"IY TAMIN2",null,"MS TAMIN2",null,"TAHMIN 1",null,"TAHMIN 2",null,"iy-ms",null,"EV 2,5UST","H2H SON 5 MACTA 2,5 UST","DEP    2,5 UST"]
[null,{"$f":"ANALIZANDSI!Q142","v":"1"},null,{"$f":"ANALIZANDSI!U142","v":"1"},null,{"$f":"ANALIZANDSI!W142","v":"IY 0,5UST"},null,{"$f":"ANALIZANDSI!Y142","v":"MS 2,5UST"},null,{"$f":"ANALIZANDSI!AT142","v":"1 -1"},null,{"$f":"ANALIZANDSI!AA142","v":3},null,{"$f":"ANALIZANDSI!AC142","v":3}]
[]
[null,{"$f":"ANALIZANDSI!R142","v":"RISKLI"},null,{"$f":"ANALIZANDSI!V142","v":"RISKLI"},null,{"$f":"ANALIZANDSI!X142","v":"RISKLI"},null,{"$f":"ANALIZANDSI!Z142","v":0.6},null,{"$f":"ANALIZANDSI!AU142","v":0.32500000000000001},null,{"$f":"ANALIZANDSI!AB142","v":0.6},null,{"$f":"ANALIZANDSI!AD142","v":0.6}]
[]
[]
[null,"ORANLAR ",null,null,null,null,null,{"$f":"ANALIZANDSI!AO131","v":"IY 0,5 UST"},{"$f":"ANALIZANDSI!AP131","v":"IY 1,5 ALT"},{"$f":"ANALIZANDSI!AQ131","v":"MS 1,5 UST"},{"$f":"ANALIZANDSI!AR131","v":"MS 2,5 UST"},{"$f":"ANALIZANDSI!AS131","v":"MS 3,5 ALT"},null,"KORNER EV","KORNER DEP","TOPLAM"]
[null,"ACILIS - KAPANIS ORANLARI",null,null,null,null,null,{"$f":"ANALIZANDSI!AO142","v":0.8},{"$f":"ANALIZANDSI!AP142","v":0.6},{"$f":"ANALIZANDSI!AQ142","v":0.6},{"$f":"ANALIZANDSI!AR142","v":0.6},{"$f":"ANALIZANDSI!AS142","v":0.6},null,{"$f":"ANALIZANDSI!AV142","v":5.2},{"$f":"ANALIZANDSI!AW142","v":3},{"$f":"N30+O30","v":8.1999999999999993}]
[null,"o.s","MS 1 ","MS X","MS 2"]
[null,"1",{"$f":"Bulten!AH11","v":1.29},{"$f":"Bulten!AH12","v":5.6},{"$f":"Bulten!AH13","v":6.54}]
[null,"1",{"$f":"Bulten!AH14","v":1.29},{"$f":"Bulten!AH15","v":5.6},{"$f":"Bulten!AH16","v":6.53}]
[]
[]
[null,null,null,null,null,"H2H ANALIZINE GORE TERCIHLER"]
[]
[]
[]
[null,null,null,null,null,"1 TERCIH",null,{"$f":"ANALIZANDSI!$FY$4","v":"IY 0,5UST"}]
[]
[null,null,null,null,null,"2 TERCIH",null,{"$f":"ANALIZANDSI!$FY$9","v":"IY 1,5ALT"}]
[]
[null,null,null,null,null,"3 TERCIH",null,{"$f":"ANALIZANDSI!$FY$10","v":"IY 1,5ALT"}]
[]
[null,null,null,null,null,"4 TERCIH",null,{"$f":"ANALIZANDSI!$FY$11","v":"IY 1,5ALT"}]
[]
[null,null,null,null,null,"5 TERCIH",null,{"$f":"ANALIZANDSI!$FY$12","v":"IY 1,5ALT"}]
[]
[]
[]
[null,null,null,null,null,"H2H ANALIZI HAKKINDA ONEMLI NOTLAR"]
[null,null,{"$f":"B9","v":"SG Austria Klagenfurt"}]
[null,null,null,null,null,{"$f":"ANALIZANDSI!EG150","v":"H2H SON 5 MACIN4   TANESI  ILK YARISI 0,5 UST   BITTI"}]
[null,null,null,null,null,{"$f":"ANALIZANDSI!EG151","v":"H2H SON 5 MACIN4   TANESI  ILK YARISI 0,5 UST   BITTI"}]
[null,null,null,null,null,{"$f":"ANALIZANDSI!EG152","v":"H2H SON 5 MACIN4   TANESI  ILK YARISI 0,5 UST   BITTI"}]
[null,null,null,null,null,{"$f":"ANALIZANDSI!EG153","v":"H2H SON 5 MACIN4   TANESINDE GALIB GELDI"}]
[]
[]
[]
[]
[]
[]
[]
[null,null,"OYNANAN SON MAC SONUCLARI"]
[]
[null,null,"EV SAHIBI",null,null,null,null,"IY","MS"]
[null,null,{"$f":"ANALIZANDSI!$DS$4","v":"SC Kalsdorf"},null,"--",{"$f":"ANALIZANDSI!$DT$4","v":"SG Austria Klagenfurt"},null,{"$f":"ANALIZANDSI!DU4","v":"0-1"},{"$f":"ANALIZANDSI!DV4","v":"0-1"}]
[null,null,{"$f":"ANALIZANDSI!$DS$4","v":"SC Kalsdorf"},null,"--",{"$f":"ANALIZANDSI!$DT$4","v":"SG Austria Klagenfurt"},null,{"$f":"ANALIZANDSI!DU5","v":"2-0"},{"$f":"ANALIZANDSI!DV5","v":"6-1"}]
[null,null,{"$f":"ANALIZANDSI!$DS$4","v":"SC Kalsdorf"},null,"--",{"$f":"ANALIZANDSI!$DT$4","v":"SG Austria Klagenfurt"},null,{"$f":"ANALIZANDSI!DU6","v":"0-0"},{"$f":"ANALIZANDSI!DV6","v":"1-0"}]
[null,null,{"$f":"ANALIZANDSI!$DS$4","v":"SC Kalsdorf"},null,"--",{"$f":"ANALIZANDSI!$DT$4","v":"SG Austria Klagenfurt"},null,{"$f":"ANALIZANDSI!DU7","v":"0-1"},{"$f":"ANALIZANDSI!DV7","v":"1-2"}]
[null,null,{"$f":"ANALIZANDSI!$DS$4","v":"SC Kalsdorf"},null,"--",{"$f":"ANALIZANDSI!$DT$4","v":"SG Austria Klagenfurt"},null,{"$f":"ANALIZANDSI!DU8","v":"2-0"},{"$f":"ANALIZANDSI!DV8","v":"4-0"}]
[]
[]
[]
[]
[]
[]
[]
[]
[]
[]
[]
[]
[]
[]
[]
[]
[]
[]
[]
[]
[]
[]
[]
[]
["Copyright © 2017 Tüm Hakları Saklıdır. - Andsi pro Analiz "]

{"sheet":"KUPONYAP3","index":10,"n_rows":53,"n_cols":51,"rows_kept":53,"cut":false,"hidden":false,"merged":[]}
["MAC 1",null,null,null,null,null,null,"MAC 2",null,null,null,null,null,null,"MAC 3",null,null,null,null,null,null,"MAC 4",null,null,null,null,null,null,"MAC 5",null,null,null,null,null,null,"MAC 6",null,null,null,null,null,null,"MAC 7",null,null,null,null,null,null,"MAC 8"]
[]
[]
[]
[]
[]
[]
[]
[]
[]
[]
[]
[]
[]
[]
[]
[]
[]
[]
[]
[]
[]
[]
[]
[]
[]
[]
[]
[]
[]
[]
[]
[]
[]
[]
[]
[]
[]
[]
[]
[]
[]
[]
[]
[]
[]
[]
[{"$f":"LARGE(D2:D45,1)","v":{"$error":"#NUM!"}},{"$f":"VLOOKUP(A48,D2:E45,2,FALSE)","v":{"$error":"#NUM!"}},null,null,null,null,null,{"$f":"LARGE(K2:K45,1)","v":{"$error":"#NUM!"}},{"$f":"VLOOKUP(H48,K2:L45,2,FALSE)","v":{"$error":"#NUM!"}},null,null,null,null,null,{"$f":"LARGE(R2:R45,1)","v":{"$error":"#NUM!"}},{"$f":"VLOOKUP(O48,R2:S45,2,FALSE)","v":{"$error":"#NUM!"}},null,null,null,null,null,{"$f":"LARGE(Y2:Y45,1)","v":{"$error":"#NUM!"}},{"$f":"VLOOKUP(V48,Y2:Z45,2,FALSE)","v":{"$error":"#NUM!"}},null,null,null,null,null,{"$f":"LARGE(AF2:AF45,1)","v":{"$error":"#NUM!"}},{"$f":"VLOOKUP(AC48,AF2:AG45,2,FALSE)","v":{"$error":"#NUM!"}},null,null,null,null,null,{"$f":"LARGE(AM2:AM45,1)","v":{"$error":"#NUM!"}},{"$f":"VLOOKUP(AJ48,AM2:AN45,2,FALSE)","v":{"$error":"#NUM!"}},null,null,null,null,null,{"$f":"LARGE(AT2:AT45,1)","v":{"$error":"#NUM!"}},{"$f":"VLOOKUP(AQ48,AT2:AU45,2,FALSE)","v":{"$error":"#NUM!"}},null,null,null,null,null,{"$f":"LARGE(BA2:BA45,1)","v":{"$error":"#NUM!"}},{"$f":"VLOOKUP(AX48,BA2:BB45,2,FALSE)","v":{"$error":"#NUM!"}}]
[{"$f":"LARGE(D2:D45,2)","v":{"$error":"#NUM!"}},{"$f":"VLOOKUP(A49,D2:E45,2,FALSE)","v":{"$error":"#NUM!"}},null,null,null,null,null,{"$f":"LARGE(K2:K45,2)","v":{"$error":"#NUM!"}},{"$f":"VLOOKUP(H49,K2:L45,2,FALSE)","v":{"$error":"#NUM!"}},null,null,null,null,null,{"$f":"LARGE(R2:R45,2)","v":{"$error":"#NUM!"}},{"$f":"VLOOKUP(O49,R2:S45,2,FALSE)","v":{"$error":"#NUM!"}},null,null,null,null,null,{"$f":"LARGE(Y2:Y45,2)","v":{"$error":"#NUM!"}},{"$f":"VLOOKUP(V49,Y2:Z45,2,FALSE)","v":{"$error":"#NUM!"}},null,null,null,null,null,{"$f":"LARGE(AF2:AF45,2)","v":{"$error":"#NUM!"}},{"$f":"VLOOKUP(AC49,AF2:AG45,2,FALSE)","v":{"$error":"#NUM!"}},null,null,null,null,null,{"$f":"LARGE(AM2:AM45,2)","v":{"$error":"#NUM!"}},{"$f":"VLOOKUP(AJ49,AM2:AN45,2,FALSE)","v":{"$error":"#NUM!"}},null,null,null,null,null,{"$f":"LARGE(AT2:AT45,2)","v":{"$error":"#NUM!"}},{"$f":"VLOOKUP(AQ49,AT2:AU45,2,FALSE)","v":{"$error":"#NUM!"}},null,null,null,null,null,{"$f":"LARGE(BA2:BA45,2)","v":{"$error":"#NUM!"}},{"$f":"VLOOKUP(AX49,BA2:BB45,2,FALSE)","v":{"$error":"#NUM!"}}]
[{"$f":"LARGE(D2:D45,3)","v":{"$error":"#NUM!"}},{"$f":"VLOOKUP(A50,D2:E45,2,FALSE)","v":{"$error":"#NUM!"}},null,null,null,null,null,{"$f":"LARGE(K2:K45,3)","v":{"$error":"#NUM!"}},{"$f":"VLOOKUP(H50,K2:L45,2,FALSE)","v":{"$error":"#NUM!"}},null,null,null,null,null,{"$f":"LARGE(R2:R45,3)","v":{"$error":"#NUM!"}},{"$f":"VLOOKUP(O50,R2:S45,2,FALSE)","v":{"$error":"#NUM!"}},null,null,null,null,null,{"$f":"LARGE(Y2:Y45,3)","v":{"$error":"#NUM!"}},{"$f":"VLOOKUP(V50,Y2:Z45,2,FALSE)","v":{"$error":"#NUM!"}},null,null,null,null,null,{"$f":"LARGE(AF2:AF45,3)","v":{"$error":"#NUM!"}},{"$f":"VLOOKUP(AC50,AF2:AG45,2,FALSE)","v":{"$error":"#NUM!"}},null,null,null,null,null,{"$f":"LARGE(AM2:AM45,3)","v":{"$error":"#NUM!"}},{"$f":"VLOOKUP(AJ50,AM2:AN45,2,FALSE)","v":{"$error":"#NUM!"}},null,null,null,null,null,{"$f":"LARGE(AT2:AT45,3)","v":{"$error":"#NUM!"}},{"$f":"VLOOKUP(AQ50,AT2:AU45,2,FALSE)","v":{"$error":"#NUM!"}},null,null,null,null,null,{"$f":"LARGE(BA2:BA45,3)","v":{"$error":"#NUM!"}},{"$f":"VLOOKUP(AX50,BA2:BB45,2,FALSE)","v":{"$error":"#NUM!"}}]
[{"$f":"LARGE(D2:D45,4)","v":{"$error":"#NUM!"}},{"$f":"VLOOKUP(A51,D2:E45,2,FALSE)","v":{"$error":"#NUM!"}},null,null,null,null,null,{"$f":"LARGE(K2:K45,4)","v":{"$error":"#NUM!"}},{"$f":"VLOOKUP(H51,K2:L45,2,FALSE)","v":{"$error":"#NUM!"}},null,null,null,null,null,{"$f":"LARGE(R2:R45,4)","v":{"$error":"#NUM!"}},{"$f":"VLOOKUP(O51,R2:S45,2,FALSE)","v":{"$error":"#NUM!"}},null,null,null,null,null,{"$f":"LARGE(Y2:Y45,4)","v":{"$error":"#NUM!"}},{"$f":"VLOOKUP(V51,Y2:Z45,2,FALSE)","v":{"$error":"#NUM!"}},null,null,null,null,null,{"$f":"LARGE(AF2:AF45,4)","v":{"$error":"#NUM!"}},{"$f":"VLOOKUP(AC51,AF2:AG45,2,FALSE)","v":{"$error":"#NUM!"}},null,null,null,null,null,{"$f":"LARGE(AM2:AM45,4)","v":{"$error":"#NUM!"}},{"$f":"VLOOKUP(AJ51,AM2:AN45,2,FALSE)","v":{"$error":"#NUM!"}},null,null,null,null,null,{"$f":"LARGE(AT2:AT45,4)","v":{"$error":"#NUM!"}},{"$f":"VLOOKUP(AQ51,AT2:AU45,2,FALSE)","v":{"$error":"#NUM!"}},null,null,null,null,null,{"$f":"LARGE(BA2:BA45,4)","v":{"$error":"#NUM!"}},{"$f":"VLOOKUP(AX51,BA2:BB45,2,FALSE)","v":{"$error":"#NUM!"}}]
[{"$f":"LARGE(D2:D45,5)","v":{"$error":"#NUM!"}},{"$f":"VLOOKUP(A52,D2:E45,2,FALSE)","v":{"$error":"#NUM!"}},null,null,null,null,null,{"$f":"LARGE(K2:K45,5)","v":{"$error":"#NUM!"}},{"$f":"VLOOKUP(H52,K2:L45,2,FALSE)","v":{"$error":"#NUM!"}},null,null,null,null,null,{"$f":"LARGE(R2:R45,5)","v":{"$error":"#NUM!"}},{"$f":"VLOOKUP(O52,R2:S45,2,FALSE)","v":{"$error":"#NUM!"}},null,null,null,null,null,{"$f":"LARGE(Y2:Y45,5)","v":{"$error":"#NUM!"}},{"$f":"VLOOKUP(V52,Y2:Z45,2,FALSE)","v":{"$error":"#NUM!"}},null,null,null,null,null,{"$f":"LARGE(AF2:AF45,5)","v":{"$error":"#NUM!"}},{"$f":"VLOOKUP(AC52,AF2:AG45,2,FALSE)","v":{"$error":"#NUM!"}},null,null,null,null,null,{"$f":"LARGE(AM2:AM45,5)","v":{"$error":"#NUM!"}},{"$f":"VLOOKUP(AJ52,AM2:AN45,2,FALSE)","v":{"$error":"#NUM!"}},null,null,null,null,null,{"$f":"LARGE(AT2:AT45,5)","v":{"$error":"#NUM!"}},{"$f":"VLOOKUP(AQ52,AT2:AU45,2,FALSE)","v":{"$error":"#NUM!"}},null,null,null,null,null,{"$f":"LARGE(BA2:BA45,5)","v":{"$error":"#NUM!"}},{"$f":"VLOOKUP(AX52,BA2:BB45,2,FALSE)","v":{"$error":"#NUM!"}}]
[{"$f":"LARGE(D2:D45,6)","v":{"$error":"#NUM!"}},{"$f":"VLOOKUP(A53,D2:E45,2,FALSE)","v":{"$error":"#NUM!"}},null,null,null,null,null,{"$f":"LARGE(K2:K45,6)","v":{"$error":"#NUM!"}},{"$f":"VLOOKUP(H53,K2:L45,2,FALSE)","v":{"$error":"#NUM!"}},null,null,null,null,null,{"$f":"LARGE(R2:R45,6)","v":{"$error":"#NUM!"}},{"$f":"VLOOKUP(O53,R2:S45,2,FALSE)","v":{"$error":"#NUM!"}},null,null,null,null,null,{"$f":"LARGE(Y2:Y45,6)","v":{"$error":"#NUM!"}},{"$f":"VLOOKUP(V53,Y2:Z45,2,FALSE)","v":{"$error":"#NUM!"}},null,null,null,null,null,{"$f":"LARGE(AF2:AF45,6)","v":{"$error":"#NUM!"}},{"$f":"VLOOKUP(AC53,AF2:AG45,2,FALSE)","v":{"$error":"#NUM!"}},null,null,null,null,null,{"$f":"LARGE(AM2:AM45,6)","v":{"$error":"#NUM!"}},{"$f":"VLOOKUP(AJ53,AM2:AN45,2,FALSE)","v":{"$error":"#NUM!"}},null,null,null,null,null,{"$f":"LARGE(AT2:AT45,6)","v":{"$error":"#NUM!"}},{"$f":"VLOOKUP(AQ53,AT2:AU45,2,FALSE)","v":{"$error":"#NUM!"}},null,null,null,null,null,{"$f":"LARGE(BA2:BA45,6)","v":{"$error":"#NUM!"}},{"$f":"VLOOKUP(AX53,BA2:BB45,2,FALSE)","v":{"$error":"#NUM!"}}]

{"sheet":"KUPONYAPSONUC","index":11,"n_rows":16,"n_cols":16,"rows_kept":16,"cut":false,"hidden":false,"merged":[[0,12,0,13],[0,14,0,15],[0,0,0,1],[0,2,0,3],[0,4,0,5],[0,6,0,7],[0,8,0,9],[0,10,0,11]]}
["1 MAC ",null,"2 MAC ",null,"3 MAC ",null,"4 MAC ",null,"5 MAC ",null,"6 MAC ",null,"7 MAC ",null,"8 MAC "]
[{"$f":"KUPONYAP3!A48","v":{"$error":"#NUM!"}},{"$f":"KUPONYAP3!B48","v":{"$error":"#NUM!"}},{"$f":"KUPONYAP3!H48","v":{"$error":"#NUM!"}},{"$f":"KUPONYAP3!I48","v":{"$error":"#NUM!"}},{"$f":"KUPONYAP3!O48","v":{"$error":"#NUM!"}},{"$f":"KUPONYAP3!P48","v":{"$error":"#NUM!"}},{"$f":"KUPONYAP3!V48","v":{"$error":"#NUM!"}},{"$f":"KUPONYAP3!W48","v":{"$error":"#NUM!"}},{"$f":"KUPONYAP3!AC48","v":{"$error":"#NUM!"}},{"$f":"KUPONYAP3!AD48","v":{"$error":"#NUM!"}},{"$f":"KUPONYAP3!AJ48","v":{"$error":"#NUM!"}},{"$f":"KUPONYAP3!AK48","v":{"$error":"#NUM!"}},{"$f":"KUPONYAP3!AQ48","v":{"$error":"#NUM!"}},{"$f":"KUPONYAP3!AR48","v":{"$error":"#NUM!"}},{"$f":"KUPONYAP3!AX48","v":{"$error":"#NUM!"}},{"$f":"KUPONYAP3!AY48","v":{"$error":"#NUM!"}}]
[{"$f":"KUPONYAP3!A49","v":{"$error":"#NUM!"}},{"$f":"KUPONYAP3!B49","v":{"$error":"#NUM!"}},{"$f":"KUPONYAP3!H49","v":{"$error":"#NUM!"}},{"$f":"KUPONYAP3!I49","v":{"$error":"#NUM!"}},{"$f":"KUPONYAP3!O49","v":{"$error":"#NUM!"}},{"$f":"KUPONYAP3!P49","v":{"$error":"#NUM!"}},{"$f":"KUPONYAP3!V49","v":{"$error":"#NUM!"}},{"$f":"KUPONYAP3!W49","v":{"$error":"#NUM!"}},{"$f":"KUPONYAP3!AC49","v":{"$error":"#NUM!"}},{"$f":"KUPONYAP3!AD49","v":{"$error":"#NUM!"}},{"$f":"KUPONYAP3!AJ49","v":{"$error":"#NUM!"}},{"$f":"KUPONYAP3!AK49","v":{"$error":"#NUM!"}},{"$f":"KUPONYAP3!AQ49","v":{"$error":"#NUM!"}},{"$f":"KUPONYAP3!AR49","v":{"$error":"#NUM!"}},{"$f":"KUPONYAP3!AX49","v":{"$error":"#NUM!"}},{"$f":"KUPONYAP3!AY49","v":{"$error":"#NUM!"}}]
[{"$f":"KUPONYAP3!A50","v":{"$error":"#NUM!"}},{"$f":"KUPONYAP3!B50","v":{"$error":"#NUM!"}},{"$f":"KUPONYAP3!H50","v":{"$error":"#NUM!"}},{"$f":"KUPONYAP3!I50","v":{"$error":"#NUM!"}},{"$f":"KUPONYAP3!O50","v":{"$error":"#NUM!"}},{"$f":"KUPONYAP3!P50","v":{"$error":"#NUM!"}},{"$f":"KUPONYAP3!V50","v":{"$error":"#NUM!"}},{"$f":"KUPONYAP3!W50","v":{"$error":"#NUM!"}},{"$f":"KUPONYAP3!AC50","v":{"$error":"#NUM!"}},{"$f":"KUPONYAP3!AD50","v":{"$error":"#NUM!"}},{"$f":"KUPONYAP3!AJ50","v":{"$error":"#NUM!"}},{"$f":"KUPONYAP3!AK50","v":{"$error":"#NUM!"}},{"$f":"KUPONYAP3!AQ50","v":{"$error":"#NUM!"}},{"$f":"KUPONYAP3!AR50","v":{"$error":"#NUM!"}},{"$f":"KUPONYAP3!AX50","v":{"$error":"#NUM!"}},{"$f":"KUPONYAP3!AY50","v":{"$error":"#NUM!"}}]
[{"$f":"KUPONYAP3!A51","v":{"$error":"#NUM!"}},{"$f":"KUPONYAP3!B51","v":{"$error":"#NUM!"}},{"$f":"KUPONYAP3!H51","v":{"$error":"#NUM!"}},{"$f":"KUPONYAP3!I51","v":{"$error":"#NUM!"}},{"$f":"KUPONYAP3!O51","v":{"$error":"#NUM!"}},{"$f":"KUPONYAP3!P51","v":{"$error":"#NUM!"}},{"$f":"KUPONYAP3!V51","v":{"$error":"#NUM!"}},{"$f":"KUPONYAP3!W51","v":{"$error":"#NUM!"}},{"$f":"KUPONYAP3!AC51","v":{"$error":"#NUM!"}},{"$f":"KUPONYAP3!AD51","v":{"$error":"#NUM!"}},{"$f":"KUPONYAP3!AJ51","v":{"$error":"#NUM!"}},{"$f":"KUPONYAP3!AK51","v":{"$error":"#NUM!"}},{"$f":"KUPONYAP3!AQ51","v":{"$error":"#NUM!"}},{"$f":"KUPONYAP3!AR51","v":{"$error":"#NUM!"}},{"$f":"KUPONYAP3!AX51","v":{"$error":"#NUM!"}},{"$f":"KUPONYAP3!AY51","v":{"$error":"#NUM!"}}]
[{"$f":"KUPONYAP3!A52","v":{"$error":"#NUM!"}},{"$f":"KUPONYAP3!B52","v":{"$error":"#NUM!"}},{"$f":"KUPONYAP3!H52","v":{"$error":"#NUM!"}},{"$f":"KUPONYAP3!I52","v":{"$error":"#NUM!"}},{"$f":"KUPONYAP3!O52","v":{"$error":"#NUM!"}},{"$f":"KUPONYAP3!P52","v":{"$error":"#NUM!"}},{"$f":"KUPONYAP3!V52","v":{"$error":"#NUM!"}},{"$f":"KUPONYAP3!W52","v":{"$error":"#NUM!"}},{"$f":"KUPONYAP3!AC52","v":{"$error":"#NUM!"}},{"$f":"KUPONYAP3!AD52","v":{"$error":"#NUM!"}},{"$f":"KUPONYAP3!AJ52","v":{"$error":"#NUM!"}},{"$f":"KUPONYAP3!AK52","v":{"$error":"#NUM!"}},{"$f":"KUPONYAP3!AQ52","v":{"$error":"#NUM!"}},{"$f":"KUPONYAP3!AR52","v":{"$error":"#NUM!"}},{"$f":"KUPONYAP3!AX52","v":{"$error":"#NUM!"}},{"$f":"KUPONYAP3!AY52","v":{"$error":"#NUM!"}}]
[]
[]
[null,"KUPON 1",null,"KUPON 2",null,"KUPON 3",null,"KUPON 4",null,"KUPON 5",null,"KUPON 6"]
[{"$f":"A2","v":{"$error":"#NUM!"}},{"$f":"B2","v":{"$error":"#NUM!"}},{"$f":"M2","v":{"$error":"#NUM!"}},{"$f":"N2","v":{"$error":"#NUM!"}},{"$f":"I3","v":{"$error":"#NUM!"}},{"$f":"J3","v":{"$error":"#NUM!"}},{"$f":"E4","v":{"$error":"#NUM!"}},{"$f":"F4","v":{"$error":"#NUM!"}},{"$f":"M4","v":{"$error":"#NUM!"}},{"$f":"N4","v":{"$error":"#NUM!"}},{"$f":"I5","v":{"$error":"#NUM!"}},{"$f":"J5","v":{"$error":"#NUM!"}}]
[{"$f":"C2","v":{"$error":"#NUM!"}},{"$f":"D2","v":{"$error":"#NUM!"}},{"$f":"O2","v":{"$error":"#NUM!"}},{"$f":"P2","v":{"$error":"#NUM!"}},{"$f":"K3","v":{"$error":"#NUM!"}},{"$f":"L3","v":{"$error":"#NUM!"}},{"$f":"G4","v":{"$error":"#NUM!"}},{"$f":"H4","v":{"$error":"#NUM!"}},{"$f":"O4","v":{"$error":"#NUM!"}},{"$f":"P4","v":{"$error":"#NUM!"}},{"$f":"K5","v":{"$error":"#NUM!"}},{"$f":"L5","v":{"$error":"#NUM!"}}]
[{"$f":"E2","v":{"$error":"#NUM!"}},{"$f":"F2","v":{"$error":"#NUM!"}},{"$f":"A3","v":{"$error":"#NUM!"}},{"$f":"B3","v":{"$error":"#NUM!"}},{"$f":"M3","v":{"$error":"#NUM!"}},{"$f":"N3","v":{"$error":"#NUM!"}},{"$f":"I4","v":{"$error":"#NUM!"}},{"$f":"J4","v":{"$error":"#NUM!"}},{"$f":"A5","v":{"$error":"#NUM!"}},{"$f":"B5","v":{"$error":"#NUM!"}},{"$f":"M5","v":{"$error":"#NUM!"}},{"$f":"N5","v":{"$error":"#NUM!"}}]
[{"$f":"G2","v":{"$error":"#NUM!"}},{"$f":"H2","v":{"$error":"#NUM!"}},{"$f":"C3","v":{"$error":"#NUM!"}},{"$f":"D3","v":{"$error":"#NUM!"}},{"$f":"O3","v":{"$error":"#NUM!"}},{"$f":"P3","v":{"$error":"#NUM!"}},{"$f":"G4","v":{"$error":"#NUM!"}},{"$f":"H4","v":{"$error":"#NUM!"}},{"$f":"C5","v":{"$error":"#NUM!"}},{"$f":"D5","v":{"$error":"#NUM!"}},{"$f":"O5","v":{"$error":"#NUM!"}},{"$f":"P5","v":{"$error":"#NUM!"}}]
[{"$f":"I2","v":{"$error":"#NUM!"}},{"$f":"J2","v":{"$error":"#NUM!"}},{"$f":"E3","v":{"$error":"#NUM!"}},{"$f":"F3","v":{"$error":"#NUM!"}},{"$f":"A4","v":{"$error":"#NUM!"}},{"$f":"B4","v":{"$error":"#NUM!"}},{"$f":"I4","v":{"$error":"#NUM!"}},{"$f":"J4","v":{"$error":"#NUM!"}},{"$f":"E5","v":{"$error":"#NUM!"}},{"$f":"F5","v":{"$error":"#NUM!"}},{"$f":"A6","v":{"$error":"#NUM!"}},{"$f":"B6","v":{"$error":"#NUM!"}}]
[{"$f":"K2","v":{"$error":"#NUM!"}},{"$f":"L2","v":{"$error":"#NUM!"}},{"$f":"G3","v":{"$error":"#NUM!"}},{"$f":"H3","v":{"$error":"#NUM!"}},{"$f":"C4","v":{"$error":"#NUM!"}},{"$f":"D4","v":{"$error":"#NUM!"}},{"$f":"K4","v":{"$error":"#NUM!"}},{"$f":"L4","v":{"$error":"#NUM!"}},{"$f":"G5","v":{"$error":"#NUM!"}},{"$f":"H5","v":{"$error":"#NUM!"}},{"$f":"C6","v":{"$error":"#NUM!"}},{"$f":"D6","v":{"$error":"#NUM!"}}]
["GUVEN",{"$f":"(A10+A11+A12+A13+A14+A15)/6","v":{"$error":"#NUM!"}},"GUVEN",{"$f":"(C10+C11+C12+C13+C14+C15)/6","v":{"$error":"#NUM!"}},"GUVEN",{"$f":"(E10+E11+E12+E13+E14+E15)/6","v":{"$error":"#NUM!"}},"GUVEN",{"$f":"(G10+G11+G12+G13+G14+G15)/6","v":{"$error":"#NUM!"}},"GUVEN",{"$f":"(I10+I11+I12+I13+I14+I15)/6","v":{"$error":"#NUM!"}},"GUVEN",{"$f":"(K10+K11+K12+K13+K14+K15)/6","v":{"$error":"#NUM!"}}]

{"sheet":"KUPONYAP","index":12,"n_rows":148,"n_cols":18,"rows_kept":148,"cut":false,"hidden":false,"merged":[[49,1,49,16],[35,12,35,14],[44,12,44,14],[35,7,35,9],[35,2,35,4],[44,2,44,4],[44,7,44,9],[39,11,39,14],[40,11,40,14],[41,11,41,14],[38,11,38,14],[42,11,42,14],[43,11,43,14],[42,1,42,4],[43,1,43,4],[39,6,39,9],[13,2,13,16],[27,0,31,0],[29,1,29,4],[29,6,29,9],[29,11,29,14],[30,1,30,4],[31,1,31,4],[30,6,30,9],[30,11,30,14],[31,11,31,14],[31,6,31,9],[15,2,15,16],[16,2,16,16],[17,2,17,16],[9,2,9,16],[10,2,10,16],[11,1,12,1],[11,2,11,16],[12,2,12,16],[0,0,2,11],[0,12,2,16],[5,2,6,5],[5,6,6,15],[8,2,8,16],[42,6,42,9],[43,6,43,9],[33,11,33,14],[34,11,34,14],[14,2,14,16],[32,11,32,14],[32,1,32,4],[33,1,33,4],[34,1,34,4],[38,1,38,4],[38,6,38,9],[32,6,32,9],[34,6,34,9],[33,6,33,9],[39,1,39,4],[40,1,40,4],[41,1,41,4],[40,6,40,9],[41,6,41,9]]}
["pro analiz andsi v 19 . 02",null,null,null,null,null,null,null,null,null,null,null,"HAZIR KUPON"]
[null,null,null,null,null,null,null,null,null,null,null,null,null,null,null,null,null,{"$f":"TODAY()","v":"2019-02-01"}]
[]
[]
[]
[null,null,"KULLANIMI",null,null,null,"SISTEM 8 MAC ANALIZ EDILIP KAYIT ETTIKTEN SONRA CALISIR"]
[]
[]
[null,"1 -","KUPON  OLUSTUR KUPONUNA 1 KERE BASIP BEKLEYINIZ"]
[null,"2 -","EGER KUPON OLUSTUR BUTONUNA BIRDEN FAZLA BASARSANIZ HATA ALIRSINIZ"]
[" ","3 -","KUPONLARIN GUVEN ORANLARI KUPONLARIN ALTINDA YAZMAKTATDIR "]
[null,"4-","BURADAKI VERILERI KESINLIKLE YATIRIM TAVSIYESI DEGILDIR ...."]
[null,null,"YALNIZCA BILGILENDIRME AMACLIDIR.. MADDI SONUCLARDAN PROGRAM SAHIBI SORUMLU DEGILDIR "]
[null,"5 -","KUPONLARI TEKER TEKER YADA ICLERINDEN ALARAK OYNAYABILIRSINIZ"]
[null,"6 -","MBS 3 OLAN KUPONLAR ICIN TAVSIYE EDILEN SISTEM 3.4 5 LI SISTEMDIR (MISLI 1 .... 16 YTL)"]
[null,"7 -","MBS  OLAN KUPONLAR ICIN TAVSIYE EDILEN SISTEM 4 5 LI SISTEMDIR (MISLI 1 .... 6 YTL)"]
[null,"8 - ","ANALIZ SAYFASINA DON BUTONUNU TIKLAYARAK SAYFAYI TERKEDINIZ YOKSA IKINCI DEFA KUPON HAZIRLAMADA HATA ALIRSINIZ "]
[null,"9 - ","KAYIT ETMIS OLDUGUNUZ MACLAR KAFANIZA YATANLARDAN OLSUN"]
[]
[]
[]
[]
[]
[]
[]
[]
[]
[]
[]
[null,"KUPON TAVSIYESI 1",null,null,null,null,"KUPON TAVSIYESI 2",null,null,null,null,"KUPON TAVSIYESI 3"]
[null,{"$f":"KUPONYAPSONUC!B10","v":{"$error":"#NUM!"}},null,null,null,null,{"$f":"KUPONYAPSONUC!D10","v":{"$error":"#NUM!"}},null,null,null,null,{"$f":"KUPONYAPSONUC!F10","v":{"$error":"#NUM!"}}]
[null,{"$f":"KUPONYAPSONUC!B11","v":{"$error":"#NUM!"}},null,null,null,null,{"$f":"KUPONYAPSONUC!D11","v":{"$error":"#NUM!"}},null,null,null,null,{"$f":"KUPONYAPSONUC!F11","v":{"$error":"#NUM!"}}]
[null,{"$f":"KUPONYAPSONUC!B12","v":{"$error":"#NUM!"}},null,null,null,null,{"$f":"KUPONYAPSONUC!D12","v":{"$error":"#NUM!"}},null,null,null,null,{"$f":"KUPONYAPSONUC!F12","v":{"$error":"#NUM!"}}]
[null,{"$f":"KUPONYAPSONUC!B13","v":{"$error":"#NUM!"}},null,null,null,null,{"$f":"KUPONYAPSONUC!D13","v":{"$error":"#NUM!"}},null,null,null,null,{"$f":"KUPONYAPSONUC!F13","v":{"$error":"#NUM!"}}]
[null,{"$f":"KUPONYAPSONUC!B14","v":{"$error":"#NUM!"}},null,null,null,null,{"$f":"KUPONYAPSONUC!D14","v":{"$error":"#NUM!"}},null,null,null,null,{"$f":"KUPONYAPSONUC!F14","v":{"$error":"#NUM!"}}]
[null,"GUVEN",{"$f":"KUPONYAPSONUC!B16","v":{"$error":"#NUM!"}},null,null,null,"GUVEN",{"$f":"KUPONYAPSONUC!D16","v":{"$error":"#NUM!"}},null,null,null,"GUVEN",{"$f":"KUPONYAPSONUC!F16","v":{"$error":"#NUM!"}}]
[]
[]
[null,"KUPON TAVSIYESI 4",null,null,null,null,"KUPON TAVSIYESI 5",null,null,null,null,"KUPON TAVSIYESI 6"]
[null,{"$f":"KUPONYAPSONUC!H10","v":{"$error":"#NUM!"}},null,null,null,null,{"$f":"KUPONYAPSONUC!J10","v":{"$error":"#NUM!"}},null,null,null,null,{"$f":"KUPONYAPSONUC!L10","v":{"$error":"#NUM!"}}]
[null,{"$f":"KUPONYAPSONUC!H11","v":{"$error":"#NUM!"}},null,null,null,null,{"$f":"KUPONYAPSONUC!J11","v":{"$error":"#NUM!"}},null,null,null,null,{"$f":"KUPONYAPSONUC!L11","v":{"$error":"#NUM!"}}]
[null,{"$f":"KUPONYAPSONUC!H12","v":{"$error":"#NUM!"}},null,null,null,null,{"$f":"KUPONYAPSONUC!J12","v":{"$error":"#NUM!"}},null,null,null,null,{"$f":"KUPONYAPSONUC!L12","v":{"$error":"#NUM!"}}]
[null,{"$f":"KUPONYAPSONUC!H13","v":{"$error":"#NUM!"}},null,null,null,null,{"$f":"KUPONYAPSONUC!J13","v":{"$error":"#NUM!"}},null,null,null,null,{"$f":"KUPONYAPSONUC!L13","v":{"$error":"#NUM!"}}]
[null,{"$f":"KUPONYAPSONUC!H14","v":{"$error":"#NUM!"}},null,null,null,null,{"$f":"KUPONYAPSONUC!J14","v":{"$error":"#NUM!"}},null,null,null,null,{"$f":"KUPONYAPSONUC!L14","v":{"$error":"#NUM!"}}]
[null,"GUVEN",{"$f":"KUPONYAPSONUC!H16","v":{"$error":"#NUM!"}},null,null,null,"GUVEN",{"$f":"KUPONYAPSONUC!J16","v":{"$error":"#NUM!"}},null,null,null,"GUVEN",{"$f":"KUPONYAPSONUC!L16","v":{"$error":"#NUM!"}}]
[]
[]
[]
[]
[null,"BURADAKI VERILERI KESINLIKLE YATIRIM TAVSIYESI DEGILDIR .... YALNIZCA BILGILENDIRME AMACLIDIR.. MADDI SONUCLARDAN PROGRAM SAHIBI MESHUL DEGILDIR "]
[]
[]
[]
[]
[]
[]
[]
[]
[]
[]
[]
[]
[]
[]
[]
[]
[]
[]
[]
[]
[]
[]
[]
[]
[]
[]
[]
[]
[]
[]
[]
[]
[]
[]
[]
[]
[]
[]
[]
[]
[]
[]
[]
[]
[]
[]
[]
[]
[]
[]
[]
[]
[]
[]
[]
[]
[]
[]
[]
[]
[]
[]
[]
[]
[]
[]
[]
[]
[]
[]
[]
[]
[]
[]
[]
[]
[]
[]
[]
[]
[]
[]
[]
[]
[]
[]
[]
[]
[]
[]
[]
[]
[]
[]
[]
[]
[]
[null,null,null,null,null,"Copyright © 2017 Tüm Hakları Saklıdır. - Andsi pro Analiz "]

{"sheet":"FORM","index":13,"n_rows":105,"n_cols":18,"rows_kept":105,"cut":false,"hidden":false,"merged":[[47,7,48,10],[0,0,2,15],[5,16,5,17],[18,13,19,13],[22,12,25,12],[23,1,24,1],[23,3,24,3],[23,5,24,5],[23,7,24,7],[23,9,24,9],[7,10,8,13],[8,1,9,3],[8,5,9,7],[7,1,7,3],[7,5,7,7],[23,11,24,11],[23,13,24,13],[18,1,19,1],[18,3,19,3],[18,5,19,5],[18,7,19,7],[18,9,19,9],[28,1,28,4],[29,1,29,4],[10,1,10,3],[10,5,10,7],[12,1,13,1],[12,2,13,2],[12,3,13,3],[12,5,13,5],[12,6,13,6],[12,7,13,7],[18,11,19,11],[51,5,51,9],[52,2,53,4],[53,5,53,13],[54,5,54,13],[55,5,55,13],[29,13,30,13],[29,14,30,14],[29,15,30,15],[35,5,37,10],[39,5,40,6],[41,5,42,6],[43,5,44,6],[45,5,46,6],[47,5,48,6],[38,5,38,10],[39,7,40,10],[41,7,42,10],[43,7,44,10],[45,7,46,10],[29,7,30,7],[29,8,30,8],[29,9,30,9],[29,10,30,10],[29,11,30,11],[64,5,64,13],[70,6,71,11],[72,2,72,6],[72,10,72,14],[73,2,73,3],[73,5,73,6],[73,10,73,11],[73,13,73,14],[56,5,56,13],[59,5,59,9],[60,2,61,4],[61,5,61,13],[62,5,62,13],[63,5,63,13],[76,2,76,3],[76,5,76,6],[76,10,76,11],[76,13,76,14],[77,2,77,3],[77,5,77,6],[77,10,77,11],[77,13,77,14],[74,2,74,3],[74,5,74,6],[74,10,74,11],[74,13,74,14],[75,2,75,3],[75,5,75,6],[75,10,75,11],[75,13,75,14],[80,2,80,3],[80,5,80,6],[80,10,80,11],[80,13,80,14],[81,2,81,3],[81,5,81,6],[81,10,81,11],[81,13,81,14],[78,2,78,3],[78,5,78,6],[78,10,78,11],[78,13,78,14],[79,2,79,3],[79,5,79,6],[79,10,79,11],[79,13,79,14],[84,2,84,3],[84,5,84,6],[84,10,84,11],[84,13,84,14],[85,2,85,3],[85,5,85,6],[85,10,85,11],[85,13,85,14],[82,2,82,3],[82,5,82,6],[82,10,82,11],[82,13,82,14],[83,2,83,3],[83,5,83,6],[83,10,83,11],[83,13,83,14],[88,2,88,3],[88,5,88,6],[88,10,88,11],[88,13,88,14],[89,2,89,3],[89,5,89,6],[89,10,89,11],[89,13,89,14],[86,2,86,3],[86,5,86,6],[86,10,86,11],[86,13,86,14],[87,2,87,3],[87,5,87,6],[87,10,87,11],[87,13,87,14],[92,2,92,3],[92,5,92,6],[92,10,92,11],[92,13,92,14],[90,2,90,3],[90,5,90,6],[90,10,90,11],[90,13,90,14],[91,2,91,3],[91,5,91,6],[91,10,91,11],[91,13,91,14]]}
["pro analiz andsi v 19 . 02"]
[null,null,null,null,null,null,null,null,null,null,null,null,null,null,null,null,null,{"$f":"TODAY()","v":"2019-02-01"}]
[]
[]
[null,null,null,null,null,null,null,null,null,null,null,null,null,null,null,null,null,{"$f":"Bulten!AI1","v":"BET365"}]
[null,null,null,null,null,null,null,null,null,null,null,null,null,null,null,null,"FORM ANALIZI"]
[]
[null,{"$f":"ANALIZANDSI!$F$3","v":"OK"},null,null,null,{"$f":"ANALIZANDSI!$F$3","v":"OK"},null,null,null,null,"SKOR TAHMINLERI                                                   IY                             MS"]
[null,{"$f":"ANALIZANDSI!A140","v":"SG Austria Klagenfurt"},null,null,null,{"$f":"ANALIZANDSI!B140","v":"SC Kalsdorf"}]
[null,null,null,null,null,null,null,null,null,"20 MAC",{"$f":"ANALIZANDSI!E132","v":0.82499999999999996},{"$f":"ANALIZANDSI!F132","v":0.75},{"$f":"ANALIZANDSI!G132","v":1.7749999999999999},{"$f":"ANALIZANDSI!H132","v":1.8250000000000002},{"$f":"ANALIZANDSI!$F$3","v":"OK"}]
[null,"ILK YARI",null,null,null,"MAC SONU",null,null,null,"FORM",{"$f":"ANALIZANDSI!E141","v":1.4},{"$f":"ANALIZANDSI!F141","v":0.60000000000000009},{"$f":"ANALIZANDSI!G141","v":2.9000000000000004},{"$f":"ANALIZANDSI!H141","v":1.2},{"$f":"ANALIZANDSI!$F$3","v":"OK"}]
[null,1,"X",2,null,1,"X",2,null,"H2H",{"$f":"H2H!K12","v":0.8},{"$f":"H2H!L12","v":0.4},{"$f":"H2H!M12","v":2},{"$f":"H2H!N12","v":1.2},{"$f":"ANALIZANDSI!$DX$3","v":"OK"}]
[null,{"$f":"ANALIZANDSI!I141","v":0.6},{"$f":"ANALIZANDSI!J141","v":0.1},{"$f":"ANALIZANDSI!K141","v":0.30000000000000004},null,{"$f":"ANALIZANDSI!L141","v":0.8},{"$f":"ANALIZANDSI!M141","v":0},{"$f":"ANALIZANDSI!N141","v":0.2},null,"ANDSI.P",{"$f":"ANDSIPRO!K13","v":1.4000000000000001},{"$f":"ANDSIPRO!L13","v":0.33333333333333331},{"$f":"ANDSIPRO!M13","v":2.2250000000000001},{"$f":"ANDSIPRO!N13","v":0.8833333333333333},{"$f":"ANALIZANDSI!$DX$3","v":"OK"}]
[]
[]
[]
[]
[null,"IY TAMIN1",null,"MS TAMIN1",null,"KG 1",null,"KG 2",null,"2,5 UST",null,"CIFTE",null,"TOPLAM GOL"]
[null,{"$f":"ANALIZANDSI!O141","v":"0,5 UST"},null,{"$f":"ANALIZANDSI!S141","v":"1,5 UST"},null,{"$f":"ANALIZANDSI!AE141","v":"RISKLI"},null,{"$f":"ANALIZANDSI!AG141","v":"RISKLI"},null,{"$f":"ANALIZANDSI!AM141","v":"2,5 UST"},null,{"$f":"ANALIZANDSI!AI141","v":"12"},null,{"$f":"ANALIZANDSI!AK141","v":"RISKLI"}]
[]
[null,{"$f":"ANALIZANDSI!P141","v":0.9},null,{"$f":"ANALIZANDSI!T141","v":1},null,{"$f":"ANALIZANDSI!AF141","v":"RISKLI"},null,{"$f":"ANALIZANDSI!AH141","v":"RISKLI"},null,{"$f":"ANALIZANDSI!AN141","v":0.9},null,{"$f":"ANALIZANDSI!AJ141","v":0.5},null,{"$f":"ANALIZANDSI!AL141","v":"RISKLI"}]
[]
[null,"IY TAMIN2",null,"MS TAMIN2",null,"TAHMIN 1",null,"TAHMIN 2",null,"iy-ms",null,"EV 2,5UST","SON 5 MACTA 2,5 UST","DEP    2,5 UST"]
[null,{"$f":"ANALIZANDSI!Q141","v":"1"},null,{"$f":"ANALIZANDSI!U141","v":"1"},null,{"$f":"ANALIZANDSI!W141","v":"MS 1,5UST"},null,{"$f":"ANALIZANDSI!Y141","v":"MS 2,5UST"},null,{"$f":"ANALIZANDSI!AT141","v":"1 -1"},null,{"$f":"ANALIZANDSI!AA141","v":4},null,{"$f":"ANALIZANDSI!AC141","v":5}]
[]
[null,{"$f":"ANALIZANDSI!R141","v":"RISKLI"},null,{"$f":"ANALIZANDSI!V141","v":"RISKLI"},null,{"$f":"ANALIZANDSI!X141","v":1},null,{"$f":"ANALIZANDSI!Z141","v":0.9},null,null,null,{"$f":"ANALIZANDSI!AB141","v":0.8},null,{"$f":"ANALIZANDSI!AD141","v":1}]
[]
[]
[null,"ORANLAR ",null,null,null,null,null,{"$f":"ANALIZANDSI!AO131","v":"IY 0,5 UST"},{"$f":"ANALIZANDSI!AP131","v":"IY 1,5 ALT"},{"$f":"ANALIZANDSI!AQ131","v":"MS 1,5 UST"},{"$f":"ANALIZANDSI!AR131","v":"MS 2,5 UST"},{"$f":"ANALIZANDSI!AS131","v":"MS 3,5 ALT"},null,"KORNER EV","KORNER DEP","TOPLAM"]
[null,"ACILIS - KAPANIS ORANLARI",null,null,null,null,null,{"$f":"ANALIZANDSI!AO141","v":0.9},{"$f":"ANALIZANDSI!AP141","v":0.4},{"$f":"ANALIZANDSI!AQ141","v":1},{"$f":"ANALIZANDSI!AR141","v":0.9},{"$f":"ANALIZANDSI!AS141","v":0.5},null,{"$f":"ANALIZANDSI!AV141","v":{"$error":"#VALUE!"}},{"$f":"ANALIZANDSI!AW141","v":{"$error":"#VALUE!"}},{"$f":"N30+O30","v":{"$error":"#VALUE!"}}]
[null,"o.s","MS 1 ","MS X","MS 2"]
[null,"1",{"$f":"Bulten!AH11","v":1.29},{"$f":"Bulten!AH12","v":5.6},{"$f":"Bulten!AH13","v":6.54}]
[null,"1",{"$f":"Bulten!AH14","v":1.29},{"$f":"Bulten!AH15","v":5.6},{"$f":"Bulten!AH16","v":6.53}]
[]
[]
[null,null,null,null,null,"FORM ANALIZINE GORE TERCIHLER"]
[]
[]
[]
[null,null,null,null,null,"1 TERCIH",null,{"$f":"ANALIZANDSI!$DP$6","v":"MS 1,5UST"}]
[]
[null,null,null,null,null,"2 TERCIH",null,{"$f":"ANALIZANDSI!$DP$9","v":"IY 0,5UST"}]
[]
[null,null,null,null,null,"3 TERCIH",null,{"$f":"ANALIZANDSI!$DP$10","v":"IY 0,5UST"}]
[]
[null,null,null,null,null,"4 TERCIH",null,{"$f":"ANALIZANDSI!$DP$11","v":"MS 1"}]
[]
[null,null,null,null,null,"5 TERCIH",null,{"$f":"ANALIZANDSI!$DP$12","v":"IY 1,5UST"}]
[]
[]
[]
[null,null,null,null,null,"20 MAC ANALIZI HAKKINDA ONEMLI NOTLAR"]
[null,null,{"$f":"B9","v":"SG Austria Klagenfurt"}]
[null,null,null,null,null,{"$f":"ANALIZANDSI!BX150","v":"SON 5 MACIN5   TANESI  MS 1,5 UST   BITTI"}]
[null,null,null,null,null,{"$f":"ANALIZANDSI!BX151","v":"SON 5 MACIN5   TANESI  MS 1,5 UST   BITTI"}]
[null,null,null,null,null,{"$f":"ANALIZANDSI!BX152","v":"SON 5 MACIN5   TANESI  MS 1,5 UST   BITTI"}]
[null,null,null,null,null,{"$f":"ANALIZANDSI!BX153","v":"SON 5 MACIN5   TANESI  MS 1,5 UST   BITTI"}]
[]
[]
[null,null,null,null,null,"20 MAC ANALIZI HAKKINDA ONEMLI NOTLAR"]
[null,null,{"$f":"F9","v":"SC Kalsdorf"}]
[null,null,null,null,null,{"$f":"ANALIZANDSI!BX174","v":"SON 5 MACIN5   TANESI  ILK YARISI 0,5 UST   BITTI"}]
[null,null,null,null,null,{"$f":"ANALIZANDSI!BX175","v":"SON 5 MACIN5   TANESI  ILK YARISI 0,5 UST   BITTI"}]
[null,null,null,null,null,{"$f":"ANALIZANDSI!BX176","v":"SON 5 MACIN5   TANESI  ILK YARISI 0,5 UST   BITTI"}]
[null,null,null,null,null,{"$f":"ANALIZANDSI!BX177","v":"SON 5 MACIN4   TANESI  ILK YARISI 1,5 UST   BITTI"}]
[]
[]
[]
[]
[]
[null,null,null,null,null,null,"OYNANAN SON MAC SONUCLARI"]
[]
[null,null,"EV SAHIBI",null,null,null,null,"IY","MS",null,"DEPLASMAN",null,null,null,null,"IY","MS"]
[null,null,{"$f":"'20MAC'!C74","v":"VST Volkermarkt"},null,{"$f":"'20MAC'!E74","v":"--"},{"$f":"'20MAC'!F74","v":"SG Austria Klagenfurt"},null,{"$f":"'20MAC'!H74","v":"0-1"},{"$f":"'20MAC'!I74","v":"2-3"},null,{"$f":"ANALIZANDSI!A30","v":"Leoben"},null,"--",{"$f":"ANALIZANDSI!B30","v":"SC Kalsdorf"},null,{"$f":"ANALIZANDSI!C30","v":"0-2"},{"$f":"ANALIZANDSI!D30","v":"0-4"}]
[null,null,{"$f":"'20MAC'!C75","v":"KAC 1909"},null,{"$f":"'20MAC'!E75","v":"--"},{"$f":"'20MAC'!F75","v":"SG Austria Klagenfurt"},null,{"$f":"'20MAC'!H75","v":"1-3"},{"$f":"'20MAC'!I75","v":"2-6"},null,{"$f":"ANALIZANDSI!A31","v":"Union Gurten"},null,"--",{"$f":"ANALIZANDSI!B31","v":"SC Kalsdorf"},null,{"$f":"ANALIZANDSI!C31","v":"1-0"},{"$f":"ANALIZANDSI!D31","v":"3-0"}]
[null,null,{"$f":"'20MAC'!C76","v":"Wolfsberger AC Amateure(N)"},null,{"$f":"'20MAC'!E76","v":"--"},{"$f":"'20MAC'!F76","v":"SG Austria Klagenfurt"},null,{"$f":"'20MAC'!H76","v":"0-0"},{"$f":"'20MAC'!I76","v":"0-2"},null,{"$f":"ANALIZANDSI!A32","v":"SC Kalsdorf"},null,"--",{"$f":"ANALIZANDSI!B32","v":"Vocklamarkt"},null,{"$f":"ANALIZANDSI!C32","v":"0-3"},{"$f":"ANALIZANDSI!D32","v":"0-6"}]
[null,null,{"$f":"'20MAC'!C77","v":"SC Gleisdorf(N)"},null,{"$f":"'20MAC'!E77","v":"--"},{"$f":"'20MAC'!F77","v":"SG Austria Klagenfurt"},null,{"$f":"'20MAC'!H77","v":"1-0"},{"$f":"'20MAC'!I77","v":"1-2"},null,{"$f":"ANALIZANDSI!A33","v":"Gratkorn"},null,"--",{"$f":"ANALIZANDSI!B33","v":"SC Kalsdorf"},null,{"$f":"ANALIZANDSI!C33","v":"1-2"},{"$f":"ANALIZANDSI!D33","v":"1-2"}]
[null,null,{"$f":"'20MAC'!C78","v":"SG Austria Klagenfurt"},null,{"$f":"'20MAC'!E78","v":"--"},{"$f":"'20MAC'!F78","v":"FC Liefering"},null,{"$f":"'20MAC'!H78","v":"3-0"},{"$f":"'20MAC'!I78","v":"3-0"},null,{"$f":"ANALIZANDSI!A34","v":"SC Weiz"},null,"--",{"$f":"ANALIZANDSI!B34","v":"SC Kalsdorf"},null,{"$f":"ANALIZANDSI!C34","v":"2-0"},{"$f":"ANALIZANDSI!D34","v":"3-1"}]
[]
[]
[]
[]
[]
[]
[]
[]
[]
[]
[]
[]
[]
[]
[]
[]
[]
[]
[]
[]
[]
[]
[]
[]
[]
[]
["Copyright © 2017 Tüm Hakları Saklıdır. - Andsi pro Analiz "]

{"sheet":"ANDSIPRO","index":14,"n_rows":58,"n_cols":18,"rows_kept":58,"cut":false,"hidden":false,"merged":[[43,5,44,6],[45,5,46,6],[47,5,48,6],[43,7,44,10],[45,7,46,10],[47,7,48,10],[35,5,37,10],[39,5,40,6],[41,5,42,6],[38,5,38,10],[39,7,40,10],[41,7,42,10],[29,10,30,10],[29,11,30,11],[29,13,30,13],[29,14,30,14],[29,15,30,15],[28,1,28,4],[29,1,29,4],[29,7,30,7],[29,8,30,8],[29,9,30,9],[18,9,19,9],[23,1,24,1],[23,3,24,3],[23,5,24,5],[23,7,24,7],[23,9,24,9],[12,3,13,3],[12,5,13,5],[12,6,13,6],[12,7,13,7],[18,1,19,1],[18,3,19,3],[18,5,19,5],[18,7,19,7],[5,16,5,17],[0,0,2,15],[18,11,19,11],[18,13,19,13],[22,12,25,12],[23,11,25,11],[23,13,25,13],[7,1,7,3],[7,5,7,7],[7,10,8,13],[8,1,9,3],[8,5,9,7],[10,1,10,3],[10,5,10,7],[12,1,13,1],[12,2,13,2]]}
["pro analiz andsi v 19 . 02"]
[null,null,null,null,null,null,null,null,null,null,null,null,null,null,null,null,null,{"$f":"TODAY()","v":"2019-02-01"}]
[]
[]
[null,null,null,null,null,null,null,null,null,null,null,null,null,null,null,null,null,{"$f":"Bulten!AI1","v":"BET365"}]
[null,null,null,null,null,null,null,null,null,null,null,null,null,null,null,null,"PRO ANDSI ANALIZI"]
[]
[null,{"$f":"ANALIZANDSI!$DX$3","v":"OK"},null,null,null,{"$f":"ANALIZANDSI!$DX$3","v":"OK"},null,null,null,null,"SKOR TAHMINLERI                                                   IY                             MS"]
[null,{"$f":"ANALIZANDSI!A140","v":"SG Austria Klagenfurt"},null,null,null,{"$f":"ANALIZANDSI!B140","v":"SC Kalsdorf"}]
[null,null,null,null,null,null,null,null,null,"20 MAC",{"$f":"ANALIZANDSI!E132","v":0.82499999999999996},{"$f":"ANALIZANDSI!F132","v":0.75},{"$f":"ANALIZANDSI!G132","v":1.7749999999999999},{"$f":"ANALIZANDSI!H132","v":1.8250000000000002},{"$f":"ANALIZANDSI!$F$3","v":"OK"}]
[null,"ILK YARI",null,null,null,"MAC SONU",null,null,null,"FORM",{"$f":"ANALIZANDSI!E141","v":1.4},{"$f":"ANALIZANDSI!F141","v":0.60000000000000009},{"$f":"ANALIZANDSI!G141","v":2.9000000000000004},{"$f":"ANALIZANDSI!H141","v":1.2},{"$f":"ANALIZANDSI!$F$3","v":"OK"}]
[null,1,"X",2,null,1,"X",2,null,"H2H",{"$f":"ANALIZANDSI!E142","v":0.8},{"$f":"ANALIZANDSI!F142","v":0.4},{"$f":"ANALIZANDSI!G142","v":2},{"$f":"ANALIZANDSI!H142","v":1.2},{"$f":"ANALIZANDSI!$DX$3","v":"OK"}]
[null,{"$f":"ANALIZANDSI!I143","v":0.4916666666666667},{"$f":"ANALIZANDSI!J143","v":0.16666666666666666},{"$f":"ANALIZANDSI!K143","v":0.34166666666666662},null,{"$f":"ANALIZANDSI!L143","v":0.65833333333333333},{"$f":"ANALIZANDSI!M143","v":6.6666666666666666E-2},{"$f":"ANALIZANDSI!N143","v":0.27499999999999997},null,"ANDSI.P",{"$f":"ANALIZANDSI!E143","v":1.4000000000000001},{"$f":"ANALIZANDSI!F143","v":0.33333333333333331},{"$f":"ANALIZANDSI!G143","v":2.2250000000000001},{"$f":"ANALIZANDSI!H143","v":0.8833333333333333},{"$f":"ANALIZANDSI!$DX$3","v":"OK"}]
[]
[]
[]
[]
[null,"IY TAMIN1",null,"MS TAMIN1",null,"KG 1",null,"KG 2",null,"2,5 UST",null,"CIFTE",null,"TOPLAM GOL"]
[null,{"$f":"ANALIZANDSI!O143","v":"0,5 UST"},null,{"$f":"ANALIZANDSI!S143","v":"1,5 UST"},null,{"$f":"ANALIZANDSI!AE143","v":"RISKLI"},null,{"$f":"ANALIZANDSI!AG143","v":"RISKLI"},null,{"$f":"ANALIZANDSI!AM143","v":"2,5 UST"},null,{"$f":"ANALIZANDSI!AI143","v":"12"},null,{"$f":"ANALIZANDSI!AK143","v":"RISKLI"}]
[]
[null,{"$f":"ANALIZANDSI!P143","v":0.83333333333333337},null,{"$f":"ANALIZANDSI!T143","v":0.82500000000000007},null,{"$f":"ANALIZANDSI!AF143","v":"RISKLI"},null,{"$f":"ANALIZANDSI!AH143","v":"RISKLI"},null,{"$f":"ANALIZANDSI!AN143","v":0.73333333333333328},null,{"$f":"ANALIZANDSI!AJ143","v":0.46666666666666662},null,{"$f":"ANALIZANDSI!AL143","v":"RISKLI"}]
[]
[null,"IY TAMIN2",null,"MS TAMIN2",null,"TAHMIN 1",null,"TAHMIN 2",null,"iy-ms",null,"EV 2,5UST","genel ortalama ","DEP    2,5 UST"]
[null,{"$f":"ANALIZANDSI!Q143","v":"1"},null,{"$f":"ANALIZANDSI!U143","v":"1"},null,{"$f":"ANALIZANDSI!W143","v":"IY 0,5UST"},null,{"$f":"ANALIZANDSI!Y143","v":"KG VAR"},null,null,null,{"$f":"ANALIZANDSI!AB143","v":0.66666666666666663},null,{"$f":"ANALIZANDSI!AD143","v":0.79999999999999993}]
[]
[null,{"$f":"ANALIZANDSI!R143","v":"RISKLI"},null,{"$f":"ANALIZANDSI!V143","v":"RISKLI"},null,{"$f":"ANALIZANDSI!X143","v":0.83333333333333337},null,{"$f":"ANALIZANDSI!Z143","v":0.53333333333333321}]
[]
[]
[null,"ORANLAR ",null,null,null,null,null,{"$f":"ANALIZANDSI!AO131","v":"IY 0,5 UST"},{"$f":"ANALIZANDSI!AP131","v":"IY 1,5 ALT"},{"$f":"ANALIZANDSI!AQ131","v":"MS 1,5 UST"},{"$f":"ANALIZANDSI!AR131","v":"MS 2,5 UST"},{"$f":"ANALIZANDSI!AS131","v":"MS 3,5 ALT"},null,"KORNER EV","KORNER DEP","TOPLAM"]
[null,"ACILIS - KAPANIS ORANLARI",null,null,null,null,null,{"$f":"ANALIZANDSI!AO143","v":0.83333333333333337},{"$f":"ANALIZANDSI!AP143","v":0.50833333333333341},{"$f":"ANALIZANDSI!AQ143","v":0.82500000000000007},{"$f":"ANALIZANDSI!AR143","v":0.73333333333333328},{"$f":"ANALIZANDSI!AS143","v":0.54166666666666663}]
[null,"o.s","MS 1 ","MS X","MS 2"]
[null,"1",{"$f":"Bulten!AH11","v":1.29},{"$f":"Bulten!AH12","v":5.6},{"$f":"Bulten!AH13","v":6.54}]
[null,"1",{"$f":"Bulten!AH14","v":1.29},{"$f":"Bulten!AH15","v":5.6},{"$f":"Bulten!AH16","v":6.53}]
[]
[]
[null,null,null,null,null,"ANALIZe GORE TERCIHLER"]
[]
[]
[]
[null,null,null,null,null,"1 TERCIH",null,{"$f":"ANALIZANDSI!$GS$6","v":"IY 0,5UST"}]
[]
[null,null,null,null,null,"2 TERCIH",null,{"$f":"ANALIZANDSI!$GS$9","v":"MS 1,5UST"}]
[]
[null,null,null,null,null,"3 TERCIH",null,{"$f":"ANALIZANDSI!$GS$10","v":"MS 2,5UST"}]
[]
[null,null,null,null,null,"4 TERCIH",null,{"$f":"ANALIZANDSI!$GS$11","v":"MS 1"}]
[]
[null,null,null,null,null,"5 TERCIH",null,{"$f":"ANALIZANDSI!$GS$12","v":"MS 3,5ALT"}]
[]
[]
[]
[]
[]
[]
[]
[]
[]
["Copyright © 2017 Tüm Hakları Saklıdır. - Andsi pro Analiz "]

{"sheet":"Data","index":15,"n_rows":43,"n_cols":13,"rows_kept":43,"cut":false,"hidden":false,"merged":[[24,2,24,5],[24,9,24,12],[29,0,30,5],[31,0,32,0],[31,1,32,1],[31,2,32,2],[31,3,32,3],[31,4,32,4],[31,5,32,5],[2,9,3,9],[2,10,3,10],[2,11,3,11],[2,12,3,12],[0,0,1,5],[0,7,1,12],[2,0,3,0],[2,1,3,1],[2,2,3,2],[2,3,3,3],[2,4,3,4],[2,5,3,5],[2,7,3,7],[2,8,3,8]]}
[{"$f":"C25","v":{"$error":"#REF!"}},null,null,null,null,null,null,{"$f":"J25","v":{"$error":"#REF!"}}]
[]
["TARİH","LİG","İY","EV SAHİBİ","MS","DEPLASMAN","T.M.S.","TARİH","LİG","İY","EV SAHİBİ","MS","DEPLASMAN"]
[]
[0,{"$f":"İstatistik!B9","v":{"$error":"#N/A"}},{"$f":"İstatistik!E9","v":{"$error":"#N/A"}},{"$f":"İstatistik!C9","v":{"$error":"#N/A"}},{"$f":"İstatistik!F9","v":{"$error":"#N/A"}},{"$f":"İstatistik!D9","v":{"$error":"#N/A"}},1,null,{"$f":"İstatistik!G9","v":{"$error":"#N/A"}},{"$f":"İstatistik!J9","v":{"$error":"#N/A"}},{"$f":"İstatistik!H9","v":{"$error":"#N/A"}},{"$f":"İstatistik!K9","v":{"$error":"#N/A"}},{"$f":"İstatistik!I9","v":{"$error":"#N/A"}}]
[0,{"$f":"İstatistik!B10","v":{"$error":"#N/A"}},{"$f":"İstatistik!E10","v":{"$error":"#N/A"}},{"$f":"İstatistik!C10","v":{"$error":"#N/A"}},{"$f":"İstatistik!F10","v":{"$error":"#N/A"}},{"$f":"İstatistik!D10","v":{"$error":"#N/A"}},2,null,{"$f":"İstatistik!G10","v":{"$error":"#N/A"}},{"$f":"İstatistik!J10","v":{"$error":"#N/A"}},{"$f":"İstatistik!H10","v":{"$error":"#N/A"}},{"$f":"İstatistik!K10","v":{"$error":"#N/A"}},{"$f":"İstatistik!I10","v":{"$error":"#N/A"}}]
[0,{"$f":"İstatistik!B11","v":{"$error":"#N/A"}},{"$f":"İstatistik!E11","v":{"$error":"#N/A"}},{"$f":"İstatistik!C11","v":{"$error":"#N/A"}},{"$f":"İstatistik!F11","v":{"$error":"#N/A"}},{"$f":"İstatistik!D11","v":{"$error":"#N/A"}},3,null,{"$f":"İstatistik!G11","v":{"$error":"#N/A"}},{"$f":"İstatistik!J11","v":{"$error":"#N/A"}},{"$f":"İstatistik!H11","v":{"$error":"#N/A"}},{"$f":"İstatistik!K11","v":{"$error":"#N/A"}},{"$f":"İstatistik!I11","v":{"$error":"#N/A"}}]
[0,{"$f":"İstatistik!B12","v":{"$error":"#N/A"}},{"$f":"İstatistik!E12","v":{"$error":"#N/A"}},{"$f":"İstatistik!C12","v":{"$error":"#N/A"}},{"$f":"İstatistik!F12","v":{"$error":"#N/A"}},{"$f":"İstatistik!D12","v":{"$error":"#N/A"}},4,null,{"$f":"İstatistik!G12","v":{"$error":"#N/A"}},{"$f":"İstatistik!J12","v":{"$error":"#N/A"}},{"$f":"İstatistik!H12","v":{"$error":"#N/A"}},{"$f":"İstatistik!K12","v":{"$error":"#N/A"}},{"$f":"İstatistik!I12","v":{"$error":"#N/A"}}]
[0,{"$f":"İstatistik!B13","v":{"$error":"#N/A"}},{"$f":"İstatistik!E13","v":{"$error":"#N/A"}},{"$f":"İstatistik!C13","v":{"$error":"#N/A"}},{"$f":"İstatistik!F13","v":{"$error":"#N/A"}},{"$f":"İstatistik!D13","v":{"$error":"#N/A"}},5,null,{"$f":"İstatistik!G13","v":{"$error":"#N/A"}},{"$f":"İstatistik!J13","v":{"$error":"#N/A"}},{"$f":"İstatistik!H13","v":{"$error":"#N/A"}},{"$f":"İstatistik!K13","v":{"$error":"#N/A"}},{"$f":"İstatistik!I13","v":{"$error":"#N/A"}}]
[0,{"$f":"İstatistik!B14","v":{"$error":"#N/A"}},{"$f":"İstatistik!E14","v":{"$error":"#N/A"}},{"$f":"İstatistik!C14","v":{"$error":"#N/A"}},{"$f":"İstatistik!F14","v":{"$error":"#N/A"}},{"$f":"İstatistik!D14","v":{"$error":"#N/A"}},6,null,{"$f":"İstatistik!G14","v":{"$error":"#N/A"}},{"$f":"İstatistik!J14","v":{"$error":"#N/A"}},{"$f":"İstatistik!H14","v":{"$error":"#N/A"}},{"$f":"İstatistik!K14","v":{"$error":"#N/A"}},{"$f":"İstatistik!I14","v":{"$error":"#N/A"}}]
[0,{"$f":"İstatistik!B15","v":{"$error":"#N/A"}},{"$f":"İstatistik!E15","v":{"$error":"#N/A"}},{"$f":"İstatistik!C15","v":{"$error":"#N/A"}},{"$f":"İstatistik!F15","v":{"$error":"#N/A"}},{"$f":"İstatistik!D15","v":{"$error":"#N/A"}},7,null,{"$f":"İstatistik!G15","v":{"$error":"#N/A"}},{"$f":"İstatistik!J15","v":{"$error":"#N/A"}},{"$f":"İstatistik!H15","v":{"$error":"#N/A"}},{"$f":"İstatistik!K15","v":{"$error":"#N/A"}},{"$f":"İstatistik!I15","v":{"$error":"#N/A"}}]
[0,{"$f":"İstatistik!B16","v":{"$error":"#N/A"}},{"$f":"İstatistik!E16","v":{"$error":"#N/A"}},{"$f":"İstatistik!C16","v":{"$error":"#N/A"}},{"$f":"İstatistik!F16","v":{"$error":"#N/A"}},{"$f":"İstatistik!D16","v":{"$error":"#N/A"}},8,null,{"$f":"İstatistik!G16","v":{"$error":"#N/A"}},{"$f":"İstatistik!J16","v":{"$error":"#N/A"}},{"$f":"İstatistik!H16","v":{"$error":"#N/A"}},{"$f":"İstatistik!K16","v":{"$error":"#N/A"}},{"$f":"İstatistik!I16","v":{"$error":"#N/A"}}]
[0,{"$f":"İstatistik!B17","v":{"$error":"#N/A"}},{"$f":"İstatistik!E17","v":{"$error":"#N/A"}},{"$f":"İstatistik!C17","v":{"$error":"#N/A"}},{"$f":"İstatistik!F17","v":{"$error":"#N/A"}},{"$f":"İstatistik!D17","v":{"$error":"#N/A"}},9,null,{"$f":"İstatistik!G17","v":{"$error":"#N/A"}},{"$f":"İstatistik!J17","v":{"$error":"#N/A"}},{"$f":"İstatistik!H17","v":{"$error":"#N/A"}},{"$f":"İstatistik!K17","v":{"$error":"#N/A"}},{"$f":"İstatistik!I17","v":{"$error":"#N/A"}}]
[0,{"$f":"İstatistik!B18","v":{"$error":"#N/A"}},{"$f":"İstatistik!E18","v":{"$error":"#N/A"}},{"$f":"İstatistik!C18","v":{"$error":"#N/A"}},{"$f":"İstatistik!F18","v":{"$error":"#N/A"}},{"$f":"İstatistik!D18","v":{"$error":"#N/A"}},10,null,{"$f":"İstatistik!G18","v":{"$error":"#N/A"}},{"$f":"İstatistik!J18","v":{"$error":"#N/A"}},{"$f":"İstatistik!H18","v":{"$error":"#N/A"}},{"$f":"İstatistik!K18","v":{"$error":"#N/A"}},{"$f":"İstatistik!I18","v":{"$error":"#N/A"}}]
[0,{"$f":"İstatistik!B19","v":{"$error":"#N/A"}},{"$f":"İstatistik!E19","v":{"$error":"#N/A"}},{"$f":"İstatistik!C19","v":{"$error":"#N/A"}},{"$f":"İstatistik!F19","v":{"$error":"#N/A"}},{"$f":"İstatistik!D19","v":{"$error":"#N/A"}},11,null,{"$f":"İstatistik!G19","v":{"$error":"#N/A"}},{"$f":"İstatistik!J19","v":{"$error":"#N/A"}},{"$f":"İstatistik!H19","v":{"$error":"#N/A"}},{"$f":"İstatistik!K19","v":{"$error":"#N/A"}},{"$f":"İstatistik!I19","v":{"$error":"#N/A"}}]
[0,{"$f":"İstatistik!B20","v":{"$error":"#N/A"}},{"$f":"İstatistik!E20","v":{"$error":"#N/A"}},{"$f":"İstatistik!C20","v":{"$error":"#N/A"}},{"$f":"İstatistik!F20","v":{"$error":"#N/A"}},{"$f":"İstatistik!D20","v":{"$error":"#N/A"}},12,null,{"$f":"İstatistik!G20","v":{"$error":"#N/A"}},{"$f":"İstatistik!J20","v":{"$error":"#N/A"}},{"$f":"İstatistik!H20","v":{"$error":"#N/A"}},{"$f":"İstatistik!K20","v":{"$error":"#N/A"}},{"$f":"İstatistik!I20","v":{"$error":"#N/A"}}]
[0,{"$f":"İstatistik!B21","v":{"$error":"#N/A"}},{"$f":"İstatistik!E21","v":{"$error":"#N/A"}},{"$f":"İstatistik!C21","v":{"$error":"#N/A"}},{"$f":"İstatistik!F21","v":{"$error":"#N/A"}},{"$f":"İstatistik!D21","v":{"$error":"#N/A"}},13,null,{"$f":"İstatistik!G21","v":{"$error":"#N/A"}},{"$f":"İstatistik!J21","v":{"$error":"#N/A"}},{"$f":"İstatistik!H21","v":{"$error":"#N/A"}},{"$f":"İstatistik!K21","v":{"$error":"#N/A"}},{"$f":"İstatistik!I21","v":{"$error":"#N/A"}}]
[0,{"$f":"İstatistik!B22","v":{"$error":"#N/A"}},{"$f":"İstatistik!E22","v":{"$error":"#N/A"}},{"$f":"İstatistik!C22","v":{"$error":"#N/A"}},{"$f":"İstatistik!F22","v":{"$error":"#N/A"}},{"$f":"İstatistik!D22","v":{"$error":"#N/A"}},14,null,{"$f":"İstatistik!G22","v":{"$error":"#N/A"}},{"$f":"İstatistik!J22","v":{"$error":"#N/A"}},{"$f":"İstatistik!H22","v":{"$error":"#N/A"}},{"$f":"İstatistik!K22","v":{"$error":"#N/A"}},{"$f":"İstatistik!I22","v":{"$error":"#N/A"}}]
[0,{"$f":"İstatistik!B23","v":{"$error":"#N/A"}},{"$f":"İstatistik!E23","v":{"$error":"#N/A"}},{"$f":"İstatistik!C23","v":{"$error":"#N/A"}},{"$f":"İstatistik!F23","v":{"$error":"#N/A"}},{"$f":"İstatistik!D23","v":{"$error":"#N/A"}},15,null,{"$f":"İstatistik!G23","v":{"$error":"#N/A"}},{"$f":"İstatistik!J23","v":{"$error":"#N/A"}},{"$f":"İstatistik!H23","v":{"$error":"#N/A"}},{"$f":"İstatistik!K23","v":{"$error":"#N/A"}},{"$f":"İstatistik!I23","v":{"$error":"#N/A"}}]
[0,{"$f":"İstatistik!B24","v":{"$error":"#N/A"}},{"$f":"İstatistik!E24","v":{"$error":"#N/A"}},{"$f":"İstatistik!C24","v":{"$error":"#N/A"}},{"$f":"İstatistik!F24","v":{"$error":"#N/A"}},{"$f":"İstatistik!D24","v":{"$error":"#N/A"}},16,null,{"$f":"İstatistik!G24","v":{"$error":"#N/A"}},{"$f":"İstatistik!J24","v":{"$error":"#N/A"}},{"$f":"İstatistik!H24","v":{"$error":"#N/A"}},{"$f":"İstatistik!K24","v":{"$error":"#N/A"}},{"$f":"İstatistik!I24","v":{"$error":"#N/A"}}]
[0,{"$f":"İstatistik!B25","v":{"$error":"#N/A"}},{"$f":"İstatistik!E25","v":{"$error":"#N/A"}},{"$f":"İstatistik!C25","v":{"$error":"#N/A"}},{"$f":"İstatistik!F25","v":{"$error":"#N/A"}},{"$f":"İstatistik!D25","v":{"$error":"#N/A"}},17,null,{"$f":"İstatistik!G25","v":{"$error":"#N/A"}},{"$f":"İstatistik!J25","v":{"$error":"#N/A"}},{"$f":"İstatistik!H25","v":{"$error":"#N/A"}},{"$f":"İstatistik!K25","v":{"$error":"#N/A"}},{"$f":"İstatistik!I25","v":{"$error":"#N/A"}}]
[0,{"$f":"İstatistik!B26","v":{"$error":"#N/A"}},{"$f":"İstatistik!E26","v":{"$error":"#N/A"}},{"$f":"İstatistik!C26","v":{"$error":"#N/A"}},{"$f":"İstatistik!F26","v":{"$error":"#N/A"}},{"$f":"İstatistik!D26","v":{"$error":"#N/A"}},18,null,{"$f":"İstatistik!G26","v":{"$error":"#N/A"}},{"$f":"İstatistik!J26","v":{"$error":"#N/A"}},{"$f":"İstatistik!H26","v":{"$error":"#N/A"}},{"$f":"İstatistik!K26","v":{"$error":"#N/A"}},{"$f":"İstatistik!I26","v":{"$error":"#N/A"}}]
[0,{"$f":"İstatistik!B27","v":{"$error":"#N/A"}},{"$f":"İstatistik!E27","v":{"$error":"#N/A"}},{"$f":"İstatistik!C27","v":{"$error":"#N/A"}},{"$f":"İstatistik!F27","v":{"$error":"#N/A"}},{"$f":"İstatistik!D27","v":{"$error":"#N/A"}},19,null,{"$f":"İstatistik!G27","v":{"$error":"#N/A"}},{"$f":"İstatistik!J27","v":{"$error":"#N/A"}},{"$f":"İstatistik!H27","v":{"$error":"#N/A"}},{"$f":"İstatistik!K27","v":{"$error":"#N/A"}},{"$f":"İstatistik!I27","v":{"$error":"#N/A"}}]
[0,{"$f":"İstatistik!B28","v":{"$error":"#N/A"}},{"$f":"İstatistik!E28","v":{"$error":"#N/A"}},{"$f":"İstatistik!C28","v":{"$error":"#N/A"}},{"$f":"İstatistik!F28","v":{"$error":"#N/A"}},{"$f":"İstatistik!D28","v":{"$error":"#N/A"}},20,null,{"$f":"İstatistik!G28","v":{"$error":"#N/A"}},{"$f":"İstatistik!J28","v":{"$error":"#N/A"}},{"$f":"İstatistik!H28","v":{"$error":"#N/A"}},{"$f":"İstatistik!K28","v":{"$error":"#N/A"}},{"$f":"İstatistik!I28","v":{"$error":"#N/A"}}]
["LİG",null,{"$f":"İstatistik!B3","v":{"$error":"#REF!"}},null,null,null,null,"LİG",null,{"$f":"İstatistik!I3","v":{"$error":"#REF!"}}]
[{"$f":"IF(E26=\"L\",B25,IF(E26=\"K\",B26,E26))","v":{"$error":"#REF!"}},null,null,null,{"$f":"#REF!","v":{"$error":"#REF!"}},null,null,{"$f":"IF(E26=\"L\",I25,IF(E26=\"K\",I26,E26))","v":{"$error":"#REF!"}}]
["Previous Scores Statistics"]
[]
[]
[{"$f":"A1&\" - \"&H1","v":{"$error":"#REF!"}}]
[]
["TARİH","LİG","İY","EV SAHİBİ","MS","DEPLASMAN"]
[]
[0,{"$f":"İstatistik!B41","v":{"$error":"#N/A"}},{"$f":"İstatistik!E41","v":{"$error":"#N/A"}},{"$f":"İstatistik!C41","v":{"$error":"#N/A"}},{"$f":"İstatistik!F41","v":{"$error":"#N/A"}},{"$f":"İstatistik!D41","v":{"$error":"#N/A"}}]
[0,{"$f":"İstatistik!B42","v":{"$error":"#N/A"}},{"$f":"İstatistik!E42","v":{"$error":"#N/A"}},{"$f":"İstatistik!C42","v":{"$error":"#N/A"}},{"$f":"İstatistik!F42","v":{"$error":"#N/A"}},{"$f":"İstatistik!D42","v":{"$error":"#N/A"}}]
[0,{"$f":"İstatistik!B43","v":{"$error":"#N/A"}},{"$f":"İstatistik!E43","v":{"$error":"#N/A"}},{"$f":"İstatistik!C43","v":{"$error":"#N/A"}},{"$f":"İstatistik!F43","v":{"$error":"#N/A"}},{"$f":"İstatistik!D43","v":{"$error":"#N/A"}}]
[0,{"$f":"İstatistik!B44","v":{"$error":"#N/A"}},{"$f":"İstatistik!E44","v":{"$error":"#N/A"}},{"$f":"İstatistik!C44","v":{"$error":"#N/A"}},{"$f":"İstatistik!F44","v":{"$error":"#N/A"}},{"$f":"İstatistik!D44","v":{"$error":"#N/A"}}]
[0,{"$f":"İstatistik!B45","v":{"$error":"#N/A"}},{"$f":"İstatistik!E45","v":{"$error":"#N/A"}},{"$f":"İstatistik!C45","v":{"$error":"#N/A"}},{"$f":"İstatistik!F45","v":{"$error":"#N/A"}},{"$f":"İstatistik!D45","v":{"$error":"#N/A"}}]
[0,{"$f":"İstatistik!B46","v":{"$error":"#N/A"}},{"$f":"İstatistik!E46","v":{"$error":"#N/A"}},{"$f":"İstatistik!C46","v":{"$error":"#N/A"}},{"$f":"İstatistik!F46","v":{"$error":"#N/A"}},{"$f":"İstatistik!D46","v":{"$error":"#N/A"}}]
[0,{"$f":"İstatistik!B47","v":{"$error":"#N/A"}},{"$f":"İstatistik!E47","v":{"$error":"#N/A"}},{"$f":"İstatistik!C47","v":{"$error":"#N/A"}},{"$f":"İstatistik!F47","v":{"$error":"#N/A"}},{"$f":"İstatistik!D47","v":{"$error":"#N/A"}}]
[0,{"$f":"İstatistik!B48","v":{"$error":"#N/A"}},{"$f":"İstatistik!E48","v":{"$error":"#N/A"}},{"$f":"İstatistik!C48","v":{"$error":"#N/A"}},{"$f":"İstatistik!F48","v":{"$error":"#N/A"}},{"$f":"İstatistik!D48","v":{"$error":"#N/A"}}]
[0,{"$f":"İstatistik!B49","v":{"$error":"#N/A"}},{"$f":"İstatistik!E49","v":{"$error":"#N/A"}},{"$f":"İstatistik!C49","v":{"$error":"#N/A"}},{"$f":"İstatistik!F49","v":{"$error":"#N/A"}},{"$f":"İstatistik!D49","v":{"$error":"#N/A"}}]
[0,{"$f":"İstatistik!B50","v":{"$error":"#N/A"}},{"$f":"İstatistik!E50","v":{"$error":"#N/A"}},{"$f":"İstatistik!C50","v":{"$error":"#N/A"}},{"$f":"İstatistik!F50","v":{"$error":"#N/A"}},{"$f":"İstatistik!D50","v":{"$error":"#N/A"}}]

{"sheet":"İstatistik","index":16,"n_rows":159,"n_cols":27,"rows_kept":159,"cut":false,"hidden":false,"merged":[[0,21,0,26],[1,1,1,10],[1,14,1,19],[1,21,1,26],[2,1,3,3],[2,4,2,7],[2,8,3,10],[3,4,3,7],[0,14,0,19],[37,1,38,5],[37,6,38,10],[4,14,4,19],[4,21,4,26],[5,1,6,5],[5,6,6,10],[7,14,7,18],[7,21,7,25],[33,1,33,10],[34,1,35,3],[34,4,34,7],[34,8,35,10],[35,4,35,7]]}
[null,null,null,null,null,null,null,null,null,null,null,null,null,null,"MAÇ SONU ORANLARI",null,null,null,null,null,null,"İLK YARI ORANLARI"]
[null,"TAKIMLAR",null,null,null,null,null,null,null,null,null,null,null,null,"AÇILIŞ ORANLARI",null,null,null,null,null,null,"AÇILIŞ ORANLARI"]
[null,{"$f":"TRIM(MID(E3,1,FIND(\"VS\",E3,1)-3))","v":{"$error":"#REF!"}},null,null,{"$f":"INDEX(Veri!#REF!,MATCH(2,Veri!#REF!,0),1)","v":{"$error":"#REF!"}},null,null,null,{"$f":"TRIM(MID(E3,FIND(\"VS\",E3,1)+3,LEN(E3)))","v":{"$error":"#REF!"}},null,null,null,null,null,"O.S.","Tarih","Statü","MS 1 ","MS X","MS 2",null,"O.S.","Tarih","Statü","MS 1 ","MS X","MS 2"]
[null,null,null,null,{"$f":"MID(LEFT(INDEX(Veri!#REF!,MATCH(1,Veri!#REF!,0),1),FIND(\"]\",INDEX(Veri!#REF!,MATCH(1,Veri!#REF!,0),1),1)-1),2,50)","v":{"$error":"#REF!"}},null,null,null,null,null,null,null,null,null,1,{"$f":"IFERROR(IF(INDEX(Veri!$AA$31:$AA$500,MATCH(O4,Veri!$AI$31:$AI$500,0))<>\"\",INDEX(Veri!$AA$31:$AA$500,MATCH(O4,Veri!$AI$31:$AI$500,0)),\"\"),\"\")","v":""},{"$f":"IFERROR(IF(INDEX(Veri!$AG$31:$AG$500,MATCH(O4,Veri!$AI$31:$AI$500,0))<>\"\",INDEX(Veri!$AG$31:$AG$500,MATCH(O4,Veri!$AI$31:$AI$500,0)),\"\"),\"\")","v":""},{"$f":"IFERROR(IF(INDEX(Veri!$AC$31:$AC$500,MATCH(O4,Veri!$AI$31:$AI$500,0))<>\"\",INDEX(Veri!$AC$31:$AC$500,MATCH(O4,Veri!$AI$31:$AI$500,0)),\"\"),\"\")","v":""},{"$f":"IFERROR(IF(INDEX(Veri!$AD$31:$AD$500,MATCH(O4,Veri!$AI$31:$AI$500,0))<>\"\",INDEX(Veri!$AD$31:$AD$500,MATCH(O4,Veri!$AI$31:$AI$500,0)),\"\"),\"\")","v":""},{"$f":"IFERROR(IF(INDEX(Veri!$AE$31:$AE$500,MATCH(O4,Veri!$AI$31:$AI$500,0))<>\"\",INDEX(Veri!$AE$31:$AE$500,MATCH(O4,Veri!$AI$31:$AI$500,0)),\"\"),\"\")","v":""},null,1,{"$f":"IFERROR(IF(INDEX(Veri!$AK$31:$AK$500,MATCH(V4,Veri!$AS$31:$AS$500,0))<>\"\",INDEX(Veri!$AK$31:$AK$500,MATCH(V4,Veri!$AS$31:$AS$500,0)),\"\"),\"\")","v":""},{"$f":"IFERROR(IF(INDEX(Veri!$AQ$31:$AQ$500,MATCH(V4,Veri!$AS$31:$AS$500,0))<>\"\",INDEX(Veri!$AQ$31:$AQ$500,MATCH(V4,Veri!$AS$31:$AS$500,0)),\"\"),\"\")","v":""},{"$f":"IFERROR(IF(INDEX(Veri!$AM$31:$AM$500,MATCH(V4,Veri!$AS$31:$AS$500,0))<>\"\",INDEX(Veri!$AM$31:$AM$500,MATCH(V4,Veri!$AS$31:$AS$500,0)),\"\"),\"\")","v":""},{"$f":"IFERROR(IF(INDEX(Veri!$AN$31:$AN$500,MATCH(V4,Veri!$AS$31:$AS$500,0))<>\"\",INDEX(Veri!$AN$31:$AN$500,MATCH(V4,Veri!$AS$31:$AS$500,0)),\"\"),\"\")","v":""},{"$f":"IFERROR(IF(INDEX(Veri!$AO$31:$AO$500,MATCH(V4,Veri!$AS$31:$AS$500,0))<>\"\",INDEX(Veri!$AO$31:$AO$500,MATCH(V4,Veri!$AS$31:$AS$500,0)),\"\"),\"\")","v":""}]
[null,null,null,null,null,null,null,null,null,null,null,null,null,null,"KAPANIŞ ORANLARI",null,null,null,null,null,null,"KAPANIŞ ORANLARI"]
[null,{"$f":"CONCATENATE(B3,\" Oynadığı Son Maçlar\")","v":{"$error":"#REF!"}},null,null,null,null,{"$f":"CONCATENATE(I3,\" Oynadığı Son Maçlar\")","v":{"$error":"#REF!"}},null,null,null,null,null,null,null,"O.S.","Tarih","Statü","MS 1 ","MS X","MS 2",null,"O.S.","Tarih","Statü","MS 1 ","MS X","MS 2"]
[null,null,null,null,null,null,null,null,null,null,null,null,null,null,{"$f":"MAX(Veri!AI31:AI500)","v":0},{"$f":"IFERROR(IF(INDEX(Veri!$AA$31:$AA$500,MATCH(O7,Veri!$AI$31:$AI$500,0))<>\"\",INDEX(Veri!$AA$31:$AA$500,MATCH(O7,Veri!$AI$31:$AI$500,0)),\"\"),\"\")","v":""},{"$f":"IFERROR(IF(INDEX(Veri!$AG$31:$AG$500,MATCH(O7,Veri!$AI$31:$AI$500,0))<>\"\",INDEX(Veri!$AG$31:$AG$500,MATCH(O7,Veri!$AI$31:$AI$500,0)),\"\"),\"\")","v":""},{"$f":"IFERROR(IF(INDEX(Veri!$AC$31:$AC$500,MATCH(O7,Veri!$AI$31:$AI$500,0))<>\"\",INDEX(Veri!$AC$31:$AC$500,MATCH(O7,Veri!$AI$31:$AI$500,0)),\"\"),\"\")","v":""},{"$f":"IFERROR(IF(INDEX(Veri!$AD$31:$AD$500,MATCH(O7,Veri!$AI$31:$AI$500,0))<>\"\",INDEX(Veri!$AD$31:$AD$500,MATCH(O7,Veri!$AI$31:$AI$500,0)),\"\"),\"\")","v":""},{"$f":"IFERROR(IF(INDEX(Veri!$AE$31:$AE$500,MATCH(O7,Veri!$AI$31:$AI$500,0))<>\"\",INDEX(Veri!$AE$31:$AE$500,MATCH(O7,Veri!$AI$31:$AI$500,0)),\"\"),\"\")","v":""},null,{"$f":"MAX(Veri!AS31:AS500)","v":0},{"$f":"IFERROR(IF(INDEX(Veri!$AK$31:$AK$500,MATCH(V7,Veri!$AS$31:$AS$500,0))<>\"\",INDEX(Veri!$AK$31:$AK$500,MATCH(V7,Veri!$AS$31:$AS$500,0)),\"\"),\"\")","v":""},{"$f":"IFERROR(IF(INDEX(Veri!$AQ$31:$AQ$500,MATCH(V7,Veri!$AS$31:$AS$500,0))<>\"\",INDEX(Veri!$AQ$31:$AQ$500,MATCH(V7,Veri!$AS$31:$AS$500,0)),\"\"),\"\")","v":""},{"$f":"IFERROR(IF(INDEX(Veri!$AM$31:$AM$500,MATCH(V7,Veri!$AS$31:$AS$500,0))<>\"\",INDEX(Veri!$AM$31:$AM$500,MATCH(V7,Veri!$AS$31:$AS$500,0)),\"\"),\"\")","v":""},{"$f":"IFERROR(IF(INDEX(Veri!$AN$31:$AN$500,MATCH(V7,Veri!$AS$31:$AS$500,0))<>\"\",INDEX(Veri!$AN$31:$AN$500,MATCH(V7,Veri!$AS$31:$AS$500,0)),\"\"),\"\")","v":""},{"$f":"IFERROR(IF(INDEX(Veri!$AO$31:$AO$500,MATCH(V7,Veri!$AS$31:$AS$500,0))<>\"\",INDEX(Veri!$AO$31:$AO$500,MATCH(V7,Veri!$AS$31:$AS$500,0)),\"\"),\"\")","v":""}]
[null,"Lig","Ev Sahibi","Deplasman","İY","MS","Lig","Ev Sahibi","Deplasman","İY","MS",null,null,null,"BÜTÜN ORANLAR",null,null,null,null,{"$f":"COUNTIF(Q10:Q159,\">\"\"\")","v":0},null,"BÜTÜN ORANLAR",null,null,null,null,{"$f":"COUNTIF(X10:X159,\">\"\"\")","v":0}]
[null,{"$f":"IF(INDEX(Veri!$B$68:$B$92,MATCH(\"League\",Veri!$B$68:$B$92,0)+2,1)<>\"\",INDEX(Veri!$B$68:$B$92,MATCH(\"League\",Veri!$B$68:$B$92,0)+2,1),\"\")","v":{"$error":"#N/A"}},{"$f":"IF(INDEX(Veri!D$68:$D$92,MATCH(\"League\",Veri!B$68:$B$92,0)+2,1)<>\"\",IF(COUNTIF(INDEX(Veri!D$68:$D$92,MATCH(\"League\",Veri!B$68:$B$92,0)+2,1),\"*\"&$B$3&\"*\"),$B$3,INDEX(Veri!D$68:$D$92,MATCH(\"League\",Veri!B$68:$B$92,0)+2,1)),\"\")","v":{"$error":"#N/A"}},{"$f":"IF(INDEX(Veri!H$68:$H$92,MATCH(\"League\",Veri!B$68:$B$92,0)+2,1)<>\"\",IF(COUNTIF(INDEX(Veri!H$68:$H$92,MATCH(\"League\",Veri!B$68:$B$92,0)+2,1),\"*\"&$B$3&\"*\"),$B$3,INDEX(Veri!H$68:$H$92,MATCH(\"League\",Veri!B$68:$B$92,0)+2,1)),\"\")","v":{"$error":"#N/A"}},{"$f":"IF(INDEX(Veri!F$68:$F$92,MATCH(\"League\",Veri!B$68:$B$92,0)+2,1)<>\"\",INDEX(Veri!F$68:$F$92,MATCH(\"League\",Veri!B$68:$B$92,0)+2,1),\"\")","v":{"$error":"#N/A"}},{"$f":"IF(INDEX(Veri!E$68:$E$92,MATCH(\"League\",Veri!B$68:$B$92,0)+2,1)<>\"\",INDEX(Veri!E$68:$E$92,MATCH(\"League\",Veri!B$68:$B$92,0)+2,1),\"\")","v":{"$error":"#N/A"}},{"$f":"IF(INDEX(Veri!B$94:$B$118,MATCH(\"League\",Veri!B$94:$B$118,0)+2,1)<>\"\",INDEX(Veri!B$94:$B$118,MATCH(\"League\",Veri!B$94:$B$118,0)+2,1),\"\")","v":{"$error":"#N/A"}},{"$f":"IF(INDEX(Veri!D$94:$D$118,MATCH(\"League\",Veri!B$94:$B$118,0)+2,1)<>\"\",IF(COUNTIF(INDEX(Veri!D$94:$D$118,MATCH(\"League\",Veri!B$94:$B$118,0)+2,1),\"*\"&$I$3&\"*\"),$I$3,INDEX(Veri!D$94:$D$118,MATCH(\"League\",Veri!B$94:$B$118,0)+2,1)),\"\")","v":{"$error":"#N/A"}},{"$f":"IF(INDEX(Veri!H$94:$H$118,MATCH(\"League\",Veri!B$94:$B$118,0)+2,1)<>\"\",IF(COUNTIF(INDEX(Veri!H$94:$H$118,MATCH(\"League\",Veri!B$94:$B$118,0)+2,1),\"*\"&$I$3&\"*\"),$I$3,INDEX(Veri!H$94:$H$118,MATCH(\"League\",Veri!B$94:$B$118,0)+2,1)),\"\")","v":{"$error":"#N/A"}},{"$f":"IF(INDEX(Veri!F$94:$F$118,MATCH(\"League\",Veri!B$94:$B$118,0)+2,1)<>\"\",INDEX(Veri!F$94:$F$118,MATCH(\"League\",Veri!B$94:$B$118,0)+2,1),\"\")","v":{"$error":"#N/A"}},{"$f":"IF(INDEX(Veri!E$94:$E$118,MATCH(\"League\",Veri!B$94:$B$118,0)+2,1)<>\"\",INDEX(Veri!E$94:$E$118,MATCH(\"League\",Veri!B$94:$B$118,0)+2,1),\"\")","v":{"$error":"#N/A"}},null,null,null,"O.S.","Tarih","Statü","MS 1 ","MS X","MS 2",null,"O.S.","Tarih","Statü","MS 1 ","MS X","MS 2"]
[null,{"$f":"IF(INDEX(Veri!$B$68:$B$92,MATCH(\"League\",Veri!$B$68:$B$92,0)+3,1)<>\"\",INDEX(Veri!$B$68:$B$92,MATCH(\"League\",Veri!$B$68:$B$92,0)+3,1),\"\")","v":{"$error":"#N/A"}},{"$f":"IF(INDEX(Veri!D$68:$D$92,MATCH(\"League\",Veri!B$68:$B$92,0)+3,1)<>\"\",IF(COUNTIF(INDEX(Veri!D$68:$D$92,MATCH(\"League\",Veri!B$68:$B$92,0)+3,1),\"*\"&$B$3&\"*\"),$B$3,INDEX(Veri!D$68:$D$92,MATCH(\"League\",Veri!B$68:$B$92,0)+3,1)),\"\")","v":{"$error":"#N/A"}},{"$f":"IF(INDEX(Veri!H$68:$H$92,MATCH(\"League\",Veri!B$68:$B$92,0)+3,1)<>\"\",IF(COUNTIF(INDEX(Veri!H$68:$H$92,MATCH(\"League\",Veri!B$68:$B$92,0)+3,1),\"*\"&$B$3&\"*\"),$B$3,INDEX(Veri!H$68:$H$92,MATCH(\"League\",Veri!B$68:$B$92,0)+3,1)),\"\")","v":{"$error":"#N/A"}},{"$f":"IF(INDEX(Veri!F$68:$F$92,MATCH(\"League\",Veri!B$68:$B$92,0)+3,1)<>\"\",INDEX(Veri!F$68:$F$92,MATCH(\"League\",Veri!B$68:$B$92,0)+3,1),\"\")","v":{"$error":"#N/A"}},{"$f":"IF(INDEX(Veri!E$68:$E$92,MATCH(\"League\",Veri!B$68:$B$92,0)+3,1)<>\"\",INDEX(Veri!E$68:$E$92,MATCH(\"League\",Veri!B$68:$B$92,0)+3,1),\"\")","v":{"$error":"#N/A"}},{"$f":"IF(INDEX(Veri!B$94:$B$118,MATCH(\"League\",Veri!B$94:$B$118,0)+3,1)<>\"\",INDEX(Veri!B$94:$B$118,MATCH(\"League\",Veri!B$94:$B$118,0)+3,1),\"\")","v":{"$error":"#N/A"}},{"$f":"IF(INDEX(Veri!D$94:$D$118,MATCH(\"League\",Veri!B$94:$B$118,0)+3,1)<>\"\",IF(COUNTIF(INDEX(Veri!D$94:$D$118,MATCH(\"League\",Veri!B$94:$B$118,0)+3,1),\"*\"&$I$3&\"*\"),$I$3,INDEX(Veri!D$94:$D$118,MATCH(\"League\",Veri!B$94:$B$118,0)+3,1)),\"\")","v":{"$error":"#N/A"}},{"$f":"IF(INDEX(Veri!H$94:$H$118,MATCH(\"League\",Veri!B$94:$B$118,0)+3,1)<>\"\",IF(COUNTIF(INDEX(Veri!H$94:$H$118,MATCH(\"League\",Veri!B$94:$B$118,0)+3,1),\"*\"&$I$3&\"*\"),$I$3,INDEX(Veri!H$94:$H$118,MATCH(\"League\",Veri!B$94:$B$118,0)+3,1)),\"\")","v":{"$error":"#N/A"}},{"$f":"IF(INDEX(Veri!F$94:$F$118,MATCH(\"League\",Veri!B$94:$B$118,0)+3,1)<>\"\",INDEX(Veri!F$94:$F$118,MATCH(\"League\",Veri!B$94:$B$118,0)+3,1),\"\")","v":{"$error":"#N/A"}},{"$f":"IF(INDEX(Veri!E$94:$E$118,MATCH(\"League\",Veri!B$94:$B$118,0)+3,1)<>\"\",INDEX(Veri!E$94:$E$118,MATCH(\"League\",Veri!B$94:$B$118,0)+3,1),\"\")","v":{"$error":"#N/A"}},null,null,null,1,{"$f":"IFERROR(IF(INDEX(Veri!$AA$31:$AA$500,MATCH(O10,Veri!$AI$31:$AI$500,0))<>\"\",INDEX(Veri!$AA$31:$AA$500,MATCH(O10,Veri!$AI$31:$AI$500,0)),\"\"),\"\")","v":""},{"$f":"IFERROR(IF(INDEX(Veri!$AG$31:$AG$500,MATCH(O10,Veri!$AI$31:$AI$500,0))<>\"\",INDEX(Veri!$AG$31:$AG$500,MATCH(O10,Veri!$AI$31:$AI$500,0)),\"\"),\"\")","v":""},{"$f":"IFERROR(IF(INDEX(Veri!$AC$31:$AC$500,MATCH(O10,Veri!$AI$31:$AI$500,0))<>\"\",INDEX(Veri!$AC$31:$AC$500,MATCH(O10,Veri!$AI$31:$AI$500,0)),\"\"),\"\")","v":""},{"$f":"IFERROR(IF(INDEX(Veri!$AD$31:$AD$500,MATCH(O10,Veri!$AI$31:$AI$500,0))<>\"\",INDEX(Veri!$AD$31:$AD$500,MATCH(O10,Veri!$AI$31:$AI$500,0)),\"\"),\"\")","v":""},{"$f":"IFERROR(IF(INDEX(Veri!$AE$31:$AE$500,MATCH(O10,Veri!$AI$31:$AI$500,0))<>\"\",INDEX(Veri!$AE$31:$AE$500,MATCH(O10,Veri!$AI$31:$AI$500,0)),\"\"),\"\")","v":""},null,1,{"$f":"IFERROR(IF(INDEX(Veri!$AK$31:$AK$500,MATCH(V10,Veri!$AS$31:$AS$500,0))<>\"\",INDEX(Veri!$AK$31:$AK$500,MATCH(V10,Veri!$AS$31:$AS$500,0)),\"\"),\"\")","v":""},{"$f":"IFERROR(IF(INDEX(Veri!$AQ$31:$AQ$500,MATCH(V10,Veri!$AS$31:$AS$500,0))<>\"\",INDEX(Veri!$AQ$31:$AQ$500,MATCH(V10,Veri!$AS$31:$AS$500,0)),\"\"),\"\")","v":""},{"$f":"IFERROR(IF(INDEX(Veri!$AM$31:$AM$500,MATCH(V10,Veri!$AS$31:$AS$500,0))<>\"\",INDEX(Veri!$AM$31:$AM$500,MATCH(V10,Veri!$AS$31:$AS$500,0)),\"\"),\"\")","v":""},{"$f":"IFERROR(IF(INDEX(Veri!$AN$31:$AN$500,MATCH(V10,Veri!$AS$31:$AS$500,0))<>\"\",INDEX(Veri!$AN$31:$AN$500,MATCH(V10,Veri!$AS$31:$AS$500,0)),\"\"),\"\")","v":""},{"$f":"IFERROR(IF(INDEX(Veri!$AO$31:$AO$500,MATCH(V10,Veri!$AS$31:$AS$500,0))<>\"\",INDEX(Veri!$AO$31:$AO$500,MATCH(V10,Veri!$AS$31:$AS$500,0)),\"\"),\"\")","v":""}]
[null,{"$f":"IF(INDEX(Veri!$B$68:$B$92,MATCH(\"League\",Veri!$B$68:$B$92,0)+4,1)<>\"\",INDEX(Veri!$B$68:$B$92,MATCH(\"League\",Veri!$B$68:$B$92,0)+4,1),\"\")","v":{"$error":"#N/A"}},{"$f":"IF(INDEX(Veri!D$68:$D$92,MATCH(\"League\",Veri!B$68:$B$92,0)+4,1)<>\"\",IF(COUNTIF(INDEX(Veri!D$68:$D$92,MATCH(\"League\",Veri!B$68:$B$92,0)+4,1),\"*\"&$B$3&\"*\"),$B$3,INDEX(Veri!D$68:$D$92,MATCH(\"League\",Veri!B$68:$B$92,0)+4,1)),\"\")","v":{"$error":"#N/A"}},{"$f":"IF(INDEX(Veri!H$68:$H$92,MATCH(\"League\",Veri!B$68:$B$92,0)+4,1)<>\"\",IF(COUNTIF(INDEX(Veri!H$68:$H$92,MATCH(\"League\",Veri!B$68:$B$92,0)+4,1),\"*\"&$B$3&\"*\"),$B$3,INDEX(Veri!H$68:$H$92,MATCH(\"League\",Veri!B$68:$B$92,0)+4,1)),\"\")","v":{"$error":"#N/A"}},{"$f":"IF(INDEX(Veri!F$68:$F$92,MATCH(\"League\",Veri!B$68:$B$92,0)+4,1)<>\"\",INDEX(Veri!F$68:$F$92,MATCH(\"League\",Veri!B$68:$B$92,0)+4,1),\"\")","v":{"$error":"#N/A"}},{"$f":"IF(INDEX(Veri!E$68:$E$92,MATCH(\"League\",Veri!B$68:$B$92,0)+4,1)<>\"\",INDEX(Veri!E$68:$E$92,MATCH(\"League\",Veri!B$68:$B$92,0)+4,1),\"\")","v":{"$error":"#N/A"}},{"$f":"IF(INDEX(Veri!B$94:$B$118,MATCH(\"League\",Veri!B$94:$B$118,0)+4,1)<>\"\",INDEX(Veri!B$94:$B$118,MATCH(\"League\",Veri!B$94:$B$118,0)+4,1),\"\")","v":{"$error":"#N/A"}},{"$f":"IF(INDEX(Veri!D$94:$D$118,MATCH(\"League\",Veri!B$94:$B$118,0)+4,1)<>\"\",IF(COUNTIF(INDEX(Veri!D$94:$D$118,MATCH(\"League\",Veri!B$94:$B$118,0)+4,1),\"*\"&$I$3&\"*\"),$I$3,INDEX(Veri!D$94:$D$118,MATCH(\"League\",Veri!B$94:$B$118,0)+4,1)),\"\")","v":{"$error":"#N/A"}},{"$f":"IF(INDEX(Veri!H$94:$H$118,MATCH(\"League\",Veri!B$94:$B$118,0)+4,1)<>\"\",IF(COUNTIF(INDEX(Veri!H$94:$H$118,MATCH(\"League\",Veri!B$94:$B$118,0)+4,1),\"*\"&$I$3&\"*\"),$I$3,INDEX(Veri!H$94:$H$118,MATCH(\"League\",Veri!B$94:$B$118,0)+4,1)),\"\")","v":{"$error":"#N/A"}},{"$f":"IF(INDEX(Veri!F$94:$F$118,MATCH(\"League\",Veri!B$94:$B$118,0)+4,1)<>\"\",INDEX(Veri!F$94:$F$118,MATCH(\"League\",Veri!B$94:$B$118,0)+4,1),\"\")","v":{"$error":"#N/A"}},{"$f":"IF(INDEX(Veri!E$94:$E$118,MATCH(\"League\",Veri!B$94:$B$118,0)+4,1)<>\"\",INDEX(Veri!E$94:$E$118,MATCH(\"League\",Veri!B$94:$B$118,0)+4,1),\"\")","v":{"$error":"#N/A"}},null,null,null,2,{"$f":"IFERROR(IF(INDEX(Veri!$AA$31:$AA$500,MATCH(O11,Veri!$AI$31:$AI$500,0))<>\"\",INDEX(Veri!$AA$31:$AA$500,MATCH(O11,Veri!$AI$31:$AI$500,0)),\"\"),\"\")","v":""},{"$f":"IFERROR(IF(INDEX(Veri!$AG$31:$AG$500,MATCH(O11,Veri!$AI$31:$AI$500,0))<>\"\",INDEX(Veri!$AG$31:$AG$500,MATCH(O11,Veri!$AI$31:$AI$500,0)),\"\"),\"\")","v":""},{"$f":"IFERROR(IF(INDEX(Veri!$AC$31:$AC$500,MATCH(O11,Veri!$AI$31:$AI$500,0))<>\"\",INDEX(Veri!$AC$31:$AC$500,MATCH(O11,Veri!$AI$31:$AI$500,0)),\"\"),\"\")","v":""},{"$f":"IFERROR(IF(INDEX(Veri!$AD$31:$AD$500,MATCH(O11,Veri!$AI$31:$AI$500,0))<>\"\",INDEX(Veri!$AD$31:$AD$500,MATCH(O11,Veri!$AI$31:$AI$500,0)),\"\"),\"\")","v":""},{"$f":"IFERROR(IF(INDEX(Veri!$AE$31:$AE$500,MATCH(O11,Veri!$AI$31:$AI$500,0))<>\"\",INDEX(Veri!$AE$31:$AE$500,MATCH(O11,Veri!$AI$31:$AI$500,0)),\"\"),\"\")","v":""},null,2,{"$f":"IFERROR(IF(INDEX(Veri!$AK$31:$AK$500,MATCH(V11,Veri!$AS$31:$AS$500,0))<>\"\",INDEX(Veri!$AK$31:$AK$500,MATCH(V11,Veri!$AS$31:$AS$500,0)),\"\"),\"\")","v":""},{"$f":"IFERROR(IF(INDEX(Veri!$AQ$31:$AQ$500,MATCH(V11,Veri!$AS$31:$AS$500,0))<>\"\",INDEX(Veri!$AQ$31:$AQ$500,MATCH(V11,Veri!$AS$31:$AS$500,0)),\"\"),\"\")","v":""},{"$f":"IFERROR(IF(INDEX(Veri!$AM$31:$AM$500,MATCH(V11,Veri!$AS$31:$AS$500,0))<>\"\",INDEX(Veri!$AM$31:$AM$500,MATCH(V11,Veri!$AS$31:$AS$500,0)),\"\"),\"\")","v":""},{"$f":"IFERROR(IF(INDEX(Veri!$AN$31:$AN$500,MATCH(V11,Veri!$AS$31:$AS$500,0))<>\"\",INDEX(Veri!$AN$31:$AN$500,MATCH(V11,Veri!$AS$31:$AS$500,0)),\"\"),\"\")","v":""},{"$f":"IFERROR(IF(INDEX(Veri!$AO$31:$AO$500,MATCH(V11,Veri!$AS$31:$AS$500,0))<>\"\",INDEX(Veri!$AO$31:$AO$500,MATCH(V11,Veri!$AS$31:$AS$500,0)),\"\"),\"\")","v":""}]
[null,{"$f":"IF(INDEX(Veri!$B$68:$B$92,MATCH(\"League\",Veri!$B$68:$B$92,0)+5,1)<>\"\",INDEX(Veri!$B$68:$B$92,MATCH(\"League\",Veri!$B$68:$B$92,0)+5,1),\"\")","v":{"$error":"#N/A"}},{"$f":"IF(INDEX(Veri!D$68:$D$92,MATCH(\"League\",Veri!B$68:$B$92,0)+5,1)<>\"\",IF(COUNTIF(INDEX(Veri!D$68:$D$92,MATCH(\"League\",Veri!B$68:$B$92,0)+5,1),\"*\"&$B$3&\"*\"),$B$3,INDEX(Veri!D$68:$D$92,MATCH(\"League\",Veri!B$68:$B$92,0)+5,1)),\"\")","v":{"$error":"#N/A"}},{"$f":"IF(INDEX(Veri!H$68:$H$92,MATCH(\"League\",Veri!B$68:$B$92,0)+5,1)<>\"\",IF(COUNTIF(INDEX(Veri!H$68:$H$92,MATCH(\"League\",Veri!B$68:$B$92,0)+5,1),\"*\"&$B$3&\"*\"),$B$3,INDEX(Veri!H$68:$H$92,MATCH(\"League\",Veri!B$68:$B$92,0)+5,1)),\"\")","v":{"$error":"#N/A"}},{"$f":"IF(INDEX(Veri!F$68:$F$92,MATCH(\"League\",Veri!B$68:$B$92,0)+5,1)<>\"\",INDEX(Veri!F$68:$F$92,MATCH(\"League\",Veri!B$68:$B$92,0)+5,1),\"\")","v":{"$error":"#N/A"}},{"$f":"IF(INDEX(Veri!E$68:$E$92,MATCH(\"League\",Veri!B$68:$B$92,0)+5,1)<>\"\",INDEX(Veri!E$68:$E$92,MATCH(\"League\",Veri!B$68:$B$92,0)+5,1),\"\")","v":{"$error":"#N/A"}},{"$f":"IF(INDEX(Veri!B$94:$B$118,MATCH(\"League\",Veri!B$94:$B$118,0)+5,1)<>\"\",INDEX(Veri!B$94:$B$118,MATCH(\"League\",Veri!B$94:$B$118,0)+5,1),\"\")","v":{"$error":"#N/A"}},{"$f":"IF(INDEX(Veri!D$94:$D$118,MATCH(\"League\",Veri!B$94:$B$118,0)+5,1)<>\"\",IF(COUNTIF(INDEX(Veri!D$94:$D$118,MATCH(\"League\",Veri!B$94:$B$118,0)+5,1),\"*\"&$I$3&\"*\"),$I$3,INDEX(Veri!D$94:$D$118,MATCH(\"League\",Veri!B$94:$B$118,0)+5,1)),\"\")","v":{"$error":"#N/A"}},{"$f":"IF(INDEX(Veri!H$94:$H$118,MATCH(\"League\",Veri!B$94:$B$118,0)+5,1)<>\"\",IF(COUNTIF(INDEX(Veri!H$94:$H$118,MATCH(\"League\",Veri!B$94:$B$118,0)+5,1),\"*\"&$I$3&\"*\"),$I$3,INDEX(Veri!H$94:$H$118,MATCH(\"League\",Veri!B$94:$B$118,0)+5,1)),\"\")","v":{"$error":"#N/A"}},{"$f":"IF(INDEX(Veri!F$94:$F$118,MATCH(\"League\",Veri!B$94:$B$118,0)+5,1)<>\"\",INDEX(Veri!F$94:$F$118,MATCH(\"League\",Veri!B$94:$B$118,0)+5,1),\"\")","v":{"$error":"#N/A"}},{"$f":"IF(INDEX(Veri!E$94:$E$118,MATCH(\"League\",Veri!B$94:$B$118,0)+5,1)<>\"\",INDEX(Veri!E$94:$E$118,MATCH(\"League\",Veri!B$94:$B$118,0)+5,1),\"\")","v":{"$error":"#N/A"}},null,null,null,3,{"$f":"IFERROR(IF(INDEX(Veri!$AA$31:$AA$500,MATCH(O12,Veri!$AI$31:$AI$500,0))<>\"\",INDEX(Veri!$AA$31:$AA$500,MATCH(O12,Veri!$AI$31:$AI$500,0)),\"\"),\"\")","v":""},{"$f":"IFERROR(IF(INDEX(Veri!$AG$31:$AG$500,MATCH(O12,Veri!$AI$31:$AI$500,0))<>\"\",INDEX(Veri!$AG$31:$AG$500,MATCH(O12,Veri!$AI$31:$AI$500,0)),\"\"),\"\")","v":""},{"$f":"IFERROR(IF(INDEX(Veri!$AC$31:$AC$500,MATCH(O12,Veri!$AI$31:$AI$500,0))<>\"\",INDEX(Veri!$AC$31:$AC$500,MATCH(O12,Veri!$AI$31:$AI$500,0)),\"\"),\"\")","v":""},{"$f":"IFERROR(IF(INDEX(Veri!$AD$31:$AD$500,MATCH(O12,Veri!$AI$31:$AI$500,0))<>\"\",INDEX(Veri!$AD$31:$AD$500,MATCH(O12,Veri!$AI$31:$AI$500,0)),\"\"),\"\")","v":""},{"$f":"IFERROR(IF(INDEX(Veri!$AE$31:$AE$500,MATCH(O12,Veri!$AI$31:$AI$500,0))<>\"\",INDEX(Veri!$AE$31:$AE$500,MATCH(O12,Veri!$AI$31:$AI$500,0)),\"\"),\"\")","v":""},null,3,{"$f":"IFERROR(IF(INDEX(Veri!$AK$31:$AK$500,MATCH(V12,Veri!$AS$31:$AS$500,0))<>\"\",INDEX(Veri!$AK$31:$AK$500,MATCH(V12,Veri!$AS$31:$AS$500,0)),\"\"),\"\")","v":""},{"$f":"IFERROR(IF(INDEX(Veri!$AQ$31:$AQ$500,MATCH(V12,Veri!$AS$31:$AS$500,0))<>\"\",INDEX(Veri!$AQ$31:$AQ$500,MATCH(V12,Veri!$AS$31:$AS$500,0)),\"\"),\"\")","v":""},{"$f":"IFERROR(IF(INDEX(Veri!$AM$31:$AM$500,MATCH(V12,Veri!$AS$31:$AS$500,0))<>\"\",INDEX(Veri!$AM$31:$AM$500,MATCH(V12,Veri!$AS$31:$AS$500,0)),\"\"),\"\")","v":""},{"$f":"IFERROR(IF(INDEX(Veri!$AN$31:$AN$500,MATCH(V12,Veri!$AS$31:$AS$500,0))<>\"\",INDEX(Veri!$AN$31:$AN$500,MATCH(V12,Veri!$AS$31:$AS$500,0)),\"\"),\"\")","v":""},{"$f":"IFERROR(IF(INDEX(Veri!$AO$31:$AO$500,MATCH(V12,Veri!$AS$31:$AS$500,0))<>\"\",INDEX(Veri!$AO$31:$AO$500,MATCH(V12,Veri!$AS$31:$AS$500,0)),\"\"),\"\")","v":""}]
[null,{"$f":"IF(INDEX(Veri!$B$68:$B$92,MATCH(\"League\",Veri!$B$68:$B$92,0)+6,1)<>\"\",INDEX(Veri!$B$68:$B$92,MATCH(\"League\",Veri!$B$68:$B$92,0)+6,1),\"\")","v":{"$error":"#N/A"}},{"$f":"IF(INDEX(Veri!D$68:$D$92,MATCH(\"League\",Veri!B$68:$B$92,0)+6,1)<>\"\",IF(COUNTIF(INDEX(Veri!D$68:$D$92,MATCH(\"League\",Veri!B$68:$B$92,0)+6,1),\"*\"&$B$3&\"*\"),$B$3,INDEX(Veri!D$68:$D$92,MATCH(\"League\",Veri!B$68:$B$92,0)+6,1)),\"\")","v":{"$error":"#N/A"}},{"$f":"IF(INDEX(Veri!H$68:$H$92,MATCH(\"League\",Veri!B$68:$B$92,0)+6,1)<>\"\",IF(COUNTIF(INDEX(Veri!H$68:$H$92,MATCH(\"League\",Veri!B$68:$B$92,0)+6,1),\"*\"&$B$3&\"*\"),$B$3,INDEX(Veri!H$68:$H$92,MATCH(\"League\",Veri!B$68:$B$92,0)+6,1)),\"\")","v":{"$error":"#N/A"}},{"$f":"IF(INDEX(Veri!F$68:$F$92,MATCH(\"League\",Veri!B$68:$B$92,0)+6,1)<>\"\",INDEX(Veri!F$68:$F$92,MATCH(\"League\",Veri!B$68:$B$92,0)+6,1),\"\")","v":{"$error":"#N/A"}},{"$f":"IF(INDEX(Veri!E$68:$E$92,MATCH(\"League\",Veri!B$68:$B$92,0)+6,1)<>\"\",INDEX(Veri!E$68:$E$92,MATCH(\"League\",Veri!B$68:$B$92,0)+6,1),\"\")","v":{"$error":"#N/A"}},{"$f":"IF(INDEX(Veri!B$94:$B$118,MATCH(\"League\",Veri!B$94:$B$118,0)+6,1)<>\"\",INDEX(Veri!B$94:$B$118,MATCH(\"League\",Veri!B$94:$B$118,0)+6,1),\"\")","v":{"$error":"#N/A"}},{"$f":"IF(INDEX(Veri!D$94:$D$118,MATCH(\"League\",Veri!B$94:$B$118,0)+6,1)<>\"\",IF(COUNTIF(INDEX(Veri!D$94:$D$118,MATCH(\"League\",Veri!B$94:$B$118,0)+6,1),\"*\"&$I$3&\"*\"),$I$3,INDEX(Veri!D$94:$D$118,MATCH(\"League\",Veri!B$94:$B$118,0)+6,1)),\"\")","v":{"$error":"#N/A"}},{"$f":"IF(INDEX(Veri!H$94:$H$118,MATCH(\"League\",Veri!B$94:$B$118,0)+6,1)<>\"\",IF(COUNTIF(INDEX(Veri!H$94:$H$118,MATCH(\"League\",Veri!B$94:$B$118,0)+6,1),\"*\"&$I$3&\"*\"),$I$3,INDEX(Veri!H$94:$H$118,MATCH(\"League\",Veri!B$94:$B$118,0)+6,1)),\"\")","v":{"$error":"#N/A"}},{"$f":"IF(INDEX(Veri!F$94:$F$118,MATCH(\"League\",Veri!B$94:$B$118,0)+6,1)<>\"\",INDEX(Veri!F$94:$F$118,MATCH(\"League\",Veri!B$94:$B$118,0)+6,1),\"\")","v":{"$error":"#N/A"}},{"$f":"IF(INDEX(Veri!E$94:$E$118,MATCH(\"League\",Veri!B$94:$B$118,0)+6,1)<>\"\",INDEX(Veri!E$94:$E$118,MATCH(\"League\",Veri!B$94:$B$118,0)+6,1),\"\")","v":{"$error":"#N/A"}},null,null,null,4,{"$f":"IFERROR(IF(INDEX(Veri!$AA$31:$AA$500,MATCH(O13,Veri!$AI$31:$AI$500,0))<>\"\",INDEX(Veri!$AA$31:$AA$500,MATCH(O13,Veri!$AI$31:$AI$500,0)),\"\"),\"\")","v":""},{"$f":"IFERROR(IF(INDEX(Veri!$AG$31:$AG$500,MATCH(O13,Veri!$AI$31:$AI$500,0))<>\"\",INDEX(Veri!$AG$31:$AG$500,MATCH(O13,Veri!$AI$31:$AI$500,0)),\"\"),\"\")","v":""},{"$f":"IFERROR(IF(INDEX(Veri!$AC$31:$AC$500,MATCH(O13,Veri!$AI$31:$AI$500,0))<>\"\",INDEX(Veri!$AC$31:$AC$500,MATCH(O13,Veri!$AI$31:$AI$500,0)),\"\"),\"\")","v":""},{"$f":"IFERROR(IF(INDEX(Veri!$AD$31:$AD$500,MATCH(O13,Veri!$AI$31:$AI$500,0))<>\"\",INDEX(Veri!$AD$31:$AD$500,MATCH(O13,Veri!$AI$31:$AI$500,0)),\"\"),\"\")","v":""},{"$f":"IFERROR(IF(INDEX(Veri!$AE$31:$AE$500,MATCH(O13,Veri!$AI$31:$AI$500,0))<>\"\",INDEX(Veri!$AE$31:$AE$500,MATCH(O13,Veri!$AI$31:$AI$500,0)),\"\"),\"\")","v":""},null,4,{"$f":"IFERROR(IF(INDEX(Veri!$AK$31:$AK$500,MATCH(V13,Veri!$AS$31:$AS$500,0))<>\"\",INDEX(Veri!$AK$31:$AK$500,MATCH(V13,Veri!$AS$31:$AS$500,0)),\"\"),\"\")","v":""},{"$f":"IFERROR(IF(INDEX(Veri!$AQ$31:$AQ$500,MATCH(V13,Veri!$AS$31:$AS$500,0))<>\"\",INDEX(Veri!$AQ$31:$AQ$500,MATCH(V13,Veri!$AS$31:$AS$500,0)),\"\"),\"\")","v":""},{"$f":"IFERROR(IF(INDEX(Veri!$AM$31:$AM$500,MATCH(V13,Veri!$AS$31:$AS$500,0))<>\"\",INDEX(Veri!$AM$31:$AM$500,MATCH(V13,Veri!$AS$31:$AS$500,0)),\"\"),\"\")","v":""},{"$f":"IFERROR(IF(INDEX(Veri!$AN$31:$AN$500,MATCH(V13,Veri!$AS$31:$AS$500,0))<>\"\",INDEX(Veri!$AN$31:$AN$500,MATCH(V13,Veri!$AS$31:$AS$500,0)),\"\"),\"\")","v":""},{"$f":"IFERROR(IF(INDEX(Veri!$AO$31:$AO$500,MATCH(V13,Veri!$AS$31:$AS$500,0))<>\"\",INDEX(Veri!$AO$31:$AO$500,MATCH(V13,Veri!$AS$31:$AS$500,0)),\"\"),\"\")","v":""}]
[null,{"$f":"IF(INDEX(Veri!$B$68:$B$92,MATCH(\"League\",Veri!$B$68:$B$92,0)+7,1)<>\"\",INDEX(Veri!$B$68:$B$92,MATCH(\"League\",Veri!$B$68:$B$92,0)+7,1),\"\")","v":{"$error":"#N/A"}},{"$f":"IF(INDEX(Veri!D$68:$D$92,MATCH(\"League\",Veri!B$68:$B$92,0)+7,1)<>\"\",IF(COUNTIF(INDEX(Veri!D$68:$D$92,MATCH(\"League\",Veri!B$68:$B$92,0)+7,1),\"*\"&$B$3&\"*\"),$B$3,INDEX(Veri!D$68:$D$92,MATCH(\"League\",Veri!B$68:$B$92,0)+7,1)),\"\")","v":{"$error":"#N/A"}},{"$f":"IF(INDEX(Veri!H$68:$H$92,MATCH(\"League\",Veri!B$68:$B$92,0)+7,1)<>\"\",IF(COUNTIF(INDEX(Veri!H$68:$H$92,MATCH(\"League\",Veri!B$68:$B$92,0)+7,1),\"*\"&$B$3&\"*\"),$B$3,INDEX(Veri!H$68:$H$92,MATCH(\"League\",Veri!B$68:$B$92,0)+7,1)),\"\")","v":{"$error":"#N/A"}},{"$f":"IF(INDEX(Veri!F$68:$F$92,MATCH(\"League\",Veri!B$68:$B$92,0)+7,1)<>\"\",INDEX(Veri!F$68:$F$92,MATCH(\"League\",Veri!B$68:$B$92,0)+7,1),\"\")","v":{"$error":"#N/A"}},{"$f":"IF(INDEX(Veri!E$68:$E$92,MATCH(\"League\",Veri!B$68:$B$92,0)+7,1)<>\"\",INDEX(Veri!E$68:$E$92,MATCH(\"League\",Veri!B$68:$B$92,0)+7,1),\"\")","v":{"$error":"#N/A"}},{"$f":"IF(INDEX(Veri!B$94:$B$118,MATCH(\"League\",Veri!B$94:$B$118,0)+7,1)<>\"\",INDEX(Veri!B$94:$B$118,MATCH(\"League\",Veri!B$94:$B$118,0)+7,1),\"\")","v":{"$error":"#N/A"}},{"$f":"IF(INDEX(Veri!D$94:$D$118,MATCH(\"League\",Veri!B$94:$B$118,0)+7,1)<>\"\",IF(COUNTIF(INDEX(Veri!D$94:$D$118,MATCH(\"League\",Veri!B$94:$B$118,0)+7,1),\"*\"&$I$3&\"*\"),$I$3,INDEX(Veri!D$94:$D$118,MATCH(\"League\",Veri!B$94:$B$118,0)+7,1)),\"\")","v":{"$error":"#N/A"}},{"$f":"IF(INDEX(Veri!H$94:$H$118,MATCH(\"League\",Veri!B$94:$B$118,0)+7,1)<>\"\",IF(COUNTIF(INDEX(Veri!H$94:$H$118,MATCH(\"League\",Veri!B$94:$B$118,0)+7,1),\"*\"&$I$3&\"*\"),$I$3,INDEX(Veri!H$94:$H$118,MATCH(\"League\",Veri!B$94:$B$118,0)+7,1)),\"\")","v":{"$error":"#N/A"}},{"$f":"IF(INDEX(Veri!F$94:$F$118,MATCH(\"League\",Veri!B$94:$B$118,0)+7,1)<>\"\",INDEX(Veri!F$94:$F$118,MATCH(\"League\",Veri!B$94:$B$118,0)+7,1),\"\")","v":{"$error":"#N/A"}},{"$f":"IF(INDEX(Veri!E$94:$E$118,MATCH(\"League\",Veri!B$94:$B$118,0)+7,1)<>\"\",INDEX(Veri!E$94:$E$118,MATCH(\"League\",Veri!B$94:$B$118,0)+7,1),\"\")","v":{"$error":"#N/A"}},null,null,null,5,{"$f":"IFERROR(IF(INDEX(Veri!$AA$31:$AA$500,MATCH(O14,Veri!$AI$31:$AI$500,0))<>\"\",INDEX(Veri!$AA$31:$AA$500,MATCH(O14,Veri!$AI$31:$AI$500,0)),\"\"),\"\")","v":""},{"$f":"IFERROR(IF(INDEX(Veri!$AG$31:$AG$500,MATCH(O14,Veri!$AI$31:$AI$500,0))<>\"\",INDEX(Veri!$AG$31:$AG$500,MATCH(O14,Veri!$AI$31:$AI$500,0)),\"\"),\"\")","v":""},{"$f":"IFERROR(IF(INDEX(Veri!$AC$31:$AC$500,MATCH(O14,Veri!$AI$31:$AI$500,0))<>\"\",INDEX(Veri!$AC$31:$AC$500,MATCH(O14,Veri!$AI$31:$AI$500,0)),\"\"),\"\")","v":""},{"$f":"IFERROR(IF(INDEX(Veri!$AD$31:$AD$500,MATCH(O14,Veri!$AI$31:$AI$500,0))<>\"\",INDEX(Veri!$AD$31:$AD$500,MATCH(O14,Veri!$AI$31:$AI$500,0)),\"\"),\"\")","v":""},{"$f":"IFERROR(IF(INDEX(Veri!$AE$31:$AE$500,MATCH(O14,Veri!$AI$31:$AI$500,0))<>\"\",INDEX(Veri!$AE$31:$AE$500,MATCH(O14,Veri!$AI$31:$AI$500,0)),\"\"),\"\")","v":""},null,5,{"$f":"IFERROR(IF(INDEX(Veri!$AK$31:$AK$500,MATCH(V14,Veri!$AS$31:$AS$500,0))<>\"\",INDEX(Veri!$AK$31:$AK$500,MATCH(V14,Veri!$AS$31:$AS$500,0)),\"\"),\"\")","v":""},{"$f":"IFERROR(IF(INDEX(Veri!$AQ$31:$AQ$500,MATCH(V14,Veri!$AS$31:$AS$500,0))<>\"\",INDEX(Veri!$AQ$31:$AQ$500,MATCH(V14,Veri!$AS$31:$AS$500,0)),\"\"),\"\")","v":""},{"$f":"IFERROR(IF(INDEX(Veri!$AM$31:$AM$500,MATCH(V14,Veri!$AS$31:$AS$500,0))<>\"\",INDEX(Veri!$AM$31:$AM$500,MATCH(V14,Veri!$AS$31:$AS$500,0)),\"\"),\"\")","v":""},{"$f":"IFERROR(IF(INDEX(Veri!$AN$31:$AN$500,MATCH(V14,Veri!$AS$31:$AS$500,0))<>\"\",INDEX(Veri!$AN$31:$AN$500,MATCH(V14,Veri!$AS$31:$AS$500,0)),\"\"),\"\")","v":""},{"$f":"IFERROR(IF(INDEX(Veri!$AO$31:$AO$500,MATCH(V14,Veri!$AS$31:$AS$500,0))<>\"\",INDEX(Veri!$AO$31:$AO$500,MATCH(V14,Veri!$AS$31:$AS$500,0)),\"\"),\"\")","v":""}]
[null,{"$f":"IF(INDEX(Veri!$B$68:$B$92,MATCH(\"League\",Veri!$B$68:$B$92,0)+8,1)<>\"\",INDEX(Veri!$B$68:$B$92,MATCH(\"League\",Veri!$B$68:$B$92,0)+8,1),\"\")","v":{"$error":"#N/A"}},{"$f":"IF(INDEX(Veri!D$68:$D$92,MATCH(\"League\",Veri!B$68:$B$92,0)+8,1)<>\"\",IF(COUNTIF(INDEX(Veri!D$68:$D$92,MATCH(\"League\",Veri!B$68:$B$92,0)+8,1),\"*\"&$B$3&\"*\"),$B$3,INDEX(Veri!D$68:$D$92,MATCH(\"League\",Veri!B$68:$B$92,0)+8,1)),\"\")","v":{"$error":"#N/A"}},{"$f":"IF(INDEX(Veri!H$68:$H$92,MATCH(\"League\",Veri!B$68:$B$92,0)+8,1)<>\"\",IF(COUNTIF(INDEX(Veri!H$68:$H$92,MATCH(\"League\",Veri!B$68:$B$92,0)+8,1),\"*\"&$B$3&\"*\"),$B$3,INDEX(Veri!H$68:$H$92,MATCH(\"League\",Veri!B$68:$B$92,0)+8,1)),\"\")","v":{"$error":"#N/A"}},{"$f":"IF(INDEX(Veri!F$68:$F$92,MATCH(\"League\",Veri!B$68:$B$92,0)+8,1)<>\"\",INDEX(Veri!F$68:$F$92,MATCH(\"League\",Veri!B$68:$B$92,0)+8,1),\"\")","v":{"$error":"#N/A"}},{"$f":"IF(INDEX(Veri!E$68:$E$92,MATCH(\"League\",Veri!B$68:$B$92,0)+8,1)<>\"\",INDEX(Veri!E$68:$E$92,MATCH(\"League\",Veri!B$68:$B$92,0)+8,1),\"\")","v":{"$error":"#N/A"}},{"$f":"IF(INDEX(Veri!B$94:$B$118,MATCH(\"League\",Veri!B$94:$B$118,0)+8,1)<>\"\",INDEX(Veri!B$94:$B$118,MATCH(\"League\",Veri!B$94:$B$118,0)+8,1),\"\")","v":{"$error":"#N/A"}},{"$f":"IF(INDEX(Veri!D$94:$D$118,MATCH(\"League\",Veri!B$94:$B$118,0)+8,1)<>\"\",IF(COUNTIF(INDEX(Veri!D$94:$D$118,MATCH(\"League\",Veri!B$94:$B$118,0)+8,1),\"*\"&$I$3&\"*\"),$I$3,INDEX(Veri!D$94:$D$118,MATCH(\"League\",Veri!B$94:$B$118,0)+8,1)),\"\")","v":{"$error":"#N/A"}},{"$f":"IF(INDEX(Veri!H$94:$H$118,MATCH(\"League\",Veri!B$94:$B$118,0)+8,1)<>\"\",IF(COUNTIF(INDEX(Veri!H$94:$H$118,MATCH(\"League\",Veri!B$94:$B$118,0)+8,1),\"*\"&$I$3&\"*\"),$I$3,INDEX(Veri!H$94:$H$118,MATCH(\"League\",Veri!B$94:$B$118,0)+8,1)),\"\")","v":{"$error":"#N/A"}},{"$f":"IF(INDEX(Veri!F$94:$F$118,MATCH(\"League\",Veri!B$94:$B$118,0)+8,1)<>\"\",INDEX(Veri!F$94:$F$118,MATCH(\"League\",Veri!B$94:$B$118,0)+8,1),\"\")","v":{"$error":"#N/A"}},{"$f":"IF(INDEX(Veri!E$94:$E$118,MATCH(\"League\",Veri!B$94:$B$118,0)+8,1)<>\"\",INDEX(Veri!E$94:$E$118,MATCH(\"League\",Veri!B$94:$B$118,0)+8,1),\"\")","v":{"$error":"#N/A"}},null,null,null,6,{"$f":"IFERROR(IF(INDEX(Veri!$AA$31:$AA$500,MATCH(O15,Veri!$AI$31:$AI$500,0))<>\"\",INDEX(Veri!$AA$31:$AA$500,MATCH(O15,Veri!$AI$31:$AI$500,0)),\"\"),\"\")","v":""},{"$f":"IFERROR(IF(INDEX(Veri!$AG$31:$AG$500,MATCH(O15,Veri!$AI$31:$AI$500,0))<>\"\",INDEX(Veri!$AG$31:$AG$500,MATCH(O15,Veri!$AI$31:$AI$500,0)),\"\"),\"\")","v":""},{"$f":"IFERROR(IF(INDEX(Veri!$AC$31:$AC$500,MATCH(O15,Veri!$AI$31:$AI$500,0))<>\"\",INDEX(Veri!$AC$31:$AC$500,MATCH(O15,Veri!$AI$31:$AI$500,0)),\"\"),\"\")","v":""},{"$f":"IFERROR(IF(INDEX(Veri!$AD$31:$AD$500,MATCH(O15,Veri!$AI$31:$AI$500,0))<>\"\",INDEX(Veri!$AD$31:$AD$500,MATCH(O15,Veri!$AI$31:$AI$500,0)),\"\"),\"\")","v":""},{"$f":"IFERROR(IF(INDEX(Veri!$AE$31:$AE$500,MATCH(O15,Veri!$AI$31:$AI$500,0))<>\"\",INDEX(Veri!$AE$31:$AE$500,MATCH(O15,Veri!$AI$31:$AI$500,0)),\"\"),\"\")","v":""},null,6,{"$f":"IFERROR(IF(INDEX(Veri!$AK$31:$AK$500,MATCH(V15,Veri!$AS$31:$AS$500,0))<>\"\",INDEX(Veri!$AK$31:$AK$500,MATCH(V15,Veri!$AS$31:$AS$500,0)),\"\"),\"\")","v":""},{"$f":"IFERROR(IF(INDEX(Veri!$AQ$31:$AQ$500,MATCH(V15,Veri!$AS$31:$AS$500,0))<>\"\",INDEX(Veri!$AQ$31:$AQ$500,MATCH(V15,Veri!$AS$31:$AS$500,0)),\"\"),\"\")","v":""},{"$f":"IFERROR(IF(INDEX(Veri!$AM$31:$AM$500,MATCH(V15,Veri!$AS$31:$AS$500,0))<>\"\",INDEX(Veri!$AM$31:$AM$500,MATCH(V15,Veri!$AS$31:$AS$500,0)),\"\"),\"\")","v":""},{"$f":"IFERROR(IF(INDEX(Veri!$AN$31:$AN$500,MATCH(V15,Veri!$AS$31:$AS$500,0))<>\"\",INDEX(Veri!$AN$31:$AN$500,MATCH(V15,Veri!$AS$31:$AS$500,0)),\"\"),\"\")","v":""},{"$f":"IFERROR(IF(INDEX(Veri!$AO$31:$AO$500,MATCH(V15,Veri!$AS$31:$AS$500,0))<>\"\",INDEX(Veri!$AO$31:$AO$500,MATCH(V15,Veri!$AS$31:$AS$500,0)),\"\"),\"\")","v":""}]
[null,{"$f":"IF(INDEX(Veri!$B$68:$B$92,MATCH(\"League\",Veri!$B$68:$B$92,0)+9,1)<>\"\",INDEX(Veri!$B$68:$B$92,MATCH(\"League\",Veri!$B$68:$B$92,0)+9,1),\"\")","v":{"$error":"#N/A"}},{"$f":"IF(INDEX(Veri!D$68:$D$92,MATCH(\"League\",Veri!B$68:$B$92,0)+9,1)<>\"\",IF(COUNTIF(INDEX(Veri!D$68:$D$92,MATCH(\"League\",Veri!B$68:$B$92,0)+9,1),\"*\"&$B$3&\"*\"),$B$3,INDEX(Veri!D$68:$D$92,MATCH(\"League\",Veri!B$68:$B$92,0)+9,1)),\"\")","v":{"$error":"#N/A"}},{"$f":"IF(INDEX(Veri!H$68:$H$92,MATCH(\"League\",Veri!B$68:$B$92,0)+9,1)<>\"\",IF(COUNTIF(INDEX(Veri!H$68:$H$92,MATCH(\"League\",Veri!B$68:$B$92,0)+9,1),\"*\"&$B$3&\"*\"),$B$3,INDEX(Veri!H$68:$H$92,MATCH(\"League\",Veri!B$68:$B$92,0)+9,1)),\"\")","v":{"$error":"#N/A"}},{"$f":"IF(INDEX(Veri!F$68:$F$92,MATCH(\"League\",Veri!B$68:$B$92,0)+9,1)<>\"\",INDEX(Veri!F$68:$F$92,MATCH(\"League\",Veri!B$68:$B$92,0)+9,1),\"\")","v":{"$error":"#N/A"}},{"$f":"IF(INDEX(Veri!E$68:$E$92,MATCH(\"League\",Veri!B$68:$B$92,0)+9,1)<>\"\",INDEX(Veri!E$68:$E$92,MATCH(\"League\",Veri!B$68:$B$92,0)+9,1),\"\")","v":{"$error":"#N/A"}},{"$f":"IF(INDEX(Veri!B$94:$B$118,MATCH(\"League\",Veri!B$94:$B$118,0)+9,1)<>\"\",INDEX(Veri!B$94:$B$118,MATCH(\"League\",Veri!B$94:$B$118,0)+9,1),\"\")","v":{"$error":"#N/A"}},{"$f":"IF(INDEX(Veri!D$94:$D$118,MATCH(\"League\",Veri!B$94:$B$118,0)+9,1)<>\"\",IF(COUNTIF(INDEX(Veri!D$94:$D$118,MATCH(\"League\",Veri!B$94:$B$118,0)+9,1),\"*\"&$I$3&\"*\"),$I$3,INDEX(Veri!D$94:$D$118,MATCH(\"League\",Veri!B$94:$B$118,0)+9,1)),\"\")","v":{"$error":"#N/A"}},{"$f":"IF(INDEX(Veri!H$94:$H$118,MATCH(\"League\",Veri!B$94:$B$118,0)+9,1)<>\"\",IF(COUNTIF(INDEX(Veri!H$94:$H$118,MATCH(\"League\",Veri!B$94:$B$118,0)+9,1),\"*\"&$I$3&\"*\"),$I$3,INDEX(Veri!H$94:$H$118,MATCH(\"League\",Veri!B$94:$B$118,0)+9,1)),\"\")","v":{"$error":"#N/A"}},{"$f":"IF(INDEX(Veri!F$94:$F$118,MATCH(\"League\",Veri!B$94:$B$118,0)+9,1)<>\"\",INDEX(Veri!F$94:$F$118,MATCH(\"League\",Veri!B$94:$B$118,0)+9,1),\"\")","v":{"$error":"#N/A"}},{"$f":"IF(INDEX(Veri!E$94:$E$118,MATCH(\"League\",Veri!B$94:$B$118,0)+9,1)<>\"\",INDEX(Veri!E$94:$E$118,MATCH(\"League\",Veri!B$94:$B$118,0)+9,1),\"\")","v":{"$error":"#N/A"}},null,null,null,7,{"$f":"IFERROR(IF(INDEX(Veri!$AA$31:$AA$500,MATCH(O16,Veri!$AI$31:$AI$500,0))<>\"\",INDEX(Veri!$AA$31:$AA$500,MATCH(O16,Veri!$AI$31:$AI$500,0)),\"\"),\"\")","v":""},{"$f":"IFERROR(IF(INDEX(Veri!$AG$31:$AG$500,MATCH(O16,Veri!$AI$31:$AI$500,0))<>\"\",INDEX(Veri!$AG$31:$AG$500,MATCH(O16,Veri!$AI$31:$AI$500,0)),\"\"),\"\")","v":""},{"$f":"IFERROR(IF(INDEX(Veri!$AC$31:$AC$500,MATCH(O16,Veri!$AI$31:$AI$500,0))<>\"\",INDEX(Veri!$AC$31:$AC$500,MATCH(O16,Veri!$AI$31:$AI$500,0)),\"\"),\"\")","v":""},{"$f":"IFERROR(IF(INDEX(Veri!$AD$31:$AD$500,MATCH(O16,Veri!$AI$31:$AI$500,0))<>\"\",INDEX(Veri!$AD$31:$AD$500,MATCH(O16,Veri!$AI$31:$AI$500,0)),\"\"),\"\")","v":""},{"$f":"IFERROR(IF(INDEX(Veri!$AE$31:$AE$500,MATCH(O16,Veri!$AI$31:$AI$500,0))<>\"\",INDEX(Veri!$AE$31:$AE$500,MATCH(O16,Veri!$AI$31:$AI$500,0)),\"\"),\"\")","v":""},null,7,{"$f":"IFERROR(IF(INDEX(Veri!$AK$31:$AK$500,MATCH(V16,Veri!$AS$31:$AS$500,0))<>\"\",INDEX(Veri!$AK$31:$AK$500,MATCH(V16,Veri!$AS$31:$AS$500,0)),\"\"),\"\")","v":""},{"$f":"IFERROR(IF(INDEX(Veri!$AQ$31:$AQ$500,MATCH(V16,Veri!$AS$31:$AS$500,0))<>\"\",INDEX(Veri!$AQ$31:$AQ$500,MATCH(V16,Veri!$AS$31:$AS$500,0)),\"\"),\"\")","v":""},{"$f":"IFERROR(IF(INDEX(Veri!$AM$31:$AM$500,MATCH(V16,Veri!$AS$31:$AS$500,0))<>\"\",INDEX(Veri!$AM$31:$AM$500,MATCH(V16,Veri!$AS$31:$AS$500,0)),\"\"),\"\")","v":""},{"$f":"IFERROR(IF(INDEX(Veri!$AN$31:$AN$500,MATCH(V16,Veri!$AS$31:$AS$500,0))<>\"\",INDEX(Veri!$AN$31:$AN$500,MATCH(V16,Veri!$AS$31:$AS$500,0)),\"\"),\"\")","v":""},{"$f":"IFERROR(IF(INDEX(Veri!$AO$31:$AO$500,MATCH(V16,Veri!$AS$31:$AS$500,0))<>\"\",INDEX(Veri!$AO$31:$AO$500,MATCH(V16,Veri!$AS$31:$AS$500,0)),\"\"),\"\")","v":""}]
[null,{"$f":"IF(INDEX(Veri!$B$68:$B$92,MATCH(\"League\",Veri!$B$68:$B$92,0)+10,1)<>\"\",INDEX(Veri!$B$68:$B$92,MATCH(\"League\",Veri!$B$68:$B$92,0)+10,1),\"\")","v":{"$error":"#N/A"}},{"$f":"IF(INDEX(Veri!D$68:$D$92,MATCH(\"League\",Veri!B$68:$B$92,0)+10,1)<>\"\",IF(COUNTIF(INDEX(Veri!D$68:$D$92,MATCH(\"League\",Veri!B$68:$B$92,0)+10,1),\"*\"&$B$3&\"*\"),$B$3,INDEX(Veri!D$68:$D$92,MATCH(\"League\",Veri!B$68:$B$92,0)+10,1)),\"\")","v":{"$error":"#N/A"}},{"$f":"IF(INDEX(Veri!H$68:$H$92,MATCH(\"League\",Veri!B$68:$B$92,0)+10,1)<>\"\",IF(COUNTIF(INDEX(Veri!H$68:$H$92,MATCH(\"League\",Veri!B$68:$B$92,0)+10,1),\"*\"&$B$3&\"*\"),$B$3,INDEX(Veri!H$68:$H$92,MATCH(\"League\",Veri!B$68:$B$92,0)+10,1)),\"\")","v":{"$error":"#N/A"}},{"$f":"IF(INDEX(Veri!F$68:$F$92,MATCH(\"League\",Veri!B$68:$B$92,0)+10,1)<>\"\",INDEX(Veri!F$68:$F$92,MATCH(\"League\",Veri!B$68:$B$92,0)+10,1),\"\")","v":{"$error":"#N/A"}},{"$f":"IF(INDEX(Veri!E$68:$E$92,MATCH(\"League\",Veri!B$68:$B$92,0)+10,1)<>\"\",INDEX(Veri!E$68:$E$92,MATCH(\"League\",Veri!B$68:$B$92,0)+10,1),\"\")","v":{"$error":"#N/A"}},{"$f":"IF(INDEX(Veri!B$94:$B$118,MATCH(\"League\",Veri!B$94:$B$118,0)+10,1)<>\"\",INDEX(Veri!B$94:$B$118,MATCH(\"League\",Veri!B$94:$B$118,0)+10,1),\"\")","v":{"$error":"#N/A"}},{"$f":"IF(INDEX(Veri!D$94:$D$118,MATCH(\"League\",Veri!B$94:$B$118,0)+10,1)<>\"\",IF(COUNTIF(INDEX(Veri!D$94:$D$118,MATCH(\"League\",Veri!B$94:$B$118,0)+10,1),\"*\"&$I$3&\"*\"),$I$3,INDEX(Veri!D$94:$D$118,MATCH(\"League\",Veri!B$94:$B$118,0)+10,1)),\"\")","v":{"$error":"#N/A"}},{"$f":"IF(INDEX(Veri!H$94:$H$118,MATCH(\"League\",Veri!B$94:$B$118,0)+10,1)<>\"\",IF(COUNTIF(INDEX(Veri!H$94:$H$118,MATCH(\"League\",Veri!B$94:$B$118,0)+10,1),\"*\"&$I$3&\"*\"),$I$3,INDEX(Veri!H$94:$H$118,MATCH(\"League\",Veri!B$94:$B$118,0)+10,1)),\"\")","v":{"$error":"#N/A"}},{"$f":"IF(INDEX(Veri!F$94:$F$118,MATCH(\"League\",Veri!B$94:$B$118,0)+10,1)<>\"\",INDEX(Veri!F$94:$F$118,MATCH(\"League\",Veri!B$94:$B$118,0)+10,1),\"\")","v":{"$error":"#N/A"}},{"$f":"IF(INDEX(Veri!E$94:$E$118,MATCH(\"League\",Veri!B$94:$B$118,0)+10,1)<>\"\",INDEX(Veri!E$94:$E$118,MATCH(\"League\",Veri!B$94:$B$118,0)+10,1),\"\")","v":{"$error":"#N/A"}},null,null,null,8,{"$f":"IFERROR(IF(INDEX(Veri!$AA$31:$AA$500,MATCH(O17,Veri!$AI$31:$AI$500,0))<>\"\",INDEX(Veri!$AA$31:$AA$500,MATCH(O17,Veri!$AI$31:$AI$500,0)),\"\"),\"\")","v":""},{"$f":"IFERROR(IF(INDEX(Veri!$AG$31:$AG$500,MATCH(O17,Veri!$AI$31:$AI$500,0))<>\"\",INDEX(Veri!$AG$31:$AG$500,MATCH(O17,Veri!$AI$31:$AI$500,0)),\"\"),\"\")","v":""},{"$f":"IFERROR(IF(INDEX(Veri!$AC$31:$AC$500,MATCH(O17,Veri!$AI$31:$AI$500,0))<>\"\",INDEX(Veri!$AC$31:$AC$500,MATCH(O17,Veri!$AI$31:$AI$500,0)),\"\"),\"\")","v":""},{"$f":"IFERROR(IF(INDEX(Veri!$AD$31:$AD$500,MATCH(O17,Veri!$AI$31:$AI$500,0))<>\"\",INDEX(Veri!$AD$31:$AD$500,MATCH(O17,Veri!$AI$31:$AI$500,0)),\"\"),\"\")","v":""},{"$f":"IFERROR(IF(INDEX(Veri!$AE$31:$AE$500,MATCH(O17,Veri!$AI$31:$AI$500,0))<>\"\",INDEX(Veri!$AE$31:$AE$500,MATCH(O17,Veri!$AI$31:$AI$500,0)),\"\"),\"\")","v":""},null,8,{"$f":"IFERROR(IF(INDEX(Veri!$AK$31:$AK$500,MATCH(V17,Veri!$AS$31:$AS$500,0))<>\"\",INDEX(Veri!$AK$31:$AK$500,MATCH(V17,Veri!$AS$31:$AS$500,0)),\"\"),\"\")","v":""},{"$f":"IFERROR(IF(INDEX(Veri!$AQ$31:$AQ$500,MATCH(V17,Veri!$AS$31:$AS$500,0))<>\"\",INDEX(Veri!$AQ$31:$AQ$500,MATCH(V17,Veri!$AS$31:$AS$500,0)),\"\"),\"\")","v":""},{"$f":"IFERROR(IF(INDEX(Veri!$AM$31:$AM$500,MATCH(V17,Veri!$AS$31:$AS$500,0))<>\"\",INDEX(Veri!$AM$31:$AM$500,MATCH(V17,Veri!$AS$31:$AS$500,0)),\"\"),\"\")","v":""},{"$f":"IFERROR(IF(INDEX(Veri!$AN$31:$AN$500,MATCH(V17,Veri!$AS$31:$AS$500,0))<>\"\",INDEX(Veri!$AN$31:$AN$500,MATCH(V17,Veri!$AS$31:$AS$500,0)),\"\"),\"\")","v":""},{"$f":"IFERROR(IF(INDEX(Veri!$AO$31:$AO$500,MATCH(V17,Veri!$AS$31:$AS$500,0))<>\"\",INDEX(Veri!$AO$31:$AO$500,MATCH(V17,Veri!$AS$31:$AS$500,0)),\"\"),\"\")","v":""}]
[null,{"$f":"IF(INDEX(Veri!$B$68:$B$92,MATCH(\"League\",Veri!$B$68:$B$92,0)+11,1)<>\"\",INDEX(Veri!$B$68:$B$92,MATCH(\"League\",Veri!$B$68:$B$92,0)+11,1),\"\")","v":{"$error":"#N/A"}},{"$f":"IF(INDEX(Veri!D$68:$D$92,MATCH(\"League\",Veri!B$68:$B$92,0)+11,1)<>\"\",IF(COUNTIF(INDEX(Veri!D$68:$D$92,MATCH(\"League\",Veri!B$68:$B$92,0)+11,1),\"*\"&$B$3&\"*\"),$B$3,INDEX(Veri!D$68:$D$92,MATCH(\"League\",Veri!B$68:$B$92,0)+11,1)),\"\")","v":{"$error":"#N/A"}},{"$f":"IF(INDEX(Veri!H$68:$H$92,MATCH(\"League\",Veri!B$68:$B$92,0)+11,1)<>\"\",IF(COUNTIF(INDEX(Veri!H$68:$H$92,MATCH(\"League\",Veri!B$68:$B$92,0)+11,1),\"*\"&$B$3&\"*\"),$B$3,INDEX(Veri!H$68:$H$92,MATCH(\"League\",Veri!B$68:$B$92,0)+11,1)),\"\")","v":{"$error":"#N/A"}},{"$f":"IF(INDEX(Veri!F$68:$F$92,MATCH(\"League\",Veri!B$68:$B$92,0)+11,1)<>\"\",INDEX(Veri!F$68:$F$92,MATCH(\"League\",Veri!B$68:$B$92,0)+11,1),\"\")","v":{"$error":"#N/A"}},{"$f":"IF(INDEX(Veri!E$68:$E$92,MATCH(\"League\",Veri!B$68:$B$92,0)+11,1)<>\"\",INDEX(Veri!E$68:$E$92,MATCH(\"League\",Veri!B$68:$B$92,0)+11,1),\"\")","v":{"$error":"#N/A"}},{"$f":"IF(INDEX(Veri!B$94:$B$118,MATCH(\"League\",Veri!B$94:$B$118,0)+11,1)<>\"\",INDEX(Veri!B$94:$B$118,MATCH(\"League\",Veri!B$94:$B$118,0)+11,1),\"\")","v":{"$error":"#N/A"}},{"$f":"IF(INDEX(Veri!D$94:$D$118,MATCH(\"League\",Veri!B$94:$B$118,0)+11,1)<>\"\",IF(COUNTIF(INDEX(Veri!D$94:$D$118,MATCH(\"League\",Veri!B$94:$B$118,0)+11,1),\"*\"&$I$3&\"*\"),$I$3,INDEX(Veri!D$94:$D$118,MATCH(\"League\",Veri!B$94:$B$118,0)+11,1)),\"\")","v":{"$error":"#N/A"}},{"$f":"IF(INDEX(Veri!H$94:$H$118,MATCH(\"League\",Veri!B$94:$B$118,0)+11,1)<>\"\",IF(COUNTIF(INDEX(Veri!H$94:$H$118,MATCH(\"League\",Veri!B$94:$B$118,0)+11,1),\"*\"&$I$3&\"*\"),$I$3,INDEX(Veri!H$94:$H$118,MATCH(\"League\",Veri!B$94:$B$118,0)+11,1)),\"\")","v":{"$error":"#N/A"}},{"$f":"IF(INDEX(Veri!F$94:$F$118,MATCH(\"League\",Veri!B$94:$B$118,0)+11,1)<>\"\",INDEX(Veri!F$94:$F$118,MATCH(\"League\",Veri!B$94:$B$118,0)+11,1),\"\")","v":{"$error":"#N/A"}},{"$f":"IF(INDEX(Veri!E$94:$E$118,MATCH(\"League\",Veri!B$94:$B$118,0)+11,1)<>\"\",INDEX(Veri!E$94:$E$118,MATCH(\"League\",Veri!B$94:$B$118,0)+11,1),\"\")","v":{"$error":"#N/A"}},null,null,null,9,{"$f":"IFERROR(IF(INDEX(Veri!$AA$31:$AA$500,MATCH(O18,Veri!$AI$31:$AI$500,0))<>\"\",INDEX(Veri!$AA$31:$AA$500,MATCH(O18,Veri!$AI$31:$AI$500,0)),\"\"),\"\")","v":""},{"$f":"IFERROR(IF(INDEX(Veri!$AG$31:$AG$500,MATCH(O18,Veri!$AI$31:$AI$500,0))<>\"\",INDEX(Veri!$AG$31:$AG$500,MATCH(O18,Veri!$AI$31:$AI$500,0)),\"\"),\"\")","v":""},{"$f":"IFERROR(IF(INDEX(Veri!$AC$31:$AC$500,MATCH(O18,Veri!$AI$31:$AI$500,0))<>\"\",INDEX(Veri!$AC$31:$AC$500,MATCH(O18,Veri!$AI$31:$AI$500,0)),\"\"),\"\")","v":""},{"$f":"IFERROR(IF(INDEX(Veri!$AD$31:$AD$500,MATCH(O18,Veri!$AI$31:$AI$500,0))<>\"\",INDEX(Veri!$AD$31:$AD$500,MATCH(O18,Veri!$AI$31:$AI$500,0)),\"\"),\"\")","v":""},{"$f":"IFERROR(IF(INDEX(Veri!$AE$31:$AE$500,MATCH(O18,Veri!$AI$31:$AI$500,0))<>\"\",INDEX(Veri!$AE$31:$AE$500,MATCH(O18,Veri!$AI$31:$AI$500,0)),\"\"),\"\")","v":""},null,9,{"$f":"IFERROR(IF(INDEX(Veri!$AK$31:$AK$500,MATCH(V18,Veri!$AS$31:$AS$500,0))<>\"\",INDEX(Veri!$AK$31:$AK$500,MATCH(V18,Veri!$AS$31:$AS$500,0)),\"\"),\"\")","v":""},{"$f":"IFERROR(IF(INDEX(Veri!$AQ$31:$AQ$500,MATCH(V18,Veri!$AS$31:$AS$500,0))<>\"\",INDEX(Veri!$AQ$31:$AQ$500,MATCH(V18,Veri!$AS$31:$AS$500,0)),\"\"),\"\")","v":""},{"$f":"IFERROR(IF(INDEX(Veri!$AM$31:$AM$500,MATCH(V18,Veri!$AS$31:$AS$500,0))<>\"\",INDEX(Veri!$AM$31:$AM$500,MATCH(V18,Veri!$AS$31:$AS$500,0)),\"\"),\"\")","v":""},{"$f":"IFERROR(IF(INDEX(Veri!$AN$31:$AN$500,MATCH(V18,Veri!$AS$31:$AS$500,0))<>\"\",INDEX(Veri!$AN$31:$AN$500,MATCH(V18,Veri!$AS$31:$AS$500,0)),\"\"),\"\")","v":""},{"$f":"IFERROR(IF(INDEX(Veri!$AO$31:$AO$500,MATCH(V18,Veri!$AS$31:$AS$500,0))<>\"\",INDEX(Veri!$AO$31:$AO$500,MATCH(V18,Veri!$AS$31:$AS$500,0)),\"\"),\"\")","v":""}]
[null,{"$f":"IF(INDEX(Veri!$B$68:$B$92,MATCH(\"League\",Veri!$B$68:$B$92,0)+12,1)<>\"\",INDEX(Veri!$B$68:$B$92,MATCH(\"League\",Veri!$B$68:$B$92,0)+12,1),\"\")","v":{"$error":"#N/A"}},{"$f":"IF(INDEX(Veri!D$68:$D$92,MATCH(\"League\",Veri!B$68:$B$92,0)+12,1)<>\"\",IF(COUNTIF(INDEX(Veri!D$68:$D$92,MATCH(\"League\",Veri!B$68:$B$92,0)+12,1),\"*\"&$B$3&\"*\"),$B$3,INDEX(Veri!D$68:$D$92,MATCH(\"League\",Veri!B$68:$B$92,0)+12,1)),\"\")","v":{"$error":"#N/A"}},{"$f":"IF(INDEX(Veri!H$68:$H$92,MATCH(\"League\",Veri!B$68:$B$92,0)+12,1)<>\"\",IF(COUNTIF(INDEX(Veri!H$68:$H$92,MATCH(\"League\",Veri!B$68:$B$92,0)+12,1),\"*\"&$B$3&\"*\"),$B$3,INDEX(Veri!H$68:$H$92,MATCH(\"League\",Veri!B$68:$B$92,0)+12,1)),\"\")","v":{"$error":"#N/A"}},{"$f":"IF(INDEX(Veri!F$68:$F$92,MATCH(\"League\",Veri!B$68:$B$92,0)+12,1)<>\"\",INDEX(Veri!F$68:$F$92,MATCH(\"League\",Veri!B$68:$B$92,0)+12,1),\"\")","v":{"$error":"#N/A"}},{"$f":"IF(INDEX(Veri!E$68:$E$92,MATCH(\"League\",Veri!B$68:$B$92,0)+12,1)<>\"\",INDEX(Veri!E$68:$E$92,MATCH(\"League\",Veri!B$68:$B$92,0)+12,1),\"\")","v":{"$error":"#N/A"}},{"$f":"IF(INDEX(Veri!B$94:$B$118,MATCH(\"League\",Veri!B$94:$B$118,0)+12,1)<>\"\",INDEX(Veri!B$94:$B$118,MATCH(\"League\",Veri!B$94:$B$118,0)+12,1),\"\")","v":{"$error":"#N/A"}},{"$f":"IF(INDEX(Veri!D$94:$D$118,MATCH(\"League\",Veri!B$94:$B$118,0)+12,1)<>\"\",IF(COUNTIF(INDEX(Veri!D$94:$D$118,MATCH(\"League\",Veri!B$94:$B$118,0)+12,1),\"*\"&$I$3&\"*\"),$I$3,INDEX(Veri!D$94:$D$118,MATCH(\"League\",Veri!B$94:$B$118,0)+12,1)),\"\")","v":{"$error":"#N/A"}},{"$f":"IF(INDEX(Veri!H$94:$H$118,MATCH(\"League\",Veri!B$94:$B$118,0)+12,1)<>\"\",IF(COUNTIF(INDEX(Veri!H$94:$H$118,MATCH(\"League\",Veri!B$94:$B$118,0)+12,1),\"*\"&$I$3&\"*\"),$I$3,INDEX(Veri!H$94:$H$118,MATCH(\"League\",Veri!B$94:$B$118,0)+12,1)),\"\")","v":{"$error":"#N/A"}},{"$f":"IF(INDEX(Veri!F$94:$F$118,MATCH(\"League\",Veri!B$94:$B$118,0)+12,1)<>\"\",INDEX(Veri!F$94:$F$118,MATCH(\"League\",Veri!B$94:$B$118,0)+12,1),\"\")","v":{"$error":"#N/A"}},{"$f":"IF(INDEX(Veri!E$94:$E$118,MATCH(\"League\",Veri!B$94:$B$118,0)+12,1)<>\"\",INDEX(Veri!E$94:$E$118,MATCH(\"League\",Veri!B$94:$B$118,0)+12,1),\"\")","v":{"$error":"#N/A"}},null,null,null,10,{"$f":"IFERROR(IF(INDEX(Veri!$AA$31:$AA$500,MATCH(O19,Veri!$AI$31:$AI$500,0))<>\"\",INDEX(Veri!$AA$31:$AA$500,MATCH(O19,Veri!$AI$31:$AI$500,0)),\"\"),\"\")","v":""},{"$f":"IFERROR(IF(INDEX(Veri!$AG$31:$AG$500,MATCH(O19,Veri!$AI$31:$AI$500,0))<>\"\",INDEX(Veri!$AG$31:$AG$500,MATCH(O19,Veri!$AI$31:$AI$500,0)),\"\"),\"\")","v":""},{"$f":"IFERROR(IF(INDEX(Veri!$AC$31:$AC$500,MATCH(O19,Veri!$AI$31:$AI$500,0))<>\"\",INDEX(Veri!$AC$31:$AC$500,MATCH(O19,Veri!$AI$31:$AI$500,0)),\"\"),\"\")","v":""},{"$f":"IFERROR(IF(INDEX(Veri!$AD$31:$AD$500,MATCH(O19,Veri!$AI$31:$AI$500,0))<>\"\",INDEX(Veri!$AD$31:$AD$500,MATCH(O19,Veri!$AI$31:$AI$500,0)),\"\"),\"\")","v":""},{"$f":"IFERROR(IF(INDEX(Veri!$AE$31:$AE$500,MATCH(O19,Veri!$AI$31:$AI$500,0))<>\"\",INDEX(Veri!$AE$31:$AE$500,MATCH(O19,Veri!$AI$31:$AI$500,0)),\"\"),\"\")","v":""},null,10,{"$f":"IFERROR(IF(INDEX(Veri!$AK$31:$AK$500,MATCH(V19,Veri!$AS$31:$AS$500,0))<>\"\",INDEX(Veri!$AK$31:$AK$500,MATCH(V19,Veri!$AS$31:$AS$500,0)),\"\"),\"\")","v":""},{"$f":"IFERROR(IF(INDEX(Veri!$AQ$31:$AQ$500,MATCH(V19,Veri!$AS$31:$AS$500,0))<>\"\",INDEX(Veri!$AQ$31:$AQ$500,MATCH(V19,Veri!$AS$31:$AS$500,0)),\"\"),\"\")","v":""},{"$f":"IFERROR(IF(INDEX(Veri!$AM$31:$AM$500,MATCH(V19,Veri!$AS$31:$AS$500,0))<>\"\",INDEX(Veri!$AM$31:$AM$500,MATCH(V19,Veri!$AS$31:$AS$500,0)),\"\"),\"\")","v":""},{"$f":"IFERROR(IF(INDEX(Veri!$AN$31:$AN$500,MATCH(V19,Veri!$AS$31:$AS$500,0))<>\"\",INDEX(Veri!$AN$31:$AN$500,MATCH(V19,Veri!$AS$31:$AS$500,0)),\"\"),\"\")","v":""},{"$f":"IFERROR(IF(INDEX(Veri!$AO$31:$AO$500,MATCH(V19,Veri!$AS$31:$AS$500,0))<>\"\",INDEX(Veri!$AO$31:$AO$500,MATCH(V19,Veri!$AS$31:$AS$500,0)),\"\"),\"\")","v":""}]
[null,{"$f":"IF(INDEX(Veri!$B$68:$B$92,MATCH(\"League\",Veri!$B$68:$B$92,0)+13,1)<>\"\",INDEX(Veri!$B$68:$B$92,MATCH(\"League\",Veri!$B$68:$B$92,0)+13,1),\"\")","v":{"$error":"#N/A"}},{"$f":"IF(INDEX(Veri!D$68:$D$92,MATCH(\"League\",Veri!B$68:$B$92,0)+13,1)<>\"\",IF(COUNTIF(INDEX(Veri!D$68:$D$92,MATCH(\"League\",Veri!B$68:$B$92,0)+13,1),\"*\"&$B$3&\"*\"),$B$3,INDEX(Veri!D$68:$D$92,MATCH(\"League\",Veri!B$68:$B$92,0)+13,1)),\"\")","v":{"$error":"#N/A"}},{"$f":"IF(INDEX(Veri!H$68:$H$92,MATCH(\"League\",Veri!B$68:$B$92,0)+13,1)<>\"\",IF(COUNTIF(INDEX(Veri!H$68:$H$92,MATCH(\"League\",Veri!B$68:$B$92,0)+13,1),\"*\"&$B$3&\"*\"),$B$3,INDEX(Veri!H$68:$H$92,MATCH(\"League\",Veri!B$68:$B$92,0)+13,1)),\"\")","v":{"$error":"#N/A"}},{"$f":"IF(INDEX(Veri!F$68:$F$92,MATCH(\"League\",Veri!B$68:$B$92,0)+13,1)<>\"\",INDEX(Veri!F$68:$F$92,MATCH(\"League\",Veri!B$68:$B$92,0)+13,1),\"\")","v":{"$error":"#N/A"}},{"$f":"IF(INDEX(Veri!E$68:$E$92,MATCH(\"League\",Veri!B$68:$B$92,0)+13,1)<>\"\",INDEX(Veri!E$68:$E$92,MATCH(\"League\",Veri!B$68:$B$92,0)+13,1),\"\")","v":{"$error":"#N/A"}},{"$f":"IF(INDEX(Veri!B$94:$B$118,MATCH(\"League\",Veri!B$94:$B$118,0)+13,1)<>\"\",INDEX(Veri!B$94:$B$118,MATCH(\"League\",Veri!B$94:$B$118,0)+13,1),\"\")","v":{"$error":"#N/A"}},{"$f":"IF(INDEX(Veri!D$94:$D$118,MATCH(\"League\",Veri!B$94:$B$118,0)+13,1)<>\"\",IF(COUNTIF(INDEX(Veri!D$94:$D$118,MATCH(\"League\",Veri!B$94:$B$118,0)+13,1),\"*\"&$I$3&\"*\"),$I$3,INDEX(Veri!D$94:$D$118,MATCH(\"League\",Veri!B$94:$B$118,0)+13,1)),\"\")","v":{"$error":"#N/A"}},{"$f":"IF(INDEX(Veri!H$94:$H$118,MATCH(\"League\",Veri!B$94:$B$118,0)+13,1)<>\"\",IF(COUNTIF(INDEX(Veri!H$94:$H$118,MATCH(\"League\",Veri!B$94:$B$118,0)+13,1),\"*\"&$I$3&\"*\"),$I$3,INDEX(Veri!H$94:$H$118,MATCH(\"League\",Veri!B$94:$B$118,0)+13,1)),\"\")","v":{"$error":"#N/A"}},{"$f":"IF(INDEX(Veri!F$94:$F$118,MATCH(\"League\",Veri!B$94:$B$118,0)+13,1)<>\"\",INDEX(Veri!F$94:$F$118,MATCH(\"League\",Veri!B$94:$B$118,0)+13,1),\"\")","v":{"$error":"#N/A"}},{"$f":"IF(INDEX(Veri!E$94:$E$118,MATCH(\"League\",Veri!B$94:$B$118,0)+13,1)<>\"\",INDEX(Veri!E$94:$E$118,MATCH(\"League\",Veri!B$94:$B$118,0)+13,1),\"\")","v":{"$error":"#N/A"}},null,null,null,11,{"$f":"IFERROR(IF(INDEX(Veri!$AA$31:$AA$500,MATCH(O20,Veri!$AI$31:$AI$500,0))<>\"\",INDEX(Veri!$AA$31:$AA$500,MATCH(O20,Veri!$AI$31:$AI$500,0)),\"\"),\"\")","v":""},{"$f":"IFERROR(IF(INDEX(Veri!$AG$31:$AG$500,MATCH(O20,Veri!$AI$31:$AI$500,0))<>\"\",INDEX(Veri!$AG$31:$AG$500,MATCH(O20,Veri!$AI$31:$AI$500,0)),\"\"),\"\")","v":""},{"$f":"IFERROR(IF(INDEX(Veri!$AC$31:$AC$500,MATCH(O20,Veri!$AI$31:$AI$500,0))<>\"\",INDEX(Veri!$AC$31:$AC$500,MATCH(O20,Veri!$AI$31:$AI$500,0)),\"\"),\"\")","v":""},{"$f":"IFERROR(IF(INDEX(Veri!$AD$31:$AD$500,MATCH(O20,Veri!$AI$31:$AI$500,0))<>\"\",INDEX(Veri!$AD$31:$AD$500,MATCH(O20,Veri!$AI$31:$AI$500,0)),\"\"),\"\")","v":""},{"$f":"IFERROR(IF(INDEX(Veri!$AE$31:$AE$500,MATCH(O20,Veri!$AI$31:$AI$500,0))<>\"\",INDEX(Veri!$AE$31:$AE$500,MATCH(O20,Veri!$AI$31:$AI$500,0)),\"\"),\"\")","v":""},null,11,{"$f":"IFERROR(IF(INDEX(Veri!$AK$31:$AK$500,MATCH(V20,Veri!$AS$31:$AS$500,0))<>\"\",INDEX(Veri!$AK$31:$AK$500,MATCH(V20,Veri!$AS$31:$AS$500,0)),\"\"),\"\")","v":""},{"$f":"IFERROR(IF(INDEX(Veri!$AQ$31:$AQ$500,MATCH(V20,Veri!$AS$31:$AS$500,0))<>\"\",INDEX(Veri!$AQ$31:$AQ$500,MATCH(V20,Veri!$AS$31:$AS$500,0)),\"\"),\"\")","v":""},{"$f":"IFERROR(IF(INDEX(Veri!$AM$31:$AM$500,MATCH(V20,Veri!$AS$31:$AS$500,0))<>\"\",INDEX(Veri!$AM$31:$AM$500,MATCH(V20,Veri!$AS$31:$AS$500,0)),\"\"),\"\")","v":""},{"$f":"IFERROR(IF(INDEX(Veri!$AN$31:$AN$500,MATCH(V20,Veri!$AS$31:$AS$500,0))<>\"\",INDEX(Veri!$AN$31:$AN$500,MATCH(V20,Veri!$AS$31:$AS$500,0)),\"\"),\"\")","v":""},{"$f":"IFERROR(IF(INDEX(Veri!$AO$31:$AO$500,MATCH(V20,Veri!$AS$31:$AS$500,0))<>\"\",INDEX(Veri!$AO$31:$AO$500,MATCH(V20,Veri!$AS$31:$AS$500,0)),\"\"),\"\")","v":""}]
[null,{"$f":"IF(INDEX(Veri!$B$68:$B$92,MATCH(\"League\",Veri!$B$68:$B$92,0)+14,1)<>\"\",INDEX(Veri!$B$68:$B$92,MATCH(\"League\",Veri!$B$68:$B$92,0)+14,1),\"\")","v":{"$error":"#N/A"}},{"$f":"IF(INDEX(Veri!D$68:$D$92,MATCH(\"League\",Veri!B$68:$B$92,0)+14,1)<>\"\",IF(COUNTIF(INDEX(Veri!D$68:$D$92,MATCH(\"League\",Veri!B$68:$B$92,0)+14,1),\"*\"&$B$3&\"*\"),$B$3,INDEX(Veri!D$68:$D$92,MATCH(\"League\",Veri!B$68:$B$92,0)+14,1)),\"\")","v":{"$error":"#N/A"}},{"$f":"IF(INDEX(Veri!H$68:$H$92,MATCH(\"League\",Veri!B$68:$B$92,0)+14,1)<>\"\",IF(COUNTIF(INDEX(Veri!H$68:$H$92,MATCH(\"League\",Veri!B$68:$B$92,0)+14,1),\"*\"&$B$3&\"*\"),$B$3,INDEX(Veri!H$68:$H$92,MATCH(\"League\",Veri!B$68:$B$92,0)+14,1)),\"\")","v":{"$error":"#N/A"}},{"$f":"IF(INDEX(Veri!F$68:$F$92,MATCH(\"League\",Veri!B$68:$B$92,0)+14,1)<>\"\",INDEX(Veri!F$68:$F$92,MATCH(\"League\",Veri!B$68:$B$92,0)+14,1),\"\")","v":{"$error":"#N/A"}},{"$f":"IF(INDEX(Veri!E$68:$E$92,MATCH(\"League\",Veri!B$68:$B$92,0)+14,1)<>\"\",INDEX(Veri!E$68:$E$92,MATCH(\"League\",Veri!B$68:$B$92,0)+14,1),\"\")","v":{"$error":"#N/A"}},{"$f":"IF(INDEX(Veri!B$94:$B$118,MATCH(\"League\",Veri!B$94:$B$118,0)+14,1)<>\"\",INDEX(Veri!B$94:$B$118,MATCH(\"League\",Veri!B$94:$B$118,0)+14,1),\"\")","v":{"$error":"#N/A"}},{"$f":"IF(INDEX(Veri!D$94:$D$118,MATCH(\"League\",Veri!B$94:$B$118,0)+14,1)<>\"\",IF(COUNTIF(INDEX(Veri!D$94:$D$118,MATCH(\"League\",Veri!B$94:$B$118,0)+14,1),\"*\"&$I$3&\"*\"),$I$3,INDEX(Veri!D$94:$D$118,MATCH(\"League\",Veri!B$94:$B$118,0)+14,1)),\"\")","v":{"$error":"#N/A"}},{"$f":"IF(INDEX(Veri!H$94:$H$118,MATCH(\"League\",Veri!B$94:$B$118,0)+14,1)<>\"\",IF(COUNTIF(INDEX(Veri!H$94:$H$118,MATCH(\"League\",Veri!B$94:$B$118,0)+14,1),\"*\"&$I$3&\"*\"),$I$3,INDEX(Veri!H$94:$H$118,MATCH(\"League\",Veri!B$94:$B$118,0)+14,1)),\"\")","v":{"$error":"#N/A"}},{"$f":"IF(INDEX(Veri!F$94:$F$118,MATCH(\"League\",Veri!B$94:$B$118,0)+14,1)<>\"\",INDEX(Veri!F$94:$F$118,MATCH(\"League\",Veri!B$94:$B$118,0)+14,1),\"\")","v":{"$error":"#N/A"}},{"$f":"IF(INDEX(Veri!E$94:$E$118,MATCH(\"League\",Veri!B$94:$B$118,0)+14,1)<>\"\",INDEX(Veri!E$94:$E$118,MATCH(\"League\",Veri!B$94:$B$118,0)+14,1),\"\")","v":{"$error":"#N/A"}},null,null,null,12,{"$f":"IFERROR(IF(INDEX(Veri!$AA$31:$AA$500,MATCH(O21,Veri!$AI$31:$AI$500,0))<>\"\",INDEX(Veri!$AA$31:$AA$500,MATCH(O21,Veri!$AI$31:$AI$500,0)),\"\"),\"\")","v":""},{"$f":"IFERROR(IF(INDEX(Veri!$AG$31:$AG$500,MATCH(O21,Veri!$AI$31:$AI$500,0))<>\"\",INDEX(Veri!$AG$31:$AG$500,MATCH(O21,Veri!$AI$31:$AI$500,0)),\"\"),\"\")","v":""},{"$f":"IFERROR(IF(INDEX(Veri!$AC$31:$AC$500,MATCH(O21,Veri!$AI$31:$AI$500,0))<>\"\",INDEX(Veri!$AC$31:$AC$500,MATCH(O21,Veri!$AI$31:$AI$500,0)),\"\"),\"\")","v":""},{"$f":"IFERROR(IF(INDEX(Veri!$AD$31:$AD$500,MATCH(O21,Veri!$AI$31:$AI$500,0))<>\"\",INDEX(Veri!$AD$31:$AD$500,MATCH(O21,Veri!$AI$31:$AI$500,0)),\"\"),\"\")","v":""},{"$f":"IFERROR(IF(INDEX(Veri!$AE$31:$AE$500,MATCH(O21,Veri!$AI$31:$AI$500,0))<>\"\",INDEX(Veri!$AE$31:$AE$500,MATCH(O21,Veri!$AI$31:$AI$500,0)),\"\"),\"\")","v":""},null,12,{"$f":"IFERROR(IF(INDEX(Veri!$AK$31:$AK$500,MATCH(V21,Veri!$AS$31:$AS$500,0))<>\"\",INDEX(Veri!$AK$31:$AK$500,MATCH(V21,Veri!$AS$31:$AS$500,0)),\"\"),\"\")","v":""},{"$f":"IFERROR(IF(INDEX(Veri!$AQ$31:$AQ$500,MATCH(V21,Veri!$AS$31:$AS$500,0))<>\"\",INDEX(Veri!$AQ$31:$AQ$500,MATCH(V21,Veri!$AS$31:$AS$500,0)),\"\"),\"\")","v":""},{"$f":"IFERROR(IF(INDEX(Veri!$AM$31:$AM$500,MATCH(V21,Veri!$AS$31:$AS$500,0))<>\"\",INDEX(Veri!$AM$31:$AM$500,MATCH(V21,Veri!$AS$31:$AS$500,0)),\"\"),\"\")","v":""},{"$f":"IFERROR(IF(INDEX(Veri!$AN$31:$AN$500,MATCH(V21,Veri!$AS$31:$AS$500,0))<>\"\",INDEX(Veri!$AN$31:$AN$500,MATCH(V21,Veri!$AS$31:$AS$500,0)),\"\"),\"\")","v":""},{"$f":"IFERROR(IF(INDEX(Veri!$AO$31:$AO$500,MATCH(V21,Veri!$AS$31:$AS$500,0))<>\"\",INDEX(Veri!$AO$31:$AO$500,MATCH(V21,Veri!$AS$31:$AS$500,0)),\"\"),\"\")","v":""}]
[null,{"$f":"IF(INDEX(Veri!$B$68:$B$92,MATCH(\"League\",Veri!$B$68:$B$92,0)+15,1)<>\"\",INDEX(Veri!$B$68:$B$92,MATCH(\"League\",Veri!$B$68:$B$92,0)+15,1),\"\")","v":{"$error":"#N/A"}},{"$f":"IF(INDEX(Veri!D$68:$D$92,MATCH(\"League\",Veri!B$68:$B$92,0)+15,1)<>\"\",IF(COUNTIF(INDEX(Veri!D$68:$D$92,MATCH(\"League\",Veri!B$68:$B$92,0)+15,1),\"*\"&$B$3&\"*\"),$B$3,INDEX(Veri!D$68:$D$92,MATCH(\"League\",Veri!B$68:$B$92,0)+15,1)),\"\")","v":{"$error":"#N/A"}},{"$f":"IF(INDEX(Veri!H$68:$H$92,MATCH(\"League\",Veri!B$68:$B$92,0)+15,1)<>\"\",IF(COUNTIF(INDEX(Veri!H$68:$H$92,MATCH(\"League\",Veri!B$68:$B$92,0)+15,1),\"*\"&$B$3&\"*\"),$B$3,INDEX(Veri!H$68:$H$92,MATCH(\"League\",Veri!B$68:$B$92,0)+15,1)),\"\")","v":{"$error":"#N/A"}},{"$f":"IF(INDEX(Veri!F$68:$F$92,MATCH(\"League\",Veri!B$68:$B$92,0)+15,1)<>\"\",INDEX(Veri!F$68:$F$92,MATCH(\"League\",Veri!B$68:$B$92,0)+15,1),\"\")","v":{"$error":"#N/A"}},{"$f":"IF(INDEX(Veri!E$68:$E$92,MATCH(\"League\",Veri!B$68:$B$92,0)+15,1)<>\"\",INDEX(Veri!E$68:$E$92,MATCH(\"League\",Veri!B$68:$B$92,0)+15,1),\"\")","v":{"$error":"#N/A"}},{"$f":"IF(INDEX(Veri!B$94:$B$118,MATCH(\"League\",Veri!B$94:$B$118,0)+15,1)<>\"\",INDEX(Veri!B$94:$B$118,MATCH(\"League\",Veri!B$94:$B$118,0)+15,1),\"\")","v":{"$error":"#N/A"}},{"$f":"IF(INDEX(Veri!D$94:$D$118,MATCH(\"League\",Veri!B$94:$B$118,0)+15,1)<>\"\",IF(COUNTIF(INDEX(Veri!D$94:$D$118,MATCH(\"League\",Veri!B$94:$B$118,0)+15,1),\"*\"&$I$3&\"*\"),$I$3,INDEX(Veri!D$94:$D$118,MATCH(\"League\",Veri!B$94:$B$118,0)+15,1)),\"\")","v":{"$error":"#N/A"}},{"$f":"IF(INDEX(Veri!H$94:$H$118,MATCH(\"League\",Veri!B$94:$B$118,0)+15,1)<>\"\",IF(COUNTIF(INDEX(Veri!H$94:$H$118,MATCH(\"League\",Veri!B$94:$B$118,0)+15,1),\"*\"&$I$3&\"*\"),$I$3,INDEX(Veri!H$94:$H$118,MATCH(\"League\",Veri!B$94:$B$118,0)+15,1)),\"\")","v":{"$error":"#N/A"}},{"$f":"IF(INDEX(Veri!F$94:$F$118,MATCH(\"League\",Veri!B$94:$B$118,0)+15,1)<>\"\",INDEX(Veri!F$94:$F$118,MATCH(\"League\",Veri!B$94:$B$118,0)+15,1),\"\")","v":{"$error":"#N/A"}},{"$f":"IF(INDEX(Veri!E$94:$E$118,MATCH(\"League\",Veri!B$94:$B$118,0)+15,1)<>\"\",INDEX(Veri!E$94:$E$118,MATCH(\"League\",Veri!B$94:$B$118,0)+15,1),\"\")","v":{"$error":"#N/A"}},null,null,null,13,{"$f":"IFERROR(IF(INDEX(Veri!$AA$31:$AA$500,MATCH(O22,Veri!$AI$31:$AI$500,0))<>\"\",INDEX(Veri!$AA$31:$AA$500,MATCH(O22,Veri!$AI$31:$AI$500,0)),\"\"),\"\")","v":""},{"$f":"IFERROR(IF(INDEX(Veri!$AG$31:$AG$500,MATCH(O22,Veri!$AI$31:$AI$500,0))<>\"\",INDEX(Veri!$AG$31:$AG$500,MATCH(O22,Veri!$AI$31:$AI$500,0)),\"\"),\"\")","v":""},{"$f":"IFERROR(IF(INDEX(Veri!$AC$31:$AC$500,MATCH(O22,Veri!$AI$31:$AI$500,0))<>\"\",INDEX(Veri!$AC$31:$AC$500,MATCH(O22,Veri!$AI$31:$AI$500,0)),\"\"),\"\")","v":""},{"$f":"IFERROR(IF(INDEX(Veri!$AD$31:$AD$500,MATCH(O22,Veri!$AI$31:$AI$500,0))<>\"\",INDEX(Veri!$AD$31:$AD$500,MATCH(O22,Veri!$AI$31:$AI$500,0)),\"\"),\"\")","v":""},{"$f":"IFERROR(IF(INDEX(Veri!$AE$31:$AE$500,MATCH(O22,Veri!$AI$31:$AI$500,0))<>\"\",INDEX(Veri!$AE$31:$AE$500,MATCH(O22,Veri!$AI$31:$AI$500,0)),\"\"),\"\")","v":""},null,13,{"$f":"IFERROR(IF(INDEX(Veri!$AK$31:$AK$500,MATCH(V22,Veri!$AS$31:$AS$500,0))<>\"\",INDEX(Veri!$AK$31:$AK$500,MATCH(V22,Veri!$AS$31:$AS$500,0)),\"\"),\"\")","v":""},{"$f":"IFERROR(IF(INDEX(Veri!$AQ$31:$AQ$500,MATCH(V22,Veri!$AS$31:$AS$500,0))<>\"\",INDEX(Veri!$AQ$31:$AQ$500,MATCH(V22,Veri!$AS$31:$AS$500,0)),\"\"),\"\")","v":""},{"$f":"IFERROR(IF(INDEX(Veri!$AM$31:$AM$500,MATCH(V22,Veri!$AS$31:$AS$500,0))<>\"\",INDEX(Veri!$AM$31:$AM$500,MATCH(V22,Veri!$AS$31:$AS$500,0)),\"\"),\"\")","v":""},{"$f":"IFERROR(IF(INDEX(Veri!$AN$31:$AN$500,MATCH(V22,Veri!$AS$31:$AS$500,0))<>\"\",INDEX(Veri!$AN$31:$AN$500,MATCH(V22,Veri!$AS$31:$AS$500,0)),\"\"),\"\")","v":""},{"$f":"IFERROR(IF(INDEX(Veri!$AO$31:$AO$500,MATCH(V22,Veri!$AS$31:$AS$500,0))<>\"\",INDEX(Veri!$AO$31:$AO$500,MATCH(V22,Veri!$AS$31:$AS$500,0)),\"\"),\"\")","v":""}]
[null,{"$f":"IF(INDEX(Veri!$B$68:$B$92,MATCH(\"League\",Veri!$B$68:$B$92,0)+16,1)<>\"\",INDEX(Veri!$B$68:$B$92,MATCH(\"League\",Veri!$B$68:$B$92,0)+16,1),\"\")","v":{"$error":"#N/A"}},{"$f":"IF(INDEX(Veri!D$68:$D$92,MATCH(\"League\",Veri!B$68:$B$92,0)+16,1)<>\"\",IF(COUNTIF(INDEX(Veri!D$68:$D$92,MATCH(\"League\",Veri!B$68:$B$92,0)+16,1),\"*\"&$B$3&\"*\"),$B$3,INDEX(Veri!D$68:$D$92,MATCH(\"League\",Veri!B$68:$B$92,0)+16,1)),\"\")","v":{"$error":"#N/A"}},{"$f":"IF(INDEX(Veri!H$68:$H$92,MATCH(\"League\",Veri!B$68:$B$92,0)+16,1)<>\"\",IF(COUNTIF(INDEX(Veri!H$68:$H$92,MATCH(\"League\",Veri!B$68:$B$92,0)+16,1),\"*\"&$B$3&\"*\"),$B$3,INDEX(Veri!H$68:$H$92,MATCH(\"League\",Veri!B$68:$B$92,0)+16,1)),\"\")","v":{"$error":"#N/A"}},{"$f":"IF(INDEX(Veri!F$68:$F$92,MATCH(\"League\",Veri!B$68:$B$92,0)+16,1)<>\"\",INDEX(Veri!F$68:$F$92,MATCH(\"League\",Veri!B$68:$B$92,0)+16,1),\"\")","v":{"$error":"#N/A"}},{"$f":"IF(INDEX(Veri!E$68:$E$92,MATCH(\"League\",Veri!B$68:$B$92,0)+16,1)<>\"\",INDEX(Veri!E$68:$E$92,MATCH(\"League\",Veri!B$68:$B$92,0)+16,1),\"\")","v":{"$error":"#N/A"}},{"$f":"IF(INDEX(Veri!B$94:$B$118,MATCH(\"League\",Veri!B$94:$B$118,0)+16,1)<>\"\",INDEX(Veri!B$94:$B$118,MATCH(\"League\",Veri!B$94:$B$118,0)+16,1),\"\")","v":{"$error":"#N/A"}},{"$f":"IF(INDEX(Veri!D$94:$D$118,MATCH(\"League\",Veri!B$94:$B$118,0)+16,1)<>\"\",IF(COUNTIF(INDEX(Veri!D$94:$D$118,MATCH(\"League\",Veri!B$94:$B$118,0)+16,1),\"*\"&$I$3&\"*\"),$I$3,INDEX(Veri!D$94:$D$118,MATCH(\"League\",Veri!B$94:$B$118,0)+16,1)),\"\")","v":{"$error":"#N/A"}},{"$f":"IF(INDEX(Veri!H$94:$H$118,MATCH(\"League\",Veri!B$94:$B$118,0)+16,1)<>\"\",IF(COUNTIF(INDEX(Veri!H$94:$H$118,MATCH(\"League\",Veri!B$94:$B$118,0)+16,1),\"*\"&$I$3&\"*\"),$I$3,INDEX(Veri!H$94:$H$118,MATCH(\"League\",Veri!B$94:$B$118,0)+16,1)),\"\")","v":{"$error":"#N/A"}},{"$f":"IF(INDEX(Veri!F$94:$F$118,MATCH(\"League\",Veri!B$94:$B$118,0)+16,1)<>\"\",INDEX(Veri!F$94:$F$118,MATCH(\"League\",Veri!B$94:$B$118,0)+16,1),\"\")","v":{"$error":"#N/A"}},{"$f":"IF(INDEX(Veri!E$94:$E$118,MATCH(\"League\",Veri!B$94:$B$118,0)+16,1)<>\"\",INDEX(Veri!E$94:$E$118,MATCH(\"League\",Veri!B$94:$B$118,0)+16,1),\"\")","v":{"$error":"#N/A"}},null,null,null,14,{"$f":"IFERROR(IF(INDEX(Veri!$AA$31:$AA$500,MATCH(O23,Veri!$AI$31:$AI$500,0))<>\"\",INDEX(Veri!$AA$31:$AA$500,MATCH(O23,Veri!$AI$31:$AI$500,0)),\"\"),\"\")","v":""},{"$f":"IFERROR(IF(INDEX(Veri!$AG$31:$AG$500,MATCH(O23,Veri!$AI$31:$AI$500,0))<>\"\",INDEX(Veri!$AG$31:$AG$500,MATCH(O23,Veri!$AI$31:$AI$500,0)),\"\"),\"\")","v":""},{"$f":"IFERROR(IF(INDEX(Veri!$AC$31:$AC$500,MATCH(O23,Veri!$AI$31:$AI$500,0))<>\"\",INDEX(Veri!$AC$31:$AC$500,MATCH(O23,Veri!$AI$31:$AI$500,0)),\"\"),\"\")","v":""},{"$f":"IFERROR(IF(INDEX(Veri!$AD$31:$AD$500,MATCH(O23,Veri!$AI$31:$AI$500,0))<>\"\",INDEX(Veri!$AD$31:$AD$500,MATCH(O23,Veri!$AI$31:$AI$500,0)),\"\"),\"\")","v":""},{"$f":"IFERROR(IF(INDEX(Veri!$AE$31:$AE$500,MATCH(O23,Veri!$AI$31:$AI$500,0))<>\"\",INDEX(Veri!$AE$31:$AE$500,MATCH(O23,Veri!$AI$31:$AI$500,0)),\"\"),\"\")","v":""},null,14,{"$f":"IFERROR(IF(INDEX(Veri!$AK$31:$AK$500,MATCH(V23,Veri!$AS$31:$AS$500,0))<>\"\",INDEX(Veri!$AK$31:$AK$500,MATCH(V23,Veri!$AS$31:$AS$500,0)),\"\"),\"\")","v":""},{"$f":"IFERROR(IF(INDEX(Veri!$AQ$31:$AQ$500,MATCH(V23,Veri!$AS$31:$AS$500,0))<>\"\",INDEX(Veri!$AQ$31:$AQ$500,MATCH(V23,Veri!$AS$31:$AS$500,0)),\"\"),\"\")","v":""},{"$f":"IFERROR(IF(INDEX(Veri!$AM$31:$AM$500,MATCH(V23,Veri!$AS$31:$AS$500,0))<>\"\",INDEX(Veri!$AM$31:$AM$500,MATCH(V23,Veri!$AS$31:$AS$500,0)),\"\"),\"\")","v":""},{"$f":"IFERROR(IF(INDEX(Veri!$AN$31:$AN$500,MATCH(V23,Veri!$AS$31:$AS$500,0))<>\"\",INDEX(Veri!$AN$31:$AN$500,MATCH(V23,Veri!$AS$31:$AS$500,0)),\"\"),\"\")","v":""},{"$f":"IFERROR(IF(INDEX(Veri!$AO$31:$AO$500,MATCH(V23,Veri!$AS$31:$AS$500,0))<>\"\",INDEX(Veri!$AO$31:$AO$500,MATCH(V23,Veri!$AS$31:$AS$500,0)),\"\"),\"\")","v":""}]
[null,{"$f":"IF(INDEX(Veri!$B$68:$B$92,MATCH(\"League\",Veri!$B$68:$B$92,0)+17,1)<>\"\",INDEX(Veri!$B$68:$B$92,MATCH(\"League\",Veri!$B$68:$B$92,0)+17,1),\"\")","v":{"$error":"#N/A"}},{"$f":"IF(INDEX(Veri!D$68:$D$92,MATCH(\"League\",Veri!B$68:$B$92,0)+17,1)<>\"\",IF(COUNTIF(INDEX(Veri!D$68:$D$92,MATCH(\"League\",Veri!B$68:$B$92,0)+17,1),\"*\"&$B$3&\"*\"),$B$3,INDEX(Veri!D$68:$D$92,MATCH(\"League\",Veri!B$68:$B$92,0)+17,1)),\"\")","v":{"$error":"#N/A"}},{"$f":"IF(INDEX(Veri!H$68:$H$92,MATCH(\"League\",Veri!B$68:$B$92,0)+17,1)<>\"\",IF(COUNTIF(INDEX(Veri!H$68:$H$92,MATCH(\"League\",Veri!B$68:$B$92,0)+17,1),\"*\"&$B$3&\"*\"),$B$3,INDEX(Veri!H$68:$H$92,MATCH(\"League\",Veri!B$68:$B$92,0)+17,1)),\"\")","v":{"$error":"#N/A"}},{"$f":"IF(INDEX(Veri!F$68:$F$92,MATCH(\"League\",Veri!B$68:$B$92,0)+17,1)<>\"\",INDEX(Veri!F$68:$F$92,MATCH(\"League\",Veri!B$68:$B$92,0)+17,1),\"\")","v":{"$error":"#N/A"}},{"$f":"IF(INDEX(Veri!E$68:$E$92,MATCH(\"League\",Veri!B$68:$B$92,0)+17,1)<>\"\",INDEX(Veri!E$68:$E$92,MATCH(\"League\",Veri!B$68:$B$92,0)+17,1),\"\")","v":{"$error":"#N/A"}},{"$f":"IF(INDEX(Veri!B$94:$B$118,MATCH(\"League\",Veri!B$94:$B$118,0)+17,1)<>\"\",INDEX(Veri!B$94:$B$118,MATCH(\"League\",Veri!B$94:$B$118,0)+17,1),\"\")","v":{"$error":"#N/A"}},{"$f":"IF(INDEX(Veri!D$94:$D$118,MATCH(\"League\",Veri!B$94:$B$118,0)+17,1)<>\"\",IF(COUNTIF(INDEX(Veri!D$94:$D$118,MATCH(\"League\",Veri!B$94:$B$118,0)+17,1),\"*\"&$I$3&\"*\"),$I$3,INDEX(Veri!D$94:$D$118,MATCH(\"League\",Veri!B$94:$B$118,0)+17,1)),\"\")","v":{"$error":"#N/A"}},{"$f":"IF(INDEX(Veri!H$94:$H$118,MATCH(\"League\",Veri!B$94:$B$118,0)+17,1)<>\"\",IF(COUNTIF(INDEX(Veri!H$94:$H$118,MATCH(\"League\",Veri!B$94:$B$118,0)+17,1),\"*\"&$I$3&\"*\"),$I$3,INDEX(Veri!H$94:$H$118,MATCH(\"League\",Veri!B$94:$B$118,0)+17,1)),\"\")","v":{"$error":"#N/A"}},{"$f":"IF(INDEX(Veri!F$94:$F$118,MATCH(\"League\",Veri!B$94:$B$118,0)+17,1)<>\"\",INDEX(Veri!F$94:$F$118,MATCH(\"League\",Veri!B$94:$B$118,0)+17,1),\"\")","v":{"$error":"#N/A"}},{"$f":"IF(INDEX(Veri!E$94:$E$118,MATCH(\"League\",Veri!B$94:$B$118,0)+17,1)<>\"\",INDEX(Veri!E$94:$E$118,MATCH(\"League\",Veri!B$94:$B$118,0)+17,1),\"\")","v":{"$error":"#N/A"}},null,null,null,15,{"$f":"IFERROR(IF(INDEX(Veri!$AA$31:$AA$500,MATCH(O24,Veri!$AI$31:$AI$500,0))<>\"\",INDEX(Veri!$AA$31:$AA$500,MATCH(O24,Veri!$AI$31:$AI$500,0)),\"\"),\"\")","v":""},{"$f":"IFERROR(IF(INDEX(Veri!$AG$31:$AG$500,MATCH(O24,Veri!$AI$31:$AI$500,0))<>\"\",INDEX(Veri!$AG$31:$AG$500,MATCH(O24,Veri!$AI$31:$AI$500,0)),\"\"),\"\")","v":""},{"$f":"IFERROR(IF(INDEX(Veri!$AC$31:$AC$500,MATCH(O24,Veri!$AI$31:$AI$500,0))<>\"\",INDEX(Veri!$AC$31:$AC$500,MATCH(O24,Veri!$AI$31:$AI$500,0)),\"\"),\"\")","v":""},{"$f":"IFERROR(IF(INDEX(Veri!$AD$31:$AD$500,MATCH(O24,Veri!$AI$31:$AI$500,0))<>\"\",INDEX(Veri!$AD$31:$AD$500,MATCH(O24,Veri!$AI$31:$AI$500,0)),\"\"),\"\")","v":""},{"$f":"IFERROR(IF(INDEX(Veri!$AE$31:$AE$500,MATCH(O24,Veri!$AI$31:$AI$500,0))<>\"\",INDEX(Veri!$AE$31:$AE$500,MATCH(O24,Veri!$AI$31:$AI$500,0)),\"\"),\"\")","v":""},null,15,{"$f":"IFERROR(IF(INDEX(Veri!$AK$31:$AK$500,MATCH(V24,Veri!$AS$31:$AS$500,0))<>\"\",INDEX(Veri!$AK$31:$AK$500,MATCH(V24,Veri!$AS$31:$AS$500,0)),\"\"),\"\")","v":""},{"$f":"IFERROR(IF(INDEX(Veri!$AQ$31:$AQ$500,MATCH(V24,Veri!$AS$31:$AS$500,0))<>\"\",INDEX(Veri!$AQ$31:$AQ$500,MATCH(V24,Veri!$AS$31:$AS$500,0)),\"\"),\"\")","v":""},{"$f":"IFERROR(IF(INDEX(Veri!$AM$31:$AM$500,MATCH(V24,Veri!$AS$31:$AS$500,0))<>\"\",INDEX(Veri!$AM$31:$AM$500,MATCH(V24,Veri!$AS$31:$AS$500,0)),\"\"),\"\")","v":""},{"$f":"IFERROR(IF(INDEX(Veri!$AN$31:$AN$500,MATCH(V24,Veri!$AS$31:$AS$500,0))<>\"\",INDEX(Veri!$AN$31:$AN$500,MATCH(V24,Veri!$AS$31:$AS$500,0)),\"\"),\"\")","v":""},{"$f":"IFERROR(IF(INDEX(Veri!$AO$31:$AO$500,MATCH(V24,Veri!$AS$31:$AS$500,0))<>\"\",INDEX(Veri!$AO$31:$AO$500,MATCH(V24,Veri!$AS$31:$AS$500,0)),\"\"),\"\")","v":""}]
[null,{"$f":"IF(INDEX(Veri!$B$68:$B$92,MATCH(\"League\",Veri!$B$68:$B$92,0)+18,1)<>\"\",INDEX(Veri!$B$68:$B$92,MATCH(\"League\",Veri!$B$68:$B$92,0)+18,1),\"\")","v":{"$error":"#N/A"}},{"$f":"IF(INDEX(Veri!D$68:$D$92,MATCH(\"League\",Veri!B$68:$B$92,0)+18,1)<>\"\",IF(COUNTIF(INDEX(Veri!D$68:$D$92,MATCH(\"League\",Veri!B$68:$B$92,0)+18,1),\"*\"&$B$3&\"*\"),$B$3,INDEX(Veri!D$68:$D$92,MATCH(\"League\",Veri!B$68:$B$92,0)+18,1)),\"\")","v":{"$error":"#N/A"}},{"$f":"IF(INDEX(Veri!H$68:$H$92,MATCH(\"League\",Veri!B$68:$B$92,0)+18,1)<>\"\",IF(COUNTIF(INDEX(Veri!H$68:$H$92,MATCH(\"League\",Veri!B$68:$B$92,0)+18,1),\"*\"&$B$3&\"*\"),$B$3,INDEX(Veri!H$68:$H$92,MATCH(\"League\",Veri!B$68:$B$92,0)+18,1)),\"\")","v":{"$error":"#N/A"}},{"$f":"IF(INDEX(Veri!F$68:$F$92,MATCH(\"League\",Veri!B$68:$B$92,0)+18,1)<>\"\",INDEX(Veri!F$68:$F$92,MATCH(\"League\",Veri!B$68:$B$92,0)+18,1),\"\")","v":{"$error":"#N/A"}},{"$f":"IF(INDEX(Veri!E$68:$E$92,MATCH(\"League\",Veri!B$68:$B$92,0)+18,1)<>\"\",INDEX(Veri!E$68:$E$92,MATCH(\"League\",Veri!B$68:$B$92,0)+18,1),\"\")","v":{"$error":"#N/A"}},{"$f":"IF(INDEX(Veri!B$94:$B$118,MATCH(\"League\",Veri!B$94:$B$118,0)+18,1)<>\"\",INDEX(Veri!B$94:$B$118,MATCH(\"League\",Veri!B$94:$B$118,0)+18,1),\"\")","v":{"$error":"#N/A"}},{"$f":"IF(INDEX(Veri!D$94:$D$118,MATCH(\"League\",Veri!B$94:$B$118,0)+18,1)<>\"\",IF(COUNTIF(INDEX(Veri!D$94:$D$118,MATCH(\"League\",Veri!B$94:$B$118,0)+18,1),\"*\"&$I$3&\"*\"),$I$3,INDEX(Veri!D$94:$D$118,MATCH(\"League\",Veri!B$94:$B$118,0)+18,1)),\"\")","v":{"$error":"#N/A"}},{"$f":"IF(INDEX(Veri!H$94:$H$118,MATCH(\"League\",Veri!B$94:$B$118,0)+18,1)<>\"\",IF(COUNTIF(INDEX(Veri!H$94:$H$118,MATCH(\"League\",Veri!B$94:$B$118,0)+18,1),\"*\"&$I$3&\"*\"),$I$3,INDEX(Veri!H$94:$H$118,MATCH(\"League\",Veri!B$94:$B$118,0)+18,1)),\"\")","v":{"$error":"#N/A"}},{"$f":"IF(INDEX(Veri!F$94:$F$118,MATCH(\"League\",Veri!B$94:$B$118,0)+18,1)<>\"\",INDEX(Veri!F$94:$F$118,MATCH(\"League\",Veri!B$94:$B$118,0)+18,1),\"\")","v":{"$error":"#N/A"}},{"$f":"IF(INDEX(Veri!E$94:$E$118,MATCH(\"League\",Veri!B$94:$B$118,0)+18,1)<>\"\",INDEX(Veri!E$94:$E$118,MATCH(\"League\",Veri!B$94:$B$118,0)+18,1),\"\")","v":{"$error":"#N/A"}},null,null,null,16,{"$f":"IFERROR(IF(INDEX(Veri!$AA$31:$AA$500,MATCH(O25,Veri!$AI$31:$AI$500,0))<>\"\",INDEX(Veri!$AA$31:$AA$500,MATCH(O25,Veri!$AI$31:$AI$500,0)),\"\"),\"\")","v":""},{"$f":"IFERROR(IF(INDEX(Veri!$AG$31:$AG$500,MATCH(O25,Veri!$AI$31:$AI$500,0))<>\"\",INDEX(Veri!$AG$31:$AG$500,MATCH(O25,Veri!$AI$31:$AI$500,0)),\"\"),\"\")","v":""},{"$f":"IFERROR(IF(INDEX(Veri!$AC$31:$AC$500,MATCH(O25,Veri!$AI$31:$AI$500,0))<>\"\",INDEX(Veri!$AC$31:$AC$500,MATCH(O25,Veri!$AI$31:$AI$500,0)),\"\"),\"\")","v":""},{"$f":"IFERROR(IF(INDEX(Veri!$AD$31:$AD$500,MATCH(O25,Veri!$AI$31:$AI$500,0))<>\"\",INDEX(Veri!$AD$31:$AD$500,MATCH(O25,Veri!$AI$31:$AI$500,0)),\"\"),\"\")","v":""},{"$f":"IFERROR(IF(INDEX(Veri!$AE$31:$AE$500,MATCH(O25,Veri!$AI$31:$AI$500,0))<>\"\",INDEX(Veri!$AE$31:$AE$500,MATCH(O25,Veri!$AI$31:$AI$500,0)),\"\"),\"\")","v":""},null,16,{"$f":"IFERROR(IF(INDEX(Veri!$AK$31:$AK$500,MATCH(V25,Veri!$AS$31:$AS$500,0))<>\"\",INDEX(Veri!$AK$31:$AK$500,MATCH(V25,Veri!$AS$31:$AS$500,0)),\"\"),\"\")","v":""},{"$f":"IFERROR(IF(INDEX(Veri!$AQ$31:$AQ$500,MATCH(V25,Veri!$AS$31:$AS$500,0))<>\"\",INDEX(Veri!$AQ$31:$AQ$500,MATCH(V25,Veri!$AS$31:$AS$500,0)),\"\"),\"\")","v":""},{"$f":"IFERROR(IF(INDEX(Veri!$AM$31:$AM$500,MATCH(V25,Veri!$AS$31:$AS$500,0))<>\"\",INDEX(Veri!$AM$31:$AM$500,MATCH(V25,Veri!$AS$31:$AS$500,0)),\"\"),\"\")","v":""},{"$f":"IFERROR(IF(INDEX(Veri!$AN$31:$AN$500,MATCH(V25,Veri!$AS$31:$AS$500,0))<>\"\",INDEX(Veri!$AN$31:$AN$500,MATCH(V25,Veri!$AS$31:$AS$500,0)),\"\"),\"\")","v":""},{"$f":"IFERROR(IF(INDEX(Veri!$AO$31:$AO$500,MATCH(V25,Veri!$AS$31:$AS$500,0))<>\"\",INDEX(Veri!$AO$31:$AO$500,MATCH(V25,Veri!$AS$31:$AS$500,0)),\"\"),\"\")","v":""}]
[null,{"$f":"IF(INDEX(Veri!$B$68:$B$92,MATCH(\"League\",Veri!$B$68:$B$92,0)+19,1)<>\"\",INDEX(Veri!$B$68:$B$92,MATCH(\"League\",Veri!$B$68:$B$92,0)+19,1),\"\")","v":{"$error":"#N/A"}},{"$f":"IF(INDEX(Veri!D$68:$D$92,MATCH(\"League\",Veri!B$68:$B$92,0)+19,1)<>\"\",IF(COUNTIF(INDEX(Veri!D$68:$D$92,MATCH(\"League\",Veri!B$68:$B$92,0)+19,1),\"*\"&$B$3&\"*\"),$B$3,INDEX(Veri!D$68:$D$92,MATCH(\"League\",Veri!B$68:$B$92,0)+19,1)),\"\")","v":{"$error":"#N/A"}},{"$f":"IF(INDEX(Veri!H$68:$H$92,MATCH(\"League\",Veri!B$68:$B$92,0)+19,1)<>\"\",IF(COUNTIF(INDEX(Veri!H$68:$H$92,MATCH(\"League\",Veri!B$68:$B$92,0)+19,1),\"*\"&$B$3&\"*\"),$B$3,INDEX(Veri!H$68:$H$92,MATCH(\"League\",Veri!B$68:$B$92,0)+19,1)),\"\")","v":{"$error":"#N/A"}},{"$f":"IF(INDEX(Veri!F$68:$F$92,MATCH(\"League\",Veri!B$68:$B$92,0)+19,1)<>\"\",INDEX(Veri!F$68:$F$92,MATCH(\"League\",Veri!B$68:$B$92,0)+19,1),\"\")","v":{"$error":"#N/A"}},{"$f":"IF(INDEX(Veri!E$68:$E$92,MATCH(\"League\",Veri!B$68:$B$92,0)+19,1)<>\"\",INDEX(Veri!E$68:$E$92,MATCH(\"League\",Veri!B$68:$B$92,0)+19,1),\"\")","v":{"$error":"#N/A"}},{"$f":"IF(INDEX(Veri!B$94:$B$118,MATCH(\"League\",Veri!B$94:$B$118,0)+19,1)<>\"\",INDEX(Veri!B$94:$B$118,MATCH(\"League\",Veri!B$94:$B$118,0)+19,1),\"\")","v":{"$error":"#N/A"}},{"$f":"IF(INDEX(Veri!D$94:$D$118,MATCH(\"League\",Veri!B$94:$B$118,0)+19,1)<>\"\",IF(COUNTIF(INDEX(Veri!D$94:$D$118,MATCH(\"League\",Veri!B$94:$B$118,0)+19,1),\"*\"&$I$3&\"*\"),$I$3,INDEX(Veri!D$94:$D$118,MATCH(\"League\",Veri!B$94:$B$118,0)+19,1)),\"\")","v":{"$error":"#N/A"}},{"$f":"IF(INDEX(Veri!H$94:$H$118,MATCH(\"League\",Veri!B$94:$B$118,0)+19,1)<>\"\",IF(COUNTIF(INDEX(Veri!H$94:$H$118,MATCH(\"League\",Veri!B$94:$B$118,0)+19,1),\"*\"&$I$3&\"*\"),$I$3,INDEX(Veri!H$94:$H$118,MATCH(\"League\",Veri!B$94:$B$118,0)+19,1)),\"\")","v":{"$error":"#N/A"}},{"$f":"IF(INDEX(Veri!F$94:$F$118,MATCH(\"League\",Veri!B$94:$B$118,0)+19,1)<>\"\",INDEX(Veri!F$94:$F$118,MATCH(\"League\",Veri!B$94:$B$118,0)+19,1),\"\")","v":{"$error":"#N/A"}},{"$f":"IF(INDEX(Veri!E$94:$E$118,MATCH(\"League\",Veri!B$94:$B$118,0)+19,1)<>\"\",INDEX(Veri!E$94:$E$118,MATCH(\"League\",Veri!B$94:$B$118,0)+19,1),\"\")","v":{"$error":"#N/A"}},null,null,null,17,{"$f":"IFERROR(IF(INDEX(Veri!$AA$31:$AA$500,MATCH(O26,Veri!$AI$31:$AI$500,0))<>\"\",INDEX(Veri!$AA$31:$AA$500,MATCH(O26,Veri!$AI$31:$AI$500,0)),\"\"),\"\")","v":""},{"$f":"IFERROR(IF(INDEX(Veri!$AG$31:$AG$500,MATCH(O26,Veri!$AI$31:$AI$500,0))<>\"\",INDEX(Veri!$AG$31:$AG$500,MATCH(O26,Veri!$AI$31:$AI$500,0)),\"\"),\"\")","v":""},{"$f":"IFERROR(IF(INDEX(Veri!$AC$31:$AC$500,MATCH(O26,Veri!$AI$31:$AI$500,0))<>\"\",INDEX(Veri!$AC$31:$AC$500,MATCH(O26,Veri!$AI$31:$AI$500,0)),\"\"),\"\")","v":""},{"$f":"IFERROR(IF(INDEX(Veri!$AD$31:$AD$500,MATCH(O26,Veri!$AI$31:$AI$500,0))<>\"\",INDEX(Veri!$AD$31:$AD$500,MATCH(O26,Veri!$AI$31:$AI$500,0)),\"\"),\"\")","v":""},{"$f":"IFERROR(IF(INDEX(Veri!$AE$31:$AE$500,MATCH(O26,Veri!$AI$31:$AI$500,0))<>\"\",INDEX(Veri!$AE$31:$AE$500,MATCH(O26,Veri!$AI$31:$AI$500,0)),\"\"),\"\")","v":""},null,17,{"$f":"IFERROR(IF(INDEX(Veri!$AK$31:$AK$500,MATCH(V26,Veri!$AS$31:$AS$500,0))<>\"\",INDEX(Veri!$AK$31:$AK$500,MATCH(V26,Veri!$AS$31:$AS$500,0)),\"\"),\"\")","v":""},{"$f":"IFERROR(IF(INDEX(Veri!$AQ$31:$AQ$500,MATCH(V26,Veri!$AS$31:$AS$500,0))<>\"\",INDEX(Veri!$AQ$31:$AQ$500,MATCH(V26,Veri!$AS$31:$AS$500,0)),\"\"),\"\")","v":""},{"$f":"IFERROR(IF(INDEX(Veri!$AM$31:$AM$500,MATCH(V26,Veri!$AS$31:$AS$500,0))<>\"\",INDEX(Veri!$AM$31:$AM$500,MATCH(V26,Veri!$AS$31:$AS$500,0)),\"\"),\"\")","v":""},{"$f":"IFERROR(IF(INDEX(Veri!$AN$31:$AN$500,MATCH(V26,Veri!$AS$31:$AS$500,0))<>\"\",INDEX(Veri!$AN$31:$AN$500,MATCH(V26,Veri!$AS$31:$AS$500,0)),\"\"),\"\")","v":""},{"$f":"IFERROR(IF(INDEX(Veri!$AO$31:$AO$500,MATCH(V26,Veri!$AS$31:$AS$500,0))<>\"\",INDEX(Veri!$AO$31:$AO$500,MATCH(V26,Veri!$AS$31:$AS$500,0)),\"\"),\"\")","v":""}]
[null,{"$f":"IF(INDEX(Veri!$B$68:$B$92,MATCH(\"League\",Veri!$B$68:$B$92,0)+20,1)<>\"\",INDEX(Veri!$B$68:$B$92,MATCH(\"League\",Veri!$B$68:$B$92,0)+20,1),\"\")","v":{"$error":"#N/A"}},{"$f":"IF(INDEX(Veri!D$68:$D$92,MATCH(\"League\",Veri!B$68:$B$92,0)+20,1)<>\"\",IF(COUNTIF(INDEX(Veri!D$68:$D$92,MATCH(\"League\",Veri!B$68:$B$92,0)+20,1),\"*\"&$B$3&\"*\"),$B$3,INDEX(Veri!D$68:$D$92,MATCH(\"League\",Veri!B$68:$B$92,0)+20,1)),\"\")","v":{"$error":"#N/A"}},{"$f":"IF(INDEX(Veri!H$68:$H$92,MATCH(\"League\",Veri!B$68:$B$92,0)+20,1)<>\"\",IF(COUNTIF(INDEX(Veri!H$68:$H$92,MATCH(\"League\",Veri!B$68:$B$92,0)+20,1),\"*\"&$B$3&\"*\"),$B$3,INDEX(Veri!H$68:$H$92,MATCH(\"League\",Veri!B$68:$B$92,0)+20,1)),\"\")","v":{"$error":"#N/A"}},{"$f":"IF(INDEX(Veri!F$68:$F$92,MATCH(\"League\",Veri!B$68:$B$92,0)+20,1)<>\"\",INDEX(Veri!F$68:$F$92,MATCH(\"League\",Veri!B$68:$B$92,0)+20,1),\"\")","v":{"$error":"#N/A"}},{"$f":"IF(INDEX(Veri!E$68:$E$92,MATCH(\"League\",Veri!B$68:$B$92,0)+20,1)<>\"\",INDEX(Veri!E$68:$E$92,MATCH(\"League\",Veri!B$68:$B$92,0)+20,1),\"\")","v":{"$error":"#N/A"}},{"$f":"IF(INDEX(Veri!B$94:$B$118,MATCH(\"League\",Veri!B$94:$B$118,0)+20,1)<>\"\",INDEX(Veri!B$94:$B$118,MATCH(\"League\",Veri!B$94:$B$118,0)+20,1),\"\")","v":{"$error":"#N/A"}},{"$f":"IF(INDEX(Veri!D$94:$D$118,MATCH(\"League\",Veri!B$94:$B$118,0)+20,1)<>\"\",IF(COUNTIF(INDEX(Veri!D$94:$D$118,MATCH(\"League\",Veri!B$94:$B$118,0)+20,1),\"*\"&$I$3&\"*\"),$I$3,INDEX(Veri!D$94:$D$118,MATCH(\"League\",Veri!B$94:$B$118,0)+20,1)),\"\")","v":{"$error":"#N/A"}},{"$f":"IF(INDEX(Veri!H$94:$H$118,MATCH(\"League\",Veri!B$94:$B$118,0)+20,1)<>\"\",IF(COUNTIF(INDEX(Veri!H$94:$H$118,MATCH(\"League\",Veri!B$94:$B$118,0)+20,1),\"*\"&$I$3&\"*\"),$I$3,INDEX(Veri!H$94:$H$118,MATCH(\"League\",Veri!B$94:$B$118,0)+20,1)),\"\")","v":{"$error":"#N/A"}},{"$f":"IF(INDEX(Veri!F$94:$F$118,MATCH(\"League\",Veri!B$94:$B$118,0)+20,1)<>\"\",INDEX(Veri!F$94:$F$118,MATCH(\"League\",Veri!B$94:$B$118,0)+20,1),\"\")","v":{"$error":"#N/A"}},{"$f":"IF(INDEX(Veri!E$94:$E$118,MATCH(\"League\",Veri!B$94:$B$118,0)+20,1)<>\"\",INDEX(Veri!E$94:$E$118,MATCH(\"League\",Veri!B$94:$B$118,0)+20,1),\"\")","v":{"$error":"#N/A"}},null,null,null,18,{"$f":"IFERROR(IF(INDEX(Veri!$AA$31:$AA$500,MATCH(O27,Veri!$AI$31:$AI$500,0))<>\"\",INDEX(Veri!$AA$31:$AA$500,MATCH(O27,Veri!$AI$31:$AI$500,0)),\"\"),\"\")","v":""},{"$f":"IFERROR(IF(INDEX(Veri!$AG$31:$AG$500,MATCH(O27,Veri!$AI$31:$AI$500,0))<>\"\",INDEX(Veri!$AG$31:$AG$500,MATCH(O27,Veri!$AI$31:$AI$500,0)),\"\"),\"\")","v":""},{"$f":"IFERROR(IF(INDEX(Veri!$AC$31:$AC$500,MATCH(O27,Veri!$AI$31:$AI$500,0))<>\"\",INDEX(Veri!$AC$31:$AC$500,MATCH(O27,Veri!$AI$31:$AI$500,0)),\"\"),\"\")","v":""},{"$f":"IFERROR(IF(INDEX(Veri!$AD$31:$AD$500,MATCH(O27,Veri!$AI$31:$AI$500,0))<>\"\",INDEX(Veri!$AD$31:$AD$500,MATCH(O27,Veri!$AI$31:$AI$500,0)),\"\"),\"\")","v":""},{"$f":"IFERROR(IF(INDEX(Veri!$AE$31:$AE$500,MATCH(O27,Veri!$AI$31:$AI$500,0))<>\"\",INDEX(Veri!$AE$31:$AE$500,MATCH(O27,Veri!$AI$31:$AI$500,0)),\"\"),\"\")","v":""},null,18,{"$f":"IFERROR(IF(INDEX(Veri!$AK$31:$AK$500,MATCH(V27,Veri!$AS$31:$AS$500,0))<>\"\",INDEX(Veri!$AK$31:$AK$500,MATCH(V27,Veri!$AS$31:$AS$500,0)),\"\"),\"\")","v":""},{"$f":"IFERROR(IF(INDEX(Veri!$AQ$31:$AQ$500,MATCH(V27,Veri!$AS$31:$AS$500,0))<>\"\",INDEX(Veri!$AQ$31:$AQ$500,MATCH(V27,Veri!$AS$31:$AS$500,0)),\"\"),\"\")","v":""},{"$f":"IFERROR(IF(INDEX(Veri!$AM$31:$AM$500,MATCH(V27,Veri!$AS$31:$AS$500,0))<>\"\",INDEX(Veri!$AM$31:$AM$500,MATCH(V27,Veri!$AS$31:$AS$500,0)),\"\"),\"\")","v":""},{"$f":"IFERROR(IF(INDEX(Veri!$AN$31:$AN$500,MATCH(V27,Veri!$AS$31:$AS$500,0))<>\"\",INDEX(Veri!$AN$31:$AN$500,MATCH(V27,Veri!$AS$31:$AS$500,0)),\"\"),\"\")","v":""},{"$f":"IFERROR(IF(INDEX(Veri!$AO$31:$AO$500,MATCH(V27,Veri!$AS$31:$AS$500,0))<>\"\",INDEX(Veri!$AO$31:$AO$500,MATCH(V27,Veri!$AS$31:$AS$500,0)),\"\"),\"\")","v":""}]
[null,{"$f":"IF(INDEX(Veri!$B$68:$B$92,MATCH(\"League\",Veri!$B$68:$B$92,0)+21,1)<>\"\",INDEX(Veri!$B$68:$B$92,MATCH(\"League\",Veri!$B$68:$B$92,0)+21,1),\"\")","v":{"$error":"#N/A"}},{"$f":"IF(INDEX(Veri!D$68:$D$92,MATCH(\"League\",Veri!B$68:$B$92,0)+21,1)<>\"\",IF(COUNTIF(INDEX(Veri!D$68:$D$92,MATCH(\"League\",Veri!B$68:$B$92,0)+21,1),\"*\"&$B$3&\"*\"),$B$3,INDEX(Veri!D$68:$D$92,MATCH(\"League\",Veri!B$68:$B$92,0)+21,1)),\"\")","v":{"$error":"#N/A"}},{"$f":"IF(INDEX(Veri!H$68:$H$92,MATCH(\"League\",Veri!B$68:$B$92,0)+21,1)<>\"\",IF(COUNTIF(INDEX(Veri!H$68:$H$92,MATCH(\"League\",Veri!B$68:$B$92,0)+21,1),\"*\"&$B$3&\"*\"),$B$3,INDEX(Veri!H$68:$H$92,MATCH(\"League\",Veri!B$68:$B$92,0)+21,1)),\"\")","v":{"$error":"#N/A"}},{"$f":"IF(INDEX(Veri!F$68:$F$92,MATCH(\"League\",Veri!B$68:$B$92,0)+21,1)<>\"\",INDEX(Veri!F$68:$F$92,MATCH(\"League\",Veri!B$68:$B$92,0)+21,1),\"\")","v":{"$error":"#N/A"}},{"$f":"IF(INDEX(Veri!E$68:$E$92,MATCH(\"League\",Veri!B$68:$B$92,0)+21,1)<>\"\",INDEX(Veri!E$68:$E$92,MATCH(\"League\",Veri!B$68:$B$92,0)+21,1),\"\")","v":{"$error":"#N/A"}},{"$f":"IF(INDEX(Veri!B$94:$B$118,MATCH(\"League\",Veri!B$94:$B$118,0)+21,1)<>\"\",INDEX(Veri!B$94:$B$118,MATCH(\"League\",Veri!B$94:$B$118,0)+21,1),\"\")","v":{"$error":"#N/A"}},{"$f":"IF(INDEX(Veri!D$94:$D$118,MATCH(\"League\",Veri!B$94:$B$118,0)+21,1)<>\"\",IF(COUNTIF(INDEX(Veri!D$94:$D$118,MATCH(\"League\",Veri!B$94:$B$118,0)+21,1),\"*\"&$I$3&\"*\"),$I$3,INDEX(Veri!D$94:$D$118,MATCH(\"League\",Veri!B$94:$B$118,0)+21,1)),\"\")","v":{"$error":"#N/A"}},{"$f":"IF(INDEX(Veri!H$94:$H$118,MATCH(\"League\",Veri!B$94:$B$118,0)+21,1)<>\"\",IF(COUNTIF(INDEX(Veri!H$94:$H$118,MATCH(\"League\",Veri!B$94:$B$118,0)+21,1),\"*\"&$I$3&\"*\"),$I$3,INDEX(Veri!H$94:$H$118,MATCH(\"League\",Veri!B$94:$B$118,0)+21,1)),\"\")","v":{"$error":"#N/A"}},{"$f":"IF(INDEX(Veri!F$94:$F$118,MATCH(\"League\",Veri!B$94:$B$118,0)+21,1)<>\"\",INDEX(Veri!F$94:$F$118,MATCH(\"League\",Veri!B$94:$B$118,0)+21,1),\"\")","v":{"$error":"#N/A"}},{"$f":"IF(INDEX(Veri!E$94:$E$118,MATCH(\"League\",Veri!B$94:$B$118,0)+21,1)<>\"\",INDEX(Veri!E$94:$E$118,MATCH(\"League\",Veri!B$94:$B$118,0)+21,1),\"\")","v":{"$error":"#N/A"}},null,null,null,19,{"$f":"IFERROR(IF(INDEX(Veri!$AA$31:$AA$500,MATCH(O28,Veri!$AI$31:$AI$500,0))<>\"\",INDEX(Veri!$AA$31:$AA$500,MATCH(O28,Veri!$AI$31:$AI$500,0)),\"\"),\"\")","v":""},{"$f":"IFERROR(IF(INDEX(Veri!$AG$31:$AG$500,MATCH(O28,Veri!$AI$31:$AI$500,0))<>\"\",INDEX(Veri!$AG$31:$AG$500,MATCH(O28,Veri!$AI$31:$AI$500,0)),\"\"),\"\")","v":""},{"$f":"IFERROR(IF(INDEX(Veri!$AC$31:$AC$500,MATCH(O28,Veri!$AI$31:$AI$500,0))<>\"\",INDEX(Veri!$AC$31:$AC$500,MATCH(O28,Veri!$AI$31:$AI$500,0)),\"\"),\"\")","v":""},{"$f":"IFERROR(IF(INDEX(Veri!$AD$31:$AD$500,MATCH(O28,Veri!$AI$31:$AI$500,0))<>\"\",INDEX(Veri!$AD$31:$AD$500,MATCH(O28,Veri!$AI$31:$AI$500,0)),\"\"),\"\")","v":""},{"$f":"IFERROR(IF(INDEX(Veri!$AE$31:$AE$500,MATCH(O28,Veri!$AI$31:$AI$500,0))<>\"\",INDEX(Veri!$AE$31:$AE$500,MATCH(O28,Veri!$AI$31:$AI$500,0)),\"\"),\"\")","v":""},null,19,{"$f":"IFERROR(IF(INDEX(Veri!$AK$31:$AK$500,MATCH(V28,Veri!$AS$31:$AS$500,0))<>\"\",INDEX(Veri!$AK$31:$AK$500,MATCH(V28,Veri!$AS$31:$AS$500,0)),\"\"),\"\")","v":""},{"$f":"IFERROR(IF(INDEX(Veri!$AQ$31:$AQ$500,MATCH(V28,Veri!$AS$31:$AS$500,0))<>\"\",INDEX(Veri!$AQ$31:$AQ$500,MATCH(V28,Veri!$AS$31:$AS$500,0)),\"\"),\"\")","v":""},{"$f":"IFERROR(IF(INDEX(Veri!$AM$31:$AM$500,MATCH(V28,Veri!$AS$31:$AS$500,0))<>\"\",INDEX(Veri!$AM$31:$AM$500,MATCH(V28,Veri!$AS$31:$AS$500,0)),\"\"),\"\")","v":""},{"$f":"IFERROR(IF(INDEX(Veri!$AN$31:$AN$500,MATCH(V28,Veri!$AS$31:$AS$500,0))<>\"\",INDEX(Veri!$AN$31:$AN$500,MATCH(V28,Veri!$AS$31:$AS$500,0)),\"\"),\"\")","v":""},{"$f":"IFERROR(IF(INDEX(Veri!$AO$31:$AO$500,MATCH(V28,Veri!$AS$31:$AS$500,0))<>\"\",INDEX(Veri!$AO$31:$AO$500,MATCH(V28,Veri!$AS$31:$AS$500,0)),\"\"),\"\")","v":""}]
[null,null,null,null,null,null,null,null,null,null,null,null,null,null,20,{"$f":"IFERROR(IF(INDEX(Veri!$AA$31:$AA$500,MATCH(O29,Veri!$AI$31:$AI$500,0))<>\"\",INDEX(Veri!$AA$31:$AA$500,MATCH(O29,Veri!$AI$31:$AI$500,0)),\"\"),\"\")","v":""},{"$f":"IFERROR(IF(INDEX(Veri!$AG$31:$AG$500,MATCH(O29,Veri!$AI$31:$AI$500,0))<>\"\",INDEX(Veri!$AG$31:$AG$500,MATCH(O29,Veri!$AI$31:$AI$500,0)),\"\"),\"\")","v":""},{"$f":"IFERROR(IF(INDEX(Veri!$AC$31:$AC$500,MATCH(O29,Veri!$AI$31:$AI$500,0))<>\"\",INDEX(Veri!$AC$31:$AC$500,MATCH(O29,Veri!$AI$31:$AI$500,0)),\"\"),\"\")","v":""},{"$f":"IFERROR(IF(INDEX(Veri!$AD$31:$AD$500,MATCH(O29,Veri!$AI$31:$AI$500,0))<>\"\",INDEX(Veri!$AD$31:$AD$500,MATCH(O29,Veri!$AI$31:$AI$500,0)),\"\"),\"\")","v":""},{"$f":"IFERROR(IF(INDEX(Veri!$AE$31:$AE$500,MATCH(O29,Veri!$AI$31:$AI$500,0))<>\"\",INDEX(Veri!$AE$31:$AE$500,MATCH(O29,Veri!$AI$31:$AI$500,0)),\"\"),\"\")","v":""},null,20,{"$f":"IFERROR(IF(INDEX(Veri!$AK$31:$AK$500,MATCH(V29,Veri!$AS$31:$AS$500,0))<>\"\",INDEX(Veri!$AK$31:$AK$500,MATCH(V29,Veri!$AS$31:$AS$500,0)),\"\"),\"\")","v":""},{"$f":"IFERROR(IF(INDEX(Veri!$AQ$31:$AQ$500,MATCH(V29,Veri!$AS$31:$AS$500,0))<>\"\",INDEX(Veri!$AQ$31:$AQ$500,MATCH(V29,Veri!$AS$31:$AS$500,0)),\"\"),\"\")","v":""},{"$f":"IFERROR(IF(INDEX(Veri!$AM$31:$AM$500,MATCH(V29,Veri!$AS$31:$AS$500,0))<>\"\",INDEX(Veri!$AM$31:$AM$500,MATCH(V29,Veri!$AS$31:$AS$500,0)),\"\"),\"\")","v":""},{"$f":"IFERROR(IF(INDEX(Veri!$AN$31:$AN$500,MATCH(V29,Veri!$AS$31:$AS$500,0))<>\"\",INDEX(Veri!$AN$31:$AN$500,MATCH(V29,Veri!$AS$31:$AS$500,0)),\"\"),\"\")","v":""},{"$f":"IFERROR(IF(INDEX(Veri!$AO$31:$AO$500,MATCH(V29,Veri!$AS$31:$AS$500,0))<>\"\",INDEX(Veri!$AO$31:$AO$500,MATCH(V29,Veri!$AS$31:$AS$500,0)),\"\"),\"\")","v":""}]
[null,null,null,null,null,null,null,null,null,null,null,null,null,null,21,{"$f":"IFERROR(IF(INDEX(Veri!$AA$31:$AA$500,MATCH(O30,Veri!$AI$31:$AI$500,0))<>\"\",INDEX(Veri!$AA$31:$AA$500,MATCH(O30,Veri!$AI$31:$AI$500,0)),\"\"),\"\")","v":""},{"$f":"IFERROR(IF(INDEX(Veri!$AG$31:$AG$500,MATCH(O30,Veri!$AI$31:$AI$500,0))<>\"\",INDEX(Veri!$AG$31:$AG$500,MATCH(O30,Veri!$AI$31:$AI$500,0)),\"\"),\"\")","v":""},{"$f":"IFERROR(IF(INDEX(Veri!$AC$31:$AC$500,MATCH(O30,Veri!$AI$31:$AI$500,0))<>\"\",INDEX(Veri!$AC$31:$AC$500,MATCH(O30,Veri!$AI$31:$AI$500,0)),\"\"),\"\")","v":""},{"$f":"IFERROR(IF(INDEX(Veri!$AD$31:$AD$500,MATCH(O30,Veri!$AI$31:$AI$500,0))<>\"\",INDEX(Veri!$AD$31:$AD$500,MATCH(O30,Veri!$AI$31:$AI$500,0)),\"\"),\"\")","v":""},{"$f":"IFERROR(IF(INDEX(Veri!$AE$31:$AE$500,MATCH(O30,Veri!$AI$31:$AI$500,0))<>\"\",INDEX(Veri!$AE$31:$AE$500,MATCH(O30,Veri!$AI$31:$AI$500,0)),\"\"),\"\")","v":""},null,21,{"$f":"IFERROR(IF(INDEX(Veri!$AK$31:$AK$500,MATCH(V30,Veri!$AS$31:$AS$500,0))<>\"\",INDEX(Veri!$AK$31:$AK$500,MATCH(V30,Veri!$AS$31:$AS$500,0)),\"\"),\"\")","v":""},{"$f":"IFERROR(IF(INDEX(Veri!$AQ$31:$AQ$500,MATCH(V30,Veri!$AS$31:$AS$500,0))<>\"\",INDEX(Veri!$AQ$31:$AQ$500,MATCH(V30,Veri!$AS$31:$AS$500,0)),\"\"),\"\")","v":""},{"$f":"IFERROR(IF(INDEX(Veri!$AM$31:$AM$500,MATCH(V30,Veri!$AS$31:$AS$500,0))<>\"\",INDEX(Veri!$AM$31:$AM$500,MATCH(V30,Veri!$AS$31:$AS$500,0)),\"\"),\"\")","v":""},{"$f":"IFERROR(IF(INDEX(Veri!$AN$31:$AN$500,MATCH(V30,Veri!$AS$31:$AS$500,0))<>\"\",INDEX(Veri!$AN$31:$AN$500,MATCH(V30,Veri!$AS$31:$AS$500,0)),\"\"),\"\")","v":""},{"$f":"IFERROR(IF(INDEX(Veri!$AO$31:$AO$500,MATCH(V30,Veri!$AS$31:$AS$500,0))<>\"\",INDEX(Veri!$AO$31:$AO$500,MATCH(V30,Veri!$AS$31:$AS$500,0)),\"\"),\"\")","v":""}]
[null,null,null,null,null,null,null,null,null,null,null,null,null,null,22,{"$f":"IFERROR(IF(INDEX(Veri!$AA$31:$AA$500,MATCH(O31,Veri!$AI$31:$AI$500,0))<>\"\",INDEX(Veri!$AA$31:$AA$500,MATCH(O31,Veri!$AI$31:$AI$500,0)),\"\"),\"\")","v":""},{"$f":"IFERROR(IF(INDEX(Veri!$AG$31:$AG$500,MATCH(O31,Veri!$AI$31:$AI$500,0))<>\"\",INDEX(Veri!$AG$31:$AG$500,MATCH(O31,Veri!$AI$31:$AI$500,0)),\"\"),\"\")","v":""},{"$f":"IFERROR(IF(INDEX(Veri!$AC$31:$AC$500,MATCH(O31,Veri!$AI$31:$AI$500,0))<>\"\",INDEX(Veri!$AC$31:$AC$500,MATCH(O31,Veri!$AI$31:$AI$500,0)),\"\"),\"\")","v":""},{"$f":"IFERROR(IF(INDEX(Veri!$AD$31:$AD$500,MATCH(O31,Veri!$AI$31:$AI$500,0))<>\"\",INDEX(Veri!$AD$31:$AD$500,MATCH(O31,Veri!$AI$31:$AI$500,0)),\"\"),\"\")","v":""},{"$f":"IFERROR(IF(INDEX(Veri!$AE$31:$AE$500,MATCH(O31,Veri!$AI$31:$AI$500,0))<>\"\",INDEX(Veri!$AE$31:$AE$500,MATCH(O31,Veri!$AI$31:$AI$500,0)),\"\"),\"\")","v":""},null,22,{"$f":"IFERROR(IF(INDEX(Veri!$AK$31:$AK$500,MATCH(V31,Veri!$AS$31:$AS$500,0))<>\"\",INDEX(Veri!$AK$31:$AK$500,MATCH(V31,Veri!$AS$31:$AS$500,0)),\"\"),\"\")","v":""},{"$f":"IFERROR(IF(INDEX(Veri!$AQ$31:$AQ$500,MATCH(V31,Veri!$AS$31:$AS$500,0))<>\"\",INDEX(Veri!$AQ$31:$AQ$500,MATCH(V31,Veri!$AS$31:$AS$500,0)),\"\"),\"\")","v":""},{"$f":"IFERROR(IF(INDEX(Veri!$AM$31:$AM$500,MATCH(V31,Veri!$AS$31:$AS$500,0))<>\"\",INDEX(Veri!$AM$31:$AM$500,MATCH(V31,Veri!$AS$31:$AS$500,0)),\"\"),\"\")","v":""},{"$f":"IFERROR(IF(INDEX(Veri!$AN$31:$AN$500,MATCH(V31,Veri!$AS$31:$AS$500,0))<>\"\",INDEX(Veri!$AN$31:$AN$500,MATCH(V31,Veri!$AS$31:$AS$500,0)),\"\"),\"\")","v":""},{"$f":"IFERROR(IF(INDEX(Veri!$AO$31:$AO$500,MATCH(V31,Veri!$AS$31:$AS$500,0))<>\"\",INDEX(Veri!$AO$31:$AO$500,MATCH(V31,Veri!$AS$31:$AS$500,0)),\"\"),\"\")","v":""}]
[null,null,null,null,null,null,null,null,null,null,null,null,null,null,23,{"$f":"IFERROR(IF(INDEX(Veri!$AA$31:$AA$500,MATCH(O32,Veri!$AI$31:$AI$500,0))<>\"\",INDEX(Veri!$AA$31:$AA$500,MATCH(O32,Veri!$AI$31:$AI$500,0)),\"\"),\"\")","v":""},{"$f":"IFERROR(IF(INDEX(Veri!$AG$31:$AG$500,MATCH(O32,Veri!$AI$31:$AI$500,0))<>\"\",INDEX(Veri!$AG$31:$AG$500,MATCH(O32,Veri!$AI$31:$AI$500,0)),\"\"),\"\")","v":""},{"$f":"IFERROR(IF(INDEX(Veri!$AC$31:$AC$500,MATCH(O32,Veri!$AI$31:$AI$500,0))<>\"\",INDEX(Veri!$AC$31:$AC$500,MATCH(O32,Veri!$AI$31:$AI$500,0)),\"\"),\"\")","v":""},{"$f":"IFERROR(IF(INDEX(Veri!$AD$31:$AD$500,MATCH(O32,Veri!$AI$31:$AI$500,0))<>\"\",INDEX(Veri!$AD$31:$AD$500,MATCH(O32,Veri!$AI$31:$AI$500,0)),\"\"),\"\")","v":""},{"$f":"IFERROR(IF(INDEX(Veri!$AE$31:$AE$500,MATCH(O32,Veri!$AI$31:$AI$500,0))<>\"\",INDEX(Veri!$AE$31:$AE$500,MATCH(O32,Veri!$AI$31:$AI$500,0)),\"\"),\"\")","v":""},null,23,{"$f":"IFERROR(IF(INDEX(Veri!$AK$31:$AK$500,MATCH(V32,Veri!$AS$31:$AS$500,0))<>\"\",INDEX(Veri!$AK$31:$AK$500,MATCH(V32,Veri!$AS$31:$AS$500,0)),\"\"),\"\")","v":""},{"$f":"IFERROR(IF(INDEX(Veri!$AQ$31:$AQ$500,MATCH(V32,Veri!$AS$31:$AS$500,0))<>\"\",INDEX(Veri!$AQ$31:$AQ$500,MATCH(V32,Veri!$AS$31:$AS$500,0)),\"\"),\"\")","v":""},{"$f":"IFERROR(IF(INDEX(Veri!$AM$31:$AM$500,MATCH(V32,Veri!$AS$31:$AS$500,0))<>\"\",INDEX(Veri!$AM$31:$AM$500,MATCH(V32,Veri!$AS$31:$AS$500,0)),\"\"),\"\")","v":""},{"$f":"IFERROR(IF(INDEX(Veri!$AN$31:$AN$500,MATCH(V32,Veri!$AS$31:$AS$500,0))<>\"\",INDEX(Veri!$AN$31:$AN$500,MATCH(V32,Veri!$AS$31:$AS$500,0)),\"\"),\"\")","v":""},{"$f":"IFERROR(IF(INDEX(Veri!$AO$31:$AO$500,MATCH(V32,Veri!$AS$31:$AS$500,0))<>\"\",INDEX(Veri!$AO$31:$AO$500,MATCH(V32,Veri!$AS$31:$AS$500,0)),\"\"),\"\")","v":""}]
[null,null,null,null,null,null,null,null,null,null,null,null,null,null,24,{"$f":"IFERROR(IF(INDEX(Veri!$AA$31:$AA$500,MATCH(O33,Veri!$AI$31:$AI$500,0))<>\"\",INDEX(Veri!$AA$31:$AA$500,MATCH(O33,Veri!$AI$31:$AI$500,0)),\"\"),\"\")","v":""},{"$f":"IFERROR(IF(INDEX(Veri!$AG$31:$AG$500,MATCH(O33,Veri!$AI$31:$AI$500,0))<>\"\",INDEX(Veri!$AG$31:$AG$500,MATCH(O33,Veri!$AI$31:$AI$500,0)),\"\"),\"\")","v":""},{"$f":"IFERROR(IF(INDEX(Veri!$AC$31:$AC$500,MATCH(O33,Veri!$AI$31:$AI$500,0))<>\"\",INDEX(Veri!$AC$31:$AC$500,MATCH(O33,Veri!$AI$31:$AI$500,0)),\"\"),\"\")","v":""},{"$f":"IFERROR(IF(INDEX(Veri!$AD$31:$AD$500,MATCH(O33,Veri!$AI$31:$AI$500,0))<>\"\",INDEX(Veri!$AD$31:$AD$500,MATCH(O33,Veri!$AI$31:$AI$500,0)),\"\"),\"\")","v":""},{"$f":"IFERROR(IF(INDEX(Veri!$AE$31:$AE$500,MATCH(O33,Veri!$AI$31:$AI$500,0))<>\"\",INDEX(Veri!$AE$31:$AE$500,MATCH(O33,Veri!$AI$31:$AI$500,0)),\"\"),\"\")","v":""},null,24,{"$f":"IFERROR(IF(INDEX(Veri!$AK$31:$AK$500,MATCH(V33,Veri!$AS$31:$AS$500,0))<>\"\",INDEX(Veri!$AK$31:$AK$500,MATCH(V33,Veri!$AS$31:$AS$500,0)),\"\"),\"\")","v":""},{"$f":"IFERROR(IF(INDEX(Veri!$AQ$31:$AQ$500,MATCH(V33,Veri!$AS$31:$AS$500,0))<>\"\",INDEX(Veri!$AQ$31:$AQ$500,MATCH(V33,Veri!$AS$31:$AS$500,0)),\"\"),\"\")","v":""},{"$f":"IFERROR(IF(INDEX(Veri!$AM$31:$AM$500,MATCH(V33,Veri!$AS$31:$AS$500,0))<>\"\",INDEX(Veri!$AM$31:$AM$500,MATCH(V33,Veri!$AS$31:$AS$500,0)),\"\"),\"\")","v":""},{"$f":"IFERROR(IF(INDEX(Veri!$AN$31:$AN$500,MATCH(V33,Veri!$AS$31:$AS$500,0))<>\"\",INDEX(Veri!$AN$31:$AN$500,MATCH(V33,Veri!$AS$31:$AS$500,0)),\"\"),\"\")","v":""},{"$f":"IFERROR(IF(INDEX(Veri!$AO$31:$AO$500,MATCH(V33,Veri!$AS$31:$AS$500,0))<>\"\",INDEX(Veri!$AO$31:$AO$500,MATCH(V33,Veri!$AS$31:$AS$500,0)),\"\"),\"\")","v":""}]
[null,"TAKIMLAR",null,null,null,null,null,null,null,null,null,null,null,null,25,{"$f":"IFERROR(IF(INDEX(Veri!$AA$31:$AA$500,MATCH(O34,Veri!$AI$31:$AI$500,0))<>\"\",INDEX(Veri!$AA$31:$AA$500,MATCH(O34,Veri!$AI$31:$AI$500,0)),\"\"),\"\")","v":""},{"$f":"IFERROR(IF(INDEX(Veri!$AG$31:$AG$500,MATCH(O34,Veri!$AI$31:$AI$500,0))<>\"\",INDEX(Veri!$AG$31:$AG$500,MATCH(O34,Veri!$AI$31:$AI$500,0)),\"\"),\"\")","v":""},{"$f":"IFERROR(IF(INDEX(Veri!$AC$31:$AC$500,MATCH(O34,Veri!$AI$31:$AI$500,0))<>\"\",INDEX(Veri!$AC$31:$AC$500,MATCH(O34,Veri!$AI$31:$AI$500,0)),\"\"),\"\")","v":""},{"$f":"IFERROR(IF(INDEX(Veri!$AD$31:$AD$500,MATCH(O34,Veri!$AI$31:$AI$500,0))<>\"\",INDEX(Veri!$AD$31:$AD$500,MATCH(O34,Veri!$AI$31:$AI$500,0)),\"\"),\"\")","v":""},{"$f":"IFERROR(IF(INDEX(Veri!$AE$31:$AE$500,MATCH(O34,Veri!$AI$31:$AI$500,0))<>\"\",INDEX(Veri!$AE$31:$AE$500,MATCH(O34,Veri!$AI$31:$AI$500,0)),\"\"),\"\")","v":""},null,25,{"$f":"IFERROR(IF(INDEX(Veri!$AK$31:$AK$500,MATCH(V34,Veri!$AS$31:$AS$500,0))<>\"\",INDEX(Veri!$AK$31:$AK$500,MATCH(V34,Veri!$AS$31:$AS$500,0)),\"\"),\"\")","v":""},{"$f":"IFERROR(IF(INDEX(Veri!$AQ$31:$AQ$500,MATCH(V34,Veri!$AS$31:$AS$500,0))<>\"\",INDEX(Veri!$AQ$31:$AQ$500,MATCH(V34,Veri!$AS$31:$AS$500,0)),\"\"),\"\")","v":""},{"$f":"IFERROR(IF(INDEX(Veri!$AM$31:$AM$500,MATCH(V34,Veri!$AS$31:$AS$500,0))<>\"\",INDEX(Veri!$AM$31:$AM$500,MATCH(V34,Veri!$AS$31:$AS$500,0)),\"\"),\"\")","v":""},{"$f":"IFERROR(IF(INDEX(Veri!$AN$31:$AN$500,MATCH(V34,Veri!$AS$31:$AS$500,0))<>\"\",INDEX(Veri!$AN$31:$AN$500,MATCH(V34,Veri!$AS$31:$AS$500,0)),\"\"),\"\")","v":""},{"$f":"IFERROR(IF(INDEX(Veri!$AO$31:$AO$500,MATCH(V34,Veri!$AS$31:$AS$500,0))<>\"\",INDEX(Veri!$AO$31:$AO$500,MATCH(V34,Veri!$AS$31:$AS$500,0)),\"\"),\"\")","v":""}]
[null,{"$f":"TRIM(MID(E35,1,FIND(\"VS\",E35,1)-3))","v":{"$error":"#REF!"}},null,null,{"$f":"INDEX(Veri!#REF!,MATCH(2,Veri!#REF!,0),1)","v":{"$error":"#REF!"}},null,null,null,{"$f":"TRIM(MID(E35,FIND(\"VS\",E35,1)+3,LEN(E35)))","v":{"$error":"#REF!"}},null,null,null,null,null,26,{"$f":"IFERROR(IF(INDEX(Veri!$AA$31:$AA$500,MATCH(O35,Veri!$AI$31:$AI$500,0))<>\"\",INDEX(Veri!$AA$31:$AA$500,MATCH(O35,Veri!$AI$31:$AI$500,0)),\"\"),\"\")","v":""},{"$f":"IFERROR(IF(INDEX(Veri!$AG$31:$AG$500,MATCH(O35,Veri!$AI$31:$AI$500,0))<>\"\",INDEX(Veri!$AG$31:$AG$500,MATCH(O35,Veri!$AI$31:$AI$500,0)),\"\"),\"\")","v":""},{"$f":"IFERROR(IF(INDEX(Veri!$AC$31:$AC$500,MATCH(O35,Veri!$AI$31:$AI$500,0))<>\"\",INDEX(Veri!$AC$31:$AC$500,MATCH(O35,Veri!$AI$31:$AI$500,0)),\"\"),\"\")","v":""},{"$f":"IFERROR(IF(INDEX(Veri!$AD$31:$AD$500,MATCH(O35,Veri!$AI$31:$AI$500,0))<>\"\",INDEX(Veri!$AD$31:$AD$500,MATCH(O35,Veri!$AI$31:$AI$500,0)),\"\"),\"\")","v":""},{"$f":"IFERROR(IF(INDEX(Veri!$AE$31:$AE$500,MATCH(O35,Veri!$AI$31:$AI$500,0))<>\"\",INDEX(Veri!$AE$31:$AE$500,MATCH(O35,Veri!$AI$31:$AI$500,0)),\"\"),\"\")","v":""},null,26,{"$f":"IFERROR(IF(INDEX(Veri!$AK$31:$AK$500,MATCH(V35,Veri!$AS$31:$AS$500,0))<>\"\",INDEX(Veri!$AK$31:$AK$500,MATCH(V35,Veri!$AS$31:$AS$500,0)),\"\"),\"\")","v":""},{"$f":"IFERROR(IF(INDEX(Veri!$AQ$31:$AQ$500,MATCH(V35,Veri!$AS$31:$AS$500,0))<>\"\",INDEX(Veri!$AQ$31:$AQ$500,MATCH(V35,Veri!$AS$31:$AS$500,0)),\"\"),\"\")","v":""},{"$f":"IFERROR(IF(INDEX(Veri!$AM$31:$AM$500,MATCH(V35,Veri!$AS$31:$AS$500,0))<>\"\",INDEX(Veri!$AM$31:$AM$500,MATCH(V35,Veri!$AS$31:$AS$500,0)),\"\"),\"\")","v":""},{"$f":"IFERROR(IF(INDEX(Veri!$AN$31:$AN$500,MATCH(V35,Veri!$AS$31:$AS$500,0))<>\"\",INDEX(Veri!$AN$31:$AN$500,MATCH(V35,Veri!$AS$31:$AS$500,0)),\"\"),\"\")","v":""},{"$f":"IFERROR(IF(INDEX(Veri!$AO$31:$AO$500,MATCH(V35,Veri!$AS$31:$AS$500,0))<>\"\",INDEX(Veri!$AO$31:$AO$500,MATCH(V35,Veri!$AS$31:$AS$500,0)),\"\"),\"\")","v":""}]
[null,null,null,null,{"$f":"MID(LEFT(INDEX(Veri!#REF!,MATCH(1,Veri!#REF!,0),1),FIND(\"]\",INDEX(Veri!#REF!,MATCH(1,Veri!#REF!,0),1),1)-1),2,50)","v":{"$error":"#REF!"}},null,null,null,null,null,null,null,null,null,27,{"$f":"IFERROR(IF(INDEX(Veri!$AA$31:$AA$500,MATCH(O36,Veri!$AI$31:$AI$500,0))<>\"\",INDEX(Veri!$AA$31:$AA$500,MATCH(O36,Veri!$AI$31:$AI$500,0)),\"\"),\"\")","v":""},{"$f":"IFERROR(IF(INDEX(Veri!$AG$31:$AG$500,MATCH(O36,Veri!$AI$31:$AI$500,0))<>\"\",INDEX(Veri!$AG$31:$AG$500,MATCH(O36,Veri!$AI$31:$AI$500,0)),\"\"),\"\")","v":""},{"$f":"IFERROR(IF(INDEX(Veri!$AC$31:$AC$500,MATCH(O36,Veri!$AI$31:$AI$500,0))<>\"\",INDEX(Veri!$AC$31:$AC$500,MATCH(O36,Veri!$AI$31:$AI$500,0)),\"\"),\"\")","v":""},{"$f":"IFERROR(IF(INDEX(Veri!$AD$31:$AD$500,MATCH(O36,Veri!$AI$31:$AI$500,0))<>\"\",INDEX(Veri!$AD$31:$AD$500,MATCH(O36,Veri!$AI$31:$AI$500,0)),\"\"),\"\")","v":""},{"$f":"IFERROR(IF(INDEX(Veri!$AE$31:$AE$500,MATCH(O36,Veri!$AI$31:$AI$500,0))<>\"\",INDEX(Veri!$AE$31:$AE$500,MATCH(O36,Veri!$AI$31:$AI$500,0)),\"\"),\"\")","v":""},null,27,{"$f":"IFERROR(IF(INDEX(Veri!$AK$31:$AK$500,MATCH(V36,Veri!$AS$31:$AS$500,0))<>\"\",INDEX(Veri!$AK$31:$AK$500,MATCH(V36,Veri!$AS$31:$AS$500,0)),\"\"),\"\")","v":""},{"$f":"IFERROR(IF(INDEX(Veri!$AQ$31:$AQ$500,MATCH(V36,Veri!$AS$31:$AS$500,0))<>\"\",INDEX(Veri!$AQ$31:$AQ$500,MATCH(V36,Veri!$AS$31:$AS$500,0)),\"\"),\"\")","v":""},{"$f":"IFERROR(IF(INDEX(Veri!$AM$31:$AM$500,MATCH(V36,Veri!$AS$31:$AS$500,0))<>\"\",INDEX(Veri!$AM$31:$AM$500,MATCH(V36,Veri!$AS$31:$AS$500,0)),\"\"),\"\")","v":""},{"$f":"IFERROR(IF(INDEX(Veri!$AN$31:$AN$500,MATCH(V36,Veri!$AS$31:$AS$500,0))<>\"\",INDEX(Veri!$AN$31:$AN$500,MATCH(V36,Veri!$AS$31:$AS$500,0)),\"\"),\"\")","v":""},{"$f":"IFERROR(IF(INDEX(Veri!$AO$31:$AO$500,MATCH(V36,Veri!$AS$31:$AS$500,0))<>\"\",INDEX(Veri!$AO$31:$AO$500,MATCH(V36,Veri!$AS$31:$AS$500,0)),\"\"),\"\")","v":""}]
[null,null,null,null,null,null,null,null,null,null,null,null,null,null,28,{"$f":"IFERROR(IF(INDEX(Veri!$AA$31:$AA$500,MATCH(O37,Veri!$AI$31:$AI$500,0))<>\"\",INDEX(Veri!$AA$31:$AA$500,MATCH(O37,Veri!$AI$31:$AI$500,0)),\"\"),\"\")","v":""},{"$f":"IFERROR(IF(INDEX(Veri!$AG$31:$AG$500,MATCH(O37,Veri!$AI$31:$AI$500,0))<>\"\",INDEX(Veri!$AG$31:$AG$500,MATCH(O37,Veri!$AI$31:$AI$500,0)),\"\"),\"\")","v":""},{"$f":"IFERROR(IF(INDEX(Veri!$AC$31:$AC$500,MATCH(O37,Veri!$AI$31:$AI$500,0))<>\"\",INDEX(Veri!$AC$31:$AC$500,MATCH(O37,Veri!$AI$31:$AI$500,0)),\"\"),\"\")","v":""},{"$f":"IFERROR(IF(INDEX(Veri!$AD$31:$AD$500,MATCH(O37,Veri!$AI$31:$AI$500,0))<>\"\",INDEX(Veri!$AD$31:$AD$500,MATCH(O37,Veri!$AI$31:$AI$500,0)),\"\"),\"\")","v":""},{"$f":"IFERROR(IF(INDEX(Veri!$AE$31:$AE$500,MATCH(O37,Veri!$AI$31:$AI$500,0))<>\"\",INDEX(Veri!$AE$31:$AE$500,MATCH(O37,Veri!$AI$31:$AI$500,0)),\"\"),\"\")","v":""},null,28,{"$f":"IFERROR(IF(INDEX(Veri!$AK$31:$AK$500,MATCH(V37,Veri!$AS$31:$AS$500,0))<>\"\",INDEX(Veri!$AK$31:$AK$500,MATCH(V37,Veri!$AS$31:$AS$500,0)),\"\"),\"\")","v":""},{"$f":"IFERROR(IF(INDEX(Veri!$AQ$31:$AQ$500,MATCH(V37,Veri!$AS$31:$AS$500,0))<>\"\",INDEX(Veri!$AQ$31:$AQ$500,MATCH(V37,Veri!$AS$31:$AS$500,0)),\"\"),\"\")","v":""},{"$f":"IFERROR(IF(INDEX(Veri!$AM$31:$AM$500,MATCH(V37,Veri!$AS$31:$AS$500,0))<>\"\",INDEX(Veri!$AM$31:$AM$500,MATCH(V37,Veri!$AS$31:$AS$500,0)),\"\"),\"\")","v":""},{"$f":"IFERROR(IF(INDEX(Veri!$AN$31:$AN$500,MATCH(V37,Veri!$AS$31:$AS$500,0))<>\"\",INDEX(Veri!$AN$31:$AN$500,MATCH(V37,Veri!$AS$31:$AS$500,0)),\"\"),\"\")","v":""},{"$f":"IFERROR(IF(INDEX(Veri!$AO$31:$AO$500,MATCH(V37,Veri!$AS$31:$AS$500,0))<>\"\",INDEX(Veri!$AO$31:$AO$500,MATCH(V37,Veri!$AS$31:$AS$500,0)),\"\"),\"\")","v":""}]
[null,{"$f":"CONCATENATE(B35,\" Oynadığı Son Maçlar\")","v":{"$error":"#REF!"}},null,null,null,null,{"$f":"CONCATENATE(I35,\" Oynadığı Son Maçlar\")","v":{"$error":"#REF!"}},null,null,null,null,null,null,null,29,{"$f":"IFERROR(IF(INDEX(Veri!$AA$31:$AA$500,MATCH(O38,Veri!$AI$31:$AI$500,0))<>\"\",INDEX(Veri!$AA$31:$AA$500,MATCH(O38,Veri!$AI$31:$AI$500,0)),\"\"),\"\")","v":""},{"$f":"IFERROR(IF(INDEX(Veri!$AG$31:$AG$500,MATCH(O38,Veri!$AI$31:$AI$500,0))<>\"\",INDEX(Veri!$AG$31:$AG$500,MATCH(O38,Veri!$AI$31:$AI$500,0)),\"\"),\"\")","v":""},{"$f":"IFERROR(IF(INDEX(Veri!$AC$31:$AC$500,MATCH(O38,Veri!$AI$31:$AI$500,0))<>\"\",INDEX(Veri!$AC$31:$AC$500,MATCH(O38,Veri!$AI$31:$AI$500,0)),\"\"),\"\")","v":""},{"$f":"IFERROR(IF(INDEX(Veri!$AD$31:$AD$500,MATCH(O38,Veri!$AI$31:$AI$500,0))<>\"\",INDEX(Veri!$AD$31:$AD$500,MATCH(O38,Veri!$AI$31:$AI$500,0)),\"\"),\"\")","v":""},{"$f":"IFERROR(IF(INDEX(Veri!$AE$31:$AE$500,MATCH(O38,Veri!$AI$31:$AI$500,0))<>\"\",INDEX(Veri!$AE$31:$AE$500,MATCH(O38,Veri!$AI$31:$AI$500,0)),\"\"),\"\")","v":""},null,29,{"$f":"IFERROR(IF(INDEX(Veri!$AK$31:$AK$500,MATCH(V38,Veri!$AS$31:$AS$500,0))<>\"\",INDEX(Veri!$AK$31:$AK$500,MATCH(V38,Veri!$AS$31:$AS$500,0)),\"\"),\"\")","v":""},{"$f":"IFERROR(IF(INDEX(Veri!$AQ$31:$AQ$500,MATCH(V38,Veri!$AS$31:$AS$500,0))<>\"\",INDEX(Veri!$AQ$31:$AQ$500,MATCH(V38,Veri!$AS$31:$AS$500,0)),\"\"),\"\")","v":""},{"$f":"IFERROR(IF(INDEX(Veri!$AM$31:$AM$500,MATCH(V38,Veri!$AS$31:$AS$500,0))<>\"\",INDEX(Veri!$AM$31:$AM$500,MATCH(V38,Veri!$AS$31:$AS$500,0)),\"\"),\"\")","v":""},{"$f":"IFERROR(IF(INDEX(Veri!$AN$31:$AN$500,MATCH(V38,Veri!$AS$31:$AS$500,0))<>\"\",INDEX(Veri!$AN$31:$AN$500,MATCH(V38,Veri!$AS$31:$AS$500,0)),\"\"),\"\")","v":""},{"$f":"IFERROR(IF(INDEX(Veri!$AO$31:$AO$500,MATCH(V38,Veri!$AS$31:$AS$500,0))<>\"\",INDEX(Veri!$AO$31:$AO$500,MATCH(V38,Veri!$AS$31:$AS$500,0)),\"\"),\"\")","v":""}]
[null,null,null,null,null,null,null,null,null,null,null,null,null,null,30,{"$f":"IFERROR(IF(INDEX(Veri!$AA$31:$AA$500,MATCH(O39,Veri!$AI$31:$AI$500,0))<>\"\",INDEX(Veri!$AA$31:$AA$500,MATCH(O39,Veri!$AI$31:$AI$500,0)),\"\"),\"\")","v":""},{"$f":"IFERROR(IF(INDEX(Veri!$AG$31:$AG$500,MATCH(O39,Veri!$AI$31:$AI$500,0))<>\"\",INDEX(Veri!$AG$31:$AG$500,MATCH(O39,Veri!$AI$31:$AI$500,0)),\"\"),\"\")","v":""},{"$f":"IFERROR(IF(INDEX(Veri!$AC$31:$AC$500,MATCH(O39,Veri!$AI$31:$AI$500,0))<>\"\",INDEX(Veri!$AC$31:$AC$500,MATCH(O39,Veri!$AI$31:$AI$500,0)),\"\"),\"\")","v":""},{"$f":"IFERROR(IF(INDEX(Veri!$AD$31:$AD$500,MATCH(O39,Veri!$AI$31:$AI$500,0))<>\"\",INDEX(Veri!$AD$31:$AD$500,MATCH(O39,Veri!$AI$31:$AI$500,0)),\"\"),\"\")","v":""},{"$f":"IFERROR(IF(INDEX(Veri!$AE$31:$AE$500,MATCH(O39,Veri!$AI$31:$AI$500,0))<>\"\",INDEX(Veri!$AE$31:$AE$500,MATCH(O39,Veri!$AI$31:$AI$500,0)),\"\"),\"\")","v":""},null,30,{"$f":"IFERROR(IF(INDEX(Veri!$AK$31:$AK$500,MATCH(V39,Veri!$AS$31:$AS$500,0))<>\"\",INDEX(Veri!$AK$31:$AK$500,MATCH(V39,Veri!$AS$31:$AS$500,0)),\"\"),\"\")","v":""},{"$f":"IFERROR(IF(INDEX(Veri!$AQ$31:$AQ$500,MATCH(V39,Veri!$AS$31:$AS$500,0))<>\"\",INDEX(Veri!$AQ$31:$AQ$500,MATCH(V39,Veri!$AS$31:$AS$500,0)),\"\"),\"\")","v":""},{"$f":"IFERROR(IF(INDEX(Veri!$AM$31:$AM$500,MATCH(V39,Veri!$AS$31:$AS$500,0))<>\"\",INDEX(Veri!$AM$31:$AM$500,MATCH(V39,Veri!$AS$31:$AS$500,0)),\"\"),\"\")","v":""},{"$f":"IFERROR(IF(INDEX(Veri!$AN$31:$AN$500,MATCH(V39,Veri!$AS$31:$AS$500,0))<>\"\",INDEX(Veri!$AN$31:$AN$500,MATCH(V39,Veri!$AS$31:$AS$500,0)),\"\"),\"\")","v":""},{"$f":"IFERROR(IF(INDEX(Veri!$AO$31:$AO$500,MATCH(V39,Veri!$AS$31:$AS$500,0))<>\"\",INDEX(Veri!$AO$31:$AO$500,MATCH(V39,Veri!$AS$31:$AS$500,0)),\"\"),\"\")","v":""}]
[null,"Lig","Ev Sahibi","Deplasman","İY","MS","Lig","Ev Sahibi","Deplasman","İY","MS",null,null,null,31,{"$f":"IFERROR(IF(INDEX(Veri!$AA$31:$AA$500,MATCH(O40,Veri!$AI$31:$AI$500,0))<>\"\",INDEX(Veri!$AA$31:$AA$500,MATCH(O40,Veri!$AI$31:$AI$500,0)),\"\"),\"\")","v":""},{"$f":"IFERROR(IF(INDEX(Veri!$AG$31:$AG$500,MATCH(O40,Veri!$AI$31:$AI$500,0))<>\"\",INDEX(Veri!$AG$31:$AG$500,MATCH(O40,Veri!$AI$31:$AI$500,0)),\"\"),\"\")","v":""},{"$f":"IFERROR(IF(INDEX(Veri!$AC$31:$AC$500,MATCH(O40,Veri!$AI$31:$AI$500,0))<>\"\",INDEX(Veri!$AC$31:$AC$500,MATCH(O40,Veri!$AI$31:$AI$500,0)),\"\"),\"\")","v":""},{"$f":"IFERROR(IF(INDEX(Veri!$AD$31:$AD$500,MATCH(O40,Veri!$AI$31:$AI$500,0))<>\"\",INDEX(Veri!$AD$31:$AD$500,MATCH(O40,Veri!$AI$31:$AI$500,0)),\"\"),\"\")","v":""},{"$f":"IFERROR(IF(INDEX(Veri!$AE$31:$AE$500,MATCH(O40,Veri!$AI$31:$AI$500,0))<>\"\",INDEX(Veri!$AE$31:$AE$500,MATCH(O40,Veri!$AI$31:$AI$500,0)),\"\"),\"\")","v":""},null,31,{"$f":"IFERROR(IF(INDEX(Veri!$AK$31:$AK$500,MATCH(V40,Veri!$AS$31:$AS$500,0))<>\"\",INDEX(Veri!$AK$31:$AK$500,MATCH(V40,Veri!$AS$31:$AS$500,0)),\"\"),\"\")","v":""},{"$f":"IFERROR(IF(INDEX(Veri!$AQ$31:$AQ$500,MATCH(V40,Veri!$AS$31:$AS$500,0))<>\"\",INDEX(Veri!$AQ$31:$AQ$500,MATCH(V40,Veri!$AS$31:$AS$500,0)),\"\"),\"\")","v":""},{"$f":"IFERROR(IF(INDEX(Veri!$AM$31:$AM$500,MATCH(V40,Veri!$AS$31:$AS$500,0))<>\"\",INDEX(Veri!$AM$31:$AM$500,MATCH(V40,Veri!$AS$31:$AS$500,0)),\"\"),\"\")","v":""},{"$f":"IFERROR(IF(INDEX(Veri!$AN$31:$AN$500,MATCH(V40,Veri!$AS$31:$AS$500,0))<>\"\",INDEX(Veri!$AN$31:$AN$500,MATCH(V40,Veri!$AS$31:$AS$500,0)),\"\"),\"\")","v":""},{"$f":"IFERROR(IF(INDEX(Veri!$AO$31:$AO$500,MATCH(V40,Veri!$AS$31:$AS$500,0))<>\"\",INDEX(Veri!$AO$31:$AO$500,MATCH(V40,Veri!$AS$31:$AS$500,0)),\"\"),\"\")","v":""}]
[null,{"$f":"IF(INDEX(Veri!$B$31:$B$33,MATCH(\"League/Cup\",Veri!$B$31:$B$33,0)+2,1)<>\"\",INDEX(Veri!$B$31:$B$33,MATCH(\"League/Cup\",Veri!$B$31:$B$33,0)+2,1),\"\")","v":{"$error":"#N/A"}},{"$f":"IF(INDEX(Veri!D$31:$D$33,MATCH(\"League/Cup\",Veri!B$31:$B$33,0)+2,1)<>\"\",IF(COUNTIF(INDEX(Veri!D$31:$D$33,MATCH(\"League/Cup\",Veri!B$31:$B$33,0)+2,1),\"*\"&$B$3&\"*\"),$B$3,INDEX(Veri!D$31:$D$33,MATCH(\"League/Cup\",Veri!B$31:$B$33,0)+2,1)),\"\")","v":{"$error":"#N/A"}},{"$f":"IF(INDEX(Veri!H$31:$H$33,MATCH(\"League/Cup\",Veri!B$31:$B$33,0)+2,1)<>\"\",IF(COUNTIF(INDEX(Veri!H$31:$H$33,MATCH(\"League/Cup\",Veri!B$31:$B$33,0)+2,1),\"*\"&$B$3&\"*\"),$B$3,INDEX(Veri!H$31:$H$33,MATCH(\"League/Cup\",Veri!B$31:$B$33,0)+2,1)),\"\")","v":{"$error":"#N/A"}},{"$f":"IF(INDEX(Veri!F$31:$F$33,MATCH(\"League/Cup\",Veri!B$31:$B$33,0)+2,1)<>\"\",INDEX(Veri!F$31:$F$33,MATCH(\"League/Cup\",Veri!B$31:$B$33,0)+2,1),\"\")","v":{"$error":"#N/A"}},{"$f":"IF(INDEX(Veri!E$31:$E$33,MATCH(\"League/Cup\",Veri!B$31:$B$33,0)+2,1)<>\"\",INDEX(Veri!E$31:$E$33,MATCH(\"League/Cup\",Veri!B$31:$B$33,0)+2,1),\"\")","v":{"$error":"#N/A"}},null,null,null,null,null,null,null,null,32,{"$f":"IFERROR(IF(INDEX(Veri!$AA$31:$AA$500,MATCH(O41,Veri!$AI$31:$AI$500,0))<>\"\",INDEX(Veri!$AA$31:$AA$500,MATCH(O41,Veri!$AI$31:$AI$500,0)),\"\"),\"\")","v":""},{"$f":"IFERROR(IF(INDEX(Veri!$AG$31:$AG$500,MATCH(O41,Veri!$AI$31:$AI$500,0))<>\"\",INDEX(Veri!$AG$31:$AG$500,MATCH(O41,Veri!$AI$31:$AI$500,0)),\"\"),\"\")","v":""},{"$f":"IFERROR(IF(INDEX(Veri!$AC$31:$AC$500,MATCH(O41,Veri!$AI$31:$AI$500,0))<>\"\",INDEX(Veri!$AC$31:$AC$500,MATCH(O41,Veri!$AI$31:$AI$500,0)),\"\"),\"\")","v":""},{"$f":"IFERROR(IF(INDEX(Veri!$AD$31:$AD$500,MATCH(O41,Veri!$AI$31:$AI$500,0))<>\"\",INDEX(Veri!$AD$31:$AD$500,MATCH(O41,Veri!$AI$31:$AI$500,0)),\"\"),\"\")","v":""},{"$f":"IFERROR(IF(INDEX(Veri!$AE$31:$AE$500,MATCH(O41,Veri!$AI$31:$AI$500,0))<>\"\",INDEX(Veri!$AE$31:$AE$500,MATCH(O41,Veri!$AI$31:$AI$500,0)),\"\"),\"\")","v":""},null,32,{"$f":"IFERROR(IF(INDEX(Veri!$AK$31:$AK$500,MATCH(V41,Veri!$AS$31:$AS$500,0))<>\"\",INDEX(Veri!$AK$31:$AK$500,MATCH(V41,Veri!$AS$31:$AS$500,0)),\"\"),\"\")","v":""},{"$f":"IFERROR(IF(INDEX(Veri!$AQ$31:$AQ$500,MATCH(V41,Veri!$AS$31:$AS$500,0))<>\"\",INDEX(Veri!$AQ$31:$AQ$500,MATCH(V41,Veri!$AS$31:$AS$500,0)),\"\"),\"\")","v":""},{"$f":"IFERROR(IF(INDEX(Veri!$AM$31:$AM$500,MATCH(V41,Veri!$AS$31:$AS$500,0))<>\"\",INDEX(Veri!$AM$31:$AM$500,MATCH(V41,Veri!$AS$31:$AS$500,0)),\"\"),\"\")","v":""},{"$f":"IFERROR(IF(INDEX(Veri!$AN$31:$AN$500,MATCH(V41,Veri!$AS$31:$AS$500,0))<>\"\",INDEX(Veri!$AN$31:$AN$500,MATCH(V41,Veri!$AS$31:$AS$500,0)),\"\"),\"\")","v":""},{"$f":"IFERROR(IF(INDEX(Veri!$AO$31:$AO$500,MATCH(V41,Veri!$AS$31:$AS$500,0))<>\"\",INDEX(Veri!$AO$31:$AO$500,MATCH(V41,Veri!$AS$31:$AS$500,0)),\"\"),\"\")","v":""}]
[null,{"$f":"IF(INDEX(Veri!$B$31:$B$33,MATCH(\"League/Cup\",Veri!$B$31:$B$33,0)+3,1)<>\"\",INDEX(Veri!$B$31:$B$33,MATCH(\"League/Cup\",Veri!$B$31:$B$33,0)+3,1),\"\")","v":{"$error":"#N/A"}},{"$f":"IF(INDEX(Veri!D$31:$D$33,MATCH(\"League/Cup\",Veri!B$31:$B$33,0)+3,1)<>\"\",IF(COUNTIF(INDEX(Veri!D$31:$D$33,MATCH(\"League/Cup\",Veri!B$31:$B$33,0)+3,1),\"*\"&$B$3&\"*\"),$B$3,INDEX(Veri!D$31:$D$33,MATCH(\"League/Cup\",Veri!B$31:$B$33,0)+3,1)),\"\")","v":{"$error":"#N/A"}},{"$f":"IF(INDEX(Veri!H$31:$H$33,MATCH(\"League/Cup\",Veri!B$31:$B$33,0)+3,1)<>\"\",IF(COUNTIF(INDEX(Veri!H$31:$H$33,MATCH(\"League/Cup\",Veri!B$31:$B$33,0)+3,1),\"*\"&$B$3&\"*\"),$B$3,INDEX(Veri!H$31:$H$33,MATCH(\"League/Cup\",Veri!B$31:$B$33,0)+3,1)),\"\")","v":{"$error":"#N/A"}},{"$f":"IF(INDEX(Veri!F$31:$F$33,MATCH(\"League/Cup\",Veri!B$31:$B$33,0)+3,1)<>\"\",INDEX(Veri!F$31:$F$33,MATCH(\"League/Cup\",Veri!B$31:$B$33,0)+3,1),\"\")","v":{"$error":"#N/A"}},{"$f":"IF(INDEX(Veri!E$31:$E$33,MATCH(\"League/Cup\",Veri!B$31:$B$33,0)+3,1)<>\"\",INDEX(Veri!E$31:$E$33,MATCH(\"League/Cup\",Veri!B$31:$B$33,0)+3,1),\"\")","v":{"$error":"#N/A"}},null,null,null,null,null,null,null,null,33,{"$f":"IFERROR(IF(INDEX(Veri!$AA$31:$AA$500,MATCH(O42,Veri!$AI$31:$AI$500,0))<>\"\",INDEX(Veri!$AA$31:$AA$500,MATCH(O42,Veri!$AI$31:$AI$500,0)),\"\"),\"\")","v":""},{"$f":"IFERROR(IF(INDEX(Veri!$AG$31:$AG$500,MATCH(O42,Veri!$AI$31:$AI$500,0))<>\"\",INDEX(Veri!$AG$31:$AG$500,MATCH(O42,Veri!$AI$31:$AI$500,0)),\"\"),\"\")","v":""},{"$f":"IFERROR(IF(INDEX(Veri!$AC$31:$AC$500,MATCH(O42,Veri!$AI$31:$AI$500,0))<>\"\",INDEX(Veri!$AC$31:$AC$500,MATCH(O42,Veri!$AI$31:$AI$500,0)),\"\"),\"\")","v":""},{"$f":"IFERROR(IF(INDEX(Veri!$AD$31:$AD$500,MATCH(O42,Veri!$AI$31:$AI$500,0))<>\"\",INDEX(Veri!$AD$31:$AD$500,MATCH(O42,Veri!$AI$31:$AI$500,0)),\"\"),\"\")","v":""},{"$f":"IFERROR(IF(INDEX(Veri!$AE$31:$AE$500,MATCH(O42,Veri!$AI$31:$AI$500,0))<>\"\",INDEX(Veri!$AE$31:$AE$500,MATCH(O42,Veri!$AI$31:$AI$500,0)),\"\"),\"\")","v":""},null,33,{"$f":"IFERROR(IF(INDEX(Veri!$AK$31:$AK$500,MATCH(V42,Veri!$AS$31:$AS$500,0))<>\"\",INDEX(Veri!$AK$31:$AK$500,MATCH(V42,Veri!$AS$31:$AS$500,0)),\"\"),\"\")","v":""},{"$f":"IFERROR(IF(INDEX(Veri!$AQ$31:$AQ$500,MATCH(V42,Veri!$AS$31:$AS$500,0))<>\"\",INDEX(Veri!$AQ$31:$AQ$500,MATCH(V42,Veri!$AS$31:$AS$500,0)),\"\"),\"\")","v":""},{"$f":"IFERROR(IF(INDEX(Veri!$AM$31:$AM$500,MATCH(V42,Veri!$AS$31:$AS$500,0))<>\"\",INDEX(Veri!$AM$31:$AM$500,MATCH(V42,Veri!$AS$31:$AS$500,0)),\"\"),\"\")","v":""},{"$f":"IFERROR(IF(INDEX(Veri!$AN$31:$AN$500,MATCH(V42,Veri!$AS$31:$AS$500,0))<>\"\",INDEX(Veri!$AN$31:$AN$500,MATCH(V42,Veri!$AS$31:$AS$500,0)),\"\"),\"\")","v":""},{"$f":"IFERROR(IF(INDEX(Veri!$AO$31:$AO$500,MATCH(V42,Veri!$AS$31:$AS$500,0))<>\"\",INDEX(Veri!$AO$31:$AO$500,MATCH(V42,Veri!$AS$31:$AS$500,0)),\"\"),\"\")","v":""}]
[null,{"$f":"IF(INDEX(Veri!$B$31:$B$33,MATCH(\"League/Cup\",Veri!$B$31:$B$33,0)+4,1)<>\"\",INDEX(Veri!$B$31:$B$33,MATCH(\"League/Cup\",Veri!$B$31:$B$33,0)+4,1),\"\")","v":{"$error":"#N/A"}},{"$f":"IF(INDEX(Veri!D$31:$D$33,MATCH(\"League/Cup\",Veri!B$31:$B$33,0)+4,1)<>\"\",IF(COUNTIF(INDEX(Veri!D$31:$D$33,MATCH(\"League/Cup\",Veri!B$31:$B$33,0)+4,1),\"*\"&$B$3&\"*\"),$B$3,INDEX(Veri!D$31:$D$33,MATCH(\"League/Cup\",Veri!B$31:$B$33,0)+4,1)),\"\")","v":{"$error":"#N/A"}},{"$f":"IF(INDEX(Veri!H$31:$H$33,MATCH(\"League/Cup\",Veri!B$31:$B$33,0)+4,1)<>\"\",IF(COUNTIF(INDEX(Veri!H$31:$H$33,MATCH(\"League/Cup\",Veri!B$31:$B$33,0)+4,1),\"*\"&$B$3&\"*\"),$B$3,INDEX(Veri!H$31:$H$33,MATCH(\"League/Cup\",Veri!B$31:$B$33,0)+4,1)),\"\")","v":{"$error":"#N/A"}},{"$f":"IF(INDEX(Veri!F$31:$F$33,MATCH(\"League/Cup\",Veri!B$31:$B$33,0)+4,1)<>\"\",INDEX(Veri!F$31:$F$33,MATCH(\"League/Cup\",Veri!B$31:$B$33,0)+4,1),\"\")","v":{"$error":"#N/A"}},{"$f":"IF(INDEX(Veri!E$31:$E$33,MATCH(\"League/Cup\",Veri!B$31:$B$33,0)+4,1)<>\"\",INDEX(Veri!E$31:$E$33,MATCH(\"League/Cup\",Veri!B$31:$B$33,0)+4,1),\"\")","v":{"$error":"#N/A"}},null,null,null,null,null,null,null,null,34,{"$f":"IFERROR(IF(INDEX(Veri!$AA$31:$AA$500,MATCH(O43,Veri!$AI$31:$AI$500,0))<>\"\",INDEX(Veri!$AA$31:$AA$500,MATCH(O43,Veri!$AI$31:$AI$500,0)),\"\"),\"\")","v":""},{"$f":"IFERROR(IF(INDEX(Veri!$AG$31:$AG$500,MATCH(O43,Veri!$AI$31:$AI$500,0))<>\"\",INDEX(Veri!$AG$31:$AG$500,MATCH(O43,Veri!$AI$31:$AI$500,0)),\"\"),\"\")","v":""},{"$f":"IFERROR(IF(INDEX(Veri!$AC$31:$AC$500,MATCH(O43,Veri!$AI$31:$AI$500,0))<>\"\",INDEX(Veri!$AC$31:$AC$500,MATCH(O43,Veri!$AI$31:$AI$500,0)),\"\"),\"\")","v":""},{"$f":"IFERROR(IF(INDEX(Veri!$AD$31:$AD$500,MATCH(O43,Veri!$AI$31:$AI$500,0))<>\"\",INDEX(Veri!$AD$31:$AD$500,MATCH(O43,Veri!$AI$31:$AI$500,0)),\"\"),\"\")","v":""},{"$f":"IFERROR(IF(INDEX(Veri!$AE$31:$AE$500,MATCH(O43,Veri!$AI$31:$AI$500,0))<>\"\",INDEX(Veri!$AE$31:$AE$500,MATCH(O43,Veri!$AI$31:$AI$500,0)),\"\"),\"\")","v":""},null,34,{"$f":"IFERROR(IF(INDEX(Veri!$AK$31:$AK$500,MATCH(V43,Veri!$AS$31:$AS$500,0))<>\"\",INDEX(Veri!$AK$31:$AK$500,MATCH(V43,Veri!$AS$31:$AS$500,0)),\"\"),\"\")","v":""},{"$f":"IFERROR(IF(INDEX(Veri!$AQ$31:$AQ$500,MATCH(V43,Veri!$AS$31:$AS$500,0))<>\"\",INDEX(Veri!$AQ$31:$AQ$500,MATCH(V43,Veri!$AS$31:$AS$500,0)),\"\"),\"\")","v":""},{"$f":"IFERROR(IF(INDEX(Veri!$AM$31:$AM$500,MATCH(V43,Veri!$AS$31:$AS$500,0))<>\"\",INDEX(Veri!$AM$31:$AM$500,MATCH(V43,Veri!$AS$31:$AS$500,0)),\"\"),\"\")","v":""},{"$f":"IFERROR(IF(INDEX(Veri!$AN$31:$AN$500,MATCH(V43,Veri!$AS$31:$AS$500,0))<>\"\",INDEX(Veri!$AN$31:$AN$500,MATCH(V43,Veri!$AS$31:$AS$500,0)),\"\"),\"\")","v":""},{"$f":"IFERROR(IF(INDEX(Veri!$AO$31:$AO$500,MATCH(V43,Veri!$AS$31:$AS$500,0))<>\"\",INDEX(Veri!$AO$31:$AO$500,MATCH(V43,Veri!$AS$31:$AS$500,0)),\"\"),\"\")","v":""}]
[null,{"$f":"IF(INDEX(Veri!$B$31:$B$33,MATCH(\"League/Cup\",Veri!$B$31:$B$33,0)+5,1)<>\"\",INDEX(Veri!$B$31:$B$33,MATCH(\"League/Cup\",Veri!$B$31:$B$33,0)+5,1),\"\")","v":{"$error":"#N/A"}},{"$f":"IF(INDEX(Veri!D$31:$D$33,MATCH(\"League/Cup\",Veri!B$31:$B$33,0)+5,1)<>\"\",IF(COUNTIF(INDEX(Veri!D$31:$D$33,MATCH(\"League/Cup\",Veri!B$31:$B$33,0)+5,1),\"*\"&$B$3&\"*\"),$B$3,INDEX(Veri!D$31:$D$33,MATCH(\"League/Cup\",Veri!B$31:$B$33,0)+5,1)),\"\")","v":{"$error":"#N/A"}},{"$f":"IF(INDEX(Veri!H$31:$H$33,MATCH(\"League/Cup\",Veri!B$31:$B$33,0)+5,1)<>\"\",IF(COUNTIF(INDEX(Veri!H$31:$H$33,MATCH(\"League/Cup\",Veri!B$31:$B$33,0)+5,1),\"*\"&$B$3&\"*\"),$B$3,INDEX(Veri!H$31:$H$33,MATCH(\"League/Cup\",Veri!B$31:$B$33,0)+5,1)),\"\")","v":{"$error":"#N/A"}},{"$f":"IF(INDEX(Veri!F$31:$F$33,MATCH(\"League/Cup\",Veri!B$31:$B$33,0)+5,1)<>\"\",INDEX(Veri!F$31:$F$33,MATCH(\"League/Cup\",Veri!B$31:$B$33,0)+5,1),\"\")","v":{"$error":"#N/A"}},{"$f":"IF(INDEX(Veri!E$31:$E$33,MATCH(\"League/Cup\",Veri!B$31:$B$33,0)+5,1)<>\"\",INDEX(Veri!E$31:$E$33,MATCH(\"League/Cup\",Veri!B$31:$B$33,0)+5,1),\"\")","v":{"$error":"#N/A"}},null,null,null,null,null,null,null,null,35,{"$f":"IFERROR(IF(INDEX(Veri!$AA$31:$AA$500,MATCH(O44,Veri!$AI$31:$AI$500,0))<>\"\",INDEX(Veri!$AA$31:$AA$500,MATCH(O44,Veri!$AI$31:$AI$500,0)),\"\"),\"\")","v":""},{"$f":"IFERROR(IF(INDEX(Veri!$AG$31:$AG$500,MATCH(O44,Veri!$AI$31:$AI$500,0))<>\"\",INDEX(Veri!$AG$31:$AG$500,MATCH(O44,Veri!$AI$31:$AI$500,0)),\"\"),\"\")","v":""},{"$f":"IFERROR(IF(INDEX(Veri!$AC$31:$AC$500,MATCH(O44,Veri!$AI$31:$AI$500,0))<>\"\",INDEX(Veri!$AC$31:$AC$500,MATCH(O44,Veri!$AI$31:$AI$500,0)),\"\"),\"\")","v":""},{"$f":"IFERROR(IF(INDEX(Veri!$AD$31:$AD$500,MATCH(O44,Veri!$AI$31:$AI$500,0))<>\"\",INDEX(Veri!$AD$31:$AD$500,MATCH(O44,Veri!$AI$31:$AI$500,0)),\"\"),\"\")","v":""},{"$f":"IFERROR(IF(INDEX(Veri!$AE$31:$AE$500,MATCH(O44,Veri!$AI$31:$AI$500,0))<>\"\",INDEX(Veri!$AE$31:$AE$500,MATCH(O44,Veri!$AI$31:$AI$500,0)),\"\"),\"\")","v":""},null,35,{"$f":"IFERROR(IF(INDEX(Veri!$AK$31:$AK$500,MATCH(V44,Veri!$AS$31:$AS$500,0))<>\"\",INDEX(Veri!$AK$31:$AK$500,MATCH(V44,Veri!$AS$31:$AS$500,0)),\"\"),\"\")","v":""},{"$f":"IFERROR(IF(INDEX(Veri!$AQ$31:$AQ$500,MATCH(V44,Veri!$AS$31:$AS$500,0))<>\"\",INDEX(Veri!$AQ$31:$AQ$500,MATCH(V44,Veri!$AS$31:$AS$500,0)),\"\"),\"\")","v":""},{"$f":"IFERROR(IF(INDEX(Veri!$AM$31:$AM$500,MATCH(V44,Veri!$AS$31:$AS$500,0))<>\"\",INDEX(Veri!$AM$31:$AM$500,MATCH(V44,Veri!$AS$31:$AS$500,0)),\"\"),\"\")","v":""},{"$f":"IFERROR(IF(INDEX(Veri!$AN$31:$AN$500,MATCH(V44,Veri!$AS$31:$AS$500,0))<>\"\",INDEX(Veri!$AN$31:$AN$500,MATCH(V44,Veri!$AS$31:$AS$500,0)),\"\"),\"\")","v":""},{"$f":"IFERROR(IF(INDEX(Veri!$AO$31:$AO$500,MATCH(V44,Veri!$AS$31:$AS$500,0))<>\"\",INDEX(Veri!$AO$31:$AO$500,MATCH(V44,Veri!$AS$31:$AS$500,0)),\"\"),\"\")","v":""}]
[null,{"$f":"IF(INDEX(Veri!$B$31:$B$33,MATCH(\"League/Cup\",Veri!$B$31:$B$33,0)+6,1)<>\"\",INDEX(Veri!$B$31:$B$33,MATCH(\"League/Cup\",Veri!$B$31:$B$33,0)+6,1),\"\")","v":{"$error":"#N/A"}},{"$f":"IF(INDEX(Veri!D$31:$D$33,MATCH(\"League/Cup\",Veri!B$31:$B$33,0)+6,1)<>\"\",IF(COUNTIF(INDEX(Veri!D$31:$D$33,MATCH(\"League/Cup\",Veri!B$31:$B$33,0)+6,1),\"*\"&$B$3&\"*\"),$B$3,INDEX(Veri!D$31:$D$33,MATCH(\"League/Cup\",Veri!B$31:$B$33,0)+6,1)),\"\")","v":{"$error":"#N/A"}},{"$f":"IF(INDEX(Veri!H$31:$H$33,MATCH(\"League/Cup\",Veri!B$31:$B$33,0)+6,1)<>\"\",IF(COUNTIF(INDEX(Veri!H$31:$H$33,MATCH(\"League/Cup\",Veri!B$31:$B$33,0)+6,1),\"*\"&$B$3&\"*\"),$B$3,INDEX(Veri!H$31:$H$33,MATCH(\"League/Cup\",Veri!B$31:$B$33,0)+6,1)),\"\")","v":{"$error":"#N/A"}},{"$f":"IF(INDEX(Veri!F$31:$F$33,MATCH(\"League/Cup\",Veri!B$31:$B$33,0)+6,1)<>\"\",INDEX(Veri!F$31:$F$33,MATCH(\"League/Cup\",Veri!B$31:$B$33,0)+6,1),\"\")","v":{"$error":"#N/A"}},{"$f":"IF(INDEX(Veri!E$31:$E$33,MATCH(\"League/Cup\",Veri!B$31:$B$33,0)+6,1)<>\"\",INDEX(Veri!E$31:$E$33,MATCH(\"League/Cup\",Veri!B$31:$B$33,0)+6,1),\"\")","v":{"$error":"#N/A"}},null,null,null,null,null,null,null,null,36,{"$f":"IFERROR(IF(INDEX(Veri!$AA$31:$AA$500,MATCH(O45,Veri!$AI$31:$AI$500,0))<>\"\",INDEX(Veri!$AA$31:$AA$500,MATCH(O45,Veri!$AI$31:$AI$500,0)),\"\"),\"\")","v":""},{"$f":"IFERROR(IF(INDEX(Veri!$AG$31:$AG$500,MATCH(O45,Veri!$AI$31:$AI$500,0))<>\"\",INDEX(Veri!$AG$31:$AG$500,MATCH(O45,Veri!$AI$31:$AI$500,0)),\"\"),\"\")","v":""},{"$f":"IFERROR(IF(INDEX(Veri!$AC$31:$AC$500,MATCH(O45,Veri!$AI$31:$AI$500,0))<>\"\",INDEX(Veri!$AC$31:$AC$500,MATCH(O45,Veri!$AI$31:$AI$500,0)),\"\"),\"\")","v":""},{"$f":"IFERROR(IF(INDEX(Veri!$AD$31:$AD$500,MATCH(O45,Veri!$AI$31:$AI$500,0))<>\"\",INDEX(Veri!$AD$31:$AD$500,MATCH(O45,Veri!$AI$31:$AI$500,0)),\"\"),\"\")","v":""},{"$f":"IFERROR(IF(INDEX(Veri!$AE$31:$AE$500,MATCH(O45,Veri!$AI$31:$AI$500,0))<>\"\",INDEX(Veri!$AE$31:$AE$500,MATCH(O45,Veri!$AI$31:$AI$500,0)),\"\"),\"\")","v":""},null,36,{"$f":"IFERROR(IF(INDEX(Veri!$AK$31:$AK$500,MATCH(V45,Veri!$AS$31:$AS$500,0))<>\"\",INDEX(Veri!$AK$31:$AK$500,MATCH(V45,Veri!$AS$31:$AS$500,0)),\"\"),\"\")","v":""},{"$f":"IFERROR(IF(INDEX(Veri!$AQ$31:$AQ$500,MATCH(V45,Veri!$AS$31:$AS$500,0))<>\"\",INDEX(Veri!$AQ$31:$AQ$500,MATCH(V45,Veri!$AS$31:$AS$500,0)),\"\"),\"\")","v":""},{"$f":"IFERROR(IF(INDEX(Veri!$AM$31:$AM$500,MATCH(V45,Veri!$AS$31:$AS$500,0))<>\"\",INDEX(Veri!$AM$31:$AM$500,MATCH(V45,Veri!$AS$31:$AS$500,0)),\"\"),\"\")","v":""},{"$f":"IFERROR(IF(INDEX(Veri!$AN$31:$AN$500,MATCH(V45,Veri!$AS$31:$AS$500,0))<>\"\",INDEX(Veri!$AN$31:$AN$500,MATCH(V45,Veri!$AS$31:$AS$500,0)),\"\"),\"\")","v":""},{"$f":"IFERROR(IF(INDEX(Veri!$AO$31:$AO$500,MATCH(V45,Veri!$AS$31:$AS$500,0))<>\"\",INDEX(Veri!$AO$31:$AO$500,MATCH(V45,Veri!$AS$31:$AS$500,0)),\"\"),\"\")","v":""}]
[null,{"$f":"IF(INDEX(Veri!$B$31:$B$33,MATCH(\"League/Cup\",Veri!$B$31:$B$33,0)+7,1)<>\"\",INDEX(Veri!$B$31:$B$33,MATCH(\"League/Cup\",Veri!$B$31:$B$33,0)+7,1),\"\")","v":{"$error":"#N/A"}},{"$f":"IF(INDEX(Veri!D$31:$D$33,MATCH(\"League/Cup\",Veri!B$31:$B$33,0)+7,1)<>\"\",IF(COUNTIF(INDEX(Veri!D$31:$D$33,MATCH(\"League/Cup\",Veri!B$31:$B$33,0)+7,1),\"*\"&$B$3&\"*\"),$B$3,INDEX(Veri!D$31:$D$33,MATCH(\"League/Cup\",Veri!B$31:$B$33,0)+7,1)),\"\")","v":{"$error":"#N/A"}},{"$f":"IF(INDEX(Veri!H$31:$H$33,MATCH(\"League/Cup\",Veri!B$31:$B$33,0)+7,1)<>\"\",IF(COUNTIF(INDEX(Veri!H$31:$H$33,MATCH(\"League/Cup\",Veri!B$31:$B$33,0)+7,1),\"*\"&$B$3&\"*\"),$B$3,INDEX(Veri!H$31:$H$33,MATCH(\"League/Cup\",Veri!B$31:$B$33,0)+7,1)),\"\")","v":{"$error":"#N/A"}},{"$f":"IF(INDEX(Veri!F$31:$F$33,MATCH(\"League/Cup\",Veri!B$31:$B$33,0)+7,1)<>\"\",INDEX(Veri!F$31:$F$33,MATCH(\"League/Cup\",Veri!B$31:$B$33,0)+7,1),\"\")","v":{"$error":"#N/A"}},{"$f":"IF(INDEX(Veri!E$31:$E$33,MATCH(\"League/Cup\",Veri!B$31:$B$33,0)+7,1)<>\"\",INDEX(Veri!E$31:$E$33,MATCH(\"League/Cup\",Veri!B$31:$B$33,0)+7,1),\"\")","v":{"$error":"#N/A"}},null,null,null,null,null,null,null,null,37,{"$f":"IFERROR(IF(INDEX(Veri!$AA$31:$AA$500,MATCH(O46,Veri!$AI$31:$AI$500,0))<>\"\",INDEX(Veri!$AA$31:$AA$500,MATCH(O46,Veri!$AI$31:$AI$500,0)),\"\"),\"\")","v":""},{"$f":"IFERROR(IF(INDEX(Veri!$AG$31:$AG$500,MATCH(O46,Veri!$AI$31:$AI$500,0))<>\"\",INDEX(Veri!$AG$31:$AG$500,MATCH(O46,Veri!$AI$31:$AI$500,0)),\"\"),\"\")","v":""},{"$f":"IFERROR(IF(INDEX(Veri!$AC$31:$AC$500,MATCH(O46,Veri!$AI$31:$AI$500,0))<>\"\",INDEX(Veri!$AC$31:$AC$500,MATCH(O46,Veri!$AI$31:$AI$500,0)),\"\"),\"\")","v":""},{"$f":"IFERROR(IF(INDEX(Veri!$AD$31:$AD$500,MATCH(O46,Veri!$AI$31:$AI$500,0))<>\"\",INDEX(Veri!$AD$31:$AD$500,MATCH(O46,Veri!$AI$31:$AI$500,0)),\"\"),\"\")","v":""},{"$f":"IFERROR(IF(INDEX(Veri!$AE$31:$AE$500,MATCH(O46,Veri!$AI$31:$AI$500,0))<>\"\",INDEX(Veri!$AE$31:$AE$500,MATCH(O46,Veri!$AI$31:$AI$500,0)),\"\"),\"\")","v":""},null,37,{"$f":"IFERROR(IF(INDEX(Veri!$AK$31:$AK$500,MATCH(V46,Veri!$AS$31:$AS$500,0))<>\"\",INDEX(Veri!$AK$31:$AK$500,MATCH(V46,Veri!$AS$31:$AS$500,0)),\"\"),\"\")","v":""},{"$f":"IFERROR(IF(INDEX(Veri!$AQ$31:$AQ$500,MATCH(V46,Veri!$AS$31:$AS$500,0))<>\"\",INDEX(Veri!$AQ$31:$AQ$500,MATCH(V46,Veri!$AS$31:$AS$500,0)),\"\"),\"\")","v":""},{"$f":"IFERROR(IF(INDEX(Veri!$AM$31:$AM$500,MATCH(V46,Veri!$AS$31:$AS$500,0))<>\"\",INDEX(Veri!$AM$31:$AM$500,MATCH(V46,Veri!$AS$31:$AS$500,0)),\"\"),\"\")","v":""},{"$f":"IFERROR(IF(INDEX(Veri!$AN$31:$AN$500,MATCH(V46,Veri!$AS$31:$AS$500,0))<>\"\",INDEX(Veri!$AN$31:$AN$500,MATCH(V46,Veri!$AS$31:$AS$500,0)),\"\"),\"\")","v":""},{"$f":"IFERROR(IF(INDEX(Veri!$AO$31:$AO$500,MATCH(V46,Veri!$AS$31:$AS$500,0))<>\"\",INDEX(Veri!$AO$31:$AO$500,MATCH(V46,Veri!$AS$31:$AS$500,0)),\"\"),\"\")","v":""}]
[null,{"$f":"IF(INDEX(Veri!$B$31:$B$33,MATCH(\"League/Cup\",Veri!$B$31:$B$33,0)+8,1)<>\"\",INDEX(Veri!$B$31:$B$33,MATCH(\"League/Cup\",Veri!$B$31:$B$33,0)+8,1),\"\")","v":{"$error":"#N/A"}},{"$f":"IF(INDEX(Veri!D$31:$D$33,MATCH(\"League/Cup\",Veri!B$31:$B$33,0)+8,1)<>\"\",IF(COUNTIF(INDEX(Veri!D$31:$D$33,MATCH(\"League/Cup\",Veri!B$31:$B$33,0)+8,1),\"*\"&$B$3&\"*\"),$B$3,INDEX(Veri!D$31:$D$33,MATCH(\"League/Cup\",Veri!B$31:$B$33,0)+8,1)),\"\")","v":{"$error":"#N/A"}},{"$f":"IF(INDEX(Veri!H$31:$H$33,MATCH(\"League/Cup\",Veri!B$31:$B$33,0)+8,1)<>\"\",IF(COUNTIF(INDEX(Veri!H$31:$H$33,MATCH(\"League/Cup\",Veri!B$31:$B$33,0)+8,1),\"*\"&$B$3&\"*\"),$B$3,INDEX(Veri!H$31:$H$33,MATCH(\"League/Cup\",Veri!B$31:$B$33,0)+8,1)),\"\")","v":{"$error":"#N/A"}},{"$f":"IF(INDEX(Veri!F$31:$F$33,MATCH(\"League/Cup\",Veri!B$31:$B$33,0)+8,1)<>\"\",INDEX(Veri!F$31:$F$33,MATCH(\"League/Cup\",Veri!B$31:$B$33,0)+8,1),\"\")","v":{"$error":"#N/A"}},{"$f":"IF(INDEX(Veri!E$31:$E$33,MATCH(\"League/Cup\",Veri!B$31:$B$33,0)+8,1)<>\"\",INDEX(Veri!E$31:$E$33,MATCH(\"League/Cup\",Veri!B$31:$B$33,0)+8,1),\"\")","v":{"$error":"#N/A"}},null,null,null,null,null,null,null,null,38,{"$f":"IFERROR(IF(INDEX(Veri!$AA$31:$AA$500,MATCH(O47,Veri!$AI$31:$AI$500,0))<>\"\",INDEX(Veri!$AA$31:$AA$500,MATCH(O47,Veri!$AI$31:$AI$500,0)),\"\"),\"\")","v":""},{"$f":"IFERROR(IF(INDEX(Veri!$AG$31:$AG$500,MATCH(O47,Veri!$AI$31:$AI$500,0))<>\"\",INDEX(Veri!$AG$31:$AG$500,MATCH(O47,Veri!$AI$31:$AI$500,0)),\"\"),\"\")","v":""},{"$f":"IFERROR(IF(INDEX(Veri!$AC$31:$AC$500,MATCH(O47,Veri!$AI$31:$AI$500,0))<>\"\",INDEX(Veri!$AC$31:$AC$500,MATCH(O47,Veri!$AI$31:$AI$500,0)),\"\"),\"\")","v":""},{"$f":"IFERROR(IF(INDEX(Veri!$AD$31:$AD$500,MATCH(O47,Veri!$AI$31:$AI$500,0))<>\"\",INDEX(Veri!$AD$31:$AD$500,MATCH(O47,Veri!$AI$31:$AI$500,0)),\"\"),\"\")","v":""},{"$f":"IFERROR(IF(INDEX(Veri!$AE$31:$AE$500,MATCH(O47,Veri!$AI$31:$AI$500,0))<>\"\",INDEX(Veri!$AE$31:$AE$500,MATCH(O47,Veri!$AI$31:$AI$500,0)),\"\"),\"\")","v":""},null,38,{"$f":"IFERROR(IF(INDEX(Veri!$AK$31:$AK$500,MATCH(V47,Veri!$AS$31:$AS$500,0))<>\"\",INDEX(Veri!$AK$31:$AK$500,MATCH(V47,Veri!$AS$31:$AS$500,0)),\"\"),\"\")","v":""},{"$f":"IFERROR(IF(INDEX(Veri!$AQ$31:$AQ$500,MATCH(V47,Veri!$AS$31:$AS$500,0))<>\"\",INDEX(Veri!$AQ$31:$AQ$500,MATCH(V47,Veri!$AS$31:$AS$500,0)),\"\"),\"\")","v":""},{"$f":"IFERROR(IF(INDEX(Veri!$AM$31:$AM$500,MATCH(V47,Veri!$AS$31:$AS$500,0))<>\"\",INDEX(Veri!$AM$31:$AM$500,MATCH(V47,Veri!$AS$31:$AS$500,0)),\"\"),\"\")","v":""},{"$f":"IFERROR(IF(INDEX(Veri!$AN$31:$AN$500,MATCH(V47,Veri!$AS$31:$AS$500,0))<>\"\",INDEX(Veri!$AN$31:$AN$500,MATCH(V47,Veri!$AS$31:$AS$500,0)),\"\"),\"\")","v":""},{"$f":"IFERROR(IF(INDEX(Veri!$AO$31:$AO$500,MATCH(V47,Veri!$AS$31:$AS$500,0))<>\"\",INDEX(Veri!$AO$31:$AO$500,MATCH(V47,Veri!$AS$31:$AS$500,0)),\"\"),\"\")","v":""}]
[null,{"$f":"IF(INDEX(Veri!$B$31:$B$33,MATCH(\"League/Cup\",Veri!$B$31:$B$33,0)+9,1)<>\"\",INDEX(Veri!$B$31:$B$33,MATCH(\"League/Cup\",Veri!$B$31:$B$33,0)+9,1),\"\")","v":{"$error":"#N/A"}},{"$f":"IF(INDEX(Veri!D$31:$D$33,MATCH(\"League/Cup\",Veri!B$31:$B$33,0)+9,1)<>\"\",IF(COUNTIF(INDEX(Veri!D$31:$D$33,MATCH(\"League/Cup\",Veri!B$31:$B$33,0)+9,1),\"*\"&$B$3&\"*\"),$B$3,INDEX(Veri!D$31:$D$33,MATCH(\"League/Cup\",Veri!B$31:$B$33,0)+9,1)),\"\")","v":{"$error":"#N/A"}},{"$f":"IF(INDEX(Veri!H$31:$H$33,MATCH(\"League/Cup\",Veri!B$31:$B$33,0)+9,1)<>\"\",IF(COUNTIF(INDEX(Veri!H$31:$H$33,MATCH(\"League/Cup\",Veri!B$31:$B$33,0)+9,1),\"*\"&$B$3&\"*\"),$B$3,INDEX(Veri!H$31:$H$33,MATCH(\"League/Cup\",Veri!B$31:$B$33,0)+9,1)),\"\")","v":{"$error":"#N/A"}},{"$f":"IF(INDEX(Veri!F$31:$F$33,MATCH(\"League/Cup\",Veri!B$31:$B$33,0)+9,1)<>\"\",INDEX(Veri!F$31:$F$33,MATCH(\"League/Cup\",Veri!B$31:$B$33,0)+9,1),\"\")","v":{"$error":"#N/A"}},{"$f":"IF(INDEX(Veri!E$31:$E$33,MATCH(\"League/Cup\",Veri!B$31:$B$33,0)+9,1)<>\"\",INDEX(Veri!E$31:$E$33,MATCH(\"League/Cup\",Veri!B$31:$B$33,0)+9,1),\"\")","v":{"$error":"#N/A"}},null,null,null,null,null,null,null,null,39,{"$f":"IFERROR(IF(INDEX(Veri!$AA$31:$AA$500,MATCH(O48,Veri!$AI$31:$AI$500,0))<>\"\",INDEX(Veri!$AA$31:$AA$500,MATCH(O48,Veri!$AI$31:$AI$500,0)),\"\"),\"\")","v":""},{"$f":"IFERROR(IF(INDEX(Veri!$AG$31:$AG$500,MATCH(O48,Veri!$AI$31:$AI$500,0))<>\"\",INDEX(Veri!$AG$31:$AG$500,MATCH(O48,Veri!$AI$31:$AI$500,0)),\"\"),\"\")","v":""},{"$f":"IFERROR(IF(INDEX(Veri!$AC$31:$AC$500,MATCH(O48,Veri!$AI$31:$AI$500,0))<>\"\",INDEX(Veri!$AC$31:$AC$500,MATCH(O48,Veri!$AI$31:$AI$500,0)),\"\"),\"\")","v":""},{"$f":"IFERROR(IF(INDEX(Veri!$AD$31:$AD$500,MATCH(O48,Veri!$AI$31:$AI$500,0))<>\"\",INDEX(Veri!$AD$31:$AD$500,MATCH(O48,Veri!$AI$31:$AI$500,0)),\"\"),\"\")","v":""},{"$f":"IFERROR(IF(INDEX(Veri!$AE$31:$AE$500,MATCH(O48,Veri!$AI$31:$AI$500,0))<>\"\",INDEX(Veri!$AE$31:$AE$500,MATCH(O48,Veri!$AI$31:$AI$500,0)),\"\"),\"\")","v":""},null,39,{"$f":"IFERROR(IF(INDEX(Veri!$AK$31:$AK$500,MATCH(V48,Veri!$AS$31:$AS$500,0))<>\"\",INDEX(Veri!$AK$31:$AK$500,MATCH(V48,Veri!$AS$31:$AS$500,0)),\"\"),\"\")","v":""},{"$f":"IFERROR(IF(INDEX(Veri!$AQ$31:$AQ$500,MATCH(V48,Veri!$AS$31:$AS$500,0))<>\"\",INDEX(Veri!$AQ$31:$AQ$500,MATCH(V48,Veri!$AS$31:$AS$500,0)),\"\"),\"\")","v":""},{"$f":"IFERROR(IF(INDEX(Veri!$AM$31:$AM$500,MATCH(V48,Veri!$AS$31:$AS$500,0))<>\"\",INDEX(Veri!$AM$31:$AM$500,MATCH(V48,Veri!$AS$31:$AS$500,0)),\"\"),\"\")","v":""},{"$f":"IFERROR(IF(INDEX(Veri!$AN$31:$AN$500,MATCH(V48,Veri!$AS$31:$AS$500,0))<>\"\",INDEX(Veri!$AN$31:$AN$500,MATCH(V48,Veri!$AS$31:$AS$500,0)),\"\"),\"\")","v":""},{"$f":"IFERROR(IF(INDEX(Veri!$AO$31:$AO$500,MATCH(V48,Veri!$AS$31:$AS$500,0))<>\"\",INDEX(Veri!$AO$31:$AO$500,MATCH(V48,Veri!$AS$31:$AS$500,0)),\"\"),\"\")","v":""}]
[null,{"$f":"IF(INDEX(Veri!$B$31:$B$33,MATCH(\"League/Cup\",Veri!$B$31:$B$33,0)+10,1)<>\"\",INDEX(Veri!$B$31:$B$33,MATCH(\"League/Cup\",Veri!$B$31:$B$33,0)+10,1),\"\")","v":{"$error":"#N/A"}},{"$f":"IF(INDEX(Veri!D$31:$D$33,MATCH(\"League/Cup\",Veri!B$31:$B$33,0)+10,1)<>\"\",IF(COUNTIF(INDEX(Veri!D$31:$D$33,MATCH(\"League/Cup\",Veri!B$31:$B$33,0)+10,1),\"*\"&$B$3&\"*\"),$B$3,INDEX(Veri!D$31:$D$33,MATCH(\"League/Cup\",Veri!B$31:$B$33,0)+10,1)),\"\")","v":{"$error":"#N/A"}},{"$f":"IF(INDEX(Veri!H$31:$H$33,MATCH(\"League/Cup\",Veri!B$31:$B$33,0)+10,1)<>\"\",IF(COUNTIF(INDEX(Veri!H$31:$H$33,MATCH(\"League/Cup\",Veri!B$31:$B$33,0)+10,1),\"*\"&$B$3&\"*\"),$B$3,INDEX(Veri!H$31:$H$33,MATCH(\"League/Cup\",Veri!B$31:$B$33,0)+10,1)),\"\")","v":{"$error":"#N/A"}},{"$f":"IF(INDEX(Veri!F$31:$F$33,MATCH(\"League/Cup\",Veri!B$31:$B$33,0)+10,1)<>\"\",INDEX(Veri!F$31:$F$33,MATCH(\"League/Cup\",Veri!B$31:$B$33,0)+10,1),\"\")","v":{"$error":"#N/A"}},{"$f":"IF(INDEX(Veri!E$31:$E$33,MATCH(\"League/Cup\",Veri!B$31:$B$33,0)+10,1)<>\"\",INDEX(Veri!E$31:$E$33,MATCH(\"League/Cup\",Veri!B$31:$B$33,0)+10,1),\"\")","v":{"$error":"#N/A"}},null,null,null,null,null,null,null,null,40,{"$f":"IFERROR(IF(INDEX(Veri!$AA$31:$AA$500,MATCH(O49,Veri!$AI$31:$AI$500,0))<>\"\",INDEX(Veri!$AA$31:$AA$500,MATCH(O49,Veri!$AI$31:$AI$500,0)),\"\"),\"\")","v":""},{"$f":"IFERROR(IF(INDEX(Veri!$AG$31:$AG$500,MATCH(O49,Veri!$AI$31:$AI$500,0))<>\"\",INDEX(Veri!$AG$31:$AG$500,MATCH(O49,Veri!$AI$31:$AI$500,0)),\"\"),\"\")","v":""},{"$f":"IFERROR(IF(INDEX(Veri!$AC$31:$AC$500,MATCH(O49,Veri!$AI$31:$AI$500,0))<>\"\",INDEX(Veri!$AC$31:$AC$500,MATCH(O49,Veri!$AI$31:$AI$500,0)),\"\"),\"\")","v":""},{"$f":"IFERROR(IF(INDEX(Veri!$AD$31:$AD$500,MATCH(O49,Veri!$AI$31:$AI$500,0))<>\"\",INDEX(Veri!$AD$31:$AD$500,MATCH(O49,Veri!$AI$31:$AI$500,0)),\"\"),\"\")","v":""},{"$f":"IFERROR(IF(INDEX(Veri!$AE$31:$AE$500,MATCH(O49,Veri!$AI$31:$AI$500,0))<>\"\",INDEX(Veri!$AE$31:$AE$500,MATCH(O49,Veri!$AI$31:$AI$500,0)),\"\"),\"\")","v":""},null,40,{"$f":"IFERROR(IF(INDEX(Veri!$AK$31:$AK$500,MATCH(V49,Veri!$AS$31:$AS$500,0))<>\"\",INDEX(Veri!$AK$31:$AK$500,MATCH(V49,Veri!$AS$31:$AS$500,0)),\"\"),\"\")","v":""},{"$f":"IFERROR(IF(INDEX(Veri!$AQ$31:$AQ$500,MATCH(V49,Veri!$AS$31:$AS$500,0))<>\"\",INDEX(Veri!$AQ$31:$AQ$500,MATCH(V49,Veri!$AS$31:$AS$500,0)),\"\"),\"\")","v":""},{"$f":"IFERROR(IF(INDEX(Veri!$AM$31:$AM$500,MATCH(V49,Veri!$AS$31:$AS$500,0))<>\"\",INDEX(Veri!$AM$31:$AM$500,MATCH(V49,Veri!$AS$31:$AS$500,0)),\"\"),\"\")","v":""},{"$f":"IFERROR(IF(INDEX(Veri!$AN$31:$AN$500,MATCH(V49,Veri!$AS$31:$AS$500,0))<>\"\",INDEX(Veri!$AN$31:$AN$500,MATCH(V49,Veri!$AS$31:$AS$500,0)),\"\"),\"\")","v":""},{"$f":"IFERROR(IF(INDEX(Veri!$AO$31:$AO$500,MATCH(V49,Veri!$AS$31:$AS$500,0))<>\"\",INDEX(Veri!$AO$31:$AO$500,MATCH(V49,Veri!$AS$31:$AS$500,0)),\"\"),\"\")","v":""}]
[null,{"$f":"IF(INDEX(Veri!$B$31:$B$33,MATCH(\"League/Cup\",Veri!$B$31:$B$33,0)+11,1)<>\"\",INDEX(Veri!$B$31:$B$33,MATCH(\"League/Cup\",Veri!$B$31:$B$33,0)+11,1),\"\")","v":{"$error":"#N/A"}},{"$f":"IF(INDEX(Veri!D$31:$D$33,MATCH(\"League/Cup\",Veri!B$31:$B$33,0)+11,1)<>\"\",IF(COUNTIF(INDEX(Veri!D$31:$D$33,MATCH(\"League/Cup\",Veri!B$31:$B$33,0)+11,1),\"*\"&$B$3&\"*\"),$B$3,INDEX(Veri!D$31:$D$33,MATCH(\"League/Cup\",Veri!B$31:$B$33,0)+11,1)),\"\")","v":{"$error":"#N/A"}},{"$f":"IF(INDEX(Veri!H$31:$H$33,MATCH(\"League/Cup\",Veri!B$31:$B$33,0)+11,1)<>\"\",IF(COUNTIF(INDEX(Veri!H$31:$H$33,MATCH(\"League/Cup\",Veri!B$31:$B$33,0)+11,1),\"*\"&$B$3&\"*\"),$B$3,INDEX(Veri!H$31:$H$33,MATCH(\"League/Cup\",Veri!B$31:$B$33,0)+11,1)),\"\")","v":{"$error":"#N/A"}},{"$f":"IF(INDEX(Veri!F$31:$F$33,MATCH(\"League/Cup\",Veri!B$31:$B$33,0)+11,1)<>\"\",INDEX(Veri!F$31:$F$33,MATCH(\"League/Cup\",Veri!B$31:$B$33,0)+11,1),\"\")","v":{"$error":"#N/A"}},{"$f":"IF(INDEX(Veri!E$31:$E$33,MATCH(\"League/Cup\",Veri!B$31:$B$33,0)+11,1)<>\"\",INDEX(Veri!E$31:$E$33,MATCH(\"League/Cup\",Veri!B$31:$B$33,0)+11,1),\"\")","v":{"$error":"#N/A"}},null,null,null,null,null,null,null,null,41,{"$f":"IFERROR(IF(INDEX(Veri!$AA$31:$AA$500,MATCH(O50,Veri!$AI$31:$AI$500,0))<>\"\",INDEX(Veri!$AA$31:$AA$500,MATCH(O50,Veri!$AI$31:$AI$500,0)),\"\"),\"\")","v":""},{"$f":"IFERROR(IF(INDEX(Veri!$AG$31:$AG$500,MATCH(O50,Veri!$AI$31:$AI$500,0))<>\"\",INDEX(Veri!$AG$31:$AG$500,MATCH(O50,Veri!$AI$31:$AI$500,0)),\"\"),\"\")","v":""},{"$f":"IFERROR(IF(INDEX(Veri!$AC$31:$AC$500,MATCH(O50,Veri!$AI$31:$AI$500,0))<>\"\",INDEX(Veri!$AC$31:$AC$500,MATCH(O50,Veri!$AI$31:$AI$500,0)),\"\"),\"\")","v":""},{"$f":"IFERROR(IF(INDEX(Veri!$AD$31:$AD$500,MATCH(O50,Veri!$AI$31:$AI$500,0))<>\"\",INDEX(Veri!$AD$31:$AD$500,MATCH(O50,Veri!$AI$31:$AI$500,0)),\"\"),\"\")","v":""},{"$f":"IFERROR(IF(INDEX(Veri!$AE$31:$AE$500,MATCH(O50,Veri!$AI$31:$AI$500,0))<>\"\",INDEX(Veri!$AE$31:$AE$500,MATCH(O50,Veri!$AI$31:$AI$500,0)),\"\"),\"\")","v":""},null,41,{"$f":"IFERROR(IF(INDEX(Veri!$AK$31:$AK$500,MATCH(V50,Veri!$AS$31:$AS$500,0))<>\"\",INDEX(Veri!$AK$31:$AK$500,MATCH(V50,Veri!$AS$31:$AS$500,0)),\"\"),\"\")","v":""},{"$f":"IFERROR(IF(INDEX(Veri!$AQ$31:$AQ$500,MATCH(V50,Veri!$AS$31:$AS$500,0))<>\"\",INDEX(Veri!$AQ$31:$AQ$500,MATCH(V50,Veri!$AS$31:$AS$500,0)),\"\"),\"\")","v":""},{"$f":"IFERROR(IF(INDEX(Veri!$AM$31:$AM$500,MATCH(V50,Veri!$AS$31:$AS$500,0))<>\"\",INDEX(Veri!$AM$31:$AM$500,MATCH(V50,Veri!$AS$31:$AS$500,0)),\"\"),\"\")","v":""},{"$f":"IFERROR(IF(INDEX(Veri!$AN$31:$AN$500,MATCH(V50,Veri!$AS$31:$AS$500,0))<>\"\",INDEX(Veri!$AN$31:$AN$500,MATCH(V50,Veri!$AS$31:$AS$500,0)),\"\"),\"\")","v":""},{"$f":"IFERROR(IF(INDEX(Veri!$AO$31:$AO$500,MATCH(V50,Veri!$AS$31:$AS$500,0))<>\"\",INDEX(Veri!$AO$31:$AO$500,MATCH(V50,Veri!$AS$31:$AS$500,0)),\"\"),\"\")","v":""}]
[null,null,null,null,null,null,null,null,null,null,null,null,null,null,42,{"$f":"IFERROR(IF(INDEX(Veri!$AA$31:$AA$500,MATCH(O51,Veri!$AI$31:$AI$500,0))<>\"\",INDEX(Veri!$AA$31:$AA$500,MATCH(O51,Veri!$AI$31:$AI$500,0)),\"\"),\"\")","v":""},{"$f":"IFERROR(IF(INDEX(Veri!$AG$31:$AG$500,MATCH(O51,Veri!$AI$31:$AI$500,0))<>\"\",INDEX(Veri!$AG$31:$AG$500,MATCH(O51,Veri!$AI$31:$AI$500,0)),\"\"),\"\")","v":""},{"$f":"IFERROR(IF(INDEX(Veri!$AC$31:$AC$500,MATCH(O51,Veri!$AI$31:$AI$500,0))<>\"\",INDEX(Veri!$AC$31:$AC$500,MATCH(O51,Veri!$AI$31:$AI$500,0)),\"\"),\"\")","v":""},{"$f":"IFERROR(IF(INDEX(Veri!$AD$31:$AD$500,MATCH(O51,Veri!$AI$31:$AI$500,0))<>\"\",INDEX(Veri!$AD$31:$AD$500,MATCH(O51,Veri!$AI$31:$AI$500,0)),\"\"),\"\")","v":""},{"$f":"IFERROR(IF(INDEX(Veri!$AE$31:$AE$500,MATCH(O51,Veri!$AI$31:$AI$500,0))<>\"\",INDEX(Veri!$AE$31:$AE$500,MATCH(O51,Veri!$AI$31:$AI$500,0)),\"\"),\"\")","v":""},null,42,{"$f":"IFERROR(IF(INDEX(Veri!$AK$31:$AK$500,MATCH(V51,Veri!$AS$31:$AS$500,0))<>\"\",INDEX(Veri!$AK$31:$AK$500,MATCH(V51,Veri!$AS$31:$AS$500,0)),\"\"),\"\")","v":""},{"$f":"IFERROR(IF(INDEX(Veri!$AQ$31:$AQ$500,MATCH(V51,Veri!$AS$31:$AS$500,0))<>\"\",INDEX(Veri!$AQ$31:$AQ$500,MATCH(V51,Veri!$AS$31:$AS$500,0)),\"\"),\"\")","v":""},{"$f":"IFERROR(IF(INDEX(Veri!$AM$31:$AM$500,MATCH(V51,Veri!$AS$31:$AS$500,0))<>\"\",INDEX(Veri!$AM$31:$AM$500,MATCH(V51,Veri!$AS$31:$AS$500,0)),\"\"),\"\")","v":""},{"$f":"IFERROR(IF(INDEX(Veri!$AN$31:$AN$500,MATCH(V51,Veri!$AS$31:$AS$500,0))<>\"\",INDEX(Veri!$AN$31:$AN$500,MATCH(V51,Veri!$AS$31:$AS$500,0)),\"\"),\"\")","v":""},{"$f":"IFERROR(IF(INDEX(Veri!$AO$31:$AO$500,MATCH(V51,Veri!$AS$31:$AS$500,0))<>\"\",INDEX(Veri!$AO$31:$AO$500,MATCH(V51,Veri!$AS$31:$AS$500,0)),\"\"),\"\")","v":""}]
[null,null,null,null,null,null,null,null,null,null,null,null,null,null,43,{"$f":"IFERROR(IF(INDEX(Veri!$AA$31:$AA$500,MATCH(O52,Veri!$AI$31:$AI$500,0))<>\"\",INDEX(Veri!$AA$31:$AA$500,MATCH(O52,Veri!$AI$31:$AI$500,0)),\"\"),\"\")","v":""},{"$f":"IFERROR(IF(INDEX(Veri!$AG$31:$AG$500,MATCH(O52,Veri!$AI$31:$AI$500,0))<>\"\",INDEX(Veri!$AG$31:$AG$500,MATCH(O52,Veri!$AI$31:$AI$500,0)),\"\"),\"\")","v":""},{"$f":"IFERROR(IF(INDEX(Veri!$AC$31:$AC$500,MATCH(O52,Veri!$AI$31:$AI$500,0))<>\"\",INDEX(Veri!$AC$31:$AC$500,MATCH(O52,Veri!$AI$31:$AI$500,0)),\"\"),\"\")","v":""},{"$f":"IFERROR(IF(INDEX(Veri!$AD$31:$AD$500,MATCH(O52,Veri!$AI$31:$AI$500,0))<>\"\",INDEX(Veri!$AD$31:$AD$500,MATCH(O52,Veri!$AI$31:$AI$500,0)),\"\"),\"\")","v":""},{"$f":"IFERROR(IF(INDEX(Veri!$AE$31:$AE$500,MATCH(O52,Veri!$AI$31:$AI$500,0))<>\"\",INDEX(Veri!$AE$31:$AE$500,MATCH(O52,Veri!$AI$31:$AI$500,0)),\"\"),\"\")","v":""},null,43,{"$f":"IFERROR(IF(INDEX(Veri!$AK$31:$AK$500,MATCH(V52,Veri!$AS$31:$AS$500,0))<>\"\",INDEX(Veri!$AK$31:$AK$500,MATCH(V52,Veri!$AS$31:$AS$500,0)),\"\"),\"\")","v":""},{"$f":"IFERROR(IF(INDEX(Veri!$AQ$31:$AQ$500,MATCH(V52,Veri!$AS$31:$AS$500,0))<>\"\",INDEX(Veri!$AQ$31:$AQ$500,MATCH(V52,Veri!$AS$31:$AS$500,0)),\"\"),\"\")","v":""},{"$f":"IFERROR(IF(INDEX(Veri!$AM$31:$AM$500,MATCH(V52,Veri!$AS$31:$AS$500,0))<>\"\",INDEX(Veri!$AM$31:$AM$500,MATCH(V52,Veri!$AS$31:$AS$500,0)),\"\"),\"\")","v":""},{"$f":"IFERROR(IF(INDEX(Veri!$AN$31:$AN$500,MATCH(V52,Veri!$AS$31:$AS$500,0))<>\"\",INDEX(Veri!$AN$31:$AN$500,MATCH(V52,Veri!$AS$31:$AS$500,0)),\"\"),\"\")","v":""},{"$f":"IFERROR(IF(INDEX(Veri!$AO$31:$AO$500,MATCH(V52,Veri!$AS$31:$AS$500,0))<>\"\",INDEX(Veri!$AO$31:$AO$500,MATCH(V52,Veri!$AS$31:$AS$500,0)),\"\"),\"\")","v":""}]
[null,null,null,null,null,null,null,null,null,null,null,null,null,null,44,{"$f":"IFERROR(IF(INDEX(Veri!$AA$31:$AA$500,MATCH(O53,Veri!$AI$31:$AI$500,0))<>\"\",INDEX(Veri!$AA$31:$AA$500,MATCH(O53,Veri!$AI$31:$AI$500,0)),\"\"),\"\")","v":""},{"$f":"IFERROR(IF(INDEX(Veri!$AG$31:$AG$500,MATCH(O53,Veri!$AI$31:$AI$500,0))<>\"\",INDEX(Veri!$AG$31:$AG$500,MATCH(O53,Veri!$AI$31:$AI$500,0)),\"\"),\"\")","v":""},{"$f":"IFERROR(IF(INDEX(Veri!$AC$31:$AC$500,MATCH(O53,Veri!$AI$31:$AI$500,0))<>\"\",INDEX(Veri!$AC$31:$AC$500,MATCH(O53,Veri!$AI$31:$AI$500,0)),\"\"),\"\")","v":""},{"$f":"IFERROR(IF(INDEX(Veri!$AD$31:$AD$500,MATCH(O53,Veri!$AI$31:$AI$500,0))<>\"\",INDEX(Veri!$AD$31:$AD$500,MATCH(O53,Veri!$AI$31:$AI$500,0)),\"\"),\"\")","v":""},{"$f":"IFERROR(IF(INDEX(Veri!$AE$31:$AE$500,MATCH(O53,Veri!$AI$31:$AI$500,0))<>\"\",INDEX(Veri!$AE$31:$AE$500,MATCH(O53,Veri!$AI$31:$AI$500,0)),\"\"),\"\")","v":""},null,44,{"$f":"IFERROR(IF(INDEX(Veri!$AK$31:$AK$500,MATCH(V53,Veri!$AS$31:$AS$500,0))<>\"\",INDEX(Veri!$AK$31:$AK$500,MATCH(V53,Veri!$AS$31:$AS$500,0)),\"\"),\"\")","v":""},{"$f":"IFERROR(IF(INDEX(Veri!$AQ$31:$AQ$500,MATCH(V53,Veri!$AS$31:$AS$500,0))<>\"\",INDEX(Veri!$AQ$31:$AQ$500,MATCH(V53,Veri!$AS$31:$AS$500,0)),\"\"),\"\")","v":""},{"$f":"IFERROR(IF(INDEX(Veri!$AM$31:$AM$500,MATCH(V53,Veri!$AS$31:$AS$500,0))<>\"\",INDEX(Veri!$AM$31:$AM$500,MATCH(V53,Veri!$AS$31:$AS$500,0)),\"\"),\"\")","v":""},{"$f":"IFERROR(IF(INDEX(Veri!$AN$31:$AN$500,MATCH(V53,Veri!$AS$31:$AS$500,0))<>\"\",INDEX(Veri!$AN$31:$AN$500,MATCH(V53,Veri!$AS$31:$AS$500,0)),\"\"),\"\")","v":""},{"$f":"IFERROR(IF(INDEX(Veri!$AO$31:$AO$500,MATCH(V53,Veri!$AS$31:$AS$500,0))<>\"\",INDEX(Veri!$AO$31:$AO$500,MATCH(V53,Veri!$AS$31:$AS$500,0)),\"\"),\"\")","v":""}]
[null,null,null,null,null,null,null,null,null,null,null,null,null,null,45,{"$f":"IFERROR(IF(INDEX(Veri!$AA$31:$AA$500,MATCH(O54,Veri!$AI$31:$AI$500,0))<>\"\",INDEX(Veri!$AA$31:$AA$500,MATCH(O54,Veri!$AI$31:$AI$500,0)),\"\"),\"\")","v":""},{"$f":"IFERROR(IF(INDEX(Veri!$AG$31:$AG$500,MATCH(O54,Veri!$AI$31:$AI$500,0))<>\"\",INDEX(Veri!$AG$31:$AG$500,MATCH(O54,Veri!$AI$31:$AI$500,0)),\"\"),\"\")","v":""},{"$f":"IFERROR(IF(INDEX(Veri!$AC$31:$AC$500,MATCH(O54,Veri!$AI$31:$AI$500,0))<>\"\",INDEX(Veri!$AC$31:$AC$500,MATCH(O54,Veri!$AI$31:$AI$500,0)),\"\"),\"\")","v":""},{"$f":"IFERROR(IF(INDEX(Veri!$AD$31:$AD$500,MATCH(O54,Veri!$AI$31:$AI$500,0))<>\"\",INDEX(Veri!$AD$31:$AD$500,MATCH(O54,Veri!$AI$31:$AI$500,0)),\"\"),\"\")","v":""},{"$f":"IFERROR(IF(INDEX(Veri!$AE$31:$AE$500,MATCH(O54,Veri!$AI$31:$AI$500,0))<>\"\",INDEX(Veri!$AE$31:$AE$500,MATCH(O54,Veri!$AI$31:$AI$500,0)),\"\"),\"\")","v":""},null,45,{"$f":"IFERROR(IF(INDEX(Veri!$AK$31:$AK$500,MATCH(V54,Veri!$AS$31:$AS$500,0))<>\"\",INDEX(Veri!$AK$31:$AK$500,MATCH(V54,Veri!$AS$31:$AS$500,0)),\"\"),\"\")","v":""},{"$f":"IFERROR(IF(INDEX(Veri!$AQ$31:$AQ$500,MATCH(V54,Veri!$AS$31:$AS$500,0))<>\"\",INDEX(Veri!$AQ$31:$AQ$500,MATCH(V54,Veri!$AS$31:$AS$500,0)),\"\"),\"\")","v":""},{"$f":"IFERROR(IF(INDEX(Veri!$AM$31:$AM$500,MATCH(V54,Veri!$AS$31:$AS$500,0))<>\"\",INDEX(Veri!$AM$31:$AM$500,MATCH(V54,Veri!$AS$31:$AS$500,0)),\"\"),\"\")","v":""},{"$f":"IFERROR(IF(INDEX(Veri!$AN$31:$AN$500,MATCH(V54,Veri!$AS$31:$AS$500,0))<>\"\",INDEX(Veri!$AN$31:$AN$500,MATCH(V54,Veri!$AS$31:$AS$500,0)),\"\"),\"\")","v":""},{"$f":"IFERROR(IF(INDEX(Veri!$AO$31:$AO$500,MATCH(V54,Veri!$AS$31:$AS$500,0))<>\"\",INDEX(Veri!$AO$31:$AO$500,MATCH(V54,Veri!$AS$31:$AS$500,0)),\"\"),\"\")","v":""}]
[null,null,null,null,null,null,null,null,null,null,null,null,null,null,46,{"$f":"IFERROR(IF(INDEX(Veri!$AA$31:$AA$500,MATCH(O55,Veri!$AI$31:$AI$500,0))<>\"\",INDEX(Veri!$AA$31:$AA$500,MATCH(O55,Veri!$AI$31:$AI$500,0)),\"\"),\"\")","v":""},{"$f":"IFERROR(IF(INDEX(Veri!$AG$31:$AG$500,MATCH(O55,Veri!$AI$31:$AI$500,0))<>\"\",INDEX(Veri!$AG$31:$AG$500,MATCH(O55,Veri!$AI$31:$AI$500,0)),\"\"),\"\")","v":""},{"$f":"IFERROR(IF(INDEX(Veri!$AC$31:$AC$500,MATCH(O55,Veri!$AI$31:$AI$500,0))<>\"\",INDEX(Veri!$AC$31:$AC$500,MATCH(O55,Veri!$AI$31:$AI$500,0)),\"\"),\"\")","v":""},{"$f":"IFERROR(IF(INDEX(Veri!$AD$31:$AD$500,MATCH(O55,Veri!$AI$31:$AI$500,0))<>\"\",INDEX(Veri!$AD$31:$AD$500,MATCH(O55,Veri!$AI$31:$AI$500,0)),\"\"),\"\")","v":""},{"$f":"IFERROR(IF(INDEX(Veri!$AE$31:$AE$500,MATCH(O55,Veri!$AI$31:$AI$500,0))<>\"\",INDEX(Veri!$AE$31:$AE$500,MATCH(O55,Veri!$AI$31:$AI$500,0)),\"\"),\"\")","v":""},null,46,{"$f":"IFERROR(IF(INDEX(Veri!$AK$31:$AK$500,MATCH(V55,Veri!$AS$31:$AS$500,0))<>\"\",INDEX(Veri!$AK$31:$AK$500,MATCH(V55,Veri!$AS$31:$AS$500,0)),\"\"),\"\")","v":""},{"$f":"IFERROR(IF(INDEX(Veri!$AQ$31:$AQ$500,MATCH(V55,Veri!$AS$31:$AS$500,0))<>\"\",INDEX(Veri!$AQ$31:$AQ$500,MATCH(V55,Veri!$AS$31:$AS$500,0)),\"\"),\"\")","v":""},{"$f":"IFERROR(IF(INDEX(Veri!$AM$31:$AM$500,MATCH(V55,Veri!$AS$31:$AS$500,0))<>\"\",INDEX(Veri!$AM$31:$AM$500,MATCH(V55,Veri!$AS$31:$AS$500,0)),\"\"),\"\")","v":""},{"$f":"IFERROR(IF(INDEX(Veri!$AN$31:$AN$500,MATCH(V55,Veri!$AS$31:$AS$500,0))<>\"\",INDEX(Veri!$AN$31:$AN$500,MATCH(V55,Veri!$AS$31:$AS$500,0)),\"\"),\"\")","v":""},{"$f":"IFERROR(IF(INDEX(Veri!$AO$31:$AO$500,MATCH(V55,Veri!$AS$31:$AS$500,0))<>\"\",INDEX(Veri!$AO$31:$AO$500,MATCH(V55,Veri!$AS$31:$AS$500,0)),\"\"),\"\")","v":""}]
[null,null,null,null,null,null,null,null,null,null,null,null,null,null,47,{"$f":"IFERROR(IF(INDEX(Veri!$AA$31:$AA$500,MATCH(O56,Veri!$AI$31:$AI$500,0))<>\"\",INDEX(Veri!$AA$31:$AA$500,MATCH(O56,Veri!$AI$31:$AI$500,0)),\"\"),\"\")","v":""},{"$f":"IFERROR(IF(INDEX(Veri!$AG$31:$AG$500,MATCH(O56,Veri!$AI$31:$AI$500,0))<>\"\",INDEX(Veri!$AG$31:$AG$500,MATCH(O56,Veri!$AI$31:$AI$500,0)),\"\"),\"\")","v":""},{"$f":"IFERROR(IF(INDEX(Veri!$AC$31:$AC$500,MATCH(O56,Veri!$AI$31:$AI$500,0))<>\"\",INDEX(Veri!$AC$31:$AC$500,MATCH(O56,Veri!$AI$31:$AI$500,0)),\"\"),\"\")","v":""},{"$f":"IFERROR(IF(INDEX(Veri!$AD$31:$AD$500,MATCH(O56,Veri!$AI$31:$AI$500,0))<>\"\",INDEX(Veri!$AD$31:$AD$500,MATCH(O56,Veri!$AI$31:$AI$500,0)),\"\"),\"\")","v":""},{"$f":"IFERROR(IF(INDEX(Veri!$AE$31:$AE$500,MATCH(O56,Veri!$AI$31:$AI$500,0))<>\"\",INDEX(Veri!$AE$31:$AE$500,MATCH(O56,Veri!$AI$31:$AI$500,0)),\"\"),\"\")","v":""},null,47,{"$f":"IFERROR(IF(INDEX(Veri!$AK$31:$AK$500,MATCH(V56,Veri!$AS$31:$AS$500,0))<>\"\",INDEX(Veri!$AK$31:$AK$500,MATCH(V56,Veri!$AS$31:$AS$500,0)),\"\"),\"\")","v":""},{"$f":"IFERROR(IF(INDEX(Veri!$AQ$31:$AQ$500,MATCH(V56,Veri!$AS$31:$AS$500,0))<>\"\",INDEX(Veri!$AQ$31:$AQ$500,MATCH(V56,Veri!$AS$31:$AS$500,0)),\"\"),\"\")","v":""},{"$f":"IFERROR(IF(INDEX(Veri!$AM$31:$AM$500,MATCH(V56,Veri!$AS$31:$AS$500,0))<>\"\",INDEX(Veri!$AM$31:$AM$500,MATCH(V56,Veri!$AS$31:$AS$500,0)),\"\"),\"\")","v":""},{"$f":"IFERROR(IF(INDEX(Veri!$AN$31:$AN$500,MATCH(V56,Veri!$AS$31:$AS$500,0))<>\"\",INDEX(Veri!$AN$31:$AN$500,MATCH(V56,Veri!$AS$31:$AS$500,0)),\"\"),\"\")","v":""},{"$f":"IFERROR(IF(INDEX(Veri!$AO$31:$AO$500,MATCH(V56,Veri!$AS$31:$AS$500,0))<>\"\",INDEX(Veri!$AO$31:$AO$500,MATCH(V56,Veri!$AS$31:$AS$500,0)),\"\"),\"\")","v":""}]
[null,null,null,null,null,null,null,null,null,null,null,null,null,null,48,{"$f":"IFERROR(IF(INDEX(Veri!$AA$31:$AA$500,MATCH(O57,Veri!$AI$31:$AI$500,0))<>\"\",INDEX(Veri!$AA$31:$AA$500,MATCH(O57,Veri!$AI$31:$AI$500,0)),\"\"),\"\")","v":""},{"$f":"IFERROR(IF(INDEX(Veri!$AG$31:$AG$500,MATCH(O57,Veri!$AI$31:$AI$500,0))<>\"\",INDEX(Veri!$AG$31:$AG$500,MATCH(O57,Veri!$AI$31:$AI$500,0)),\"\"),\"\")","v":""},{"$f":"IFERROR(IF(INDEX(Veri!$AC$31:$AC$500,MATCH(O57,Veri!$AI$31:$AI$500,0))<>\"\",INDEX(Veri!$AC$31:$AC$500,MATCH(O57,Veri!$AI$31:$AI$500,0)),\"\"),\"\")","v":""},{"$f":"IFERROR(IF(INDEX(Veri!$AD$31:$AD$500,MATCH(O57,Veri!$AI$31:$AI$500,0))<>\"\",INDEX(Veri!$AD$31:$AD$500,MATCH(O57,Veri!$AI$31:$AI$500,0)),\"\"),\"\")","v":""},{"$f":"IFERROR(IF(INDEX(Veri!$AE$31:$AE$500,MATCH(O57,Veri!$AI$31:$AI$500,0))<>\"\",INDEX(Veri!$AE$31:$AE$500,MATCH(O57,Veri!$AI$31:$AI$500,0)),\"\"),\"\")","v":""},null,48,{"$f":"IFERROR(IF(INDEX(Veri!$AK$31:$AK$500,MATCH(V57,Veri!$AS$31:$AS$500,0))<>\"\",INDEX(Veri!$AK$31:$AK$500,MATCH(V57,Veri!$AS$31:$AS$500,0)),\"\"),\"\")","v":""},{"$f":"IFERROR(IF(INDEX(Veri!$AQ$31:$AQ$500,MATCH(V57,Veri!$AS$31:$AS$500,0))<>\"\",INDEX(Veri!$AQ$31:$AQ$500,MATCH(V57,Veri!$AS$31:$AS$500,0)),\"\"),\"\")","v":""},{"$f":"IFERROR(IF(INDEX(Veri!$AM$31:$AM$500,MATCH(V57,Veri!$AS$31:$AS$500,0))<>\"\",INDEX(Veri!$AM$31:$AM$500,MATCH(V57,Veri!$AS$31:$AS$500,0)),\"\"),\"\")","v":""},{"$f":"IFERROR(IF(INDEX(Veri!$AN$31:$AN$500,MATCH(V57,Veri!$AS$31:$AS$500,0))<>\"\",INDEX(Veri!$AN$31:$AN$500,MATCH(V57,Veri!$AS$31:$AS$500,0)),\"\"),\"\")","v":""},{"$f":"IFERROR(IF(INDEX(Veri!$AO$31:$AO$500,MATCH(V57,Veri!$AS$31:$AS$500,0))<>\"\",INDEX(Veri!$AO$31:$AO$500,MATCH(V57,Veri!$AS$31:$AS$500,0)),\"\"),\"\")","v":""}]
[null,null,null,null,null,null,null,null,null,null,null,null,null,null,49,{"$f":"IFERROR(IF(INDEX(Veri!$AA$31:$AA$500,MATCH(O58,Veri!$AI$31:$AI$500,0))<>\"\",INDEX(Veri!$AA$31:$AA$500,MATCH(O58,Veri!$AI$31:$AI$500,0)),\"\"),\"\")","v":""},{"$f":"IFERROR(IF(INDEX(Veri!$AG$31:$AG$500,MATCH(O58,Veri!$AI$31:$AI$500,0))<>\"\",INDEX(Veri!$AG$31:$AG$500,MATCH(O58,Veri!$AI$31:$AI$500,0)),\"\"),\"\")","v":""},{"$f":"IFERROR(IF(INDEX(Veri!$AC$31:$AC$500,MATCH(O58,Veri!$AI$31:$AI$500,0))<>\"\",INDEX(Veri!$AC$31:$AC$500,MATCH(O58,Veri!$AI$31:$AI$500,0)),\"\"),\"\")","v":""},{"$f":"IFERROR(IF(INDEX(Veri!$AD$31:$AD$500,MATCH(O58,Veri!$AI$31:$AI$500,0))<>\"\",INDEX(Veri!$AD$31:$AD$500,MATCH(O58,Veri!$AI$31:$AI$500,0)),\"\"),\"\")","v":""},{"$f":"IFERROR(IF(INDEX(Veri!$AE$31:$AE$500,MATCH(O58,Veri!$AI$31:$AI$500,0))<>\"\",INDEX(Veri!$AE$31:$AE$500,MATCH(O58,Veri!$AI$31:$AI$500,0)),\"\"),\"\")","v":""},null,49,{"$f":"IFERROR(IF(INDEX(Veri!$AK$31:$AK$500,MATCH(V58,Veri!$AS$31:$AS$500,0))<>\"\",INDEX(Veri!$AK$31:$AK$500,MATCH(V58,Veri!$AS$31:$AS$500,0)),\"\"),\"\")","v":""},{"$f":"IFERROR(IF(INDEX(Veri!$AQ$31:$AQ$500,MATCH(V58,Veri!$AS$31:$AS$500,0))<>\"\",INDEX(Veri!$AQ$31:$AQ$500,MATCH(V58,Veri!$AS$31:$AS$500,0)),\"\"),\"\")","v":""},{"$f":"IFERROR(IF(INDEX(Veri!$AM$31:$AM$500,MATCH(V58,Veri!$AS$31:$AS$500,0))<>\"\",INDEX(Veri!$AM$31:$AM$500,MATCH(V58,Veri!$AS$31:$AS$500,0)),\"\"),\"\")","v":""},{"$f":"IFERROR(IF(INDEX(Veri!$AN$31:$AN$500,MATCH(V58,Veri!$AS$31:$AS$500,0))<>\"\",INDEX(Veri!$AN$31:$AN$500,MATCH(V58,Veri!$AS$31:$AS$500,0)),\"\"),\"\")","v":""},{"$f":"IFERROR(IF(INDEX(Veri!$AO$31:$AO$500,MATCH(V58,Veri!$AS$31:$AS$500,0))<>\"\",INDEX(Veri!$AO$31:$AO$500,MATCH(V58,Veri!$AS$31:$AS$500,0)),\"\"),\"\")","v":""}]
[null,null,null,null,null,null,null,null,null,null,null,null,null,null,50,{"$f":"IFERROR(IF(INDEX(Veri!$AA$31:$AA$500,MATCH(O59,Veri!$AI$31:$AI$500,0))<>\"\",INDEX(Veri!$AA$31:$AA$500,MATCH(O59,Veri!$AI$31:$AI$500,0)),\"\"),\"\")","v":""},{"$f":"IFERROR(IF(INDEX(Veri!$AG$31:$AG$500,MATCH(O59,Veri!$AI$31:$AI$500,0))<>\"\",INDEX(Veri!$AG$31:$AG$500,MATCH(O59,Veri!$AI$31:$AI$500,0)),\"\"),\"\")","v":""},{"$f":"IFERROR(IF(INDEX(Veri!$AC$31:$AC$500,MATCH(O59,Veri!$AI$31:$AI$500,0))<>\"\",INDEX(Veri!$AC$31:$AC$500,MATCH(O59,Veri!$AI$31:$AI$500,0)),\"\"),\"\")","v":""},{"$f":"IFERROR(IF(INDEX(Veri!$AD$31:$AD$500,MATCH(O59,Veri!$AI$31:$AI$500,0))<>\"\",INDEX(Veri!$AD$31:$AD$500,MATCH(O59,Veri!$AI$31:$AI$500,0)),\"\"),\"\")","v":""},{"$f":"IFERROR(IF(INDEX(Veri!$AE$31:$AE$500,MATCH(O59,Veri!$AI$31:$AI$500,0))<>\"\",INDEX(Veri!$AE$31:$AE$500,MATCH(O59,Veri!$AI$31:$AI$500,0)),\"\"),\"\")","v":""},null,50,{"$f":"IFERROR(IF(INDEX(Veri!$AK$31:$AK$500,MATCH(V59,Veri!$AS$31:$AS$500,0))<>\"\",INDEX(Veri!$AK$31:$AK$500,MATCH(V59,Veri!$AS$31:$AS$500,0)),\"\"),\"\")","v":""},{"$f":"IFERROR(IF(INDEX(Veri!$AQ$31:$AQ$500,MATCH(V59,Veri!$AS$31:$AS$500,0))<>\"\",INDEX(Veri!$AQ$31:$AQ$500,MATCH(V59,Veri!$AS$31:$AS$500,0)),\"\"),\"\")","v":""},{"$f":"IFERROR(IF(INDEX(Veri!$AM$31:$AM$500,MATCH(V59,Veri!$AS$31:$AS$500,0))<>\"\",INDEX(Veri!$AM$31:$AM$500,MATCH(V59,Veri!$AS$31:$AS$500,0)),\"\"),\"\")","v":""},{"$f":"IFERROR(IF(INDEX(Veri!$AN$31:$AN$500,MATCH(V59,Veri!$AS$31:$AS$500,0))<>\"\",INDEX(Veri!$AN$31:$AN$500,MATCH(V59,Veri!$AS$31:$AS$500,0)),\"\"),\"\")","v":""},{"$f":"IFERROR(IF(INDEX(Veri!$AO$31:$AO$500,MATCH(V59,Veri!$AS$31:$AS$500,0))<>\"\",INDEX(Veri!$AO$31:$AO$500,MATCH(V59,Veri!$AS$31:$AS$500,0)),\"\"),\"\")","v":""}]
[null,null,null,null,null,null,null,null,null,null,null,null,null,null,51,{"$f":"IFERROR(IF(INDEX(Veri!$AA$31:$AA$500,MATCH(O60,Veri!$AI$31:$AI$500,0))<>\"\",INDEX(Veri!$AA$31:$AA$500,MATCH(O60,Veri!$AI$31:$AI$500,0)),\"\"),\"\")","v":""},{"$f":"IFERROR(IF(INDEX(Veri!$AG$31:$AG$500,MATCH(O60,Veri!$AI$31:$AI$500,0))<>\"\",INDEX(Veri!$AG$31:$AG$500,MATCH(O60,Veri!$AI$31:$AI$500,0)),\"\"),\"\")","v":""},{"$f":"IFERROR(IF(INDEX(Veri!$AC$31:$AC$500,MATCH(O60,Veri!$AI$31:$AI$500,0))<>\"\",INDEX(Veri!$AC$31:$AC$500,MATCH(O60,Veri!$AI$31:$AI$500,0)),\"\"),\"\")","v":""},{"$f":"IFERROR(IF(INDEX(Veri!$AD$31:$AD$500,MATCH(O60,Veri!$AI$31:$AI$500,0))<>\"\",INDEX(Veri!$AD$31:$AD$500,MATCH(O60,Veri!$AI$31:$AI$500,0)),\"\"),\"\")","v":""},{"$f":"IFERROR(IF(INDEX(Veri!$AE$31:$AE$500,MATCH(O60,Veri!$AI$31:$AI$500,0))<>\"\",INDEX(Veri!$AE$31:$AE$500,MATCH(O60,Veri!$AI$31:$AI$500,0)),\"\"),\"\")","v":""},null,51,{"$f":"IFERROR(IF(INDEX(Veri!$AK$31:$AK$500,MATCH(V60,Veri!$AS$31:$AS$500,0))<>\"\",INDEX(Veri!$AK$31:$AK$500,MATCH(V60,Veri!$AS$31:$AS$500,0)),\"\"),\"\")","v":""},{"$f":"IFERROR(IF(INDEX(Veri!$AQ$31:$AQ$500,MATCH(V60,Veri!$AS$31:$AS$500,0))<>\"\",INDEX(Veri!$AQ$31:$AQ$500,MATCH(V60,Veri!$AS$31:$AS$500,0)),\"\"),\"\")","v":""},{"$f":"IFERROR(IF(INDEX(Veri!$AM$31:$AM$500,MATCH(V60,Veri!$AS$31:$AS$500,0))<>\"\",INDEX(Veri!$AM$31:$AM$500,MATCH(V60,Veri!$AS$31:$AS$500,0)),\"\"),\"\")","v":""},{"$f":"IFERROR(IF(INDEX(Veri!$AN$31:$AN$500,MATCH(V60,Veri!$AS$31:$AS$500,0))<>\"\",INDEX(Veri!$AN$31:$AN$500,MATCH(V60,Veri!$AS$31:$AS$500,0)),\"\"),\"\")","v":""},{"$f":"IFERROR(IF(INDEX(Veri!$AO$31:$AO$500,MATCH(V60,Veri!$AS$31:$AS$500,0))<>\"\",INDEX(Veri!$AO$31:$AO$500,MATCH(V60,Veri!$AS$31:$AS$500,0)),\"\"),\"\")","v":""}]
[null,null,null,null,null,null,null,null,null,null,null,null,null,null,52,{"$f":"IFERROR(IF(INDEX(Veri!$AA$31:$AA$500,MATCH(O61,Veri!$AI$31:$AI$500,0))<>\"\",INDEX(Veri!$AA$31:$AA$500,MATCH(O61,Veri!$AI$31:$AI$500,0)),\"\"),\"\")","v":""},{"$f":"IFERROR(IF(INDEX(Veri!$AG$31:$AG$500,MATCH(O61,Veri!$AI$31:$AI$500,0))<>\"\",INDEX(Veri!$AG$31:$AG$500,MATCH(O61,Veri!$AI$31:$AI$500,0)),\"\"),\"\")","v":""},{"$f":"IFERROR(IF(INDEX(Veri!$AC$31:$AC$500,MATCH(O61,Veri!$AI$31:$AI$500,0))<>\"\",INDEX(Veri!$AC$31:$AC$500,MATCH(O61,Veri!$AI$31:$AI$500,0)),\"\"),\"\")","v":""},{"$f":"IFERROR(IF(INDEX(Veri!$AD$31:$AD$500,MATCH(O61,Veri!$AI$31:$AI$500,0))<>\"\",INDEX(Veri!$AD$31:$AD$500,MATCH(O61,Veri!$AI$31:$AI$500,0)),\"\"),\"\")","v":""},{"$f":"IFERROR(IF(INDEX(Veri!$AE$31:$AE$500,MATCH(O61,Veri!$AI$31:$AI$500,0))<>\"\",INDEX(Veri!$AE$31:$AE$500,MATCH(O61,Veri!$AI$31:$AI$500,0)),\"\"),\"\")","v":""},null,52,{"$f":"IFERROR(IF(INDEX(Veri!$AK$31:$AK$500,MATCH(V61,Veri!$AS$31:$AS$500,0))<>\"\",INDEX(Veri!$AK$31:$AK$500,MATCH(V61,Veri!$AS$31:$AS$500,0)),\"\"),\"\")","v":""},{"$f":"IFERROR(IF(INDEX(Veri!$AQ$31:$AQ$500,MATCH(V61,Veri!$AS$31:$AS$500,0))<>\"\",INDEX(Veri!$AQ$31:$AQ$500,MATCH(V61,Veri!$AS$31:$AS$500,0)),\"\"),\"\")","v":""},{"$f":"IFERROR(IF(INDEX(Veri!$AM$31:$AM$500,MATCH(V61,Veri!$AS$31:$AS$500,0))<>\"\",INDEX(Veri!$AM$31:$AM$500,MATCH(V61,Veri!$AS$31:$AS$500,0)),\"\"),\"\")","v":""},{"$f":"IFERROR(IF(INDEX(Veri!$AN$31:$AN$500,MATCH(V61,Veri!$AS$31:$AS$500,0))<>\"\",INDEX(Veri!$AN$31:$AN$500,MATCH(V61,Veri!$AS$31:$AS$500,0)),\"\"),\"\")","v":""},{"$f":"IFERROR(IF(INDEX(Veri!$AO$31:$AO$500,MATCH(V61,Veri!$AS$31:$AS$500,0))<>\"\",INDEX(Veri!$AO$31:$AO$500,MATCH(V61,Veri!$AS$31:$AS$500,0)),\"\"),\"\")","v":""}]
[null,null,null,null,null,null,null,null,null,null,null,null,null,null,53,{"$f":"IFERROR(IF(INDEX(Veri!$AA$31:$AA$500,MATCH(O62,Veri!$AI$31:$AI$500,0))<>\"\",INDEX(Veri!$AA$31:$AA$500,MATCH(O62,Veri!$AI$31:$AI$500,0)),\"\"),\"\")","v":""},{"$f":"IFERROR(IF(INDEX(Veri!$AG$31:$AG$500,MATCH(O62,Veri!$AI$31:$AI$500,0))<>\"\",INDEX(Veri!$AG$31:$AG$500,MATCH(O62,Veri!$AI$31:$AI$500,0)),\"\"),\"\")","v":""},{"$f":"IFERROR(IF(INDEX(Veri!$AC$31:$AC$500,MATCH(O62,Veri!$AI$31:$AI$500,0))<>\"\",INDEX(Veri!$AC$31:$AC$500,MATCH(O62,Veri!$AI$31:$AI$500,0)),\"\"),\"\")","v":""},{"$f":"IFERROR(IF(INDEX(Veri!$AD$31:$AD$500,MATCH(O62,Veri!$AI$31:$AI$500,0))<>\"\",INDEX(Veri!$AD$31:$AD$500,MATCH(O62,Veri!$AI$31:$AI$500,0)),\"\"),\"\")","v":""},{"$f":"IFERROR(IF(INDEX(Veri!$AE$31:$AE$500,MATCH(O62,Veri!$AI$31:$AI$500,0))<>\"\",INDEX(Veri!$AE$31:$AE$500,MATCH(O62,Veri!$AI$31:$AI$500,0)),\"\"),\"\")","v":""},null,53,{"$f":"IFERROR(IF(INDEX(Veri!$AK$31:$AK$500,MATCH(V62,Veri!$AS$31:$AS$500,0))<>\"\",INDEX(Veri!$AK$31:$AK$500,MATCH(V62,Veri!$AS$31:$AS$500,0)),\"\"),\"\")","v":""},{"$f":"IFERROR(IF(INDEX(Veri!$AQ$31:$AQ$500,MATCH(V62,Veri!$AS$31:$AS$500,0))<>\"\",INDEX(Veri!$AQ$31:$AQ$500,MATCH(V62,Veri!$AS$31:$AS$500,0)),\"\"),\"\")","v":""},{"$f":"IFERROR(IF(INDEX(Veri!$AM$31:$AM$500,MATCH(V62,Veri!$AS$31:$AS$500,0))<>\"\",INDEX(Veri!$AM$31:$AM$500,MATCH(V62,Veri!$AS$31:$AS$500,0)),\"\"),\"\")","v":""},{"$f":"IFERROR(IF(INDEX(Veri!$AN$31:$AN$500,MATCH(V62,Veri!$AS$31:$AS$500,0))<>\"\",INDEX(Veri!$AN$31:$AN$500,MATCH(V62,Veri!$AS$31:$AS$500,0)),\"\"),\"\")","v":""},{"$f":"IFERROR(IF(INDEX(Veri!$AO$31:$AO$500,MATCH(V62,Veri!$AS$31:$AS$500,0))<>\"\",INDEX(Veri!$AO$31:$AO$500,MATCH(V62,Veri!$AS$31:$AS$500,0)),\"\"),\"\")","v":""}]
[null,null,null,null,null,null,null,null,null,null,null,null,null,null,54,{"$f":"IFERROR(IF(INDEX(Veri!$AA$31:$AA$500,MATCH(O63,Veri!$AI$31:$AI$500,0))<>\"\",INDEX(Veri!$AA$31:$AA$500,MATCH(O63,Veri!$AI$31:$AI$500,0)),\"\"),\"\")","v":""},{"$f":"IFERROR(IF(INDEX(Veri!$AG$31:$AG$500,MATCH(O63,Veri!$AI$31:$AI$500,0))<>\"\",INDEX(Veri!$AG$31:$AG$500,MATCH(O63,Veri!$AI$31:$AI$500,0)),\"\"),\"\")","v":""},{"$f":"IFERROR(IF(INDEX(Veri!$AC$31:$AC$500,MATCH(O63,Veri!$AI$31:$AI$500,0))<>\"\",INDEX(Veri!$AC$31:$AC$500,MATCH(O63,Veri!$AI$31:$AI$500,0)),\"\"),\"\")","v":""},{"$f":"IFERROR(IF(INDEX(Veri!$AD$31:$AD$500,MATCH(O63,Veri!$AI$31:$AI$500,0))<>\"\",INDEX(Veri!$AD$31:$AD$500,MATCH(O63,Veri!$AI$31:$AI$500,0)),\"\"),\"\")","v":""},{"$f":"IFERROR(IF(INDEX(Veri!$AE$31:$AE$500,MATCH(O63,Veri!$AI$31:$AI$500,0))<>\"\",INDEX(Veri!$AE$31:$AE$500,MATCH(O63,Veri!$AI$31:$AI$500,0)),\"\"),\"\")","v":""},null,54,{"$f":"IFERROR(IF(INDEX(Veri!$AK$31:$AK$500,MATCH(V63,Veri!$AS$31:$AS$500,0))<>\"\",INDEX(Veri!$AK$31:$AK$500,MATCH(V63,Veri!$AS$31:$AS$500,0)),\"\"),\"\")","v":""},{"$f":"IFERROR(IF(INDEX(Veri!$AQ$31:$AQ$500,MATCH(V63,Veri!$AS$31:$AS$500,0))<>\"\",INDEX(Veri!$AQ$31:$AQ$500,MATCH(V63,Veri!$AS$31:$AS$500,0)),\"\"),\"\")","v":""},{"$f":"IFERROR(IF(INDEX(Veri!$AM$31:$AM$500,MATCH(V63,Veri!$AS$31:$AS$500,0))<>\"\",INDEX(Veri!$AM$31:$AM$500,MATCH(V63,Veri!$AS$31:$AS$500,0)),\"\"),\"\")","v":""},{"$f":"IFERROR(IF(INDEX(Veri!$AN$31:$AN$500,MATCH(V63,Veri!$AS$31:$AS$500,0))<>\"\",INDEX(Veri!$AN$31:$AN$500,MATCH(V63,Veri!$AS$31:$AS$500,0)),\"\"),\"\")","v":""},{"$f":"IFERROR(IF(INDEX(Veri!$AO$31:$AO$500,MATCH(V63,Veri!$AS$31:$AS$500,0))<>\"\",INDEX(Veri!$AO$31:$AO$500,MATCH(V63,Veri!$AS$31:$AS$500,0)),\"\"),\"\")","v":""}]
[null,null,null,null,null,null,null,null,null,null,null,null,null,null,55,{"$f":"IFERROR(IF(INDEX(Veri!$AA$31:$AA$500,MATCH(O64,Veri!$AI$31:$AI$500,0))<>\"\",INDEX(Veri!$AA$31:$AA$500,MATCH(O64,Veri!$AI$31:$AI$500,0)),\"\"),\"\")","v":""},{"$f":"IFERROR(IF(INDEX(Veri!$AG$31:$AG$500,MATCH(O64,Veri!$AI$31:$AI$500,0))<>\"\",INDEX(Veri!$AG$31:$AG$500,MATCH(O64,Veri!$AI$31:$AI$500,0)),\"\"),\"\")","v":""},{"$f":"IFERROR(IF(INDEX(Veri!$AC$31:$AC$500,MATCH(O64,Veri!$AI$31:$AI$500,0))<>\"\",INDEX(Veri!$AC$31:$AC$500,MATCH(O64,Veri!$AI$31:$AI$500,0)),\"\"),\"\")","v":""},{"$f":"IFERROR(IF(INDEX(Veri!$AD$31:$AD$500,MATCH(O64,Veri!$AI$31:$AI$500,0))<>\"\",INDEX(Veri!$AD$31:$AD$500,MATCH(O64,Veri!$AI$31:$AI$500,0)),\"\"),\"\")","v":""},{"$f":"IFERROR(IF(INDEX(Veri!$AE$31:$AE$500,MATCH(O64,Veri!$AI$31:$AI$500,0))<>\"\",INDEX(Veri!$AE$31:$AE$500,MATCH(O64,Veri!$AI$31:$AI$500,0)),\"\"),\"\")","v":""},null,55,{"$f":"IFERROR(IF(INDEX(Veri!$AK$31:$AK$500,MATCH(V64,Veri!$AS$31:$AS$500,0))<>\"\",INDEX(Veri!$AK$31:$AK$500,MATCH(V64,Veri!$AS$31:$AS$500,0)),\"\"),\"\")","v":""},{"$f":"IFERROR(IF(INDEX(Veri!$AQ$31:$AQ$500,MATCH(V64,Veri!$AS$31:$AS$500,0))<>\"\",INDEX(Veri!$AQ$31:$AQ$500,MATCH(V64,Veri!$AS$31:$AS$500,0)),\"\"),\"\")","v":""},{"$f":"IFERROR(IF(INDEX(Veri!$AM$31:$AM$500,MATCH(V64,Veri!$AS$31:$AS$500,0))<>\"\",INDEX(Veri!$AM$31:$AM$500,MATCH(V64,Veri!$AS$31:$AS$500,0)),\"\"),\"\")","v":""},{"$f":"IFERROR(IF(INDEX(Veri!$AN$31:$AN$500,MATCH(V64,Veri!$AS$31:$AS$500,0))<>\"\",INDEX(Veri!$AN$31:$AN$500,MATCH(V64,Veri!$AS$31:$AS$500,0)),\"\"),\"\")","v":""},{"$f":"IFERROR(IF(INDEX(Veri!$AO$31:$AO$500,MATCH(V64,Veri!$AS$31:$AS$500,0))<>\"\",INDEX(Veri!$AO$31:$AO$500,MATCH(V64,Veri!$AS$31:$AS$500,0)),\"\"),\"\")","v":""}]
[null,null,null,null,null,null,null,null,null,null,null,null,null,null,56,{"$f":"IFERROR(IF(INDEX(Veri!$AA$31:$AA$500,MATCH(O65,Veri!$AI$31:$AI$500,0))<>\"\",INDEX(Veri!$AA$31:$AA$500,MATCH(O65,Veri!$AI$31:$AI$500,0)),\"\"),\"\")","v":""},{"$f":"IFERROR(IF(INDEX(Veri!$AG$31:$AG$500,MATCH(O65,Veri!$AI$31:$AI$500,0))<>\"\",INDEX(Veri!$AG$31:$AG$500,MATCH(O65,Veri!$AI$31:$AI$500,0)),\"\"),\"\")","v":""},{"$f":"IFERROR(IF(INDEX(Veri!$AC$31:$AC$500,MATCH(O65,Veri!$AI$31:$AI$500,0))<>\"\",INDEX(Veri!$AC$31:$AC$500,MATCH(O65,Veri!$AI$31:$AI$500,0)),\"\"),\"\")","v":""},{"$f":"IFERROR(IF(INDEX(Veri!$AD$31:$AD$500,MATCH(O65,Veri!$AI$31:$AI$500,0))<>\"\",INDEX(Veri!$AD$31:$AD$500,MATCH(O65,Veri!$AI$31:$AI$500,0)),\"\"),\"\")","v":""},{"$f":"IFERROR(IF(INDEX(Veri!$AE$31:$AE$500,MATCH(O65,Veri!$AI$31:$AI$500,0))<>\"\",INDEX(Veri!$AE$31:$AE$500,MATCH(O65,Veri!$AI$31:$AI$500,0)),\"\"),\"\")","v":""},null,56,{"$f":"IFERROR(IF(INDEX(Veri!$AK$31:$AK$500,MATCH(V65,Veri!$AS$31:$AS$500,0))<>\"\",INDEX(Veri!$AK$31:$AK$500,MATCH(V65,Veri!$AS$31:$AS$500,0)),\"\"),\"\")","v":""},{"$f":"IFERROR(IF(INDEX(Veri!$AQ$31:$AQ$500,MATCH(V65,Veri!$AS$31:$AS$500,0))<>\"\",INDEX(Veri!$AQ$31:$AQ$500,MATCH(V65,Veri!$AS$31:$AS$500,0)),\"\"),\"\")","v":""},{"$f":"IFERROR(IF(INDEX(Veri!$AM$31:$AM$500,MATCH(V65,Veri!$AS$31:$AS$500,0))<>\"\",INDEX(Veri!$AM$31:$AM$500,MATCH(V65,Veri!$AS$31:$AS$500,0)),\"\"),\"\")","v":""},{"$f":"IFERROR(IF(INDEX(Veri!$AN$31:$AN$500,MATCH(V65,Veri!$AS$31:$AS$500,0))<>\"\",INDEX(Veri!$AN$31:$AN$500,MATCH(V65,Veri!$AS$31:$AS$500,0)),\"\"),\"\")","v":""},{"$f":"IFERROR(IF(INDEX(Veri!$AO$31:$AO$500,MATCH(V65,Veri!$AS$31:$AS$500,0))<>\"\",INDEX(Veri!$AO$31:$AO$500,MATCH(V65,Veri!$AS$31:$AS$500,0)),\"\"),\"\")","v":""}]
[null,null,null,null,null,null,null,null,null,null,null,null,null,null,57,{"$f":"IFERROR(IF(INDEX(Veri!$AA$31:$AA$500,MATCH(O66,Veri!$AI$31:$AI$500,0))<>\"\",INDEX(Veri!$AA$31:$AA$500,MATCH(O66,Veri!$AI$31:$AI$500,0)),\"\"),\"\")","v":""},{"$f":"IFERROR(IF(INDEX(Veri!$AG$31:$AG$500,MATCH(O66,Veri!$AI$31:$AI$500,0))<>\"\",INDEX(Veri!$AG$31:$AG$500,MATCH(O66,Veri!$AI$31:$AI$500,0)),\"\"),\"\")","v":""},{"$f":"IFERROR(IF(INDEX(Veri!$AC$31:$AC$500,MATCH(O66,Veri!$AI$31:$AI$500,0))<>\"\",INDEX(Veri!$AC$31:$AC$500,MATCH(O66,Veri!$AI$31:$AI$500,0)),\"\"),\"\")","v":""},{"$f":"IFERROR(IF(INDEX(Veri!$AD$31:$AD$500,MATCH(O66,Veri!$AI$31:$AI$500,0))<>\"\",INDEX(Veri!$AD$31:$AD$500,MATCH(O66,Veri!$AI$31:$AI$500,0)),\"\"),\"\")","v":""},{"$f":"IFERROR(IF(INDEX(Veri!$AE$31:$AE$500,MATCH(O66,Veri!$AI$31:$AI$500,0))<>\"\",INDEX(Veri!$AE$31:$AE$500,MATCH(O66,Veri!$AI$31:$AI$500,0)),\"\"),\"\")","v":""},null,57,{"$f":"IFERROR(IF(INDEX(Veri!$AK$31:$AK$500,MATCH(V66,Veri!$AS$31:$AS$500,0))<>\"\",INDEX(Veri!$AK$31:$AK$500,MATCH(V66,Veri!$AS$31:$AS$500,0)),\"\"),\"\")","v":""},{"$f":"IFERROR(IF(INDEX(Veri!$AQ$31:$AQ$500,MATCH(V66,Veri!$AS$31:$AS$500,0))<>\"\",INDEX(Veri!$AQ$31:$AQ$500,MATCH(V66,Veri!$AS$31:$AS$500,0)),\"\"),\"\")","v":""},{"$f":"IFERROR(IF(INDEX(Veri!$AM$31:$AM$500,MATCH(V66,Veri!$AS$31:$AS$500,0))<>\"\",INDEX(Veri!$AM$31:$AM$500,MATCH(V66,Veri!$AS$31:$AS$500,0)),\"\"),\"\")","v":""},{"$f":"IFERROR(IF(INDEX(Veri!$AN$31:$AN$500,MATCH(V66,Veri!$AS$31:$AS$500,0))<>\"\",INDEX(Veri!$AN$31:$AN$500,MATCH(V66,Veri!$AS$31:$AS$500,0)),\"\"),\"\")","v":""},{"$f":"IFERROR(IF(INDEX(Veri!$AO$31:$AO$500,MATCH(V66,Veri!$AS$31:$AS$500,0))<>\"\",INDEX(Veri!$AO$31:$AO$500,MATCH(V66,Veri!$AS$31:$AS$500,0)),\"\"),\"\")","v":""}]
[null,null,null,null,null,null,null,null,null,null,null,null,null,null,58,{"$f":"IFERROR(IF(INDEX(Veri!$AA$31:$AA$500,MATCH(O67,Veri!$AI$31:$AI$500,0))<>\"\",INDEX(Veri!$AA$31:$AA$500,MATCH(O67,Veri!$AI$31:$AI$500,0)),\"\"),\"\")","v":""},{"$f":"IFERROR(IF(INDEX(Veri!$AG$31:$AG$500,MATCH(O67,Veri!$AI$31:$AI$500,0))<>\"\",INDEX(Veri!$AG$31:$AG$500,MATCH(O67,Veri!$AI$31:$AI$500,0)),\"\"),\"\")","v":""},{"$f":"IFERROR(IF(INDEX(Veri!$AC$31:$AC$500,MATCH(O67,Veri!$AI$31:$AI$500,0))<>\"\",INDEX(Veri!$AC$31:$AC$500,MATCH(O67,Veri!$AI$31:$AI$500,0)),\"\"),\"\")","v":""},{"$f":"IFERROR(IF(INDEX(Veri!$AD$31:$AD$500,MATCH(O67,Veri!$AI$31:$AI$500,0))<>\"\",INDEX(Veri!$AD$31:$AD$500,MATCH(O67,Veri!$AI$31:$AI$500,0)),\"\"),\"\")","v":""},{"$f":"IFERROR(IF(INDEX(Veri!$AE$31:$AE$500,MATCH(O67,Veri!$AI$31:$AI$500,0))<>\"\",INDEX(Veri!$AE$31:$AE$500,MATCH(O67,Veri!$AI$31:$AI$500,0)),\"\"),\"\")","v":""},null,58,{"$f":"IFERROR(IF(INDEX(Veri!$AK$31:$AK$500,MATCH(V67,Veri!$AS$31:$AS$500,0))<>\"\",INDEX(Veri!$AK$31:$AK$500,MATCH(V67,Veri!$AS$31:$AS$500,0)),\"\"),\"\")","v":""},{"$f":"IFERROR(IF(INDEX(Veri!$AQ$31:$AQ$500,MATCH(V67,Veri!$AS$31:$AS$500,0))<>\"\",INDEX(Veri!$AQ$31:$AQ$500,MATCH(V67,Veri!$AS$31:$AS$500,0)),\"\"),\"\")","v":""},{"$f":"IFERROR(IF(INDEX(Veri!$AM$31:$AM$500,MATCH(V67,Veri!$AS$31:$AS$500,0))<>\"\",INDEX(Veri!$AM$31:$AM$500,MATCH(V67,Veri!$AS$31:$AS$500,0)),\"\"),\"\")","v":""},{"$f":"IFERROR(IF(INDEX(Veri!$AN$31:$AN$500,MATCH(V67,Veri!$AS$31:$AS$500,0))<>\"\",INDEX(Veri!$AN$31:$AN$500,MATCH(V67,Veri!$AS$31:$AS$500,0)),\"\"),\"\")","v":""},{"$f":"IFERROR(IF(INDEX(Veri!$AO$31:$AO$500,MATCH(V67,Veri!$AS$31:$AS$500,0))<>\"\",INDEX(Veri!$AO$31:$AO$500,MATCH(V67,Veri!$AS$31:$AS$500,0)),\"\"),\"\")","v":""}]
[null,null,null,null,null,null,null,null,null,null,null,null,null,null,59,{"$f":"IFERROR(IF(INDEX(Veri!$AA$31:$AA$500,MATCH(O68,Veri!$AI$31:$AI$500,0))<>\"\",INDEX(Veri!$AA$31:$AA$500,MATCH(O68,Veri!$AI$31:$AI$500,0)),\"\"),\"\")","v":""},{"$f":"IFERROR(IF(INDEX(Veri!$AG$31:$AG$500,MATCH(O68,Veri!$AI$31:$AI$500,0))<>\"\",INDEX(Veri!$AG$31:$AG$500,MATCH(O68,Veri!$AI$31:$AI$500,0)),\"\"),\"\")","v":""},{"$f":"IFERROR(IF(INDEX(Veri!$AC$31:$AC$500,MATCH(O68,Veri!$AI$31:$AI$500,0))<>\"\",INDEX(Veri!$AC$31:$AC$500,MATCH(O68,Veri!$AI$31:$AI$500,0)),\"\"),\"\")","v":""},{"$f":"IFERROR(IF(INDEX(Veri!$AD$31:$AD$500,MATCH(O68,Veri!$AI$31:$AI$500,0))<>\"\",INDEX(Veri!$AD$31:$AD$500,MATCH(O68,Veri!$AI$31:$AI$500,0)),\"\"),\"\")","v":""},{"$f":"IFERROR(IF(INDEX(Veri!$AE$31:$AE$500,MATCH(O68,Veri!$AI$31:$AI$500,0))<>\"\",INDEX(Veri!$AE$31:$AE$500,MATCH(O68,Veri!$AI$31:$AI$500,0)),\"\"),\"\")","v":""},null,59,{"$f":"IFERROR(IF(INDEX(Veri!$AK$31:$AK$500,MATCH(V68,Veri!$AS$31:$AS$500,0))<>\"\",INDEX(Veri!$AK$31:$AK$500,MATCH(V68,Veri!$AS$31:$AS$500,0)),\"\"),\"\")","v":""},{"$f":"IFERROR(IF(INDEX(Veri!$AQ$31:$AQ$500,MATCH(V68,Veri!$AS$31:$AS$500,0))<>\"\",INDEX(Veri!$AQ$31:$AQ$500,MATCH(V68,Veri!$AS$31:$AS$500,0)),\"\"),\"\")","v":""},{"$f":"IFERROR(IF(INDEX(Veri!$AM$31:$AM$500,MATCH(V68,Veri!$AS$31:$AS$500,0))<>\"\",INDEX(Veri!$AM$31:$AM$500,MATCH(V68,Veri!$AS$31:$AS$500,0)),\"\"),\"\")","v":""},{"$f":"IFERROR(IF(INDEX(Veri!$AN$31:$AN$500,MATCH(V68,Veri!$AS$31:$AS$500,0))<>\"\",INDEX(Veri!$AN$31:$AN$500,MATCH(V68,Veri!$AS$31:$AS$500,0)),\"\"),\"\")","v":""},{"$f":"IFERROR(IF(INDEX(Veri!$AO$31:$AO$500,MATCH(V68,Veri!$AS$31:$AS$500,0))<>\"\",INDEX(Veri!$AO$31:$AO$500,MATCH(V68,Veri!$AS$31:$AS$500,0)),\"\"),\"\")","v":""}]
[null,null,null,null,null,null,null,null,null,null,null,null,null,null,60,{"$f":"IFERROR(IF(INDEX(Veri!$AA$31:$AA$500,MATCH(O69,Veri!$AI$31:$AI$500,0))<>\"\",INDEX(Veri!$AA$31:$AA$500,MATCH(O69,Veri!$AI$31:$AI$500,0)),\"\"),\"\")","v":""},{"$f":"IFERROR(IF(INDEX(Veri!$AG$31:$AG$500,MATCH(O69,Veri!$AI$31:$AI$500,0))<>\"\",INDEX(Veri!$AG$31:$AG$500,MATCH(O69,Veri!$AI$31:$AI$500,0)),\"\"),\"\")","v":""},{"$f":"IFERROR(IF(INDEX(Veri!$AC$31:$AC$500,MATCH(O69,Veri!$AI$31:$AI$500,0))<>\"\",INDEX(Veri!$AC$31:$AC$500,MATCH(O69,Veri!$AI$31:$AI$500,0)),\"\"),\"\")","v":""},{"$f":"IFERROR(IF(INDEX(Veri!$AD$31:$AD$500,MATCH(O69,Veri!$AI$31:$AI$500,0))<>\"\",INDEX(Veri!$AD$31:$AD$500,MATCH(O69,Veri!$AI$31:$AI$500,0)),\"\"),\"\")","v":""},{"$f":"IFERROR(IF(INDEX(Veri!$AE$31:$AE$500,MATCH(O69,Veri!$AI$31:$AI$500,0))<>\"\",INDEX(Veri!$AE$31:$AE$500,MATCH(O69,Veri!$AI$31:$AI$500,0)),\"\"),\"\")","v":""},null,60,{"$f":"IFERROR(IF(INDEX(Veri!$AK$31:$AK$500,MATCH(V69,Veri!$AS$31:$AS$500,0))<>\"\",INDEX(Veri!$AK$31:$AK$500,MATCH(V69,Veri!$AS$31:$AS$500,0)),\"\"),\"\")","v":""},{"$f":"IFERROR(IF(INDEX(Veri!$AQ$31:$AQ$500,MATCH(V69,Veri!$AS$31:$AS$500,0))<>\"\",INDEX(Veri!$AQ$31:$AQ$500,MATCH(V69,Veri!$AS$31:$AS$500,0)),\"\"),\"\")","v":""},{"$f":"IFERROR(IF(INDEX(Veri!$AM$31:$AM$500,MATCH(V69,Veri!$AS$31:$AS$500,0))<>\"\",INDEX(Veri!$AM$31:$AM$500,MATCH(V69,Veri!$AS$31:$AS$500,0)),\"\"),\"\")","v":""},{"$f":"IFERROR(IF(INDEX(Veri!$AN$31:$AN$500,MATCH(V69,Veri!$AS$31:$AS$500,0))<>\"\",INDEX(Veri!$AN$31:$AN$500,MATCH(V69,Veri!$AS$31:$AS$500,0)),\"\"),\"\")","v":""},{"$f":"IFERROR(IF(INDEX(Veri!$AO$31:$AO$500,MATCH(V69,Veri!$AS$31:$AS$500,0))<>\"\",INDEX(Veri!$AO$31:$AO$500,MATCH(V69,Veri!$AS$31:$AS$500,0)),\"\"),\"\")","v":""}]
[null,null,null,null,null,null,null,null,null,null,null,null,null,null,61,{"$f":"IFERROR(IF(INDEX(Veri!$AA$31:$AA$500,MATCH(O70,Veri!$AI$31:$AI$500,0))<>\"\",INDEX(Veri!$AA$31:$AA$500,MATCH(O70,Veri!$AI$31:$AI$500,0)),\"\"),\"\")","v":""},{"$f":"IFERROR(IF(INDEX(Veri!$AG$31:$AG$500,MATCH(O70,Veri!$AI$31:$AI$500,0))<>\"\",INDEX(Veri!$AG$31:$AG$500,MATCH(O70,Veri!$AI$31:$AI$500,0)),\"\"),\"\")","v":""},{"$f":"IFERROR(IF(INDEX(Veri!$AC$31:$AC$500,MATCH(O70,Veri!$AI$31:$AI$500,0))<>\"\",INDEX(Veri!$AC$31:$AC$500,MATCH(O70,Veri!$AI$31:$AI$500,0)),\"\"),\"\")","v":""},{"$f":"IFERROR(IF(INDEX(Veri!$AD$31:$AD$500,MATCH(O70,Veri!$AI$31:$AI$500,0))<>\"\",INDEX(Veri!$AD$31:$AD$500,MATCH(O70,Veri!$AI$31:$AI$500,0)),\"\"),\"\")","v":""},{"$f":"IFERROR(IF(INDEX(Veri!$AE$31:$AE$500,MATCH(O70,Veri!$AI$31:$AI$500,0))<>\"\",INDEX(Veri!$AE$31:$AE$500,MATCH(O70,Veri!$AI$31:$AI$500,0)),\"\"),\"\")","v":""},null,61,{"$f":"IFERROR(IF(INDEX(Veri!$AK$31:$AK$500,MATCH(V70,Veri!$AS$31:$AS$500,0))<>\"\",INDEX(Veri!$AK$31:$AK$500,MATCH(V70,Veri!$AS$31:$AS$500,0)),\"\"),\"\")","v":""},{"$f":"IFERROR(IF(INDEX(Veri!$AQ$31:$AQ$500,MATCH(V70,Veri!$AS$31:$AS$500,0))<>\"\",INDEX(Veri!$AQ$31:$AQ$500,MATCH(V70,Veri!$AS$31:$AS$500,0)),\"\"),\"\")","v":""},{"$f":"IFERROR(IF(INDEX(Veri!$AM$31:$AM$500,MATCH(V70,Veri!$AS$31:$AS$500,0))<>\"\",INDEX(Veri!$AM$31:$AM$500,MATCH(V70,Veri!$AS$31:$AS$500,0)),\"\"),\"\")","v":""},{"$f":"IFERROR(IF(INDEX(Veri!$AN$31:$AN$500,MATCH(V70,Veri!$AS$31:$AS$500,0))<>\"\",INDEX(Veri!$AN$31:$AN$500,MATCH(V70,Veri!$AS$31:$AS$500,0)),\"\"),\"\")","v":""},{"$f":"IFERROR(IF(INDEX(Veri!$AO$31:$AO$500,MATCH(V70,Veri!$AS$31:$AS$500,0))<>\"\",INDEX(Veri!$AO$31:$AO$500,MATCH(V70,Veri!$AS$31:$AS$500,0)),\"\"),\"\")","v":""}]
[null,null,null,null,null,null,null,null,null,null,null,null,null,null,62,{"$f":"IFERROR(IF(INDEX(Veri!$AA$31:$AA$500,MATCH(O71,Veri!$AI$31:$AI$500,0))<>\"\",INDEX(Veri!$AA$31:$AA$500,MATCH(O71,Veri!$AI$31:$AI$500,0)),\"\"),\"\")","v":""},{"$f":"IFERROR(IF(INDEX(Veri!$AG$31:$AG$500,MATCH(O71,Veri!$AI$31:$AI$500,0))<>\"\",INDEX(Veri!$AG$31:$AG$500,MATCH(O71,Veri!$AI$31:$AI$500,0)),\"\"),\"\")","v":""},{"$f":"IFERROR(IF(INDEX(Veri!$AC$31:$AC$500,MATCH(O71,Veri!$AI$31:$AI$500,0))<>\"\",INDEX(Veri!$AC$31:$AC$500,MATCH(O71,Veri!$AI$31:$AI$500,0)),\"\"),\"\")","v":""},{"$f":"IFERROR(IF(INDEX(Veri!$AD$31:$AD$500,MATCH(O71,Veri!$AI$31:$AI$500,0))<>\"\",INDEX(Veri!$AD$31:$AD$500,MATCH(O71,Veri!$AI$31:$AI$500,0)),\"\"),\"\")","v":""},{"$f":"IFERROR(IF(INDEX(Veri!$AE$31:$AE$500,MATCH(O71,Veri!$AI$31:$AI$500,0))<>\"\",INDEX(Veri!$AE$31:$AE$500,MATCH(O71,Veri!$AI$31:$AI$500,0)),\"\"),\"\")","v":""},null,62,{"$f":"IFERROR(IF(INDEX(Veri!$AK$31:$AK$500,MATCH(V71,Veri!$AS$31:$AS$500,0))<>\"\",INDEX(Veri!$AK$31:$AK$500,MATCH(V71,Veri!$AS$31:$AS$500,0)),\"\"),\"\")","v":""},{"$f":"IFERROR(IF(INDEX(Veri!$AQ$31:$AQ$500,MATCH(V71,Veri!$AS$31:$AS$500,0))<>\"\",INDEX(Veri!$AQ$31:$AQ$500,MATCH(V71,Veri!$AS$31:$AS$500,0)),\"\"),\"\")","v":""},{"$f":"IFERROR(IF(INDEX(Veri!$AM$31:$AM$500,MATCH(V71,Veri!$AS$31:$AS$500,0))<>\"\",INDEX(Veri!$AM$31:$AM$500,MATCH(V71,Veri!$AS$31:$AS$500,0)),\"\"),\"\")","v":""},{"$f":"IFERROR(IF(INDEX(Veri!$AN$31:$AN$500,MATCH(V71,Veri!$AS$31:$AS$500,0))<>\"\",INDEX(Veri!$AN$31:$AN$500,MATCH(V71,Veri!$AS$31:$AS$500,0)),\"\"),\"\")","v":""},{"$f":"IFERROR(IF(INDEX(Veri!$AO$31:$AO$500,MATCH(V71,Veri!$AS$31:$AS$500,0))<>\"\",INDEX(Veri!$AO$31:$AO$500,MATCH(V71,Veri!$AS$31:$AS$500,0)),\"\"),\"\")","v":""}]
[null,null,null,null,null,null,null,null,null,null,null,null,null,null,63,{"$f":"IFERROR(IF(INDEX(Veri!$AA$31:$AA$500,MATCH(O72,Veri!$AI$31:$AI$500,0))<>\"\",INDEX(Veri!$AA$31:$AA$500,MATCH(O72,Veri!$AI$31:$AI$500,0)),\"\"),\"\")","v":""},{"$f":"IFERROR(IF(INDEX(Veri!$AG$31:$AG$500,MATCH(O72,Veri!$AI$31:$AI$500,0))<>\"\",INDEX(Veri!$AG$31:$AG$500,MATCH(O72,Veri!$AI$31:$AI$500,0)),\"\"),\"\")","v":""},{"$f":"IFERROR(IF(INDEX(Veri!$AC$31:$AC$500,MATCH(O72,Veri!$AI$31:$AI$500,0))<>\"\",INDEX(Veri!$AC$31:$AC$500,MATCH(O72,Veri!$AI$31:$AI$500,0)),\"\"),\"\")","v":""},{"$f":"IFERROR(IF(INDEX(Veri!$AD$31:$AD$500,MATCH(O72,Veri!$AI$31:$AI$500,0))<>\"\",INDEX(Veri!$AD$31:$AD$500,MATCH(O72,Veri!$AI$31:$AI$500,0)),\"\"),\"\")","v":""},{"$f":"IFERROR(IF(INDEX(Veri!$AE$31:$AE$500,MATCH(O72,Veri!$AI$31:$AI$500,0))<>\"\",INDEX(Veri!$AE$31:$AE$500,MATCH(O72,Veri!$AI$31:$AI$500,0)),\"\"),\"\")","v":""},null,63,{"$f":"IFERROR(IF(INDEX(Veri!$AK$31:$AK$500,MATCH(V72,Veri!$AS$31:$AS$500,0))<>\"\",INDEX(Veri!$AK$31:$AK$500,MATCH(V72,Veri!$AS$31:$AS$500,0)),\"\"),\"\")","v":""},{"$f":"IFERROR(IF(INDEX(Veri!$AQ$31:$AQ$500,MATCH(V72,Veri!$AS$31:$AS$500,0))<>\"\",INDEX(Veri!$AQ$31:$AQ$500,MATCH(V72,Veri!$AS$31:$AS$500,0)),\"\"),\"\")","v":""},{"$f":"IFERROR(IF(INDEX(Veri!$AM$31:$AM$500,MATCH(V72,Veri!$AS$31:$AS$500,0))<>\"\",INDEX(Veri!$AM$31:$AM$500,MATCH(V72,Veri!$AS$31:$AS$500,0)),\"\"),\"\")","v":""},{"$f":"IFERROR(IF(INDEX(Veri!$AN$31:$AN$500,MATCH(V72,Veri!$AS$31:$AS$500,0))<>\"\",INDEX(Veri!$AN$31:$AN$500,MATCH(V72,Veri!$AS$31:$AS$500,0)),\"\"),\"\")","v":""},{"$f":"IFERROR(IF(INDEX(Veri!$AO$31:$AO$500,MATCH(V72,Veri!$AS$31:$AS$500,0))<>\"\",INDEX(Veri!$AO$31:$AO$500,MATCH(V72,Veri!$AS$31:$AS$500,0)),\"\"),\"\")","v":""}]
[null,null,null,null,null,null,null,null,null,null,null,null,null,null,64,{"$f":"IFERROR(IF(INDEX(Veri!$AA$31:$AA$500,MATCH(O73,Veri!$AI$31:$AI$500,0))<>\"\",INDEX(Veri!$AA$31:$AA$500,MATCH(O73,Veri!$AI$31:$AI$500,0)),\"\"),\"\")","v":""},{"$f":"IFERROR(IF(INDEX(Veri!$AG$31:$AG$500,MATCH(O73,Veri!$AI$31:$AI$500,0))<>\"\",INDEX(Veri!$AG$31:$AG$500,MATCH(O73,Veri!$AI$31:$AI$500,0)),\"\"),\"\")","v":""},{"$f":"IFERROR(IF(INDEX(Veri!$AC$31:$AC$500,MATCH(O73,Veri!$AI$31:$AI$500,0))<>\"\",INDEX(Veri!$AC$31:$AC$500,MATCH(O73,Veri!$AI$31:$AI$500,0)),\"\"),\"\")","v":""},{"$f":"IFERROR(IF(INDEX(Veri!$AD$31:$AD$500,MATCH(O73,Veri!$AI$31:$AI$500,0))<>\"\",INDEX(Veri!$AD$31:$AD$500,MATCH(O73,Veri!$AI$31:$AI$500,0)),\"\"),\"\")","v":""},{"$f":"IFERROR(IF(INDEX(Veri!$AE$31:$AE$500,MATCH(O73,Veri!$AI$31:$AI$500,0))<>\"\",INDEX(Veri!$AE$31:$AE$500,MATCH(O73,Veri!$AI$31:$AI$500,0)),\"\"),\"\")","v":""},null,64,{"$f":"IFERROR(IF(INDEX(Veri!$AK$31:$AK$500,MATCH(V73,Veri!$AS$31:$AS$500,0))<>\"\",INDEX(Veri!$AK$31:$AK$500,MATCH(V73,Veri!$AS$31:$AS$500,0)),\"\"),\"\")","v":""},{"$f":"IFERROR(IF(INDEX(Veri!$AQ$31:$AQ$500,MATCH(V73,Veri!$AS$31:$AS$500,0))<>\"\",INDEX(Veri!$AQ$31:$AQ$500,MATCH(V73,Veri!$AS$31:$AS$500,0)),\"\"),\"\")","v":""},{"$f":"IFERROR(IF(INDEX(Veri!$AM$31:$AM$500,MATCH(V73,Veri!$AS$31:$AS$500,0))<>\"\",INDEX(Veri!$AM$31:$AM$500,MATCH(V73,Veri!$AS$31:$AS$500,0)),\"\"),\"\")","v":""},{"$f":"IFERROR(IF(INDEX(Veri!$AN$31:$AN$500,MATCH(V73,Veri!$AS$31:$AS$500,0))<>\"\",INDEX(Veri!$AN$31:$AN$500,MATCH(V73,Veri!$AS$31:$AS$500,0)),\"\"),\"\")","v":""},{"$f":"IFERROR(IF(INDEX(Veri!$AO$31:$AO$500,MATCH(V73,Veri!$AS$31:$AS$500,0))<>\"\",INDEX(Veri!$AO$31:$AO$500,MATCH(V73,Veri!$AS$31:$AS$500,0)),\"\"),\"\")","v":""}]
[null,null,null,null,null,null,null,null,null,null,null,null,null,null,65,{"$f":"IFERROR(IF(INDEX(Veri!$AA$31:$AA$500,MATCH(O74,Veri!$AI$31:$AI$500,0))<>\"\",INDEX(Veri!$AA$31:$AA$500,MATCH(O74,Veri!$AI$31:$AI$500,0)),\"\"),\"\")","v":""},{"$f":"IFERROR(IF(INDEX(Veri!$AG$31:$AG$500,MATCH(O74,Veri!$AI$31:$AI$500,0))<>\"\",INDEX(Veri!$AG$31:$AG$500,MATCH(O74,Veri!$AI$31:$AI$500,0)),\"\"),\"\")","v":""},{"$f":"IFERROR(IF(INDEX(Veri!$AC$31:$AC$500,MATCH(O74,Veri!$AI$31:$AI$500,0))<>\"\",INDEX(Veri!$AC$31:$AC$500,MATCH(O74,Veri!$AI$31:$AI$500,0)),\"\"),\"\")","v":""},{"$f":"IFERROR(IF(INDEX(Veri!$AD$31:$AD$500,MATCH(O74,Veri!$AI$31:$AI$500,0))<>\"\",INDEX(Veri!$AD$31:$AD$500,MATCH(O74,Veri!$AI$31:$AI$500,0)),\"\"),\"\")","v":""},{"$f":"IFERROR(IF(INDEX(Veri!$AE$31:$AE$500,MATCH(O74,Veri!$AI$31:$AI$500,0))<>\"\",INDEX(Veri!$AE$31:$AE$500,MATCH(O74,Veri!$AI$31:$AI$500,0)),\"\"),\"\")","v":""},null,65,{"$f":"IFERROR(IF(INDEX(Veri!$AK$31:$AK$500,MATCH(V74,Veri!$AS$31:$AS$500,0))<>\"\",INDEX(Veri!$AK$31:$AK$500,MATCH(V74,Veri!$AS$31:$AS$500,0)),\"\"),\"\")","v":""},{"$f":"IFERROR(IF(INDEX(Veri!$AQ$31:$AQ$500,MATCH(V74,Veri!$AS$31:$AS$500,0))<>\"\",INDEX(Veri!$AQ$31:$AQ$500,MATCH(V74,Veri!$AS$31:$AS$500,0)),\"\"),\"\")","v":""},{"$f":"IFERROR(IF(INDEX(Veri!$AM$31:$AM$500,MATCH(V74,Veri!$AS$31:$AS$500,0))<>\"\",INDEX(Veri!$AM$31:$AM$500,MATCH(V74,Veri!$AS$31:$AS$500,0)),\"\"),\"\")","v":""},{"$f":"IFERROR(IF(INDEX(Veri!$AN$31:$AN$500,MATCH(V74,Veri!$AS$31:$AS$500,0))<>\"\",INDEX(Veri!$AN$31:$AN$500,MATCH(V74,Veri!$AS$31:$AS$500,0)),\"\"),\"\")","v":""},{"$f":"IFERROR(IF(INDEX(Veri!$AO$31:$AO$500,MATCH(V74,Veri!$AS$31:$AS$500,0))<>\"\",INDEX(Veri!$AO$31:$AO$500,MATCH(V74,Veri!$AS$31:$AS$500,0)),\"\"),\"\")","v":""}]
[null,null,null,null,null,null,null,null,null,null,null,null,null,null,66,{"$f":"IFERROR(IF(INDEX(Veri!$AA$31:$AA$500,MATCH(O75,Veri!$AI$31:$AI$500,0))<>\"\",INDEX(Veri!$AA$31:$AA$500,MATCH(O75,Veri!$AI$31:$AI$500,0)),\"\"),\"\")","v":""},{"$f":"IFERROR(IF(INDEX(Veri!$AG$31:$AG$500,MATCH(O75,Veri!$AI$31:$AI$500,0))<>\"\",INDEX(Veri!$AG$31:$AG$500,MATCH(O75,Veri!$AI$31:$AI$500,0)),\"\"),\"\")","v":""},{"$f":"IFERROR(IF(INDEX(Veri!$AC$31:$AC$500,MATCH(O75,Veri!$AI$31:$AI$500,0))<>\"\",INDEX(Veri!$AC$31:$AC$500,MATCH(O75,Veri!$AI$31:$AI$500,0)),\"\"),\"\")","v":""},{"$f":"IFERROR(IF(INDEX(Veri!$AD$31:$AD$500,MATCH(O75,Veri!$AI$31:$AI$500,0))<>\"\",INDEX(Veri!$AD$31:$AD$500,MATCH(O75,Veri!$AI$31:$AI$500,0)),\"\"),\"\")","v":""},{"$f":"IFERROR(IF(INDEX(Veri!$AE$31:$AE$500,MATCH(O75,Veri!$AI$31:$AI$500,0))<>\"\",INDEX(Veri!$AE$31:$AE$500,MATCH(O75,Veri!$AI$31:$AI$500,0)),\"\"),\"\")","v":""},null,66,{"$f":"IFERROR(IF(INDEX(Veri!$AK$31:$AK$500,MATCH(V75,Veri!$AS$31:$AS$500,0))<>\"\",INDEX(Veri!$AK$31:$AK$500,MATCH(V75,Veri!$AS$31:$AS$500,0)),\"\"),\"\")","v":""},{"$f":"IFERROR(IF(INDEX(Veri!$AQ$31:$AQ$500,MATCH(V75,Veri!$AS$31:$AS$500,0))<>\"\",INDEX(Veri!$AQ$31:$AQ$500,MATCH(V75,Veri!$AS$31:$AS$500,0)),\"\"),\"\")","v":""},{"$f":"IFERROR(IF(INDEX(Veri!$AM$31:$AM$500,MATCH(V75,Veri!$AS$31:$AS$500,0))<>\"\",INDEX(Veri!$AM$31:$AM$500,MATCH(V75,Veri!$AS$31:$AS$500,0)),\"\"),\"\")","v":""},{"$f":"IFERROR(IF(INDEX(Veri!$AN$31:$AN$500,MATCH(V75,Veri!$AS$31:$AS$500,0))<>\"\",INDEX(Veri!$AN$31:$AN$500,MATCH(V75,Veri!$AS$31:$AS$500,0)),\"\"),\"\")","v":""},{"$f":"IFERROR(IF(INDEX(Veri!$AO$31:$AO$500,MATCH(V75,Veri!$AS$31:$AS$500,0))<>\"\",INDEX(Veri!$AO$31:$AO$500,MATCH(V75,Veri!$AS$31:$AS$500,0)),\"\"),\"\")","v":""}]
[null,null,null,null,null,null,null,null,null,null,null,null,null,null,67,{"$f":"IFERROR(IF(INDEX(Veri!$AA$31:$AA$500,MATCH(O76,Veri!$AI$31:$AI$500,0))<>\"\",INDEX(Veri!$AA$31:$AA$500,MATCH(O76,Veri!$AI$31:$AI$500,0)),\"\"),\"\")","v":""},{"$f":"IFERROR(IF(INDEX(Veri!$AG$31:$AG$500,MATCH(O76,Veri!$AI$31:$AI$500,0))<>\"\",INDEX(Veri!$AG$31:$AG$500,MATCH(O76,Veri!$AI$31:$AI$500,0)),\"\"),\"\")","v":""},{"$f":"IFERROR(IF(INDEX(Veri!$AC$31:$AC$500,MATCH(O76,Veri!$AI$31:$AI$500,0))<>\"\",INDEX(Veri!$AC$31:$AC$500,MATCH(O76,Veri!$AI$31:$AI$500,0)),\"\"),\"\")","v":""},{"$f":"IFERROR(IF(INDEX(Veri!$AD$31:$AD$500,MATCH(O76,Veri!$AI$31:$AI$500,0))<>\"\",INDEX(Veri!$AD$31:$AD$500,MATCH(O76,Veri!$AI$31:$AI$500,0)),\"\"),\"\")","v":""},{"$f":"IFERROR(IF(INDEX(Veri!$AE$31:$AE$500,MATCH(O76,Veri!$AI$31:$AI$500,0))<>\"\",INDEX(Veri!$AE$31:$AE$500,MATCH(O76,Veri!$AI$31:$AI$500,0)),\"\"),\"\")","v":""},null,67,{"$f":"IFERROR(IF(INDEX(Veri!$AK$31:$AK$500,MATCH(V76,Veri!$AS$31:$AS$500,0))<>\"\",INDEX(Veri!$AK$31:$AK$500,MATCH(V76,Veri!$AS$31:$AS$500,0)),\"\"),\"\")","v":""},{"$f":"IFERROR(IF(INDEX(Veri!$AQ$31:$AQ$500,MATCH(V76,Veri!$AS$31:$AS$500,0))<>\"\",INDEX(Veri!$AQ$31:$AQ$500,MATCH(V76,Veri!$AS$31:$AS$500,0)),\"\"),\"\")","v":""},{"$f":"IFERROR(IF(INDEX(Veri!$AM$31:$AM$500,MATCH(V76,Veri!$AS$31:$AS$500,0))<>\"\",INDEX(Veri!$AM$31:$AM$500,MATCH(V76,Veri!$AS$31:$AS$500,0)),\"\"),\"\")","v":""},{"$f":"IFERROR(IF(INDEX(Veri!$AN$31:$AN$500,MATCH(V76,Veri!$AS$31:$AS$500,0))<>\"\",INDEX(Veri!$AN$31:$AN$500,MATCH(V76,Veri!$AS$31:$AS$500,0)),\"\"),\"\")","v":""},{"$f":"IFERROR(IF(INDEX(Veri!$AO$31:$AO$500,MATCH(V76,Veri!$AS$31:$AS$500,0))<>\"\",INDEX(Veri!$AO$31:$AO$500,MATCH(V76,Veri!$AS$31:$AS$500,0)),\"\"),\"\")","v":""}]
[null,null,null,null,null,null,null,null,null,null,null,null,null,null,68,{"$f":"IFERROR(IF(INDEX(Veri!$AA$31:$AA$500,MATCH(O77,Veri!$AI$31:$AI$500,0))<>\"\",INDEX(Veri!$AA$31:$AA$500,MATCH(O77,Veri!$AI$31:$AI$500,0)),\"\"),\"\")","v":""},{"$f":"IFERROR(IF(INDEX(Veri!$AG$31:$AG$500,MATCH(O77,Veri!$AI$31:$AI$500,0))<>\"\",INDEX(Veri!$AG$31:$AG$500,MATCH(O77,Veri!$AI$31:$AI$500,0)),\"\"),\"\")","v":""},{"$f":"IFERROR(IF(INDEX(Veri!$AC$31:$AC$500,MATCH(O77,Veri!$AI$31:$AI$500,0))<>\"\",INDEX(Veri!$AC$31:$AC$500,MATCH(O77,Veri!$AI$31:$AI$500,0)),\"\"),\"\")","v":""},{"$f":"IFERROR(IF(INDEX(Veri!$AD$31:$AD$500,MATCH(O77,Veri!$AI$31:$AI$500,0))<>\"\",INDEX(Veri!$AD$31:$AD$500,MATCH(O77,Veri!$AI$31:$AI$500,0)),\"\"),\"\")","v":""},{"$f":"IFERROR(IF(INDEX(Veri!$AE$31:$AE$500,MATCH(O77,Veri!$AI$31:$AI$500,0))<>\"\",INDEX(Veri!$AE$31:$AE$500,MATCH(O77,Veri!$AI$31:$AI$500,0)),\"\"),\"\")","v":""},null,68,{"$f":"IFERROR(IF(INDEX(Veri!$AK$31:$AK$500,MATCH(V77,Veri!$AS$31:$AS$500,0))<>\"\",INDEX(Veri!$AK$31:$AK$500,MATCH(V77,Veri!$AS$31:$AS$500,0)),\"\"),\"\")","v":""},{"$f":"IFERROR(IF(INDEX(Veri!$AQ$31:$AQ$500,MATCH(V77,Veri!$AS$31:$AS$500,0))<>\"\",INDEX(Veri!$AQ$31:$AQ$500,MATCH(V77,Veri!$AS$31:$AS$500,0)),\"\"),\"\")","v":""},{"$f":"IFERROR(IF(INDEX(Veri!$AM$31:$AM$500,MATCH(V77,Veri!$AS$31:$AS$500,0))<>\"\",INDEX(Veri!$AM$31:$AM$500,MATCH(V77,Veri!$AS$31:$AS$500,0)),\"\"),\"\")","v":""},{"$f":"IFERROR(IF(INDEX(Veri!$AN$31:$AN$500,MATCH(V77,Veri!$AS$31:$AS$500,0))<>\"\",INDEX(Veri!$AN$31:$AN$500,MATCH(V77,Veri!$AS$31:$AS$500,0)),\"\"),\"\")","v":""},{"$f":"IFERROR(IF(INDEX(Veri!$AO$31:$AO$500,MATCH(V77,Veri!$AS$31:$AS$500,0))<>\"\",INDEX(Veri!$AO$31:$AO$500,MATCH(V77,Veri!$AS$31:$AS$500,0)),\"\"),\"\")","v":""}]
[null,null,null,null,null,null,null,null,null,null,null,null,null,null,69,{"$f":"IFERROR(IF(INDEX(Veri!$AA$31:$AA$500,MATCH(O78,Veri!$AI$31:$AI$500,0))<>\"\",INDEX(Veri!$AA$31:$AA$500,MATCH(O78,Veri!$AI$31:$AI$500,0)),\"\"),\"\")","v":""},{"$f":"IFERROR(IF(INDEX(Veri!$AG$31:$AG$500,MATCH(O78,Veri!$AI$31:$AI$500,0))<>\"\",INDEX(Veri!$AG$31:$AG$500,MATCH(O78,Veri!$AI$31:$AI$500,0)),\"\"),\"\")","v":""},{"$f":"IFERROR(IF(INDEX(Veri!$AC$31:$AC$500,MATCH(O78,Veri!$AI$31:$AI$500,0))<>\"\",INDEX(Veri!$AC$31:$AC$500,MATCH(O78,Veri!$AI$31:$AI$500,0)),\"\"),\"\")","v":""},{"$f":"IFERROR(IF(INDEX(Veri!$AD$31:$AD$500,MATCH(O78,Veri!$AI$31:$AI$500,0))<>\"\",INDEX(Veri!$AD$31:$AD$500,MATCH(O78,Veri!$AI$31:$AI$500,0)),\"\"),\"\")","v":""},{"$f":"IFERROR(IF(INDEX(Veri!$AE$31:$AE$500,MATCH(O78,Veri!$AI$31:$AI$500,0))<>\"\",INDEX(Veri!$AE$31:$AE$500,MATCH(O78,Veri!$AI$31:$AI$500,0)),\"\"),\"\")","v":""},null,69,{"$f":"IFERROR(IF(INDEX(Veri!$AK$31:$AK$500,MATCH(V78,Veri!$AS$31:$AS$500,0))<>\"\",INDEX(Veri!$AK$31:$AK$500,MATCH(V78,Veri!$AS$31:$AS$500,0)),\"\"),\"\")","v":""},{"$f":"IFERROR(IF(INDEX(Veri!$AQ$31:$AQ$500,MATCH(V78,Veri!$AS$31:$AS$500,0))<>\"\",INDEX(Veri!$AQ$31:$AQ$500,MATCH(V78,Veri!$AS$31:$AS$500,0)),\"\"),\"\")","v":""},{"$f":"IFERROR(IF(INDEX(Veri!$AM$31:$AM$500,MATCH(V78,Veri!$AS$31:$AS$500,0))<>\"\",INDEX(Veri!$AM$31:$AM$500,MATCH(V78,Veri!$AS$31:$AS$500,0)),\"\"),\"\")","v":""},{"$f":"IFERROR(IF(INDEX(Veri!$AN$31:$AN$500,MATCH(V78,Veri!$AS$31:$AS$500,0))<>\"\",INDEX(Veri!$AN$31:$AN$500,MATCH(V78,Veri!$AS$31:$AS$500,0)),\"\"),\"\")","v":""},{"$f":"IFERROR(IF(INDEX(Veri!$AO$31:$AO$500,MATCH(V78,Veri!$AS$31:$AS$500,0))<>\"\",INDEX(Veri!$AO$31:$AO$500,MATCH(V78,Veri!$AS$31:$AS$500,0)),\"\"),\"\")","v":""}]
[null,null,null,null,null,null,null,null,null,null,null,null,null,null,70,{"$f":"IFERROR(IF(INDEX(Veri!$AA$31:$AA$500,MATCH(O79,Veri!$AI$31:$AI$500,0))<>\"\",INDEX(Veri!$AA$31:$AA$500,MATCH(O79,Veri!$AI$31:$AI$500,0)),\"\"),\"\")","v":""},{"$f":"IFERROR(IF(INDEX(Veri!$AG$31:$AG$500,MATCH(O79,Veri!$AI$31:$AI$500,0))<>\"\",INDEX(Veri!$AG$31:$AG$500,MATCH(O79,Veri!$AI$31:$AI$500,0)),\"\"),\"\")","v":""},{"$f":"IFERROR(IF(INDEX(Veri!$AC$31:$AC$500,MATCH(O79,Veri!$AI$31:$AI$500,0))<>\"\",INDEX(Veri!$AC$31:$AC$500,MATCH(O79,Veri!$AI$31:$AI$500,0)),\"\"),\"\")","v":""},{"$f":"IFERROR(IF(INDEX(Veri!$AD$31:$AD$500,MATCH(O79,Veri!$AI$31:$AI$500,0))<>\"\",INDEX(Veri!$AD$31:$AD$500,MATCH(O79,Veri!$AI$31:$AI$500,0)),\"\"),\"\")","v":""},{"$f":"IFERROR(IF(INDEX(Veri!$AE$31:$AE$500,MATCH(O79,Veri!$AI$31:$AI$500,0))<>\"\",INDEX(Veri!$AE$31:$AE$500,MATCH(O79,Veri!$AI$31:$AI$500,0)),\"\"),\"\")","v":""},null,70,{"$f":"IFERROR(IF(INDEX(Veri!$AK$31:$AK$500,MATCH(V79,Veri!$AS$31:$AS$500,0))<>\"\",INDEX(Veri!$AK$31:$AK$500,MATCH(V79,Veri!$AS$31:$AS$500,0)),\"\"),\"\")","v":""},{"$f":"IFERROR(IF(INDEX(Veri!$AQ$31:$AQ$500,MATCH(V79,Veri!$AS$31:$AS$500,0))<>\"\",INDEX(Veri!$AQ$31:$AQ$500,MATCH(V79,Veri!$AS$31:$AS$500,0)),\"\"),\"\")","v":""},{"$f":"IFERROR(IF(INDEX(Veri!$AM$31:$AM$500,MATCH(V79,Veri!$AS$31:$AS$500,0))<>\"\",INDEX(Veri!$AM$31:$AM$500,MATCH(V79,Veri!$AS$31:$AS$500,0)),\"\"),\"\")","v":""},{"$f":"IFERROR(IF(INDEX(Veri!$AN$31:$AN$500,MATCH(V79,Veri!$AS$31:$AS$500,0))<>\"\",INDEX(Veri!$AN$31:$AN$500,MATCH(V79,Veri!$AS$31:$AS$500,0)),\"\"),\"\")","v":""},{"$f":"IFERROR(IF(INDEX(Veri!$AO$31:$AO$500,MATCH(V79,Veri!$AS$31:$AS$500,0))<>\"\",INDEX(Veri!$AO$31:$AO$500,MATCH(V79,Veri!$AS$31:$AS$500,0)),\"\"),\"\")","v":""}]
[null,null,null,null,null,null,null,null,null,null,null,null,null,null,71,{"$f":"IFERROR(IF(INDEX(Veri!$AA$31:$AA$500,MATCH(O80,Veri!$AI$31:$AI$500,0))<>\"\",INDEX(Veri!$AA$31:$AA$500,MATCH(O80,Veri!$AI$31:$AI$500,0)),\"\"),\"\")","v":""},{"$f":"IFERROR(IF(INDEX(Veri!$AG$31:$AG$500,MATCH(O80,Veri!$AI$31:$AI$500,0))<>\"\",INDEX(Veri!$AG$31:$AG$500,MATCH(O80,Veri!$AI$31:$AI$500,0)),\"\"),\"\")","v":""},{"$f":"IFERROR(IF(INDEX(Veri!$AC$31:$AC$500,MATCH(O80,Veri!$AI$31:$AI$500,0))<>\"\",INDEX(Veri!$AC$31:$AC$500,MATCH(O80,Veri!$AI$31:$AI$500,0)),\"\"),\"\")","v":""},{"$f":"IFERROR(IF(INDEX(Veri!$AD$31:$AD$500,MATCH(O80,Veri!$AI$31:$AI$500,0))<>\"\",INDEX(Veri!$AD$31:$AD$500,MATCH(O80,Veri!$AI$31:$AI$500,0)),\"\"),\"\")","v":""},{"$f":"IFERROR(IF(INDEX(Veri!$AE$31:$AE$500,MATCH(O80,Veri!$AI$31:$AI$500,0))<>\"\",INDEX(Veri!$AE$31:$AE$500,MATCH(O80,Veri!$AI$31:$AI$500,0)),\"\"),\"\")","v":""},null,71,{"$f":"IFERROR(IF(INDEX(Veri!$AK$31:$AK$500,MATCH(V80,Veri!$AS$31:$AS$500,0))<>\"\",INDEX(Veri!$AK$31:$AK$500,MATCH(V80,Veri!$AS$31:$AS$500,0)),\"\"),\"\")","v":""},{"$f":"IFERROR(IF(INDEX(Veri!$AQ$31:$AQ$500,MATCH(V80,Veri!$AS$31:$AS$500,0))<>\"\",INDEX(Veri!$AQ$31:$AQ$500,MATCH(V80,Veri!$AS$31:$AS$500,0)),\"\"),\"\")","v":""},{"$f":"IFERROR(IF(INDEX(Veri!$AM$31:$AM$500,MATCH(V80,Veri!$AS$31:$AS$500,0))<>\"\",INDEX(Veri!$AM$31:$AM$500,MATCH(V80,Veri!$AS$31:$AS$500,0)),\"\"),\"\")","v":""},{"$f":"IFERROR(IF(INDEX(Veri!$AN$31:$AN$500,MATCH(V80,Veri!$AS$31:$AS$500,0))<>\"\",INDEX(Veri!$AN$31:$AN$500,MATCH(V80,Veri!$AS$31:$AS$500,0)),\"\"),\"\")","v":""},{"$f":"IFERROR(IF(INDEX(Veri!$AO$31:$AO$500,MATCH(V80,Veri!$AS$31:$AS$500,0))<>\"\",INDEX(Veri!$AO$31:$AO$500,MATCH(V80,Veri!$AS$31:$AS$500,0)),\"\"),\"\")","v":""}]
[null,null,null,null,null,null,null,null,null,null,null,null,null,null,72,{"$f":"IFERROR(IF(INDEX(Veri!$AA$31:$AA$500,MATCH(O81,Veri!$AI$31:$AI$500,0))<>\"\",INDEX(Veri!$AA$31:$AA$500,MATCH(O81,Veri!$AI$31:$AI$500,0)),\"\"),\"\")","v":""},{"$f":"IFERROR(IF(INDEX(Veri!$AG$31:$AG$500,MATCH(O81,Veri!$AI$31:$AI$500,0))<>\"\",INDEX(Veri!$AG$31:$AG$500,MATCH(O81,Veri!$AI$31:$AI$500,0)),\"\"),\"\")","v":""},{"$f":"IFERROR(IF(INDEX(Veri!$AC$31:$AC$500,MATCH(O81,Veri!$AI$31:$AI$500,0))<>\"\",INDEX(Veri!$AC$31:$AC$500,MATCH(O81,Veri!$AI$31:$AI$500,0)),\"\"),\"\")","v":""},{"$f":"IFERROR(IF(INDEX(Veri!$AD$31:$AD$500,MATCH(O81,Veri!$AI$31:$AI$500,0))<>\"\",INDEX(Veri!$AD$31:$AD$500,MATCH(O81,Veri!$AI$31:$AI$500,0)),\"\"),\"\")","v":""},{"$f":"IFERROR(IF(INDEX(Veri!$AE$31:$AE$500,MATCH(O81,Veri!$AI$31:$AI$500,0))<>\"\",INDEX(Veri!$AE$31:$AE$500,MATCH(O81,Veri!$AI$31:$AI$500,0)),\"\"),\"\")","v":""},null,72,{"$f":"IFERROR(IF(INDEX(Veri!$AK$31:$AK$500,MATCH(V81,Veri!$AS$31:$AS$500,0))<>\"\",INDEX(Veri!$AK$31:$AK$500,MATCH(V81,Veri!$AS$31:$AS$500,0)),\"\"),\"\")","v":""},{"$f":"IFERROR(IF(INDEX(Veri!$AQ$31:$AQ$500,MATCH(V81,Veri!$AS$31:$AS$500,0))<>\"\",INDEX(Veri!$AQ$31:$AQ$500,MATCH(V81,Veri!$AS$31:$AS$500,0)),\"\"),\"\")","v":""},{"$f":"IFERROR(IF(INDEX(Veri!$AM$31:$AM$500,MATCH(V81,Veri!$AS$31:$AS$500,0))<>\"\",INDEX(Veri!$AM$31:$AM$500,MATCH(V81,Veri!$AS$31:$AS$500,0)),\"\"),\"\")","v":""},{"$f":"IFERROR(IF(INDEX(Veri!$AN$31:$AN$500,MATCH(V81,Veri!$AS$31:$AS$500,0))<>\"\",INDEX(Veri!$AN$31:$AN$500,MATCH(V81,Veri!$AS$31:$AS$500,0)),\"\"),\"\")","v":""},{"$f":"IFERROR(IF(INDEX(Veri!$AO$31:$AO$500,MATCH(V81,Veri!$AS$31:$AS$500,0))<>\"\",INDEX(Veri!$AO$31:$AO$500,MATCH(V81,Veri!$AS$31:$AS$500,0)),\"\"),\"\")","v":""}]
[null,null,null,null,null,null,null,null,null,null,null,null,null,null,73,{"$f":"IFERROR(IF(INDEX(Veri!$AA$31:$AA$500,MATCH(O82,Veri!$AI$31:$AI$500,0))<>\"\",INDEX(Veri!$AA$31:$AA$500,MATCH(O82,Veri!$AI$31:$AI$500,0)),\"\"),\"\")","v":""},{"$f":"IFERROR(IF(INDEX(Veri!$AG$31:$AG$500,MATCH(O82,Veri!$AI$31:$AI$500,0))<>\"\",INDEX(Veri!$AG$31:$AG$500,MATCH(O82,Veri!$AI$31:$AI$500,0)),\"\"),\"\")","v":""},{"$f":"IFERROR(IF(INDEX(Veri!$AC$31:$AC$500,MATCH(O82,Veri!$AI$31:$AI$500,0))<>\"\",INDEX(Veri!$AC$31:$AC$500,MATCH(O82,Veri!$AI$31:$AI$500,0)),\"\"),\"\")","v":""},{"$f":"IFERROR(IF(INDEX(Veri!$AD$31:$AD$500,MATCH(O82,Veri!$AI$31:$AI$500,0))<>\"\",INDEX(Veri!$AD$31:$AD$500,MATCH(O82,Veri!$AI$31:$AI$500,0)),\"\"),\"\")","v":""},{"$f":"IFERROR(IF(INDEX(Veri!$AE$31:$AE$500,MATCH(O82,Veri!$AI$31:$AI$500,0))<>\"\",INDEX(Veri!$AE$31:$AE$500,MATCH(O82,Veri!$AI$31:$AI$500,0)),\"\"),\"\")","v":""},null,73,{"$f":"IFERROR(IF(INDEX(Veri!$AK$31:$AK$500,MATCH(V82,Veri!$AS$31:$AS$500,0))<>\"\",INDEX(Veri!$AK$31:$AK$500,MATCH(V82,Veri!$AS$31:$AS$500,0)),\"\"),\"\")","v":""},{"$f":"IFERROR(IF(INDEX(Veri!$AQ$31:$AQ$500,MATCH(V82,Veri!$AS$31:$AS$500,0))<>\"\",INDEX(Veri!$AQ$31:$AQ$500,MATCH(V82,Veri!$AS$31:$AS$500,0)),\"\"),\"\")","v":""},{"$f":"IFERROR(IF(INDEX(Veri!$AM$31:$AM$500,MATCH(V82,Veri!$AS$31:$AS$500,0))<>\"\",INDEX(Veri!$AM$31:$AM$500,MATCH(V82,Veri!$AS$31:$AS$500,0)),\"\"),\"\")","v":""},{"$f":"IFERROR(IF(INDEX(Veri!$AN$31:$AN$500,MATCH(V82,Veri!$AS$31:$AS$500,0))<>\"\",INDEX(Veri!$AN$31:$AN$500,MATCH(V82,Veri!$AS$31:$AS$500,0)),\"\"),\"\")","v":""},{"$f":"IFERROR(IF(INDEX(Veri!$AO$31:$AO$500,MATCH(V82,Veri!$AS$31:$AS$500,0))<>\"\",INDEX(Veri!$AO$31:$AO$500,MATCH(V82,Veri!$AS$31:$AS$500,0)),\"\"),\"\")","v":""}]
[null,null,null,null,null,null,null,null,null,null,null,null,null,null,74,{"$f":"IFERROR(IF(INDEX(Veri!$AA$31:$AA$500,MATCH(O83,Veri!$AI$31:$AI$500,0))<>\"\",INDEX(Veri!$AA$31:$AA$500,MATCH(O83,Veri!$AI$31:$AI$500,0)),\"\"),\"\")","v":""},{"$f":"IFERROR(IF(INDEX(Veri!$AG$31:$AG$500,MATCH(O83,Veri!$AI$31:$AI$500,0))<>\"\",INDEX(Veri!$AG$31:$AG$500,MATCH(O83,Veri!$AI$31:$AI$500,0)),\"\"),\"\")","v":""},{"$f":"IFERROR(IF(INDEX(Veri!$AC$31:$AC$500,MATCH(O83,Veri!$AI$31:$AI$500,0))<>\"\",INDEX(Veri!$AC$31:$AC$500,MATCH(O83,Veri!$AI$31:$AI$500,0)),\"\"),\"\")","v":""},{"$f":"IFERROR(IF(INDEX(Veri!$AD$31:$AD$500,MATCH(O83,Veri!$AI$31:$AI$500,0))<>\"\",INDEX(Veri!$AD$31:$AD$500,MATCH(O83,Veri!$AI$31:$AI$500,0)),\"\"),\"\")","v":""},{"$f":"IFERROR(IF(INDEX(Veri!$AE$31:$AE$500,MATCH(O83,Veri!$AI$31:$AI$500,0))<>\"\",INDEX(Veri!$AE$31:$AE$500,MATCH(O83,Veri!$AI$31:$AI$500,0)),\"\"),\"\")","v":""},null,74,{"$f":"IFERROR(IF(INDEX(Veri!$AK$31:$AK$500,MATCH(V83,Veri!$AS$31:$AS$500,0))<>\"\",INDEX(Veri!$AK$31:$AK$500,MATCH(V83,Veri!$AS$31:$AS$500,0)),\"\"),\"\")","v":""},{"$f":"IFERROR(IF(INDEX(Veri!$AQ$31:$AQ$500,MATCH(V83,Veri!$AS$31:$AS$500,0))<>\"\",INDEX(Veri!$AQ$31:$AQ$500,MATCH(V83,Veri!$AS$31:$AS$500,0)),\"\"),\"\")","v":""},{"$f":"IFERROR(IF(INDEX(Veri!$AM$31:$AM$500,MATCH(V83,Veri!$AS$31:$AS$500,0))<>\"\",INDEX(Veri!$AM$31:$AM$500,MATCH(V83,Veri!$AS$31:$AS$500,0)),\"\"),\"\")","v":""},{"$f":"IFERROR(IF(INDEX(Veri!$AN$31:$AN$500,MATCH(V83,Veri!$AS$31:$AS$500,0))<>\"\",INDEX(Veri!$AN$31:$AN$500,MATCH(V83,Veri!$AS$31:$AS$500,0)),\"\"),\"\")","v":""},{"$f":"IFERROR(IF(INDEX(Veri!$AO$31:$AO$500,MATCH(V83,Veri!$AS$31:$AS$500,0))<>\"\",INDEX(Veri!$AO$31:$AO$500,MATCH(V83,Veri!$AS$31:$AS$500,0)),\"\"),\"\")","v":""}]
[null,null,null,null,null,null,null,null,null,null,null,null,null,null,75,{"$f":"IFERROR(IF(INDEX(Veri!$AA$31:$AA$500,MATCH(O84,Veri!$AI$31:$AI$500,0))<>\"\",INDEX(Veri!$AA$31:$AA$500,MATCH(O84,Veri!$AI$31:$AI$500,0)),\"\"),\"\")","v":""},{"$f":"IFERROR(IF(INDEX(Veri!$AG$31:$AG$500,MATCH(O84,Veri!$AI$31:$AI$500,0))<>\"\",INDEX(Veri!$AG$31:$AG$500,MATCH(O84,Veri!$AI$31:$AI$500,0)),\"\"),\"\")","v":""},{"$f":"IFERROR(IF(INDEX(Veri!$AC$31:$AC$500,MATCH(O84,Veri!$AI$31:$AI$500,0))<>\"\",INDEX(Veri!$AC$31:$AC$500,MATCH(O84,Veri!$AI$31:$AI$500,0)),\"\"),\"\")","v":""},{"$f":"IFERROR(IF(INDEX(Veri!$AD$31:$AD$500,MATCH(O84,Veri!$AI$31:$AI$500,0))<>\"\",INDEX(Veri!$AD$31:$AD$500,MATCH(O84,Veri!$AI$31:$AI$500,0)),\"\"),\"\")","v":""},{"$f":"IFERROR(IF(INDEX(Veri!$AE$31:$AE$500,MATCH(O84,Veri!$AI$31:$AI$500,0))<>\"\",INDEX(Veri!$AE$31:$AE$500,MATCH(O84,Veri!$AI$31:$AI$500,0)),\"\"),\"\")","v":""},null,75,{"$f":"IFERROR(IF(INDEX(Veri!$AK$31:$AK$500,MATCH(V84,Veri!$AS$31:$AS$500,0))<>\"\",INDEX(Veri!$AK$31:$AK$500,MATCH(V84,Veri!$AS$31:$AS$500,0)),\"\"),\"\")","v":""},{"$f":"IFERROR(IF(INDEX(Veri!$AQ$31:$AQ$500,MATCH(V84,Veri!$AS$31:$AS$500,0))<>\"\",INDEX(Veri!$AQ$31:$AQ$500,MATCH(V84,Veri!$AS$31:$AS$500,0)),\"\"),\"\")","v":""},{"$f":"IFERROR(IF(INDEX(Veri!$AM$31:$AM$500,MATCH(V84,Veri!$AS$31:$AS$500,0))<>\"\",INDEX(Veri!$AM$31:$AM$500,MATCH(V84,Veri!$AS$31:$AS$500,0)),\"\"),\"\")","v":""},{"$f":"IFERROR(IF(INDEX(Veri!$AN$31:$AN$500,MATCH(V84,Veri!$AS$31:$AS$500,0))<>\"\",INDEX(Veri!$AN$31:$AN$500,MATCH(V84,Veri!$AS$31:$AS$500,0)),\"\"),\"\")","v":""},{"$f":"IFERROR(IF(INDEX(Veri!$AO$31:$AO$500,MATCH(V84,Veri!$AS$31:$AS$500,0))<>\"\",INDEX(Veri!$AO$31:$AO$500,MATCH(V84,Veri!$AS$31:$AS$500,0)),\"\"),\"\")","v":""}]
[null,null,null,null,null,null,null,null,null,null,null,null,null,null,76,{"$f":"IFERROR(IF(INDEX(Veri!$AA$31:$AA$500,MATCH(O85,Veri!$AI$31:$AI$500,0))<>\"\",INDEX(Veri!$AA$31:$AA$500,MATCH(O85,Veri!$AI$31:$AI$500,0)),\"\"),\"\")","v":""},{"$f":"IFERROR(IF(INDEX(Veri!$AG$31:$AG$500,MATCH(O85,Veri!$AI$31:$AI$500,0))<>\"\",INDEX(Veri!$AG$31:$AG$500,MATCH(O85,Veri!$AI$31:$AI$500,0)),\"\"),\"\")","v":""},{"$f":"IFERROR(IF(INDEX(Veri!$AC$31:$AC$500,MATCH(O85,Veri!$AI$31:$AI$500,0))<>\"\",INDEX(Veri!$AC$31:$AC$500,MATCH(O85,Veri!$AI$31:$AI$500,0)),\"\"),\"\")","v":""},{"$f":"IFERROR(IF(INDEX(Veri!$AD$31:$AD$500,MATCH(O85,Veri!$AI$31:$AI$500,0))<>\"\",INDEX(Veri!$AD$31:$AD$500,MATCH(O85,Veri!$AI$31:$AI$500,0)),\"\"),\"\")","v":""},{"$f":"IFERROR(IF(INDEX(Veri!$AE$31:$AE$500,MATCH(O85,Veri!$AI$31:$AI$500,0))<>\"\",INDEX(Veri!$AE$31:$AE$500,MATCH(O85,Veri!$AI$31:$AI$500,0)),\"\"),\"\")","v":""},null,76,{"$f":"IFERROR(IF(INDEX(Veri!$AK$31:$AK$500,MATCH(V85,Veri!$AS$31:$AS$500,0))<>\"\",INDEX(Veri!$AK$31:$AK$500,MATCH(V85,Veri!$AS$31:$AS$500,0)),\"\"),\"\")","v":""},{"$f":"IFERROR(IF(INDEX(Veri!$AQ$31:$AQ$500,MATCH(V85,Veri!$AS$31:$AS$500,0))<>\"\",INDEX(Veri!$AQ$31:$AQ$500,MATCH(V85,Veri!$AS$31:$AS$500,0)),\"\"),\"\")","v":""},{"$f":"IFERROR(IF(INDEX(Veri!$AM$31:$AM$500,MATCH(V85,Veri!$AS$31:$AS$500,0))<>\"\",INDEX(Veri!$AM$31:$AM$500,MATCH(V85,Veri!$AS$31:$AS$500,0)),\"\"),\"\")","v":""},{"$f":"IFERROR(IF(INDEX(Veri!$AN$31:$AN$500,MATCH(V85,Veri!$AS$31:$AS$500,0))<>\"\",INDEX(Veri!$AN$31:$AN$500,MATCH(V85,Veri!$AS$31:$AS$500,0)),\"\"),\"\")","v":""},{"$f":"IFERROR(IF(INDEX(Veri!$AO$31:$AO$500,MATCH(V85,Veri!$AS$31:$AS$500,0))<>\"\",INDEX(Veri!$AO$31:$AO$500,MATCH(V85,Veri!$AS$31:$AS$500,0)),\"\"),\"\")","v":""}]
[null,null,null,null,null,null,null,null,null,null,null,null,null,null,77,{"$f":"IFERROR(IF(INDEX(Veri!$AA$31:$AA$500,MATCH(O86,Veri!$AI$31:$AI$500,0))<>\"\",INDEX(Veri!$AA$31:$AA$500,MATCH(O86,Veri!$AI$31:$AI$500,0)),\"\"),\"\")","v":""},{"$f":"IFERROR(IF(INDEX(Veri!$AG$31:$AG$500,MATCH(O86,Veri!$AI$31:$AI$500,0))<>\"\",INDEX(Veri!$AG$31:$AG$500,MATCH(O86,Veri!$AI$31:$AI$500,0)),\"\"),\"\")","v":""},{"$f":"IFERROR(IF(INDEX(Veri!$AC$31:$AC$500,MATCH(O86,Veri!$AI$31:$AI$500,0))<>\"\",INDEX(Veri!$AC$31:$AC$500,MATCH(O86,Veri!$AI$31:$AI$500,0)),\"\"),\"\")","v":""},{"$f":"IFERROR(IF(INDEX(Veri!$AD$31:$AD$500,MATCH(O86,Veri!$AI$31:$AI$500,0))<>\"\",INDEX(Veri!$AD$31:$AD$500,MATCH(O86,Veri!$AI$31:$AI$500,0)),\"\"),\"\")","v":""},{"$f":"IFERROR(IF(INDEX(Veri!$AE$31:$AE$500,MATCH(O86,Veri!$AI$31:$AI$500,0))<>\"\",INDEX(Veri!$AE$31:$AE$500,MATCH(O86,Veri!$AI$31:$AI$500,0)),\"\"),\"\")","v":""},null,77,{"$f":"IFERROR(IF(INDEX(Veri!$AK$31:$AK$500,MATCH(V86,Veri!$AS$31:$AS$500,0))<>\"\",INDEX(Veri!$AK$31:$AK$500,MATCH(V86,Veri!$AS$31:$AS$500,0)),\"\"),\"\")","v":""},{"$f":"IFERROR(IF(INDEX(Veri!$AQ$31:$AQ$500,MATCH(V86,Veri!$AS$31:$AS$500,0))<>\"\",INDEX(Veri!$AQ$31:$AQ$500,MATCH(V86,Veri!$AS$31:$AS$500,0)),\"\"),\"\")","v":""},{"$f":"IFERROR(IF(INDEX(Veri!$AM$31:$AM$500,MATCH(V86,Veri!$AS$31:$AS$500,0))<>\"\",INDEX(Veri!$AM$31:$AM$500,MATCH(V86,Veri!$AS$31:$AS$500,0)),\"\"),\"\")","v":""},{"$f":"IFERROR(IF(INDEX(Veri!$AN$31:$AN$500,MATCH(V86,Veri!$AS$31:$AS$500,0))<>\"\",INDEX(Veri!$AN$31:$AN$500,MATCH(V86,Veri!$AS$31:$AS$500,0)),\"\"),\"\")","v":""},{"$f":"IFERROR(IF(INDEX(Veri!$AO$31:$AO$500,MATCH(V86,Veri!$AS$31:$AS$500,0))<>\"\",INDEX(Veri!$AO$31:$AO$500,MATCH(V86,Veri!$AS$31:$AS$500,0)),\"\"),\"\")","v":""}]
[null,null,null,null,null,null,null,null,null,null,null,null,null,null,78,{"$f":"IFERROR(IF(INDEX(Veri!$AA$31:$AA$500,MATCH(O87,Veri!$AI$31:$AI$500,0))<>\"\",INDEX(Veri!$AA$31:$AA$500,MATCH(O87,Veri!$AI$31:$AI$500,0)),\"\"),\"\")","v":""},{"$f":"IFERROR(IF(INDEX(Veri!$AG$31:$AG$500,MATCH(O87,Veri!$AI$31:$AI$500,0))<>\"\",INDEX(Veri!$AG$31:$AG$500,MATCH(O87,Veri!$AI$31:$AI$500,0)),\"\"),\"\")","v":""},{"$f":"IFERROR(IF(INDEX(Veri!$AC$31:$AC$500,MATCH(O87,Veri!$AI$31:$AI$500,0))<>\"\",INDEX(Veri!$AC$31:$AC$500,MATCH(O87,Veri!$AI$31:$AI$500,0)),\"\"),\"\")","v":""},{"$f":"IFERROR(IF(INDEX(Veri!$AD$31:$AD$500,MATCH(O87,Veri!$AI$31:$AI$500,0))<>\"\",INDEX(Veri!$AD$31:$AD$500,MATCH(O87,Veri!$AI$31:$AI$500,0)),\"\"),\"\")","v":""},{"$f":"IFERROR(IF(INDEX(Veri!$AE$31:$AE$500,MATCH(O87,Veri!$AI$31:$AI$500,0))<>\"\",INDEX(Veri!$AE$31:$AE$500,MATCH(O87,Veri!$AI$31:$AI$500,0)),\"\"),\"\")","v":""},null,78,{"$f":"IFERROR(IF(INDEX(Veri!$AK$31:$AK$500,MATCH(V87,Veri!$AS$31:$AS$500,0))<>\"\",INDEX(Veri!$AK$31:$AK$500,MATCH(V87,Veri!$AS$31:$AS$500,0)),\"\"),\"\")","v":""},{"$f":"IFERROR(IF(INDEX(Veri!$AQ$31:$AQ$500,MATCH(V87,Veri!$AS$31:$AS$500,0))<>\"\",INDEX(Veri!$AQ$31:$AQ$500,MATCH(V87,Veri!$AS$31:$AS$500,0)),\"\"),\"\")","v":""},{"$f":"IFERROR(IF(INDEX(Veri!$AM$31:$AM$500,MATCH(V87,Veri!$AS$31:$AS$500,0))<>\"\",INDEX(Veri!$AM$31:$AM$500,MATCH(V87,Veri!$AS$31:$AS$500,0)),\"\"),\"\")","v":""},{"$f":"IFERROR(IF(INDEX(Veri!$AN$31:$AN$500,MATCH(V87,Veri!$AS$31:$AS$500,0))<>\"\",INDEX(Veri!$AN$31:$AN$500,MATCH(V87,Veri!$AS$31:$AS$500,0)),\"\"),\"\")","v":""},{"$f":"IFERROR(IF(INDEX(Veri!$AO$31:$AO$500,MATCH(V87,Veri!$AS$31:$AS$500,0))<>\"\",INDEX(Veri!$AO$31:$AO$500,MATCH(V87,Veri!$AS$31:$AS$500,0)),\"\"),\"\")","v":""}]
[null,null,null,null,null,null,null,null,null,null,null,null,null,null,79,{"$f":"IFERROR(IF(INDEX(Veri!$AA$31:$AA$500,MATCH(O88,Veri!$AI$31:$AI$500,0))<>\"\",INDEX(Veri!$AA$31:$AA$500,MATCH(O88,Veri!$AI$31:$AI$500,0)),\"\"),\"\")","v":""},{"$f":"IFERROR(IF(INDEX(Veri!$AG$31:$AG$500,MATCH(O88,Veri!$AI$31:$AI$500,0))<>\"\",INDEX(Veri!$AG$31:$AG$500,MATCH(O88,Veri!$AI$31:$AI$500,0)),\"\"),\"\")","v":""},{"$f":"IFERROR(IF(INDEX(Veri!$AC$31:$AC$500,MATCH(O88,Veri!$AI$31:$AI$500,0))<>\"\",INDEX(Veri!$AC$31:$AC$500,MATCH(O88,Veri!$AI$31:$AI$500,0)),\"\"),\"\")","v":""},{"$f":"IFERROR(IF(INDEX(Veri!$AD$31:$AD$500,MATCH(O88,Veri!$AI$31:$AI$500,0))<>\"\",INDEX(Veri!$AD$31:$AD$500,MATCH(O88,Veri!$AI$31:$AI$500,0)),\"\"),\"\")","v":""},{"$f":"IFERROR(IF(INDEX(Veri!$AE$31:$AE$500,MATCH(O88,Veri!$AI$31:$AI$500,0))<>\"\",INDEX(Veri!$AE$31:$AE$500,MATCH(O88,Veri!$AI$31:$AI$500,0)),\"\"),\"\")","v":""},null,79,{"$f":"IFERROR(IF(INDEX(Veri!$AK$31:$AK$500,MATCH(V88,Veri!$AS$31:$AS$500,0))<>\"\",INDEX(Veri!$AK$31:$AK$500,MATCH(V88,Veri!$AS$31:$AS$500,0)),\"\"),\"\")","v":""},{"$f":"IFERROR(IF(INDEX(Veri!$AQ$31:$AQ$500,MATCH(V88,Veri!$AS$31:$AS$500,0))<>\"\",INDEX(Veri!$AQ$31:$AQ$500,MATCH(V88,Veri!$AS$31:$AS$500,0)),\"\"),\"\")","v":""},{"$f":"IFERROR(IF(INDEX(Veri!$AM$31:$AM$500,MATCH(V88,Veri!$AS$31:$AS$500,0))<>\"\",INDEX(Veri!$AM$31:$AM$500,MATCH(V88,Veri!$AS$31:$AS$500,0)),\"\"),\"\")","v":""},{"$f":"IFERROR(IF(INDEX(Veri!$AN$31:$AN$500,MATCH(V88,Veri!$AS$31:$AS$500,0))<>\"\",INDEX(Veri!$AN$31:$AN$500,MATCH(V88,Veri!$AS$31:$AS$500,0)),\"\"),\"\")","v":""},{"$f":"IFERROR(IF(INDEX(Veri!$AO$31:$AO$500,MATCH(V88,Veri!$AS$31:$AS$500,0))<>\"\",INDEX(Veri!$AO$31:$AO$500,MATCH(V88,Veri!$AS$31:$AS$500,0)),\"\"),\"\")","v":""}]
[null,null,null,null,null,null,null,null,null,null,null,null,null,null,80,{"$f":"IFERROR(IF(INDEX(Veri!$AA$31:$AA$500,MATCH(O89,Veri!$AI$31:$AI$500,0))<>\"\",INDEX(Veri!$AA$31:$AA$500,MATCH(O89,Veri!$AI$31:$AI$500,0)),\"\"),\"\")","v":""},{"$f":"IFERROR(IF(INDEX(Veri!$AG$31:$AG$500,MATCH(O89,Veri!$AI$31:$AI$500,0))<>\"\",INDEX(Veri!$AG$31:$AG$500,MATCH(O89,Veri!$AI$31:$AI$500,0)),\"\"),\"\")","v":""},{"$f":"IFERROR(IF(INDEX(Veri!$AC$31:$AC$500,MATCH(O89,Veri!$AI$31:$AI$500,0))<>\"\",INDEX(Veri!$AC$31:$AC$500,MATCH(O89,Veri!$AI$31:$AI$500,0)),\"\"),\"\")","v":""},{"$f":"IFERROR(IF(INDEX(Veri!$AD$31:$AD$500,MATCH(O89,Veri!$AI$31:$AI$500,0))<>\"\",INDEX(Veri!$AD$31:$AD$500,MATCH(O89,Veri!$AI$31:$AI$500,0)),\"\"),\"\")","v":""},{"$f":"IFERROR(IF(INDEX(Veri!$AE$31:$AE$500,MATCH(O89,Veri!$AI$31:$AI$500,0))<>\"\",INDEX(Veri!$AE$31:$AE$500,MATCH(O89,Veri!$AI$31:$AI$500,0)),\"\"),\"\")","v":""},null,80,{"$f":"IFERROR(IF(INDEX(Veri!$AK$31:$AK$500,MATCH(V89,Veri!$AS$31:$AS$500,0))<>\"\",INDEX(Veri!$AK$31:$AK$500,MATCH(V89,Veri!$AS$31:$AS$500,0)),\"\"),\"\")","v":""},{"$f":"IFERROR(IF(INDEX(Veri!$AQ$31:$AQ$500,MATCH(V89,Veri!$AS$31:$AS$500,0))<>\"\",INDEX(Veri!$AQ$31:$AQ$500,MATCH(V89,Veri!$AS$31:$AS$500,0)),\"\"),\"\")","v":""},{"$f":"IFERROR(IF(INDEX(Veri!$AM$31:$AM$500,MATCH(V89,Veri!$AS$31:$AS$500,0))<>\"\",INDEX(Veri!$AM$31:$AM$500,MATCH(V89,Veri!$AS$31:$AS$500,0)),\"\"),\"\")","v":""},{"$f":"IFERROR(IF(INDEX(Veri!$AN$31:$AN$500,MATCH(V89,Veri!$AS$31:$AS$500,0))<>\"\",INDEX(Veri!$AN$31:$AN$500,MATCH(V89,Veri!$AS$31:$AS$500,0)),\"\"),\"\")","v":""},{"$f":"IFERROR(IF(INDEX(Veri!$AO$31:$AO$500,MATCH(V89,Veri!$AS$31:$AS$500,0))<>\"\",INDEX(Veri!$AO$31:$AO$500,MATCH(V89,Veri!$AS$31:$AS$500,0)),\"\"),\"\")","v":""}]
[null,null,null,null,null,null,null,null,null,null,null,null,null,null,81,{"$f":"IFERROR(IF(INDEX(Veri!$AA$31:$AA$500,MATCH(O90,Veri!$AI$31:$AI$500,0))<>\"\",INDEX(Veri!$AA$31:$AA$500,MATCH(O90,Veri!$AI$31:$AI$500,0)),\"\"),\"\")","v":""},{"$f":"IFERROR(IF(INDEX(Veri!$AG$31:$AG$500,MATCH(O90,Veri!$AI$31:$AI$500,0))<>\"\",INDEX(Veri!$AG$31:$AG$500,MATCH(O90,Veri!$AI$31:$AI$500,0)),\"\"),\"\")","v":""},{"$f":"IFERROR(IF(INDEX(Veri!$AC$31:$AC$500,MATCH(O90,Veri!$AI$31:$AI$500,0))<>\"\",INDEX(Veri!$AC$31:$AC$500,MATCH(O90,Veri!$AI$31:$AI$500,0)),\"\"),\"\")","v":""},{"$f":"IFERROR(IF(INDEX(Veri!$AD$31:$AD$500,MATCH(O90,Veri!$AI$31:$AI$500,0))<>\"\",INDEX(Veri!$AD$31:$AD$500,MATCH(O90,Veri!$AI$31:$AI$500,0)),\"\"),\"\")","v":""},{"$f":"IFERROR(IF(INDEX(Veri!$AE$31:$AE$500,MATCH(O90,Veri!$AI$31:$AI$500,0))<>\"\",INDEX(Veri!$AE$31:$AE$500,MATCH(O90,Veri!$AI$31:$AI$500,0)),\"\"),\"\")","v":""},null,81,{"$f":"IFERROR(IF(INDEX(Veri!$AK$31:$AK$500,MATCH(V90,Veri!$AS$31:$AS$500,0))<>\"\",INDEX(Veri!$AK$31:$AK$500,MATCH(V90,Veri!$AS$31:$AS$500,0)),\"\"),\"\")","v":""},{"$f":"IFERROR(IF(INDEX(Veri!$AQ$31:$AQ$500,MATCH(V90,Veri!$AS$31:$AS$500,0))<>\"\",INDEX(Veri!$AQ$31:$AQ$500,MATCH(V90,Veri!$AS$31:$AS$500,0)),\"\"),\"\")","v":""},{"$f":"IFERROR(IF(INDEX(Veri!$AM$31:$AM$500,MATCH(V90,Veri!$AS$31:$AS$500,0))<>\"\",INDEX(Veri!$AM$31:$AM$500,MATCH(V90,Veri!$AS$31:$AS$500,0)),\"\"),\"\")","v":""},{"$f":"IFERROR(IF(INDEX(Veri!$AN$31:$AN$500,MATCH(V90,Veri!$AS$31:$AS$500,0))<>\"\",INDEX(Veri!$AN$31:$AN$500,MATCH(V90,Veri!$AS$31:$AS$500,0)),\"\"),\"\")","v":""},{"$f":"IFERROR(IF(INDEX(Veri!$AO$31:$AO$500,MATCH(V90,Veri!$AS$31:$AS$500,0))<>\"\",INDEX(Veri!$AO$31:$AO$500,MATCH(V90,Veri!$AS$31:$AS$500,0)),\"\"),\"\")","v":""}]
[null,null,null,null,null,null,null,null,null,null,null,null,null,null,82,{"$f":"IFERROR(IF(INDEX(Veri!$AA$31:$AA$500,MATCH(O91,Veri!$AI$31:$AI$500,0))<>\"\",INDEX(Veri!$AA$31:$AA$500,MATCH(O91,Veri!$AI$31:$AI$500,0)),\"\"),\"\")","v":""},{"$f":"IFERROR(IF(INDEX(Veri!$AG$31:$AG$500,MATCH(O91,Veri!$AI$31:$AI$500,0))<>\"\",INDEX(Veri!$AG$31:$AG$500,MATCH(O91,Veri!$AI$31:$AI$500,0)),\"\"),\"\")","v":""},{"$f":"IFERROR(IF(INDEX(Veri!$AC$31:$AC$500,MATCH(O91,Veri!$AI$31:$AI$500,0))<>\"\",INDEX(Veri!$AC$31:$AC$500,MATCH(O91,Veri!$AI$31:$AI$500,0)),\"\"),\"\")","v":""},{"$f":"IFERROR(IF(INDEX(Veri!$AD$31:$AD$500,MATCH(O91,Veri!$AI$31:$AI$500,0))<>\"\",INDEX(Veri!$AD$31:$AD$500,MATCH(O91,Veri!$AI$31:$AI$500,0)),\"\"),\"\")","v":""},{"$f":"IFERROR(IF(INDEX(Veri!$AE$31:$AE$500,MATCH(O91,Veri!$AI$31:$AI$500,0))<>\"\",INDEX(Veri!$AE$31:$AE$500,MATCH(O91,Veri!$AI$31:$AI$500,0)),\"\"),\"\")","v":""},null,82,{"$f":"IFERROR(IF(INDEX(Veri!$AK$31:$AK$500,MATCH(V91,Veri!$AS$31:$AS$500,0))<>\"\",INDEX(Veri!$AK$31:$AK$500,MATCH(V91,Veri!$AS$31:$AS$500,0)),\"\"),\"\")","v":""},{"$f":"IFERROR(IF(INDEX(Veri!$AQ$31:$AQ$500,MATCH(V91,Veri!$AS$31:$AS$500,0))<>\"\",INDEX(Veri!$AQ$31:$AQ$500,MATCH(V91,Veri!$AS$31:$AS$500,0)),\"\"),\"\")","v":""},{"$f":"IFERROR(IF(INDEX(Veri!$AM$31:$AM$500,MATCH(V91,Veri!$AS$31:$AS$500,0))<>\"\",INDEX(Veri!$AM$31:$AM$500,MATCH(V91,Veri!$AS$31:$AS$500,0)),\"\"),\"\")","v":""},{"$f":"IFERROR(IF(INDEX(Veri!$AN$31:$AN$500,MATCH(V91,Veri!$AS$31:$AS$500,0))<>\"\",INDEX(Veri!$AN$31:$AN$500,MATCH(V91,Veri!$AS$31:$AS$500,0)),\"\"),\"\")","v":""},{"$f":"IFERROR(IF(INDEX(Veri!$AO$31:$AO$500,MATCH(V91,Veri!$AS$31:$AS$500,0))<>\"\",INDEX(Veri!$AO$31:$AO$500,MATCH(V91,Veri!$AS$31:$AS$500,0)),\"\"),\"\")","v":""}]
[null,null,null,null,null,null,null,null,null,null,null,null,null,null,83,{"$f":"IFERROR(IF(INDEX(Veri!$AA$31:$AA$500,MATCH(O92,Veri!$AI$31:$AI$500,0))<>\"\",INDEX(Veri!$AA$31:$AA$500,MATCH(O92,Veri!$AI$31:$AI$500,0)),\"\"),\"\")","v":""},{"$f":"IFERROR(IF(INDEX(Veri!$AG$31:$AG$500,MATCH(O92,Veri!$AI$31:$AI$500,0))<>\"\",INDEX(Veri!$AG$31:$AG$500,MATCH(O92,Veri!$AI$31:$AI$500,0)),\"\"),\"\")","v":""},{"$f":"IFERROR(IF(INDEX(Veri!$AC$31:$AC$500,MATCH(O92,Veri!$AI$31:$AI$500,0))<>\"\",INDEX(Veri!$AC$31:$AC$500,MATCH(O92,Veri!$AI$31:$AI$500,0)),\"\"),\"\")","v":""},{"$f":"IFERROR(IF(INDEX(Veri!$AD$31:$AD$500,MATCH(O92,Veri!$AI$31:$AI$500,0))<>\"\",INDEX(Veri!$AD$31:$AD$500,MATCH(O92,Veri!$AI$31:$AI$500,0)),\"\"),\"\")","v":""},{"$f":"IFERROR(IF(INDEX(Veri!$AE$31:$AE$500,MATCH(O92,Veri!$AI$31:$AI$500,0))<>\"\",INDEX(Veri!$AE$31:$AE$500,MATCH(O92,Veri!$AI$31:$AI$500,0)),\"\"),\"\")","v":""},null,83,{"$f":"IFERROR(IF(INDEX(Veri!$AK$31:$AK$500,MATCH(V92,Veri!$AS$31:$AS$500,0))<>\"\",INDEX(Veri!$AK$31:$AK$500,MATCH(V92,Veri!$AS$31:$AS$500,0)),\"\"),\"\")","v":""},{"$f":"IFERROR(IF(INDEX(Veri!$AQ$31:$AQ$500,MATCH(V92,Veri!$AS$31:$AS$500,0))<>\"\",INDEX(Veri!$AQ$31:$AQ$500,MATCH(V92,Veri!$AS$31:$AS$500,0)),\"\"),\"\")","v":""},{"$f":"IFERROR(IF(INDEX(Veri!$AM$31:$AM$500,MATCH(V92,Veri!$AS$31:$AS$500,0))<>\"\",INDEX(Veri!$AM$31:$AM$500,MATCH(V92,Veri!$AS$31:$AS$500,0)),\"\"),\"\")","v":""},{"$f":"IFERROR(IF(INDEX(Veri!$AN$31:$AN$500,MATCH(V92,Veri!$AS$31:$AS$500,0))<>\"\",INDEX(Veri!$AN$31:$AN$500,MATCH(V92,Veri!$AS$31:$AS$500,0)),\"\"),\"\")","v":""},{"$f":"IFERROR(IF(INDEX(Veri!$AO$31:$AO$500,MATCH(V92,Veri!$AS$31:$AS$500,0))<>\"\",INDEX(Veri!$AO$31:$AO$500,MATCH(V92,Veri!$AS$31:$AS$500,0)),\"\"),\"\")","v":""}]
[null,null,null,null,null,null,null,null,null,null,null,null,null,null,84,{"$f":"IFERROR(IF(INDEX(Veri!$AA$31:$AA$500,MATCH(O93,Veri!$AI$31:$AI$500,0))<>\"\",INDEX(Veri!$AA$31:$AA$500,MATCH(O93,Veri!$AI$31:$AI$500,0)),\"\"),\"\")","v":""},{"$f":"IFERROR(IF(INDEX(Veri!$AG$31:$AG$500,MATCH(O93,Veri!$AI$31:$AI$500,0))<>\"\",INDEX(Veri!$AG$31:$AG$500,MATCH(O93,Veri!$AI$31:$AI$500,0)),\"\"),\"\")","v":""},{"$f":"IFERROR(IF(INDEX(Veri!$AC$31:$AC$500,MATCH(O93,Veri!$AI$31:$AI$500,0))<>\"\",INDEX(Veri!$AC$31:$AC$500,MATCH(O93,Veri!$AI$31:$AI$500,0)),\"\"),\"\")","v":""},{"$f":"IFERROR(IF(INDEX(Veri!$AD$31:$AD$500,MATCH(O93,Veri!$AI$31:$AI$500,0))<>\"\",INDEX(Veri!$AD$31:$AD$500,MATCH(O93,Veri!$AI$31:$AI$500,0)),\"\"),\"\")","v":""},{"$f":"IFERROR(IF(INDEX(Veri!$AE$31:$AE$500,MATCH(O93,Veri!$AI$31:$AI$500,0))<>\"\",INDEX(Veri!$AE$31:$AE$500,MATCH(O93,Veri!$AI$31:$AI$500,0)),\"\"),\"\")","v":""},null,84,{"$f":"IFERROR(IF(INDEX(Veri!$AK$31:$AK$500,MATCH(V93,Veri!$AS$31:$AS$500,0))<>\"\",INDEX(Veri!$AK$31:$AK$500,MATCH(V93,Veri!$AS$31:$AS$500,0)),\"\"),\"\")","v":""},{"$f":"IFERROR(IF(INDEX(Veri!$AQ$31:$AQ$500,MATCH(V93,Veri!$AS$31:$AS$500,0))<>\"\",INDEX(Veri!$AQ$31:$AQ$500,MATCH(V93,Veri!$AS$31:$AS$500,0)),\"\"),\"\")","v":""},{"$f":"IFERROR(IF(INDEX(Veri!$AM$31:$AM$500,MATCH(V93,Veri!$AS$31:$AS$500,0))<>\"\",INDEX(Veri!$AM$31:$AM$500,MATCH(V93,Veri!$AS$31:$AS$500,0)),\"\"),\"\")","v":""},{"$f":"IFERROR(IF(INDEX(Veri!$AN$31:$AN$500,MATCH(V93,Veri!$AS$31:$AS$500,0))<>\"\",INDEX(Veri!$AN$31:$AN$500,MATCH(V93,Veri!$AS$31:$AS$500,0)),\"\"),\"\")","v":""},{"$f":"IFERROR(IF(INDEX(Veri!$AO$31:$AO$500,MATCH(V93,Veri!$AS$31:$AS$500,0))<>\"\",INDEX(Veri!$AO$31:$AO$500,MATCH(V93,Veri!$AS$31:$AS$500,0)),\"\"),\"\")","v":""}]
[null,null,null,null,null,null,null,null,null,null,null,null,null,null,85,{"$f":"IFERROR(IF(INDEX(Veri!$AA$31:$AA$500,MATCH(O94,Veri!$AI$31:$AI$500,0))<>\"\",INDEX(Veri!$AA$31:$AA$500,MATCH(O94,Veri!$AI$31:$AI$500,0)),\"\"),\"\")","v":""},{"$f":"IFERROR(IF(INDEX(Veri!$AG$31:$AG$500,MATCH(O94,Veri!$AI$31:$AI$500,0))<>\"\",INDEX(Veri!$AG$31:$AG$500,MATCH(O94,Veri!$AI$31:$AI$500,0)),\"\"),\"\")","v":""},{"$f":"IFERROR(IF(INDEX(Veri!$AC$31:$AC$500,MATCH(O94,Veri!$AI$31:$AI$500,0))<>\"\",INDEX(Veri!$AC$31:$AC$500,MATCH(O94,Veri!$AI$31:$AI$500,0)),\"\"),\"\")","v":""},{"$f":"IFERROR(IF(INDEX(Veri!$AD$31:$AD$500,MATCH(O94,Veri!$AI$31:$AI$500,0))<>\"\",INDEX(Veri!$AD$31:$AD$500,MATCH(O94,Veri!$AI$31:$AI$500,0)),\"\"),\"\")","v":""},{"$f":"IFERROR(IF(INDEX(Veri!$AE$31:$AE$500,MATCH(O94,Veri!$AI$31:$AI$500,0))<>\"\",INDEX(Veri!$AE$31:$AE$500,MATCH(O94,Veri!$AI$31:$AI$500,0)),\"\"),\"\")","v":""},null,85,{"$f":"IFERROR(IF(INDEX(Veri!$AK$31:$AK$500,MATCH(V94,Veri!$AS$31:$AS$500,0))<>\"\",INDEX(Veri!$AK$31:$AK$500,MATCH(V94,Veri!$AS$31:$AS$500,0)),\"\"),\"\")","v":""},{"$f":"IFERROR(IF(INDEX(Veri!$AQ$31:$AQ$500,MATCH(V94,Veri!$AS$31:$AS$500,0))<>\"\",INDEX(Veri!$AQ$31:$AQ$500,MATCH(V94,Veri!$AS$31:$AS$500,0)),\"\"),\"\")","v":""},{"$f":"IFERROR(IF(INDEX(Veri!$AM$31:$AM$500,MATCH(V94,Veri!$AS$31:$AS$500,0))<>\"\",INDEX(Veri!$AM$31:$AM$500,MATCH(V94,Veri!$AS$31:$AS$500,0)),\"\"),\"\")","v":""},{"$f":"IFERROR(IF(INDEX(Veri!$AN$31:$AN$500,MATCH(V94,Veri!$AS$31:$AS$500,0))<>\"\",INDEX(Veri!$AN$31:$AN$500,MATCH(V94,Veri!$AS$31:$AS$500,0)),\"\"),\"\")","v":""},{"$f":"IFERROR(IF(INDEX(Veri!$AO$31:$AO$500,MATCH(V94,Veri!$AS$31:$AS$500,0))<>\"\",INDEX(Veri!$AO$31:$AO$500,MATCH(V94,Veri!$AS$31:$AS$500,0)),\"\"),\"\")","v":""}]
[null,null,null,null,null,null,null,null,null,null,null,null,null,null,86,{"$f":"IFERROR(IF(INDEX(Veri!$AA$31:$AA$500,MATCH(O95,Veri!$AI$31:$AI$500,0))<>\"\",INDEX(Veri!$AA$31:$AA$500,MATCH(O95,Veri!$AI$31:$AI$500,0)),\"\"),\"\")","v":""},{"$f":"IFERROR(IF(INDEX(Veri!$AG$31:$AG$500,MATCH(O95,Veri!$AI$31:$AI$500,0))<>\"\",INDEX(Veri!$AG$31:$AG$500,MATCH(O95,Veri!$AI$31:$AI$500,0)),\"\"),\"\")","v":""},{"$f":"IFERROR(IF(INDEX(Veri!$AC$31:$AC$500,MATCH(O95,Veri!$AI$31:$AI$500,0))<>\"\",INDEX(Veri!$AC$31:$AC$500,MATCH(O95,Veri!$AI$31:$AI$500,0)),\"\"),\"\")","v":""},{"$f":"IFERROR(IF(INDEX(Veri!$AD$31:$AD$500,MATCH(O95,Veri!$AI$31:$AI$500,0))<>\"\",INDEX(Veri!$AD$31:$AD$500,MATCH(O95,Veri!$AI$31:$AI$500,0)),\"\"),\"\")","v":""},{"$f":"IFERROR(IF(INDEX(Veri!$AE$31:$AE$500,MATCH(O95,Veri!$AI$31:$AI$500,0))<>\"\",INDEX(Veri!$AE$31:$AE$500,MATCH(O95,Veri!$AI$31:$AI$500,0)),\"\"),\"\")","v":""},null,86,{"$f":"IFERROR(IF(INDEX(Veri!$AK$31:$AK$500,MATCH(V95,Veri!$AS$31:$AS$500,0))<>\"\",INDEX(Veri!$AK$31:$AK$500,MATCH(V95,Veri!$AS$31:$AS$500,0)),\"\"),\"\")","v":""},{"$f":"IFERROR(IF(INDEX(Veri!$AQ$31:$AQ$500,MATCH(V95,Veri!$AS$31:$AS$500,0))<>\"\",INDEX(Veri!$AQ$31:$AQ$500,MATCH(V95,Veri!$AS$31:$AS$500,0)),\"\"),\"\")","v":""},{"$f":"IFERROR(IF(INDEX(Veri!$AM$31:$AM$500,MATCH(V95,Veri!$AS$31:$AS$500,0))<>\"\",INDEX(Veri!$AM$31:$AM$500,MATCH(V95,Veri!$AS$31:$AS$500,0)),\"\"),\"\")","v":""},{"$f":"IFERROR(IF(INDEX(Veri!$AN$31:$AN$500,MATCH(V95,Veri!$AS$31:$AS$500,0))<>\"\",INDEX(Veri!$AN$31:$AN$500,MATCH(V95,Veri!$AS$31:$AS$500,0)),\"\"),\"\")","v":""},{"$f":"IFERROR(IF(INDEX(Veri!$AO$31:$AO$500,MATCH(V95,Veri!$AS$31:$AS$500,0))<>\"\",INDEX(Veri!$AO$31:$AO$500,MATCH(V95,Veri!$AS$31:$AS$500,0)),\"\"),\"\")","v":""}]
[null,null,null,null,null,null,null,null,null,null,null,null,null,null,87,{"$f":"IFERROR(IF(INDEX(Veri!$AA$31:$AA$500,MATCH(O96,Veri!$AI$31:$AI$500,0))<>\"\",INDEX(Veri!$AA$31:$AA$500,MATCH(O96,Veri!$AI$31:$AI$500,0)),\"\"),\"\")","v":""},{"$f":"IFERROR(IF(INDEX(Veri!$AG$31:$AG$500,MATCH(O96,Veri!$AI$31:$AI$500,0))<>\"\",INDEX(Veri!$AG$31:$AG$500,MATCH(O96,Veri!$AI$31:$AI$500,0)),\"\"),\"\")","v":""},{"$f":"IFERROR(IF(INDEX(Veri!$AC$31:$AC$500,MATCH(O96,Veri!$AI$31:$AI$500,0))<>\"\",INDEX(Veri!$AC$31:$AC$500,MATCH(O96,Veri!$AI$31:$AI$500,0)),\"\"),\"\")","v":""},{"$f":"IFERROR(IF(INDEX(Veri!$AD$31:$AD$500,MATCH(O96,Veri!$AI$31:$AI$500,0))<>\"\",INDEX(Veri!$AD$31:$AD$500,MATCH(O96,Veri!$AI$31:$AI$500,0)),\"\"),\"\")","v":""},{"$f":"IFERROR(IF(INDEX(Veri!$AE$31:$AE$500,MATCH(O96,Veri!$AI$31:$AI$500,0))<>\"\",INDEX(Veri!$AE$31:$AE$500,MATCH(O96,Veri!$AI$31:$AI$500,0)),\"\"),\"\")","v":""},null,87,{"$f":"IFERROR(IF(INDEX(Veri!$AK$31:$AK$500,MATCH(V96,Veri!$AS$31:$AS$500,0))<>\"\",INDEX(Veri!$AK$31:$AK$500,MATCH(V96,Veri!$AS$31:$AS$500,0)),\"\"),\"\")","v":""},{"$f":"IFERROR(IF(INDEX(Veri!$AQ$31:$AQ$500,MATCH(V96,Veri!$AS$31:$AS$500,0))<>\"\",INDEX(Veri!$AQ$31:$AQ$500,MATCH(V96,Veri!$AS$31:$AS$500,0)),\"\"),\"\")","v":""},{"$f":"IFERROR(IF(INDEX(Veri!$AM$31:$AM$500,MATCH(V96,Veri!$AS$31:$AS$500,0))<>\"\",INDEX(Veri!$AM$31:$AM$500,MATCH(V96,Veri!$AS$31:$AS$500,0)),\"\"),\"\")","v":""},{"$f":"IFERROR(IF(INDEX(Veri!$AN$31:$AN$500,MATCH(V96,Veri!$AS$31:$AS$500,0))<>\"\",INDEX(Veri!$AN$31:$AN$500,MATCH(V96,Veri!$AS$31:$AS$500,0)),\"\"),\"\")","v":""},{"$f":"IFERROR(IF(INDEX(Veri!$AO$31:$AO$500,MATCH(V96,Veri!$AS$31:$AS$500,0))<>\"\",INDEX(Veri!$AO$31:$AO$500,MATCH(V96,Veri!$AS$31:$AS$500,0)),\"\"),\"\")","v":""}]
[null,null,null,null,null,null,null,null,null,null,null,null,null,null,88,{"$f":"IFERROR(IF(INDEX(Veri!$AA$31:$AA$500,MATCH(O97,Veri!$AI$31:$AI$500,0))<>\"\",INDEX(Veri!$AA$31:$AA$500,MATCH(O97,Veri!$AI$31:$AI$500,0)),\"\"),\"\")","v":""},{"$f":"IFERROR(IF(INDEX(Veri!$AG$31:$AG$500,MATCH(O97,Veri!$AI$31:$AI$500,0))<>\"\",INDEX(Veri!$AG$31:$AG$500,MATCH(O97,Veri!$AI$31:$AI$500,0)),\"\"),\"\")","v":""},{"$f":"IFERROR(IF(INDEX(Veri!$AC$31:$AC$500,MATCH(O97,Veri!$AI$31:$AI$500,0))<>\"\",INDEX(Veri!$AC$31:$AC$500,MATCH(O97,Veri!$AI$31:$AI$500,0)),\"\"),\"\")","v":""},{"$f":"IFERROR(IF(INDEX(Veri!$AD$31:$AD$500,MATCH(O97,Veri!$AI$31:$AI$500,0))<>\"\",INDEX(Veri!$AD$31:$AD$500,MATCH(O97,Veri!$AI$31:$AI$500,0)),\"\"),\"\")","v":""},{"$f":"IFERROR(IF(INDEX(Veri!$AE$31:$AE$500,MATCH(O97,Veri!$AI$31:$AI$500,0))<>\"\",INDEX(Veri!$AE$31:$AE$500,MATCH(O97,Veri!$AI$31:$AI$500,0)),\"\"),\"\")","v":""},null,88,{"$f":"IFERROR(IF(INDEX(Veri!$AK$31:$AK$500,MATCH(V97,Veri!$AS$31:$AS$500,0))<>\"\",INDEX(Veri!$AK$31:$AK$500,MATCH(V97,Veri!$AS$31:$AS$500,0)),\"\"),\"\")","v":""},{"$f":"IFERROR(IF(INDEX(Veri!$AQ$31:$AQ$500,MATCH(V97,Veri!$AS$31:$AS$500,0))<>\"\",INDEX(Veri!$AQ$31:$AQ$500,MATCH(V97,Veri!$AS$31:$AS$500,0)),\"\"),\"\")","v":""},{"$f":"IFERROR(IF(INDEX(Veri!$AM$31:$AM$500,MATCH(V97,Veri!$AS$31:$AS$500,0))<>\"\",INDEX(Veri!$AM$31:$AM$500,MATCH(V97,Veri!$AS$31:$AS$500,0)),\"\"),\"\")","v":""},{"$f":"IFERROR(IF(INDEX(Veri!$AN$31:$AN$500,MATCH(V97,Veri!$AS$31:$AS$500,0))<>\"\",INDEX(Veri!$AN$31:$AN$500,MATCH(V97,Veri!$AS$31:$AS$500,0)),\"\"),\"\")","v":""},{"$f":"IFERROR(IF(INDEX(Veri!$AO$31:$AO$500,MATCH(V97,Veri!$AS$31:$AS$500,0))<>\"\",INDEX(Veri!$AO$31:$AO$500,MATCH(V97,Veri!$AS$31:$AS$500,0)),\"\"),\"\")","v":""}]
[null,null,null,null,null,null,null,null,null,null,null,null,null,null,89,{"$f":"IFERROR(IF(INDEX(Veri!$AA$31:$AA$500,MATCH(O98,Veri!$AI$31:$AI$500,0))<>\"\",INDEX(Veri!$AA$31:$AA$500,MATCH(O98,Veri!$AI$31:$AI$500,0)),\"\"),\"\")","v":""},{"$f":"IFERROR(IF(INDEX(Veri!$AG$31:$AG$500,MATCH(O98,Veri!$AI$31:$AI$500,0))<>\"\",INDEX(Veri!$AG$31:$AG$500,MATCH(O98,Veri!$AI$31:$AI$500,0)),\"\"),\"\")","v":""},{"$f":"IFERROR(IF(INDEX(Veri!$AC$31:$AC$500,MATCH(O98,Veri!$AI$31:$AI$500,0))<>\"\",INDEX(Veri!$AC$31:$AC$500,MATCH(O98,Veri!$AI$31:$AI$500,0)),\"\"),\"\")","v":""},{"$f":"IFERROR(IF(INDEX(Veri!$AD$31:$AD$500,MATCH(O98,Veri!$AI$31:$AI$500,0))<>\"\",INDEX(Veri!$AD$31:$AD$500,MATCH(O98,Veri!$AI$31:$AI$500,0)),\"\"),\"\")","v":""},{"$f":"IFERROR(IF(INDEX(Veri!$AE$31:$AE$500,MATCH(O98,Veri!$AI$31:$AI$500,0))<>\"\",INDEX(Veri!$AE$31:$AE$500,MATCH(O98,Veri!$AI$31:$AI$500,0)),\"\"),\"\")","v":""},null,89,{"$f":"IFERROR(IF(INDEX(Veri!$AK$31:$AK$500,MATCH(V98,Veri!$AS$31:$AS$500,0))<>\"\",INDEX(Veri!$AK$31:$AK$500,MATCH(V98,Veri!$AS$31:$AS$500,0)),\"\"),\"\")","v":""},{"$f":"IFERROR(IF(INDEX(Veri!$AQ$31:$AQ$500,MATCH(V98,Veri!$AS$31:$AS$500,0))<>\"\",INDEX(Veri!$AQ$31:$AQ$500,MATCH(V98,Veri!$AS$31:$AS$500,0)),\"\"),\"\")","v":""},{"$f":"IFERROR(IF(INDEX(Veri!$AM$31:$AM$500,MATCH(V98,Veri!$AS$31:$AS$500,0))<>\"\",INDEX(Veri!$AM$31:$AM$500,MATCH(V98,Veri!$AS$31:$AS$500,0)),\"\"),\"\")","v":""},{"$f":"IFERROR(IF(INDEX(Veri!$AN$31:$AN$500,MATCH(V98,Veri!$AS$31:$AS$500,0))<>\"\",INDEX(Veri!$AN$31:$AN$500,MATCH(V98,Veri!$AS$31:$AS$500,0)),\"\"),\"\")","v":""},{"$f":"IFERROR(IF(INDEX(Veri!$AO$31:$AO$500,MATCH(V98,Veri!$AS$31:$AS$500,0))<>\"\",INDEX(Veri!$AO$31:$AO$500,MATCH(V98,Veri!$AS$31:$AS$500,0)),\"\"),\"\")","v":""}]
[null,null,null,null,null,null,null,null,null,null,null,null,null,null,90,{"$f":"IFERROR(IF(INDEX(Veri!$AA$31:$AA$500,MATCH(O99,Veri!$AI$31:$AI$500,0))<>\"\",INDEX(Veri!$AA$31:$AA$500,MATCH(O99,Veri!$AI$31:$AI$500,0)),\"\"),\"\")","v":""},{"$f":"IFERROR(IF(INDEX(Veri!$AG$31:$AG$500,MATCH(O99,Veri!$AI$31:$AI$500,0))<>\"\",INDEX(Veri!$AG$31:$AG$500,MATCH(O99,Veri!$AI$31:$AI$500,0)),\"\"),\"\")","v":""},{"$f":"IFERROR(IF(INDEX(Veri!$AC$31:$AC$500,MATCH(O99,Veri!$AI$31:$AI$500,0))<>\"\",INDEX(Veri!$AC$31:$AC$500,MATCH(O99,Veri!$AI$31:$AI$500,0)),\"\"),\"\")","v":""},{"$f":"IFERROR(IF(INDEX(Veri!$AD$31:$AD$500,MATCH(O99,Veri!$AI$31:$AI$500,0))<>\"\",INDEX(Veri!$AD$31:$AD$500,MATCH(O99,Veri!$AI$31:$AI$500,0)),\"\"),\"\")","v":""},{"$f":"IFERROR(IF(INDEX(Veri!$AE$31:$AE$500,MATCH(O99,Veri!$AI$31:$AI$500,0))<>\"\",INDEX(Veri!$AE$31:$AE$500,MATCH(O99,Veri!$AI$31:$AI$500,0)),\"\"),\"\")","v":""},null,90,{"$f":"IFERROR(IF(INDEX(Veri!$AK$31:$AK$500,MATCH(V99,Veri!$AS$31:$AS$500,0))<>\"\",INDEX(Veri!$AK$31:$AK$500,MATCH(V99,Veri!$AS$31:$AS$500,0)),\"\"),\"\")","v":""},{"$f":"IFERROR(IF(INDEX(Veri!$AQ$31:$AQ$500,MATCH(V99,Veri!$AS$31:$AS$500,0))<>\"\",INDEX(Veri!$AQ$31:$AQ$500,MATCH(V99,Veri!$AS$31:$AS$500,0)),\"\"),\"\")","v":""},{"$f":"IFERROR(IF(INDEX(Veri!$AM$31:$AM$500,MATCH(V99,Veri!$AS$31:$AS$500,0))<>\"\",INDEX(Veri!$AM$31:$AM$500,MATCH(V99,Veri!$AS$31:$AS$500,0)),\"\"),\"\")","v":""},{"$f":"IFERROR(IF(INDEX(Veri!$AN$31:$AN$500,MATCH(V99,Veri!$AS$31:$AS$500,0))<>\"\",INDEX(Veri!$AN$31:$AN$500,MATCH(V99,Veri!$AS$31:$AS$500,0)),\"\"),\"\")","v":""},{"$f":"IFERROR(IF(INDEX(Veri!$AO$31:$AO$500,MATCH(V99,Veri!$AS$31:$AS$500,0))<>\"\",INDEX(Veri!$AO$31:$AO$500,MATCH(V99,Veri!$AS$31:$AS$500,0)),\"\"),\"\")","v":""}]
[null,null,null,null,null,null,null,null,null,null,null,null,null,null,91,{"$f":"IFERROR(IF(INDEX(Veri!$AA$31:$AA$500,MATCH(O100,Veri!$AI$31:$AI$500,0))<>\"\",INDEX(Veri!$AA$31:$AA$500,MATCH(O100,Veri!$AI$31:$AI$500,0)),\"\"),\"\")","v":""},{"$f":"IFERROR(IF(INDEX(Veri!$AG$31:$AG$500,MATCH(O100,Veri!$AI$31:$AI$500,0))<>\"\",INDEX(Veri!$AG$31:$AG$500,MATCH(O100,Veri!$AI$31:$AI$500,0)),\"\"),\"\")","v":""},{"$f":"IFERROR(IF(INDEX(Veri!$AC$31:$AC$500,MATCH(O100,Veri!$AI$31:$AI$500,0))<>\"\",INDEX(Veri!$AC$31:$AC$500,MATCH(O100,Veri!$AI$31:$AI$500,0)),\"\"),\"\")","v":""},{"$f":"IFERROR(IF(INDEX(Veri!$AD$31:$AD$500,MATCH(O100,Veri!$AI$31:$AI$500,0))<>\"\",INDEX(Veri!$AD$31:$AD$500,MATCH(O100,Veri!$AI$31:$AI$500,0)),\"\"),\"\")","v":""},{"$f":"IFERROR(IF(INDEX(Veri!$AE$31:$AE$500,MATCH(O100,Veri!$AI$31:$AI$500,0))<>\"\",INDEX(Veri!$AE$31:$AE$500,MATCH(O100,Veri!$AI$31:$AI$500,0)),\"\"),\"\")","v":""},null,91,{"$f":"IFERROR(IF(INDEX(Veri!$AK$31:$AK$500,MATCH(V100,Veri!$AS$31:$AS$500,0))<>\"\",INDEX(Veri!$AK$31:$AK$500,MATCH(V100,Veri!$AS$31:$AS$500,0)),\"\"),\"\")","v":""},{"$f":"IFERROR(IF(INDEX(Veri!$AQ$31:$AQ$500,MATCH(V100,Veri!$AS$31:$AS$500,0))<>\"\",INDEX(Veri!$AQ$31:$AQ$500,MATCH(V100,Veri!$AS$31:$AS$500,0)),\"\"),\"\")","v":""},{"$f":"IFERROR(IF(INDEX(Veri!$AM$31:$AM$500,MATCH(V100,Veri!$AS$31:$AS$500,0))<>\"\",INDEX(Veri!$AM$31:$AM$500,MATCH(V100,Veri!$AS$31:$AS$500,0)),\"\"),\"\")","v":""},{"$f":"IFERROR(IF(INDEX(Veri!$AN$31:$AN$500,MATCH(V100,Veri!$AS$31:$AS$500,0))<>\"\",INDEX(Veri!$AN$31:$AN$500,MATCH(V100,Veri!$AS$31:$AS$500,0)),\"\"),\"\")","v":""},{"$f":"IFERROR(IF(INDEX(Veri!$AO$31:$AO$500,MATCH(V100,Veri!$AS$31:$AS$500,0))<>\"\",INDEX(Veri!$AO$31:$AO$500,MATCH(V100,Veri!$AS$31:$AS$500,0)),\"\"),\"\")","v":""}]
[null,null,null,null,null,null,null,null,null,null,null,null,null,null,92,{"$f":"IFERROR(IF(INDEX(Veri!$AA$31:$AA$500,MATCH(O101,Veri!$AI$31:$AI$500,0))<>\"\",INDEX(Veri!$AA$31:$AA$500,MATCH(O101,Veri!$AI$31:$AI$500,0)),\"\"),\"\")","v":""},{"$f":"IFERROR(IF(INDEX(Veri!$AG$31:$AG$500,MATCH(O101,Veri!$AI$31:$AI$500,0))<>\"\",INDEX(Veri!$AG$31:$AG$500,MATCH(O101,Veri!$AI$31:$AI$500,0)),\"\"),\"\")","v":""},{"$f":"IFERROR(IF(INDEX(Veri!$AC$31:$AC$500,MATCH(O101,Veri!$AI$31:$AI$500,0))<>\"\",INDEX(Veri!$AC$31:$AC$500,MATCH(O101,Veri!$AI$31:$AI$500,0)),\"\"),\"\")","v":""},{"$f":"IFERROR(IF(INDEX(Veri!$AD$31:$AD$500,MATCH(O101,Veri!$AI$31:$AI$500,0))<>\"\",INDEX(Veri!$AD$31:$AD$500,MATCH(O101,Veri!$AI$31:$AI$500,0)),\"\"),\"\")","v":""},{"$f":"IFERROR(IF(INDEX(Veri!$AE$31:$AE$500,MATCH(O101,Veri!$AI$31:$AI$500,0))<>\"\",INDEX(Veri!$AE$31:$AE$500,MATCH(O101,Veri!$AI$31:$AI$500,0)),\"\"),\"\")","v":""},null,92,{"$f":"IFERROR(IF(INDEX(Veri!$AK$31:$AK$500,MATCH(V101,Veri!$AS$31:$AS$500,0))<>\"\",INDEX(Veri!$AK$31:$AK$500,MATCH(V101,Veri!$AS$31:$AS$500,0)),\"\"),\"\")","v":""},{"$f":"IFERROR(IF(INDEX(Veri!$AQ$31:$AQ$500,MATCH(V101,Veri!$AS$31:$AS$500,0))<>\"\",INDEX(Veri!$AQ$31:$AQ$500,MATCH(V101,Veri!$AS$31:$AS$500,0)),\"\"),\"\")","v":""},{"$f":"IFERROR(IF(INDEX(Veri!$AM$31:$AM$500,MATCH(V101,Veri!$AS$31:$AS$500,0))<>\"\",INDEX(Veri!$AM$31:$AM$500,MATCH(V101,Veri!$AS$31:$AS$500,0)),\"\"),\"\")","v":""},{"$f":"IFERROR(IF(INDEX(Veri!$AN$31:$AN$500,MATCH(V101,Veri!$AS$31:$AS$500,0))<>\"\",INDEX(Veri!$AN$31:$AN$500,MATCH(V101,Veri!$AS$31:$AS$500,0)),\"\"),\"\")","v":""},{"$f":"IFERROR(IF(INDEX(Veri!$AO$31:$AO$500,MATCH(V101,Veri!$AS$31:$AS$500,0))<>\"\",INDEX(Veri!$AO$31:$AO$500,MATCH(V101,Veri!$AS$31:$AS$500,0)),\"\"),\"\")","v":""}]
[null,null,null,null,null,null,null,null,null,null,null,null,null,null,93,{"$f":"IFERROR(IF(INDEX(Veri!$AA$31:$AA$500,MATCH(O102,Veri!$AI$31:$AI$500,0))<>\"\",INDEX(Veri!$AA$31:$AA$500,MATCH(O102,Veri!$AI$31:$AI$500,0)),\"\"),\"\")","v":""},{"$f":"IFERROR(IF(INDEX(Veri!$AG$31:$AG$500,MATCH(O102,Veri!$AI$31:$AI$500,0))<>\"\",INDEX(Veri!$AG$31:$AG$500,MATCH(O102,Veri!$AI$31:$AI$500,0)),\"\"),\"\")","v":""},{"$f":"IFERROR(IF(INDEX(Veri!$AC$31:$AC$500,MATCH(O102,Veri!$AI$31:$AI$500,0))<>\"\",INDEX(Veri!$AC$31:$AC$500,MATCH(O102,Veri!$AI$31:$AI$500,0)),\"\"),\"\")","v":""},{"$f":"IFERROR(IF(INDEX(Veri!$AD$31:$AD$500,MATCH(O102,Veri!$AI$31:$AI$500,0))<>\"\",INDEX(Veri!$AD$31:$AD$500,MATCH(O102,Veri!$AI$31:$AI$500,0)),\"\"),\"\")","v":""},{"$f":"IFERROR(IF(INDEX(Veri!$AE$31:$AE$500,MATCH(O102,Veri!$AI$31:$AI$500,0))<>\"\",INDEX(Veri!$AE$31:$AE$500,MATCH(O102,Veri!$AI$31:$AI$500,0)),\"\"),\"\")","v":""},null,93,{"$f":"IFERROR(IF(INDEX(Veri!$AK$31:$AK$500,MATCH(V102,Veri!$AS$31:$AS$500,0))<>\"\",INDEX(Veri!$AK$31:$AK$500,MATCH(V102,Veri!$AS$31:$AS$500,0)),\"\"),\"\")","v":""},{"$f":"IFERROR(IF(INDEX(Veri!$AQ$31:$AQ$500,MATCH(V102,Veri!$AS$31:$AS$500,0))<>\"\",INDEX(Veri!$AQ$31:$AQ$500,MATCH(V102,Veri!$AS$31:$AS$500,0)),\"\"),\"\")","v":""},{"$f":"IFERROR(IF(INDEX(Veri!$AM$31:$AM$500,MATCH(V102,Veri!$AS$31:$AS$500,0))<>\"\",INDEX(Veri!$AM$31:$AM$500,MATCH(V102,Veri!$AS$31:$AS$500,0)),\"\"),\"\")","v":""},{"$f":"IFERROR(IF(INDEX(Veri!$AN$31:$AN$500,MATCH(V102,Veri!$AS$31:$AS$500,0))<>\"\",INDEX(Veri!$AN$31:$AN$500,MATCH(V102,Veri!$AS$31:$AS$500,0)),\"\"),\"\")","v":""},{"$f":"IFERROR(IF(INDEX(Veri!$AO$31:$AO$500,MATCH(V102,Veri!$AS$31:$AS$500,0))<>\"\",INDEX(Veri!$AO$31:$AO$500,MATCH(V102,Veri!$AS$31:$AS$500,0)),\"\"),\"\")","v":""}]
[null,null,null,null,null,null,null,null,null,null,null,null,null,null,94,{"$f":"IFERROR(IF(INDEX(Veri!$AA$31:$AA$500,MATCH(O103,Veri!$AI$31:$AI$500,0))<>\"\",INDEX(Veri!$AA$31:$AA$500,MATCH(O103,Veri!$AI$31:$AI$500,0)),\"\"),\"\")","v":""},{"$f":"IFERROR(IF(INDEX(Veri!$AG$31:$AG$500,MATCH(O103,Veri!$AI$31:$AI$500,0))<>\"\",INDEX(Veri!$AG$31:$AG$500,MATCH(O103,Veri!$AI$31:$AI$500,0)),\"\"),\"\")","v":""},{"$f":"IFERROR(IF(INDEX(Veri!$AC$31:$AC$500,MATCH(O103,Veri!$AI$31:$AI$500,0))<>\"\",INDEX(Veri!$AC$31:$AC$500,MATCH(O103,Veri!$AI$31:$AI$500,0)),\"\"),\"\")","v":""},{"$f":"IFERROR(IF(INDEX(Veri!$AD$31:$AD$500,MATCH(O103,Veri!$AI$31:$AI$500,0))<>\"\",INDEX(Veri!$AD$31:$AD$500,MATCH(O103,Veri!$AI$31:$AI$500,0)),\"\"),\"\")","v":""},{"$f":"IFERROR(IF(INDEX(Veri!$AE$31:$AE$500,MATCH(O103,Veri!$AI$31:$AI$500,0))<>\"\",INDEX(Veri!$AE$31:$AE$500,MATCH(O103,Veri!$AI$31:$AI$500,0)),\"\"),\"\")","v":""},null,94,{"$f":"IFERROR(IF(INDEX(Veri!$AK$31:$AK$500,MATCH(V103,Veri!$AS$31:$AS$500,0))<>\"\",INDEX(Veri!$AK$31:$AK$500,MATCH(V103,Veri!$AS$31:$AS$500,0)),\"\"),\"\")","v":""},{"$f":"IFERROR(IF(INDEX(Veri!$AQ$31:$AQ$500,MATCH(V103,Veri!$AS$31:$AS$500,0))<>\"\",INDEX(Veri!$AQ$31:$AQ$500,MATCH(V103,Veri!$AS$31:$AS$500,0)),\"\"),\"\")","v":""},{"$f":"IFERROR(IF(INDEX(Veri!$AM$31:$AM$500,MATCH(V103,Veri!$AS$31:$AS$500,0))<>\"\",INDEX(Veri!$AM$31:$AM$500,MATCH(V103,Veri!$AS$31:$AS$500,0)),\"\"),\"\")","v":""},{"$f":"IFERROR(IF(INDEX(Veri!$AN$31:$AN$500,MATCH(V103,Veri!$AS$31:$AS$500,0))<>\"\",INDEX(Veri!$AN$31:$AN$500,MATCH(V103,Veri!$AS$31:$AS$500,0)),\"\"),\"\")","v":""},{"$f":"IFERROR(IF(INDEX(Veri!$AO$31:$AO$500,MATCH(V103,Veri!$AS$31:$AS$500,0))<>\"\",INDEX(Veri!$AO$31:$AO$500,MATCH(V103,Veri!$AS$31:$AS$500,0)),\"\"),\"\")","v":""}]
[null,null,null,null,null,null,null,null,null,null,null,null,null,null,95,{"$f":"IFERROR(IF(INDEX(Veri!$AA$31:$AA$500,MATCH(O104,Veri!$AI$31:$AI$500,0))<>\"\",INDEX(Veri!$AA$31:$AA$500,MATCH(O104,Veri!$AI$31:$AI$500,0)),\"\"),\"\")","v":""},{"$f":"IFERROR(IF(INDEX(Veri!$AG$31:$AG$500,MATCH(O104,Veri!$AI$31:$AI$500,0))<>\"\",INDEX(Veri!$AG$31:$AG$500,MATCH(O104,Veri!$AI$31:$AI$500,0)),\"\"),\"\")","v":""},{"$f":"IFERROR(IF(INDEX(Veri!$AC$31:$AC$500,MATCH(O104,Veri!$AI$31:$AI$500,0))<>\"\",INDEX(Veri!$AC$31:$AC$500,MATCH(O104,Veri!$AI$31:$AI$500,0)),\"\"),\"\")","v":""},{"$f":"IFERROR(IF(INDEX(Veri!$AD$31:$AD$500,MATCH(O104,Veri!$AI$31:$AI$500,0))<>\"\",INDEX(Veri!$AD$31:$AD$500,MATCH(O104,Veri!$AI$31:$AI$500,0)),\"\"),\"\")","v":""},{"$f":"IFERROR(IF(INDEX(Veri!$AE$31:$AE$500,MATCH(O104,Veri!$AI$31:$AI$500,0))<>\"\",INDEX(Veri!$AE$31:$AE$500,MATCH(O104,Veri!$AI$31:$AI$500,0)),\"\"),\"\")","v":""},null,95,{"$f":"IFERROR(IF(INDEX(Veri!$AK$31:$AK$500,MATCH(V104,Veri!$AS$31:$AS$500,0))<>\"\",INDEX(Veri!$AK$31:$AK$500,MATCH(V104,Veri!$AS$31:$AS$500,0)),\"\"),\"\")","v":""},{"$f":"IFERROR(IF(INDEX(Veri!$AQ$31:$AQ$500,MATCH(V104,Veri!$AS$31:$AS$500,0))<>\"\",INDEX(Veri!$AQ$31:$AQ$500,MATCH(V104,Veri!$AS$31:$AS$500,0)),\"\"),\"\")","v":""},{"$f":"IFERROR(IF(INDEX(Veri!$AM$31:$AM$500,MATCH(V104,Veri!$AS$31:$AS$500,0))<>\"\",INDEX(Veri!$AM$31:$AM$500,MATCH(V104,Veri!$AS$31:$AS$500,0)),\"\"),\"\")","v":""},{"$f":"IFERROR(IF(INDEX(Veri!$AN$31:$AN$500,MATCH(V104,Veri!$AS$31:$AS$500,0))<>\"\",INDEX(Veri!$AN$31:$AN$500,MATCH(V104,Veri!$AS$31:$AS$500,0)),\"\"),\"\")","v":""},{"$f":"IFERROR(IF(INDEX(Veri!$AO$31:$AO$500,MATCH(V104,Veri!$AS$31:$AS$500,0))<>\"\",INDEX(Veri!$AO$31:$AO$500,MATCH(V104,Veri!$AS$31:$AS$500,0)),\"\"),\"\")","v":""}]
[null,null,null,null,null,null,null,null,null,null,null,null,null,null,96,{"$f":"IFERROR(IF(INDEX(Veri!$AA$31:$AA$500,MATCH(O105,Veri!$AI$31:$AI$500,0))<>\"\",INDEX(Veri!$AA$31:$AA$500,MATCH(O105,Veri!$AI$31:$AI$500,0)),\"\"),\"\")","v":""},{"$f":"IFERROR(IF(INDEX(Veri!$AG$31:$AG$500,MATCH(O105,Veri!$AI$31:$AI$500,0))<>\"\",INDEX(Veri!$AG$31:$AG$500,MATCH(O105,Veri!$AI$31:$AI$500,0)),\"\"),\"\")","v":""},{"$f":"IFERROR(IF(INDEX(Veri!$AC$31:$AC$500,MATCH(O105,Veri!$AI$31:$AI$500,0))<>\"\",INDEX(Veri!$AC$31:$AC$500,MATCH(O105,Veri!$AI$31:$AI$500,0)),\"\"),\"\")","v":""},{"$f":"IFERROR(IF(INDEX(Veri!$AD$31:$AD$500,MATCH(O105,Veri!$AI$31:$AI$500,0))<>\"\",INDEX(Veri!$AD$31:$AD$500,MATCH(O105,Veri!$AI$31:$AI$500,0)),\"\"),\"\")","v":""},{"$f":"IFERROR(IF(INDEX(Veri!$AE$31:$AE$500,MATCH(O105,Veri!$AI$31:$AI$500,0))<>\"\",INDEX(Veri!$AE$31:$AE$500,MATCH(O105,Veri!$AI$31:$AI$500,0)),\"\"),\"\")","v":""},null,96,{"$f":"IFERROR(IF(INDEX(Veri!$AK$31:$AK$500,MATCH(V105,Veri!$AS$31:$AS$500,0))<>\"\",INDEX(Veri!$AK$31:$AK$500,MATCH(V105,Veri!$AS$31:$AS$500,0)),\"\"),\"\")","v":""},{"$f":"IFERROR(IF(INDEX(Veri!$AQ$31:$AQ$500,MATCH(V105,Veri!$AS$31:$AS$500,0))<>\"\",INDEX(Veri!$AQ$31:$AQ$500,MATCH(V105,Veri!$AS$31:$AS$500,0)),\"\"),\"\")","v":""},{"$f":"IFERROR(IF(INDEX(Veri!$AM$31:$AM$500,MATCH(V105,Veri!$AS$31:$AS$500,0))<>\"\",INDEX(Veri!$AM$31:$AM$500,MATCH(V105,Veri!$AS$31:$AS$500,0)),\"\"),\"\")","v":""},{"$f":"IFERROR(IF(INDEX(Veri!$AN$31:$AN$500,MATCH(V105,Veri!$AS$31:$AS$500,0))<>\"\",INDEX(Veri!$AN$31:$AN$500,MATCH(V105,Veri!$AS$31:$AS$500,0)),\"\"),\"\")","v":""},{"$f":"IFERROR(IF(INDEX(Veri!$AO$31:$AO$500,MATCH(V105,Veri!$AS$31:$AS$500,0))<>\"\",INDEX(Veri!$AO$31:$AO$500,MATCH(V105,Veri!$AS$31:$AS$500,0)),\"\"),\"\")","v":""}]
[null,null,null,null,null,null,null,null,null,null,null,null,null,null,97,{"$f":"IFERROR(IF(INDEX(Veri!$AA$31:$AA$500,MATCH(O106,Veri!$AI$31:$AI$500,0))<>\"\",INDEX(Veri!$AA$31:$AA$500,MATCH(O106,Veri!$AI$31:$AI$500,0)),\"\"),\"\")","v":""},{"$f":"IFERROR(IF(INDEX(Veri!$AG$31:$AG$500,MATCH(O106,Veri!$AI$31:$AI$500,0))<>\"\",INDEX(Veri!$AG$31:$AG$500,MATCH(O106,Veri!$AI$31:$AI$500,0)),\"\"),\"\")","v":""},{"$f":"IFERROR(IF(INDEX(Veri!$AC$31:$AC$500,MATCH(O106,Veri!$AI$31:$AI$500,0))<>\"\",INDEX(Veri!$AC$31:$AC$500,MATCH(O106,Veri!$AI$31:$AI$500,0)),\"\"),\"\")","v":""},{"$f":"IFERROR(IF(INDEX(Veri!$AD$31:$AD$500,MATCH(O106,Veri!$AI$31:$AI$500,0))<>\"\",INDEX(Veri!$AD$31:$AD$500,MATCH(O106,Veri!$AI$31:$AI$500,0)),\"\"),\"\")","v":""},{"$f":"IFERROR(IF(INDEX(Veri!$AE$31:$AE$500,MATCH(O106,Veri!$AI$31:$AI$500,0))<>\"\",INDEX(Veri!$AE$31:$AE$500,MATCH(O106,Veri!$AI$31:$AI$500,0)),\"\"),\"\")","v":""},null,97,{"$f":"IFERROR(IF(INDEX(Veri!$AK$31:$AK$500,MATCH(V106,Veri!$AS$31:$AS$500,0))<>\"\",INDEX(Veri!$AK$31:$AK$500,MATCH(V106,Veri!$AS$31:$AS$500,0)),\"\"),\"\")","v":""},{"$f":"IFERROR(IF(INDEX(Veri!$AQ$31:$AQ$500,MATCH(V106,Veri!$AS$31:$AS$500,0))<>\"\",INDEX(Veri!$AQ$31:$AQ$500,MATCH(V106,Veri!$AS$31:$AS$500,0)),\"\"),\"\")","v":""},{"$f":"IFERROR(IF(INDEX(Veri!$AM$31:$AM$500,MATCH(V106,Veri!$AS$31:$AS$500,0))<>\"\",INDEX(Veri!$AM$31:$AM$500,MATCH(V106,Veri!$AS$31:$AS$500,0)),\"\"),\"\")","v":""},{"$f":"IFERROR(IF(INDEX(Veri!$AN$31:$AN$500,MATCH(V106,Veri!$AS$31:$AS$500,0))<>\"\",INDEX(Veri!$AN$31:$AN$500,MATCH(V106,Veri!$AS$31:$AS$500,0)),\"\"),\"\")","v":""},{"$f":"IFERROR(IF(INDEX(Veri!$AO$31:$AO$500,MATCH(V106,Veri!$AS$31:$AS$500,0))<>\"\",INDEX(Veri!$AO$31:$AO$500,MATCH(V106,Veri!$AS$31:$AS$500,0)),\"\"),\"\")","v":""}]
[null,null,null,null,null,null,null,null,null,null,null,null,null,null,98,{"$f":"IFERROR(IF(INDEX(Veri!$AA$31:$AA$500,MATCH(O107,Veri!$AI$31:$AI$500,0))<>\"\",INDEX(Veri!$AA$31:$AA$500,MATCH(O107,Veri!$AI$31:$AI$500,0)),\"\"),\"\")","v":""},{"$f":"IFERROR(IF(INDEX(Veri!$AG$31:$AG$500,MATCH(O107,Veri!$AI$31:$AI$500,0))<>\"\",INDEX(Veri!$AG$31:$AG$500,MATCH(O107,Veri!$AI$31:$AI$500,0)),\"\"),\"\")","v":""},{"$f":"IFERROR(IF(INDEX(Veri!$AC$31:$AC$500,MATCH(O107,Veri!$AI$31:$AI$500,0))<>\"\",INDEX(Veri!$AC$31:$AC$500,MATCH(O107,Veri!$AI$31:$AI$500,0)),\"\"),\"\")","v":""},{"$f":"IFERROR(IF(INDEX(Veri!$AD$31:$AD$500,MATCH(O107,Veri!$AI$31:$AI$500,0))<>\"\",INDEX(Veri!$AD$31:$AD$500,MATCH(O107,Veri!$AI$31:$AI$500,0)),\"\"),\"\")","v":""},{"$f":"IFERROR(IF(INDEX(Veri!$AE$31:$AE$500,MATCH(O107,Veri!$AI$31:$AI$500,0))<>\"\",INDEX(Veri!$AE$31:$AE$500,MATCH(O107,Veri!$AI$31:$AI$500,0)),\"\"),\"\")","v":""},null,98,{"$f":"IFERROR(IF(INDEX(Veri!$AK$31:$AK$500,MATCH(V107,Veri!$AS$31:$AS$500,0))<>\"\",INDEX(Veri!$AK$31:$AK$500,MATCH(V107,Veri!$AS$31:$AS$500,0)),\"\"),\"\")","v":""},{"$f":"IFERROR(IF(INDEX(Veri!$AQ$31:$AQ$500,MATCH(V107,Veri!$AS$31:$AS$500,0))<>\"\",INDEX(Veri!$AQ$31:$AQ$500,MATCH(V107,Veri!$AS$31:$AS$500,0)),\"\"),\"\")","v":""},{"$f":"IFERROR(IF(INDEX(Veri!$AM$31:$AM$500,MATCH(V107,Veri!$AS$31:$AS$500,0))<>\"\",INDEX(Veri!$AM$31:$AM$500,MATCH(V107,Veri!$AS$31:$AS$500,0)),\"\"),\"\")","v":""},{"$f":"IFERROR(IF(INDEX(Veri!$AN$31:$AN$500,MATCH(V107,Veri!$AS$31:$AS$500,0))<>\"\",INDEX(Veri!$AN$31:$AN$500,MATCH(V107,Veri!$AS$31:$AS$500,0)),\"\"),\"\")","v":""},{"$f":"IFERROR(IF(INDEX(Veri!$AO$31:$AO$500,MATCH(V107,Veri!$AS$31:$AS$500,0))<>\"\",INDEX(Veri!$AO$31:$AO$500,MATCH(V107,Veri!$AS$31:$AS$500,0)),\"\"),\"\")","v":""}]
[null,null,null,null,null,null,null,null,null,null,null,null,null,null,99,{"$f":"IFERROR(IF(INDEX(Veri!$AA$31:$AA$500,MATCH(O108,Veri!$AI$31:$AI$500,0))<>\"\",INDEX(Veri!$AA$31:$AA$500,MATCH(O108,Veri!$AI$31:$AI$500,0)),\"\"),\"\")","v":""},{"$f":"IFERROR(IF(INDEX(Veri!$AG$31:$AG$500,MATCH(O108,Veri!$AI$31:$AI$500,0))<>\"\",INDEX(Veri!$AG$31:$AG$500,MATCH(O108,Veri!$AI$31:$AI$500,0)),\"\"),\"\")","v":""},{"$f":"IFERROR(IF(INDEX(Veri!$AC$31:$AC$500,MATCH(O108,Veri!$AI$31:$AI$500,0))<>\"\",INDEX(Veri!$AC$31:$AC$500,MATCH(O108,Veri!$AI$31:$AI$500,0)),\"\"),\"\")","v":""},{"$f":"IFERROR(IF(INDEX(Veri!$AD$31:$AD$500,MATCH(O108,Veri!$AI$31:$AI$500,0))<>\"\",INDEX(Veri!$AD$31:$AD$500,MATCH(O108,Veri!$AI$31:$AI$500,0)),\"\"),\"\")","v":""},{"$f":"IFERROR(IF(INDEX(Veri!$AE$31:$AE$500,MATCH(O108,Veri!$AI$31:$AI$500,0))<>\"\",INDEX(Veri!$AE$31:$AE$500,MATCH(O108,Veri!$AI$31:$AI$500,0)),\"\"),\"\")","v":""},null,99,{"$f":"IFERROR(IF(INDEX(Veri!$AK$31:$AK$500,MATCH(V108,Veri!$AS$31:$AS$500,0))<>\"\",INDEX(Veri!$AK$31:$AK$500,MATCH(V108,Veri!$AS$31:$AS$500,0)),\"\"),\"\")","v":""},{"$f":"IFERROR(IF(INDEX(Veri!$AQ$31:$AQ$500,MATCH(V108,Veri!$AS$31:$AS$500,0))<>\"\",INDEX(Veri!$AQ$31:$AQ$500,MATCH(V108,Veri!$AS$31:$AS$500,0)),\"\"),\"\")","v":""},{"$f":"IFERROR(IF(INDEX(Veri!$AM$31:$AM$500,MATCH(V108,Veri!$AS$31:$AS$500,0))<>\"\",INDEX(Veri!$AM$31:$AM$500,MATCH(V108,Veri!$AS$31:$AS$500,0)),\"\"),\"\")","v":""},{"$f":"IFERROR(IF(INDEX(Veri!$AN$31:$AN$500,MATCH(V108,Veri!$AS$31:$AS$500,0))<>\"\",INDEX(Veri!$AN$31:$AN$500,MATCH(V108,Veri!$AS$31:$AS$500,0)),\"\"),\"\")","v":""},{"$f":"IFERROR(IF(INDEX(Veri!$AO$31:$AO$500,MATCH(V108,Veri!$AS$31:$AS$500,0))<>\"\",INDEX(Veri!$AO$31:$AO$500,MATCH(V108,Veri!$AS$31:$AS$500,0)),\"\"),\"\")","v":""}]
[null,null,null,null,null,null,null,null,null,null,null,null,null,null,100,{"$f":"IFERROR(IF(INDEX(Veri!$AA$31:$AA$500,MATCH(O109,Veri!$AI$31:$AI$500,0))<>\"\",INDEX(Veri!$AA$31:$AA$500,MATCH(O109,Veri!$AI$31:$AI$500,0)),\"\"),\"\")","v":""},{"$f":"IFERROR(IF(INDEX(Veri!$AG$31:$AG$500,MATCH(O109,Veri!$AI$31:$AI$500,0))<>\"\",INDEX(Veri!$AG$31:$AG$500,MATCH(O109,Veri!$AI$31:$AI$500,0)),\"\"),\"\")","v":""},{"$f":"IFERROR(IF(INDEX(Veri!$AC$31:$AC$500,MATCH(O109,Veri!$AI$31:$AI$500,0))<>\"\",INDEX(Veri!$AC$31:$AC$500,MATCH(O109,Veri!$AI$31:$AI$500,0)),\"\"),\"\")","v":""},{"$f":"IFERROR(IF(INDEX(Veri!$AD$31:$AD$500,MATCH(O109,Veri!$AI$31:$AI$500,0))<>\"\",INDEX(Veri!$AD$31:$AD$500,MATCH(O109,Veri!$AI$31:$AI$500,0)),\"\"),\"\")","v":""},{"$f":"IFERROR(IF(INDEX(Veri!$AE$31:$AE$500,MATCH(O109,Veri!$AI$31:$AI$500,0))<>\"\",INDEX(Veri!$AE$31:$AE$500,MATCH(O109,Veri!$AI$31:$AI$500,0)),\"\"),\"\")","v":""},null,100,{"$f":"IFERROR(IF(INDEX(Veri!$AK$31:$AK$500,MATCH(V500,Veri!$AS$31:$AS$500,0))<>\"\",INDEX(Veri!$AK$31:$AK$500,MATCH(V500,Veri!$AS$31:$AS$500,0)),\"\"),\"\")","v":""},{"$f":"IFERROR(IF(INDEX(Veri!$AQ$31:$AQ$500,MATCH(V500,Veri!$AS$31:$AS$500,0))<>\"\",INDEX(Veri!$AQ$31:$AQ$500,MATCH(V500,Veri!$AS$31:$AS$500,0)),\"\"),\"\")","v":""},{"$f":"IFERROR(IF(INDEX(Veri!$AM$31:$AM$500,MATCH(V500,Veri!$AS$31:$AS$500,0))<>\"\",INDEX(Veri!$AM$31:$AM$500,MATCH(V500,Veri!$AS$31:$AS$500,0)),\"\"),\"\")","v":""},{"$f":"IFERROR(IF(INDEX(Veri!$AN$31:$AN$500,MATCH(V500,Veri!$AS$31:$AS$500,0))<>\"\",INDEX(Veri!$AN$31:$AN$500,MATCH(V500,Veri!$AS$31:$AS$500,0)),\"\"),\"\")","v":""},{"$f":"IFERROR(IF(INDEX(Veri!$AO$31:$AO$500,MATCH(V500,Veri!$AS$31:$AS$500,0))<>\"\",INDEX(Veri!$AO$31:$AO$500,MATCH(V500,Veri!$AS$31:$AS$500,0)),\"\"),\"\")","v":""}]
[null,null,null,null,null,null,null,null,null,null,null,null,null,null,101,{"$f":"IFERROR(IF(INDEX(Veri!$AA$31:$AA$500,MATCH(O110,Veri!$AI$31:$AI$500,0))<>\"\",INDEX(Veri!$AA$31:$AA$500,MATCH(O110,Veri!$AI$31:$AI$500,0)),\"\"),\"\")","v":""},{"$f":"IFERROR(IF(INDEX(Veri!$AG$31:$AG$500,MATCH(O110,Veri!$AI$31:$AI$500,0))<>\"\",INDEX(Veri!$AG$31:$AG$500,MATCH(O110,Veri!$AI$31:$AI$500,0)),\"\"),\"\")","v":""},{"$f":"IFERROR(IF(INDEX(Veri!$AC$31:$AC$500,MATCH(O110,Veri!$AI$31:$AI$500,0))<>\"\",INDEX(Veri!$AC$31:$AC$500,MATCH(O110,Veri!$AI$31:$AI$500,0)),\"\"),\"\")","v":""},{"$f":"IFERROR(IF(INDEX(Veri!$AD$31:$AD$500,MATCH(O110,Veri!$AI$31:$AI$500,0))<>\"\",INDEX(Veri!$AD$31:$AD$500,MATCH(O110,Veri!$AI$31:$AI$500,0)),\"\"),\"\")","v":""},{"$f":"IFERROR(IF(INDEX(Veri!$AE$31:$AE$500,MATCH(O110,Veri!$AI$31:$AI$500,0))<>\"\",INDEX(Veri!$AE$31:$AE$500,MATCH(O110,Veri!$AI$31:$AI$500,0)),\"\"),\"\")","v":""},null,101,{"$f":"IFERROR(IF(INDEX(Veri!$AK$31:$AK$500,MATCH(V153,Veri!$AS$31:$AS$500,0))<>\"\",INDEX(Veri!$AK$31:$AK$500,MATCH(V153,Veri!$AS$31:$AS$500,0)),\"\"),\"\")","v":""},{"$f":"IFERROR(IF(INDEX(Veri!$AQ$31:$AQ$500,MATCH(V153,Veri!$AS$31:$AS$500,0))<>\"\",INDEX(Veri!$AQ$31:$AQ$500,MATCH(V153,Veri!$AS$31:$AS$500,0)),\"\"),\"\")","v":""},{"$f":"IFERROR(IF(INDEX(Veri!$AM$31:$AM$500,MATCH(V153,Veri!$AS$31:$AS$500,0))<>\"\",INDEX(Veri!$AM$31:$AM$500,MATCH(V153,Veri!$AS$31:$AS$500,0)),\"\"),\"\")","v":""},{"$f":"IFERROR(IF(INDEX(Veri!$AN$31:$AN$500,MATCH(V153,Veri!$AS$31:$AS$500,0))<>\"\",INDEX(Veri!$AN$31:$AN$500,MATCH(V153,Veri!$AS$31:$AS$500,0)),\"\"),\"\")","v":""},{"$f":"IFERROR(IF(INDEX(Veri!$AO$31:$AO$500,MATCH(V153,Veri!$AS$31:$AS$500,0))<>\"\",INDEX(Veri!$AO$31:$AO$500,MATCH(V153,Veri!$AS$31:$AS$500,0)),\"\"),\"\")","v":""}]
[null,null,null,null,null,null,null,null,null,null,null,null,null,null,102,{"$f":"IFERROR(IF(INDEX(Veri!$AA$31:$AA$500,MATCH(O111,Veri!$AI$31:$AI$500,0))<>\"\",INDEX(Veri!$AA$31:$AA$500,MATCH(O111,Veri!$AI$31:$AI$500,0)),\"\"),\"\")","v":""},{"$f":"IFERROR(IF(INDEX(Veri!$AG$31:$AG$500,MATCH(O111,Veri!$AI$31:$AI$500,0))<>\"\",INDEX(Veri!$AG$31:$AG$500,MATCH(O111,Veri!$AI$31:$AI$500,0)),\"\"),\"\")","v":""},{"$f":"IFERROR(IF(INDEX(Veri!$AC$31:$AC$500,MATCH(O111,Veri!$AI$31:$AI$500,0))<>\"\",INDEX(Veri!$AC$31:$AC$500,MATCH(O111,Veri!$AI$31:$AI$500,0)),\"\"),\"\")","v":""},{"$f":"IFERROR(IF(INDEX(Veri!$AD$31:$AD$500,MATCH(O111,Veri!$AI$31:$AI$500,0))<>\"\",INDEX(Veri!$AD$31:$AD$500,MATCH(O111,Veri!$AI$31:$AI$500,0)),\"\"),\"\")","v":""},{"$f":"IFERROR(IF(INDEX(Veri!$AE$31:$AE$500,MATCH(O111,Veri!$AI$31:$AI$500,0))<>\"\",INDEX(Veri!$AE$31:$AE$500,MATCH(O111,Veri!$AI$31:$AI$500,0)),\"\"),\"\")","v":""},null,102,{"$f":"IFERROR(IF(INDEX(Veri!$AK$31:$AK$500,MATCH(V154,Veri!$AS$31:$AS$500,0))<>\"\",INDEX(Veri!$AK$31:$AK$500,MATCH(V154,Veri!$AS$31:$AS$500,0)),\"\"),\"\")","v":""},{"$f":"IFERROR(IF(INDEX(Veri!$AQ$31:$AQ$500,MATCH(V154,Veri!$AS$31:$AS$500,0))<>\"\",INDEX(Veri!$AQ$31:$AQ$500,MATCH(V154,Veri!$AS$31:$AS$500,0)),\"\"),\"\")","v":""},{"$f":"IFERROR(IF(INDEX(Veri!$AM$31:$AM$500,MATCH(V154,Veri!$AS$31:$AS$500,0))<>\"\",INDEX(Veri!$AM$31:$AM$500,MATCH(V154,Veri!$AS$31:$AS$500,0)),\"\"),\"\")","v":""},{"$f":"IFERROR(IF(INDEX(Veri!$AN$31:$AN$500,MATCH(V154,Veri!$AS$31:$AS$500,0))<>\"\",INDEX(Veri!$AN$31:$AN$500,MATCH(V154,Veri!$AS$31:$AS$500,0)),\"\"),\"\")","v":""},{"$f":"IFERROR(IF(INDEX(Veri!$AO$31:$AO$500,MATCH(V154,Veri!$AS$31:$AS$500,0))<>\"\",INDEX(Veri!$AO$31:$AO$500,MATCH(V154,Veri!$AS$31:$AS$500,0)),\"\"),\"\")","v":""}]
[null,null,null,null,null,null,null,null,null,null,null,null,null,null,103,{"$f":"IFERROR(IF(INDEX(Veri!$AA$31:$AA$500,MATCH(O112,Veri!$AI$31:$AI$500,0))<>\"\",INDEX(Veri!$AA$31:$AA$500,MATCH(O112,Veri!$AI$31:$AI$500,0)),\"\"),\"\")","v":""},{"$f":"IFERROR(IF(INDEX(Veri!$AG$31:$AG$500,MATCH(O112,Veri!$AI$31:$AI$500,0))<>\"\",INDEX(Veri!$AG$31:$AG$500,MATCH(O112,Veri!$AI$31:$AI$500,0)),\"\"),\"\")","v":""},{"$f":"IFERROR(IF(INDEX(Veri!$AC$31:$AC$500,MATCH(O112,Veri!$AI$31:$AI$500,0))<>\"\",INDEX(Veri!$AC$31:$AC$500,MATCH(O112,Veri!$AI$31:$AI$500,0)),\"\"),\"\")","v":""},{"$f":"IFERROR(IF(INDEX(Veri!$AD$31:$AD$500,MATCH(O112,Veri!$AI$31:$AI$500,0))<>\"\",INDEX(Veri!$AD$31:$AD$500,MATCH(O112,Veri!$AI$31:$AI$500,0)),\"\"),\"\")","v":""},{"$f":"IFERROR(IF(INDEX(Veri!$AE$31:$AE$500,MATCH(O112,Veri!$AI$31:$AI$500,0))<>\"\",INDEX(Veri!$AE$31:$AE$500,MATCH(O112,Veri!$AI$31:$AI$500,0)),\"\"),\"\")","v":""},null,103,{"$f":"IFERROR(IF(INDEX(Veri!$AK$31:$AK$500,MATCH(V155,Veri!$AS$31:$AS$500,0))<>\"\",INDEX(Veri!$AK$31:$AK$500,MATCH(V155,Veri!$AS$31:$AS$500,0)),\"\"),\"\")","v":""},{"$f":"IFERROR(IF(INDEX(Veri!$AQ$31:$AQ$500,MATCH(V155,Veri!$AS$31:$AS$500,0))<>\"\",INDEX(Veri!$AQ$31:$AQ$500,MATCH(V155,Veri!$AS$31:$AS$500,0)),\"\"),\"\")","v":""},{"$f":"IFERROR(IF(INDEX(Veri!$AM$31:$AM$500,MATCH(V155,Veri!$AS$31:$AS$500,0))<>\"\",INDEX(Veri!$AM$31:$AM$500,MATCH(V155,Veri!$AS$31:$AS$500,0)),\"\"),\"\")","v":""},{"$f":"IFERROR(IF(INDEX(Veri!$AN$31:$AN$500,MATCH(V155,Veri!$AS$31:$AS$500,0))<>\"\",INDEX(Veri!$AN$31:$AN$500,MATCH(V155,Veri!$AS$31:$AS$500,0)),\"\"),\"\")","v":""},{"$f":"IFERROR(IF(INDEX(Veri!$AO$31:$AO$500,MATCH(V155,Veri!$AS$31:$AS$500,0))<>\"\",INDEX(Veri!$AO$31:$AO$500,MATCH(V155,Veri!$AS$31:$AS$500,0)),\"\"),\"\")","v":""}]
[null,null,null,null,null,null,null,null,null,null,null,null,null,null,104,{"$f":"IFERROR(IF(INDEX(Veri!$AA$31:$AA$500,MATCH(O113,Veri!$AI$31:$AI$500,0))<>\"\",INDEX(Veri!$AA$31:$AA$500,MATCH(O113,Veri!$AI$31:$AI$500,0)),\"\"),\"\")","v":""},{"$f":"IFERROR(IF(INDEX(Veri!$AG$31:$AG$500,MATCH(O113,Veri!$AI$31:$AI$500,0))<>\"\",INDEX(Veri!$AG$31:$AG$500,MATCH(O113,Veri!$AI$31:$AI$500,0)),\"\"),\"\")","v":""},{"$f":"IFERROR(IF(INDEX(Veri!$AC$31:$AC$500,MATCH(O113,Veri!$AI$31:$AI$500,0))<>\"\",INDEX(Veri!$AC$31:$AC$500,MATCH(O113,Veri!$AI$31:$AI$500,0)),\"\"),\"\")","v":""},{"$f":"IFERROR(IF(INDEX(Veri!$AD$31:$AD$500,MATCH(O113,Veri!$AI$31:$AI$500,0))<>\"\",INDEX(Veri!$AD$31:$AD$500,MATCH(O113,Veri!$AI$31:$AI$500,0)),\"\"),\"\")","v":""},{"$f":"IFERROR(IF(INDEX(Veri!$AE$31:$AE$500,MATCH(O113,Veri!$AI$31:$AI$500,0))<>\"\",INDEX(Veri!$AE$31:$AE$500,MATCH(O113,Veri!$AI$31:$AI$500,0)),\"\"),\"\")","v":""},null,104,{"$f":"IFERROR(IF(INDEX(Veri!$AK$31:$AK$500,MATCH(V156,Veri!$AS$31:$AS$500,0))<>\"\",INDEX(Veri!$AK$31:$AK$500,MATCH(V156,Veri!$AS$31:$AS$500,0)),\"\"),\"\")","v":""},{"$f":"IFERROR(IF(INDEX(Veri!$AQ$31:$AQ$500,MATCH(V156,Veri!$AS$31:$AS$500,0))<>\"\",INDEX(Veri!$AQ$31:$AQ$500,MATCH(V156,Veri!$AS$31:$AS$500,0)),\"\"),\"\")","v":""},{"$f":"IFERROR(IF(INDEX(Veri!$AM$31:$AM$500,MATCH(V156,Veri!$AS$31:$AS$500,0))<>\"\",INDEX(Veri!$AM$31:$AM$500,MATCH(V156,Veri!$AS$31:$AS$500,0)),\"\"),\"\")","v":""},{"$f":"IFERROR(IF(INDEX(Veri!$AN$31:$AN$500,MATCH(V156,Veri!$AS$31:$AS$500,0))<>\"\",INDEX(Veri!$AN$31:$AN$500,MATCH(V156,Veri!$AS$31:$AS$500,0)),\"\"),\"\")","v":""},{"$f":"IFERROR(IF(INDEX(Veri!$AO$31:$AO$500,MATCH(V156,Veri!$AS$31:$AS$500,0))<>\"\",INDEX(Veri!$AO$31:$AO$500,MATCH(V156,Veri!$AS$31:$AS$500,0)),\"\"),\"\")","v":""}]
[null,null,null,null,null,null,null,null,null,null,null,null,null,null,105,{"$f":"IFERROR(IF(INDEX(Veri!$AA$31:$AA$500,MATCH(O114,Veri!$AI$31:$AI$500,0))<>\"\",INDEX(Veri!$AA$31:$AA$500,MATCH(O114,Veri!$AI$31:$AI$500,0)),\"\"),\"\")","v":""},{"$f":"IFERROR(IF(INDEX(Veri!$AG$31:$AG$500,MATCH(O114,Veri!$AI$31:$AI$500,0))<>\"\",INDEX(Veri!$AG$31:$AG$500,MATCH(O114,Veri!$AI$31:$AI$500,0)),\"\"),\"\")","v":""},{"$f":"IFERROR(IF(INDEX(Veri!$AC$31:$AC$500,MATCH(O114,Veri!$AI$31:$AI$500,0))<>\"\",INDEX(Veri!$AC$31:$AC$500,MATCH(O114,Veri!$AI$31:$AI$500,0)),\"\"),\"\")","v":""},{"$f":"IFERROR(IF(INDEX(Veri!$AD$31:$AD$500,MATCH(O114,Veri!$AI$31:$AI$500,0))<>\"\",INDEX(Veri!$AD$31:$AD$500,MATCH(O114,Veri!$AI$31:$AI$500,0)),\"\"),\"\")","v":""},{"$f":"IFERROR(IF(INDEX(Veri!$AE$31:$AE$500,MATCH(O114,Veri!$AI$31:$AI$500,0))<>\"\",INDEX(Veri!$AE$31:$AE$500,MATCH(O114,Veri!$AI$31:$AI$500,0)),\"\"),\"\")","v":""},null,105,{"$f":"IFERROR(IF(INDEX(Veri!$AK$31:$AK$500,MATCH(V157,Veri!$AS$31:$AS$500,0))<>\"\",INDEX(Veri!$AK$31:$AK$500,MATCH(V157,Veri!$AS$31:$AS$500,0)),\"\"),\"\")","v":""},{"$f":"IFERROR(IF(INDEX(Veri!$AQ$31:$AQ$500,MATCH(V157,Veri!$AS$31:$AS$500,0))<>\"\",INDEX(Veri!$AQ$31:$AQ$500,MATCH(V157,Veri!$AS$31:$AS$500,0)),\"\"),\"\")","v":""},{"$f":"IFERROR(IF(INDEX(Veri!$AM$31:$AM$500,MATCH(V157,Veri!$AS$31:$AS$500,0))<>\"\",INDEX(Veri!$AM$31:$AM$500,MATCH(V157,Veri!$AS$31:$AS$500,0)),\"\"),\"\")","v":""},{"$f":"IFERROR(IF(INDEX(Veri!$AN$31:$AN$500,MATCH(V157,Veri!$AS$31:$AS$500,0))<>\"\",INDEX(Veri!$AN$31:$AN$500,MATCH(V157,Veri!$AS$31:$AS$500,0)),\"\"),\"\")","v":""},{"$f":"IFERROR(IF(INDEX(Veri!$AO$31:$AO$500,MATCH(V157,Veri!$AS$31:$AS$500,0))<>\"\",INDEX(Veri!$AO$31:$AO$500,MATCH(V157,Veri!$AS$31:$AS$500,0)),\"\"),\"\")","v":""}]
[null,null,null,null,null,null,null,null,null,null,null,null,null,null,106,{"$f":"IFERROR(IF(INDEX(Veri!$AA$31:$AA$500,MATCH(O115,Veri!$AI$31:$AI$500,0))<>\"\",INDEX(Veri!$AA$31:$AA$500,MATCH(O115,Veri!$AI$31:$AI$500,0)),\"\"),\"\")","v":""},{"$f":"IFERROR(IF(INDEX(Veri!$AG$31:$AG$500,MATCH(O115,Veri!$AI$31:$AI$500,0))<>\"\",INDEX(Veri!$AG$31:$AG$500,MATCH(O115,Veri!$AI$31:$AI$500,0)),\"\"),\"\")","v":""},{"$f":"IFERROR(IF(INDEX(Veri!$AC$31:$AC$500,MATCH(O115,Veri!$AI$31:$AI$500,0))<>\"\",INDEX(Veri!$AC$31:$AC$500,MATCH(O115,Veri!$AI$31:$AI$500,0)),\"\"),\"\")","v":""},{"$f":"IFERROR(IF(INDEX(Veri!$AD$31:$AD$500,MATCH(O115,Veri!$AI$31:$AI$500,0))<>\"\",INDEX(Veri!$AD$31:$AD$500,MATCH(O115,Veri!$AI$31:$AI$500,0)),\"\"),\"\")","v":""},{"$f":"IFERROR(IF(INDEX(Veri!$AE$31:$AE$500,MATCH(O115,Veri!$AI$31:$AI$500,0))<>\"\",INDEX(Veri!$AE$31:$AE$500,MATCH(O115,Veri!$AI$31:$AI$500,0)),\"\"),\"\")","v":""},null,106,{"$f":"IFERROR(IF(INDEX(Veri!$AK$31:$AK$500,MATCH(V158,Veri!$AS$31:$AS$500,0))<>\"\",INDEX(Veri!$AK$31:$AK$500,MATCH(V158,Veri!$AS$31:$AS$500,0)),\"\"),\"\")","v":""},{"$f":"IFERROR(IF(INDEX(Veri!$AQ$31:$AQ$500,MATCH(V158,Veri!$AS$31:$AS$500,0))<>\"\",INDEX(Veri!$AQ$31:$AQ$500,MATCH(V158,Veri!$AS$31:$AS$500,0)),\"\"),\"\")","v":""},{"$f":"IFERROR(IF(INDEX(Veri!$AM$31:$AM$500,MATCH(V158,Veri!$AS$31:$AS$500,0))<>\"\",INDEX(Veri!$AM$31:$AM$500,MATCH(V158,Veri!$AS$31:$AS$500,0)),\"\"),\"\")","v":""},{"$f":"IFERROR(IF(INDEX(Veri!$AN$31:$AN$500,MATCH(V158,Veri!$AS$31:$AS$500,0))<>\"\",INDEX(Veri!$AN$31:$AN$500,MATCH(V158,Veri!$AS$31:$AS$500,0)),\"\"),\"\")","v":""},{"$f":"IFERROR(IF(INDEX(Veri!$AO$31:$AO$500,MATCH(V158,Veri!$AS$31:$AS$500,0))<>\"\",INDEX(Veri!$AO$31:$AO$500,MATCH(V158,Veri!$AS$31:$AS$500,0)),\"\"),\"\")","v":""}]
[null,null,null,null,null,null,null,null,null,null,null,null,null,null,107,{"$f":"IFERROR(IF(INDEX(Veri!$AA$31:$AA$500,MATCH(O116,Veri!$AI$31:$AI$500,0))<>\"\",INDEX(Veri!$AA$31:$AA$500,MATCH(O116,Veri!$AI$31:$AI$500,0)),\"\"),\"\")","v":""},{"$f":"IFERROR(IF(INDEX(Veri!$AG$31:$AG$500,MATCH(O116,Veri!$AI$31:$AI$500,0))<>\"\",INDEX(Veri!$AG$31:$AG$500,MATCH(O116,Veri!$AI$31:$AI$500,0)),\"\"),\"\")","v":""},{"$f":"IFERROR(IF(INDEX(Veri!$AC$31:$AC$500,MATCH(O116,Veri!$AI$31:$AI$500,0))<>\"\",INDEX(Veri!$AC$31:$AC$500,MATCH(O116,Veri!$AI$31:$AI$500,0)),\"\"),\"\")","v":""},{"$f":"IFERROR(IF(INDEX(Veri!$AD$31:$AD$500,MATCH(O116,Veri!$AI$31:$AI$500,0))<>\"\",INDEX(Veri!$AD$31:$AD$500,MATCH(O116,Veri!$AI$31:$AI$500,0)),\"\"),\"\")","v":""},{"$f":"IFERROR(IF(INDEX(Veri!$AE$31:$AE$500,MATCH(O116,Veri!$AI$31:$AI$500,0))<>\"\",INDEX(Veri!$AE$31:$AE$500,MATCH(O116,Veri!$AI$31:$AI$500,0)),\"\"),\"\")","v":""},null,107,{"$f":"IFERROR(IF(INDEX(Veri!$AK$31:$AK$500,MATCH(V159,Veri!$AS$31:$AS$500,0))<>\"\",INDEX(Veri!$AK$31:$AK$500,MATCH(V159,Veri!$AS$31:$AS$500,0)),\"\"),\"\")","v":""},{"$f":"IFERROR(IF(INDEX(Veri!$AQ$31:$AQ$500,MATCH(V159,Veri!$AS$31:$AS$500,0))<>\"\",INDEX(Veri!$AQ$31:$AQ$500,MATCH(V159,Veri!$AS$31:$AS$500,0)),\"\"),\"\")","v":""},{"$f":"IFERROR(IF(INDEX(Veri!$AM$31:$AM$500,MATCH(V159,Veri!$AS$31:$AS$500,0))<>\"\",INDEX(Veri!$AM$31:$AM$500,MATCH(V159,Veri!$AS$31:$AS$500,0)),\"\"),\"\")","v":""},{"$f":"IFERROR(IF(INDEX(Veri!$AN$31:$AN$500,MATCH(V159,Veri!$AS$31:$AS$500,0))<>\"\",INDEX(Veri!$AN$31:$AN$500,MATCH(V159,Veri!$AS$31:$AS$500,0)),\"\"),\"\")","v":""},{"$f":"IFERROR(IF(INDEX(Veri!$AO$31:$AO$500,MATCH(V159,Veri!$AS$31:$AS$500,0))<>\"\",INDEX(Veri!$AO$31:$AO$500,MATCH(V159,Veri!$AS$31:$AS$500,0)),\"\"),\"\")","v":""}]
[null,null,null,null,null,null,null,null,null,null,null,null,null,null,108,{"$f":"IFERROR(IF(INDEX(Veri!$AA$31:$AA$500,MATCH(O117,Veri!$AI$31:$AI$500,0))<>\"\",INDEX(Veri!$AA$31:$AA$500,MATCH(O117,Veri!$AI$31:$AI$500,0)),\"\"),\"\")","v":""},{"$f":"IFERROR(IF(INDEX(Veri!$AG$31:$AG$500,MATCH(O117,Veri!$AI$31:$AI$500,0))<>\"\",INDEX(Veri!$AG$31:$AG$500,MATCH(O117,Veri!$AI$31:$AI$500,0)),\"\"),\"\")","v":""},{"$f":"IFERROR(IF(INDEX(Veri!$AC$31:$AC$500,MATCH(O117,Veri!$AI$31:$AI$500,0))<>\"\",INDEX(Veri!$AC$31:$AC$500,MATCH(O117,Veri!$AI$31:$AI$500,0)),\"\"),\"\")","v":""},{"$f":"IFERROR(IF(INDEX(Veri!$AD$31:$AD$500,MATCH(O117,Veri!$AI$31:$AI$500,0))<>\"\",INDEX(Veri!$AD$31:$AD$500,MATCH(O117,Veri!$AI$31:$AI$500,0)),\"\"),\"\")","v":""},{"$f":"IFERROR(IF(INDEX(Veri!$AE$31:$AE$500,MATCH(O117,Veri!$AI$31:$AI$500,0))<>\"\",INDEX(Veri!$AE$31:$AE$500,MATCH(O117,Veri!$AI$31:$AI$500,0)),\"\"),\"\")","v":""},null,108,{"$f":"IFERROR(IF(INDEX(Veri!$AK$31:$AK$500,MATCH(V160,Veri!$AS$31:$AS$500,0))<>\"\",INDEX(Veri!$AK$31:$AK$500,MATCH(V160,Veri!$AS$31:$AS$500,0)),\"\"),\"\")","v":""},{"$f":"IFERROR(IF(INDEX(Veri!$AQ$31:$AQ$500,MATCH(V160,Veri!$AS$31:$AS$500,0))<>\"\",INDEX(Veri!$AQ$31:$AQ$500,MATCH(V160,Veri!$AS$31:$AS$500,0)),\"\"),\"\")","v":""},{"$f":"IFERROR(IF(INDEX(Veri!$AM$31:$AM$500,MATCH(V160,Veri!$AS$31:$AS$500,0))<>\"\",INDEX(Veri!$AM$31:$AM$500,MATCH(V160,Veri!$AS$31:$AS$500,0)),\"\"),\"\")","v":""},{"$f":"IFERROR(IF(INDEX(Veri!$AN$31:$AN$500,MATCH(V160,Veri!$AS$31:$AS$500,0))<>\"\",INDEX(Veri!$AN$31:$AN$500,MATCH(V160,Veri!$AS$31:$AS$500,0)),\"\"),\"\")","v":""},{"$f":"IFERROR(IF(INDEX(Veri!$AO$31:$AO$500,MATCH(V160,Veri!$AS$31:$AS$500,0))<>\"\",INDEX(Veri!$AO$31:$AO$500,MATCH(V160,Veri!$AS$31:$AS$500,0)),\"\"),\"\")","v":""}]
[null,null,null,null,null,null,null,null,null,null,null,null,null,null,109,{"$f":"IFERROR(IF(INDEX(Veri!$AA$31:$AA$500,MATCH(O118,Veri!$AI$31:$AI$500,0))<>\"\",INDEX(Veri!$AA$31:$AA$500,MATCH(O118,Veri!$AI$31:$AI$500,0)),\"\"),\"\")","v":""},{"$f":"IFERROR(IF(INDEX(Veri!$AG$31:$AG$500,MATCH(O118,Veri!$AI$31:$AI$500,0))<>\"\",INDEX(Veri!$AG$31:$AG$500,MATCH(O118,Veri!$AI$31:$AI$500,0)),\"\"),\"\")","v":""},{"$f":"IFERROR(IF(INDEX(Veri!$AC$31:$AC$500,MATCH(O118,Veri!$AI$31:$AI$500,0))<>\"\",INDEX(Veri!$AC$31:$AC$500,MATCH(O118,Veri!$AI$31:$AI$500,0)),\"\"),\"\")","v":""},{"$f":"IFERROR(IF(INDEX(Veri!$AD$31:$AD$500,MATCH(O118,Veri!$AI$31:$AI$500,0))<>\"\",INDEX(Veri!$AD$31:$AD$500,MATCH(O118,Veri!$AI$31:$AI$500,0)),\"\"),\"\")","v":""},{"$f":"IFERROR(IF(INDEX(Veri!$AE$31:$AE$500,MATCH(O118,Veri!$AI$31:$AI$500,0))<>\"\",INDEX(Veri!$AE$31:$AE$500,MATCH(O118,Veri!$AI$31:$AI$500,0)),\"\"),\"\")","v":""},null,109,{"$f":"IFERROR(IF(INDEX(Veri!$AK$31:$AK$500,MATCH(V161,Veri!$AS$31:$AS$500,0))<>\"\",INDEX(Veri!$AK$31:$AK$500,MATCH(V161,Veri!$AS$31:$AS$500,0)),\"\"),\"\")","v":""},{"$f":"IFERROR(IF(INDEX(Veri!$AQ$31:$AQ$500,MATCH(V161,Veri!$AS$31:$AS$500,0))<>\"\",INDEX(Veri!$AQ$31:$AQ$500,MATCH(V161,Veri!$AS$31:$AS$500,0)),\"\"),\"\")","v":""},{"$f":"IFERROR(IF(INDEX(Veri!$AM$31:$AM$500,MATCH(V161,Veri!$AS$31:$AS$500,0))<>\"\",INDEX(Veri!$AM$31:$AM$500,MATCH(V161,Veri!$AS$31:$AS$500,0)),\"\"),\"\")","v":""},{"$f":"IFERROR(IF(INDEX(Veri!$AN$31:$AN$500,MATCH(V161,Veri!$AS$31:$AS$500,0))<>\"\",INDEX(Veri!$AN$31:$AN$500,MATCH(V161,Veri!$AS$31:$AS$500,0)),\"\"),\"\")","v":""},{"$f":"IFERROR(IF(INDEX(Veri!$AO$31:$AO$500,MATCH(V161,Veri!$AS$31:$AS$500,0))<>\"\",INDEX(Veri!$AO$31:$AO$500,MATCH(V161,Veri!$AS$31:$AS$500,0)),\"\"),\"\")","v":""}]
[null,null,null,null,null,null,null,null,null,null,null,null,null,null,110,{"$f":"IFERROR(IF(INDEX(Veri!$AA$31:$AA$500,MATCH(O119,Veri!$AI$31:$AI$500,0))<>\"\",INDEX(Veri!$AA$31:$AA$500,MATCH(O119,Veri!$AI$31:$AI$500,0)),\"\"),\"\")","v":""},{"$f":"IFERROR(IF(INDEX(Veri!$AG$31:$AG$500,MATCH(O119,Veri!$AI$31:$AI$500,0))<>\"\",INDEX(Veri!$AG$31:$AG$500,MATCH(O119,Veri!$AI$31:$AI$500,0)),\"\"),\"\")","v":""},{"$f":"IFERROR(IF(INDEX(Veri!$AC$31:$AC$500,MATCH(O119,Veri!$AI$31:$AI$500,0))<>\"\",INDEX(Veri!$AC$31:$AC$500,MATCH(O119,Veri!$AI$31:$AI$500,0)),\"\"),\"\")","v":""},{"$f":"IFERROR(IF(INDEX(Veri!$AD$31:$AD$500,MATCH(O119,Veri!$AI$31:$AI$500,0))<>\"\",INDEX(Veri!$AD$31:$AD$500,MATCH(O119,Veri!$AI$31:$AI$500,0)),\"\"),\"\")","v":""},{"$f":"IFERROR(IF(INDEX(Veri!$AE$31:$AE$500,MATCH(O119,Veri!$AI$31:$AI$500,0))<>\"\",INDEX(Veri!$AE$31:$AE$500,MATCH(O119,Veri!$AI$31:$AI$500,0)),\"\"),\"\")","v":""},null,110,{"$f":"IFERROR(IF(INDEX(Veri!$AK$31:$AK$500,MATCH(V162,Veri!$AS$31:$AS$500,0))<>\"\",INDEX(Veri!$AK$31:$AK$500,MATCH(V162,Veri!$AS$31:$AS$500,0)),\"\"),\"\")","v":""},{"$f":"IFERROR(IF(INDEX(Veri!$AQ$31:$AQ$500,MATCH(V162,Veri!$AS$31:$AS$500,0))<>\"\",INDEX(Veri!$AQ$31:$AQ$500,MATCH(V162,Veri!$AS$31:$AS$500,0)),\"\"),\"\")","v":""},{"$f":"IFERROR(IF(INDEX(Veri!$AM$31:$AM$500,MATCH(V162,Veri!$AS$31:$AS$500,0))<>\"\",INDEX(Veri!$AM$31:$AM$500,MATCH(V162,Veri!$AS$31:$AS$500,0)),\"\"),\"\")","v":""},{"$f":"IFERROR(IF(INDEX(Veri!$AN$31:$AN$500,MATCH(V162,Veri!$AS$31:$AS$500,0))<>\"\",INDEX(Veri!$AN$31:$AN$500,MATCH(V162,Veri!$AS$31:$AS$500,0)),\"\"),\"\")","v":""},{"$f":"IFERROR(IF(INDEX(Veri!$AO$31:$AO$500,MATCH(V162,Veri!$AS$31:$AS$500,0))<>\"\",INDEX(Veri!$AO$31:$AO$500,MATCH(V162,Veri!$AS$31:$AS$500,0)),\"\"),\"\")","v":""}]
[null,null,null,null,null,null,null,null,null,null,null,null,null,null,111,{"$f":"IFERROR(IF(INDEX(Veri!$AA$31:$AA$500,MATCH(O120,Veri!$AI$31:$AI$500,0))<>\"\",INDEX(Veri!$AA$31:$AA$500,MATCH(O120,Veri!$AI$31:$AI$500,0)),\"\"),\"\")","v":""},{"$f":"IFERROR(IF(INDEX(Veri!$AG$31:$AG$500,MATCH(O120,Veri!$AI$31:$AI$500,0))<>\"\",INDEX(Veri!$AG$31:$AG$500,MATCH(O120,Veri!$AI$31:$AI$500,0)),\"\"),\"\")","v":""},{"$f":"IFERROR(IF(INDEX(Veri!$AC$31:$AC$500,MATCH(O120,Veri!$AI$31:$AI$500,0))<>\"\",INDEX(Veri!$AC$31:$AC$500,MATCH(O120,Veri!$AI$31:$AI$500,0)),\"\"),\"\")","v":""},{"$f":"IFERROR(IF(INDEX(Veri!$AD$31:$AD$500,MATCH(O120,Veri!$AI$31:$AI$500,0))<>\"\",INDEX(Veri!$AD$31:$AD$500,MATCH(O120,Veri!$AI$31:$AI$500,0)),\"\"),\"\")","v":""},{"$f":"IFERROR(IF(INDEX(Veri!$AE$31:$AE$500,MATCH(O120,Veri!$AI$31:$AI$500,0))<>\"\",INDEX(Veri!$AE$31:$AE$500,MATCH(O120,Veri!$AI$31:$AI$500,0)),\"\"),\"\")","v":""},null,111,{"$f":"IFERROR(IF(INDEX(Veri!$AK$31:$AK$500,MATCH(V163,Veri!$AS$31:$AS$500,0))<>\"\",INDEX(Veri!$AK$31:$AK$500,MATCH(V163,Veri!$AS$31:$AS$500,0)),\"\"),\"\")","v":""},{"$f":"IFERROR(IF(INDEX(Veri!$AQ$31:$AQ$500,MATCH(V163,Veri!$AS$31:$AS$500,0))<>\"\",INDEX(Veri!$AQ$31:$AQ$500,MATCH(V163,Veri!$AS$31:$AS$500,0)),\"\"),\"\")","v":""},{"$f":"IFERROR(IF(INDEX(Veri!$AM$31:$AM$500,MATCH(V163,Veri!$AS$31:$AS$500,0))<>\"\",INDEX(Veri!$AM$31:$AM$500,MATCH(V163,Veri!$AS$31:$AS$500,0)),\"\"),\"\")","v":""},{"$f":"IFERROR(IF(INDEX(Veri!$AN$31:$AN$500,MATCH(V163,Veri!$AS$31:$AS$500,0))<>\"\",INDEX(Veri!$AN$31:$AN$500,MATCH(V163,Veri!$AS$31:$AS$500,0)),\"\"),\"\")","v":""},{"$f":"IFERROR(IF(INDEX(Veri!$AO$31:$AO$500,MATCH(V163,Veri!$AS$31:$AS$500,0))<>\"\",INDEX(Veri!$AO$31:$AO$500,MATCH(V163,Veri!$AS$31:$AS$500,0)),\"\"),\"\")","v":""}]
[null,null,null,null,null,null,null,null,null,null,null,null,null,null,112,{"$f":"IFERROR(IF(INDEX(Veri!$AA$31:$AA$500,MATCH(O121,Veri!$AI$31:$AI$500,0))<>\"\",INDEX(Veri!$AA$31:$AA$500,MATCH(O121,Veri!$AI$31:$AI$500,0)),\"\"),\"\")","v":""},{"$f":"IFERROR(IF(INDEX(Veri!$AG$31:$AG$500,MATCH(O121,Veri!$AI$31:$AI$500,0))<>\"\",INDEX(Veri!$AG$31:$AG$500,MATCH(O121,Veri!$AI$31:$AI$500,0)),\"\"),\"\")","v":""},{"$f":"IFERROR(IF(INDEX(Veri!$AC$31:$AC$500,MATCH(O121,Veri!$AI$31:$AI$500,0))<>\"\",INDEX(Veri!$AC$31:$AC$500,MATCH(O121,Veri!$AI$31:$AI$500,0)),\"\"),\"\")","v":""},{"$f":"IFERROR(IF(INDEX(Veri!$AD$31:$AD$500,MATCH(O121,Veri!$AI$31:$AI$500,0))<>\"\",INDEX(Veri!$AD$31:$AD$500,MATCH(O121,Veri!$AI$31:$AI$500,0)),\"\"),\"\")","v":""},{"$f":"IFERROR(IF(INDEX(Veri!$AE$31:$AE$500,MATCH(O121,Veri!$AI$31:$AI$500,0))<>\"\",INDEX(Veri!$AE$31:$AE$500,MATCH(O121,Veri!$AI$31:$AI$500,0)),\"\"),\"\")","v":""},null,112,{"$f":"IFERROR(IF(INDEX(Veri!$AK$31:$AK$500,MATCH(V164,Veri!$AS$31:$AS$500,0))<>\"\",INDEX(Veri!$AK$31:$AK$500,MATCH(V164,Veri!$AS$31:$AS$500,0)),\"\"),\"\")","v":""},{"$f":"IFERROR(IF(INDEX(Veri!$AQ$31:$AQ$500,MATCH(V164,Veri!$AS$31:$AS$500,0))<>\"\",INDEX(Veri!$AQ$31:$AQ$500,MATCH(V164,Veri!$AS$31:$AS$500,0)),\"\"),\"\")","v":""},{"$f":"IFERROR(IF(INDEX(Veri!$AM$31:$AM$500,MATCH(V164,Veri!$AS$31:$AS$500,0))<>\"\",INDEX(Veri!$AM$31:$AM$500,MATCH(V164,Veri!$AS$31:$AS$500,0)),\"\"),\"\")","v":""},{"$f":"IFERROR(IF(INDEX(Veri!$AN$31:$AN$500,MATCH(V164,Veri!$AS$31:$AS$500,0))<>\"\",INDEX(Veri!$AN$31:$AN$500,MATCH(V164,Veri!$AS$31:$AS$500,0)),\"\"),\"\")","v":""},{"$f":"IFERROR(IF(INDEX(Veri!$AO$31:$AO$500,MATCH(V164,Veri!$AS$31:$AS$500,0))<>\"\",INDEX(Veri!$AO$31:$AO$500,MATCH(V164,Veri!$AS$31:$AS$500,0)),\"\"),\"\")","v":""}]
[null,null,null,null,null,null,null,null,null,null,null,null,null,null,113,{"$f":"IFERROR(IF(INDEX(Veri!$AA$31:$AA$500,MATCH(O122,Veri!$AI$31:$AI$500,0))<>\"\",INDEX(Veri!$AA$31:$AA$500,MATCH(O122,Veri!$AI$31:$AI$500,0)),\"\"),\"\")","v":""},{"$f":"IFERROR(IF(INDEX(Veri!$AG$31:$AG$500,MATCH(O122,Veri!$AI$31:$AI$500,0))<>\"\",INDEX(Veri!$AG$31:$AG$500,MATCH(O122,Veri!$AI$31:$AI$500,0)),\"\"),\"\")","v":""},{"$f":"IFERROR(IF(INDEX(Veri!$AC$31:$AC$500,MATCH(O122,Veri!$AI$31:$AI$500,0))<>\"\",INDEX(Veri!$AC$31:$AC$500,MATCH(O122,Veri!$AI$31:$AI$500,0)),\"\"),\"\")","v":""},{"$f":"IFERROR(IF(INDEX(Veri!$AD$31:$AD$500,MATCH(O122,Veri!$AI$31:$AI$500,0))<>\"\",INDEX(Veri!$AD$31:$AD$500,MATCH(O122,Veri!$AI$31:$AI$500,0)),\"\"),\"\")","v":""},{"$f":"IFERROR(IF(INDEX(Veri!$AE$31:$AE$500,MATCH(O122,Veri!$AI$31:$AI$500,0))<>\"\",INDEX(Veri!$AE$31:$AE$500,MATCH(O122,Veri!$AI$31:$AI$500,0)),\"\"),\"\")","v":""},null,113,{"$f":"IFERROR(IF(INDEX(Veri!$AK$31:$AK$500,MATCH(V165,Veri!$AS$31:$AS$500,0))<>\"\",INDEX(Veri!$AK$31:$AK$500,MATCH(V165,Veri!$AS$31:$AS$500,0)),\"\"),\"\")","v":""},{"$f":"IFERROR(IF(INDEX(Veri!$AQ$31:$AQ$500,MATCH(V165,Veri!$AS$31:$AS$500,0))<>\"\",INDEX(Veri!$AQ$31:$AQ$500,MATCH(V165,Veri!$AS$31:$AS$500,0)),\"\"),\"\")","v":""},{"$f":"IFERROR(IF(INDEX(Veri!$AM$31:$AM$500,MATCH(V165,Veri!$AS$31:$AS$500,0))<>\"\",INDEX(Veri!$AM$31:$AM$500,MATCH(V165,Veri!$AS$31:$AS$500,0)),\"\"),\"\")","v":""},{"$f":"IFERROR(IF(INDEX(Veri!$AN$31:$AN$500,MATCH(V165,Veri!$AS$31:$AS$500,0))<>\"\",INDEX(Veri!$AN$31:$AN$500,MATCH(V165,Veri!$AS$31:$AS$500,0)),\"\"),\"\")","v":""},{"$f":"IFERROR(IF(INDEX(Veri!$AO$31:$AO$500,MATCH(V165,Veri!$AS$31:$AS$500,0))<>\"\",INDEX(Veri!$AO$31:$AO$500,MATCH(V165,Veri!$AS$31:$AS$500,0)),\"\"),\"\")","v":""}]
[null,null,null,null,null,null,null,null,null,null,null,null,null,null,114,{"$f":"IFERROR(IF(INDEX(Veri!$AA$31:$AA$500,MATCH(O123,Veri!$AI$31:$AI$500,0))<>\"\",INDEX(Veri!$AA$31:$AA$500,MATCH(O123,Veri!$AI$31:$AI$500,0)),\"\"),\"\")","v":""},{"$f":"IFERROR(IF(INDEX(Veri!$AG$31:$AG$500,MATCH(O123,Veri!$AI$31:$AI$500,0))<>\"\",INDEX(Veri!$AG$31:$AG$500,MATCH(O123,Veri!$AI$31:$AI$500,0)),\"\"),\"\")","v":""},{"$f":"IFERROR(IF(INDEX(Veri!$AC$31:$AC$500,MATCH(O123,Veri!$AI$31:$AI$500,0))<>\"\",INDEX(Veri!$AC$31:$AC$500,MATCH(O123,Veri!$AI$31:$AI$500,0)),\"\"),\"\")","v":""},{"$f":"IFERROR(IF(INDEX(Veri!$AD$31:$AD$500,MATCH(O123,Veri!$AI$31:$AI$500,0))<>\"\",INDEX(Veri!$AD$31:$AD$500,MATCH(O123,Veri!$AI$31:$AI$500,0)),\"\"),\"\")","v":""},{"$f":"IFERROR(IF(INDEX(Veri!$AE$31:$AE$500,MATCH(O123,Veri!$AI$31:$AI$500,0))<>\"\",INDEX(Veri!$AE$31:$AE$500,MATCH(O123,Veri!$AI$31:$AI$500,0)),\"\"),\"\")","v":""},null,114,{"$f":"IFERROR(IF(INDEX(Veri!$AK$31:$AK$500,MATCH(V166,Veri!$AS$31:$AS$500,0))<>\"\",INDEX(Veri!$AK$31:$AK$500,MATCH(V166,Veri!$AS$31:$AS$500,0)),\"\"),\"\")","v":""},{"$f":"IFERROR(IF(INDEX(Veri!$AQ$31:$AQ$500,MATCH(V166,Veri!$AS$31:$AS$500,0))<>\"\",INDEX(Veri!$AQ$31:$AQ$500,MATCH(V166,Veri!$AS$31:$AS$500,0)),\"\"),\"\")","v":""},{"$f":"IFERROR(IF(INDEX(Veri!$AM$31:$AM$500,MATCH(V166,Veri!$AS$31:$AS$500,0))<>\"\",INDEX(Veri!$AM$31:$AM$500,MATCH(V166,Veri!$AS$31:$AS$500,0)),\"\"),\"\")","v":""},{"$f":"IFERROR(IF(INDEX(Veri!$AN$31:$AN$500,MATCH(V166,Veri!$AS$31:$AS$500,0))<>\"\",INDEX(Veri!$AN$31:$AN$500,MATCH(V166,Veri!$AS$31:$AS$500,0)),\"\"),\"\")","v":""},{"$f":"IFERROR(IF(INDEX(Veri!$AO$31:$AO$500,MATCH(V166,Veri!$AS$31:$AS$500,0))<>\"\",INDEX(Veri!$AO$31:$AO$500,MATCH(V166,Veri!$AS$31:$AS$500,0)),\"\"),\"\")","v":""}]
[null,null,null,null,null,null,null,null,null,null,null,null,null,null,115,{"$f":"IFERROR(IF(INDEX(Veri!$AA$31:$AA$500,MATCH(O124,Veri!$AI$31:$AI$500,0))<>\"\",INDEX(Veri!$AA$31:$AA$500,MATCH(O124,Veri!$AI$31:$AI$500,0)),\"\"),\"\")","v":""},{"$f":"IFERROR(IF(INDEX(Veri!$AG$31:$AG$500,MATCH(O124,Veri!$AI$31:$AI$500,0))<>\"\",INDEX(Veri!$AG$31:$AG$500,MATCH(O124,Veri!$AI$31:$AI$500,0)),\"\"),\"\")","v":""},{"$f":"IFERROR(IF(INDEX(Veri!$AC$31:$AC$500,MATCH(O124,Veri!$AI$31:$AI$500,0))<>\"\",INDEX(Veri!$AC$31:$AC$500,MATCH(O124,Veri!$AI$31:$AI$500,0)),\"\"),\"\")","v":""},{"$f":"IFERROR(IF(INDEX(Veri!$AD$31:$AD$500,MATCH(O124,Veri!$AI$31:$AI$500,0))<>\"\",INDEX(Veri!$AD$31:$AD$500,MATCH(O124,Veri!$AI$31:$AI$500,0)),\"\"),\"\")","v":""},{"$f":"IFERROR(IF(INDEX(Veri!$AE$31:$AE$500,MATCH(O124,Veri!$AI$31:$AI$500,0))<>\"\",INDEX(Veri!$AE$31:$AE$500,MATCH(O124,Veri!$AI$31:$AI$500,0)),\"\"),\"\")","v":""},null,115,{"$f":"IFERROR(IF(INDEX(Veri!$AK$31:$AK$500,MATCH(V167,Veri!$AS$31:$AS$500,0))<>\"\",INDEX(Veri!$AK$31:$AK$500,MATCH(V167,Veri!$AS$31:$AS$500,0)),\"\"),\"\")","v":""},{"$f":"IFERROR(IF(INDEX(Veri!$AQ$31:$AQ$500,MATCH(V167,Veri!$AS$31:$AS$500,0))<>\"\",INDEX(Veri!$AQ$31:$AQ$500,MATCH(V167,Veri!$AS$31:$AS$500,0)),\"\"),\"\")","v":""},{"$f":"IFERROR(IF(INDEX(Veri!$AM$31:$AM$500,MATCH(V167,Veri!$AS$31:$AS$500,0))<>\"\",INDEX(Veri!$AM$31:$AM$500,MATCH(V167,Veri!$AS$31:$AS$500,0)),\"\"),\"\")","v":""},{"$f":"IFERROR(IF(INDEX(Veri!$AN$31:$AN$500,MATCH(V167,Veri!$AS$31:$AS$500,0))<>\"\",INDEX(Veri!$AN$31:$AN$500,MATCH(V167,Veri!$AS$31:$AS$500,0)),\"\"),\"\")","v":""},{"$f":"IFERROR(IF(INDEX(Veri!$AO$31:$AO$500,MATCH(V167,Veri!$AS$31:$AS$500,0))<>\"\",INDEX(Veri!$AO$31:$AO$500,MATCH(V167,Veri!$AS$31:$AS$500,0)),\"\"),\"\")","v":""}]
[null,null,null,null,null,null,null,null,null,null,null,null,null,null,116,{"$f":"IFERROR(IF(INDEX(Veri!$AA$31:$AA$500,MATCH(O125,Veri!$AI$31:$AI$500,0))<>\"\",INDEX(Veri!$AA$31:$AA$500,MATCH(O125,Veri!$AI$31:$AI$500,0)),\"\"),\"\")","v":""},{"$f":"IFERROR(IF(INDEX(Veri!$AG$31:$AG$500,MATCH(O125,Veri!$AI$31:$AI$500,0))<>\"\",INDEX(Veri!$AG$31:$AG$500,MATCH(O125,Veri!$AI$31:$AI$500,0)),\"\"),\"\")","v":""},{"$f":"IFERROR(IF(INDEX(Veri!$AC$31:$AC$500,MATCH(O125,Veri!$AI$31:$AI$500,0))<>\"\",INDEX(Veri!$AC$31:$AC$500,MATCH(O125,Veri!$AI$31:$AI$500,0)),\"\"),\"\")","v":""},{"$f":"IFERROR(IF(INDEX(Veri!$AD$31:$AD$500,MATCH(O125,Veri!$AI$31:$AI$500,0))<>\"\",INDEX(Veri!$AD$31:$AD$500,MATCH(O125,Veri!$AI$31:$AI$500,0)),\"\"),\"\")","v":""},{"$f":"IFERROR(IF(INDEX(Veri!$AE$31:$AE$500,MATCH(O125,Veri!$AI$31:$AI$500,0))<>\"\",INDEX(Veri!$AE$31:$AE$500,MATCH(O125,Veri!$AI$31:$AI$500,0)),\"\"),\"\")","v":""},null,116,{"$f":"IFERROR(IF(INDEX(Veri!$AK$31:$AK$500,MATCH(V168,Veri!$AS$31:$AS$500,0))<>\"\",INDEX(Veri!$AK$31:$AK$500,MATCH(V168,Veri!$AS$31:$AS$500,0)),\"\"),\"\")","v":""},{"$f":"IFERROR(IF(INDEX(Veri!$AQ$31:$AQ$500,MATCH(V168,Veri!$AS$31:$AS$500,0))<>\"\",INDEX(Veri!$AQ$31:$AQ$500,MATCH(V168,Veri!$AS$31:$AS$500,0)),\"\"),\"\")","v":""},{"$f":"IFERROR(IF(INDEX(Veri!$AM$31:$AM$500,MATCH(V168,Veri!$AS$31:$AS$500,0))<>\"\",INDEX(Veri!$AM$31:$AM$500,MATCH(V168,Veri!$AS$31:$AS$500,0)),\"\"),\"\")","v":""},{"$f":"IFERROR(IF(INDEX(Veri!$AN$31:$AN$500,MATCH(V168,Veri!$AS$31:$AS$500,0))<>\"\",INDEX(Veri!$AN$31:$AN$500,MATCH(V168,Veri!$AS$31:$AS$500,0)),\"\"),\"\")","v":""},{"$f":"IFERROR(IF(INDEX(Veri!$AO$31:$AO$500,MATCH(V168,Veri!$AS$31:$AS$500,0))<>\"\",INDEX(Veri!$AO$31:$AO$500,MATCH(V168,Veri!$AS$31:$AS$500,0)),\"\"),\"\")","v":""}]
[null,null,null,null,null,null,null,null,null,null,null,null,null,null,117,{"$f":"IFERROR(IF(INDEX(Veri!$AA$31:$AA$500,MATCH(O126,Veri!$AI$31:$AI$500,0))<>\"\",INDEX(Veri!$AA$31:$AA$500,MATCH(O126,Veri!$AI$31:$AI$500,0)),\"\"),\"\")","v":""},{"$f":"IFERROR(IF(INDEX(Veri!$AG$31:$AG$500,MATCH(O126,Veri!$AI$31:$AI$500,0))<>\"\",INDEX(Veri!$AG$31:$AG$500,MATCH(O126,Veri!$AI$31:$AI$500,0)),\"\"),\"\")","v":""},{"$f":"IFERROR(IF(INDEX(Veri!$AC$31:$AC$500,MATCH(O126,Veri!$AI$31:$AI$500,0))<>\"\",INDEX(Veri!$AC$31:$AC$500,MATCH(O126,Veri!$AI$31:$AI$500,0)),\"\"),\"\")","v":""},{"$f":"IFERROR(IF(INDEX(Veri!$AD$31:$AD$500,MATCH(O126,Veri!$AI$31:$AI$500,0))<>\"\",INDEX(Veri!$AD$31:$AD$500,MATCH(O126,Veri!$AI$31:$AI$500,0)),\"\"),\"\")","v":""},{"$f":"IFERROR(IF(INDEX(Veri!$AE$31:$AE$500,MATCH(O126,Veri!$AI$31:$AI$500,0))<>\"\",INDEX(Veri!$AE$31:$AE$500,MATCH(O126,Veri!$AI$31:$AI$500,0)),\"\"),\"\")","v":""},null,117,{"$f":"IFERROR(IF(INDEX(Veri!$AK$31:$AK$500,MATCH(V169,Veri!$AS$31:$AS$500,0))<>\"\",INDEX(Veri!$AK$31:$AK$500,MATCH(V169,Veri!$AS$31:$AS$500,0)),\"\"),\"\")","v":""},{"$f":"IFERROR(IF(INDEX(Veri!$AQ$31:$AQ$500,MATCH(V169,Veri!$AS$31:$AS$500,0))<>\"\",INDEX(Veri!$AQ$31:$AQ$500,MATCH(V169,Veri!$AS$31:$AS$500,0)),\"\"),\"\")","v":""},{"$f":"IFERROR(IF(INDEX(Veri!$AM$31:$AM$500,MATCH(V169,Veri!$AS$31:$AS$500,0))<>\"\",INDEX(Veri!$AM$31:$AM$500,MATCH(V169,Veri!$AS$31:$AS$500,0)),\"\"),\"\")","v":""},{"$f":"IFERROR(IF(INDEX(Veri!$AN$31:$AN$500,MATCH(V169,Veri!$AS$31:$AS$500,0))<>\"\",INDEX(Veri!$AN$31:$AN$500,MATCH(V169,Veri!$AS$31:$AS$500,0)),\"\"),\"\")","v":""},{"$f":"IFERROR(IF(INDEX(Veri!$AO$31:$AO$500,MATCH(V169,Veri!$AS$31:$AS$500,0))<>\"\",INDEX(Veri!$AO$31:$AO$500,MATCH(V169,Veri!$AS$31:$AS$500,0)),\"\"),\"\")","v":""}]
[null,null,null,null,null,null,null,null,null,null,null,null,null,null,118,{"$f":"IFERROR(IF(INDEX(Veri!$AA$31:$AA$500,MATCH(O127,Veri!$AI$31:$AI$500,0))<>\"\",INDEX(Veri!$AA$31:$AA$500,MATCH(O127,Veri!$AI$31:$AI$500,0)),\"\"),\"\")","v":""},{"$f":"IFERROR(IF(INDEX(Veri!$AG$31:$AG$500,MATCH(O127,Veri!$AI$31:$AI$500,0))<>\"\",INDEX(Veri!$AG$31:$AG$500,MATCH(O127,Veri!$AI$31:$AI$500,0)),\"\"),\"\")","v":""},{"$f":"IFERROR(IF(INDEX(Veri!$AC$31:$AC$500,MATCH(O127,Veri!$AI$31:$AI$500,0))<>\"\",INDEX(Veri!$AC$31:$AC$500,MATCH(O127,Veri!$AI$31:$AI$500,0)),\"\"),\"\")","v":""},{"$f":"IFERROR(IF(INDEX(Veri!$AD$31:$AD$500,MATCH(O127,Veri!$AI$31:$AI$500,0))<>\"\",INDEX(Veri!$AD$31:$AD$500,MATCH(O127,Veri!$AI$31:$AI$500,0)),\"\"),\"\")","v":""},{"$f":"IFERROR(IF(INDEX(Veri!$AE$31:$AE$500,MATCH(O127,Veri!$AI$31:$AI$500,0))<>\"\",INDEX(Veri!$AE$31:$AE$500,MATCH(O127,Veri!$AI$31:$AI$500,0)),\"\"),\"\")","v":""},null,118,{"$f":"IFERROR(IF(INDEX(Veri!$AK$31:$AK$500,MATCH(V170,Veri!$AS$31:$AS$500,0))<>\"\",INDEX(Veri!$AK$31:$AK$500,MATCH(V170,Veri!$AS$31:$AS$500,0)),\"\"),\"\")","v":""},{"$f":"IFERROR(IF(INDEX(Veri!$AQ$31:$AQ$500,MATCH(V170,Veri!$AS$31:$AS$500,0))<>\"\",INDEX(Veri!$AQ$31:$AQ$500,MATCH(V170,Veri!$AS$31:$AS$500,0)),\"\"),\"\")","v":""},{"$f":"IFERROR(IF(INDEX(Veri!$AM$31:$AM$500,MATCH(V170,Veri!$AS$31:$AS$500,0))<>\"\",INDEX(Veri!$AM$31:$AM$500,MATCH(V170,Veri!$AS$31:$AS$500,0)),\"\"),\"\")","v":""},{"$f":"IFERROR(IF(INDEX(Veri!$AN$31:$AN$500,MATCH(V170,Veri!$AS$31:$AS$500,0))<>\"\",INDEX(Veri!$AN$31:$AN$500,MATCH(V170,Veri!$AS$31:$AS$500,0)),\"\"),\"\")","v":""},{"$f":"IFERROR(IF(INDEX(Veri!$AO$31:$AO$500,MATCH(V170,Veri!$AS$31:$AS$500,0))<>\"\",INDEX(Veri!$AO$31:$AO$500,MATCH(V170,Veri!$AS$31:$AS$500,0)),\"\"),\"\")","v":""}]
[null,null,null,null,null,null,null,null,null,null,null,null,null,null,119,{"$f":"IFERROR(IF(INDEX(Veri!$AA$31:$AA$500,MATCH(O128,Veri!$AI$31:$AI$500,0))<>\"\",INDEX(Veri!$AA$31:$AA$500,MATCH(O128,Veri!$AI$31:$AI$500,0)),\"\"),\"\")","v":""},{"$f":"IFERROR(IF(INDEX(Veri!$AG$31:$AG$500,MATCH(O128,Veri!$AI$31:$AI$500,0))<>\"\",INDEX(Veri!$AG$31:$AG$500,MATCH(O128,Veri!$AI$31:$AI$500,0)),\"\"),\"\")","v":""},{"$f":"IFERROR(IF(INDEX(Veri!$AC$31:$AC$500,MATCH(O128,Veri!$AI$31:$AI$500,0))<>\"\",INDEX(Veri!$AC$31:$AC$500,MATCH(O128,Veri!$AI$31:$AI$500,0)),\"\"),\"\")","v":""},{"$f":"IFERROR(IF(INDEX(Veri!$AD$31:$AD$500,MATCH(O128,Veri!$AI$31:$AI$500,0))<>\"\",INDEX(Veri!$AD$31:$AD$500,MATCH(O128,Veri!$AI$31:$AI$500,0)),\"\"),\"\")","v":""},{"$f":"IFERROR(IF(INDEX(Veri!$AE$31:$AE$500,MATCH(O128,Veri!$AI$31:$AI$500,0))<>\"\",INDEX(Veri!$AE$31:$AE$500,MATCH(O128,Veri!$AI$31:$AI$500,0)),\"\"),\"\")","v":""},null,119,{"$f":"IFERROR(IF(INDEX(Veri!$AK$31:$AK$500,MATCH(V171,Veri!$AS$31:$AS$500,0))<>\"\",INDEX(Veri!$AK$31:$AK$500,MATCH(V171,Veri!$AS$31:$AS$500,0)),\"\"),\"\")","v":""},{"$f":"IFERROR(IF(INDEX(Veri!$AQ$31:$AQ$500,MATCH(V171,Veri!$AS$31:$AS$500,0))<>\"\",INDEX(Veri!$AQ$31:$AQ$500,MATCH(V171,Veri!$AS$31:$AS$500,0)),\"\"),\"\")","v":""},{"$f":"IFERROR(IF(INDEX(Veri!$AM$31:$AM$500,MATCH(V171,Veri!$AS$31:$AS$500,0))<>\"\",INDEX(Veri!$AM$31:$AM$500,MATCH(V171,Veri!$AS$31:$AS$500,0)),\"\"),\"\")","v":""},{"$f":"IFERROR(IF(INDEX(Veri!$AN$31:$AN$500,MATCH(V171,Veri!$AS$31:$AS$500,0))<>\"\",INDEX(Veri!$AN$31:$AN$500,MATCH(V171,Veri!$AS$31:$AS$500,0)),\"\"),\"\")","v":""},{"$f":"IFERROR(IF(INDEX(Veri!$AO$31:$AO$500,MATCH(V171,Veri!$AS$31:$AS$500,0))<>\"\",INDEX(Veri!$AO$31:$AO$500,MATCH(V171,Veri!$AS$31:$AS$500,0)),\"\"),\"\")","v":""}]
[null,null,null,null,null,null,null,null,null,null,null,null,null,null,120,{"$f":"IFERROR(IF(INDEX(Veri!$AA$31:$AA$500,MATCH(O129,Veri!$AI$31:$AI$500,0))<>\"\",INDEX(Veri!$AA$31:$AA$500,MATCH(O129,Veri!$AI$31:$AI$500,0)),\"\"),\"\")","v":""},{"$f":"IFERROR(IF(INDEX(Veri!$AG$31:$AG$500,MATCH(O129,Veri!$AI$31:$AI$500,0))<>\"\",INDEX(Veri!$AG$31:$AG$500,MATCH(O129,Veri!$AI$31:$AI$500,0)),\"\"),\"\")","v":""},{"$f":"IFERROR(IF(INDEX(Veri!$AC$31:$AC$500,MATCH(O129,Veri!$AI$31:$AI$500,0))<>\"\",INDEX(Veri!$AC$31:$AC$500,MATCH(O129,Veri!$AI$31:$AI$500,0)),\"\"),\"\")","v":""},{"$f":"IFERROR(IF(INDEX(Veri!$AD$31:$AD$500,MATCH(O129,Veri!$AI$31:$AI$500,0))<>\"\",INDEX(Veri!$AD$31:$AD$500,MATCH(O129,Veri!$AI$31:$AI$500,0)),\"\"),\"\")","v":""},{"$f":"IFERROR(IF(INDEX(Veri!$AE$31:$AE$500,MATCH(O129,Veri!$AI$31:$AI$500,0))<>\"\",INDEX(Veri!$AE$31:$AE$500,MATCH(O129,Veri!$AI$31:$AI$500,0)),\"\"),\"\")","v":""},null,120,{"$f":"IFERROR(IF(INDEX(Veri!$AK$31:$AK$500,MATCH(V172,Veri!$AS$31:$AS$500,0))<>\"\",INDEX(Veri!$AK$31:$AK$500,MATCH(V172,Veri!$AS$31:$AS$500,0)),\"\"),\"\")","v":""},{"$f":"IFERROR(IF(INDEX(Veri!$AQ$31:$AQ$500,MATCH(V172,Veri!$AS$31:$AS$500,0))<>\"\",INDEX(Veri!$AQ$31:$AQ$500,MATCH(V172,Veri!$AS$31:$AS$500,0)),\"\"),\"\")","v":""},{"$f":"IFERROR(IF(INDEX(Veri!$AM$31:$AM$500,MATCH(V172,Veri!$AS$31:$AS$500,0))<>\"\",INDEX(Veri!$AM$31:$AM$500,MATCH(V172,Veri!$AS$31:$AS$500,0)),\"\"),\"\")","v":""},{"$f":"IFERROR(IF(INDEX(Veri!$AN$31:$AN$500,MATCH(V172,Veri!$AS$31:$AS$500,0))<>\"\",INDEX(Veri!$AN$31:$AN$500,MATCH(V172,Veri!$AS$31:$AS$500,0)),\"\"),\"\")","v":""},{"$f":"IFERROR(IF(INDEX(Veri!$AO$31:$AO$500,MATCH(V172,Veri!$AS$31:$AS$500,0))<>\"\",INDEX(Veri!$AO$31:$AO$500,MATCH(V172,Veri!$AS$31:$AS$500,0)),\"\"),\"\")","v":""}]
[null,null,null,null,null,null,null,null,null,null,null,null,null,null,121,{"$f":"IFERROR(IF(INDEX(Veri!$AA$31:$AA$500,MATCH(O130,Veri!$AI$31:$AI$500,0))<>\"\",INDEX(Veri!$AA$31:$AA$500,MATCH(O130,Veri!$AI$31:$AI$500,0)),\"\"),\"\")","v":""},{"$f":"IFERROR(IF(INDEX(Veri!$AG$31:$AG$500,MATCH(O130,Veri!$AI$31:$AI$500,0))<>\"\",INDEX(Veri!$AG$31:$AG$500,MATCH(O130,Veri!$AI$31:$AI$500,0)),\"\"),\"\")","v":""},{"$f":"IFERROR(IF(INDEX(Veri!$AC$31:$AC$500,MATCH(O130,Veri!$AI$31:$AI$500,0))<>\"\",INDEX(Veri!$AC$31:$AC$500,MATCH(O130,Veri!$AI$31:$AI$500,0)),\"\"),\"\")","v":""},{"$f":"IFERROR(IF(INDEX(Veri!$AD$31:$AD$500,MATCH(O130,Veri!$AI$31:$AI$500,0))<>\"\",INDEX(Veri!$AD$31:$AD$500,MATCH(O130,Veri!$AI$31:$AI$500,0)),\"\"),\"\")","v":""},{"$f":"IFERROR(IF(INDEX(Veri!$AE$31:$AE$500,MATCH(O130,Veri!$AI$31:$AI$500,0))<>\"\",INDEX(Veri!$AE$31:$AE$500,MATCH(O130,Veri!$AI$31:$AI$500,0)),\"\"),\"\")","v":""},null,121,{"$f":"IFERROR(IF(INDEX(Veri!$AK$31:$AK$500,MATCH(V173,Veri!$AS$31:$AS$500,0))<>\"\",INDEX(Veri!$AK$31:$AK$500,MATCH(V173,Veri!$AS$31:$AS$500,0)),\"\"),\"\")","v":""},{"$f":"IFERROR(IF(INDEX(Veri!$AQ$31:$AQ$500,MATCH(V173,Veri!$AS$31:$AS$500,0))<>\"\",INDEX(Veri!$AQ$31:$AQ$500,MATCH(V173,Veri!$AS$31:$AS$500,0)),\"\"),\"\")","v":""},{"$f":"IFERROR(IF(INDEX(Veri!$AM$31:$AM$500,MATCH(V173,Veri!$AS$31:$AS$500,0))<>\"\",INDEX(Veri!$AM$31:$AM$500,MATCH(V173,Veri!$AS$31:$AS$500,0)),\"\"),\"\")","v":""},{"$f":"IFERROR(IF(INDEX(Veri!$AN$31:$AN$500,MATCH(V173,Veri!$AS$31:$AS$500,0))<>\"\",INDEX(Veri!$AN$31:$AN$500,MATCH(V173,Veri!$AS$31:$AS$500,0)),\"\"),\"\")","v":""},{"$f":"IFERROR(IF(INDEX(Veri!$AO$31:$AO$500,MATCH(V173,Veri!$AS$31:$AS$500,0))<>\"\",INDEX(Veri!$AO$31:$AO$500,MATCH(V173,Veri!$AS$31:$AS$500,0)),\"\"),\"\")","v":""}]
[null,null,null,null,null,null,null,null,null,null,null,null,null,null,122,{"$f":"IFERROR(IF(INDEX(Veri!$AA$31:$AA$500,MATCH(O131,Veri!$AI$31:$AI$500,0))<>\"\",INDEX(Veri!$AA$31:$AA$500,MATCH(O131,Veri!$AI$31:$AI$500,0)),\"\"),\"\")","v":""},{"$f":"IFERROR(IF(INDEX(Veri!$AG$31:$AG$500,MATCH(O131,Veri!$AI$31:$AI$500,0))<>\"\",INDEX(Veri!$AG$31:$AG$500,MATCH(O131,Veri!$AI$31:$AI$500,0)),\"\"),\"\")","v":""},{"$f":"IFERROR(IF(INDEX(Veri!$AC$31:$AC$500,MATCH(O131,Veri!$AI$31:$AI$500,0))<>\"\",INDEX(Veri!$AC$31:$AC$500,MATCH(O131,Veri!$AI$31:$AI$500,0)),\"\"),\"\")","v":""},{"$f":"IFERROR(IF(INDEX(Veri!$AD$31:$AD$500,MATCH(O131,Veri!$AI$31:$AI$500,0))<>\"\",INDEX(Veri!$AD$31:$AD$500,MATCH(O131,Veri!$AI$31:$AI$500,0)),\"\"),\"\")","v":""},{"$f":"IFERROR(IF(INDEX(Veri!$AE$31:$AE$500,MATCH(O131,Veri!$AI$31:$AI$500,0))<>\"\",INDEX(Veri!$AE$31:$AE$500,MATCH(O131,Veri!$AI$31:$AI$500,0)),\"\"),\"\")","v":""},null,122,{"$f":"IFERROR(IF(INDEX(Veri!$AK$31:$AK$500,MATCH(V174,Veri!$AS$31:$AS$500,0))<>\"\",INDEX(Veri!$AK$31:$AK$500,MATCH(V174,Veri!$AS$31:$AS$500,0)),\"\"),\"\")","v":""},{"$f":"IFERROR(IF(INDEX(Veri!$AQ$31:$AQ$500,MATCH(V174,Veri!$AS$31:$AS$500,0))<>\"\",INDEX(Veri!$AQ$31:$AQ$500,MATCH(V174,Veri!$AS$31:$AS$500,0)),\"\"),\"\")","v":""},{"$f":"IFERROR(IF(INDEX(Veri!$AM$31:$AM$500,MATCH(V174,Veri!$AS$31:$AS$500,0))<>\"\",INDEX(Veri!$AM$31:$AM$500,MATCH(V174,Veri!$AS$31:$AS$500,0)),\"\"),\"\")","v":""},{"$f":"IFERROR(IF(INDEX(Veri!$AN$31:$AN$500,MATCH(V174,Veri!$AS$31:$AS$500,0))<>\"\",INDEX(Veri!$AN$31:$AN$500,MATCH(V174,Veri!$AS$31:$AS$500,0)),\"\"),\"\")","v":""},{"$f":"IFERROR(IF(INDEX(Veri!$AO$31:$AO$500,MATCH(V174,Veri!$AS$31:$AS$500,0))<>\"\",INDEX(Veri!$AO$31:$AO$500,MATCH(V174,Veri!$AS$31:$AS$500,0)),\"\"),\"\")","v":""}]
[null,null,null,null,null,null,null,null,null,null,null,null,null,null,123,{"$f":"IFERROR(IF(INDEX(Veri!$AA$31:$AA$500,MATCH(O132,Veri!$AI$31:$AI$500,0))<>\"\",INDEX(Veri!$AA$31:$AA$500,MATCH(O132,Veri!$AI$31:$AI$500,0)),\"\"),\"\")","v":""},{"$f":"IFERROR(IF(INDEX(Veri!$AG$31:$AG$500,MATCH(O132,Veri!$AI$31:$AI$500,0))<>\"\",INDEX(Veri!$AG$31:$AG$500,MATCH(O132,Veri!$AI$31:$AI$500,0)),\"\"),\"\")","v":""},{"$f":"IFERROR(IF(INDEX(Veri!$AC$31:$AC$500,MATCH(O132,Veri!$AI$31:$AI$500,0))<>\"\",INDEX(Veri!$AC$31:$AC$500,MATCH(O132,Veri!$AI$31:$AI$500,0)),\"\"),\"\")","v":""},{"$f":"IFERROR(IF(INDEX(Veri!$AD$31:$AD$500,MATCH(O132,Veri!$AI$31:$AI$500,0))<>\"\",INDEX(Veri!$AD$31:$AD$500,MATCH(O132,Veri!$AI$31:$AI$500,0)),\"\"),\"\")","v":""},{"$f":"IFERROR(IF(INDEX(Veri!$AE$31:$AE$500,MATCH(O132,Veri!$AI$31:$AI$500,0))<>\"\",INDEX(Veri!$AE$31:$AE$500,MATCH(O132,Veri!$AI$31:$AI$500,0)),\"\"),\"\")","v":""},null,123,{"$f":"IFERROR(IF(INDEX(Veri!$AK$31:$AK$500,MATCH(V175,Veri!$AS$31:$AS$500,0))<>\"\",INDEX(Veri!$AK$31:$AK$500,MATCH(V175,Veri!$AS$31:$AS$500,0)),\"\"),\"\")","v":""},{"$f":"IFERROR(IF(INDEX(Veri!$AQ$31:$AQ$500,MATCH(V175,Veri!$AS$31:$AS$500,0))<>\"\",INDEX(Veri!$AQ$31:$AQ$500,MATCH(V175,Veri!$AS$31:$AS$500,0)),\"\"),\"\")","v":""},{"$f":"IFERROR(IF(INDEX(Veri!$AM$31:$AM$500,MATCH(V175,Veri!$AS$31:$AS$500,0))<>\"\",INDEX(Veri!$AM$31:$AM$500,MATCH(V175,Veri!$AS$31:$AS$500,0)),\"\"),\"\")","v":""},{"$f":"IFERROR(IF(INDEX(Veri!$AN$31:$AN$500,MATCH(V175,Veri!$AS$31:$AS$500,0))<>\"\",INDEX(Veri!$AN$31:$AN$500,MATCH(V175,Veri!$AS$31:$AS$500,0)),\"\"),\"\")","v":""},{"$f":"IFERROR(IF(INDEX(Veri!$AO$31:$AO$500,MATCH(V175,Veri!$AS$31:$AS$500,0))<>\"\",INDEX(Veri!$AO$31:$AO$500,MATCH(V175,Veri!$AS$31:$AS$500,0)),\"\"),\"\")","v":""}]
[null,null,null,null,null,null,null,null,null,null,null,null,null,null,124,{"$f":"IFERROR(IF(INDEX(Veri!$AA$31:$AA$500,MATCH(O133,Veri!$AI$31:$AI$500,0))<>\"\",INDEX(Veri!$AA$31:$AA$500,MATCH(O133,Veri!$AI$31:$AI$500,0)),\"\"),\"\")","v":""},{"$f":"IFERROR(IF(INDEX(Veri!$AG$31:$AG$500,MATCH(O133,Veri!$AI$31:$AI$500,0))<>\"\",INDEX(Veri!$AG$31:$AG$500,MATCH(O133,Veri!$AI$31:$AI$500,0)),\"\"),\"\")","v":""},{"$f":"IFERROR(IF(INDEX(Veri!$AC$31:$AC$500,MATCH(O133,Veri!$AI$31:$AI$500,0))<>\"\",INDEX(Veri!$AC$31:$AC$500,MATCH(O133,Veri!$AI$31:$AI$500,0)),\"\"),\"\")","v":""},{"$f":"IFERROR(IF(INDEX(Veri!$AD$31:$AD$500,MATCH(O133,Veri!$AI$31:$AI$500,0))<>\"\",INDEX(Veri!$AD$31:$AD$500,MATCH(O133,Veri!$AI$31:$AI$500,0)),\"\"),\"\")","v":""},{"$f":"IFERROR(IF(INDEX(Veri!$AE$31:$AE$500,MATCH(O133,Veri!$AI$31:$AI$500,0))<>\"\",INDEX(Veri!$AE$31:$AE$500,MATCH(O133,Veri!$AI$31:$AI$500,0)),\"\"),\"\")","v":""},null,124,{"$f":"IFERROR(IF(INDEX(Veri!$AK$31:$AK$500,MATCH(V176,Veri!$AS$31:$AS$500,0))<>\"\",INDEX(Veri!$AK$31:$AK$500,MATCH(V176,Veri!$AS$31:$AS$500,0)),\"\"),\"\")","v":""},{"$f":"IFERROR(IF(INDEX(Veri!$AQ$31:$AQ$500,MATCH(V176,Veri!$AS$31:$AS$500,0))<>\"\",INDEX(Veri!$AQ$31:$AQ$500,MATCH(V176,Veri!$AS$31:$AS$500,0)),\"\"),\"\")","v":""},{"$f":"IFERROR(IF(INDEX(Veri!$AM$31:$AM$500,MATCH(V176,Veri!$AS$31:$AS$500,0))<>\"\",INDEX(Veri!$AM$31:$AM$500,MATCH(V176,Veri!$AS$31:$AS$500,0)),\"\"),\"\")","v":""},{"$f":"IFERROR(IF(INDEX(Veri!$AN$31:$AN$500,MATCH(V176,Veri!$AS$31:$AS$500,0))<>\"\",INDEX(Veri!$AN$31:$AN$500,MATCH(V176,Veri!$AS$31:$AS$500,0)),\"\"),\"\")","v":""},{"$f":"IFERROR(IF(INDEX(Veri!$AO$31:$AO$500,MATCH(V176,Veri!$AS$31:$AS$500,0))<>\"\",INDEX(Veri!$AO$31:$AO$500,MATCH(V176,Veri!$AS$31:$AS$500,0)),\"\"),\"\")","v":""}]
[null,null,null,null,null,null,null,null,null,null,null,null,null,null,125,{"$f":"IFERROR(IF(INDEX(Veri!$AA$31:$AA$500,MATCH(O134,Veri!$AI$31:$AI$500,0))<>\"\",INDEX(Veri!$AA$31:$AA$500,MATCH(O134,Veri!$AI$31:$AI$500,0)),\"\"),\"\")","v":""},{"$f":"IFERROR(IF(INDEX(Veri!$AG$31:$AG$500,MATCH(O134,Veri!$AI$31:$AI$500,0))<>\"\",INDEX(Veri!$AG$31:$AG$500,MATCH(O134,Veri!$AI$31:$AI$500,0)),\"\"),\"\")","v":""},{"$f":"IFERROR(IF(INDEX(Veri!$AC$31:$AC$500,MATCH(O134,Veri!$AI$31:$AI$500,0))<>\"\",INDEX(Veri!$AC$31:$AC$500,MATCH(O134,Veri!$AI$31:$AI$500,0)),\"\"),\"\")","v":""},{"$f":"IFERROR(IF(INDEX(Veri!$AD$31:$AD$500,MATCH(O134,Veri!$AI$31:$AI$500,0))<>\"\",INDEX(Veri!$AD$31:$AD$500,MATCH(O134,Veri!$AI$31:$AI$500,0)),\"\"),\"\")","v":""},{"$f":"IFERROR(IF(INDEX(Veri!$AE$31:$AE$500,MATCH(O134,Veri!$AI$31:$AI$500,0))<>\"\",INDEX(Veri!$AE$31:$AE$500,MATCH(O134,Veri!$AI$31:$AI$500,0)),\"\"),\"\")","v":""},null,125,{"$f":"IFERROR(IF(INDEX(Veri!$AK$31:$AK$500,MATCH(V177,Veri!$AS$31:$AS$500,0))<>\"\",INDEX(Veri!$AK$31:$AK$500,MATCH(V177,Veri!$AS$31:$AS$500,0)),\"\"),\"\")","v":""},{"$f":"IFERROR(IF(INDEX(Veri!$AQ$31:$AQ$500,MATCH(V177,Veri!$AS$31:$AS$500,0))<>\"\",INDEX(Veri!$AQ$31:$AQ$500,MATCH(V177,Veri!$AS$31:$AS$500,0)),\"\"),\"\")","v":""},{"$f":"IFERROR(IF(INDEX(Veri!$AM$31:$AM$500,MATCH(V177,Veri!$AS$31:$AS$500,0))<>\"\",INDEX(Veri!$AM$31:$AM$500,MATCH(V177,Veri!$AS$31:$AS$500,0)),\"\"),\"\")","v":""},{"$f":"IFERROR(IF(INDEX(Veri!$AN$31:$AN$500,MATCH(V177,Veri!$AS$31:$AS$500,0))<>\"\",INDEX(Veri!$AN$31:$AN$500,MATCH(V177,Veri!$AS$31:$AS$500,0)),\"\"),\"\")","v":""},{"$f":"IFERROR(IF(INDEX(Veri!$AO$31:$AO$500,MATCH(V177,Veri!$AS$31:$AS$500,0))<>\"\",INDEX(Veri!$AO$31:$AO$500,MATCH(V177,Veri!$AS$31:$AS$500,0)),\"\"),\"\")","v":""}]
[null,null,null,null,null,null,null,null,null,null,null,null,null,null,126,{"$f":"IFERROR(IF(INDEX(Veri!$AA$31:$AA$500,MATCH(O135,Veri!$AI$31:$AI$500,0))<>\"\",INDEX(Veri!$AA$31:$AA$500,MATCH(O135,Veri!$AI$31:$AI$500,0)),\"\"),\"\")","v":""},{"$f":"IFERROR(IF(INDEX(Veri!$AG$31:$AG$500,MATCH(O135,Veri!$AI$31:$AI$500,0))<>\"\",INDEX(Veri!$AG$31:$AG$500,MATCH(O135,Veri!$AI$31:$AI$500,0)),\"\"),\"\")","v":""},{"$f":"IFERROR(IF(INDEX(Veri!$AC$31:$AC$500,MATCH(O135,Veri!$AI$31:$AI$500,0))<>\"\",INDEX(Veri!$AC$31:$AC$500,MATCH(O135,Veri!$AI$31:$AI$500,0)),\"\"),\"\")","v":""},{"$f":"IFERROR(IF(INDEX(Veri!$AD$31:$AD$500,MATCH(O135,Veri!$AI$31:$AI$500,0))<>\"\",INDEX(Veri!$AD$31:$AD$500,MATCH(O135,Veri!$AI$31:$AI$500,0)),\"\"),\"\")","v":""},{"$f":"IFERROR(IF(INDEX(Veri!$AE$31:$AE$500,MATCH(O135,Veri!$AI$31:$AI$500,0))<>\"\",INDEX(Veri!$AE$31:$AE$500,MATCH(O135,Veri!$AI$31:$AI$500,0)),\"\"),\"\")","v":""},null,126,{"$f":"IFERROR(IF(INDEX(Veri!$AK$31:$AK$500,MATCH(V178,Veri!$AS$31:$AS$500,0))<>\"\",INDEX(Veri!$AK$31:$AK$500,MATCH(V178,Veri!$AS$31:$AS$500,0)),\"\"),\"\")","v":""},{"$f":"IFERROR(IF(INDEX(Veri!$AQ$31:$AQ$500,MATCH(V178,Veri!$AS$31:$AS$500,0))<>\"\",INDEX(Veri!$AQ$31:$AQ$500,MATCH(V178,Veri!$AS$31:$AS$500,0)),\"\"),\"\")","v":""},{"$f":"IFERROR(IF(INDEX(Veri!$AM$31:$AM$500,MATCH(V178,Veri!$AS$31:$AS$500,0))<>\"\",INDEX(Veri!$AM$31:$AM$500,MATCH(V178,Veri!$AS$31:$AS$500,0)),\"\"),\"\")","v":""},{"$f":"IFERROR(IF(INDEX(Veri!$AN$31:$AN$500,MATCH(V178,Veri!$AS$31:$AS$500,0))<>\"\",INDEX(Veri!$AN$31:$AN$500,MATCH(V178,Veri!$AS$31:$AS$500,0)),\"\"),\"\")","v":""},{"$f":"IFERROR(IF(INDEX(Veri!$AO$31:$AO$500,MATCH(V178,Veri!$AS$31:$AS$500,0))<>\"\",INDEX(Veri!$AO$31:$AO$500,MATCH(V178,Veri!$AS$31:$AS$500,0)),\"\"),\"\")","v":""}]
[null,null,null,null,null,null,null,null,null,null,null,null,null,null,127,{"$f":"IFERROR(IF(INDEX(Veri!$AA$31:$AA$500,MATCH(O136,Veri!$AI$31:$AI$500,0))<>\"\",INDEX(Veri!$AA$31:$AA$500,MATCH(O136,Veri!$AI$31:$AI$500,0)),\"\"),\"\")","v":""},{"$f":"IFERROR(IF(INDEX(Veri!$AG$31:$AG$500,MATCH(O136,Veri!$AI$31:$AI$500,0))<>\"\",INDEX(Veri!$AG$31:$AG$500,MATCH(O136,Veri!$AI$31:$AI$500,0)),\"\"),\"\")","v":""},{"$f":"IFERROR(IF(INDEX(Veri!$AC$31:$AC$500,MATCH(O136,Veri!$AI$31:$AI$500,0))<>\"\",INDEX(Veri!$AC$31:$AC$500,MATCH(O136,Veri!$AI$31:$AI$500,0)),\"\"),\"\")","v":""},{"$f":"IFERROR(IF(INDEX(Veri!$AD$31:$AD$500,MATCH(O136,Veri!$AI$31:$AI$500,0))<>\"\",INDEX(Veri!$AD$31:$AD$500,MATCH(O136,Veri!$AI$31:$AI$500,0)),\"\"),\"\")","v":""},{"$f":"IFERROR(IF(INDEX(Veri!$AE$31:$AE$500,MATCH(O136,Veri!$AI$31:$AI$500,0))<>\"\",INDEX(Veri!$AE$31:$AE$500,MATCH(O136,Veri!$AI$31:$AI$500,0)),\"\"),\"\")","v":""},null,127,{"$f":"IFERROR(IF(INDEX(Veri!$AK$31:$AK$500,MATCH(V179,Veri!$AS$31:$AS$500,0))<>\"\",INDEX(Veri!$AK$31:$AK$500,MATCH(V179,Veri!$AS$31:$AS$500,0)),\"\"),\"\")","v":""},{"$f":"IFERROR(IF(INDEX(Veri!$AQ$31:$AQ$500,MATCH(V179,Veri!$AS$31:$AS$500,0))<>\"\",INDEX(Veri!$AQ$31:$AQ$500,MATCH(V179,Veri!$AS$31:$AS$500,0)),\"\"),\"\")","v":""},{"$f":"IFERROR(IF(INDEX(Veri!$AM$31:$AM$500,MATCH(V179,Veri!$AS$31:$AS$500,0))<>\"\",INDEX(Veri!$AM$31:$AM$500,MATCH(V179,Veri!$AS$31:$AS$500,0)),\"\"),\"\")","v":""},{"$f":"IFERROR(IF(INDEX(Veri!$AN$31:$AN$500,MATCH(V179,Veri!$AS$31:$AS$500,0))<>\"\",INDEX(Veri!$AN$31:$AN$500,MATCH(V179,Veri!$AS$31:$AS$500,0)),\"\"),\"\")","v":""},{"$f":"IFERROR(IF(INDEX(Veri!$AO$31:$AO$500,MATCH(V179,Veri!$AS$31:$AS$500,0))<>\"\",INDEX(Veri!$AO$31:$AO$500,MATCH(V179,Veri!$AS$31:$AS$500,0)),\"\"),\"\")","v":""}]
[null,null,null,null,null,null,null,null,null,null,null,null,null,null,128,{"$f":"IFERROR(IF(INDEX(Veri!$AA$31:$AA$500,MATCH(O137,Veri!$AI$31:$AI$500,0))<>\"\",INDEX(Veri!$AA$31:$AA$500,MATCH(O137,Veri!$AI$31:$AI$500,0)),\"\"),\"\")","v":""},{"$f":"IFERROR(IF(INDEX(Veri!$AG$31:$AG$500,MATCH(O137,Veri!$AI$31:$AI$500,0))<>\"\",INDEX(Veri!$AG$31:$AG$500,MATCH(O137,Veri!$AI$31:$AI$500,0)),\"\"),\"\")","v":""},{"$f":"IFERROR(IF(INDEX(Veri!$AC$31:$AC$500,MATCH(O137,Veri!$AI$31:$AI$500,0))<>\"\",INDEX(Veri!$AC$31:$AC$500,MATCH(O137,Veri!$AI$31:$AI$500,0)),\"\"),\"\")","v":""},{"$f":"IFERROR(IF(INDEX(Veri!$AD$31:$AD$500,MATCH(O137,Veri!$AI$31:$AI$500,0))<>\"\",INDEX(Veri!$AD$31:$AD$500,MATCH(O137,Veri!$AI$31:$AI$500,0)),\"\"),\"\")","v":""},{"$f":"IFERROR(IF(INDEX(Veri!$AE$31:$AE$500,MATCH(O137,Veri!$AI$31:$AI$500,0))<>\"\",INDEX(Veri!$AE$31:$AE$500,MATCH(O137,Veri!$AI$31:$AI$500,0)),\"\"),\"\")","v":""},null,128,{"$f":"IFERROR(IF(INDEX(Veri!$AK$31:$AK$500,MATCH(V180,Veri!$AS$31:$AS$500,0))<>\"\",INDEX(Veri!$AK$31:$AK$500,MATCH(V180,Veri!$AS$31:$AS$500,0)),\"\"),\"\")","v":""},{"$f":"IFERROR(IF(INDEX(Veri!$AQ$31:$AQ$500,MATCH(V180,Veri!$AS$31:$AS$500,0))<>\"\",INDEX(Veri!$AQ$31:$AQ$500,MATCH(V180,Veri!$AS$31:$AS$500,0)),\"\"),\"\")","v":""},{"$f":"IFERROR(IF(INDEX(Veri!$AM$31:$AM$500,MATCH(V180,Veri!$AS$31:$AS$500,0))<>\"\",INDEX(Veri!$AM$31:$AM$500,MATCH(V180,Veri!$AS$31:$AS$500,0)),\"\"),\"\")","v":""},{"$f":"IFERROR(IF(INDEX(Veri!$AN$31:$AN$500,MATCH(V180,Veri!$AS$31:$AS$500,0))<>\"\",INDEX(Veri!$AN$31:$AN$500,MATCH(V180,Veri!$AS$31:$AS$500,0)),\"\"),\"\")","v":""},{"$f":"IFERROR(IF(INDEX(Veri!$AO$31:$AO$500,MATCH(V180,Veri!$AS$31:$AS$500,0))<>\"\",INDEX(Veri!$AO$31:$AO$500,MATCH(V180,Veri!$AS$31:$AS$500,0)),\"\"),\"\")","v":""}]
[null,null,null,null,null,null,null,null,null,null,null,null,null,null,129,{"$f":"IFERROR(IF(INDEX(Veri!$AA$31:$AA$500,MATCH(O138,Veri!$AI$31:$AI$500,0))<>\"\",INDEX(Veri!$AA$31:$AA$500,MATCH(O138,Veri!$AI$31:$AI$500,0)),\"\"),\"\")","v":""},{"$f":"IFERROR(IF(INDEX(Veri!$AG$31:$AG$500,MATCH(O138,Veri!$AI$31:$AI$500,0))<>\"\",INDEX(Veri!$AG$31:$AG$500,MATCH(O138,Veri!$AI$31:$AI$500,0)),\"\"),\"\")","v":""},{"$f":"IFERROR(IF(INDEX(Veri!$AC$31:$AC$500,MATCH(O138,Veri!$AI$31:$AI$500,0))<>\"\",INDEX(Veri!$AC$31:$AC$500,MATCH(O138,Veri!$AI$31:$AI$500,0)),\"\"),\"\")","v":""},{"$f":"IFERROR(IF(INDEX(Veri!$AD$31:$AD$500,MATCH(O138,Veri!$AI$31:$AI$500,0))<>\"\",INDEX(Veri!$AD$31:$AD$500,MATCH(O138,Veri!$AI$31:$AI$500,0)),\"\"),\"\")","v":""},{"$f":"IFERROR(IF(INDEX(Veri!$AE$31:$AE$500,MATCH(O138,Veri!$AI$31:$AI$500,0))<>\"\",INDEX(Veri!$AE$31:$AE$500,MATCH(O138,Veri!$AI$31:$AI$500,0)),\"\"),\"\")","v":""},null,129,{"$f":"IFERROR(IF(INDEX(Veri!$AK$31:$AK$500,MATCH(V181,Veri!$AS$31:$AS$500,0))<>\"\",INDEX(Veri!$AK$31:$AK$500,MATCH(V181,Veri!$AS$31:$AS$500,0)),\"\"),\"\")","v":""},{"$f":"IFERROR(IF(INDEX(Veri!$AQ$31:$AQ$500,MATCH(V181,Veri!$AS$31:$AS$500,0))<>\"\",INDEX(Veri!$AQ$31:$AQ$500,MATCH(V181,Veri!$AS$31:$AS$500,0)),\"\"),\"\")","v":""},{"$f":"IFERROR(IF(INDEX(Veri!$AM$31:$AM$500,MATCH(V181,Veri!$AS$31:$AS$500,0))<>\"\",INDEX(Veri!$AM$31:$AM$500,MATCH(V181,Veri!$AS$31:$AS$500,0)),\"\"),\"\")","v":""},{"$f":"IFERROR(IF(INDEX(Veri!$AN$31:$AN$500,MATCH(V181,Veri!$AS$31:$AS$500,0))<>\"\",INDEX(Veri!$AN$31:$AN$500,MATCH(V181,Veri!$AS$31:$AS$500,0)),\"\"),\"\")","v":""},{"$f":"IFERROR(IF(INDEX(Veri!$AO$31:$AO$500,MATCH(V181,Veri!$AS$31:$AS$500,0))<>\"\",INDEX(Veri!$AO$31:$AO$500,MATCH(V181,Veri!$AS$31:$AS$500,0)),\"\"),\"\")","v":""}]
[null,null,null,null,null,null,null,null,null,null,null,null,null,null,130,{"$f":"IFERROR(IF(INDEX(Veri!$AA$31:$AA$500,MATCH(O139,Veri!$AI$31:$AI$500,0))<>\"\",INDEX(Veri!$AA$31:$AA$500,MATCH(O139,Veri!$AI$31:$AI$500,0)),\"\"),\"\")","v":""},{"$f":"IFERROR(IF(INDEX(Veri!$AG$31:$AG$500,MATCH(O139,Veri!$AI$31:$AI$500,0))<>\"\",INDEX(Veri!$AG$31:$AG$500,MATCH(O139,Veri!$AI$31:$AI$500,0)),\"\"),\"\")","v":""},{"$f":"IFERROR(IF(INDEX(Veri!$AC$31:$AC$500,MATCH(O139,Veri!$AI$31:$AI$500,0))<>\"\",INDEX(Veri!$AC$31:$AC$500,MATCH(O139,Veri!$AI$31:$AI$500,0)),\"\"),\"\")","v":""},{"$f":"IFERROR(IF(INDEX(Veri!$AD$31:$AD$500,MATCH(O139,Veri!$AI$31:$AI$500,0))<>\"\",INDEX(Veri!$AD$31:$AD$500,MATCH(O139,Veri!$AI$31:$AI$500,0)),\"\"),\"\")","v":""},{"$f":"IFERROR(IF(INDEX(Veri!$AE$31:$AE$500,MATCH(O139,Veri!$AI$31:$AI$500,0))<>\"\",INDEX(Veri!$AE$31:$AE$500,MATCH(O139,Veri!$AI$31:$AI$500,0)),\"\"),\"\")","v":""},null,130,{"$f":"IFERROR(IF(INDEX(Veri!$AK$31:$AK$500,MATCH(V182,Veri!$AS$31:$AS$500,0))<>\"\",INDEX(Veri!$AK$31:$AK$500,MATCH(V182,Veri!$AS$31:$AS$500,0)),\"\"),\"\")","v":""},{"$f":"IFERROR(IF(INDEX(Veri!$AQ$31:$AQ$500,MATCH(V182,Veri!$AS$31:$AS$500,0))<>\"\",INDEX(Veri!$AQ$31:$AQ$500,MATCH(V182,Veri!$AS$31:$AS$500,0)),\"\"),\"\")","v":""},{"$f":"IFERROR(IF(INDEX(Veri!$AM$31:$AM$500,MATCH(V182,Veri!$AS$31:$AS$500,0))<>\"\",INDEX(Veri!$AM$31:$AM$500,MATCH(V182,Veri!$AS$31:$AS$500,0)),\"\"),\"\")","v":""},{"$f":"IFERROR(IF(INDEX(Veri!$AN$31:$AN$500,MATCH(V182,Veri!$AS$31:$AS$500,0))<>\"\",INDEX(Veri!$AN$31:$AN$500,MATCH(V182,Veri!$AS$31:$AS$500,0)),\"\"),\"\")","v":""},{"$f":"IFERROR(IF(INDEX(Veri!$AO$31:$AO$500,MATCH(V182,Veri!$AS$31:$AS$500,0))<>\"\",INDEX(Veri!$AO$31:$AO$500,MATCH(V182,Veri!$AS$31:$AS$500,0)),\"\"),\"\")","v":""}]
[null,null,null,null,null,null,null,null,null,null,null,null,null,null,131,{"$f":"IFERROR(IF(INDEX(Veri!$AA$31:$AA$500,MATCH(O140,Veri!$AI$31:$AI$500,0))<>\"\",INDEX(Veri!$AA$31:$AA$500,MATCH(O140,Veri!$AI$31:$AI$500,0)),\"\"),\"\")","v":""},{"$f":"IFERROR(IF(INDEX(Veri!$AG$31:$AG$500,MATCH(O140,Veri!$AI$31:$AI$500,0))<>\"\",INDEX(Veri!$AG$31:$AG$500,MATCH(O140,Veri!$AI$31:$AI$500,0)),\"\"),\"\")","v":""},{"$f":"IFERROR(IF(INDEX(Veri!$AC$31:$AC$500,MATCH(O140,Veri!$AI$31:$AI$500,0))<>\"\",INDEX(Veri!$AC$31:$AC$500,MATCH(O140,Veri!$AI$31:$AI$500,0)),\"\"),\"\")","v":""},{"$f":"IFERROR(IF(INDEX(Veri!$AD$31:$AD$500,MATCH(O140,Veri!$AI$31:$AI$500,0))<>\"\",INDEX(Veri!$AD$31:$AD$500,MATCH(O140,Veri!$AI$31:$AI$500,0)),\"\"),\"\")","v":""},{"$f":"IFERROR(IF(INDEX(Veri!$AE$31:$AE$500,MATCH(O140,Veri!$AI$31:$AI$500,0))<>\"\",INDEX(Veri!$AE$31:$AE$500,MATCH(O140,Veri!$AI$31:$AI$500,0)),\"\"),\"\")","v":""},null,131,{"$f":"IFERROR(IF(INDEX(Veri!$AK$31:$AK$500,MATCH(V183,Veri!$AS$31:$AS$500,0))<>\"\",INDEX(Veri!$AK$31:$AK$500,MATCH(V183,Veri!$AS$31:$AS$500,0)),\"\"),\"\")","v":""},{"$f":"IFERROR(IF(INDEX(Veri!$AQ$31:$AQ$500,MATCH(V183,Veri!$AS$31:$AS$500,0))<>\"\",INDEX(Veri!$AQ$31:$AQ$500,MATCH(V183,Veri!$AS$31:$AS$500,0)),\"\"),\"\")","v":""},{"$f":"IFERROR(IF(INDEX(Veri!$AM$31:$AM$500,MATCH(V183,Veri!$AS$31:$AS$500,0))<>\"\",INDEX(Veri!$AM$31:$AM$500,MATCH(V183,Veri!$AS$31:$AS$500,0)),\"\"),\"\")","v":""},{"$f":"IFERROR(IF(INDEX(Veri!$AN$31:$AN$500,MATCH(V183,Veri!$AS$31:$AS$500,0))<>\"\",INDEX(Veri!$AN$31:$AN$500,MATCH(V183,Veri!$AS$31:$AS$500,0)),\"\"),\"\")","v":""},{"$f":"IFERROR(IF(INDEX(Veri!$AO$31:$AO$500,MATCH(V183,Veri!$AS$31:$AS$500,0))<>\"\",INDEX(Veri!$AO$31:$AO$500,MATCH(V183,Veri!$AS$31:$AS$500,0)),\"\"),\"\")","v":""}]
[null,null,null,null,null,null,null,null,null,null,null,null,null,null,132,{"$f":"IFERROR(IF(INDEX(Veri!$AA$31:$AA$500,MATCH(O141,Veri!$AI$31:$AI$500,0))<>\"\",INDEX(Veri!$AA$31:$AA$500,MATCH(O141,Veri!$AI$31:$AI$500,0)),\"\"),\"\")","v":""},{"$f":"IFERROR(IF(INDEX(Veri!$AG$31:$AG$500,MATCH(O141,Veri!$AI$31:$AI$500,0))<>\"\",INDEX(Veri!$AG$31:$AG$500,MATCH(O141,Veri!$AI$31:$AI$500,0)),\"\"),\"\")","v":""},{"$f":"IFERROR(IF(INDEX(Veri!$AC$31:$AC$500,MATCH(O141,Veri!$AI$31:$AI$500,0))<>\"\",INDEX(Veri!$AC$31:$AC$500,MATCH(O141,Veri!$AI$31:$AI$500,0)),\"\"),\"\")","v":""},{"$f":"IFERROR(IF(INDEX(Veri!$AD$31:$AD$500,MATCH(O141,Veri!$AI$31:$AI$500,0))<>\"\",INDEX(Veri!$AD$31:$AD$500,MATCH(O141,Veri!$AI$31:$AI$500,0)),\"\"),\"\")","v":""},{"$f":"IFERROR(IF(INDEX(Veri!$AE$31:$AE$500,MATCH(O141,Veri!$AI$31:$AI$500,0))<>\"\",INDEX(Veri!$AE$31:$AE$500,MATCH(O141,Veri!$AI$31:$AI$500,0)),\"\"),\"\")","v":""},null,132,{"$f":"IFERROR(IF(INDEX(Veri!$AK$31:$AK$500,MATCH(V184,Veri!$AS$31:$AS$500,0))<>\"\",INDEX(Veri!$AK$31:$AK$500,MATCH(V184,Veri!$AS$31:$AS$500,0)),\"\"),\"\")","v":""},{"$f":"IFERROR(IF(INDEX(Veri!$AQ$31:$AQ$500,MATCH(V184,Veri!$AS$31:$AS$500,0))<>\"\",INDEX(Veri!$AQ$31:$AQ$500,MATCH(V184,Veri!$AS$31:$AS$500,0)),\"\"),\"\")","v":""},{"$f":"IFERROR(IF(INDEX(Veri!$AM$31:$AM$500,MATCH(V184,Veri!$AS$31:$AS$500,0))<>\"\",INDEX(Veri!$AM$31:$AM$500,MATCH(V184,Veri!$AS$31:$AS$500,0)),\"\"),\"\")","v":""},{"$f":"IFERROR(IF(INDEX(Veri!$AN$31:$AN$500,MATCH(V184,Veri!$AS$31:$AS$500,0))<>\"\",INDEX(Veri!$AN$31:$AN$500,MATCH(V184,Veri!$AS$31:$AS$500,0)),\"\"),\"\")","v":""},{"$f":"IFERROR(IF(INDEX(Veri!$AO$31:$AO$500,MATCH(V184,Veri!$AS$31:$AS$500,0))<>\"\",INDEX(Veri!$AO$31:$AO$500,MATCH(V184,Veri!$AS$31:$AS$500,0)),\"\"),\"\")","v":""}]
[null,null,null,null,null,null,null,null,null,null,null,null,null,null,133,{"$f":"IFERROR(IF(INDEX(Veri!$AA$31:$AA$500,MATCH(O142,Veri!$AI$31:$AI$500,0))<>\"\",INDEX(Veri!$AA$31:$AA$500,MATCH(O142,Veri!$AI$31:$AI$500,0)),\"\"),\"\")","v":""},{"$f":"IFERROR(IF(INDEX(Veri!$AG$31:$AG$500,MATCH(O142,Veri!$AI$31:$AI$500,0))<>\"\",INDEX(Veri!$AG$31:$AG$500,MATCH(O142,Veri!$AI$31:$AI$500,0)),\"\"),\"\")","v":""},{"$f":"IFERROR(IF(INDEX(Veri!$AC$31:$AC$500,MATCH(O142,Veri!$AI$31:$AI$500,0))<>\"\",INDEX(Veri!$AC$31:$AC$500,MATCH(O142,Veri!$AI$31:$AI$500,0)),\"\"),\"\")","v":""},{"$f":"IFERROR(IF(INDEX(Veri!$AD$31:$AD$500,MATCH(O142,Veri!$AI$31:$AI$500,0))<>\"\",INDEX(Veri!$AD$31:$AD$500,MATCH(O142,Veri!$AI$31:$AI$500,0)),\"\"),\"\")","v":""},{"$f":"IFERROR(IF(INDEX(Veri!$AE$31:$AE$500,MATCH(O142,Veri!$AI$31:$AI$500,0))<>\"\",INDEX(Veri!$AE$31:$AE$500,MATCH(O142,Veri!$AI$31:$AI$500,0)),\"\"),\"\")","v":""},null,133,{"$f":"IFERROR(IF(INDEX(Veri!$AK$31:$AK$500,MATCH(V185,Veri!$AS$31:$AS$500,0))<>\"\",INDEX(Veri!$AK$31:$AK$500,MATCH(V185,Veri!$AS$31:$AS$500,0)),\"\"),\"\")","v":""},{"$f":"IFERROR(IF(INDEX(Veri!$AQ$31:$AQ$500,MATCH(V185,Veri!$AS$31:$AS$500,0))<>\"\",INDEX(Veri!$AQ$31:$AQ$500,MATCH(V185,Veri!$AS$31:$AS$500,0)),\"\"),\"\")","v":""},{"$f":"IFERROR(IF(INDEX(Veri!$AM$31:$AM$500,MATCH(V185,Veri!$AS$31:$AS$500,0))<>\"\",INDEX(Veri!$AM$31:$AM$500,MATCH(V185,Veri!$AS$31:$AS$500,0)),\"\"),\"\")","v":""},{"$f":"IFERROR(IF(INDEX(Veri!$AN$31:$AN$500,MATCH(V185,Veri!$AS$31:$AS$500,0))<>\"\",INDEX(Veri!$AN$31:$AN$500,MATCH(V185,Veri!$AS$31:$AS$500,0)),\"\"),\"\")","v":""},{"$f":"IFERROR(IF(INDEX(Veri!$AO$31:$AO$500,MATCH(V185,Veri!$AS$31:$AS$500,0))<>\"\",INDEX(Veri!$AO$31:$AO$500,MATCH(V185,Veri!$AS$31:$AS$500,0)),\"\"),\"\")","v":""}]
[null,null,null,null,null,null,null,null,null,null,null,null,null,null,134,{"$f":"IFERROR(IF(INDEX(Veri!$AA$31:$AA$500,MATCH(O143,Veri!$AI$31:$AI$500,0))<>\"\",INDEX(Veri!$AA$31:$AA$500,MATCH(O143,Veri!$AI$31:$AI$500,0)),\"\"),\"\")","v":""},{"$f":"IFERROR(IF(INDEX(Veri!$AG$31:$AG$500,MATCH(O143,Veri!$AI$31:$AI$500,0))<>\"\",INDEX(Veri!$AG$31:$AG$500,MATCH(O143,Veri!$AI$31:$AI$500,0)),\"\"),\"\")","v":""},{"$f":"IFERROR(IF(INDEX(Veri!$AC$31:$AC$500,MATCH(O143,Veri!$AI$31:$AI$500,0))<>\"\",INDEX(Veri!$AC$31:$AC$500,MATCH(O143,Veri!$AI$31:$AI$500,0)),\"\"),\"\")","v":""},{"$f":"IFERROR(IF(INDEX(Veri!$AD$31:$AD$500,MATCH(O143,Veri!$AI$31:$AI$500,0))<>\"\",INDEX(Veri!$AD$31:$AD$500,MATCH(O143,Veri!$AI$31:$AI$500,0)),\"\"),\"\")","v":""},{"$f":"IFERROR(IF(INDEX(Veri!$AE$31:$AE$500,MATCH(O143,Veri!$AI$31:$AI$500,0))<>\"\",INDEX(Veri!$AE$31:$AE$500,MATCH(O143,Veri!$AI$31:$AI$500,0)),\"\"),\"\")","v":""},null,134,{"$f":"IFERROR(IF(INDEX(Veri!$AK$31:$AK$500,MATCH(V186,Veri!$AS$31:$AS$500,0))<>\"\",INDEX(Veri!$AK$31:$AK$500,MATCH(V186,Veri!$AS$31:$AS$500,0)),\"\"),\"\")","v":""},{"$f":"IFERROR(IF(INDEX(Veri!$AQ$31:$AQ$500,MATCH(V186,Veri!$AS$31:$AS$500,0))<>\"\",INDEX(Veri!$AQ$31:$AQ$500,MATCH(V186,Veri!$AS$31:$AS$500,0)),\"\"),\"\")","v":""},{"$f":"IFERROR(IF(INDEX(Veri!$AM$31:$AM$500,MATCH(V186,Veri!$AS$31:$AS$500,0))<>\"\",INDEX(Veri!$AM$31:$AM$500,MATCH(V186,Veri!$AS$31:$AS$500,0)),\"\"),\"\")","v":""},{"$f":"IFERROR(IF(INDEX(Veri!$AN$31:$AN$500,MATCH(V186,Veri!$AS$31:$AS$500,0))<>\"\",INDEX(Veri!$AN$31:$AN$500,MATCH(V186,Veri!$AS$31:$AS$500,0)),\"\"),\"\")","v":""},{"$f":"IFERROR(IF(INDEX(Veri!$AO$31:$AO$500,MATCH(V186,Veri!$AS$31:$AS$500,0))<>\"\",INDEX(Veri!$AO$31:$AO$500,MATCH(V186,Veri!$AS$31:$AS$500,0)),\"\"),\"\")","v":""}]
[null,null,null,null,null,null,null,null,null,null,null,null,null,null,135,{"$f":"IFERROR(IF(INDEX(Veri!$AA$31:$AA$500,MATCH(O144,Veri!$AI$31:$AI$500,0))<>\"\",INDEX(Veri!$AA$31:$AA$500,MATCH(O144,Veri!$AI$31:$AI$500,0)),\"\"),\"\")","v":""},{"$f":"IFERROR(IF(INDEX(Veri!$AG$31:$AG$500,MATCH(O144,Veri!$AI$31:$AI$500,0))<>\"\",INDEX(Veri!$AG$31:$AG$500,MATCH(O144,Veri!$AI$31:$AI$500,0)),\"\"),\"\")","v":""},{"$f":"IFERROR(IF(INDEX(Veri!$AC$31:$AC$500,MATCH(O144,Veri!$AI$31:$AI$500,0))<>\"\",INDEX(Veri!$AC$31:$AC$500,MATCH(O144,Veri!$AI$31:$AI$500,0)),\"\"),\"\")","v":""},{"$f":"IFERROR(IF(INDEX(Veri!$AD$31:$AD$500,MATCH(O144,Veri!$AI$31:$AI$500,0))<>\"\",INDEX(Veri!$AD$31:$AD$500,MATCH(O144,Veri!$AI$31:$AI$500,0)),\"\"),\"\")","v":""},{"$f":"IFERROR(IF(INDEX(Veri!$AE$31:$AE$500,MATCH(O144,Veri!$AI$31:$AI$500,0))<>\"\",INDEX(Veri!$AE$31:$AE$500,MATCH(O144,Veri!$AI$31:$AI$500,0)),\"\"),\"\")","v":""},null,135,{"$f":"IFERROR(IF(INDEX(Veri!$AK$31:$AK$500,MATCH(V187,Veri!$AS$31:$AS$500,0))<>\"\",INDEX(Veri!$AK$31:$AK$500,MATCH(V187,Veri!$AS$31:$AS$500,0)),\"\"),\"\")","v":""},{"$f":"IFERROR(IF(INDEX(Veri!$AQ$31:$AQ$500,MATCH(V187,Veri!$AS$31:$AS$500,0))<>\"\",INDEX(Veri!$AQ$31:$AQ$500,MATCH(V187,Veri!$AS$31:$AS$500,0)),\"\"),\"\")","v":""},{"$f":"IFERROR(IF(INDEX(Veri!$AM$31:$AM$500,MATCH(V187,Veri!$AS$31:$AS$500,0))<>\"\",INDEX(Veri!$AM$31:$AM$500,MATCH(V187,Veri!$AS$31:$AS$500,0)),\"\"),\"\")","v":""},{"$f":"IFERROR(IF(INDEX(Veri!$AN$31:$AN$500,MATCH(V187,Veri!$AS$31:$AS$500,0))<>\"\",INDEX(Veri!$AN$31:$AN$500,MATCH(V187,Veri!$AS$31:$AS$500,0)),\"\"),\"\")","v":""},{"$f":"IFERROR(IF(INDEX(Veri!$AO$31:$AO$500,MATCH(V187,Veri!$AS$31:$AS$500,0))<>\"\",INDEX(Veri!$AO$31:$AO$500,MATCH(V187,Veri!$AS$31:$AS$500,0)),\"\"),\"\")","v":""}]
[null,null,null,null,null,null,null,null,null,null,null,null,null,null,136,{"$f":"IFERROR(IF(INDEX(Veri!$AA$31:$AA$500,MATCH(O145,Veri!$AI$31:$AI$500,0))<>\"\",INDEX(Veri!$AA$31:$AA$500,MATCH(O145,Veri!$AI$31:$AI$500,0)),\"\"),\"\")","v":""},{"$f":"IFERROR(IF(INDEX(Veri!$AG$31:$AG$500,MATCH(O145,Veri!$AI$31:$AI$500,0))<>\"\",INDEX(Veri!$AG$31:$AG$500,MATCH(O145,Veri!$AI$31:$AI$500,0)),\"\"),\"\")","v":""},{"$f":"IFERROR(IF(INDEX(Veri!$AC$31:$AC$500,MATCH(O145,Veri!$AI$31:$AI$500,0))<>\"\",INDEX(Veri!$AC$31:$AC$500,MATCH(O145,Veri!$AI$31:$AI$500,0)),\"\"),\"\")","v":""},{"$f":"IFERROR(IF(INDEX(Veri!$AD$31:$AD$500,MATCH(O145,Veri!$AI$31:$AI$500,0))<>\"\",INDEX(Veri!$AD$31:$AD$500,MATCH(O145,Veri!$AI$31:$AI$500,0)),\"\"),\"\")","v":""},{"$f":"IFERROR(IF(INDEX(Veri!$AE$31:$AE$500,MATCH(O145,Veri!$AI$31:$AI$500,0))<>\"\",INDEX(Veri!$AE$31:$AE$500,MATCH(O145,Veri!$AI$31:$AI$500,0)),\"\"),\"\")","v":""},null,136,{"$f":"IFERROR(IF(INDEX(Veri!$AK$31:$AK$500,MATCH(V188,Veri!$AS$31:$AS$500,0))<>\"\",INDEX(Veri!$AK$31:$AK$500,MATCH(V188,Veri!$AS$31:$AS$500,0)),\"\"),\"\")","v":""},{"$f":"IFERROR(IF(INDEX(Veri!$AQ$31:$AQ$500,MATCH(V188,Veri!$AS$31:$AS$500,0))<>\"\",INDEX(Veri!$AQ$31:$AQ$500,MATCH(V188,Veri!$AS$31:$AS$500,0)),\"\"),\"\")","v":""},{"$f":"IFERROR(IF(INDEX(Veri!$AM$31:$AM$500,MATCH(V188,Veri!$AS$31:$AS$500,0))<>\"\",INDEX(Veri!$AM$31:$AM$500,MATCH(V188,Veri!$AS$31:$AS$500,0)),\"\"),\"\")","v":""},{"$f":"IFERROR(IF(INDEX(Veri!$AN$31:$AN$500,MATCH(V188,Veri!$AS$31:$AS$500,0))<>\"\",INDEX(Veri!$AN$31:$AN$500,MATCH(V188,Veri!$AS$31:$AS$500,0)),\"\"),\"\")","v":""},{"$f":"IFERROR(IF(INDEX(Veri!$AO$31:$AO$500,MATCH(V188,Veri!$AS$31:$AS$500,0))<>\"\",INDEX(Veri!$AO$31:$AO$500,MATCH(V188,Veri!$AS$31:$AS$500,0)),\"\"),\"\")","v":""}]
[null,null,null,null,null,null,null,null,null,null,null,null,null,null,137,{"$f":"IFERROR(IF(INDEX(Veri!$AA$31:$AA$500,MATCH(O146,Veri!$AI$31:$AI$500,0))<>\"\",INDEX(Veri!$AA$31:$AA$500,MATCH(O146,Veri!$AI$31:$AI$500,0)),\"\"),\"\")","v":""},{"$f":"IFERROR(IF(INDEX(Veri!$AG$31:$AG$500,MATCH(O146,Veri!$AI$31:$AI$500,0))<>\"\",INDEX(Veri!$AG$31:$AG$500,MATCH(O146,Veri!$AI$31:$AI$500,0)),\"\"),\"\")","v":""},{"$f":"IFERROR(IF(INDEX(Veri!$AC$31:$AC$500,MATCH(O146,Veri!$AI$31:$AI$500,0))<>\"\",INDEX(Veri!$AC$31:$AC$500,MATCH(O146,Veri!$AI$31:$AI$500,0)),\"\"),\"\")","v":""},{"$f":"IFERROR(IF(INDEX(Veri!$AD$31:$AD$500,MATCH(O146,Veri!$AI$31:$AI$500,0))<>\"\",INDEX(Veri!$AD$31:$AD$500,MATCH(O146,Veri!$AI$31:$AI$500,0)),\"\"),\"\")","v":""},{"$f":"IFERROR(IF(INDEX(Veri!$AE$31:$AE$500,MATCH(O146,Veri!$AI$31:$AI$500,0))<>\"\",INDEX(Veri!$AE$31:$AE$500,MATCH(O146,Veri!$AI$31:$AI$500,0)),\"\"),\"\")","v":""},null,137,{"$f":"IFERROR(IF(INDEX(Veri!$AK$31:$AK$500,MATCH(V189,Veri!$AS$31:$AS$500,0))<>\"\",INDEX(Veri!$AK$31:$AK$500,MATCH(V189,Veri!$AS$31:$AS$500,0)),\"\"),\"\")","v":""},{"$f":"IFERROR(IF(INDEX(Veri!$AQ$31:$AQ$500,MATCH(V189,Veri!$AS$31:$AS$500,0))<>\"\",INDEX(Veri!$AQ$31:$AQ$500,MATCH(V189,Veri!$AS$31:$AS$500,0)),\"\"),\"\")","v":""},{"$f":"IFERROR(IF(INDEX(Veri!$AM$31:$AM$500,MATCH(V189,Veri!$AS$31:$AS$500,0))<>\"\",INDEX(Veri!$AM$31:$AM$500,MATCH(V189,Veri!$AS$31:$AS$500,0)),\"\"),\"\")","v":""},{"$f":"IFERROR(IF(INDEX(Veri!$AN$31:$AN$500,MATCH(V189,Veri!$AS$31:$AS$500,0))<>\"\",INDEX(Veri!$AN$31:$AN$500,MATCH(V189,Veri!$AS$31:$AS$500,0)),\"\"),\"\")","v":""},{"$f":"IFERROR(IF(INDEX(Veri!$AO$31:$AO$500,MATCH(V189,Veri!$AS$31:$AS$500,0))<>\"\",INDEX(Veri!$AO$31:$AO$500,MATCH(V189,Veri!$AS$31:$AS$500,0)),\"\"),\"\")","v":""}]
[null,null,null,null,null,null,null,null,null,null,null,null,null,null,138,{"$f":"IFERROR(IF(INDEX(Veri!$AA$31:$AA$500,MATCH(O147,Veri!$AI$31:$AI$500,0))<>\"\",INDEX(Veri!$AA$31:$AA$500,MATCH(O147,Veri!$AI$31:$AI$500,0)),\"\"),\"\")","v":""},{"$f":"IFERROR(IF(INDEX(Veri!$AG$31:$AG$500,MATCH(O147,Veri!$AI$31:$AI$500,0))<>\"\",INDEX(Veri!$AG$31:$AG$500,MATCH(O147,Veri!$AI$31:$AI$500,0)),\"\"),\"\")","v":""},{"$f":"IFERROR(IF(INDEX(Veri!$AC$31:$AC$500,MATCH(O147,Veri!$AI$31:$AI$500,0))<>\"\",INDEX(Veri!$AC$31:$AC$500,MATCH(O147,Veri!$AI$31:$AI$500,0)),\"\"),\"\")","v":""},{"$f":"IFERROR(IF(INDEX(Veri!$AD$31:$AD$500,MATCH(O147,Veri!$AI$31:$AI$500,0))<>\"\",INDEX(Veri!$AD$31:$AD$500,MATCH(O147,Veri!$AI$31:$AI$500,0)),\"\"),\"\")","v":""},{"$f":"IFERROR(IF(INDEX(Veri!$AE$31:$AE$500,MATCH(O147,Veri!$AI$31:$AI$500,0))<>\"\",INDEX(Veri!$AE$31:$AE$500,MATCH(O147,Veri!$AI$31:$AI$500,0)),\"\"),\"\")","v":""},null,138,{"$f":"IFERROR(IF(INDEX(Veri!$AK$31:$AK$500,MATCH(V190,Veri!$AS$31:$AS$500,0))<>\"\",INDEX(Veri!$AK$31:$AK$500,MATCH(V190,Veri!$AS$31:$AS$500,0)),\"\"),\"\")","v":""},{"$f":"IFERROR(IF(INDEX(Veri!$AQ$31:$AQ$500,MATCH(V190,Veri!$AS$31:$AS$500,0))<>\"\",INDEX(Veri!$AQ$31:$AQ$500,MATCH(V190,Veri!$AS$31:$AS$500,0)),\"\"),\"\")","v":""},{"$f":"IFERROR(IF(INDEX(Veri!$AM$31:$AM$500,MATCH(V190,Veri!$AS$31:$AS$500,0))<>\"\",INDEX(Veri!$AM$31:$AM$500,MATCH(V190,Veri!$AS$31:$AS$500,0)),\"\"),\"\")","v":""},{"$f":"IFERROR(IF(INDEX(Veri!$AN$31:$AN$500,MATCH(V190,Veri!$AS$31:$AS$500,0))<>\"\",INDEX(Veri!$AN$31:$AN$500,MATCH(V190,Veri!$AS$31:$AS$500,0)),\"\"),\"\")","v":""},{"$f":"IFERROR(IF(INDEX(Veri!$AO$31:$AO$500,MATCH(V190,Veri!$AS$31:$AS$500,0))<>\"\",INDEX(Veri!$AO$31:$AO$500,MATCH(V190,Veri!$AS$31:$AS$500,0)),\"\"),\"\")","v":""}]
[null,null,null,null,null,null,null,null,null,null,null,null,null,null,139,{"$f":"IFERROR(IF(INDEX(Veri!$AA$31:$AA$500,MATCH(O148,Veri!$AI$31:$AI$500,0))<>\"\",INDEX(Veri!$AA$31:$AA$500,MATCH(O148,Veri!$AI$31:$AI$500,0)),\"\"),\"\")","v":""},{"$f":"IFERROR(IF(INDEX(Veri!$AG$31:$AG$500,MATCH(O148,Veri!$AI$31:$AI$500,0))<>\"\",INDEX(Veri!$AG$31:$AG$500,MATCH(O148,Veri!$AI$31:$AI$500,0)),\"\"),\"\")","v":""},{"$f":"IFERROR(IF(INDEX(Veri!$AC$31:$AC$500,MATCH(O148,Veri!$AI$31:$AI$500,0))<>\"\",INDEX(Veri!$AC$31:$AC$500,MATCH(O148,Veri!$AI$31:$AI$500,0)),\"\"),\"\")","v":""},{"$f":"IFERROR(IF(INDEX(Veri!$AD$31:$AD$500,MATCH(O148,Veri!$AI$31:$AI$500,0))<>\"\",INDEX(Veri!$AD$31:$AD$500,MATCH(O148,Veri!$AI$31:$AI$500,0)),\"\"),\"\")","v":""},{"$f":"IFERROR(IF(INDEX(Veri!$AE$31:$AE$500,MATCH(O148,Veri!$AI$31:$AI$500,0))<>\"\",INDEX(Veri!$AE$31:$AE$500,MATCH(O148,Veri!$AI$31:$AI$500,0)),\"\"),\"\")","v":""},null,139,{"$f":"IFERROR(IF(INDEX(Veri!$AK$31:$AK$500,MATCH(V191,Veri!$AS$31:$AS$500,0))<>\"\",INDEX(Veri!$AK$31:$AK$500,MATCH(V191,Veri!$AS$31:$AS$500,0)),\"\"),\"\")","v":""},{"$f":"IFERROR(IF(INDEX(Veri!$AQ$31:$AQ$500,MATCH(V191,Veri!$AS$31:$AS$500,0))<>\"\",INDEX(Veri!$AQ$31:$AQ$500,MATCH(V191,Veri!$AS$31:$AS$500,0)),\"\"),\"\")","v":""},{"$f":"IFERROR(IF(INDEX(Veri!$AM$31:$AM$500,MATCH(V191,Veri!$AS$31:$AS$500,0))<>\"\",INDEX(Veri!$AM$31:$AM$500,MATCH(V191,Veri!$AS$31:$AS$500,0)),\"\"),\"\")","v":""},{"$f":"IFERROR(IF(INDEX(Veri!$AN$31:$AN$500,MATCH(V191,Veri!$AS$31:$AS$500,0))<>\"\",INDEX(Veri!$AN$31:$AN$500,MATCH(V191,Veri!$AS$31:$AS$500,0)),\"\"),\"\")","v":""},{"$f":"IFERROR(IF(INDEX(Veri!$AO$31:$AO$500,MATCH(V191,Veri!$AS$31:$AS$500,0))<>\"\",INDEX(Veri!$AO$31:$AO$500,MATCH(V191,Veri!$AS$31:$AS$500,0)),\"\"),\"\")","v":""}]
[null,null,null,null,null,null,null,null,null,null,null,null,null,null,140,{"$f":"IFERROR(IF(INDEX(Veri!$AA$31:$AA$500,MATCH(O149,Veri!$AI$31:$AI$500,0))<>\"\",INDEX(Veri!$AA$31:$AA$500,MATCH(O149,Veri!$AI$31:$AI$500,0)),\"\"),\"\")","v":""},{"$f":"IFERROR(IF(INDEX(Veri!$AG$31:$AG$500,MATCH(O149,Veri!$AI$31:$AI$500,0))<>\"\",INDEX(Veri!$AG$31:$AG$500,MATCH(O149,Veri!$AI$31:$AI$500,0)),\"\"),\"\")","v":""},{"$f":"IFERROR(IF(INDEX(Veri!$AC$31:$AC$500,MATCH(O149,Veri!$AI$31:$AI$500,0))<>\"\",INDEX(Veri!$AC$31:$AC$500,MATCH(O149,Veri!$AI$31:$AI$500,0)),\"\"),\"\")","v":""},{"$f":"IFERROR(IF(INDEX(Veri!$AD$31:$AD$500,MATCH(O149,Veri!$AI$31:$AI$500,0))<>\"\",INDEX(Veri!$AD$31:$AD$500,MATCH(O149,Veri!$AI$31:$AI$500,0)),\"\"),\"\")","v":""},{"$f":"IFERROR(IF(INDEX(Veri!$AE$31:$AE$500,MATCH(O149,Veri!$AI$31:$AI$500,0))<>\"\",INDEX(Veri!$AE$31:$AE$500,MATCH(O149,Veri!$AI$31:$AI$500,0)),\"\"),\"\")","v":""},null,140,{"$f":"IFERROR(IF(INDEX(Veri!$AK$31:$AK$500,MATCH(V192,Veri!$AS$31:$AS$500,0))<>\"\",INDEX(Veri!$AK$31:$AK$500,MATCH(V192,Veri!$AS$31:$AS$500,0)),\"\"),\"\")","v":""},{"$f":"IFERROR(IF(INDEX(Veri!$AQ$31:$AQ$500,MATCH(V192,Veri!$AS$31:$AS$500,0))<>\"\",INDEX(Veri!$AQ$31:$AQ$500,MATCH(V192,Veri!$AS$31:$AS$500,0)),\"\"),\"\")","v":""},{"$f":"IFERROR(IF(INDEX(Veri!$AM$31:$AM$500,MATCH(V192,Veri!$AS$31:$AS$500,0))<>\"\",INDEX(Veri!$AM$31:$AM$500,MATCH(V192,Veri!$AS$31:$AS$500,0)),\"\"),\"\")","v":""},{"$f":"IFERROR(IF(INDEX(Veri!$AN$31:$AN$500,MATCH(V192,Veri!$AS$31:$AS$500,0))<>\"\",INDEX(Veri!$AN$31:$AN$500,MATCH(V192,Veri!$AS$31:$AS$500,0)),\"\"),\"\")","v":""},{"$f":"IFERROR(IF(INDEX(Veri!$AO$31:$AO$500,MATCH(V192,Veri!$AS$31:$AS$500,0))<>\"\",INDEX(Veri!$AO$31:$AO$500,MATCH(V192,Veri!$AS$31:$AS$500,0)),\"\"),\"\")","v":""}]
[null,null,null,null,null,null,null,null,null,null,null,null,null,null,141,{"$f":"IFERROR(IF(INDEX(Veri!$AA$31:$AA$500,MATCH(O150,Veri!$AI$31:$AI$500,0))<>\"\",INDEX(Veri!$AA$31:$AA$500,MATCH(O150,Veri!$AI$31:$AI$500,0)),\"\"),\"\")","v":""},{"$f":"IFERROR(IF(INDEX(Veri!$AG$31:$AG$500,MATCH(O150,Veri!$AI$31:$AI$500,0))<>\"\",INDEX(Veri!$AG$31:$AG$500,MATCH(O150,Veri!$AI$31:$AI$500,0)),\"\"),\"\")","v":""},{"$f":"IFERROR(IF(INDEX(Veri!$AC$31:$AC$500,MATCH(O150,Veri!$AI$31:$AI$500,0))<>\"\",INDEX(Veri!$AC$31:$AC$500,MATCH(O150,Veri!$AI$31:$AI$500,0)),\"\"),\"\")","v":""},{"$f":"IFERROR(IF(INDEX(Veri!$AD$31:$AD$500,MATCH(O150,Veri!$AI$31:$AI$500,0))<>\"\",INDEX(Veri!$AD$31:$AD$500,MATCH(O150,Veri!$AI$31:$AI$500,0)),\"\"),\"\")","v":""},{"$f":"IFERROR(IF(INDEX(Veri!$AE$31:$AE$500,MATCH(O150,Veri!$AI$31:$AI$500,0))<>\"\",INDEX(Veri!$AE$31:$AE$500,MATCH(O150,Veri!$AI$31:$AI$500,0)),\"\"),\"\")","v":""},null,141,{"$f":"IFERROR(IF(INDEX(Veri!$AK$31:$AK$500,MATCH(V193,Veri!$AS$31:$AS$500,0))<>\"\",INDEX(Veri!$AK$31:$AK$500,MATCH(V193,Veri!$AS$31:$AS$500,0)),\"\"),\"\")","v":""},{"$f":"IFERROR(IF(INDEX(Veri!$AQ$31:$AQ$500,MATCH(V193,Veri!$AS$31:$AS$500,0))<>\"\",INDEX(Veri!$AQ$31:$AQ$500,MATCH(V193,Veri!$AS$31:$AS$500,0)),\"\"),\"\")","v":""},{"$f":"IFERROR(IF(INDEX(Veri!$AM$31:$AM$500,MATCH(V193,Veri!$AS$31:$AS$500,0))<>\"\",INDEX(Veri!$AM$31:$AM$500,MATCH(V193,Veri!$AS$31:$AS$500,0)),\"\"),\"\")","v":""},{"$f":"IFERROR(IF(INDEX(Veri!$AN$31:$AN$500,MATCH(V193,Veri!$AS$31:$AS$500,0))<>\"\",INDEX(Veri!$AN$31:$AN$500,MATCH(V193,Veri!$AS$31:$AS$500,0)),\"\"),\"\")","v":""},{"$f":"IFERROR(IF(INDEX(Veri!$AO$31:$AO$500,MATCH(V193,Veri!$AS$31:$AS$500,0))<>\"\",INDEX(Veri!$AO$31:$AO$500,MATCH(V193,Veri!$AS$31:$AS$500,0)),\"\"),\"\")","v":""}]
[null,null,null,null,null,null,null,null,null,null,null,null,null,null,142,{"$f":"IFERROR(IF(INDEX(Veri!$AA$31:$AA$500,MATCH(O151,Veri!$AI$31:$AI$500,0))<>\"\",INDEX(Veri!$AA$31:$AA$500,MATCH(O151,Veri!$AI$31:$AI$500,0)),\"\"),\"\")","v":""},{"$f":"IFERROR(IF(INDEX(Veri!$AG$31:$AG$500,MATCH(O151,Veri!$AI$31:$AI$500,0))<>\"\",INDEX(Veri!$AG$31:$AG$500,MATCH(O151,Veri!$AI$31:$AI$500,0)),\"\"),\"\")","v":""},{"$f":"IFERROR(IF(INDEX(Veri!$AC$31:$AC$500,MATCH(O151,Veri!$AI$31:$AI$500,0))<>\"\",INDEX(Veri!$AC$31:$AC$500,MATCH(O151,Veri!$AI$31:$AI$500,0)),\"\"),\"\")","v":""},{"$f":"IFERROR(IF(INDEX(Veri!$AD$31:$AD$500,MATCH(O151,Veri!$AI$31:$AI$500,0))<>\"\",INDEX(Veri!$AD$31:$AD$500,MATCH(O151,Veri!$AI$31:$AI$500,0)),\"\"),\"\")","v":""},{"$f":"IFERROR(IF(INDEX(Veri!$AE$31:$AE$500,MATCH(O151,Veri!$AI$31:$AI$500,0))<>\"\",INDEX(Veri!$AE$31:$AE$500,MATCH(O151,Veri!$AI$31:$AI$500,0)),\"\"),\"\")","v":""},null,142,{"$f":"IFERROR(IF(INDEX(Veri!$AK$31:$AK$500,MATCH(V194,Veri!$AS$31:$AS$500,0))<>\"\",INDEX(Veri!$AK$31:$AK$500,MATCH(V194,Veri!$AS$31:$AS$500,0)),\"\"),\"\")","v":""},{"$f":"IFERROR(IF(INDEX(Veri!$AQ$31:$AQ$500,MATCH(V194,Veri!$AS$31:$AS$500,0))<>\"\",INDEX(Veri!$AQ$31:$AQ$500,MATCH(V194,Veri!$AS$31:$AS$500,0)),\"\"),\"\")","v":""},{"$f":"IFERROR(IF(INDEX(Veri!$AM$31:$AM$500,MATCH(V194,Veri!$AS$31:$AS$500,0))<>\"\",INDEX(Veri!$AM$31:$AM$500,MATCH(V194,Veri!$AS$31:$AS$500,0)),\"\"),\"\")","v":""},{"$f":"IFERROR(IF(INDEX(Veri!$AN$31:$AN$500,MATCH(V194,Veri!$AS$31:$AS$500,0))<>\"\",INDEX(Veri!$AN$31:$AN$500,MATCH(V194,Veri!$AS$31:$AS$500,0)),\"\"),\"\")","v":""},{"$f":"IFERROR(IF(INDEX(Veri!$AO$31:$AO$500,MATCH(V194,Veri!$AS$31:$AS$500,0))<>\"\",INDEX(Veri!$AO$31:$AO$500,MATCH(V194,Veri!$AS$31:$AS$500,0)),\"\"),\"\")","v":""}]
[null,null,null,null,null,null,null,null,null,null,null,null,null,null,143,{"$f":"IFERROR(IF(INDEX(Veri!$AA$31:$AA$500,MATCH(O500,Veri!$AI$31:$AI$500,0))<>\"\",INDEX(Veri!$AA$31:$AA$500,MATCH(O500,Veri!$AI$31:$AI$500,0)),\"\"),\"\")","v":""},{"$f":"IFERROR(IF(INDEX(Veri!$AG$31:$AG$500,MATCH(O500,Veri!$AI$31:$AI$500,0))<>\"\",INDEX(Veri!$AG$31:$AG$500,MATCH(O500,Veri!$AI$31:$AI$500,0)),\"\"),\"\")","v":""},{"$f":"IFERROR(IF(INDEX(Veri!$AC$31:$AC$500,MATCH(O500,Veri!$AI$31:$AI$500,0))<>\"\",INDEX(Veri!$AC$31:$AC$500,MATCH(O500,Veri!$AI$31:$AI$500,0)),\"\"),\"\")","v":""},{"$f":"IFERROR(IF(INDEX(Veri!$AD$31:$AD$500,MATCH(O500,Veri!$AI$31:$AI$500,0))<>\"\",INDEX(Veri!$AD$31:$AD$500,MATCH(O500,Veri!$AI$31:$AI$500,0)),\"\"),\"\")","v":""},{"$f":"IFERROR(IF(INDEX(Veri!$AE$31:$AE$500,MATCH(O500,Veri!$AI$31:$AI$500,0))<>\"\",INDEX(Veri!$AE$31:$AE$500,MATCH(O500,Veri!$AI$31:$AI$500,0)),\"\"),\"\")","v":""},null,143,{"$f":"IFERROR(IF(INDEX(Veri!$AK$31:$AK$500,MATCH(V195,Veri!$AS$31:$AS$500,0))<>\"\",INDEX(Veri!$AK$31:$AK$500,MATCH(V195,Veri!$AS$31:$AS$500,0)),\"\"),\"\")","v":""},{"$f":"IFERROR(IF(INDEX(Veri!$AQ$31:$AQ$500,MATCH(V195,Veri!$AS$31:$AS$500,0))<>\"\",INDEX(Veri!$AQ$31:$AQ$500,MATCH(V195,Veri!$AS$31:$AS$500,0)),\"\"),\"\")","v":""},{"$f":"IFERROR(IF(INDEX(Veri!$AM$31:$AM$500,MATCH(V195,Veri!$AS$31:$AS$500,0))<>\"\",INDEX(Veri!$AM$31:$AM$500,MATCH(V195,Veri!$AS$31:$AS$500,0)),\"\"),\"\")","v":""},{"$f":"IFERROR(IF(INDEX(Veri!$AN$31:$AN$500,MATCH(V195,Veri!$AS$31:$AS$500,0))<>\"\",INDEX(Veri!$AN$31:$AN$500,MATCH(V195,Veri!$AS$31:$AS$500,0)),\"\"),\"\")","v":""},{"$f":"IFERROR(IF(INDEX(Veri!$AO$31:$AO$500,MATCH(V195,Veri!$AS$31:$AS$500,0))<>\"\",INDEX(Veri!$AO$31:$AO$500,MATCH(V195,Veri!$AS$31:$AS$500,0)),\"\"),\"\")","v":""}]
[null,null,null,null,null,null,null,null,null,null,null,null,null,null,144,{"$f":"IFERROR(IF(INDEX(Veri!$AA$31:$AA$500,MATCH(O153,Veri!$AI$31:$AI$500,0))<>\"\",INDEX(Veri!$AA$31:$AA$500,MATCH(O153,Veri!$AI$31:$AI$500,0)),\"\"),\"\")","v":""},{"$f":"IFERROR(IF(INDEX(Veri!$AG$31:$AG$500,MATCH(O153,Veri!$AI$31:$AI$500,0))<>\"\",INDEX(Veri!$AG$31:$AG$500,MATCH(O153,Veri!$AI$31:$AI$500,0)),\"\"),\"\")","v":""},{"$f":"IFERROR(IF(INDEX(Veri!$AC$31:$AC$500,MATCH(O153,Veri!$AI$31:$AI$500,0))<>\"\",INDEX(Veri!$AC$31:$AC$500,MATCH(O153,Veri!$AI$31:$AI$500,0)),\"\"),\"\")","v":""},{"$f":"IFERROR(IF(INDEX(Veri!$AD$31:$AD$500,MATCH(O153,Veri!$AI$31:$AI$500,0))<>\"\",INDEX(Veri!$AD$31:$AD$500,MATCH(O153,Veri!$AI$31:$AI$500,0)),\"\"),\"\")","v":""},{"$f":"IFERROR(IF(INDEX(Veri!$AE$31:$AE$500,MATCH(O153,Veri!$AI$31:$AI$500,0))<>\"\",INDEX(Veri!$AE$31:$AE$500,MATCH(O153,Veri!$AI$31:$AI$500,0)),\"\"),\"\")","v":""},null,144,{"$f":"IFERROR(IF(INDEX(Veri!$AK$31:$AK$500,MATCH(V196,Veri!$AS$31:$AS$500,0))<>\"\",INDEX(Veri!$AK$31:$AK$500,MATCH(V196,Veri!$AS$31:$AS$500,0)),\"\"),\"\")","v":""},{"$f":"IFERROR(IF(INDEX(Veri!$AQ$31:$AQ$500,MATCH(V196,Veri!$AS$31:$AS$500,0))<>\"\",INDEX(Veri!$AQ$31:$AQ$500,MATCH(V196,Veri!$AS$31:$AS$500,0)),\"\"),\"\")","v":""},{"$f":"IFERROR(IF(INDEX(Veri!$AM$31:$AM$500,MATCH(V196,Veri!$AS$31:$AS$500,0))<>\"\",INDEX(Veri!$AM$31:$AM$500,MATCH(V196,Veri!$AS$31:$AS$500,0)),\"\"),\"\")","v":""},{"$f":"IFERROR(IF(INDEX(Veri!$AN$31:$AN$500,MATCH(V196,Veri!$AS$31:$AS$500,0))<>\"\",INDEX(Veri!$AN$31:$AN$500,MATCH(V196,Veri!$AS$31:$AS$500,0)),\"\"),\"\")","v":""},{"$f":"IFERROR(IF(INDEX(Veri!$AO$31:$AO$500,MATCH(V196,Veri!$AS$31:$AS$500,0))<>\"\",INDEX(Veri!$AO$31:$AO$500,MATCH(V196,Veri!$AS$31:$AS$500,0)),\"\"),\"\")","v":""}]
[null,null,null,null,null,null,null,null,null,null,null,null,null,null,145,{"$f":"IFERROR(IF(INDEX(Veri!$AA$31:$AA$500,MATCH(O154,Veri!$AI$31:$AI$500,0))<>\"\",INDEX(Veri!$AA$31:$AA$500,MATCH(O154,Veri!$AI$31:$AI$500,0)),\"\"),\"\")","v":""},{"$f":"IFERROR(IF(INDEX(Veri!$AG$31:$AG$500,MATCH(O154,Veri!$AI$31:$AI$500,0))<>\"\",INDEX(Veri!$AG$31:$AG$500,MATCH(O154,Veri!$AI$31:$AI$500,0)),\"\"),\"\")","v":""},{"$f":"IFERROR(IF(INDEX(Veri!$AC$31:$AC$500,MATCH(O154,Veri!$AI$31:$AI$500,0))<>\"\",INDEX(Veri!$AC$31:$AC$500,MATCH(O154,Veri!$AI$31:$AI$500,0)),\"\"),\"\")","v":""},{"$f":"IFERROR(IF(INDEX(Veri!$AD$31:$AD$500,MATCH(O154,Veri!$AI$31:$AI$500,0))<>\"\",INDEX(Veri!$AD$31:$AD$500,MATCH(O154,Veri!$AI$31:$AI$500,0)),\"\"),\"\")","v":""},{"$f":"IFERROR(IF(INDEX(Veri!$AE$31:$AE$500,MATCH(O154,Veri!$AI$31:$AI$500,0))<>\"\",INDEX(Veri!$AE$31:$AE$500,MATCH(O154,Veri!$AI$31:$AI$500,0)),\"\"),\"\")","v":""},null,145,{"$f":"IFERROR(IF(INDEX(Veri!$AK$31:$AK$500,MATCH(V197,Veri!$AS$31:$AS$500,0))<>\"\",INDEX(Veri!$AK$31:$AK$500,MATCH(V197,Veri!$AS$31:$AS$500,0)),\"\"),\"\")","v":""},{"$f":"IFERROR(IF(INDEX(Veri!$AQ$31:$AQ$500,MATCH(V197,Veri!$AS$31:$AS$500,0))<>\"\",INDEX(Veri!$AQ$31:$AQ$500,MATCH(V197,Veri!$AS$31:$AS$500,0)),\"\"),\"\")","v":""},{"$f":"IFERROR(IF(INDEX(Veri!$AM$31:$AM$500,MATCH(V197,Veri!$AS$31:$AS$500,0))<>\"\",INDEX(Veri!$AM$31:$AM$500,MATCH(V197,Veri!$AS$31:$AS$500,0)),\"\"),\"\")","v":""},{"$f":"IFERROR(IF(INDEX(Veri!$AN$31:$AN$500,MATCH(V197,Veri!$AS$31:$AS$500,0))<>\"\",INDEX(Veri!$AN$31:$AN$500,MATCH(V197,Veri!$AS$31:$AS$500,0)),\"\"),\"\")","v":""},{"$f":"IFERROR(IF(INDEX(Veri!$AO$31:$AO$500,MATCH(V197,Veri!$AS$31:$AS$500,0))<>\"\",INDEX(Veri!$AO$31:$AO$500,MATCH(V197,Veri!$AS$31:$AS$500,0)),\"\"),\"\")","v":""}]
[null,null,null,null,null,null,null,null,null,null,null,null,null,null,146,{"$f":"IFERROR(IF(INDEX(Veri!$AA$31:$AA$500,MATCH(O155,Veri!$AI$31:$AI$500,0))<>\"\",INDEX(Veri!$AA$31:$AA$500,MATCH(O155,Veri!$AI$31:$AI$500,0)),\"\"),\"\")","v":""},{"$f":"IFERROR(IF(INDEX(Veri!$AG$31:$AG$500,MATCH(O155,Veri!$AI$31:$AI$500,0))<>\"\",INDEX(Veri!$AG$31:$AG$500,MATCH(O155,Veri!$AI$31:$AI$500,0)),\"\"),\"\")","v":""},{"$f":"IFERROR(IF(INDEX(Veri!$AC$31:$AC$500,MATCH(O155,Veri!$AI$31:$AI$500,0))<>\"\",INDEX(Veri!$AC$31:$AC$500,MATCH(O155,Veri!$AI$31:$AI$500,0)),\"\"),\"\")","v":""},{"$f":"IFERROR(IF(INDEX(Veri!$AD$31:$AD$500,MATCH(O155,Veri!$AI$31:$AI$500,0))<>\"\",INDEX(Veri!$AD$31:$AD$500,MATCH(O155,Veri!$AI$31:$AI$500,0)),\"\"),\"\")","v":""},{"$f":"IFERROR(IF(INDEX(Veri!$AE$31:$AE$500,MATCH(O155,Veri!$AI$31:$AI$500,0))<>\"\",INDEX(Veri!$AE$31:$AE$500,MATCH(O155,Veri!$AI$31:$AI$500,0)),\"\"),\"\")","v":""},null,146,{"$f":"IFERROR(IF(INDEX(Veri!$AK$31:$AK$500,MATCH(V198,Veri!$AS$31:$AS$500,0))<>\"\",INDEX(Veri!$AK$31:$AK$500,MATCH(V198,Veri!$AS$31:$AS$500,0)),\"\"),\"\")","v":""},{"$f":"IFERROR(IF(INDEX(Veri!$AQ$31:$AQ$500,MATCH(V198,Veri!$AS$31:$AS$500,0))<>\"\",INDEX(Veri!$AQ$31:$AQ$500,MATCH(V198,Veri!$AS$31:$AS$500,0)),\"\"),\"\")","v":""},{"$f":"IFERROR(IF(INDEX(Veri!$AM$31:$AM$500,MATCH(V198,Veri!$AS$31:$AS$500,0))<>\"\",INDEX(Veri!$AM$31:$AM$500,MATCH(V198,Veri!$AS$31:$AS$500,0)),\"\"),\"\")","v":""},{"$f":"IFERROR(IF(INDEX(Veri!$AN$31:$AN$500,MATCH(V198,Veri!$AS$31:$AS$500,0))<>\"\",INDEX(Veri!$AN$31:$AN$500,MATCH(V198,Veri!$AS$31:$AS$500,0)),\"\"),\"\")","v":""},{"$f":"IFERROR(IF(INDEX(Veri!$AO$31:$AO$500,MATCH(V198,Veri!$AS$31:$AS$500,0))<>\"\",INDEX(Veri!$AO$31:$AO$500,MATCH(V198,Veri!$AS$31:$AS$500,0)),\"\"),\"\")","v":""}]
[null,null,null,null,null,null,null,null,null,null,null,null,null,null,147,{"$f":"IFERROR(IF(INDEX(Veri!$AA$31:$AA$500,MATCH(O156,Veri!$AI$31:$AI$500,0))<>\"\",INDEX(Veri!$AA$31:$AA$500,MATCH(O156,Veri!$AI$31:$AI$500,0)),\"\"),\"\")","v":""},{"$f":"IFERROR(IF(INDEX(Veri!$AG$31:$AG$500,MATCH(O156,Veri!$AI$31:$AI$500,0))<>\"\",INDEX(Veri!$AG$31:$AG$500,MATCH(O156,Veri!$AI$31:$AI$500,0)),\"\"),\"\")","v":""},{"$f":"IFERROR(IF(INDEX(Veri!$AC$31:$AC$500,MATCH(O156,Veri!$AI$31:$AI$500,0))<>\"\",INDEX(Veri!$AC$31:$AC$500,MATCH(O156,Veri!$AI$31:$AI$500,0)),\"\"),\"\")","v":""},{"$f":"IFERROR(IF(INDEX(Veri!$AD$31:$AD$500,MATCH(O156,Veri!$AI$31:$AI$500,0))<>\"\",INDEX(Veri!$AD$31:$AD$500,MATCH(O156,Veri!$AI$31:$AI$500,0)),\"\"),\"\")","v":""},{"$f":"IFERROR(IF(INDEX(Veri!$AE$31:$AE$500,MATCH(O156,Veri!$AI$31:$AI$500,0))<>\"\",INDEX(Veri!$AE$31:$AE$500,MATCH(O156,Veri!$AI$31:$AI$500,0)),\"\"),\"\")","v":""},null,147,{"$f":"IFERROR(IF(INDEX(Veri!$AK$31:$AK$500,MATCH(V199,Veri!$AS$31:$AS$500,0))<>\"\",INDEX(Veri!$AK$31:$AK$500,MATCH(V199,Veri!$AS$31:$AS$500,0)),\"\"),\"\")","v":""},{"$f":"IFERROR(IF(INDEX(Veri!$AQ$31:$AQ$500,MATCH(V199,Veri!$AS$31:$AS$500,0))<>\"\",INDEX(Veri!$AQ$31:$AQ$500,MATCH(V199,Veri!$AS$31:$AS$500,0)),\"\"),\"\")","v":""},{"$f":"IFERROR(IF(INDEX(Veri!$AM$31:$AM$500,MATCH(V199,Veri!$AS$31:$AS$500,0))<>\"\",INDEX(Veri!$AM$31:$AM$500,MATCH(V199,Veri!$AS$31:$AS$500,0)),\"\"),\"\")","v":""},{"$f":"IFERROR(IF(INDEX(Veri!$AN$31:$AN$500,MATCH(V199,Veri!$AS$31:$AS$500,0))<>\"\",INDEX(Veri!$AN$31:$AN$500,MATCH(V199,Veri!$AS$31:$AS$500,0)),\"\"),\"\")","v":""},{"$f":"IFERROR(IF(INDEX(Veri!$AO$31:$AO$500,MATCH(V199,Veri!$AS$31:$AS$500,0))<>\"\",INDEX(Veri!$AO$31:$AO$500,MATCH(V199,Veri!$AS$31:$AS$500,0)),\"\"),\"\")","v":""}]
[null,null,null,null,null,null,null,null,null,null,null,null,null,null,148,{"$f":"IFERROR(IF(INDEX(Veri!$AA$31:$AA$500,MATCH(O157,Veri!$AI$31:$AI$500,0))<>\"\",INDEX(Veri!$AA$31:$AA$500,MATCH(O157,Veri!$AI$31:$AI$500,0)),\"\"),\"\")","v":""},{"$f":"IFERROR(IF(INDEX(Veri!$AG$31:$AG$500,MATCH(O157,Veri!$AI$31:$AI$500,0))<>\"\",INDEX(Veri!$AG$31:$AG$500,MATCH(O157,Veri!$AI$31:$AI$500,0)),\"\"),\"\")","v":""},{"$f":"IFERROR(IF(INDEX(Veri!$AC$31:$AC$500,MATCH(O157,Veri!$AI$31:$AI$500,0))<>\"\",INDEX(Veri!$AC$31:$AC$500,MATCH(O157,Veri!$AI$31:$AI$500,0)),\"\"),\"\")","v":""},{"$f":"IFERROR(IF(INDEX(Veri!$AD$31:$AD$500,MATCH(O157,Veri!$AI$31:$AI$500,0))<>\"\",INDEX(Veri!$AD$31:$AD$500,MATCH(O157,Veri!$AI$31:$AI$500,0)),\"\"),\"\")","v":""},{"$f":"IFERROR(IF(INDEX(Veri!$AE$31:$AE$500,MATCH(O157,Veri!$AI$31:$AI$500,0))<>\"\",INDEX(Veri!$AE$31:$AE$500,MATCH(O157,Veri!$AI$31:$AI$500,0)),\"\"),\"\")","v":""},null,148,{"$f":"IFERROR(IF(INDEX(Veri!$AK$31:$AK$500,MATCH(V200,Veri!$AS$31:$AS$500,0))<>\"\",INDEX(Veri!$AK$31:$AK$500,MATCH(V200,Veri!$AS$31:$AS$500,0)),\"\"),\"\")","v":""},{"$f":"IFERROR(IF(INDEX(Veri!$AQ$31:$AQ$500,MATCH(V200,Veri!$AS$31:$AS$500,0))<>\"\",INDEX(Veri!$AQ$31:$AQ$500,MATCH(V200,Veri!$AS$31:$AS$500,0)),\"\"),\"\")","v":""},{"$f":"IFERROR(IF(INDEX(Veri!$AM$31:$AM$500,MATCH(V200,Veri!$AS$31:$AS$500,0))<>\"\",INDEX(Veri!$AM$31:$AM$500,MATCH(V200,Veri!$AS$31:$AS$500,0)),\"\"),\"\")","v":""},{"$f":"IFERROR(IF(INDEX(Veri!$AN$31:$AN$500,MATCH(V200,Veri!$AS$31:$AS$500,0))<>\"\",INDEX(Veri!$AN$31:$AN$500,MATCH(V200,Veri!$AS$31:$AS$500,0)),\"\"),\"\")","v":""},{"$f":"IFERROR(IF(INDEX(Veri!$AO$31:$AO$500,MATCH(V200,Veri!$AS$31:$AS$500,0))<>\"\",INDEX(Veri!$AO$31:$AO$500,MATCH(V200,Veri!$AS$31:$AS$500,0)),\"\"),\"\")","v":""}]
[null,null,null,null,null,null,null,null,null,null,null,null,null,null,149,{"$f":"IFERROR(IF(INDEX(Veri!$AA$31:$AA$500,MATCH(O158,Veri!$AI$31:$AI$500,0))<>\"\",INDEX(Veri!$AA$31:$AA$500,MATCH(O158,Veri!$AI$31:$AI$500,0)),\"\"),\"\")","v":""},{"$f":"IFERROR(IF(INDEX(Veri!$AG$31:$AG$500,MATCH(O158,Veri!$AI$31:$AI$500,0))<>\"\",INDEX(Veri!$AG$31:$AG$500,MATCH(O158,Veri!$AI$31:$AI$500,0)),\"\"),\"\")","v":""},{"$f":"IFERROR(IF(INDEX(Veri!$AC$31:$AC$500,MATCH(O158,Veri!$AI$31:$AI$500,0))<>\"\",INDEX(Veri!$AC$31:$AC$500,MATCH(O158,Veri!$AI$31:$AI$500,0)),\"\"),\"\")","v":""},{"$f":"IFERROR(IF(INDEX(Veri!$AD$31:$AD$500,MATCH(O158,Veri!$AI$31:$AI$500,0))<>\"\",INDEX(Veri!$AD$31:$AD$500,MATCH(O158,Veri!$AI$31:$AI$500,0)),\"\"),\"\")","v":""},{"$f":"IFERROR(IF(INDEX(Veri!$AE$31:$AE$500,MATCH(O158,Veri!$AI$31:$AI$500,0))<>\"\",INDEX(Veri!$AE$31:$AE$500,MATCH(O158,Veri!$AI$31:$AI$500,0)),\"\"),\"\")","v":""},null,149,{"$f":"IFERROR(IF(INDEX(Veri!$AK$31:$AK$500,MATCH(V201,Veri!$AS$31:$AS$500,0))<>\"\",INDEX(Veri!$AK$31:$AK$500,MATCH(V201,Veri!$AS$31:$AS$500,0)),\"\"),\"\")","v":""},{"$f":"IFERROR(IF(INDEX(Veri!$AQ$31:$AQ$500,MATCH(V201,Veri!$AS$31:$AS$500,0))<>\"\",INDEX(Veri!$AQ$31:$AQ$500,MATCH(V201,Veri!$AS$31:$AS$500,0)),\"\"),\"\")","v":""},{"$f":"IFERROR(IF(INDEX(Veri!$AM$31:$AM$500,MATCH(V201,Veri!$AS$31:$AS$500,0))<>\"\",INDEX(Veri!$AM$31:$AM$500,MATCH(V201,Veri!$AS$31:$AS$500,0)),\"\"),\"\")","v":""},{"$f":"IFERROR(IF(INDEX(Veri!$AN$31:$AN$500,MATCH(V201,Veri!$AS$31:$AS$500,0))<>\"\",INDEX(Veri!$AN$31:$AN$500,MATCH(V201,Veri!$AS$31:$AS$500,0)),\"\"),\"\")","v":""},{"$f":"IFERROR(IF(INDEX(Veri!$AO$31:$AO$500,MATCH(V201,Veri!$AS$31:$AS$500,0))<>\"\",INDEX(Veri!$AO$31:$AO$500,MATCH(V201,Veri!$AS$31:$AS$500,0)),\"\"),\"\")","v":""}]
[null,null,null,null,null,null,null,null,null,null,null,null,null,null,150,{"$f":"IFERROR(IF(INDEX(Veri!$AA$31:$AA$500,MATCH(O159,Veri!$AI$31:$AI$500,0))<>\"\",INDEX(Veri!$AA$31:$AA$500,MATCH(O159,Veri!$AI$31:$AI$500,0)),\"\"),\"\")","v":""},{"$f":"IFERROR(IF(INDEX(Veri!$AG$31:$AG$500,MATCH(O159,Veri!$AI$31:$AI$500,0))<>\"\",INDEX(Veri!$AG$31:$AG$500,MATCH(O159,Veri!$AI$31:$AI$500,0)),\"\"),\"\")","v":""},{"$f":"IFERROR(IF(INDEX(Veri!$AC$31:$AC$500,MATCH(O159,Veri!$AI$31:$AI$500,0))<>\"\",INDEX(Veri!$AC$31:$AC$500,MATCH(O159,Veri!$AI$31:$AI$500,0)),\"\"),\"\")","v":""},{"$f":"IFERROR(IF(INDEX(Veri!$AD$31:$AD$500,MATCH(O159,Veri!$AI$31:$AI$500,0))<>\"\",INDEX(Veri!$AD$31:$AD$500,MATCH(O159,Veri!$AI$31:$AI$500,0)),\"\"),\"\")","v":""},{"$f":"IFERROR(IF(INDEX(Veri!$AE$31:$AE$500,MATCH(O159,Veri!$AI$31:$AI$500,0))<>\"\",INDEX(Veri!$AE$31:$AE$500,MATCH(O159,Veri!$AI$31:$AI$500,0)),\"\"),\"\")","v":""},null,150,{"$f":"IFERROR(IF(INDEX(Veri!$AK$31:$AK$500,MATCH(V202,Veri!$AS$31:$AS$500,0))<>\"\",INDEX(Veri!$AK$31:$AK$500,MATCH(V202,Veri!$AS$31:$AS$500,0)),\"\"),\"\")","v":""},{"$f":"IFERROR(IF(INDEX(Veri!$AQ$31:$AQ$500,MATCH(V202,Veri!$AS$31:$AS$500,0))<>\"\",INDEX(Veri!$AQ$31:$AQ$500,MATCH(V202,Veri!$AS$31:$AS$500,0)),\"\"),\"\")","v":""},{"$f":"IFERROR(IF(INDEX(Veri!$AM$31:$AM$500,MATCH(V202,Veri!$AS$31:$AS$500,0))<>\"\",INDEX(Veri!$AM$31:$AM$500,MATCH(V202,Veri!$AS$31:$AS$500,0)),\"\"),\"\")","v":""},{"$f":"IFERROR(IF(INDEX(Veri!$AN$31:$AN$500,MATCH(V202,Veri!$AS$31:$AS$500,0))<>\"\",INDEX(Veri!$AN$31:$AN$500,MATCH(V202,Veri!$AS$31:$AS$500,0)),\"\"),\"\")","v":""},{"$f":"IFERROR(IF(INDEX(Veri!$AO$31:$AO$500,MATCH(V202,Veri!$AS$31:$AS$500,0))<>\"\",INDEX(Veri!$AO$31:$AO$500,MATCH(V202,Veri!$AS$31:$AS$500,0)),\"\"),\"\")","v":""}]